{"text_format":"1","workbook":"xlsx","n_sheets":5,"sheets":["SIMULATEUR","REGLES PRIMO + AMORT ","REGLES PRIMO + AMORT IM","Calcul","MENS"],"not_rendered":{"charts":0,"images":6,"macros":1,"external_links":0,"defined_names":6,"comments":0,"pivot_tables":0},"unopened":[],"bounds":{"document_bytes":16777216,"sheet_cells":100000,"rows_first":2000,"rows_last":500,"rows_between":2000,"halvings":0,"cell_chars":16384,"cell_head_chars":4096},"cells_cut":0,"cells_raw":0,"read":"whole","date_system":"1900"}

{"sheet":"SIMULATEUR","index":0,"n_rows":29,"n_cols":12,"rows_kept":29,"cut":false,"hidden":false,"merged":[[28,1,28,11],[19,1,19,10],[21,1,21,11],[6,11,6,12],[2,3,2,12],[26,1,26,10],[23,1,24,10],[23,11,24,11],[4,1,4,12],[12,1,12,10],[17,1,17,11]]}
[]
[]
[null,null,null,"PRIMO + (AMORTISSEMENT IMMEDIAT)"]
[]
[]
[]
[null,"Montant",null,null,null,"Montant"]
[null,"taux d'intérêt nominal",null,null,null,"taux d'intérêt nominal (1)"]
[null,"Durée du prêt (en mois)",null,null,null,"Durée totale (en mois)"]
[null,"Frais de dossier CE LCA",null,null,null,"Frais de dossier CE LCA"]
[null,"Frais de garantie",null,null,null,"Frais de garantie"]
[]
[null,"   Montant minimum du 1er versement (contraint)",null,null,null,null,null,null,null,null,null,{"$f":"IF(D9=\"\",\"\",MROUND((MENS!A26+50),100))","v":""}]
[]
[]
[]
[]
[null,"soit l'équivalent cumulé de la partie en capital de 36 premières échéances."]
[]
[null,"   Montant de la première échéance correpondante (hors ADE) :",null,null,null,null,null,null,null,null,null,{"$f":"IF(D9=\"\",\"\",MENS!D26)","v":""}]
[]
[null,{"$f":" CONCATENATE(\"se décomposant de \",MENS!G26,\" € de capital et de \",MENS!F26,\" € d'intérêts sur 30 jours .\")","v":"se décomposant de 0 € de capital et de 0 € d'intérêts sur 30 jours ."}]
[null,null,null,null,null,null,null,null,null,null,null,{"$f":"IF(L24=\"\",\"votre choix\",\"\")","v":"votre choix"}]
[null,"  Simuler la 1er échéance avec un 1er versement supérieur ? …"]
[]
[]
[null,"   Montant de la première échéance pour ce montant (hors ADE) :",null,null,null,null,null,null,null,null,null,{"$f":"IF(L24=\"\",\"\",(L24*D8%*30/365)+MENS!D32)","v":""}]
[]
[null,"! Simulateur à usage interne - élements à titre de simple information n'ayant pas valeur contractuelle !"]

{"sheet":"REGLES PRIMO + AMORT ","index":1,"n_rows":0,"n_cols":0,"rows_kept":0,"cut":false,"hidden":false,"merged":[]}

{"sheet":"REGLES PRIMO + AMORT IM","index":2,"n_rows":0,"n_cols":0,"rows_kept":0,"cut":false,"hidden":true,"merged":[]}

{"sheet":"Calcul","index":3,"n_rows":18,"n_cols":6,"rows_kept":18,"cut":false,"hidden":true,"merged":[]}
[]
[null,"Nom Emprunteur",":","HARVEY"]
[null,"Type de Prêt",":","AVENANT SUR TACTIMO"]
[]
[]
[null,"MONTANT"," =",{"$f":"SIMULATEUR!D7","v":0},"Euros"]
[null,"TAUX"," =",{"$f":"SIMULATEUR!D8","v":0},"%"]
[null,"DUREE"," =",{"$f":"SIMULATEUR!D9","v":0},"Mois"]
[null,"Frais Dossier",":",{"$f":"SIMULATEUR!D10","v":0},"Euros"]
[null,"Autres Frais",":",{"$f":"SIMULATEUR!D11","v":0},"Euros"]
[null,"Taux Assurance",":",0,"%"]
[]
[null,"Différé en Capital",null,0,"Mois"]
[null,"Type d'amortissement",null,1,"<=== Mettre","1   pour échéances classiques"]
[null,null,null,null,null,"2   pour amortissement Linéaire du capital"]
[null,"Date déblocage prévu",null,{"$f":"TODAY()","v":"2019-07-12"}]
[]
[null,"Cliquer sur l'onglet en bas pour le TEG Mens.Trim. Sem.ou Annuel"]

{"sheet":"MENS","index":4,"n_rows":360,"n_cols":9,"rows_kept":360,"cut":false,"hidden":true,"merged":[[0,1,0,4],[3,3,3,4],[20,5,20,6],[2,3,2,5],[2,1,2,2]]}
[null,"CALCUL TEG & SIMULATION TA"]
[]
[null,"Contractant         =",null,{"$f":"Calcul!$D$2","v":"HARVEY"}]
[null,"Référence (n° clt/ct dos/op)",null,{"$f":"Calcul!$D$3","v":"AVENANT SUR TACTIMO"}]
[]
[null,"CAPITAL INITIAL",null,null,{"$f":"Calcul!$D$6","v":0}]
[null,"Frais de dossier",null,null,{"$f":"Calcul!$D$9","v":0}]
[null,"Débours (frais d'acte, etc...)",null,null,{"$f":"Calcul!$D$10","v":0}]
[null,"Assurance          ===> Taux :",null,{"$f":"Calcul!$D$11","v":0},{"$f":"(E6*D9/100)/12","v":0}]
[null,"Cotisation SOFARIS (en %, entre 0,6 et 0,2 %)"]
[null,"TAUX proportionnel annuel",null,null,{"$f":"Calcul!$D$7","v":0}]
[null,"DUREE du prêt en nombre de mois",null,null,{"$f":"Calcul!$D$8","v":0}]
[null,"PERIODICITE MENSUELLE",null,null,1,"ECHEANCES MENSUELLES"]
[null,"Nbre de mois de Différé en Capital",null,null,{"$f":"Calcul!$D$13","v":0}]
[]
[null,{"$f":"IF(E16=1,\"ECHEANCES CONSTANTES\",\"AMORTISSEMENT CONSTANT du CAPITAL\")","v":"ECHEANCES CONSTANTES"},null,null,{"$f":"Calcul!$D$14","v":1}]
[null,"Date de la première échéance",null,null,{"$f":"DATE(YEAR(E18),MONTH(E18)+1,DAY(E18))","v":"2019-08-12"}]
[null,"Date de Versement / PDA",null,null,{"$f":"Calcul!$D$16","v":"2019-07-12"}]
[]
[null,"Taux période :",{"$f":"IRR(I31:I360,(E11/(12/E13))%)","v":{"$error":"#NUM!"}},"TEG  :",{"$f":"C20*(12/E13)","v":{"$error":"#NUM!"}}]
[null,"      'Taux actuariel / TAEG :",null,{"$f":"((1+C20)^(12/E13))-1","v":{"$error":"#NUM!"}},{"$f":"D21/12","v":{"$error":"#NUM!"}},"<== Taux période actuariel"]
[]
["cumul",null,"int ","ech",null,"arrondi","arrondi"]
["N.B. : Les intérêts de la première période seront calculés prorata temporis à compter de la date"]
["          de versement du prêt soit :",null,null,null,{"$f":"IF($B$32=\"\",\"\",(($E$11%*$C$32)/365)*($B$32-E18))","v":0}]
[{"$f":"SUM(D32:D67)","v":0},null,{"$f":"$A$26*$B$29*30/365","v":0},{"$f":"D32+C26","v":0},null,{"$f":"MROUND(C26,0.01)","v":0},{"$f":"MROUND(D32,0.01)","v":0}]
[]
["Rang","Date        Echéance","Capital               Avant  Echéance","Capital          amorti ","Intérêts","Échéance","Assurance","SOFARIS","Échéance                à Payer"]
["Taux :",{"$f":"E11/100","v":0},"         TOTAL ==>",{"$f":"SUM(D32:D439)","v":0},{"$f":"SUM(E32:E439)","v":0},{"$f":"SUM(F32:F439)","v":0},{"$f":"SUM(G32:G439)","v":0},{"$f":"SUM(H30:H211)","v":0},{"$f":"SUM(I32:I439)","v":0}]
[{"$f":"E12/12","v":0},"ans",{"$f":"E12","v":0},"ECHEANCES MENSUELLES",null,null," Versement du prêt au",{"$f":"IF(B32=\"\",\"\",IF($E$13=12,$E$10*C32,IF($E$13=6,($E$10*C32)/2,IF($E$13=3,($E$10*C32)/4,IF($E$13=1,($E$10*C32)/4,0)))))","v":0},{"$f":"E18","v":"2019-07-12"}]
[null,null,null,null,null,null,null,null,{"$f":"-E6+E7+E8+H30","v":0}]
[1,{"$f":"E17","v":"2019-08-12"},{"$f":"E6","v":0},{"$f":"IF(B32=\"\",\"\",IF(B33=\"\",C32,IF(A32>($E$14/$E$13),IF($E$16=2,ROUND($E$6/(($E$12/$E$13)-($E$14/$E$13)),5),F32-E32),)))","v":0},{"$f":"IF($B$32=\"\",\"\",IF($E$16=2,(($E$11%*$C$32)/12)*E13,ROUND($C$32*($E$11%/(12/$E$13)),4)))","v":0},{"$f":"IF(B32=\"\",\"\",IF(B33=\"\",D32+E32,IF(A32>$E$14/$E$13,IF($E$16=2,D32+E32,ROUND(-PMT($E$11%/(12/$E$13),($E$12/$E$13)-($E$14/$E$13),$E$6,0,0),4)),D32+E32)))","v":0},{"$f":"IF(B32=\"\",\"\",$E$9)","v":0},{"$f":"IF(B33=\"\",\"\",IF($E$13=12,$E$10*C33,IF($E$13=6,($E$10*C33)/2,IF($E$13=3,($E$10*C33)/4,IF($E$13=1,0,0)))))","v":""},{"$f":"IF(B32=\"\",\"\",SUM(F32:H32))","v":0}]
[2,{"$f":"IF(A33>($E$12/$E$13),\"\",DATE(YEAR(B32),(MONTH(B32)+$E$13),DAY(B32)))","v":""},{"$f":"IF(B33=\"\",\"\",C32-D32)","v":""},{"$f":"IF(B33=\"\",\"\",IF(B34=\"\",C33,IF(A33>($E$14/$E$13),IF($E$16=2,ROUND($E$6/(($E$12/$E$13)-($E$14/$E$13)),5),F33-E33),)))","v":""},{"$f":"IF(B33=\"\",\"\",IF($E$16=2,(($E$11%*C33)/12)*$E$13,ROUND(C33*($E$11%/(12/$E$13)),4)))","v":""},{"$f":"IF(B33=\"\",\"\",IF(B34=\"\",D33+E33,IF(A33>$E$14/$E$13,IF($E$16=2,D33+E33,ROUND(-PMT($E$11%/(12/$E$13),($E$12/$E$13)-($E$14/$E$13),$E$6,0,0),4)),D33+E33)))","v":""},"",{"$f":"IF(B34=\"\",\"\",IF($E$13=12,$E$10*C34,IF($E$13=6,($E$10*C34)/2,IF($E$13=3,($E$10*C34)/4,IF($E$13=1,0,0)))))","v":""},""]
[3,"","","",{"$f":"IF(B34=\"\",\"\",IF($E$16=2,(($E$11%*C34)/12)*$E$13,ROUND(C34*($E$11%/(12/$E$13)),4)))","v":""},{"$f":"IF(B34=\"\",\"\",IF(B35=\"\",D34+E34,IF(A34>$E$14/$E$13,IF($E$16=2,D34+E34,ROUND(-PMT($E$11%/(12/$E$13),($E$12/$E$13)-($E$14/$E$13),$E$6,0,0),4)),D34+E34)))","v":""},"",{"$f":"IF(B35=\"\",\"\",IF($E$13=12,$E$10*C35,IF($E$13=6,($E$10*C35)/2,IF($E$13=3,($E$10*C35)/4,IF($E$13=1,($E$10*C35)/4,0)))))","v":""},""]
[4,"","","","","","",{"$f":"IF(B36=\"\",\"\",IF($E$13=12,$E$10*C36,IF($E$13=6,($E$10*C36)/2,IF($E$13=3,($E$10*C36)/4,IF($E$13=1,0,0)))))","v":""},""]
[5,"","","","","","",{"$f":"IF(B37=\"\",\"\",IF($E$13=12,$E$10*C37,IF($E$13=6,($E$10*C37)/2,IF($E$13=3,($E$10*C37)/4,IF($E$13=1,0,0)))))","v":""},""]
[6,"","","","","","",{"$f":"IF(B38=\"\",\"\",IF($E$13=12,$E$10*C38,IF($E$13=6,($E$10*C38)/2,IF($E$13=3,($E$10*C38)/4,IF($E$13=1,($E$10*C38)/4,0)))))","v":""},""]
[7,"","","","","","",{"$f":"IF(B39=\"\",\"\",IF($E$13=12,$E$10*C39,IF($E$13=6,($E$10*C39)/2,IF($E$13=3,($E$10*C39)/4,IF($E$13=1,0,0)))))","v":""},""]
[8,"","","","","","",{"$f":"IF(B40=\"\",\"\",IF($E$13=12,$E$10*C40,IF($E$13=6,($E$10*C40)/2,IF($E$13=3,($E$10*C40)/4,IF($E$13=1,0,0)))))","v":""},""]
[9,"","","","","","",{"$f":"IF(B41=\"\",\"\",IF($E$13=12,$E$10*C41,IF($E$13=6,($E$10*C41)/2,IF($E$13=3,($E$10*C41)/4,IF($E$13=1,($E$10*C41)/4,0)))))","v":""},""]
[10,"","","","","","",{"$f":"IF(B42=\"\",\"\",IF($E$13=12,$E$10*C42,IF($E$13=6,($E$10*C42)/2,IF($E$13=3,($E$10*C42)/4,IF($E$13=1,0,0)))))","v":""},""]
[11,"","","","","","",{"$f":"IF(B43=\"\",\"\",IF($E$13=12,$E$10*C43,IF($E$13=6,($E$10*C43)/2,IF($E$13=3,($E$10*C43)/4,IF($E$13=1,0,0)))))","v":""},""]
[12,"","","","","","",{"$f":"IF(B44=\"\",\"\",IF($E$13=12,$E$10*C44,IF($E$13=6,($E$10*C44)/2,IF($E$13=3,($E$10*C44)/4,IF($E$13=1,($E$10*C44)/4,0)))))","v":""},""]
[13,"","","","","","",{"$f":"IF(B45=\"\",\"\",IF($E$13=12,$E$10*C45,IF($E$13=6,($E$10*C45)/2,IF($E$13=3,($E$10*C45)/4,IF($E$13=1,0,0)))))","v":""},""]
[14,"","","","","","",{"$f":"IF(B46=\"\",\"\",IF($E$13=12,$E$10*C46,IF($E$13=6,($E$10*C46)/2,IF($E$13=3,($E$10*C46)/4,IF($E$13=1,0,0)))))","v":""},""]
[15,"","","","","","",{"$f":"IF(B47=\"\",\"\",IF($E$13=12,$E$10*C47,IF($E$13=6,($E$10*C47)/2,IF($E$13=3,($E$10*C47)/4,IF($E$13=1,($E$10*C47)/4,0)))))","v":""},""]
[16,"","","","","","",{"$f":"IF(B48=\"\",\"\",IF($E$13=12,$E$10*C48,IF($E$13=6,($E$10*C48)/2,IF($E$13=3,($E$10*C48)/4,IF($E$13=1,0,0)))))","v":""},""]
[17,"","","","","","",{"$f":"IF(B49=\"\",\"\",IF($E$13=12,$E$10*C49,IF($E$13=6,($E$10*C49)/2,IF($E$13=3,($E$10*C49)/4,IF($E$13=1,0,0)))))","v":""},""]
[18,"","","","","","",{"$f":"IF(B50=\"\",\"\",IF($E$13=12,$E$10*C50,IF($E$13=6,($E$10*C50)/2,IF($E$13=3,($E$10*C50)/4,IF($E$13=1,($E$10*C50)/4,0)))))","v":""},""]
[19,"","","","","","",{"$f":"IF(B51=\"\",\"\",IF($E$13=12,$E$10*C51,IF($E$13=6,($E$10*C51)/2,IF($E$13=3,($E$10*C51)/4,IF($E$13=1,0,0)))))","v":""},""]
[20,"","","","","","",{"$f":"IF(B52=\"\",\"\",IF($E$13=12,$E$10*C52,IF($E$13=6,($E$10*C52)/2,IF($E$13=3,($E$10*C52)/4,IF($E$13=1,0,0)))))","v":""},""]
[21,"","","","","","",{"$f":"IF(B53=\"\",\"\",IF($E$13=12,$E$10*C53,IF($E$13=6,($E$10*C53)/2,IF($E$13=3,($E$10*C53)/4,IF($E$13=1,($E$10*C53)/4,0)))))","v":""},""]
[22,"","","","","","",{"$f":"IF(B54=\"\",\"\",IF($E$13=12,$E$10*C54,IF($E$13=6,($E$10*C54)/2,IF($E$13=3,($E$10*C54)/4,IF($E$13=1,0,0)))))","v":""},""]
[23,"","","","","","",{"$f":"IF(B55=\"\",\"\",IF($E$13=12,$E$10*C55,IF($E$13=6,($E$10*C55)/2,IF($E$13=3,($E$10*C55)/4,IF($E$13=1,0,0)))))","v":""},""]
[24,"","","","","","",{"$f":"IF(B56=\"\",\"\",IF($E$13=12,$E$10*C56,IF($E$13=6,($E$10*C56)/2,IF($E$13=3,($E$10*C56)/4,IF($E$13=1,($E$10*C56)/4,0)))))","v":""},""]
[25,"","","","","","",{"$f":"IF(B57=\"\",\"\",IF($E$13=12,$E$10*C57,IF($E$13=6,($E$10*C57)/2,IF($E$13=3,($E$10*C57)/4,IF($E$13=1,0,0)))))","v":""},""]
[26,"","","","","","",{"$f":"IF(B58=\"\",\"\",IF($E$13=12,$E$10*C58,IF($E$13=6,($E$10*C58)/2,IF($E$13=3,($E$10*C58)/4,IF($E$13=1,0,0)))))","v":""},""]
[27,"","","","","","",{"$f":"IF(B59=\"\",\"\",IF($E$13=12,$E$10*C59,IF($E$13=6,($E$10*C59)/2,IF($E$13=3,($E$10*C59)/4,IF($E$13=1,($E$10*C59)/4,0)))))","v":""},""]
[28,"","","","","","",{"$f":"IF(B60=\"\",\"\",IF($E$13=12,$E$10*C60,IF($E$13=6,($E$10*C60)/2,IF($E$13=3,($E$10*C60)/4,IF($E$13=1,0,0)))))","v":""},""]
[29,"","","","","","",{"$f":"IF(B61=\"\",\"\",IF($E$13=12,$E$10*C61,IF($E$13=6,($E$10*C61)/2,IF($E$13=3,($E$10*C61)/4,IF($E$13=1,0,0)))))","v":""},""]
[30,"","","","","","",{"$f":"IF(B62=\"\",\"\",IF($E$13=12,$E$10*C62,IF($E$13=6,($E$10*C62)/2,IF($E$13=3,($E$10*C62)/4,IF($E$13=1,($E$10*C62)/4,0)))))","v":""},""]
[31,"","","","","","",{"$f":"IF(B63=\"\",\"\",IF($E$13=12,$E$10*C63,IF($E$13=6,($E$10*C63)/2,IF($E$13=3,($E$10*C63)/4,IF($E$13=1,0,0)))))","v":""},""]
[32,"","","","","","",{"$f":"IF(B64=\"\",\"\",IF($E$13=12,$E$10*C64,IF($E$13=6,($E$10*C64)/2,IF($E$13=3,($E$10*C64)/4,IF($E$13=1,0,0)))))","v":""},""]
[33,"","","","","",{"$f":"IF(B64=\"\",\"\",$E$9)","v":""},{"$f":"IF(B65=\"\",\"\",IF($E$13=12,$E$10*C65,IF($E$13=6,($E$10*C65)/2,IF($E$13=3,($E$10*C65)/4,IF($E$13=1,($E$10*C65)/4,0)))))","v":""},{"$f":"IF(B64=\"\",\"\",SUM(F64:H64))","v":""}]
[34,{"$f":"IF(A65>($E$12/$E$13),\"\",DATE(YEAR(B64),(MONTH(B64)+$E$13),DAY(B64)))","v":""},{"$f":"IF(B65=\"\",\"\",C64-D64)","v":""},"","","","",{"$f":"IF(B66=\"\",\"\",IF($E$13=12,$E$10*C66,IF($E$13=6,($E$10*C66)/2,IF($E$13=3,($E$10*C66)/4,IF($E$13=1,0,0)))))","v":""},""]
[35,"","","","","","",{"$f":"IF(B67=\"\",\"\",IF($E$13=12,$E$10*C67,IF($E$13=6,($E$10*C67)/2,IF($E$13=3,($E$10*C67)/4,IF($E$13=1,0,0)))))","v":""},""]
[36,"","","","","","",{"$f":"IF(B68=\"\",\"\",IF($E$13=12,$E$10*C68,IF($E$13=6,($E$10*C68)/2,IF($E$13=3,($E$10*C68)/4,IF($E$13=1,($E$10*C68)/4,0)))))","v":""},""]
[37,"","","","","","",{"$f":"IF(B69=\"\",\"\",IF($E$13=12,$E$10*C69,IF($E$13=6,($E$10*C69)/2,IF($E$13=3,($E$10*C69)/4,IF($E$13=1,0,0)))))","v":""},""]
[38,"","","","","","",{"$f":"IF(B70=\"\",\"\",IF($E$13=12,$E$10*C70,IF($E$13=6,($E$10*C70)/2,IF($E$13=3,($E$10*C70)/4,IF($E$13=1,0,0)))))","v":""},""]
[39,"","","","","","",{"$f":"IF(B71=\"\",\"\",IF($E$13=12,$E$10*C71,IF($E$13=6,($E$10*C71)/2,IF($E$13=3,($E$10*C71)/4,IF($E$13=1,($E$10*C71)/4,0)))))","v":""},""]
[40,"","","","","","",0,""]
[41,"","","","","","",0,""]
[42,"","","","","","",0,""]
[43,"","","","","","",0,""]
[44,"","","","","","",0,""]
[45,"","","","","","",0,""]
[46,"","","","","","",0,""]
[47,"","","","","","",0,""]
[48,"","","","","","",0,""]
[49,"","","","","","",{"$f":"IF(B81=\"\",\"\",IF($E$13=12,$E$10*C81,IF($E$13=6,($E$10*C81)/2,IF($E$13=3,($E$10*C81)/4,IF($E$13=1,0,0)))))","v":""},""]
[50,"","","","","","",{"$f":"IF(B82=\"\",\"\",IF($E$13=12,$E$10*C82,IF($E$13=6,($E$10*C82)/2,IF($E$13=3,($E$10*C82)/4,IF($E$13=1,0,0)))))","v":""},""]
[51,"","","","","","",{"$f":"IF(B83=\"\",\"\",IF($E$13=12,$E$10*C83,IF($E$13=6,($E$10*C83)/2,IF($E$13=3,($E$10*C83)/4,IF($E$13=1,($E$10*C83)/4,0)))))","v":""},""]
[52,"","","","","","",{"$f":"IF(B84=\"\",\"\",IF($E$13=12,$E$10*C84,IF($E$13=6,($E$10*C84)/2,IF($E$13=3,($E$10*C84)/4,IF($E$13=1,0,0)))))","v":""},""]
[53,"","","","","","",{"$f":"IF(B85=\"\",\"\",IF($E$13=12,$E$10*C85,IF($E$13=6,($E$10*C85)/2,IF($E$13=3,($E$10*C85)/4,IF($E$13=1,0,0)))))","v":""},""]
[54,"","","","","","",{"$f":"IF(B86=\"\",\"\",IF($E$13=12,$E$10*C86,IF($E$13=6,($E$10*C86)/2,IF($E$13=3,($E$10*C86)/4,IF($E$13=1,($E$10*C86)/4,0)))))","v":""},""]
[55,"","","","","","",{"$f":"IF(B87=\"\",\"\",IF($E$13=12,$E$10*C87,IF($E$13=6,($E$10*C87)/2,IF($E$13=3,($E$10*C87)/4,IF($E$13=1,0,0)))))","v":""},""]
[56,"","","","","","",{"$f":"IF(B88=\"\",\"\",IF($E$13=12,$E$10*C88,IF($E$13=6,($E$10*C88)/2,IF($E$13=3,($E$10*C88)/4,IF($E$13=1,0,0)))))","v":""},""]
[57,"","","","","","",{"$f":"IF(B89=\"\",\"\",IF($E$13=12,$E$10*C89,IF($E$13=6,($E$10*C89)/2,IF($E$13=3,($E$10*C89)/4,IF($E$13=1,($E$10*C89)/4,0)))))","v":""},""]
[58,"","","","","","",{"$f":"IF(B90=\"\",\"\",IF($E$13=12,$E$10*C90,IF($E$13=6,($E$10*C90)/2,IF($E$13=3,($E$10*C90)/4,IF($E$13=1,0,0)))))","v":""},""]
[59,"","","","","","",{"$f":"IF(B91=\"\",\"\",IF($E$13=12,$E$10*C91,IF($E$13=6,($E$10*C91)/2,IF($E$13=3,($E$10*C91)/4,IF($E$13=1,0,0)))))","v":""},""]
[60,"","","","","","",{"$f":"IF(B92=\"\",\"\",IF($E$13=12,$E$10*C92,IF($E$13=6,($E$10*C92)/2,IF($E$13=3,($E$10*C92)/4,IF($E$13=1,($E$10*C92)/4,0)))))","v":""},""]
[61,"","","","","","",{"$f":"IF(B93=\"\",\"\",IF($E$13=12,$E$10*C93,IF($E$13=6,($E$10*C93)/2,IF($E$13=3,($E$10*C93)/4,IF($E$13=1,0,0)))))","v":""},""]
[62,"","","","","","",{"$f":"IF(B94=\"\",\"\",IF($E$13=12,$E$10*C94,IF($E$13=6,($E$10*C94)/2,IF($E$13=3,($E$10*C94)/4,IF($E$13=1,0,0)))))","v":""},""]
[63,"","","","","","",{"$f":"IF(B95=\"\",\"\",IF($E$13=12,$E$10*C95,IF($E$13=6,($E$10*C95)/2,IF($E$13=3,($E$10*C95)/4,IF($E$13=1,($E$10*C95)/4,0)))))","v":""},""]
[64,"","","","","","",{"$f":"IF(B96=\"\",\"\",IF($E$13=12,$E$10*C96,IF($E$13=6,($E$10*C96)/2,IF($E$13=3,($E$10*C96)/4,IF($E$13=1,0,0)))))","v":""},""]
[65,"","","","","",{"$f":"IF(B96=\"\",\"\",$E$9)","v":""},{"$f":"IF(B97=\"\",\"\",IF($E$13=12,$E$10*C97,IF($E$13=6,($E$10*C97)/2,IF($E$13=3,($E$10*C97)/4,IF($E$13=1,0,0)))))","v":""},{"$f":"IF(B96=\"\",\"\",SUM(F96:H96))","v":""}]
[66,{"$f":"IF(A97>($E$12/$E$13),\"\",DATE(YEAR(B96),(MONTH(B96)+$E$13),DAY(B96)))","v":""},{"$f":"IF(B97=\"\",\"\",C96-D96)","v":""},{"$f":"IF(B97=\"\",\"\",IF(B98=\"\",C97,IF(A97>($E$14/$E$13),IF($E$16=2,ROUND($E$6/(($E$12/$E$13)-($E$14/$E$13)),5),F97-E97),)))","v":""},"","","",{"$f":"IF(B98=\"\",\"\",IF($E$13=12,$E$10*C98,IF($E$13=6,($E$10*C98)/2,IF($E$13=3,($E$10*C98)/4,IF($E$13=1,($E$10*C98)/4,0)))))","v":""},""]
[67,"","","",{"$f":"IF(B98=\"\",\"\",IF($E$16=2,(($E$11%*C98)/12)*$E$13,ROUND(C98*($E$11%/(12/$E$13)),4)))","v":""},{"$f":"IF(B98=\"\",\"\",IF(B99=\"\",D98+E98,IF(A98>$E$14/$E$13,IF($E$16=2,D98+E98,ROUND(-PMT($E$11%/(12/$E$13),($E$12/$E$13)-($E$14/$E$13),$E$6,0,0),4)),D98+E98)))","v":""},"",{"$f":"IF(B99=\"\",\"\",IF($E$13=12,$E$10*C99,IF($E$13=6,($E$10*C99)/2,IF($E$13=3,($E$10*C99)/4,IF($E$13=1,0,0)))))","v":""},""]
[68,"","","","","","",{"$f":"IF(B100=\"\",\"\",IF($E$13=12,$E$10*C100,IF($E$13=6,($E$10*C100)/2,IF($E$13=3,($E$10*C100)/4,IF($E$13=1,0,0)))))","v":""},""]
[69,"","","","","","",{"$f":"IF(B101=\"\",\"\",IF($E$13=12,$E$10*C101,IF($E$13=6,($E$10*C101)/2,IF($E$13=3,($E$10*C101)/4,IF($E$13=1,($E$10*C101)/4,0)))))","v":""},""]
[70,"","","","","","",{"$f":"IF(B102=\"\",\"\",IF($E$13=12,$E$10*C102,IF($E$13=6,($E$10*C102)/2,IF($E$13=3,($E$10*C102)/4,IF($E$13=1,0,0)))))","v":""},""]
[71,"","","","","","",{"$f":"IF(B103=\"\",\"\",IF($E$13=12,$E$10*C103,IF($E$13=6,($E$10*C103)/2,IF($E$13=3,($E$10*C103)/4,IF($E$13=1,0,0)))))","v":""},""]
[72,"","","","","","",{"$f":"IF(B104=\"\",\"\",IF($E$13=12,$E$10*C104,IF($E$13=6,($E$10*C104)/2,IF($E$13=3,($E$10*C104)/4,IF($E$13=1,($E$10*C104)/4,0)))))","v":""},""]
[73,"","","","","","",{"$f":"IF(B105=\"\",\"\",IF($E$13=12,$E$10*C105,IF($E$13=6,($E$10*C105)/2,IF($E$13=3,($E$10*C105)/4,IF($E$13=1,0,0)))))","v":""},""]
[74,"","","","","","",{"$f":"IF(B106=\"\",\"\",IF($E$13=12,$E$10*C106,IF($E$13=6,($E$10*C106)/2,IF($E$13=3,($E$10*C106)/4,IF($E$13=1,0,0)))))","v":""},""]
[75,"","","","","","",{"$f":"IF(B107=\"\",\"\",IF($E$13=12,$E$10*C107,IF($E$13=6,($E$10*C107)/2,IF($E$13=3,($E$10*C107)/4,IF($E$13=1,($E$10*C107)/4,0)))))","v":""},""]
[76,"","","","","","",{"$f":"IF(B108=\"\",\"\",IF($E$13=12,$E$10*C108,IF($E$13=6,($E$10*C108)/2,IF($E$13=3,($E$10*C108)/4,IF($E$13=1,0,0)))))","v":""},""]
[77,"","","","","","",{"$f":"IF(B109=\"\",\"\",IF($E$13=12,$E$10*C109,IF($E$13=6,($E$10*C109)/2,IF($E$13=3,($E$10*C109)/4,IF($E$13=1,0,0)))))","v":""},""]
[78,"","","","","","",{"$f":"IF(B110=\"\",\"\",IF($E$13=12,$E$10*C110,IF($E$13=6,($E$10*C110)/2,IF($E$13=3,($E$10*C110)/4,IF($E$13=1,($E$10*C110)/4,0)))))","v":""},""]
[79,"","","","","","",{"$f":"IF(B111=\"\",\"\",IF($E$13=12,$E$10*C111,IF($E$13=6,($E$10*C111)/2,IF($E$13=3,($E$10*C111)/4,IF($E$13=1,0,0)))))","v":""},""]
[80,"","","","","","",{"$f":"IF(B112=\"\",\"\",IF($E$13=12,$E$10*C112,IF($E$13=6,($E$10*C112)/2,IF($E$13=3,($E$10*C112)/4,IF($E$13=1,0,0)))))","v":""},""]
[81,"","","","","","",{"$f":"IF(B113=\"\",\"\",IF($E$13=12,$E$10*C113,IF($E$13=6,($E$10*C113)/2,IF($E$13=3,($E$10*C113)/4,IF($E$13=1,($E$10*C113)/4,0)))))","v":""},""]
[82,"","","","","","",{"$f":"IF(B114=\"\",\"\",IF($E$13=12,$E$10*C114,IF($E$13=6,($E$10*C114)/2,IF($E$13=3,($E$10*C114)/4,IF($E$13=1,0,0)))))","v":""},""]
[83,"","","","","","",{"$f":"IF(B115=\"\",\"\",IF($E$13=12,$E$10*C115,IF($E$13=6,($E$10*C115)/2,IF($E$13=3,($E$10*C115)/4,IF($E$13=1,0,0)))))","v":""},""]
[84,"","","","","","",{"$f":"IF(B116=\"\",\"\",IF($E$13=12,$E$10*C116,IF($E$13=6,($E$10*C116)/2,IF($E$13=3,($E$10*C116)/4,IF($E$13=1,($E$10*C116)/4,0)))))","v":""},""]
[85,"","","","","","",{"$f":"IF(B117=\"\",\"\",IF($E$13=12,$E$10*C117,IF($E$13=6,($E$10*C117)/2,IF($E$13=3,($E$10*C117)/4,IF($E$13=1,0,0)))))","v":""},""]
[86,"","","","","","",{"$f":"IF(B118=\"\",\"\",IF($E$13=12,$E$10*C118,IF($E$13=6,($E$10*C118)/2,IF($E$13=3,($E$10*C118)/4,IF($E$13=1,0,0)))))","v":""},""]
[87,"","","","","","",{"$f":"IF(B119=\"\",\"\",IF($E$13=12,$E$10*C119,IF($E$13=6,($E$10*C119)/2,IF($E$13=3,($E$10*C119)/4,IF($E$13=1,($E$10*C119)/4,0)))))","v":""},""]
[88,"","","","","","",{"$f":"IF(B120=\"\",\"\",IF($E$13=12,$E$10*C120,IF($E$13=6,($E$10*C120)/2,IF($E$13=3,($E$10*C120)/4,IF($E$13=1,0,0)))))","v":""},""]
[89,"","","","","","",{"$f":"IF(B121=\"\",\"\",IF($E$13=12,$E$10*C121,IF($E$13=6,($E$10*C121)/2,IF($E$13=3,($E$10*C121)/4,IF($E$13=1,0,0)))))","v":""},""]
[90,"","","","","","",{"$f":"IF(B122=\"\",\"\",IF($E$13=12,$E$10*C122,IF($E$13=6,($E$10*C122)/2,IF($E$13=3,($E$10*C122)/4,IF($E$13=1,($E$10*C122)/4,0)))))","v":""},""]
[91,"","","","","","",{"$f":"IF(B123=\"\",\"\",IF($E$13=12,$E$10*C123,IF($E$13=6,($E$10*C123)/2,IF($E$13=3,($E$10*C123)/4,IF($E$13=1,0,0)))))","v":""},""]
[92,"","","","","","",{"$f":"IF(B124=\"\",\"\",IF($E$13=12,$E$10*C124,IF($E$13=6,($E$10*C124)/2,IF($E$13=3,($E$10*C124)/4,IF($E$13=1,0,0)))))","v":""},""]
[93,"","","","","","",{"$f":"IF(B125=\"\",\"\",IF($E$13=12,$E$10*C125,IF($E$13=6,($E$10*C125)/2,IF($E$13=3,($E$10*C125)/4,IF($E$13=1,($E$10*C125)/4,0)))))","v":""},""]
[94,"","","","","","",{"$f":"IF(B126=\"\",\"\",IF($E$13=12,$E$10*C126,IF($E$13=6,($E$10*C126)/2,IF($E$13=3,($E$10*C126)/4,IF($E$13=1,0,0)))))","v":""},""]
[95,"","","","","","",{"$f":"IF(B127=\"\",\"\",IF($E$13=12,$E$10*C127,IF($E$13=6,($E$10*C127)/2,IF($E$13=3,($E$10*C127)/4,IF($E$13=1,0,0)))))","v":""},""]
[96,"","","","","","",{"$f":"IF(B128=\"\",\"\",IF($E$13=12,$E$10*C128,IF($E$13=6,($E$10*C128)/2,IF($E$13=3,($E$10*C128)/4,IF($E$13=1,($E$10*C128)/4,0)))))","v":""},""]
[97,"","","","","",{"$f":"IF(B128=\"\",\"\",$E$9)","v":""},{"$f":"IF(B129=\"\",\"\",IF($E$13=12,$E$10*C129,IF($E$13=6,($E$10*C129)/2,IF($E$13=3,($E$10*C129)/4,IF($E$13=1,0,0)))))","v":""},{"$f":"IF(B128=\"\",\"\",SUM(F128:H128))","v":""}]
[98,{"$f":"IF(A129>($E$12/$E$13),\"\",DATE(YEAR(B128),(MONTH(B128)+$E$13),DAY(B128)))","v":""},{"$f":"IF(B129=\"\",\"\",C128-D128)","v":""},"","","","",{"$f":"IF(B130=\"\",\"\",IF($E$13=12,$E$10*C130,IF($E$13=6,($E$10*C130)/2,IF($E$13=3,($E$10*C130)/4,IF($E$13=1,0,0)))))","v":""},""]
[99,"","","","","","",{"$f":"IF(B131=\"\",\"\",IF($E$13=12,$E$10*C131,IF($E$13=6,($E$10*C131)/2,IF($E$13=3,($E$10*C131)/4,IF($E$13=1,($E$10*C131)/4,0)))))","v":""},""]
[100,"","","","","","",{"$f":"IF(B132=\"\",\"\",IF($E$13=12,$E$10*C132,IF($E$13=6,($E$10*C132)/2,IF($E$13=3,($E$10*C132)/4,IF($E$13=1,0,0)))))","v":""},""]
[101,"","","","","","",{"$f":"IF(B133=\"\",\"\",IF($E$13=12,$E$10*C133,IF($E$13=6,($E$10*C133)/2,IF($E$13=3,($E$10*C133)/4,IF($E$13=1,0,0)))))","v":""},""]
[102,"","","","","","",{"$f":"IF(B134=\"\",\"\",IF($E$13=12,$E$10*C134,IF($E$13=6,($E$10*C134)/2,IF($E$13=3,($E$10*C134)/4,IF($E$13=1,($E$10*C134)/4,0)))))","v":""},""]
[103,"","","","","","",{"$f":"IF(B135=\"\",\"\",IF($E$13=12,$E$10*C135,IF($E$13=6,($E$10*C135)/2,IF($E$13=3,($E$10*C135)/4,IF($E$13=1,0,0)))))","v":""},""]
[104,"","","","","","",{"$f":"IF(B136=\"\",\"\",IF($E$13=12,$E$10*C136,IF($E$13=6,($E$10*C136)/2,IF($E$13=3,($E$10*C136)/4,IF($E$13=1,0,0)))))","v":""},""]
[105,"","","","","","",{"$f":"IF(B137=\"\",\"\",IF($E$13=12,$E$10*C137,IF($E$13=6,($E$10*C137)/2,IF($E$13=3,($E$10*C137)/4,IF($E$13=1,($E$10*C137)/4,0)))))","v":""},""]
[106,"","","","","","",{"$f":"IF(B138=\"\",\"\",IF($E$13=12,$E$10*C138,IF($E$13=6,($E$10*C138)/2,IF($E$13=3,($E$10*C138)/4,IF($E$13=1,0,0)))))","v":""},""]
[107,"","","","","","",{"$f":"IF(B139=\"\",\"\",IF($E$13=12,$E$10*C139,IF($E$13=6,($E$10*C139)/2,IF($E$13=3,($E$10*C139)/4,IF($E$13=1,0,0)))))","v":""},""]
[108,"","","","","","",{"$f":"IF(B140=\"\",\"\",IF($E$13=12,$E$10*C140,IF($E$13=6,($E$10*C140)/2,IF($E$13=3,($E$10*C140)/4,IF($E$13=1,($E$10*C140)/4,0)))))","v":""},""]
[109,"","","","","","",{"$f":"IF(B141=\"\",\"\",IF($E$13=12,$E$10*C141,IF($E$13=6,($E$10*C141)/2,IF($E$13=3,($E$10*C141)/4,IF($E$13=1,0,0)))))","v":""},""]
[110,"","","","","","",{"$f":"IF(B142=\"\",\"\",IF($E$13=12,$E$10*C142,IF($E$13=6,($E$10*C142)/2,IF($E$13=3,($E$10*C142)/4,IF($E$13=1,0,0)))))","v":""},""]
[111,"","","","","","",{"$f":"IF(B143=\"\",\"\",IF($E$13=12,$E$10*C143,IF($E$13=6,($E$10*C143)/2,IF($E$13=3,($E$10*C143)/4,IF($E$13=1,($E$10*C143)/4,0)))))","v":""},""]
[112,"","","","","","",{"$f":"IF(B144=\"\",\"\",IF($E$13=12,$E$10*C144,IF($E$13=6,($E$10*C144)/2,IF($E$13=3,($E$10*C144)/4,IF($E$13=1,0,0)))))","v":""},""]
[113,"","","","","","",{"$f":"IF(B145=\"\",\"\",IF($E$13=12,$E$10*C145,IF($E$13=6,($E$10*C145)/2,IF($E$13=3,($E$10*C145)/4,IF($E$13=1,0,0)))))","v":""},""]
[114,"","","","","","",{"$f":"IF(B146=\"\",\"\",IF($E$13=12,$E$10*C146,IF($E$13=6,($E$10*C146)/2,IF($E$13=3,($E$10*C146)/4,IF($E$13=1,($E$10*C146)/4,0)))))","v":""},""]
[115,"","","","","","",{"$f":"IF(B147=\"\",\"\",IF($E$13=12,$E$10*C147,IF($E$13=6,($E$10*C147)/2,IF($E$13=3,($E$10*C147)/4,IF($E$13=1,0,0)))))","v":""},""]
[116,"","","","","","",{"$f":"IF(B148=\"\",\"\",IF($E$13=12,$E$10*C148,IF($E$13=6,($E$10*C148)/2,IF($E$13=3,($E$10*C148)/4,IF($E$13=1,0,0)))))","v":""},""]
[117,"","","","","","",{"$f":"IF(B149=\"\",\"\",IF($E$13=12,$E$10*C149,IF($E$13=6,($E$10*C149)/2,IF($E$13=3,($E$10*C149)/4,IF($E$13=1,($E$10*C149)/4,0)))))","v":""},""]
[118,"","","","","","",{"$f":"IF(B150=\"\",\"\",IF($E$13=12,$E$10*C150,IF($E$13=6,($E$10*C150)/2,IF($E$13=3,($E$10*C150)/4,IF($E$13=1,0,0)))))","v":""},""]
[119,"","","","","","",{"$f":"IF(B151=\"\",\"\",IF($E$13=12,$E$10*C151,IF($E$13=6,($E$10*C151)/2,IF($E$13=3,($E$10*C151)/4,IF($E$13=1,0,0)))))","v":""},""]
[120,"","","","","","",{"$f":"IF(B152=\"\",\"\",IF($E$13=12,$E$10*C152,IF($E$13=6,($E$10*C152)/2,IF($E$13=3,($E$10*C152)/4,IF($E$13=1,($E$10*C152)/4,0)))))","v":""},""]
[121,"","","","","","",{"$f":"IF(B153=\"\",\"\",IF($E$13=12,$E$10*C153,IF($E$13=6,($E$10*C153)/2,IF($E$13=3,($E$10*C153)/4,IF($E$13=1,0,0)))))","v":""},""]
[122,"","","","","","",{"$f":"IF(B154=\"\",\"\",IF($E$13=12,$E$10*C154,IF($E$13=6,($E$10*C154)/2,IF($E$13=3,($E$10*C154)/4,IF($E$13=1,0,0)))))","v":""},""]
[123,"","","","","","",{"$f":"IF(B155=\"\",\"\",IF($E$13=12,$E$10*C155,IF($E$13=6,($E$10*C155)/2,IF($E$13=3,($E$10*C155)/4,IF($E$13=1,($E$10*C155)/4,0)))))","v":""},""]
[124,"","","","","","",{"$f":"IF(B156=\"\",\"\",IF($E$13=12,$E$10*C156,IF($E$13=6,($E$10*C156)/2,IF($E$13=3,($E$10*C156)/4,IF($E$13=1,0,0)))))","v":""},""]
[125,"","","","","","",{"$f":"IF(B157=\"\",\"\",IF($E$13=12,$E$10*C157,IF($E$13=6,($E$10*C157)/2,IF($E$13=3,($E$10*C157)/4,IF($E$13=1,0,0)))))","v":""},""]
[126,"","","","","","",{"$f":"IF(B158=\"\",\"\",IF($E$13=12,$E$10*C158,IF($E$13=6,($E$10*C158)/2,IF($E$13=3,($E$10*C158)/4,IF($E$13=1,($E$10*C158)/4,0)))))","v":""},""]
[127,"","","","","","",{"$f":"IF(B159=\"\",\"\",IF($E$13=12,$E$10*C159,IF($E$13=6,($E$10*C159)/2,IF($E$13=3,($E$10*C159)/4,IF($E$13=1,0,0)))))","v":""},""]
[128,"","","","","","",{"$f":"IF(B160=\"\",\"\",IF($E$13=12,$E$10*C160,IF($E$13=6,($E$10*C160)/2,IF($E$13=3,($E$10*C160)/4,IF($E$13=1,0,0)))))","v":""},""]
[129,"","","","","",{"$f":"IF(B160=\"\",\"\",$E$9)","v":""},{"$f":"IF(B161=\"\",\"\",IF($E$13=12,$E$10*C161,IF($E$13=6,($E$10*C161)/2,IF($E$13=3,($E$10*C161)/4,IF($E$13=1,($E$10*C161)/4,0)))))","v":""},{"$f":"IF(B160=\"\",\"\",SUM(F160:H160))","v":""}]
[130,{"$f":"IF(A161>($E$12/$E$13),\"\",DATE(YEAR(B160),(MONTH(B160)+$E$13),DAY(B160)))","v":""},{"$f":"IF(B161=\"\",\"\",C160-D160)","v":""},{"$f":"IF(B161=\"\",\"\",IF(B162=\"\",C161,IF(A161>($E$14/$E$13),IF($E$16=2,ROUND($E$6/(($E$12/$E$13)-($E$14/$E$13)),5),F161-E161),)))","v":""},"","","",{"$f":"IF(B162=\"\",\"\",IF($E$13=12,$E$10*C162,IF($E$13=6,($E$10*C162)/2,IF($E$13=3,($E$10*C162)/4,IF($E$13=1,0,0)))))","v":""},""]
[131,"","","",{"$f":"IF(B162=\"\",\"\",IF($E$16=2,(($E$11%*C162)/12)*$E$13,ROUND(C162*($E$11%/(12/$E$13)),4)))","v":""},{"$f":"IF(B162=\"\",\"\",IF(B163=\"\",D162+E162,IF(A162>$E$14/$E$13,IF($E$16=2,D162+E162,ROUND(-PMT($E$11%/(12/$E$13),($E$12/$E$13)-($E$14/$E$13),$E$6,0,0),4)),D162+E162)))","v":""},"",{"$f":"IF(B163=\"\",\"\",IF($E$13=12,$E$10*C163,IF($E$13=6,($E$10*C163)/2,IF($E$13=3,($E$10*C163)/4,IF($E$13=1,0,0)))))","v":""},""]
[132,"","","","","","",{"$f":"IF(B164=\"\",\"\",IF($E$13=12,$E$10*C164,IF($E$13=6,($E$10*C164)/2,IF($E$13=3,($E$10*C164)/4,IF($E$13=1,($E$10*C164)/4,0)))))","v":""},""]
[133,"","","","","","",{"$f":"IF(B165=\"\",\"\",IF($E$13=12,$E$10*C165,IF($E$13=6,($E$10*C165)/2,IF($E$13=3,($E$10*C165)/4,IF($E$13=1,0,0)))))","v":""},""]
[134,"","","","","","",{"$f":"IF(B166=\"\",\"\",IF($E$13=12,$E$10*C166,IF($E$13=6,($E$10*C166)/2,IF($E$13=3,($E$10*C166)/4,IF($E$13=1,0,0)))))","v":""},""]
[135,"","","","","","",{"$f":"IF(B167=\"\",\"\",IF($E$13=12,$E$10*C167,IF($E$13=6,($E$10*C167)/2,IF($E$13=3,($E$10*C167)/4,IF($E$13=1,($E$10*C167)/4,0)))))","v":""},""]
[136,"","","","","","",{"$f":"IF(B168=\"\",\"\",IF($E$13=12,$E$10*C168,IF($E$13=6,($E$10*C168)/2,IF($E$13=3,($E$10*C168)/4,IF($E$13=1,0,0)))))","v":""},""]
[137,"","","","","","",{"$f":"IF(B169=\"\",\"\",IF($E$13=12,$E$10*C169,IF($E$13=6,($E$10*C169)/2,IF($E$13=3,($E$10*C169)/4,IF($E$13=1,0,0)))))","v":""},""]
[138,"","","","","","",{"$f":"IF(B170=\"\",\"\",IF($E$13=12,$E$10*C170,IF($E$13=6,($E$10*C170)/2,IF($E$13=3,($E$10*C170)/4,IF($E$13=1,($E$10*C170)/4,0)))))","v":""},""]
[139,"","","","","","",{"$f":"IF(B171=\"\",\"\",IF($E$13=12,$E$10*C171,IF($E$13=6,($E$10*C171)/2,IF($E$13=3,($E$10*C171)/4,IF($E$13=1,0,0)))))","v":""},""]
[140,"","","","","","",{"$f":"IF(B172=\"\",\"\",IF($E$13=12,$E$10*C172,IF($E$13=6,($E$10*C172)/2,IF($E$13=3,($E$10*C172)/4,IF($E$13=1,0,0)))))","v":""},""]
[141,"","","","","","",{"$f":"IF(B173=\"\",\"\",IF($E$13=12,$E$10*C173,IF($E$13=6,($E$10*C173)/2,IF($E$13=3,($E$10*C173)/4,IF($E$13=1,($E$10*C173)/4,0)))))","v":""},""]
[142,"","","","","","",{"$f":"IF(B174=\"\",\"\",IF($E$13=12,$E$10*C174,IF($E$13=6,($E$10*C174)/2,IF($E$13=3,($E$10*C174)/4,IF($E$13=1,0,0)))))","v":""},""]
[143,"","","","","","",{"$f":"IF(B175=\"\",\"\",IF($E$13=12,$E$10*C175,IF($E$13=6,($E$10*C175)/2,IF($E$13=3,($E$10*C175)/4,IF($E$13=1,0,0)))))","v":""},""]
[144,"","","","","","",{"$f":"IF(B176=\"\",\"\",IF($E$13=12,$E$10*C176,IF($E$13=6,($E$10*C176)/2,IF($E$13=3,($E$10*C176)/4,IF($E$13=1,($E$10*C176)/4,0)))))","v":""},""]
[145,"","","","","","",{"$f":"IF(B177=\"\",\"\",IF($E$13=12,$E$10*C177,IF($E$13=6,($E$10*C177)/2,IF($E$13=3,($E$10*C177)/4,IF($E$13=1,0,0)))))","v":""},""]
[146,"","","","","","",{"$f":"IF(B178=\"\",\"\",IF($E$13=12,$E$10*C178,IF($E$13=6,($E$10*C178)/2,IF($E$13=3,($E$10*C178)/4,IF($E$13=1,0,0)))))","v":""},""]
[147,"","","","","","",{"$f":"IF(B179=\"\",\"\",IF($E$13=12,$E$10*C179,IF($E$13=6,($E$10*C179)/2,IF($E$13=3,($E$10*C179)/4,IF($E$13=1,($E$10*C179)/4,0)))))","v":""},""]
[148,"","","","","","",{"$f":"IF(B180=\"\",\"\",IF($E$13=12,$E$10*C180,IF($E$13=6,($E$10*C180)/2,IF($E$13=3,($E$10*C180)/4,IF($E$13=1,0,0)))))","v":""},""]
[149,"","","","","","",{"$f":"IF(B181=\"\",\"\",IF($E$13=12,$E$10*C181,IF($E$13=6,($E$10*C181)/2,IF($E$13=3,($E$10*C181)/4,IF($E$13=1,0,0)))))","v":""},""]
[150,"","","","","","",{"$f":"IF(B182=\"\",\"\",IF($E$13=12,$E$10*C182,IF($E$13=6,($E$10*C182)/2,IF($E$13=3,($E$10*C182)/4,IF($E$13=1,($E$10*C182)/4,0)))))","v":""},""]
[151,"","","","","","",{"$f":"IF(B183=\"\",\"\",IF($E$13=12,$E$10*C183,IF($E$13=6,($E$10*C183)/2,IF($E$13=3,($E$10*C183)/4,IF($E$13=1,0,0)))))","v":""},""]
[152,"","","","","","",{"$f":"IF(B184=\"\",\"\",IF($E$13=12,$E$10*C184,IF($E$13=6,($E$10*C184)/2,IF($E$13=3,($E$10*C184)/4,IF($E$13=1,0,0)))))","v":""},""]
[153,"","","","","","",{"$f":"IF(B185=\"\",\"\",IF($E$13=12,$E$10*C185,IF($E$13=6,($E$10*C185)/2,IF($E$13=3,($E$10*C185)/4,IF($E$13=1,($E$10*C185)/4,0)))))","v":""},""]
[154,"","","","","","",{"$f":"IF(B186=\"\",\"\",IF($E$13=12,$E$10*C186,IF($E$13=6,($E$10*C186)/2,IF($E$13=3,($E$10*C186)/4,IF($E$13=1,0,0)))))","v":""},""]
[155,"","","","","","",{"$f":"IF(B187=\"\",\"\",IF($E$13=12,$E$10*C187,IF($E$13=6,($E$10*C187)/2,IF($E$13=3,($E$10*C187)/4,IF($E$13=1,0,0)))))","v":""},""]
[156,"","","","","","",{"$f":"IF(B188=\"\",\"\",IF($E$13=12,$E$10*C188,IF($E$13=6,($E$10*C188)/2,IF($E$13=3,($E$10*C188)/4,IF($E$13=1,($E$10*C188)/4,0)))))","v":""},""]
[157,"","","","","","",{"$f":"IF(B189=\"\",\"\",IF($E$13=12,$E$10*C189,IF($E$13=6,($E$10*C189)/2,IF($E$13=3,($E$10*C189)/4,IF($E$13=1,0,0)))))","v":""},""]
[158,"","","","","","",{"$f":"IF(B190=\"\",\"\",IF($E$13=12,$E$10*C190,IF($E$13=6,($E$10*C190)/2,IF($E$13=3,($E$10*C190)/4,IF($E$13=1,0,0)))))","v":""},""]
[159,"","","","","","",{"$f":"IF(B191=\"\",\"\",IF($E$13=12,$E$10*C191,IF($E$13=6,($E$10*C191)/2,IF($E$13=3,($E$10*C191)/4,IF($E$13=1,($E$10*C191)/4,0)))))","v":""},""]
[160,"","","","","","",{"$f":"IF(B192=\"\",\"\",IF($E$13=12,$E$10*C192,IF($E$13=6,($E$10*C192)/2,IF($E$13=3,($E$10*C192)/4,IF($E$13=1,0,0)))))","v":""},""]
[161,"","","","","",{"$f":"IF(B192=\"\",\"\",$E$9)","v":""},{"$f":"IF(B193=\"\",\"\",IF($E$13=12,$E$10*C193,IF($E$13=6,($E$10*C193)/2,IF($E$13=3,($E$10*C193)/4,IF($E$13=1,0,0)))))","v":""},{"$f":"IF(B192=\"\",\"\",SUM(F192:H192))","v":""}]
[162,{"$f":"IF(A193>($E$12/$E$13),\"\",DATE(YEAR(B192),(MONTH(B192)+$E$13),DAY(B192)))","v":""},{"$f":"IF(B193=\"\",\"\",C192-D192)","v":""},"","","","",{"$f":"IF(B194=\"\",\"\",IF($E$13=12,$E$10*C194,IF($E$13=6,($E$10*C194)/2,IF($E$13=3,($E$10*C194)/4,IF($E$13=1,($E$10*C194)/4,0)))))","v":""},""]
[163,"","","","","","",{"$f":"IF(B195=\"\",\"\",IF($E$13=12,$E$10*C195,IF($E$13=6,($E$10*C195)/2,IF($E$13=3,($E$10*C195)/4,IF($E$13=1,0,0)))))","v":""},""]
[164,"","","","","","",{"$f":"IF(B196=\"\",\"\",IF($E$13=12,$E$10*C196,IF($E$13=6,($E$10*C196)/2,IF($E$13=3,($E$10*C196)/4,IF($E$13=1,0,0)))))","v":""},""]
[165,"","","","","","",{"$f":"IF(B197=\"\",\"\",IF($E$13=12,$E$10*C197,IF($E$13=6,($E$10*C197)/2,IF($E$13=3,($E$10*C197)/4,IF($E$13=1,($E$10*C197)/4,0)))))","v":""},""]
[166,"","","","","","",{"$f":"IF(B198=\"\",\"\",IF($E$13=12,$E$10*C198,IF($E$13=6,($E$10*C198)/2,IF($E$13=3,($E$10*C198)/4,IF($E$13=1,0,0)))))","v":""},""]
[167,"","","","","","",{"$f":"IF(B199=\"\",\"\",IF($E$13=12,$E$10*C199,IF($E$13=6,($E$10*C199)/2,IF($E$13=3,($E$10*C199)/4,IF($E$13=1,0,0)))))","v":""},""]
[168,"","","","","","",{"$f":"IF(B200=\"\",\"\",IF($E$13=12,$E$10*C200,IF($E$13=6,($E$10*C200)/2,IF($E$13=3,($E$10*C200)/4,IF($E$13=1,($E$10*C200)/4,0)))))","v":""},""]
[169,"","","","","","",{"$f":"IF(B201=\"\",\"\",IF($E$13=12,$E$10*C201,IF($E$13=6,($E$10*C201)/2,IF($E$13=3,($E$10*C201)/4,IF($E$13=1,0,0)))))","v":""},""]
[170,"","","","","","",{"$f":"IF(B202=\"\",\"\",IF($E$13=12,$E$10*C202,IF($E$13=6,($E$10*C202)/2,IF($E$13=3,($E$10*C202)/4,IF($E$13=1,0,0)))))","v":""},""]
[171,"","","","","","",{"$f":"IF(B203=\"\",\"\",IF($E$13=12,$E$10*C203,IF($E$13=6,($E$10*C203)/2,IF($E$13=3,($E$10*C203)/4,IF($E$13=1,($E$10*C203)/4,0)))))","v":""},""]
[172,"","","","","","",{"$f":"IF(B204=\"\",\"\",IF($E$13=12,$E$10*C204,IF($E$13=6,($E$10*C204)/2,IF($E$13=3,($E$10*C204)/4,IF($E$13=1,0,0)))))","v":""},""]
[173,"","","","","","",{"$f":"IF(B205=\"\",\"\",IF($E$13=12,$E$10*C205,IF($E$13=6,($E$10*C205)/2,IF($E$13=3,($E$10*C205)/4,IF($E$13=1,0,0)))))","v":""},""]
[174,"","","","","","",{"$f":"IF(B206=\"\",\"\",IF($E$13=12,$E$10*C206,IF($E$13=6,($E$10*C206)/2,IF($E$13=3,($E$10*C206)/4,IF($E$13=1,($E$10*C206)/4,0)))))","v":""},""]
[175,"","","","","","",{"$f":"IF(B207=\"\",\"\",IF($E$13=12,$E$10*C207,IF($E$13=6,($E$10*C207)/2,IF($E$13=3,($E$10*C207)/4,IF($E$13=1,0,0)))))","v":""},""]
[176,"","","","","","",{"$f":"IF(B208=\"\",\"\",IF($E$13=12,$E$10*C208,IF($E$13=6,($E$10*C208)/2,IF($E$13=3,($E$10*C208)/4,IF($E$13=1,0,0)))))","v":""},""]
[177,"","","","","","",{"$f":"IF(B209=\"\",\"\",IF($E$13=12,$E$10*C209,IF($E$13=6,($E$10*C209)/2,IF($E$13=3,($E$10*C209)/4,IF($E$13=1,($E$10*C209)/4,0)))))","v":""},""]
[178,"","","","","","",{"$f":"IF(B210=\"\",\"\",IF($E$13=12,$E$10*C210,IF($E$13=6,($E$10*C210)/2,IF($E$13=3,($E$10*C210)/4,IF($E$13=1,0,0)))))","v":""},""]
[179,"","","","","","",{"$f":"IF(B211=\"\",\"\",IF($E$13=12,$E$10*C211,IF($E$13=6,($E$10*C211)/2,IF($E$13=3,($E$10*C211)/4,IF($E$13=1,0,0)))))","v":""},""]
[180,{"$f":"IF(A211>($E$12/$E$13),\"\",DATE(YEAR(B210),(MONTH(B210)+$E$13),DAY(B210)))","v":""},{"$f":"IF(B211=\"\",\"\",C210-D210)","v":""},{"$f":"IF(B211=\"\",\"\",IF(B212=\"\",C211,IF(A211>($E$14/$E$13),IF($E$16=2,ROUND($E$6/(($E$12/$E$13)-($E$14/$E$13)),5),F211-E211),)))","v":""},{"$f":"IF(B211=\"\",\"\",IF($E$16=2,(($E$11%*C211)/12)*$E$13,ROUND(C211*($E$11%/(12/$E$13)),4)))","v":""},{"$f":"IF(B211=\"\",\"\",IF(B212=\"\",D211+E211,IF(A211>$E$14/$E$13,IF($E$16=2,D211+E211,ROUND(-PMT($E$11%/(12/$E$13),($E$12/$E$13)-($E$14/$E$13),$E$6,0,0),4)),D211+E211)))","v":""},{"$f":"IF(B211=\"\",\"\",$E$9)","v":""},{"$f":"IF(B212=\"\",\"\",IF($E$13=12,$E$10*C212,IF($E$13=6,($E$10*C212)/2,IF($E$13=3,($E$10*C212)/4,IF($E$13=1,0,0)))))","v":""},{"$f":"IF(B211=\"\",\"\",SUM(F211:H211))","v":""}]
[181,"","","","","","","",""]
[182,"","","","","","","",""]
[183,"","","","","","","",""]
[184,"","","","","","","",""]
[185,"","","","","","","",""]
[186,"","","","","","","",""]
[187,"","","","","","","",""]
[188,"","","","","","","",""]
[189,"","","","","","","",""]
[190,"","","","","","","",""]
[191,"","","","","","","",""]
[192,"","","","","","","",""]
[193,"","","","","","","",""]
[194,"","","","","","","",""]
[195,"","","","","","","",""]
[196,"","","","","","","",""]
[197,"","","","","","","",""]
[198,"","","","","","","",""]
[199,"","","","","","","",""]
[200,"","","","","","","",""]
[201,"","","","","","","",""]
[202,"","","","","","","",""]
[203,"","","","","","","",""]
[204,"","","","","","","",""]
[205,"","","","","","","",""]
[206,"","","","","","","",""]
[207,"","","","","","","",""]
[208,"","","","","","","",""]
[209,"","","","","","","",""]
[210,"","","","","","","",""]
[211,"","","","","","","",""]
[212,"","","","","","","",""]
[213,"","","","","","","",""]
[214,"","","","","","","",""]
[215,"","","","","","","",""]
[216,"","","","","","","",""]
[217,"","","","","","","",""]
[218,"","","","","","","",""]
[219,"","","","","","","",""]
[220,"","","","","","","",""]
[221,"","","","","","","",""]
[222,"","","","","","","",""]
[223,{"$f":"IF(A254>($E$12/$E$13),\"\",DATE(YEAR(B253),(MONTH(B253)+$E$13),DAY(B253)))","v":""},{"$f":"IF(B254=\"\",\"\",C253-D253)","v":""},{"$f":"IF(B254=\"\",\"\",IF(B255=\"\",C254,IF(A254>($E$14/$E$13),IF($E$16=2,ROUND($E$6/(($E$12/$E$13)-($E$14/$E$13)),5),F254-E254),)))","v":""},{"$f":"IF(B254=\"\",\"\",IF($E$16=2,(($E$11%*C254)/12)*$E$13,ROUND(C254*($E$11%/(12/$E$13)),4)))","v":""},{"$f":"IF(B254=\"\",\"\",IF(B255=\"\",D254+E254,IF(A254>$E$14/$E$13,IF($E$16=2,D254+E254,ROUND(-PMT($E$11%/(12/$E$13),($E$12/$E$13)-($E$14/$E$13),$E$6,0,0),4)),D254+E254)))","v":""},{"$f":"IF(B254=\"\",\"\",$E$9)","v":""},{"$f":"IF(B255=\"\",\"\",IF($E$13=12,$E$10*C255,IF($E$13=6,($E$10*C255)/2,IF($E$13=3,($E$10*C255)/4,IF($E$13=1,0,0)))))","v":""},{"$f":"IF(B254=\"\",\"\",SUM(F254:H254))","v":""}]
[224,"","","","","","","",""]
[225,"","","","","","","",""]
[226,"","","","","","","",""]
[227,"","","","","","","",""]
[228,"","","","","","","",""]
[229,"","","","","","","",""]
[230,"","","","","","","",""]
[231,"","","","","","","",""]
[232,"","","","","","","",""]
[233,"","","","","","","",""]
[234,"","","","","","","",""]
[235,"","","","","","","",""]
[236,"","","","","","","",""]
[237,"","","","","","","",""]
[238,"","","","","","","",""]
[239,"","","","","","","",""]
[240,"","","","","","","",""]
[241,"","","","","","","",""]
[242,"","","","","","","",""]
[243,"","","","","","","",""]
[244,"","","","","","","",""]
[245,"","","","","","","",""]
[246,"","","","","","","",""]
[247,"","","","","","","",""]
[248,"","","","","","","",""]
[249,"","","","","","","",""]
[250,"","","","","","","",""]
[251,"","","","","","","",""]
[252,"","","","","","","",""]
[253,"","","","","","","",""]
[254,"","","","","","","",""]
[255,"","","","","","","",""]
[256,"","","","","","","",""]
[257,"","","","","","","",""]
[258,"","","","","","","",""]
[259,"","","","","","","",""]
[260,"","","","","","","",""]
[261,"","","","","","","",""]
[262,"","","","","","","",""]
[263,"","","","","","","",""]
[264,"","","","","","","",""]
[265,"","","","","","","",""]
[266,"","","","","","","",""]
[267,"","","","","","","",""]
[268,"","","","","","","",""]
[269,"","","","","","","",""]
[270,"","","","","","","",""]
[271,"","","","","","","",""]
[272,"","","","","","","",""]
[273,"","","","","","","",""]
[274,"","","","","","","",""]
[275,"","","","","","","",""]
[276,"","","","","","","",""]
[277,"","","","","","","",""]
[278,"","","","","","","",""]
[279,"","","","","","","",""]
[280,"","","","","","","",""]
[281,"","","","","","","",""]
[282,"","","","","","","",""]
[283,"","","","","","","",""]
[284,"","","","","","","",""]
[285,"","","","","","","",""]
[286,"","","","","","","",""]
[287,{"$f":"IF(A318>($E$12/$E$13),\"\",DATE(YEAR(B317),(MONTH(B317)+$E$13),DAY(B317)))","v":""},{"$f":"IF(B318=\"\",\"\",C317-D317)","v":""},{"$f":"IF(B318=\"\",\"\",IF(B319=\"\",C318,IF(A318>($E$14/$E$13),IF($E$16=2,ROUND($E$6/(($E$12/$E$13)-($E$14/$E$13)),5),F318-E318),)))","v":""},{"$f":"IF(B318=\"\",\"\",IF($E$16=2,(($E$11%*C318)/12)*$E$13,ROUND(C318*($E$11%/(12/$E$13)),4)))","v":""},{"$f":"IF(B318=\"\",\"\",IF(B319=\"\",D318+E318,IF(A318>$E$14/$E$13,IF($E$16=2,D318+E318,ROUND(-PMT($E$11%/(12/$E$13),($E$12/$E$13)-($E$14/$E$13),$E$6,0,0),4)),D318+E318)))","v":""},{"$f":"IF(B318=\"\",\"\",$E$9)","v":""},{"$f":"IF(B319=\"\",\"\",IF($E$13=12,$E$10*C319,IF($E$13=6,($E$10*C319)/2,IF($E$13=3,($E$10*C319)/4,IF($E$13=1,0,0)))))","v":""},{"$f":"IF(B318=\"\",\"\",SUM(F318:H318))","v":""}]
[288,"","","","","","","",""]
[289,"","","","","","","",""]
[290,"","","","","","","",""]
[291,"","","","","","","",""]
[292,"","","","","","","",""]
[293,"","","","","","","",""]
[294,"","","","","","","",""]
[295,"","","","","","","",""]
[296,"","","","","","","",""]
[297,"","","","","","","",""]
[298,"","","","","","","",""]
[299,"","","","","","","",""]
[300,"","","","","","","",""]
[301,"","","","","","","",""]
[302,"","","","","","","",""]
[303,"","","","","","","",""]
[304,"","","","","","","",""]
[305,"","","","","","","",""]
[306,"","","","","","","",""]
[307,"","","","","","","",""]
[308,"","","","","","","",""]
[309,"","","","","","","",""]
[310,"","","","","","","",""]
[311,"","","","","","","",""]
[312,"","","","","","","",""]
[313,"","","","","","","",""]
[314,"","","","","","","",""]
[315,"","","","","","","",""]
[316,"","","","","","","",""]
[317,"","","","","","","",""]
[318,"","","","","","","",""]
[319,"","","","","","","",""]
[320,"","","","","","","",""]
[321,"","","","","","","",""]
[322,"","","","","","","",""]
[323,"","","","","","","",""]
[324,"","","","","","","",""]
[325,"","","","","","","",""]
[326,"","","","","","","",""]
[327,"","","","","","","",""]
[328,"","","","","","","",""]
[329,"","","","","","","",""]