Workbook
Name Print_Area_1: #REF!
Name Print_Area_2: 'Nouveaux clients PROS'!$A$1:$R$51
Name Print_Area_3: 'Clients Pros sortants'!$A$1:$E$35
Name Print_Area_4: 'Volumétries par ES'!$B$1:$G$128

Sheet Devenus Actifs ND
A1: Direction Commerciale | B1: ES | C1: Libellé ES | D1: Nom Gestionnaire | E1: N° Personne | F1: Nom du client | G1: Client Présent M-1 | H1: Client Présent M | I1: ACTIFS ND M-1 | J1: ACTIFS ND M | K1: Code Marché | L1: Personnalité Juridique | M1: Nbre CCE | N1: Nbre Forfaits | O1: Nbre Carte Paiement | P1: SF TOT | Q1: Date arrivée | R1: Montant flux M | S1: Montant flux M-1 | T1: Montant flux M-2 | U1: Montant flux M-3 | V1: Montant flux M-4 | W1: Montant flux M-5 | X1: Montant flux M-6 | Y1: Montant flux M-7 | Z1: Montant flux M-8 | AA1: Montant flux M-9 | AB1: Montant flux M-10 | AC1: Montant flux M-11 | AD1: NB flux deb M | AE1: NB flux deb M-1 | AF1: NB flux deb M-2 | AG1: NB flux deb M-3 | AH1: NB flux deb M-4 | AI1: NB flux deb M-5 | AJ1: NB flux deb M-6 | AK1: NB flux deb M-7 | AL1: NB flux deb M-8 | AM1: NB flux deb M-9 | AN1: NB flux deb M-10 | AO1: NB flux deb M-11
A2: DIRECTION COMMERCIALE BAS RHIN | B2: 6 | C2: STRASBOURG NEUDORF | D2: M WEIBLE JEREMY | E2: 83231346 | F2: MARY JULIE | G2: 1 | H2: 1 | J2: 1 | K2: MN102102 | L2: P. Physique | M2: 2 | N2: 2 | O2: 2 | P2: 4603.26 | Q2: 36552 | R2: 5654.53 | S2: 3254.87 | T2: 2508.5 | U2: 200 | AD2: 10 | AE2: 3 | AF2: 6 | AG2: 1
A3: DIRECTION COMMERCIALE BAS RHIN | B3: 7 | C3: ILLKIRCH CENTRE | D3: M MAYER GUILLAUME | E3: 94128447 | F3: DLC DEVELOPPEMENT DES LEVIERS COMPORTEME | G3: 1 | H3: 1 | J3: 1 | K3: MN102202 | L3: P. Morale | M3: 2 | N3: 1 | O3: 0 | P3: 13614.75 | Q3: 43349 | R3: 16980 | S3: 10000 | AD3: 12 | AE3: 0
A4: DIRECTION COMMERCIALE BAS RHIN | B4: 7 | C4: ILLKIRCH CENTRE | D4: MME MARCALO CATIA | E4: 94082885 | F4: KELMENDI RENOVATION | G4: 1 | H4: 1 | J4: 1 | K4: MN102202 | L4: P. Morale | M4: 1 | N4: 1 | O4: 0 | P4: 1940.21 | Q4: 43292 | R4: 3100 | S4: 0 | T4: 0 | U4: 11000 | AD4: 13 | AE4: 12 | AF4: 1 | AG4: 0
A5: DIRECTION COMMERCIALE BAS RHIN | B5: 15 | C5: LINGOLSHEIM | D5: MME BARINA DRISSIA | E5: 83354203 | F5: ZAMBELLI CAMILLE | G5: 1 | H5: 1 | J5: 1 | K5: MN102102 | L5: P. Physique | M5: 1 | N5: 2 | O5: 2 | P5: 64342.15 | Q5: 34159 | R5: 6071.8 | S5: 11237.92 | T5: 9143.58 | U5: 6202.12 | V5: 3416 | AD5: 23 | AE5: 9 | AF5: 2 | AG5: 2 | AH5: 0
A6: DIRECTION COMMERCIALE BAS RHIN | B6: 15 | C6: LINGOLSHEIM | D6: MME BARINA DRISSIA | E6: 94034939 | F6: MME FORVEILLE LYNDA | G6: 1 | H6: 1 | J6: 1 | K6: MN102202 | L6: P. Physique | M6: 3 | N6: 1 | O6: 1 | P6: 63288.26 | Q6: 43285 | R6: 102050.17 | S6: 0 | T6: 3000 | U6: 75000 | AD6: 46 | AE6: 3 | AF6: 0 | AG6: 0
A7: DIRECTION COMMERCIALE BAS RHIN | B7: 18 | C7: ESPACE MESANGE | D7: M CASTELEYN VINCENT | E7: 93894698 | F7: LE BISTROT DES COCOTTES | G7: 1 | H7: 1 | J7: 1 | K7: MN102202 | L7: P. Morale | M7: 2 | N7: 1 | O7: 0 | P7: 39770.07 | Q7: 43294 | R7: 99504.22 | S7: 31000 | T7: 40500 | U7: 10000 | AD7: 28 | AE7: 3 | AF7: 1 | AG7: 0
A8: DIRECTION COMMERCIALE BAS RHIN | B8: 18 | C8: ESPACE MESANGE | D8: M STARCK Gaetan | E8: 93282799 | F8: 45 A MAIN STREET | G8: 1 | H8: 1 | J8: 1 | K8: MN102202 | L8: P. Morale | M8: 2 | N8: 1 | O8: 0 | P8: 13002.86 | Q8: 42508 | R8: 9369.67 | S8: 15403.15 | T8: 2315 | U8: 5840.54 | V8: 7730.18 | W8: 16846.03 | X8: 19934.31 | Y8: 16059.87 | Z8: 7444.58 | AA8: 12201.58 | AB8: 9779.42 | AC8: 18480.93 | AD8: 6 | AE8: 7 | AF8: 2 | AG8: 1 | AH8: 10 | AI8: 2 | AJ8: 8 | AK8: 3 | AL8: 6 | AM8: 14 | AN8: 11 | AO8: 13
A9: DIRECTION COMMERCIALE BAS RHIN | B9: 19 | C9: STRASBOURG ANVERS | D9: M GRATHWOHL Thierry | E9: 92590749 | F9: MDTECH | G9: 1 | H9: 1 | J9: 1 | K9: MN102202 | L9: P. Morale | M9: 2 | N9: 1 | O9: 0 | P9: 1782.18 | Q9: 41783 | R9: 3845 | S9: 9280 | T9: 400 | U9: 790 | V9: 492.6 | W9: 61 | X9: 1085 | Y9: 0 | Z9: 2000 | AA9: 4350 | AB9: 0 | AC9: 2200 | AD9: 86 | AE9: 73 | AF9: 19 | AG9: 16 | AH9: 30 | AI9: 11 | AJ9: 25 | AK9: 19 | AL9: 16 | AM9: 13 | AN9: 33 | AO9: 94
A10: DIRECTION COMMERCIALE BAS RHIN | B10: 19 | C10: STRASBOURG ANVERS | D10: M GRATHWOHL Thierry | E10: 93283637 | F10: AZUR IMMOBILER | G10: 1 | H10: 1 | J10: 1 | K10: MN102202 | L10: P. Morale | M10: 2 | N10: 1 | O10: 0 | P10: 35607.5 | Q10: 42460 | R10: 0 | S10: 890 | U10: 42000 | X10: 500 | Z10: 0 | AB10: 100 | AC10: 0 | AD10: 31 | AE10: 5 | AG10: 0 | AJ10: 0 | AL10: 1 | AN10: 0 | AO10: 1
A11: DIRECTION COMMERCIALE BAS RHIN | B11: 19 | C11: STRASBOURG ANVERS | D11: MLLE GAUTHIER-LAFAYE Muriel | E11: 82398824 | F11: SCI 57 A 2 B | G11: 1 | H11: 1 | J11: 1 | K11: MN102401 | L11: P. Morale | M11: 1 | N11: 0 | O11: 0 | P11: 4089.24 | Q11: 40115 | R11: 2420.6 | S11: 2420.6 | T11: 2420.6 | U11: 3920.6 | V11: 2420.6 | W11: 2420.6 | X11: 2720.6 | Y11: 2420.6 | Z11: 5541.38 | AA11: 2989.14 | AB11: 3340 | AC11: 2340 | AD11: 6 | AE11: 4 | AF11: 5 | AG11: 5 | AH11: 5 | AI11: 5 | AJ11: 5 | AK11: 5 | AL11: 7 | AM11: 7 | AN11: 4 | AO11: 5
A12: DIRECTION COMMERCIALE BAS RHIN | B12: 19 | C12: STRASBOURG ANVERS | D12: MLLE GAUTHIER-LAFAYE Muriel | E12: 83211617 | F12: MAETZ FABRICE JEAN - CLAUDE | G12: 1 | H12: 1 | J12: 1 | K12: MN102202 | L12: P. Physique | M12: 1 | N12: 2 | O12: 2 | P12: 11510.9 | Q12: 36305 | R12: 6977.98 | S12: 3609 | T12: 6200 | AD12: 24 | AE12: 6 | AF12: 3
A13: DIRECTION COMMERCIALE BAS RHIN | B13: 19 | C13: STRASBOURG ANVERS | D13: MLLE GAUTHIER-LAFAYE Muriel | E13: 93298223 | F13: SCI GAMMA VISION | G13: 1 | H13: 1 | J13: 1 | K13: MN102401 | L13: P. Morale | M13: 2 | N13: 1 | O13: 0 | P13: 505052.92 | Q13: 42537 | R13: 251946 | S13: 36222.89 | T13: 25000 | U13: 23000 | V13: 23000 | W13: 23000 | X13: 23000 | Y13: 23000 | Z13: 23996.42 | AA13: 23000 | AB13: 86000 | AC13: 3000 | AD13: 17 | AE13: 4 | AF13: 2 | AG13: 4 | AH13: 13 | AI13: 6 | AJ13: 10 | AK13: 5 | AL13: 11 | AM13: 9 | AN13: 15 | AO13: 15
A14: DIRECTION COMMERCIALE BAS RHIN | B14: 20 | C14: STRASBOURG ROBERTSAU | D14: M RICK Vincent | E14: 94074550 | F14: ADRIANA | G14: 1 | H14: 1 | J14: 1 | K14: MN102202 | L14: P. Morale | M14: 1 | N14: 1 | O14: 0 | P14: 11131.78 | Q14: 43280 | R14: 52500.33 | S14: 31755.18 | V14: 6000 | AD14: 52 | AE14: 8 | AH14: 0
A15: DIRECTION COMMERCIALE BAS RHIN | B15: 20 | C15: STRASBOURG ROBERTSAU | D15: MME BOUMADIANE FLORENCE | E15: 91242700 | F15: JULIEN PIERRE ROGER FRANCIS | G15: 1 | H15: 1 | J15: 1 | K15: MN102102 | L15: P. Physique | M15: 1 | N15: 2 | O15: 2 | P15: 9037.74 | Q15: 40821 | R15: 8026.29 | S15: 2012 | T15: 1072.42 | U15: 5564.2 | AD15: 12 | AE15: 5 | AF15: 5 | AG15: 3
A16: DIRECTION COMMERCIALE BAS RHIN | B16: 23 | C16: STRASBOURG VOSGES | D16: MLLE GAUTHIER-LAFAYE Muriel | E16: 83067002 | F16: GAUCHER PIERRE GUILLAUME | G16: 1 | H16: 1 | J16: 1 | K16: MN102202 | L16: P. Physique | M16: 1 | N16: 0 | O16: 0 | P16: 18786.83 | Q16: 28227 | R16: 10000 | S16: 0 | T16: 0 | U16: 0 | V16: 10500 | W16: 5157 | X16: 0 | Y16: 4292 | Z16: 0 | AA16: 5700 | AB16: 0 | AC16: 4500 | AD16: 7 | AE16: 5 | AF16: 4 | AG16: 5 | AH16: 5 | AI16: 6 | AJ16: 11 | AK16: 5 | AL16: 9 | AM16: 9 | AN16: 9 | AO16: 7
A17: DIRECTION COMMERCIALE BAS RHIN | B17: 24 | C17: STRASBOURG AUSTERLITZ | D17: M MONTAISE HERVE | E17: 91284169 | F17: MLLE BORDIER CORALIE | G17: 1 | H17: 1 | J17: 1 | K17: MN102202 | L17: P. Physique | M17: 1 | N17: 2 | O17: 2 | P17: 1148.52 | Q17: 40451 | R17: 3134.83 | S17: 1984.71 | T17: 957.9 | U17: 1595.71 | V17: 1299.44 | W17: 1858.67 | X17: 1917.23 | Y17: 2919.1 | Z17: 3135.2 | AA17: 1834 | AD17: 13 | AE17: 11 | AF17: 5 | AG17: 12 | AH17: 13 | AI17: 10 | AJ17: 12 | AK17: 15 | AL17: 15 | AM17: 6
A18: DIRECTION COMMERCIALE BAS RHIN | B18: 24 | C18: STRASBOURG AUSTERLITZ | D18: M WEIBLE JEREMY | E18: 92607917 | F18: MOBAL SARL | G18: 1 | H18: 1 | J18: 1 | K18: MN102202 | L18: P. Morale | M18: 2 | N18: 1 | O18: 0 | P18: 34709.93 | Q18: 41817 | R18: 1397.25 | S18: 1815.26 | T18: 1805.26 | U18: 1805.26 | V18: 1805.26 | W18: 4305.26 | X18: 4167.57 | Y18: 1796.41 | Z18: 1796.41 | AA18: 4296.41 | AB18: 3458.9 | AC18: 1796.41 | AD18: 10 | AE18: 6 | AF18: 3 | AG18: 4 | AH18: 3 | AI18: 3 | AJ18: 3 | AK18: 2 | AL18: 9 | AM18: 2 | AN18: 3 | AO18: 6
A19: DIRECTION COMMERCIALE BAS RHIN | B19: 24 | C19: STRASBOURG AUSTERLITZ | D19: M WEIBLE JEREMY | E19: 93363890 | F19: QSN | G19: 1 | H19: 1 | J19: 1 | K19: MN102402 | L19: P. Morale | M19: 2 | N19: 1 | O19: 0 | P19: 17189.27 | Q19: 42567 | R19: 2444.9 | S19: 2444.9 | T19: 2444.9 | U19: 8900 | V19: 4889.8 | W19: 2444.9 | X19: 2444.9 | Y19: 2444.9 | Z19: 2570.53 | AA19: 2444.9 | AB19: 2422.32 | AC19: 2422.32 | AD19: 6 | AE19: 5 | AF19: 4 | AG19: 3 | AH19: 7 | AI19: 7 | AJ19: 4 | AK19: 3 | AL19: 3 | AM19: 4 | AN19: 2 | AO19: 4
A20: DIRECTION COMMERCIALE BAS RHIN | B20: 25 | C20: STRASBOURG ESPLANADE | E20: 94130358 | F20: TK PRESTATIONS | G20: 1 | H20: 1 | J20: 1 | K20: MN102202 | L20: P. Morale | M20: 2 | N20: 1 | O20: 0 | P20: 4796.22 | Q20: 43350 | R20: 5432 | S20: 10223.35 | AD20: 13 | AE20: 0
A21: DIRECTION COMMERCIALE BAS RHIN | B21: 25 | C21: STRASBOURG ESPLANADE | D21: M DAVID Didier | E21: 94125521 | F21: S.P.I - SOCIETE DE PLATRERIE & D'ISOLATI | G21: 1 | H21: 1 | J21: 1 | K21: MN102202 | L21: P. Morale | M21: 2 | N21: 1 | O21: 0 | P21: 21297.16 | Q21: 43348 | R21: 12324 | S21: 17050 | AD21: 16 | AE21: 3
A22: DIRECTION COMMERCIALE BAS RHIN | B22: 26 | C22: STRASBOURG DANUBE | D22: MME PIERQUIN SONIA | E22: 83391303 | F22: STOEHR STEPHANE | G22: 1 | H22: 1 | J22: 1 | K22: MN102202 | L22: P. Physique | M22: 1 | N22: 2 | O22: 2 | P22: 1201.04 | Q22: 39122 | R22: 14840.5 | S22: 3454.86 | T22: 2286.3 | U22: 1190 | V22: 76 | W22: 214 | X22: 776 | Y22: 2200 | Z22: 993.5 | AA22: 1971 | AB22: 1581 | AC22: 3415 | AD22: 31 | AE22: 18 | AF22: 33 | AG22: 8 | AH22: 2 | AI22: 7 | AJ22: 3 | AK22: 18 | AL22: 11 | AM22: 20 | AN22: 18 | AO22: 36
A23: DIRECTION COMMERCIALE BAS RHIN | B23: 27 | C23: SCHILTIGHEIM CENTRE | D23: M PAGNIER STEPHANE | E23: 94150615 | F23: G.F.A CONSTRUCTION | G23: 1 | H23: 1 | J23: 1 | K23: MN102202 | L23: P. Morale | M23: 2 | N23: 1 | O23: 0 | P23: 5326.72 | Q23: 43372 | R23: 49061.2 | AD23: 38
A24: DIRECTION COMMERCIALE BAS RHIN | B24: 28 | C24: BISCHHEIM | D24: M PAGNIER STEPHANE | E24: 93626253 | F24: CONCEPT DOMOTIK SARL | G24: 1 | H24: 1 | J24: 1 | K24: MN102202 | L24: P. Morale | M24: 2 | N24: 1 | O24: 0 | P24: 18852.33 | Q24: 42829 | R24: 7244.68 | S24: 4300 | T24: 0 | U24: 1744.61 | V24: 998.78 | W24: 284.38 | X24: 500 | Y24: 2000 | Z24: 3863.7 | AA24: 15954.82 | AB24: 2600 | AC24: 8729.41 | AD24: 11 | AE24: 6 | AF24: 5 | AG24: 3 | AH24: 6 | AI24: 8 | AJ24: 9 | AK24: 7 | AL24: 7 | AM24: 8 | AN24: 11 | AO24: 13
A25: DIRECTION COMMERCIALE BAS RHIN | B25: 29 | C25: SCHILTIGHEIM KLEBER | D25: M PAGNIER STEPHANE | E25: 91692076 | F25: VG | G25: 1 | H25: 1 | J25: 1 | K25: MN102401 | L25: P. Morale | M25: 1 | N25: 0 | O25: 0 | P25: 6216.33 | Q25: 40843 | R25: 3000 | S25: 3824.71 | T25: 3000 | U25: 3240 | V25: 3480 | W25: 6340 | X25: 3000 | Y25: 3240 | Z25: 3480 | AA25: 3000 | AB25: 3000 | AC25: 3480 | AD25: 6 | AE25: 5 | AF25: 4 | AG25: 5 | AH25: 3 | AI25: 7 | AJ25: 3 | AK25: 3 | AL25: 1 | AM25: 3 | AN25: 3 | AO25: 3
A26: DIRECTION COMMERCIALE BAS RHIN | B26: 29 | C26: SCHILTIGHEIM KLEBER | D26: M PAGNIER STEPHANE | E26: 94131584 | F26: MWF | G26: 1 | H26: 1 | J26: 1 | K26: MN102202 | L26: P. Morale | M26: 3 | N26: 1 | O26: 0 | P26: 8615.54 | Q26: 43351 | R26: 7559 | S26: 7946.01 | AD26: 39 | AE26: 1
A27: DIRECTION COMMERCIALE BAS RHIN | B27: 30 | C27: BRUMATH | D27: M KOCH JONATHAN | E27: 94078834 | F27: LE CLAN DIGITAL | G27: 1 | H27: 1 | J27: 1 | K27: MN102202 | L27: P. Morale | M27: 2 | N27: 1 | O27: 0 | P27: 18999.19 | Q27: 43285 | R27: 7232 | S27: 2448 | U27: 15000 | AD27: 7 | AE27: 9 | AG27: 0
A28: DIRECTION COMMERCIALE BAS RHIN | B28: 30 | C28: BRUMATH | D28: M KOCH JONATHAN | E28: 94128377 | F28: WR PRODUCTS | G28: 1 | H28: 1 | J28: 1 | K28: MN102202 | L28: P. Morale | M28: 3 | N28: 1 | O28: 0 | P28: 13060.39 | Q28: 43349 | R28: 214.42 | S28: 22457.26 | AD28: 30 | AE28: 3
A29: DIRECTION COMMERCIALE BAS RHIN | B29: 31 | C29: TRUCHTERSHEIM | E29: 82527057 | F29: RETTIG JEAN GEORGES | G29: 1 | H29: 1 | J29: 1 | K29: MN102202 | L29: P. Physique | M29: 1 | N29: 1 | O29: 1 | P29: 11441.15 | Q29: 35236 | R29: 4955 | S29: 0 | T29: 0 | U29: 3900 | V29: 3500 | W29: 8602.43 | AD29: 8 | AE29: 4 | AF29: 7 | AG29: 1 | AH29: 6 | AI29: 0
A30: DIRECTION COMMERCIALE BAS RHIN | B30: 31 | C30: TRUCHTERSHEIM | D30: M KOEHLER CEDRIC | E30: 82378600 | F30: SCI BECQUEREL | G30: 1 | H30: 1 | J30: 1 | K30: MN102401 | L30: P. Morale | M30: 1 | N30: 0 | O30: 0 | P30: 8171.16 | Q30: 32150 | R30: 11744.3 | S30: 3550 | T30: 3550 | U30: 3550 | V30: 3550 | W30: 3550 | X30: 3550 | Y30: 3550 | Z30: 3550 | AA30: 3550 | AB30: 4190 | AC30: 6730.7 | AD30: 6 | AE30: 5 | AF30: 4 | AG30: 5 | AH30: 5 | AI30: 6 | AJ30: 4 | AK30: 6 | AL30: 5 | AM30: 5 | AN30: 7 | AO30: 5
A31: DIRECTION COMMERCIALE BAS RHIN | B31: 34 | C31: VENDENHEIM | D31: M GOETZ Sylvain | E31: 83211791 | F31: WURCH OLIVIER ALEXANDRE | G31: 1 | H31: 1 | J31: 1 | K31: MN102102 | L31: P. Physique | M31: 2 | N31: 2 | O31: 1 | P31: 16520.07 | Q31: 36285 | R31: 2699 | S31: 8236.66 | AD31: 11 | AE31: 0
A32: DIRECTION COMMERCIALE BAS RHIN | B32: 38 | C32: OBERHAUSBERGEN | D32: M WOELFFEL Thierry | E32: 93908912 | F32: FIBEST | G32: 1 | H32: 1 | J32: 1 | K32: MN102202 | L32: P. Morale | M32: 1 | N32: 1 | O32: 0 | P32: 10857.93 | Q32: 43089 | R32: 16000 | S32: 0 | T32: 8000 | U32: 8239 | V32: 0 | AB32: 2000 | AD32: 12 | AE32: 14 | AF32: 17 | AG32: 11 | AH32: 5 | AN32: 0
A33: DIRECTION COMMERCIALE BAS RHIN | B33: 45 | C33: STRASBOURG FRANCS BOURGEOIS | D33: M BUCHER SEBASTIEN | E33: 82529974 | F33: VIVIEN BENJAMIN | G33: 1 | H33: 1 | J33: 1 | K33: MN102102 | L33: P. Physique | M33: 2 | N33: 2 | O33: 1 | P33: 26739.66 | Q33: 32129 | R33: 7684.61 | S33: 3766.16 | T33: 2143.16 | U33: 5826.54 | V33: 3448.63 | W33: 2777.09 | X33: 1501.1 | Y33: 862.87 | Z33: 695.78 | AA33: 206.96 | AB33: 885.06 | AD33: 6 | AE33: 6 | AF33: 6 | AG33: 8 | AH33: 7 | AI33: 4 | AJ33: 1 | AK33: 1 | AL33: 1 | AM33: 0 | AN33: 1
A34: DIRECTION COMMERCIALE BAS RHIN | B34: 45 | C34: STRASBOURG FRANCS BOURGEOIS | D34: M LIENHARDT MICHEL | E34: 93379213 | F34: SALCEA | G34: 1 | H34: 1 | J34: 1 | K34: MN102202 | L34: P. Morale | M34: 1 | N34: 1 | O34: 0 | P34: 101910.46 | Q34: 42808 | R34: 179038.92 | S34: 30833.17 | T34: 48296.05 | U34: 38474.23 | V34: 53538.55 | W34: 63323.38 | X34: 50976.45 | Y34: 68201.73 | Z34: 26573.77 | AA34: 46212.85 | AB34: 37966.85 | AC34: 56754.14 | AD34: 13 | AE34: 1 | AF34: 3 | AG34: 3 | AH34: 1 | AI34: 6 | AJ34: 0 | AK34: 3 | AL34: 1 | AM34: 2 | AN34: 0 | AO34: 2
A35: DIRECTION COMMERCIALE BAS RHIN | B35: 45 | C35: STRASBOURG FRANCS BOURGEOIS | D35: M LIENHARDT MICHEL | E35: 94006214 | F35: SCI HELENE | G35: 1 | H35: 1 | J35: 1 | K35: MN102401 | L35: P. Morale | M35: 1 | N35: 1 | O35: 0 | P35: 1464.07 | Q35: 43200 | R35: 4040.8 | S35: 3250 | T35: 5073.22 | U35: 8153.22 | V35: 5380 | W35: 420 | X35: 2000 | AD35: 8 | AE35: 1 | AF35: 7 | AG35: 3 | AH35: 4 | AI35: 4 | AJ35: 0
A36: DIRECTION COMMERCIALE BAS RHIN | B36: 47 | C36: STRASBOURG CRONENBOURG | D36: M ZOUARI AISSA | E36: 94095499 | F36: AMBITION THD | G36: 1 | H36: 1 | J36: 1 | K36: MN102202 | L36: P. Morale | M36: 2 | N36: 1 | O36: 0 | P36: 14109.56 | Q36: 43305 | R36: 100 | S36: 10000 | T36: 1000 | U36: 10000 | AD36: 12 | AE36: 14 | AF36: 0 | AG36: 0
A37: DIRECTION COMMERCIALE BAS RHIN | B37: 48 | C37: STRASBOURG KOENIGSHOFFEN | D37: M ZOUARI AISSA | E37: 94062451 | F37: TRANSIT EST | G37: 1 | H37: 1 | J37: 1 | K37: MN102202 | L37: P. Morale | M37: 1 | N37: 1 | O37: 0 | P37: 26905.2 | Q37: 43283 | R37: 1260 | U37: 29000 | AD37: 10 | AG37: 0
A38: DIRECTION COMMERCIALE BAS RHIN | B38: 48 | C38: STRASBOURG KOENIGSHOFFEN | D38: M ZOUARI AISSA | E38: 94100805 | F38: GOUROU | G38: 1 | H38: 1 | J38: 1 | K38: MN102202 | L38: P. Morale | M38: 2 | N38: 1 | O38: 0 | P38: -2131.15 | Q38: 43328 | R38: 27332.13 | S38: 0 | AD38: 49 | AE38: 4
A39: DIRECTION COMMERCIALE BAS RHIN | B39: 54 | C39: STRASBOURG MONTAGNE VERTE | D39: M KOEHLER CEDRIC | E39: 82383681 | F39: CHRISTOPHE NORTH | G39: 1 | H39: 1 | J39: 1 | K39: MN102202 | L39: P. Morale | M39: 1 | N39: 1 | O39: 0 | P39: -77.55 | Q39: 35020 | R39: 10126.66 | S39: 5786.39 | T39: 4573.88 | U39: 3531.5 | V39: 5602.05 | W39: 4697.88 | X39: 7090.7 | Y39: 4966.7 | Z39: 8078.53 | AA39: 6286.24 | AB39: 6166.23 | AC39: 4939.44 | AD39: 6 | AE39: 5 | AF39: 4 | AG39: 4 | AH39: 7 | AI39: 6 | AJ39: 8 | AK39: 8 | AL39: 3 | AM39: 9 | AN39: 5 | AO39: 7
A40: DIRECTION COMMERCIALE BAS RHIN | B40: 60 | C40: HAGUENAU HOUBLON | D40: MLLE BOEYKENS AUDREY | E40: 82390695 | F40: PIERRE INVEST | G40: 1 | H40: 1 | J40: 1 | K40: MN102401 | L40: P. Morale | M40: 2 | N40: 0 | O40: 0 | P40: 394644.3 | Q40: 37281 | R40: 0 | S40: 0 | T40: 0 | U40: 0 | V40: 0 | W40: 0 | X40: 2645 | Y40: 0 | Z40: 0 | AA40: 1200 | AB40: 0 | AC40: 341756.97 | AD40: 6 | AE40: 4 | AF40: 5 | AG40: 1 | AH40: 5 | AI40: 15 | AJ40: 5 | AK40: 5 | AL40: 5 | AM40: 6 | AN40: 5 | AO40: 9
...

Sheet Sorties Actifs ND
A1: Direction Commerciale | B1: ES | C1: Libellé ES | D1: Nom Gestionnaire | E1: N° Personne | F1: Nom du client | G1: Client Présent M-1 | H1: Client Présent M | I1: ACTIFS ND M-1 | J1: ACTIFS ND M | K1: Code Marché | L1: Personnalité Juridique | M1: Nbre CCE | N1: Nbre Forfaits | O1: Nbre Carte Paiement | P1: SF TOT | Q1: Date arrivée | R1: Montant flux M | S1: Montant flux M-1 | T1: Montant flux M-2 | U1: Montant flux M-3 | V1: Montant flux M-4 | W1: Montant flux M-5 | X1: Montant flux M-6 | Y1: Montant flux M-7 | Z1: Montant flux M-8 | AA1: Montant flux M-9 | AB1: Montant flux M-10 | AC1: Montant flux M-11 | AD1: NB flux deb M | AE1: NB flux deb M-1 | AF1: NB flux deb M-2 | AG1: NB flux deb M-3 | AH1: NB flux deb M-4 | AI1: NB flux deb M-5 | AJ1: NB flux deb M-6 | AK1: NB flux deb M-7 | AL1: NB flux deb M-8 | AM1: NB flux deb M-9 | AN1: NB flux deb M-10 | AO1: NB flux deb M-11
A2: DIRECTION COMMERCIALE BAS RHIN | B2: 6 | C2: STRASBOURG NEUDORF | D2: M GROSS Olivier | E2: 82453434 | F2: MIEHE MARIE | G2: 1 | H2: 1 | I2: 1 | K2: MN102102 | L2: P. Physique | M2: 1 | N2: 1 | O2: 0 | P2: 155056.37 | Q2: 31686 | R2: 6724 | S2: 4880.13 | T2: 4968.58 | U2: 6736.65 | V2: 9466.54 | W2: 7048.61 | X2: 8841.73 | Y2: 7691.63 | Z2: 6146.33 | AA2: 6731.37 | AB2: 3935.68 | AC2: 6522.48 | AD2: 5 | AE2: 3 | AF2: 6 | AG2: 8 | AH2: 8 | AI2: 7 | AJ2: 8 | AK2: 8 | AL2: 7 | AM2: 9 | AN2: 5 | AO2: 7
A3: DIRECTION COMMERCIALE BAS RHIN | B3: 6 | C3: STRASBOURG NEUDORF | D3: M GROSS Olivier | E3: 82727349 | F3: WENDLING OLIVIER | G3: 1 | H3: 1 | I3: 1 | K3: MN102102 | L3: P. Physique | M3: 1 | N3: 2 | O3: 1 | P3: 74540.69 | Q3: 33234 | R3: 9.68 | S3: 3062.85 | T3: 1897.53 | U3: 8943.11 | V3: 11467.2 | W3: 25920.56 | X3: 9744.27 | Y3: 6424.62 | Z3: 10439.69 | AA3: 14125.88 | AB3: 10116.42 | AC3: 3981 | AD3: 2 | AE3: 4 | AF3: 6 | AG3: 8 | AH3: 2 | AI3: 7 | AJ3: 4 | AK3: 11 | AL3: 5 | AM3: 8 | AN3: 5 | AO3: 3
A4: DIRECTION COMMERCIALE BAS RHIN | B4: 6 | C4: STRASBOURG NEUDORF | D4: M GROSS Olivier | E4: 91167350 | F4: BIENAIME EUGENIE LUCIE FRANCOISE | G4: 1 | H4: 1 | I4: 1 | K4: MN102202 | L4: P. Physique | M4: 1 | N4: 2 | O4: 1 | P4: 755.61 | Q4: 40344 | R4: 3233.01 | S4: 4713.18 | T4: 2192.16 | U4: 4013.48 | V4: 6029.41 | W4: 3473.27 | X4: 3007.7 | Y4: 2495.45 | Z4: 2568.56 | AA4: 4429.82 | AB4: 3210.56 | AC4: 2362.55 | AD4: 5 | AE4: 3 | AF4: 5 | AG4: 12 | AH4: 7 | AI4: 15 | AJ4: 11 | AK4: 8 | AL4: 10 | AM4: 12 | AN4: 10 | AO4: 8
A5: DIRECTION COMMERCIALE BAS RHIN | B5: 6 | C5: STRASBOURG NEUDORF | D5: M GROSS Olivier | E5: 93839860 | F5: NH TRANSPORTS | G5: 1 | H5: 1 | I5: 1 | K5: MN102202 | L5: P. Morale | M5: 1 | N5: 1 | O5: 0 | P5: 46876.4 | Q5: 43014 | R5: 10224 | S5: 0 | T5: 15905 | U5: 7884 | V5: 0 | W5: 15096 | X5: 1152 | Y5: 0 | AD5: 3 | AE5: 4 | AF5: 4 | AG5: 7 | AH5: 8 | AI5: 8 | AJ5: 7 | AK5: 2
A6: DIRECTION COMMERCIALE BAS RHIN | B6: 6 | C6: STRASBOURG NEUDORF | D6: M WEIBLE JEREMY | E6: 92962331 | F6: NGUYEN HOANG LAN ANNIE | G6: 1 | H6: 1 | I6: 1 | K6: MN102102 | L6: P. Physique | M6: 1 | N6: 2 | O6: 1 | P6: 107700.8 | Q6: 42206 | R6: 6890.13 | S6: 1192.24 | T6: 11515.45 | U6: 9698.89 | V6: 7941.72 | W6: 8094.96 | X6: 9797.51 | Y6: 7845.5 | Z6: 9865.75 | AA6: 8344.27 | AB6: 8238.2 | AC6: 9379.79 | AD6: 2 | AE6: 7 | AF6: 5 | AG6: 6 | AH6: 3 | AI6: 4 | AJ6: 5 | AK6: 7 | AL6: 7 | AM6: 9 | AN6: 13 | AO6: 9
A7: DIRECTION COMMERCIALE BAS RHIN | B7: 7 | C7: ILLKIRCH CENTRE | D7: M AUTIXIERE Dimitri | E7: 83097541 | F7: ROTH PEGGY | G7: 1 | H7: 1 | I7: 1 | K7: MN102102 | L7: P. Physique | M7: 1 | N7: 0 | O7: 1 | P7: 58188.29 | Q7: 32094 | R7: 1642 | S7: 1879 | T7: 1794 | U7: 2311 | V7: 2620 | W7: 1961 | X7: 2162 | Y7: 1910 | Z7: 2158 | AA7: 1216 | AB7: 2269 | AC7: 1975 | AD7: 6 | AE7: 8 | AF7: 7 | AG7: 9 | AH7: 8 | AI7: 7 | AJ7: 8 | AK7: 10 | AL7: 7 | AM7: 9 | AN7: 5 | AO7: 7
A8: DIRECTION COMMERCIALE BAS RHIN | B8: 7 | C8: ILLKIRCH CENTRE | D8: MME LOBSTEIN LAETITIA | E8: 82389123 | F8: A.M.A. AACHOUR SARL | G8: 1 | H8: 1 | I8: 1 | K8: MN102202 | L8: P. Morale | M8: 2 | N8: 1 | O8: 0 | P8: 844.37 | Q8: 40816 | R8: 23.33 | S8: 0 | T8: 7683.89 | U8: 0 | V8: 470.4 | W8: 0 | X8: 5000 | Y8: 10866.83 | Z8: 46666.92 | AA8: 7561.67 | AB8: 30002 | AC8: 26768.83 | AD8: 6 | AE8: 4 | AF8: 4 | AG8: 7 | AH8: 3 | AI8: 6 | AJ8: 5 | AK8: 8 | AL8: 8 | AM8: 13 | AN8: 12 | AO8: 18
A9: DIRECTION COMMERCIALE BAS RHIN | B9: 8 | C9: FEGERSHEIM | D9: MME MARCALO CATIA | E9: 82469841 | F9: SOLT ERIC | G9: 1 | H9: 1 | I9: 1 | K9: MN102102 | L9: P. Physique | M9: 2 | N9: 2 | O9: 2 | P9: 100842.54 | Q9: 33259 | R9: 15468.5 | S9: 18668 | T9: 16160 | U9: 12940 | V9: 16465 | W9: 7175 | X9: 24935.61 | Y9: 21670 | Z9: 226540 | AA9: 14789.9 | AB9: 19120 | AC9: 7356.1 | AD9: 4 | AE9: 3 | AF9: 6 | AG9: 7 | AH9: 7 | AI9: 9 | AJ9: 11 | AK9: 10 | AL9: 8 | AM9: 9 | AN9: 5 | AO9: 7
A10: DIRECTION COMMERCIALE BAS RHIN | B10: 8 | C10: FEGERSHEIM | D10: MME MARCALO CATIA | E10: 92211236 | F10: RESTO'PRISE | G10: 1 | H10: 1 | I10: 1 | K10: MN102202 | L10: P. Morale | M10: 1 | N10: 0 | O10: 0 | P10: 236.2 | Q10: 41374 | R10: 734.63 | S10: 34 | T10: 9983.6 | U10: 14050.29 | V10: 20002.41 | W10: 11409.28 | X10: 15138.52 | Y10: 15806.41 | Z10: 15800.07 | AA10: 16639.14 | AB10: 14430.24 | AC10: 17572.81 | AD10: 2 | AE10: 2 | AF10: 4 | AG10: 43 | AH10: 51 | AI10: 31 | AJ10: 44 | AK10: 43 | AL10: 48 | AM10: 43 | AN10: 39 | AO10: 38
A11: DIRECTION COMMERCIALE BAS RHIN | B11: 14 | C11: OSTWALD | D11: MME JASAREVIC SANELA | E11: 92478484 | F11: KAYSERI SARL | G11: 1 | H11: 1 | I11: 1 | K11: MN102202 | L11: P. Morale | M11: 2 | N11: 1 | O11: 0 | P11: 64769.31 | Q11: 41681 | R11: 0 | S11: 0 | T11: 0 | U11: 0 | V11: 0 | W11: 0 | X11: 0 | Y11: 0 | Z11: 0 | AA11: 0 | AB11: 4 | AC11: 0 | AD11: 1 | AE11: 1 | AF11: 8 | AG11: 8 | AH11: 9 | AI11: 1 | AJ11: 3 | AK11: 3 | AL11: 4 | AM11: 1 | AN11: 1 | AO11: 2
A12: DIRECTION COMMERCIALE BAS RHIN | B12: 15 | C12: LINGOLSHEIM | D12: MME MARCALO CATIA | E12: 83108760 | F12: BRAIEK ALEXANDRE | G12: 1 | H12: 1 | I12: 1 | K12: MN102202 | L12: P. Physique | M12: 1 | N12: 3 | O12: 1 | P12: 25300.71 | Q12: 36997 | R12: 4982.2 | S12: 5241.3 | T12: 1839 | U12: 7252.9 | V12: 3216.08 | W12: 3098.5 | X12: 3984.2 | Y12: 2783 | Z12: 9843.43 | AA12: 6490.15 | AB12: 6762.3 | AC12: 5481.85 | AD12: 3 | AE12: 3 | AF12: 5 | AG12: 8 | AH12: 4 | AI12: 4 | AJ12: 8 | AK12: 3 | AL12: 5 | AM12: 6 | AN12: 8 | AO12: 4
A13: DIRECTION COMMERCIALE BAS RHIN | B13: 15 | C13: LINGOLSHEIM | D13: MME MARCALO CATIA | E13: 91451410 | F13: TRANSPORTS ALBERT EURL | G13: 1 | H13: 1 | I13: 1 | K13: MN102202 | L13: P. Morale | M13: 2 | N13: 1 | O13: 0 | P13: 8173.72 | Q13: 40606 | R13: 8000 | S13: 0 | T13: 0 | U13: 2673.6 | V13: 4083.8 | W13: 5612.6 | X13: 3234 | Y13: 8908.5 | Z13: 2646 | AA13: 6338.2 | AB13: 6639 | AC13: 10483.2 | AD13: 5 | AE13: 5 | AF13: 4 | AG13: 7 | AH13: 17 | AI13: 10 | AJ13: 27 | AK13: 29 | AL13: 30 | AM13: 30 | AN13: 30 | AO13: 32
A14: DIRECTION COMMERCIALE BAS RHIN | B14: 18 | C14: ESPACE MESANGE | D14: M CASTELEYN VINCENT | E14: 93412417 | F14: IMMEUBLE PRIVE | G14: 1 | H14: 1 | I14: 1 | K14: MN102102 | L14: P. Morale | M14: 1 | N14: 1 | O14: 0 | P14: -3224.11 | Q14: 42614 | R14: 500 | S14: 3000 | T14: 6500 | U14: 0 | V14: 2000 | W14: 3884 | X14: 2500 | Y14: 5000 | Z14: 5000 | AA14: 10500 | AB14: 0 | AC14: 16680.11 | AD14: 3 | AE14: 5 | AF14: 5 | AG14: 9 | AH14: 4 | AI14: 6 | AJ14: 10 | AK14: 4 | AL14: 7 | AM14: 16 | AN14: 3 | AO14: 7
A15: DIRECTION COMMERCIALE BAS RHIN | B15: 18 | C15: ESPACE MESANGE | D15: M CASTELEYN VINCENT | E15: 93436122 | F15: SCI KIRCHER | G15: 1 | H15: 1 | I15: 1 | K15: MN102401 | L15: P. Morale | M15: 1 | N15: 1 | O15: 0 | P15: 2904.9 | Q15: 42656 | R15: 7071 | S15: 6111 | T15: 4431 | U15: 6791 | V15: 19401 | W15: 4891 | X15: 4891 | Y15: 5611 | Z15: 5131 | AA15: 14676 | AB15: 918 | AC15: 918 | AD15: 5 | AE15: 5 | AF15: 2 | AG15: 11 | AH15: 2 | AI15: 6 | AJ15: 4 | AK15: 3 | AL15: 3 | AM15: 11 | AN15: 4 | AO15: 0
A16: DIRECTION COMMERCIALE BAS RHIN | B16: 18 | C16: ESPACE MESANGE | D16: M CASTELEYN VINCENT | E16: 94004092 | F16: RASCASSE SAS | G16: 1 | H16: 1 | I16: 1 | K16: MN102202 | L16: P. Morale | M16: 1 | N16: 1 | O16: 0 | P16: 4512.03 | Q16: 43196 | R16: 0 | S16: 0 | T16: 0 | U16: 0 | AD16: 4 | AE16: 5 | AF16: 4 | AG16: 13
A17: DIRECTION COMMERCIALE BAS RHIN | B17: 18 | C17: ESPACE MESANGE | D17: M CASTELEYN VINCENT | E17: 94028679 | F17: VILLA BLANCA | G17: 1 | H17: 1 | I17: 1 | K17: MN102202 | L17: P. Morale | M17: 2 | N17: 1 | O17: 0 | P17: 17694.22 | Q17: 43258 | R17: 0 | S17: 16756 | T17: 0 | U17: 32000 | V17: 10000 | AD17: 1 | AE17: 8 | AF17: 3 | AG17: 7 | AH17: 0
A18: DIRECTION COMMERCIALE BAS RHIN | B18: 18 | C18: ESPACE MESANGE | D18: M STARCK Gaetan | E18: 93188962 | F18: AVENIR & BOIS | G18: 1 | H18: 1 | I18: 1 | K18: MN102202 | L18: P. Morale | M18: 1 | N18: 1 | O18: 0 | P18: 64.73 | Q18: 43158 | S18: 5000 | T18: 1500 | U18: 9651.82 | V18: 4608.86 | AE18: 2 | AF18: 1 | AG18: 13 | AH18: 1
A19: DIRECTION COMMERCIALE BAS RHIN | B19: 18 | C19: ESPACE MESANGE | D19: M STARCK Gaetan | E19: 93803809 | F19: SCI DU 2 RUE SAINT-GILLES | G19: 1 | H19: 1 | I19: 1 | K19: MN102401 | L19: P. Morale | M19: 1 | N19: 1 | O19: 0 | P19: 46603.07 | Q19: 42998 | R19: 0 | S19: 0 | T19: 0 | U19: 0 | V19: 0 | W19: 0 | X19: 0 | Y19: 0 | Z19: 0 | AA19: 0 | AB19: 0 | AD19: 1 | AE19: 6 | AF19: 4 | AG19: 6 | AH19: 7 | AI19: 7 | AJ19: 3 | AK19: 12 | AL19: 1 | AM19: 4 | AN19: 3
A20: DIRECTION COMMERCIALE BAS RHIN | B20: 18 | C20: ESPACE MESANGE | D20: MME CRAVTOV ELENA | E20: 82386470 | F20: SCI LE FLORAC | G20: 1 | H20: 1 | I20: 1 | K20: MN102401 | L20: P. Morale | M20: 1 | N20: 0 | O20: 0 | P20: 91038.34 | Q20: 35320 | R20: 5735.85 | S20: 4305 | T20: 4103.55 | U20: 4504.81 | V20: 3425 | W20: 6155.55 | X20: 6942.1 | Y20: 5995 | Z20: 5853.55 | AA20: 6669.84 | AB20: 6320 | AC20: 6263.55 | AD20: 7 | AE20: 5 | AF20: 1 | AG20: 12 | AH20: 4 | AI20: 2 | AJ20: 2 | AK20: 2 | AL20: 4 | AM20: 3 | AN20: 6 | AO20: 4
A21: DIRECTION COMMERCIALE BAS RHIN | B21: 19 | C21: STRASBOURG ANVERS | D21: MLLE GAUTHIER-LAFAYE Muriel | E21: 82389319 | F21: PHARMACIE DE L EUROPE | G21: 1 | H21: 1 | I21: 1 | K21: MN102102 | L21: P. Morale | M21: 1 | N21: 0 | O21: 0 | P21: 1508.28 | Q21: 36818 | R21: 13.9 | S21: 0 | T21: 428.39 | U21: 6127.69 | V21: 129.7 | W21: 3320.35 | X21: 5557.7 | Y21: 3048.66 | Z21: 4644.08 | AA21: 9152.62 | AB21: 174.19 | AC21: 3868.3 | AD21: 4 | AE21: 3 | AF21: 6 | AG21: 6 | AH21: 4 | AI21: 6 | AJ21: 8 | AK21: 8 | AL21: 10 | AM21: 14 | AN21: 3 | AO21: 15
A22: DIRECTION COMMERCIALE BAS RHIN | B22: 19 | C22: STRASBOURG ANVERS | D22: MLLE GAUTHIER-LAFAYE Muriel | E22: 82466111 | F22: ZIMMERMANN ALEXANDRE | G22: 1 | H22: 1 | I22: 1 | K22: MN102102 | L22: P. Physique | M22: 1 | N22: 3 | O22: 1 | P22: 3512.55 | Q22: 26368 | R22: 6002.49 | S22: 7101.1 | T22: 6794.1 | U22: 14209.1 | V22: 11961.1 | W22: 18906.64 | X22: 12869.94 | Y22: 17359.39 | Z22: 24067.18 | AA22: 34074.5 | AB22: 2285.55 | AC22: 6427.55 | AD22: 3 | AE22: 3 | AF22: 8 | AG22: 6 | AH22: 9 | AI22: 9 | AJ22: 6 | AK22: 9 | AL22: 13 | AM22: 13 | AN22: 6 | AO22: 4
A23: DIRECTION COMMERCIALE BAS RHIN | B23: 19 | C23: STRASBOURG ANVERS | D23: MLLE GAUTHIER-LAFAYE Muriel | E23: 93610983 | F23: SCI ESPACE | G23: 1 | H23: 1 | I23: 1 | K23: MN102402 | L23: P. Morale | M23: 1 | N23: 1 | O23: 0 | P23: 5825.55 | Q23: 42777 | R23: 12165.98 | S23: 8521.88 | T23: 8521.88 | U23: 8521.88 | V23: 8521.88 | W23: 8521.88 | X23: 8521.88 | Y23: 8521.88 | Z23: 8521.88 | AA23: 8521.88 | AB23: 8521.88 | AC23: 8521.88 | AD23: 4 | AE23: 4 | AF23: 4 | AG23: 8 | AH23: 4 | AI23: 9 | AJ23: 4 | AK23: 3 | AL23: 8 | AM23: 3 | AN23: 6 | AO23: 5
A24: DIRECTION COMMERCIALE BAS RHIN | B24: 19 | C24: STRASBOURG ANVERS | D24: MLLE GAUTHIER-LAFAYE Muriel | E24: 93899849 | F24: SCI QIGU | G24: 1 | H24: 1 | I24: 1 | K24: MN102401 | L24: P. Morale | M24: 1 | N24: 1 | O24: 0 | P24: 768.87 | Q24: 43082 | R24: 24475.76 | S24: 61808.8 | T24: 2975.76 | U24: 49353.94 | V24: 21500 | W24: 16245.64 | Z24: 13000 | AA24: 2000 | AD24: 1 | AE24: 5 | AF24: 0 | AG24: 10 | AH24: 2 | AI24: 4 | AL24: 2 | AM24: 0
A25: DIRECTION COMMERCIALE BAS RHIN | B25: 20 | C25: STRASBOURG ROBERTSAU | D25: MME MRIOUD NORA | E25: 92942699 | F25: KOCBAY DURMUS | G25: 1 | H25: 1 | I25: 1 | K25: MN102202 | L25: P. Physique | M25: 1 | N25: 1 | O25: 0 | P25: 1115.85 | Q25: 42186 | R25: 2750 | S25: 1023 | T25: 840 | U25: 4096.69 | V25: 8674.91 | W25: 0 | X25: 5380 | Y25: 0 | Z25: 0 | AA25: 15700 | AB25: 0 | AC25: 100 | AD25: 2 | AE25: 3 | AF25: 3 | AG25: 10 | AH25: 4 | AI25: 1 | AJ25: 3 | AK25: 5 | AL25: 9 | AM25: 5 | AN25: 2 | AO25: 2
A26: DIRECTION COMMERCIALE BAS RHIN | B26: 23 | C26: STRASBOURG VOSGES | D26: MLLE GAUTHIER-LAFAYE Muriel | E26: 82383103 | F26: SAKHY FRERES | G26: 1 | H26: 1 | I26: 1 | K26: MN102202 | L26: P. Morale | M26: 2 | N26: 0 | O26: 0 | P26: 1508.3 | Q26: 34982 | AA26: 6316.84 | AM26: 31
A27: DIRECTION COMMERCIALE BAS RHIN | B27: 23 | C27: STRASBOURG VOSGES | D27: MLLE GAUTHIER-LAFAYE Muriel | E27: 82383103 | F27: SAKHY FRERES | G27: 1 | H27: 1 | I27: 1 | K27: MN102202 | L27: P. Morale | M27: 1 | N27: 0 | O27: 0 | P27: 1508.3 | Q27: 34982 | R27: 50 | S27: 300 | T27: 22050 | U27: 0 | V27: 1583 | W27: 0 | X27: 14369.4 | Y27: 8182.02 | Z27: 9460.02 | AB27: 6773.56 | AC27: 5884.7 | AD27: 2 | AE27: 3 | AF27: 9 | AG27: 16 | AH27: 21 | AI27: 23 | AJ27: 26 | AK27: 26 | AL27: 21 | AN27: 19 | AO27: 25
A28: DIRECTION COMMERCIALE BAS RHIN | B28: 23 | C28: STRASBOURG VOSGES | D28: MLLE GAUTHIER-LAFAYE Muriel | E28: 82565816 | F28: MARTY GENEVIEVE CARINE | G28: 1 | H28: 1 | I28: 1 | K28: MN102102 | L28: P. Physique | M28: 2 | N28: 2 | O28: 1 | P28: 141297.99 | Q28: 35339 | R28: 2445 | S28: 13000 | T28: 2550 | U28: 4000 | V28: 28000 | W28: 12700 | X28: 8000 | Y28: 4000 | Z28: 12000 | AA28: 3000 | AB28: 9000 | AC28: 6000 | AD28: 3 | AE28: 4 | AF28: 6 | AG28: 7 | AH28: 7 | AI28: 10 | AJ28: 7 | AK28: 7 | AL28: 8 | AM28: 4 | AN28: 7 | AO28: 9
A29: DIRECTION COMMERCIALE BAS RHIN | B29: 24 | C29: STRASBOURG AUSTERLITZ | D29: M MONTAISE HERVE | E29: 83043323 | F29: RITTER LEFEBVRE ANNE SOPHIE | G29: 1 | H29: 1 | I29: 1 | K29: MN102102 | L29: P. Physique | M29: 2 | N29: 2 | O29: 1 | P29: 25619.84 | Q29: 30504 | R29: 8694.41 | S29: 8814.02 | T29: 3380.98 | U29: 6192.14 | V29: 7980.09 | W29: 6900.21 | X29: 7249.65 | Y29: 7844.02 | Z29: 11355.7 | AA29: 6485.18 | AB29: 10176.53 | AC29: 6597.94 | AD29: 6 | AE29: 5 | AF29: 3 | AG29: 7 | AH29: 6 | AI29: 6 | AJ29: 10 | AK29: 8 | AL29: 11 | AM29: 8 | AN29: 8 | AO29: 7
A30: DIRECTION COMMERCIALE BAS RHIN | B30: 24 | C30: STRASBOURG AUSTERLITZ | D30: M WEIBLE JEREMY | E30: 82468166 | F30: FISCHER BRIGITTE | G30: 1 | H30: 1 | I30: 1 | K30: MN102102 | L30: P. Physique | M30: 2 | N30: 1 | O30: 0 | P30: 45071.97 | Q30: 33767 | R30: 179.98 | S30: 7425.94 | T30: 96.55 | U30: 75.54 | V30: 3576.29 | W30: 6966.47 | X30: 5235.25 | Y30: 5890.28 | Z30: 0 | AA30: 4421.56 | AB30: 4009.73 | AC30: 9116.72 | AD30: 5 | AE30: 5 | AF30: 4 | AG30: 6 | AH30: 7 | AI30: 6 | AJ30: 5 | AK30: 4 | AL30: 4 | AM30: 4 | AN30: 6 | AO30: 4
A31: DIRECTION COMMERCIALE BAS RHIN | B31: 24 | C31: STRASBOURG AUSTERLITZ | D31: M WEIBLE JEREMY | E31: 91522457 | F31: LE PETIT CAB' | G31: 1 | H31: 1 | I31: 1 | K31: MN102202 | L31: P. Morale | M31: 2 | N31: 0 | O31: 0 | P31: 501.49 | Q31: 40676 | R31: 3505 | S31: 1061.53 | T31: 6070.98 | U31: 9000 | V31: 31573.65 | W31: 46310.27 | X31: 66872.68 | Y31: 56685.13 | Z31: 66905.52 | AA31: 51164.06 | AB31: 59094.56 | AC31: 68905.85 | AD31: 1 | AE31: 2 | AF31: 4 | AG31: 11 | AH31: 19 | AI31: 52 | AJ31: 88 | AK31: 65 | AL31: 71 | AM31: 68 | AN31: 81 | AO31: 69
A32: DIRECTION COMMERCIALE BAS RHIN | B32: 25 | C32: STRASBOURG ESPLANADE | D32: M DAVID Didier | E32: 93281742 | F32: LE MORFAL | G32: 1 | H32: 1 | I32: 1 | K32: MN102202 | L32: P. Morale | M32: 2 | N32: 1 | O32: 0 | P32: 3551.26 | Q32: 42459 | R32: 3000 | S32: 2110.41 | T32: 6159.93 | U32: 4500 | V32: 5500 | W32: 3020 | X32: 4000 | Y32: 4522.91 | Z32: 4500 | AA32: 5450 | AB32: 2000 | AC32: 6000 | AD32: 5 | AE32: 4 | AF32: 5 | AG32: 7 | AH32: 9 | AI32: 6 | AJ32: 4 | AK32: 6 | AL32: 7 | AM32: 3 | AN32: 5 | AO32: 4
A33: DIRECTION COMMERCIALE BAS RHIN | B33: 25 | C33: STRASBOURG ESPLANADE | D33: M DAVID Didier | E33: 93555360 | F33: Y & D RENOVATION | G33: 1 | H33: 1 | I33: 1 | K33: MN102202 | L33: P. Morale | M33: 1 | N33: 1 | O33: 0 | P33: 8505.56 | Q33: 42724 | R33: 0 | S33: 0 | T33: 0 | U33: 924 | V33: 4626.2 | W33: 2570.74 | X33: 13050 | Y33: 3365.1 | Z33: 4287 | AA33: 3270.67 | AB33: 1677 | AC33: 29331.61 | AD33: 1 | AE33: 2 | AF33: 9 | AG33: 33 | AH33: 25 | AI33: 30 | AJ33: 31 | AK33: 42 | AL33: 33 | AM33: 42 | AN33: 34 | AO33: 55
A34: DIRECTION COMMERCIALE BAS RHIN | B34: 30 | C34: BRUMATH | D34: M COLINET JEAN-FRANCOIS | E34: 82764072 | F34: WEIL JONATHAN | G34: 1 | H34: 1 | I34: 1 | K34: MN102202 | L34: P. Physique | M34: 1 | N34: 2 | O34: 2 | P34: 7261.24 | Q34: 31065 | R34: 0 | S34: 1091.25 | T34: 1016 | U34: 561.5 | V34: 3791.5 | W34: 1000 | X34: 0 | Y34: 0 | Z34: 0 | AA34: 0 | AB34: 0 | AC34: 3742.4 | AD34: 15 | AE34: 10 | AF34: 9 | AG34: 9 | AH34: 14 | AI34: 12 | AJ34: 14 | AK34: 6 | AL34: 4 | AM34: 6 | AN34: 14 | AO34: 12
A35: DIRECTION COMMERCIALE BAS RHIN | B35: 30 | C35: BRUMATH | D35: MME MICHEL CELINE | E35: 92507579 | F35: TETRAEDRE | G35: 1 | H35: 1 | I35: 1 | K35: MN102202 | L35: P. Morale | M35: 1 | N35: 1 | O35: 0 | P35: 8833.36 | Q35: 41689 | R35: 7968.24 | S35: 7619.43 | T35: 0 | U35: 9000 | V35: 9000 | W35: 5000 | X35: 30000 | Y35: 0 | Z35: 30000 | AA35: 18000 | AB35: 15000 | AC35: 30000 | AD35: 3 | AE35: 3 | AF35: 8 | AG35: 6 | AH35: 4 | AI35: 10 | AJ35: 8 | AK35: 7 | AL35: 12 | AM35: 13 | AN35: 11 | AO35: 11
A36: DIRECTION COMMERCIALE BAS RHIN | B36: 31 | C36: TRUCHTERSHEIM | D36: M KOEHLER CEDRIC | E36: 91519303 | F36: HOPP JEAN | G36: 1 | H36: 1 | I36: 1 | K36: MN102202 | L36: P. Physique | M36: 1 | N36: 1 | O36: 1 | P36: 2890.58 | Q36: 40672 | R36: 1179.5 | S36: 735.55 | T36: 651.75 | U36: 2255.2 | V36: 4608.96 | W36: 2397.26 | X36: 2646.25 | Y36: 870.75 | Z36: 686.9 | AA36: 2013.75 | AB36: 3670.1 | AC36: 1698.38 | AD36: 11 | AE36: 12 | AF36: 12 | AG36: 6 | AH36: 10 | AI36: 12 | AJ36: 6 | AK36: 7 | AL36: 22 | AM36: 11 | AN36: 7 | AO36: 7
A37: DIRECTION COMMERCIALE BAS RHIN | B37: 39 | C37: REICHSTETT | D37: MME OHLMANN VANESSA | E37: 83169772 | F37: BLAUMEISER PATRICK | G37: 1 | H37: 1 | I37: 1 | K37: MN102102 | L37: P. Physique | M37: 1 | N37: 1 | O37: 0 | P37: 518.65 | Q37: 35713 | R37: 1341 | S37: 78 | T37: 3927.47 | U37: 5661.78 | V37: 85.5 | W37: 7016.88 | X37: 19377.57 | Y37: 13202.62 | Z37: 11405.57 | AA37: 12617.49 | AB37: 10806.1 | AC37: 11188.36 | AD37: 3 | AE37: 3 | AF37: 8 | AG37: 4 | AH37: 9 | AI37: 12 | AJ37: 10 | AK37: 11 | AL37: 11 | AM37: 9 | AN37: 12 | AO37: 12
A38: DIRECTION COMMERCIALE BAS RHIN | B38: 43 | C38: STRASBOURG HALLES | D38: M BETTON TEDDY | E38: 93474367 | F38: JUAN CATHERINE LAURENCE | G38: 1 | H38: 1 | I38: 1 | K38: MN102102 | L38: P. Physique | M38: 1 | N38: 2 | O38: 1 | P38: -258.88 | Q38: 42661 | R38: 1883.6 | S38: 1020.76 | T38: 623.79 | U38: 1215.83 | V38: 1159.49 | W38: 1845.87 | X38: 1044.05 | Y38: 2899.49 | Z38: 1338.34 | AA38: 11948.85 | AB38: 8335.92 | AC38: 7265 | AD38: 5 | AE38: 4 | AF38: 4 | AG38: 7 | AH38: 4 | AI38: 9 | AJ38: 6 | AK38: 5 | AL38: 7 | AM38: 14 | AN38: 27 | AO38: 35
A39: DIRECTION COMMERCIALE BAS RHIN | B39: 43 | C39: STRASBOURG HALLES | D39: M SCHULTIS Laurent | E39: 83242054 | F39: VENCHIARUTTI JOST NADINE | G39: 1 | H39: 1 | I39: 1 | K39: MN102102 | L39: P. Physique | M39: 1 | N39: 1 | O39: 2 | P39: 1414.03 | Q39: 36762 | R39: 475.83 | S39: 0 | T39: 500 | U39: 2565 | V39: 1900 | W39: 1778.89 | X39: 0 | Y39: 290 | Z39: 852.52 | AA39: 2734.5 | AB39: 5922.26 | AC39: 4626.18 | AD39: 69 | AE39: 57 | AF39: 45 | AG39: 56 | AH39: 64 | AI39: 44 | AJ39: 49 | AK39: 60 | AL39: 53 | AM39: 66 | AN39: 58 | AO39: 63
... A42: DIRECTION COMMERCIALE BAS RHIN | B42: 45 | C42: STRASBOURG FRANCS BOURGEOIS | D42: M CASTELEYN VINCENT | E42: 82399421 | F42: MARIA HOLDING | G42: 1 | H42: 1 | I42: 1 | K42: MN102202 | L42: P. Morale | M42: 2 | N42: 1 | O42: 0 | P42: 38.24 | Q42: 40290 | R42: 0 | S42: 6500 | T42: 6743 | U42: 0 | V42: 1087.49 | W42: 41965 | X42: 5848.03 | Y42: 0 | Z42: 67400 | AA42: 19000 | AB42: 10500 | AC42: 9500 | AD42: 4 | AE42: 4 | AF42: 6 | AG42: 7 | AH42: 3 | AI42: 4 | AJ42: 5 | AK42: 3 | AL42: 8 | AM42: 5 | AN42: 4 | AO42: 5
...

Sheet Nouveaux clients PROS
A1: Direction Commerciale | B1: ES | C1: Libellé ES | D1: Nom Gestionnaire | E1: N° personne | F1: Nom du client | G1: Client Présent M-1 | H1: Client Présent M | I1: ACTIF ND M | J1: Code Marché | K1: Personnalité Juridique | L1: Nbre CCE | M1: Nbre Forfaits | N1: Nbre Carte Paiement | O1: Surface Financière | P1: Date arrivée | Q1: Montant flux M | R1: NB flux deb M
A2: CAF ALSACE NORD | B2: 202 | C2: ENTREPRISES ALSACE NORD | D2: M GARION FREDERIC | E2: 94173508 | F2: FUF CONSEILS | H2: 1 | J2: MN102202 | K2: P. Morale | L2: 1 | M2: 0 | N2: 0 | O2: 0 | P2: 43397
A3: DIRECTION COMMERCIALE BAS RHIN | B3: 6 | C3: STRASBOURG NEUDORF | D3: M WEIBLE JEREMY | E3: 82941157 | F3: TAVERNA FRANCO | H3: 1 | I3: 1 | J3: MN102202 | K3: P. Physique | L3: 1 | M3: 1 | N3: 2 | O3: 4186.82 | P3: 43375 | Q3: 2610 | R3: 12
A4: DIRECTION COMMERCIALE BAS RHIN | B4: 6 | C4: STRASBOURG NEUDORF | D4: M WEIBLE JEREMY | E4: 94036639 | F4: STUDIO 80 | H4: 1 | J4: MN102202 | K4: P. Morale | L4: 1 | M4: 1 | N4: 0 | O4: 1129.03 | P4: 43375 | Q4: 5000 | R4: 0
A5: DIRECTION COMMERCIALE BAS RHIN | B5: 6 | C5: STRASBOURG NEUDORF | D5: M WEIBLE JEREMY | E5: 94036659 | F5: SCI DU 23 ROUTE DU POLYGONE | H5: 1 | J5: MN102401 | K5: P. Morale | L5: 1 | M5: 1 | N5: 0 | O5: 0 | P5: 43375
A6: DIRECTION COMMERCIALE BAS RHIN | B6: 6 | C6: STRASBOURG NEUDORF | D6: M WEIBLE JEREMY | E6: 94130243 | F6: M BONNE BENJAMIN | H6: 1 | I6: 1 | J6: MN102102 | K6: P. Physique | L6: 1 | M6: 1 | N6: 1 | O6: 6689.67 | P6: 43377 | Q6: 14509.14 | R6: 6
A7: DIRECTION COMMERCIALE BAS RHIN | B7: 6 | C7: STRASBOURG NEUDORF | D7: M WEIBLE JEREMY | E7: 94175873 | F7: DIM RENOV | H7: 1 | J7: MN102202 | K7: P. Morale | L7: 2 | M7: 1 | N7: 0 | O7: 2258.06 | P7: 43398 | Q7: 10000 | R7: 0
A8: DIRECTION COMMERCIALE BAS RHIN | B8: 7 | C8: ILLKIRCH CENTRE | D8: MME LEFEVRE CELINE | E8: 94175966 | F8: DE OLIVEIRA ARCHITECTURE | H8: 1 | J8: MN102102 | K8: P. Morale | L8: 1 | M8: 0 | N8: 0 | O8: 225.8 | P8: 43398 | Q8: 1000 | R8: 0
A9: DIRECTION COMMERCIALE BAS RHIN | B9: 7 | C9: ILLKIRCH CENTRE | D9: MME MARCALO CATIA | E9: 94096550 | F9: MTE ENTREPRISE | H9: 1 | J9: MN102202 | K9: P. Morale | L9: 1 | M9: 1 | N9: 0 | O9: 935.48 | P9: 43306
A10: DIRECTION COMMERCIALE BAS RHIN | B10: 10 | C10: STRASBOURG MEINAU | D10: M WEIBLE JEREMY | E10: 92384038 | F10: AUTO ECOLE PLUS QUE PERMIS | H10: 1 | J10: MN102102 | K10: P. Morale | L10: 1 | M10: 1 | N10: 0 | O10: 0 | P10: 41564
A11: DIRECTION COMMERCIALE BAS RHIN | B11: 10 | C11: STRASBOURG MEINAU | D11: M WEIBLE JEREMY | E11: 94159782 | F11: FA7 SERVICES | H11: 1 | J11: MN102202 | K11: P. Morale | L11: 3 | M11: 1 | N11: 0 | O11: 3548.38 | P11: 43383 | Q11: 5000 | R11: 0
A12: DIRECTION COMMERCIALE BAS RHIN | B12: 18 | C12: ESPACE MESANGE | D12: M CASTELEYN VINCENT | E12: 94028796 | F12: SCI DU RIED | H12: 1 | J12: MN102401 | K12: P. Morale | L12: 1 | M12: 1 | N12: 0 | O12: 0 | P12: 43392
A13: DIRECTION COMMERCIALE BAS RHIN | B13: 18 | C13: ESPACE MESANGE | D13: M CASTELEYN VINCENT | E13: 94155134 | F13: GROUPE KESKIN | H13: 1 | J13: MN102202 | K13: P. Morale | L13: 2 | M13: 1 | N13: 0 | O13: 3774.19 | P13: 43377 | Q13: 5000 | R13: 2
A14: DIRECTION COMMERCIALE BAS RHIN | B14: 18 | C14: ESPACE MESANGE | D14: M CASTELEYN VINCENT | E14: 94164585 | F14: BOULANGERIE PATISSERIE FRANCIS | H14: 1 | J14: MN102202 | K14: P. Morale | L14: 1 | M14: 1 | N14: 0 | O14: 0 | P14: 43390
A15: DIRECTION COMMERCIALE BAS RHIN | B15: 18 | C15: ESPACE MESANGE | D15: M STARCK Gaetan | E15: 94138819 | F15: SCI RONTGEN | H15: 1 | J15: MN102401 | K15: P. Morale | L15: 1 | M15: 1 | N15: 0 | O15: 0 | P15: 43396
A16: DIRECTION COMMERCIALE BAS RHIN | B16: 19 | C16: STRASBOURG ANVERS | D16: MLLE GAUTHIER-LAFAYE Muriel | E16: 94062823 | F16: JOSAM | H16: 1 | J16: MN102401 | K16: P. Morale | L16: 2 | M16: 1 | N16: 0 | O16: 290.32 | P16: 43392 | Q16: 1000 | R16: 0
A17: DIRECTION COMMERCIALE BAS RHIN | B17: 19 | C17: STRASBOURG ANVERS | D17: MLLE GAUTHIER-LAFAYE Muriel | E17: 94161301 | F17: KADY JONATHAN BIENVENUE | H17: 1 | J17: MN102102 | K17: P. Physique | L17: 1 | M17: 1 | N17: 1 | O17: 35.15 | P17: 43385 | Q17: 313.8 | R17: 12
A18: DIRECTION COMMERCIALE BAS RHIN | B18: 20 | C18: STRASBOURG ROBERTSAU | D18: MME RAGUIG ILHAME | E18: 93953070 | F18: 2JB | H18: 1 | J18: MN102401 | K18: P. Morale | L18: 1 | M18: 1 | N18: 0 | O18: 6255.16 | P18: 43139 | Q18: 1560 | R18: 4
A19: DIRECTION COMMERCIALE BAS RHIN | B19: 24 | C19: STRASBOURG AUSTERLITZ | D19: MME LEDERMANN HELENE | E19: 82825578 | F19: KISTLER DAVID | H19: 1 | J19: MN102202 | K19: P. Physique | L19: 1 | M19: 2 | N19: 2 | O19: 14813.73 | P19: 32212 | Q19: 5028.85 | R19: 0
A20: DIRECTION COMMERCIALE BAS RHIN | B20: 27 | C20: SCHILTIGHEIM CENTRE | E20: 94175378 | F20: MIND ROCKET | H20: 1 | J20: MN102202 | K20: P. Morale | L20: 2 | M20: 1 | N20: 0 | O20: 64.51 | P20: 43398 | Q20: 1000 | R20: 0
A21: DIRECTION COMMERCIALE BAS RHIN | B21: 27 | C21: SCHILTIGHEIM CENTRE | D21: M PAGNIER STEPHANE | E21: 82561191 | F21: STEINSCHADEN DAVID | H21: 1 | J21: MN102202 | K21: P. Physique | L21: 1 | M21: 1 | N21: 1 | O21: 36.77 | P21: 34776 | Q21: 100 | R21: 0
A22: DIRECTION COMMERCIALE BAS RHIN | B22: 27 | C22: SCHILTIGHEIM CENTRE | D22: M PAGNIER STEPHANE | E22: 94014296 | F22: FLESCH GOUDIN LAURE | H22: 1 | J22: MN102102 | K22: P. Physique | L22: 1 | M22: 2 | N22: 3 | O22: 3089.06 | P22: 43208
A23: DIRECTION COMMERCIALE BAS RHIN | B23: 27 | C23: SCHILTIGHEIM CENTRE | D23: M PAGNIER STEPHANE | E23: 94111814 | F23: CELESTE 18 | H23: 1 | J23: MN102401 | K23: P. Morale | L23: 1 | M23: 1 | N23: 0 | O23: 0 | P23: 43384
A24: DIRECTION COMMERCIALE BAS RHIN | B24: 27 | C24: SCHILTIGHEIM CENTRE | D24: M PAGNIER STEPHANE | E24: 94179999 | F24: NOJO | H24: 1 | J24: MN102202 | K24: P. Morale | L24: 1 | M24: 1 | N24: 0 | O24: 0 | P24: 43404
A25: DIRECTION COMMERCIALE BAS RHIN | B25: 27 | C25: SCHILTIGHEIM CENTRE | D25: M PAGNIER STEPHANE | E25: 94180485 | F25: TODOR MUGUREL VASILE | H25: 1 | J25: MN102202 | K25: P. Physique | L25: 1 | M25: 1 | N25: 1 | O25: 0 | P25: 43404
A26: DIRECTION COMMERCIALE BAS RHIN | B26: 27 | C26: SCHILTIGHEIM CENTRE | D26: M RAVANEL DAMIEN | E26: 94154417 | F26: LA HOUBLONNIERE | H26: 1 | J26: MN102202 | K26: P. Morale | L26: 1 | M26: 0 | N26: 0 | O26: 903.22 | P26: 43377 | Q26: 1000 | R26: 0
A27: DIRECTION COMMERCIALE BAS RHIN | B27: 27 | C27: SCHILTIGHEIM CENTRE | D27: M RAVANEL DAMIEN | E27: 94154583 | F27: ZEBILINI ALEXANDRE LAURENT VALERY | H27: 1 | J27: MN102102 | K27: P. Physique | L27: 1 | M27: 1 | N27: 1 | O27: 0 | P27: 43377
A28: DIRECTION COMMERCIALE BAS RHIN | B28: 27 | C28: SCHILTIGHEIM CENTRE | D28: M RAVANEL DAMIEN | E28: 94169191 | F28: LA COMPAGNIE DES ALSACIENS REUNIS | H28: 1 | J28: MN102202 | K28: P. Morale | L28: 2 | M28: 1 | N28: 0 | O28: 451.61 | P28: 43391 | Q28: 1000 | R28: 0
A29: DIRECTION COMMERCIALE BAS RHIN | B29: 30 | C29: BRUMATH | D29: M KOCH JONATHAN | E29: 94118682 | F29: COIFFURE ANNE | H29: 1 | J29: MN102202 | K29: P. Morale | L29: 2 | M29: 1 | N29: 0 | O29: 9269.11 | P29: 43336 | Q29: 9102.43 | R29: 9
A30: DIRECTION COMMERCIALE BAS RHIN | B30: 30 | C30: BRUMATH | D30: M KOCH JONATHAN | E30: 94143697 | F30: BUREAU VALLEE | H30: 1 | J30: MN102202 | K30: P. Morale | L30: 3 | M30: 1 | N30: 0 | O30: 8128.9 | P30: 43399 | Q30: 70000 | R30: 0
A31: DIRECTION COMMERCIALE BAS RHIN | B31: 33 | C31: LA WANTZENAU | D31: MME ARCIN CHRISTELLE | E31: 94069341 | F31: LE SALON | H31: 1 | J31: MN102202 | K31: P. Morale | L31: 1 | M31: 1 | N31: 0 | O31: 0 | P31: 43377
A32: DIRECTION COMMERCIALE BAS RHIN | B32: 37 | C32: MUNDOLSHEIM | D32: M KOCH JONATHAN | E32: 92878562 | F32: GOURINY FOUAD | H32: 1 | J32: MN102202 | K32: P. Physique | L32: 2 | M32: 1 | N32: 2 | O32: 547.46 | P32: 43390 | Q32: 1669.95 | R32: 0
A33: DIRECTION COMMERCIALE BAS RHIN | B33: 38 | C33: OBERHAUSBERGEN | D33: M KOEHLER CEDRIC | E33: 94174190 | F33: KABHDIS | H33: 1 | J33: MN102202 | K33: P. Morale | L33: 3 | M33: 1 | N33: 0 | O33: 1170.96 | P33: 43397 | Q33: 6100 | R33: 0
A34: DIRECTION COMMERCIALE BAS RHIN | B34: 40 | C34: ECKBOLSHEIM | D34: M ZOUARI AISSA | E34: 94167931 | F34: OUAGGAD HICHAM | H34: 1 | J34: MN102202 | K34: P. Physique | L34: 1 | M34: 2 | N34: 2 | O34: -13.93 | P34: 43391
A35: DIRECTION COMMERCIALE BAS RHIN | B35: 41 | C35: HOERDT | D35: MLLE BERNARD Dounya | E35: 93881017 | F35: BOREY CAROLINE ANGELINE | H35: 1 | J35: MN102202 | K35: P. Physique | L35: 2 | M35: 2 | N35: 1 | O35: -10.96 | P35: 43060
A36: DIRECTION COMMERCIALE BAS RHIN | B36: 43 | C36: STRASBOURG HALLES | D36: M STARCK Gaetan | E36: 94138709 | F36: SELARL CAB IMAGERIE MEDICALE BALTIMORE | H36: 1 | J36: MN102102 | K36: P. Morale | L36: 1 | M36: 1 | N36: 0 | O36: 0 | P36: 43396
A37: DIRECTION COMMERCIALE BAS RHIN | B37: 60 | C37: HAGUENAU HOUBLON | D37: MME OHLMANN SABRINA | E37: 94146261 | F37: SCI VALVERDE en formation | H37: 1 | J37: MN102401 | K37: P. Morale | L37: 1 | M37: 0 | N37: 0 | O37: 0 | P37: 43396
A38: DIRECTION COMMERCIALE BAS RHIN | B38: 64 | C38: HAGUENAU MUSAU | D38: M KREBS LUDOVIC | E38: 82375358 | F38: CE CHARLES MULLER RECYCLING | H38: 1 | J38: MN102202 | K38: P. Morale | L38: 1 | M38: 0 | N38: 0 | O38: 160304.39 | P38: 33022 | Q38: 0 | R38: 2
A39: DIRECTION COMMERCIALE BAS RHIN | B39: 65 | C39: WEITBRUCH | D39: M KOCH JONATHAN | E39: 94172275 | F39: N G | H39: 1 | I39: 1 | J39: MN102202 | K39: P. Morale | L39: 2 | M39: 1 | N39: 0 | O39: 322.58 | P39: 43396 | Q39: 4000 | R39: 6
A40: DIRECTION COMMERCIALE BAS RHIN | B40: 68 | C40: REICHSHOFFEN | D40: M VERDET Adrien | E40: 82754263 | F40: HEISSLER DIDIER | H40: 1 | J40: MN102202 | K40: P. Physique | L40: 0 | M40: 1 | N40: 0 | O40: -71.55 | P40: 28497
...

Sheet Clients Pros sortants
A1: Groupe | B1: ES M-1 | C1: N° Personne | D1: Nom du client | E1: Code Marché M-1 | F1: Client Présent M-1 | G1: Client Présent M | H1: ACTIF ND M
A2: 803 | B2: 206 | C2: 82398053 | D2: SCI DUO AVENIR | E2: MN102302 | F2: 1
A3: 802 | B3: 202 | C3: 93888711 | D3: LES PROMOTEURS D'AUJOURD'HUI | E3: MN102202 | F3: 1
A4: 264 | B4: 130 | C4: 83431285 | D4: HEITZLER CLAIRE | E4: MN102102 | F4: 1
A5: 264 | B5: 130 | C5: 91869782 | D5: BAGAS | E5: MN102202 | F5: 1
A6: 264 | B6: 130 | C6: 93307056 | D6: BATIR COMPAGNIE & ASSOCIES | E6: MN102202 | F6: 1
A7: 264 | B7: 134 | C7: 92387966 | D7: A.S.E.B | E7: MN102202 | F7: 1
A8: 264 | B8: 135 | C8: 92825297 | D8: KIRCA | E8: MN102202 | F8: 1
A9: 264 | B9: 141 | C9: 82393070 | D9: AGESTIO | E9: MN102102 | F9: 1
A10: 264 | B10: 141 | C10: 92373184 | D10: NO SIESTA | E10: MN102202 | F10: 1
A11: 264 | B11: 153 | C11: 93782330 | D11: SOCIETE CIVILE IMMOBILIERE TASSIGNY | E11: MN102401 | F11: 1
A12: 264 | B12: 169 | C12: 82396842 | D12: SCI CENIC | E12: MN102401 | F12: 1
A13: 264 | B13: 169 | C13: 93861805 | D13: VINCENT MURA | E13: MN102202 | F13: 1
... A21: 262 | B21: 8 | C21: 93904600 | D21: LA BOUTIQUE DE PARIS | E21: MN102402 | F21: 1
A22: 262 | B22: 18 | C22: 93890538 | D22: JLF FISHING | E22: MN102202 | F22: 1 | H22: 1
A23: 262 | B23: 19 | C23: 92720521 | D23: HA SAS | E23: MN102401 | F23: 1
A24: 262 | B24: 19 | C24: 93364275 | D24: ED-WOOD & VINYL | E24: MN102202 | F24: 1
A25: 262 | B25: 23 | C25: 82392428 | D25: SCI L ET F MAETZ | E25: MN102401 | F25: 1
A26: 262 | B26: 26 | C26: 94147423 | D26: DCUBE | E26: MN102302 | F26: 1
A27: 262 | B27: 27 | C27: 82393740 | D27: SUMSER PFLANZENHANDEL GMBH | E27: MN102202 | F27: 1
A28: 262 | B28: 30 | C28: 92061313 | D28: POLYEDRE IMMOBILIER | E28: MN102202 | F28: 1
A29: 262 | B29: 30 | C29: 93247024 | D29: ORPI IMMOBILIERE DANN | E29: MN102202 | F29: 1 | H29: 1
A30: 262 | B30: 30 | C30: 93621033 | D30: CONCEPT HABITAT | E30: MN102202 | F30: 1
A31: 262 | B31: 39 | C31: 82912793 | D31: LOBJOIE MARC LOUIS GABRIEL | E31: MN102202 | F31: 1
A32: 262 | B32: 40 | C32: 83129563 | D32: WELSCH FREDERIQUE | E32: MN102102 | F32: 1
A33: 262 | B33: 43 | C33: 82395214 | D33: ABSIS ASSURANCES | E33: MN102102 | F33: 1
A34: 262 | B34: 43 | C34: 82568667 | D34: LAURENT FREDERIC | E34: MN102102 | F34: 1
A35: 262 | B35: 45 | C35: 82399441 | D35: L ATELIER D GRANPERE | E35: MN102202 | F35: 1
A36: 262 | B36: 45 | C36: 82480953 | D36: BOLLINI MARGUERITE | E36: MN102102 | F36: 1
A37: 262 | B37: 47 | C37: 91837829 | D37: FG COIFFURE | E37: MN102202 | F37: 1
A38: 262 | B38: 47 | C38: 92154121 | D38: TRANSPORTS KIROUANE | E38: MN102202 | F38: 1
A39: 262 | B39: 47 | C39: 92881179 | D39: NGS TRANSPORT | E39: MN102202 | F39: 1
A40: 262 | B40: 65 | C40: 92816651 | D40: Carrefour express | E40: MN102202 | F40: 1 | H40: 1
A41: 262 | B41: 65 | C41: 93425267 | D41: LUXURIA | E41: MN102202 | F41: 1
A42: 262 | B42: 67 | C42: 92454758 | D42: DLS | E42: MN102202 | F42: 1
A43: 262 | B43: 67 | C43: 92927891 | D43: GENEL | E43: MN102202 | F43: 1
A44: 262 | B44: 77 | C44: 92090343 | D44: SCI A.C.F | E44: MN102401 | F44: 1
A45: 262 | B45: 79 | C45: 92521239 | D45: JH OBERHOFFEN | E45: MN102202 | F45: 1 | H45: 1
A46: 262 | B46: 82 | C46: 92910395 | D46: holding muller | E46: MN102202 | F46: 1
A47: 262 | B47: 89 | C47: 83113642 | D47: MEDER ALOISE | E47: MN102202 | F47: 1
...

Sheet Volumétries par ES
A1: DirCo | B1: ES | C1: Clients Pros M-1 | D1: Clients Pros M | E1: Variation nombre de clients Pros | F1: Nouveaux clients | G1: Clients sortants | H1: Nbre Actifs ND M-1 | I1: Nbre Actifs ND M | J1: Variation nombre Actifs ND | K1: Devenus Actifs ND | L1: Sorties Actifs ND
A2: 262 | B2: 6 | C2: 163 | D2: 168 | E2: 5 | F2: =SUMIF('Nouveaux clients PROS'!B:B,'Volumétries par ES'!B2,'Nouveaux clients PROS'!H:H) -> 5 | G2: =SUMIF('Clients Pros sortants'!B:B,'Volumétries par ES'!B2,'Clients Pros sortants'!F:F) -> 0 | H2: 90 | I2: 88 | J2: -2 | L2: =SUMIF('Sorties Actifs ND'!B:B,'Volumétries par ES'!B2,'Sorties Actifs ND'!I:I) -> 5
A3: 262 | B3: 7 | C3: 133 | D3: 134 | E3: 1 | F3: =SUMIF('Nouveaux clients PROS'!B:B,'Volumétries par ES'!B3,'Nouveaux clients PROS'!H:H) -> 2 | G3: =SUMIF('Clients Pros sortants'!B:B,'Volumétries par ES'!B3,'Clients Pros sortants'!F:F) -> 1 | H3: 77 | I3: 77 | J3: 0 | L3: =SUMIF('Sorties Actifs ND'!B:B,'Volumétries par ES'!B3,'Sorties Actifs ND'!I:I) -> 2
A4: 262 | B4: 8 | C4: 76 | D4: 74 | E4: -2 | F4: =SUMIF('Nouveaux clients PROS'!B:B,'Volumétries par ES'!B4,'Nouveaux clients PROS'!H:H) -> 0 | G4: =SUMIF('Clients Pros sortants'!B:B,'Volumétries par ES'!B4,'Clients Pros sortants'!F:F) -> 2 | H4: 38 | I4: 36 | J4: -2 | L4: =SUMIF('Sorties Actifs ND'!B:B,'Volumétries par ES'!B4,'Sorties Actifs ND'!I:I) -> 2
A5: 262 | B5: 10 | C5: 54 | D5: 56 | E5: 2 | F5: =SUMIF('Nouveaux clients PROS'!B:B,'Volumétries par ES'!B5,'Nouveaux clients PROS'!H:H) -> 2 | G5: =SUMIF('Clients Pros sortants'!B:B,'Volumétries par ES'!B5,'Clients Pros sortants'!F:F) -> 0 | H5: 26 | I5: 26 | J5: 0 | L5: =SUMIF('Sorties Actifs ND'!B:B,'Volumétries par ES'!B5,'Sorties Actifs ND'!I:I) -> 0
A6: 262 | B6: 12 | C6: 32 | D6: 32 | E6: 0 | F6: =SUMIF('Nouveaux clients PROS'!B:B,'Volumétries par ES'!B6,'Nouveaux clients PROS'!H:H) -> 0 | G6: =SUMIF('Clients Pros sortants'!B:B,'Volumétries par ES'!B6,'Clients Pros sortants'!F:F) -> 0 | H6: 18 | I6: 18 | J6: 0 | L6: =SUMIF('Sorties Actifs ND'!B:B,'Volumétries par ES'!B6,'Sorties Actifs ND'!I:I) -> 0
A7: 262 | B7: 13 | C7: 20 | D7: 20 | E7: 0 | F7: =SUMIF('Nouveaux clients PROS'!B:B,'Volumétries par ES'!B7,'Nouveaux clients PROS'!H:H) -> 0 | G7: =SUMIF('Clients Pros sortants'!B:B,'Volumétries par ES'!B7,'Clients Pros sortants'!F:F) -> 0 | H7: 5 | I7: 5 | J7: 0 | L7: =SUMIF('Sorties Actifs ND'!B:B,'Volumétries par ES'!B7,'Sorties Actifs ND'!I:I) -> 0
A8: 262 | B8: 14 | C8: 46 | D8: 46 | E8: 0 | F8: =SUMIF('Nouveaux clients PROS'!B:B,'Volumétries par ES'!B8,'Nouveaux clients PROS'!H:H) -> 0 | G8: =SUMIF('Clients Pros sortants'!B:B,'Volumétries par ES'!B8,'Clients Pros sortants'!F:F) -> 0 | H8: 28 | I8: 27 | J8: -1 | L8: =SUMIF('Sorties Actifs ND'!B:B,'Volumétries par ES'!B8,'Sorties Actifs ND'!I:I) -> 1
A9: 262 | B9: 15 | C9: 64 | D9: 64 | E9: 0 | F9: =SUMIF('Nouveaux clients PROS'!B:B,'Volumétries par ES'!B9,'Nouveaux clients PROS'!H:H) -> 0 | G9: =SUMIF('Clients Pros sortants'!B:B,'Volumétries par ES'!B9,'Clients Pros sortants'!F:F) -> 0 | H9: 32 | I9: 32 | J9: 0 | L9: =SUMIF('Sorties Actifs ND'!B:B,'Volumétries par ES'!B9,'Sorties Actifs ND'!I:I) -> 2
B10: 16 | C10: 1 | D10: 1 | E10: 0 | H10: 1 | I10: 1 | J10: 0
A11: 269 | B11: 17 | C11: 3 | D11: 3 | E11: 0 | F11: =SUMIF('Nouveaux clients PROS'!B:B,'Volumétries par ES'!B11,'Nouveaux clients PROS'!H:H) -> 0 | G11: =SUMIF('Clients Pros sortants'!B:B,'Volumétries par ES'!B11,'Clients Pros sortants'!F:F) -> 0 | L11: =SUMIF('Sorties Actifs ND'!B:B,'Volumétries par ES'!B11,'Sorties Actifs ND'!I:I) -> 0
A12: 262 | B12: 18 | C12: 211 | D12: 214 | E12: 3 | F12: =SUMIF('Nouveaux clients PROS'!B:B,'Volumétries par ES'!B12,'Nouveaux clients PROS'!H:H) -> 4 | G12: =SUMIF('Clients Pros sortants'!B:B,'Volumétries par ES'!B12,'Clients Pros sortants'!F:F) -> 1 | H12: 111 | I12: 105 | J12: -6 | L12: =SUMIF('Sorties Actifs ND'!B:B,'Volumétries par ES'!B12,'Sorties Actifs ND'!I:I) -> 7
A13: 262 | B13: 19 | C13: 205 | D13: 207 | E13: 2 | F13: =SUMIF('Nouveaux clients PROS'!B:B,'Volumétries par ES'!B13,'Nouveaux clients PROS'!H:H) -> 2 | G13: =SUMIF('Clients Pros sortants'!B:B,'Volumétries par ES'!B13,'Clients Pros sortants'!F:F) -> 2 | H13: 100 | I13: 101 | J13: 1 | L13: =SUMIF('Sorties Actifs ND'!B:B,'Volumétries par ES'!B13,'Sorties Actifs ND'!I:I) -> 4
A14: 262 | B14: 20 | C14: 119 | D14: 119 | E14: 0 | F14: =SUMIF('Nouveaux clients PROS'!B:B,'Volumétries par ES'!B14,'Nouveaux clients PROS'!H:H) -> 1 | G14: =SUMIF('Clients Pros sortants'!B:B,'Volumétries par ES'!B14,'Clients Pros sortants'!F:F) -> 0 | H14: 64 | I14: 64 | J14: 0 | L14: =SUMIF('Sorties Actifs ND'!B:B,'Volumétries par ES'!B14,'Sorties Actifs ND'!I:I) -> 1
A15: 262 | B15: 23 | C15: 80 | D15: 78 | E15: -2 | F15: =SUMIF('Nouveaux clients PROS'!B:B,'Volumétries par ES'!B15,'Nouveaux clients PROS'!H:H) -> 0 | G15: =SUMIF('Clients Pros sortants'!B:B,'Volumétries par ES'!B15,'Clients Pros sortants'!F:F) -> 1 | H15: 38 | I15: 37 | J15: -1 | L15: =SUMIF('Sorties Actifs ND'!B:B,'Volumétries par ES'!B15,'Sorties Actifs ND'!I:I) -> 3
A16: 262 | B16: 24 | C16: 71 | D16: 72 | E16: 1 | F16: =SUMIF('Nouveaux clients PROS'!B:B,'Volumétries par ES'!B16,'Nouveaux clients PROS'!H:H) -> 1 | G16: =SUMIF('Clients Pros sortants'!B:B,'Volumétries par ES'!B16,'Clients Pros sortants'!F:F) -> 0 | H16: 31 | I16: 31 | J16: 0 | L16: =SUMIF('Sorties Actifs ND'!B:B,'Volumétries par ES'!B16,'Sorties Actifs ND'!I:I) -> 3
A17: 262 | B17: 25 | C17: 90 | D17: 90 | E17: 0 | F17: =SUMIF('Nouveaux clients PROS'!B:B,'Volumétries par ES'!B17,'Nouveaux clients PROS'!H:H) -> 0 | G17: =SUMIF('Clients Pros sortants'!B:B,'Volumétries par ES'!B17,'Clients Pros sortants'!F:F) -> 0 | H17: 43 | I17: 43 | J17: 0 | L17: =SUMIF('Sorties Actifs ND'!B:B,'Volumétries par ES'!B17,'Sorties Actifs ND'!I:I) -> 2
A18: 262 | B18: 26 | C18: 17 | D18: 16 | E18: -1 | H18: 6 | I18: 7 | J18: 1
A19: 262 | B19: 27 | C19: 145 | D19: 154 | E19: 9 | F19: =SUMIF('Nouveaux clients PROS'!B:B,'Volumétries par ES'!B19,'Nouveaux clients PROS'!H:H) -> 9 | G19: =SUMIF('Clients Pros sortants'!B:B,'Volumétries par ES'!B19,'Clients Pros sortants'!F:F) -> 1 | H19: 77 | I19: 79 | J19: 2 | L19: =SUMIF('Sorties Actifs ND'!B:B,'Volumétries par ES'!B19,'Sorties Actifs ND'!I:I) -> 0
A20: 262 | B20: 28 | C20: 64 | D20: 64 | E20: 0 | F20: =SUMIF('Nouveaux clients PROS'!B:B,'Volumétries par ES'!B20,'Nouveaux clients PROS'!H:H) -> 0 | G20: =SUMIF('Clients Pros sortants'!B:B,'Volumétries par ES'!B20,'Clients Pros sortants'!F:F) -> 0 | H20: 37 | I20: 38 | J20: 1 | L20: =SUMIF('Sorties Actifs ND'!B:B,'Volumétries par ES'!B20,'Sorties Actifs ND'!I:I) -> 0
A21: 262 | B21: 29 | C21: 44 | D21: 44 | E21: 0 | F21: =SUMIF('Nouveaux clients PROS'!B:B,'Volumétries par ES'!B21,'Nouveaux clients PROS'!H:H) -> 0 | G21: =SUMIF('Clients Pros sortants'!B:B,'Volumétries par ES'!B21,'Clients Pros sortants'!F:F) -> 0 | H21: 24 | I21: 26 | J21: 2 | L21: =SUMIF('Sorties Actifs ND'!B:B,'Volumétries par ES'!B21,'Sorties Actifs ND'!I:I) -> 0
A22: 262 | B22: 30 | C22: 154 | D22: 153 | E22: -1 | F22: =SUMIF('Nouveaux clients PROS'!B:B,'Volumétries par ES'!B22,'Nouveaux clients PROS'!H:H) -> 2 | G22: =SUMIF('Clients Pros sortants'!B:B,'Volumétries par ES'!B22,'Clients Pros sortants'!F:F) -> 3 | H22: 95 | I22: 94 | J22: -1 | L22: =SUMIF('Sorties Actifs ND'!B:B,'Volumétries par ES'!B22,'Sorties Actifs ND'!I:I) -> 2
A23: 262 | B23: 31 | C23: 88 | D23: 87 | E23: -1 | F23: =SUMIF('Nouveaux clients PROS'!B:B,'Volumétries par ES'!B23,'Nouveaux clients PROS'!H:H) -> 0 | G23: =SUMIF('Clients Pros sortants'!B:B,'Volumétries par ES'!B23,'Clients Pros sortants'!F:F) -> 0 | H23: 47 | I23: 48 | J23: 1 | L23: =SUMIF('Sorties Actifs ND'!B:B,'Volumétries par ES'!B23,'Sorties Actifs ND'!I:I) -> 1
A24: 262 | B24: 33 | C24: 49 | D24: 50 | E24: 1 | F24: =SUMIF('Nouveaux clients PROS'!B:B,'Volumétries par ES'!B24,'Nouveaux clients PROS'!H:H) -> 1 | G24: =SUMIF('Clients Pros sortants'!B:B,'Volumétries par ES'!B24,'Clients Pros sortants'!F:F) -> 0 | H24: 31 | I24: 31 | J24: 0 | L24: =SUMIF('Sorties Actifs ND'!B:B,'Volumétries par ES'!B24,'Sorties Actifs ND'!I:I) -> 0
A25: 262 | B25: 34 | C25: 32 | D25: 32 | E25: 0 | F25: =SUMIF('Nouveaux clients PROS'!B:B,'Volumétries par ES'!B25,'Nouveaux clients PROS'!H:H) -> 0 | G25: =SUMIF('Clients Pros sortants'!B:B,'Volumétries par ES'!B25,'Clients Pros sortants'!F:F) -> 0 | H25: 23 | I25: 24 | J25: 1 | L25: =SUMIF('Sorties Actifs ND'!B:B,'Volumétries par ES'!B25,'Sorties Actifs ND'!I:I) -> 0
A26: 262 | B26: 37 | C26: 47 | D26: 48 | E26: 1 | F26: =SUMIF('Nouveaux clients PROS'!B:B,'Volumétries par ES'!B26,'Nouveaux clients PROS'!H:H) -> 1 | G26: =SUMIF('Clients Pros sortants'!B:B,'Volumétries par ES'!B26,'Clients Pros sortants'!F:F) -> 0 | H26: 23 | I26: 23 | J26: 0 | L26: =SUMIF('Sorties Actifs ND'!B:B,'Volumétries par ES'!B26,'Sorties Actifs ND'!I:I) -> 0
A27: 262 | B27: 38 | C27: 109 | D27: 111 | E27: 2 | F27: =SUMIF('Nouveaux clients PROS'!B:B,'Volumétries par ES'!B27,'Nouveaux clients PROS'!H:H) -> 1 | G27: =SUMIF('Clients Pros sortants'!B:B,'Volumétries par ES'!B27,'Clients Pros sortants'!F:F) -> 0 | H27: 54 | I27: 55 | J27: 1 | L27: =SUMIF('Sorties Actifs ND'!B:B,'Volumétries par ES'!B27,'Sorties Actifs ND'!I:I) -> 0
