Workbook
Name Print_Area_1: #REF!
Name Print_Area_2: 'Nouveaux clients PROS'!$A$1:$R$51
Name Print_Area_3: 'Clients Pros sortants'!$A$1:$E$35
Name Print_Area_4: 'Volumétries par ES'!$B$1:$G$128

Sheet Devenus Actifs ND
A1: Direction Commerciale | B1: ES | C1: Libellé ES | D1: Nom Gestionnaire | E1: N° Personne | F1: Nom du client | G1: Client Présent M-1 | H1: Client Présent M | I1: ACTIFS ND M-1 | J1: ACTIFS ND M | K1: Code Marché | L1: Personnalité Juridique | M1: Nbre CCE | N1: Nbre Forfaits | O1: Nbre Carte Paiement | P1: SF TOT | Q1: Date arrivée | R1: Montant flux M | S1: Montant flux M-1 | T1: Montant flux M-2 | U1: Montant flux M-3 | V1: Montant flux M-4 | W1: Montant flux M-5 | X1: Montant flux M-6 | Y1: Montant flux M-7 | Z1: Montant flux M-8 | AA1: Montant flux M-9 | AB1: Montant flux M-10 | AC1: Montant flux M-11 | AD1: NB flux deb M | AE1: NB flux deb M-1 | AF1: NB flux deb M-2 | AG1: NB flux deb M-3 | AH1: NB flux deb M-4 | AI1: NB flux deb M-5 | AJ1: NB flux deb M-6 | AK1: NB flux deb M-7 | AL1: NB flux deb M-8 | AM1: NB flux deb M-9 | AN1: NB flux deb M-10 | AO1: NB flux deb M-11
A2: DIRECTION COMMERCIALE BAS RHIN | B2: 6 | C2: STRASBOURG NEUDORF | D2: M WEIBLE JEREMY | E2: 83231346 | F2: MARY JULIE | G2: 1 | H2: 1 | J2: 1 | K2: MN102102 | L2: P. Physique | M2: 2 | N2: 2 | O2: 2 | P2: 4603.26 | Q2: 36552 | R2: 5654.53 | S2: 3254.87 | T2: 2508.5 | U2: 200 | AD2: 10 | AE2: 3 | AF2: 6 | AG2: 1
A3: DIRECTION COMMERCIALE BAS RHIN | B3: 7 | C3: ILLKIRCH CENTRE | D3: M MAYER GUILLAUME | E3: 94128447 | F3: DLC DEVELOPPEMENT DES LEVIERS COMPORTEME | G3: 1 | H3: 1 | J3: 1 | K3: MN102202 | L3: P. Morale | M3: 2 | N3: 1 | O3: 0 | P3: 13614.75 | Q3: 43349 | R3: 16980 | S3: 10000 | AD3: 12 | AE3: 0
A4: DIRECTION COMMERCIALE BAS RHIN | B4: 7 | C4: ILLKIRCH CENTRE | D4: MME MARCALO CATIA | E4: 94082885 | F4: KELMENDI RENOVATION | G4: 1 | H4: 1 | J4: 1 | K4: MN102202 | L4: P. Morale | M4: 1 | N4: 1 | O4: 0 | P4: 1940.21 | Q4: 43292 | R4: 3100 | S4: 0 | T4: 0 | U4: 11000 | AD4: 13 | AE4: 12 | AF4: 1 | AG4: 0
A5: DIRECTION COMMERCIALE BAS RHIN | B5: 15 | C5: LINGOLSHEIM | D5: MME BARINA DRISSIA | E5: 83354203 | F5: ZAMBELLI CAMILLE | G5: 1 | H5: 1 | J5: 1 | K5: MN102102 | L5: P. Physique | M5: 1 | N5: 2 | O5: 2 | P5: 64342.15 | Q5: 34159 | R5: 6071.8 | S5: 11237.92 | T5: 9143.58 | U5: 6202.12 | V5: 3416 | AD5: 23 | AE5: 9 | AF5: 2 | AG5: 2 | AH5: 0
A6: DIRECTION COMMERCIALE BAS RHIN | B6: 15 | C6: LINGOLSHEIM | D6: MME BARINA DRISSIA | E6: 94034939 | F6: MME FORVEILLE LYNDA | G6: 1 | H6: 1 | J6: 1 | K6: MN102202 | L6: P. Physique | M6: 3 | N6: 1 | O6: 1 | P6: 63288.26 | Q6: 43285 | R6: 102050.17 | S6: 0 | T6: 3000 | U6: 75000 | AD6: 46 | AE6: 3 | AF6: 0 | AG6: 0
A7: DIRECTION COMMERCIALE BAS RHIN | B7: 18 | C7: ESPACE MESANGE | D7: M CASTELEYN VINCENT | E7: 93894698 | F7: LE BISTROT DES COCOTTES | G7: 1 | H7: 1 | J7: 1 | K7: MN102202 | L7: P. Morale | M7: 2 | N7: 1 | O7: 0 | P7: 39770.07 | Q7: 43294 | R7: 99504.22 | S7: 31000 | T7: 40500 | U7: 10000 | AD7: 28 | AE7: 3 | AF7: 1 | AG7: 0
A8: DIRECTION COMMERCIALE BAS RHIN | B8: 18 | C8: ESPACE MESANGE | D8: M STARCK Gaetan | E8: 93282799 | F8: 45 A MAIN STREET | G8: 1 | H8: 1 | J8: 1 | K8: MN102202 | L8: P. Morale | M8: 2 | N8: 1 | O8: 0 | P8: 13002.86 | Q8: 42508 | R8: 9369.67 | S8: 15403.15 | T8: 2315 | U8: 5840.54 | V8: 7730.18 | W8: 16846.03 | X8: 19934.31 | Y8: 16059.87 | Z8: 7444.58 | AA8: 12201.58 | AB8: 9779.42 | AC8: 18480.93 | AD8: 6 | AE8: 7 | AF8: 2 | AG8: 1 | AH8: 10 | AI8: 2 | AJ8: 8 | AK8: 3 | AL8: 6 | AM8: 14 | AN8: 11 | AO8: 13
A9: DIRECTION COMMERCIALE BAS RHIN | B9: 19 | C9: STRASBOURG ANVERS | D9: M GRATHWOHL Thierry | E9: 92590749 | F9: MDTECH | G9: 1 | H9: 1 | J9: 1 | K9: MN102202 | L9: P. Morale | M9: 2 | N9: 1 | O9: 0 | P9: 1782.18 | Q9: 41783 | R9: 3845 | S9: 9280 | T9: 400 | U9: 790 | V9: 492.6 | W9: 61 | X9: 1085 | Y9: 0 | Z9: 2000 | AA9: 4350 | AB9: 0 | AC9: 2200 | AD9: 86 | AE9: 73 | AF9: 19 | AG9: 16 | AH9: 30 | AI9: 11 | AJ9: 25 | AK9: 19 | AL9: 16 | AM9: 13 | AN9: 33 | AO9: 94
A10: DIRECTION COMMERCIALE BAS RHIN | B10: 19 | C10: STRASBOURG ANVERS | D10: M GRATHWOHL Thierry | E10: 93283637 | F10: AZUR IMMOBILER | G10: 1 | H10: 1 | J10: 1 | K10: MN102202 | L10: P. Morale | M10: 2 | N10: 1 | O10: 0 | P10: 35607.5 | Q10: 42460 | R10: 0 | S10: 890 | U10: 42000 | X10: 500 | Z10: 0 | AB10: 100 | AC10: 0 | AD10: 31 | AE10: 5 | AG10: 0 | AJ10: 0 | AL10: 1 | AN10: 0 | AO10: 1
A11: DIRECTION COMMERCIALE BAS RHIN | B11: 19 | C11: STRASBOURG ANVERS | D11: MLLE GAUTHIER-LAFAYE Muriel | E11: 82398824 | F11: SCI 57 A 2 B | G11: 1 | H11: 1 | J11: 1 | K11: MN102401 | L11: P. Morale | M11: 1 | N11: 0 | O11: 0 | P11: 4089.24 | Q11: 40115 | R11: 2420.6 | S11: 2420.6 | T11: 2420.6 | U11: 3920.6 | V11: 2420.6 | W11: 2420.6 | X11: 2720.6 | Y11: 2420.6 | Z11: 5541.38 | AA11: 2989.14 | AB11: 3340 | AC11: 2340 | AD11: 6 | AE11: 4 | AF11: 5 | AG11: 5 | AH11: 5 | AI11: 5 | AJ11: 5 | AK11: 5 | AL11: 7 | AM11: 7 | AN11: 4 | AO11: 5
A12: DIRECTION COMMERCIALE BAS RHIN | B12: 19 | C12: STRASBOURG ANVERS | D12: MLLE GAUTHIER-LAFAYE Muriel | E12: 83211617 | F12: MAETZ FABRICE JEAN - CLAUDE | G12: 1 | H12: 1 | J12: 1 | K12: MN102202 | L12: P. Physique | M12: 1 | N12: 2 | O12: 2 | P12: 11510.9 | Q12: 36305 | R12: 6977.98 | S12: 3609 | T12: 6200 | AD12: 24 | AE12: 6 | AF12: 3
A13: DIRECTION COMMERCIALE BAS RHIN | B13: 19 | C13: STRASBOURG ANVERS | D13: MLLE GAUTHIER-LAFAYE Muriel | E13: 93298223 | F13: SCI GAMMA VISION | G13: 1 | H13: 1 | J13: 1 | K13: MN102401 | L13: P. Morale | M13: 2 | N13: 1 | O13: 0 | P13: 505052.92 | Q13: 42537 | R13: 251946 | S13: 36222.89 | T13: 25000 | U13: 23000 | V13: 23000 | W13: 23000 | X13: 23000 | Y13: 23000 | Z13: 23996.42 | AA13: 23000 | AB13: 86000 | AC13: 3000 | AD13: 17 | AE13: 4 | AF13: 2 | AG13: 4 | AH13: 13 | AI13: 6 | AJ13: 10 | AK13: 5 | AL13: 11 | AM13: 9 | AN13: 15 | AO13: 15
A14: DIRECTION COMMERCIALE BAS RHIN | B14: 20 | C14: STRASBOURG ROBERTSAU | D14: M RICK Vincent | E14: 94074550 | F14: ADRIANA | G14: 1 | H14: 1 | J14: 1 | K14: MN102202 | L14: P. Morale | M14: 1 | N14: 1 | O14: 0 | P14: 11131.78 | Q14: 43280 | R14: 52500.33 | S14: 31755.18 | V14: 6000 | AD14: 52 | AE14: 8 | AH14: 0
A15: DIRECTION COMMERCIALE BAS RHIN | B15: 20 | C15: STRASBOURG ROBERTSAU | D15: MME BOUMADIANE FLORENCE | E15: 91242700 | F15: JULIEN PIERRE ROGER FRANCIS | G15: 1 | H15: 1 | J15: 1 | K15: MN102102 | L15: P. Physique | M15: 1 | N15: 2 | O15: 2 | P15: 9037.74 | Q15: 40821 | R15: 8026.29 | S15: 2012 | T15: 1072.42 | U15: 5564.2 | AD15: 12 | AE15: 5 | AF15: 5 | AG15: 3
A16: DIRECTION COMMERCIALE BAS RHIN | B16: 23 | C16: STRASBOURG VOSGES | D16: MLLE GAUTHIER-LAFAYE Muriel | E16: 83067002 | F16: GAUCHER PIERRE GUILLAUME | G16: 1 | H16: 1 | J16: 1 | K16: MN102202 | L16: P. Physique | M16: 1 | N16: 0 | O16: 0 | P16: 18786.83 | Q16: 28227 | R16: 10000 | S16: 0 | T16: 0 | U16: 0 | V16: 10500 | W16: 5157 | X16: 0 | Y16: 4292 | Z16: 0 | AA16: 5700 | AB16: 0 | AC16: 4500 | AD16: 7 | AE16: 5 | AF16: 4 | AG16: 5 | AH16: 5 | AI16: 6 | AJ16: 11 | AK16: 5 | AL16: 9 | AM16: 9 | AN16: 9 | AO16: 7
A17: DIRECTION COMMERCIALE BAS RHIN | B17: 24 | C17: STRASBOURG AUSTERLITZ | D17: M MONTAISE HERVE | E17: 91284169 | F17: MLLE BORDIER CORALIE | G17: 1 | H17: 1 | J17: 1 | K17: MN102202 | L17: P. Physique | M17: 1 | N17: 2 | O17: 2 | P17: 1148.52 | Q17: 40451 | R17: 3134.83 | S17: 1984.71 | T17: 957.9 | U17: 1595.71 | V17: 1299.44 | W17: 1858.67 | X17: 1917.23 | Y17: 2919.1 | Z17: 3135.2 | AA17: 1834 | AD17: 13 | AE17: 11 | AF17: 5 | AG17: 12 | AH17: 13 | AI17: 10 | AJ17: 12 | AK17: 15 | AL17: 15 | AM17: 6
A18: DIRECTION COMMERCIALE BAS RHIN | B18: 24 | C18: STRASBOURG AUSTERLITZ | D18: M WEIBLE JEREMY | E18: 92607917 | F18: MOBAL SARL | G18: 1 | H18: 1 | J18: 1 | K18: MN102202 | L18: P. Morale | M18: 2 | N18: 1 | O18: 0 | P18: 34709.93 | Q18: 41817 | R18: 1397.25 | S18: 1815.26 | T18: 1805.26 | U18: 1805.26 | V18: 1805.26 | W18: 4305.26 | X18: 4167.57 | Y18: 1796.41 | Z18: 1796.41 | AA18: 4296.41 | AB18: 3458.9 | AC18: 1796.41 | AD18: 10 | AE18: 6 | AF18: 3 | AG18: 4 | AH18: 3 | AI18: 3 | AJ18: 3 | AK18: 2 | AL18: 9 | AM18: 2 | AN18: 3 | AO18: 6
A19: DIRECTION COMMERCIALE BAS RHIN | B19: 24 | C19: STRASBOURG AUSTERLITZ | D19: M WEIBLE JEREMY | E19: 93363890 | F19: QSN | G19: 1 | H19: 1 | J19: 1 | K19: MN102402 | L19: P. Morale | M19: 2 | N19: 1 | O19: 0 | P19: 17189.27 | Q19: 42567 | R19: 2444.9 | S19: 2444.9 | T19: 2444.9 | U19: 8900 | V19: 4889.8 | W19: 2444.9 | X19: 2444.9 | Y19: 2444.9 | Z19: 2570.53 | AA19: 2444.9 | AB19: 2422.32 | AC19: 2422.32 | AD19: 6 | AE19: 5 | AF19: 4 | AG19: 3 | AH19: 7 | AI19: 7 | AJ19: 4 | AK19: 3 | AL19: 3 | AM19: 4 | AN19: 2 | AO19: 4
A20: DIRECTION COMMERCIALE BAS RHIN | B20: 25 | C20: STRASBOURG ESPLANADE | E20: 94130358 | F20: TK PRESTATIONS | G20: 1 | H20: 1 | J20: 1 | K20: MN102202 | L20: P. Morale | M20: 2 | N20: 1 | O20: 0 | P20: 4796.22 | Q20: 43350 | R20: 5432 | S20: 10223.35 | AD20: 13 | AE20: 0
A21: DIRECTION COMMERCIALE BAS RHIN | B21: 25 | C21: STRASBOURG ESPLANADE | D21: M DAVID Didier | E21: 94125521 | F21: S.P.I - SOCIETE DE PLATRERIE & D'ISOLATI | G21: 1 | H21: 1 | J21: 1 | K21: MN102202 | L21: P. Morale | M21: 2 | N21: 1 | O21: 0 | P21: 21297.16 | Q21: 43348 | R21: 12324 | S21: 17050 | AD21: 16 | AE21: 3
A22: DIRECTION COMMERCIALE BAS RHIN | B22: 26 | C22: STRASBOURG DANUBE | D22: MME PIERQUIN SONIA | E22: 83391303 | F22: STOEHR STEPHANE | G22: 1 | H22: 1 | J22: 1 | K22: MN102202 | L22: P. Physique | M22: 1 | N22: 2 | O22: 2 | P22: 1201.04 | Q22: 39122 | R22: 14840.5 | S22: 3454.86 | T22: 2286.3 | U22: 1190 | V22: 76 | W22: 214 | X22: 776 | Y22: 2200 | Z22: 993.5 | AA22: 1971 | AB22: 1581 | AC22: 3415 | AD22: 31 | AE22: 18 | AF22: 33 | AG22: 8 | AH22: 2 | AI22: 7 | AJ22: 3 | AK22: 18 | AL22: 11 | AM22: 20 | AN22: 18 | AO22: 36
A23: DIRECTION COMMERCIALE BAS RHIN | B23: 27 | C23: SCHILTIGHEIM CENTRE | D23: M PAGNIER STEPHANE | E23: 94150615 | F23: G.F.A CONSTRUCTION | G23: 1 | H23: 1 | J23: 1 | K23: MN102202 | L23: P. Morale | M23: 2 | N23: 1 | O23: 0 | P23: 5326.72 | Q23: 43372 | R23: 49061.2 | AD23: 38
A24: DIRECTION COMMERCIALE BAS RHIN | B24: 28 | C24: BISCHHEIM | D24: M PAGNIER STEPHANE | E24: 93626253 | F24: CONCEPT DOMOTIK SARL | G24: 1 | H24: 1 | J24: 1 | K24: MN102202 | L24: P. Morale | M24: 2 | N24: 1 | O24: 0 | P24: 18852.33 | Q24: 42829 | R24: 7244.68 | S24: 4300 | T24: 0 | U24: 1744.61 | V24: 998.78 | W24: 284.38 | X24: 500 | Y24: 2000 | Z24: 3863.7 | AA24: 15954.82 | AB24: 2600 | AC24: 8729.41 | AD24: 11 | AE24: 6 | AF24: 5 | AG24: 3 | AH24: 6 | AI24: 8 | AJ24: 9 | AK24: 7 | AL24: 7 | AM24: 8 | AN24: 11 | AO24: 13
A25: DIRECTION COMMERCIALE BAS RHIN | B25: 29 | C25: SCHILTIGHEIM KLEBER | D25: M PAGNIER STEPHANE | E25: 91692076 | F25: VG | G25: 1 | H25: 1 | J25: 1 | K25: MN102401 | L25: P. Morale | M25: 1 | N25: 0 | O25: 0 | P25: 6216.33 | Q25: 40843 | R25: 3000 | S25: 3824.71 | T25: 3000 | U25: 3240 | V25: 3480 | W25: 6340 | X25: 3000 | Y25: 3240 | Z25: 3480 | AA25: 3000 | AB25: 3000 | AC25: 3480 | AD25: 6 | AE25: 5 | AF25: 4 | AG25: 5 | AH25: 3 | AI25: 7 | AJ25: 3 | AK25: 3 | AL25: 1 | AM25: 3 | AN25: 3 | AO25: 3
A26: DIRECTION COMMERCIALE BAS RHIN | B26: 29 | C26: SCHILTIGHEIM KLEBER | D26: M PAGNIER STEPHANE | E26: 94131584 | F26: MWF | G26: 1 | H26: 1 | J26: 1 | K26: MN102202 | L26: P. Morale | M26: 3 | N26: 1 | O26: 0 | P26: 8615.54 | Q26: 43351 | R26: 7559 | S26: 7946.01 | AD26: 39 | AE26: 1
A27: DIRECTION COMMERCIALE BAS RHIN | B27: 30 | C27: BRUMATH | D27: M KOCH JONATHAN | E27: 94078834 | F27: LE CLAN DIGITAL | G27: 1 | H27: 1 | J27: 1 | K27: MN102202 | L27: P. Morale | M27: 2 | N27: 1 | O27: 0 | P27: 18999.19 | Q27: 43285 | R27: 7232 | S27: 2448 | U27: 15000 | AD27: 7 | AE27: 9 | AG27: 0
A28: DIRECTION COMMERCIALE BAS RHIN | B28: 30 | C28: BRUMATH | D28: M KOCH JONATHAN | E28: 94128377 | F28: WR PRODUCTS | G28: 1 | H28: 1 | J28: 1 | K28: MN102202 | L28: P. Morale | M28: 3 | N28: 1 | O28: 0 | P28: 13060.39 | Q28: 43349 | R28: 214.42 | S28: 22457.26 | AD28: 30 | AE28: 3
A29: DIRECTION COMMERCIALE BAS RHIN | B29: 31 | C29: TRUCHTERSHEIM | E29: 82527057 | F29: RETTIG JEAN GEORGES | G29: 1 | H29: 1 | J29: 1 | K29: MN102202 | L29: P. Physique | M29: 1 | N29: 1 | O29: 1 | P29: 11441.15 | Q29: 35236 | R29: 4955 | S29: 0 | T29: 0 | U29: 3900 | V29: 3500 | W29: 8602.43 | AD29: 8 | AE29: 4 | AF29: 7 | AG29: 1 | AH29: 6 | AI29: 0
A30: DIRECTION COMMERCIALE BAS RHIN | B30: 31 | C30: TRUCHTERSHEIM | D30: M KOEHLER CEDRIC | E30: 82378600 | F30: SCI BECQUEREL | G30: 1 | H30: 1 | J30: 1 | K30: MN102401 | L30: P. Morale | M30: 1 | N30: 0 | O30: 0 | P30: 8171.16 | Q30: 32150 | R30: 11744.3 | S30: 3550 | T30: 3550 | U30: 3550 | V30: 3550 | W30: 3550 | X30: 3550 | Y30: 3550 | Z30: 3550 | AA30: 3550 | AB30: 4190 | AC30: 6730.7 | AD30: 6 | AE30: 5 | AF30: 4 | AG30: 5 | AH30: 5 | AI30: 6 | AJ30: 4 | AK30: 6 | AL30: 5 | AM30: 5 | AN30: 7 | AO30: 5
A31: DIRECTION COMMERCIALE BAS RHIN | B31: 34 | C31: VENDENHEIM | D31: M GOETZ Sylvain | E31: 83211791 | F31: WURCH OLIVIER ALEXANDRE | G31: 1 | H31: 1 | J31: 1 | K31: MN102102 | L31: P. Physique | M31: 2 | N31: 2 | O31: 1 | P31: 16520.07 | Q31: 36285 | R31: 2699 | S31: 8236.66 | AD31: 11 | AE31: 0
A32: DIRECTION COMMERCIALE BAS RHIN | B32: 38 | C32: OBERHAUSBERGEN | D32: M WOELFFEL Thierry | E32: 93908912 | F32: FIBEST | G32: 1 | H32: 1 | J32: 1 | K32: MN102202 | L32: P. Morale | M32: 1 | N32: 1 | O32: 0 | P32: 10857.93 | Q32: 43089 | R32: 16000 | S32: 0 | T32: 8000 | U32: 8239 | V32: 0 | AB32: 2000 | AD32: 12 | AE32: 14 | AF32: 17 | AG32: 11 | AH32: 5 | AN32: 0
A33: DIRECTION COMMERCIALE BAS RHIN | B33: 45 | C33: STRASBOURG FRANCS BOURGEOIS | D33: M BUCHER SEBASTIEN | E33: 82529974 | F33: VIVIEN BENJAMIN | G33: 1 | H33: 1 | J33: 1 | K33: MN102102 | L33: P. Physique | M33: 2 | N33: 2 | O33: 1 | P33: 26739.66 | Q33: 32129 | R33: 7684.61 | S33: 3766.16 | T33: 2143.16 | U33: 5826.54 | V33: 3448.63 | W33: 2777.09 | X33: 1501.1 | Y33: 862.87 | Z33: 695.78 | AA33: 206.96 | AB33: 885.06 | AD33: 6 | AE33: 6 | AF33: 6 | AG33: 8 | AH33: 7 | AI33: 4 | AJ33: 1 | AK33: 1 | AL33: 1 | AM33: 0 | AN33: 1
A34: DIRECTION COMMERCIALE BAS RHIN | B34: 45 | C34: STRASBOURG FRANCS BOURGEOIS | D34: M LIENHARDT MICHEL | E34: 93379213 | F34: SALCEA | G34: 1 | H34: 1 | J34: 1 | K34: MN102202 | L34: P. Morale | M34: 1 | N34: 1 | O34: 0 | P34: 101910.46 | Q34: 42808 | R34: 179038.92 | S34: 30833.17 | T34: 48296.05 | U34: 38474.23 | V34: 53538.55 | W34: 63323.38 | X34: 50976.45 | Y34: 68201.73 | Z34: 26573.77 | AA34: 46212.85 | AB34: 37966.85 | AC34: 56754.14 | AD34: 13 | AE34: 1 | AF34: 3 | AG34: 3 | AH34: 1 | AI34: 6 | AJ34: 0 | AK34: 3 | AL34: 1 | AM34: 2 | AN34: 0 | AO34: 2
A35: DIRECTION COMMERCIALE BAS RHIN | B35: 45 | C35: STRASBOURG FRANCS BOURGEOIS | D35: M LIENHARDT MICHEL | E35: 94006214 | F35: SCI HELENE | G35: 1 | H35: 1 | J35: 1 | K35: MN102401 | L35: P. Morale | M35: 1 | N35: 1 | O35: 0 | P35: 1464.07 | Q35: 43200 | R35: 4040.8 | S35: 3250 | T35: 5073.22 | U35: 8153.22 | V35: 5380 | W35: 420 | X35: 2000 | AD35: 8 | AE35: 1 | AF35: 7 | AG35: 3 | AH35: 4 | AI35: 4 | AJ35: 0
A36: DIRECTION COMMERCIALE BAS RHIN | B36: 47 | C36: STRASBOURG CRONENBOURG | D36: M ZOUARI AISSA | E36: 94095499 | F36: AMBITION THD | G36: 1 | H36: 1 | J36: 1 | K36: MN102202 | L36: P. Morale | M36: 2 | N36: 1 | O36: 0 | P36: 14109.56 | Q36: 43305 | R36: 100 | S36: 10000 | T36: 1000 | U36: 10000 | AD36: 12 | AE36: 14 | AF36: 0 | AG36: 0
A37: DIRECTION COMMERCIALE BAS RHIN | B37: 48 | C37: STRASBOURG KOENIGSHOFFEN | D37: M ZOUARI AISSA | E37: 94062451 | F37: TRANSIT EST | G37: 1 | H37: 1 | J37: 1 | K37: MN102202 | L37: P. Morale | M37: 1 | N37: 1 | O37: 0 | P37: 26905.2 | Q37: 43283 | R37: 1260 | U37: 29000 | AD37: 10 | AG37: 0
A38: DIRECTION COMMERCIALE BAS RHIN | B38: 48 | C38: STRASBOURG KOENIGSHOFFEN | D38: M ZOUARI AISSA | E38: 94100805 | F38: GOUROU | G38: 1 | H38: 1 | J38: 1 | K38: MN102202 | L38: P. Morale | M38: 2 | N38: 1 | O38: 0 | P38: -2131.15 | Q38: 43328 | R38: 27332.13 | S38: 0 | AD38: 49 | AE38: 4
A39: DIRECTION COMMERCIALE BAS RHIN | B39: 54 | C39: STRASBOURG MONTAGNE VERTE | D39: M KOEHLER CEDRIC | E39: 82383681 | F39: CHRISTOPHE NORTH | G39: 1 | H39: 1 | J39: 1 | K39: MN102202 | L39: P. Morale | M39: 1 | N39: 1 | O39: 0 | P39: -77.55 | Q39: 35020 | R39: 10126.66 | S39: 5786.39 | T39: 4573.88 | U39: 3531.5 | V39: 5602.05 | W39: 4697.88 | X39: 7090.7 | Y39: 4966.7 | Z39: 8078.53 | AA39: 6286.24 | AB39: 6166.23 | AC39: 4939.44 | AD39: 6 | AE39: 5 | AF39: 4 | AG39: 4 | AH39: 7 | AI39: 6 | AJ39: 8 | AK39: 8 | AL39: 3 | AM39: 9 | AN39: 5 | AO39: 7
A40: DIRECTION COMMERCIALE BAS RHIN | B40: 60 | C40: HAGUENAU HOUBLON | D40: MLLE BOEYKENS AUDREY | E40: 82390695 | F40: PIERRE INVEST | G40: 1 | H40: 1 | J40: 1 | K40: MN102401 | L40: P. Morale | M40: 2 | N40: 0 | O40: 0 | P40: 394644.3 | Q40: 37281 | R40: 0 | S40: 0 | T40: 0 | U40: 0 | V40: 0 | W40: 0 | X40: 2645 | Y40: 0 | Z40: 0 | AA40: 1200 | AB40: 0 | AC40: 341756.97 | AD40: 6 | AE40: 4 | AF40: 5 | AG40: 1 | AH40: 5 | AI40: 15 | AJ40: 5 | AK40: 5 | AL40: 5 | AM40: 6 | AN40: 5 | AO40: 9
A41: DIRECTION COMMERCIALE BAS RHIN | B41: 65 | C41: WEITBRUCH | D41: M KOCH JONATHAN | E41: 94109037 | F41: UT BENEFICIA | G41: 1 | H41: 1 | J41: 1 | K41: MN102202 | L41: P. Morale | M41: 2 | N41: 1 | O41: 0 | P41: 14195.09 | Q41: 43321 | R41: 40767.11 | S41: 51811.74 | T41: 6000 | AD41: 42 | AE41: 8 | AF41: 0
A42: DIRECTION COMMERCIALE BAS RHIN | B42: 67 | C42: PFAFFENHOFFEN | D42: M WERNERT HERVE | E42: 83075646 | F42: BERTRAND REMY ADAM AUGUSTE | G42: 1 | H42: 1 | J42: 1 | K42: MN102202 | L42: P. Physique | M42: 2 | N42: 1 | O42: 2 | P42: 44874.07 | Q42: 30265 | R42: 7105 | S42: 8622 | T42: 0 | U42: 0 | V42: 0 | W42: 0 | X42: 5720 | Y42: 266 | Z42: 0 | AA42: 0 | AB42: 7857 | AC42: 1037 | AD42: 5 | AE42: 7 | AF42: 4 | AG42: 2 | AH42: 1 | AI42: 7 | AJ42: 1 | AK42: 2 | AL42: 2 | AM42: 5 | AN42: 4 | AO42: 6
A43: DIRECTION COMMERCIALE BAS RHIN | B43: 67 | C43: PFAFFENHOFFEN | D43: M WERNERT HERVE | E43: 94113881 | F43: SOLEDI ARTDECO | G43: 1 | H43: 1 | J43: 1 | K43: MN102202 | L43: P. Morale | M43: 1 | N43: 1 | O43: 0 | P43: 6620.49 | Q43: 43347 | R43: 29088.62 | AD43: 17
A44: DIRECTION COMMERCIALE BAS RHIN | B44: 73 | C44: SCHWEIGHOUSE SUR MODER | D44: MME MOREAU FANNY | E44: 82754744 | F44: SCHAEFFER OLIVIER LOUIS | G44: 1 | H44: 1 | J44: 1 | K44: MN102202 | L44: P. Physique | M44: 2 | N44: 1 | O44: 0 | P44: 28205.84 | Q44: 29803 | R44: 23922.62 | S44: 2987.53 | T44: 270 | U44: 6814.53 | V44: 12233.69 | W44: 4647.84 | X44: 6289.21 | Y44: 1011.74 | Z44: 10834.6 | AA44: 1127.18 | AB44: 17634.87 | AC44: 4236.83 | AD44: 22 | AE44: 6 | AF44: 2 | AG44: 4 | AH44: 11 | AI44: 5 | AJ44: 3 | AK44: 1 | AL44: 4 | AM44: 8 | AN44: 2 | AO44: 3
A45: DIRECTION COMMERCIALE BAS RHIN | B45: 74 | C45: SOUFFLENHEIM | D45: MLLE DOLLINGER SANDRINE | E45: 82664181 | F45: MR ADNAN ERDEM | G45: 1 | H45: 1 | J45: 1 | K45: MN102102 | L45: P. Physique | M45: 1 | N45: 2 | O45: 2 | P45: 7718.79 | Q45: 34319 | R45: 9010.13 | S45: 0 | T45: 2332 | U45: 4543.39 | V45: 15 | AD45: 6 | AE45: 5 | AF45: 10 | AG45: 1 | AH45: 0
A46: DIRECTION COMMERCIALE BAS RHIN | B46: 78 | C46: LAUTERBOURG | D46: M LEININGER GILLES | E46: 83149234 | F46: SCHMITT CHRISTIAN RENE | G46: 1 | H46: 1 | J46: 1 | K46: MN102202 | L46: P. Physique | M46: 1 | N46: 2 | O46: 0 | P46: 659.27 | Q46: 33193 | R46: 1997.1 | S46: 770 | T46: 1811.6 | U46: 1690 | V46: 1901 | W46: 2380.2 | X46: 1999.9 | Y46: 3090.9 | Z46: 2510.8 | AA46: 1436.65 | AB46: 2335 | AC46: 1358.6 | AD46: 8 | AE46: 3 | AF46: 8 | AG46: 6 | AH46: 6 | AI46: 8 | AJ46: 7 | AK46: 12 | AL46: 9 | AM46: 5 | AN46: 6 | AO46: 2
A47: DIRECTION COMMERCIALE BAS RHIN | B47: 78 | C47: LAUTERBOURG | D47: MLLE CHRISTMANN SARAH | E47: 94088491 | F47: ADELINE K | G47: 1 | H47: 1 | J47: 1 | K47: MN102202 | L47: P. Morale | M47: 1 | N47: 1 | O47: 0 | P47: 7630.98 | Q47: 43357 | R47: 7908 | S47: 13000 | AD47: 20 | AE47: 1
A48: DIRECTION COMMERCIALE BAS RHIN | B48: 80 | C48: WOERTH | D48: M RUSCH STEPHANE | E48: 93943864 | F48: O'DELICES MATIC | G48: 1 | H48: 1 | J48: 1 | K48: MN102202 | L48: P. Morale | M48: 2 | N48: 1 | O48: 0 | P48: 5398.28 | Q48: 43131 | R48: 3777.8 | S48: 5971.5 | T48: 6012.9 | U48: 6886.3 | V48: 15263.62 | W48: 5708.47 | X48: 0 | AA48: 5000 | AD48: 4 | AE48: 5 | AF48: 6 | AG48: 3 | AH48: 6 | AI48: 8 | AJ48: 1 | AM48: 0
A49: DIRECTION COMMERCIALE BAS RHIN | B49: 80 | C49: WOERTH | D49: MLLE CHRISTMANN SARAH | E49: 92781178 | F49: LA CERAMIQUE | G49: 1 | H49: 1 | J49: 1 | K49: MN102401 | L49: P. Morale | M49: 1 | N49: 1 | O49: 0 | P49: 2183.94 | Q49: 42016 | R49: 4625.07 | S49: 5911.57 | T49: 6454.84 | U49: 4925.07 | V49: 2554.32 | W49: 8835.68 | X49: 3797.71 | Y49: 4784.21 | Z49: 3797.71 | AA49: 3797.71 | AB49: 3797.71 | AC49: 5277.46 | AD49: 8 | AE49: 3 | AF49: 6 | AG49: 5 | AH49: 6 | AI49: 6 | AJ49: 8 | AK49: 6 | AL49: 5 | AM49: 8 | AN49: 8 | AO49: 6
A50: DIRECTION COMMERCIALE BAS RHIN | B50: 80 | C50: WOERTH | D50: MME TOUTAIN SANDRINE | E50: 83175558 | F50: ERBS DIDIER | G50: 1 | H50: 1 | J50: 1 | K50: MN102202 | L50: P. Physique | M50: 1 | N50: 2 | O50: 2 | P50: 364.88 | Q50: 35787 | R50: 5259 | AD50: 22
A51: DIRECTION COMMERCIALE BAS RHIN | B51: 82 | C51: BOUXWILLER | D51: MME CHRISTMANN MAGALIE | E51: 93803042 | F51: MA SOLUTION PRO | G51: 1 | H51: 1 | J51: 1 | K51: MN102202 | L51: P. Morale | M51: 1 | N51: 0 | O51: 0 | P51: 5161.42 | Q51: 42977 | R51: 5355.5 | S51: 0 | T51: 5000 | U51: 0 | V51: 0 | W51: 5000 | X51: 0 | Y51: 0 | Z51: 10 | AA51: 6080 | AB51: 5000 | AC51: 500 | AD51: 4 | AE51: 21 | AF51: 5 | AG51: 17 | AH51: 14 | AI51: 13 | AJ51: 16 | AK51: 10 | AL51: 15 | AM51: 17 | AN51: 16 | AO51: 13
A52: DIRECTION COMMERCIALE BAS RHIN | B52: 82 | C52: BOUXWILLER | D52: MME GODIN CAROLINE | E52: 83091074 | F52: MR BERNARD SCHMITT | G52: 1 | H52: 1 | J52: 1 | K52: MN102202 | L52: P. Physique | M52: 1 | N52: 2 | O52: 1 | P52: 5272.21 | Q52: 27180 | R52: 0 | S52: 2643.3 | T52: 0 | U52: 0 | W52: 0 | X52: 1356.7 | Y52: 0 | Z52: 0 | AA52: 26830.9 | AB52: 0 | AC52: 1785.88 | AD52: 20 | AE52: 2 | AF52: 9 | AG52: 3 | AI52: 7 | AJ52: 10 | AK52: 8 | AL52: 14 | AM52: 17 | AN52: 13 | AO52: 17
A53: DIRECTION COMMERCIALE BAS RHIN | B53: 82 | C53: BOUXWILLER | D53: MME KIRCHER CINDY | E53: 93544871 | F53: TRAVAUX ET CONSEILS INTERNATIONAUX | G53: 1 | H53: 1 | J53: 1 | K53: MN102202 | L53: P. Morale | M53: 3 | N53: 1 | O53: 0 | P53: 50157.71 | Q53: 42712 | R53: 9855.14 | S53: 2977.6 | T53: 9390.69 | U53: 9641.85 | V53: 8882.8 | W53: 2096.58 | X53: 5986.89 | Y53: 8157.24 | Z53: 8362.05 | AA53: 12974.03 | AB53: 15403.15 | AC53: 7398.02 | AD53: 13 | AE53: 3 | AF53: 2 | AG53: 3 | AH53: 3 | AI53: 4 | AJ53: 3 | AK53: 3 | AL53: 4 | AM53: 2 | AN53: 4 | AO53: 1
A54: DIRECTION COMMERCIALE BAS RHIN | B54: 85 | C54: INGWILLER | D54: M LIENHARDT MICHEL | E54: 82396594 | F54: SCI 49 RUE DE BENFELD | G54: 1 | H54: 1 | J54: 1 | K54: MN102401 | L54: P. Morale | M54: 1 | N54: 1 | O54: 0 | P54: 1802.81 | Q54: 39437 | R54: 5454.45 | S54: 4863.84 | T54: 2540.36 | U54: 4228.36 | V54: 4569.36 | W54: 4619.36 | X54: 5251.1 | Y54: 4983.9 | Z54: 4239.36 | AA54: 5880.36 | AB54: 6191.08 | AC54: 4988.11 | AD54: 6 | AE54: 2 | AF54: 8 | AG54: 3 | AH54: 7 | AI54: 5 | AJ54: 3 | AK54: 3 | AL54: 6 | AM54: 7 | AN54: 11 | AO54: 3
A55: DIRECTION COMMERCIALE BAS RHIN | B55: 87 | C55: SAVERNE | D55: M AGENCE SAVERNE CENTRE DE CLIENTELE | E55: 91566904 | F55: CANTIN LAURIANE MARTINE | G55: 1 | H55: 1 | J55: 1 | K55: MN102102 | L55: P. Physique | M55: 1 | N55: 2 | O55: 0 | P55: 13313.48 | Q55: 40722 | R55: 7600.38 | S55: 9652.61 | T55: 6046.74 | U55: 4988.47 | AD55: 9 | AE55: 4 | AF55: 6 | AG55: 3
A56: DIRECTION COMMERCIALE BAS RHIN | B56: 87 | C56: SAVERNE | D56: MME JOST CATHERINE | E56: 82391450 | F56: SARL HOTEL RESTAURANT DE LA MARN | G56: 1 | H56: 1 | J56: 1 | K56: MN102202 | L56: P. Morale | M56: 1 | N56: 1 | O56: 0 | P56: 5330.28 | Q56: 37494 | R56: 4222.35 | S56: 3559.05 | T56: 3336.3 | U56: 0 | V56: 9252.15 | W56: 841.5 | X56: 732.6 | Y56: 881.1 | Z56: 1801.8 | AB56: 871.2 | AC56: 7212.75 | AD56: 24 | AE56: 1 | AF56: 11 | AG56: 1 | AH56: 2 | AI56: 3 | AJ56: 2 | AK56: 2 | AL56: 1 | AN56: 1 | AO56: 21
A57: DIRECTION COMMERCIALE BAS RHIN | B57: 87 | C57: SAVERNE | D57: MME JOST CATHERINE | E57: 83130138 | F57: XAYSONGKHAM SIRISAK | G57: 1 | H57: 1 | J57: 1 | K57: MN102202 | L57: P. Physique | M57: 1 | N57: 2 | O57: 1 | P57: 2492.04 | Q57: 32968 | R57: 4151.1 | S57: 1644.39 | T57: 1530.99 | U57: 1848.51 | AD57: 10 | AE57: 8 | AF57: 8 | AG57: 0
A58: DIRECTION COMMERCIALE BAS RHIN | B58: 87 | C58: SAVERNE | D58: MME JOST CATHERINE | E58: 91772601 | F58: COURTAGE STRATEGIE II | G58: 1 | H58: 1 | J58: 1 | K58: MN102202 | L58: P. Morale | M58: 2 | N58: 1 | O58: 0 | P58: 98039.42 | Q58: 40927 | R58: 4694.69 | S58: 1008.52 | T58: 768.33 | U58: 2139.26 | V58: 2587.6 | W58: 3991.45 | X58: 1051.14 | Y58: 1097.67 | Z58: 4468.85 | AA58: 1087.04 | AB58: 1157.41 | AC58: 1208.13 | AD58: 7 | AE58: 6 | AF58: 7 | AG58: 6 | AH58: 7 | AI58: 7 | AJ58: 8 | AK58: 6 | AL58: 7 | AM58: 6 | AN58: 7 | AO58: 7
A59: DIRECTION COMMERCIALE BAS RHIN | B59: 107 | C59: VILLE | D59: MLLE VAHIE Gaelle | E59: 91931893 | F59: GOETTELMANN CAROLINE | G59: 1 | H59: 1 | J59: 1 | K59: MN102102 | L59: P. Physique | M59: 2 | N59: 2 | O59: 2 | P59: 5710.43 | Q59: 41082 | R59: 4027.74 | S59: 2014.27 | T59: 2541.32 | U59: 1494.52 | V59: 1397.73 | W59: 580 | AD59: 7 | AE59: 6 | AF59: 8 | AG59: 5 | AH59: 3 | AI59: 0
A60: DIRECTION COMMERCIALE BAS RHIN | B60: 111 | C60: BENFELD | D60: M OTT Maxime | E60: 94072380 | F60: BAUMERT PLATRERIE | G60: 1 | H60: 1 | J60: 1 | K60: MN102202 | L60: P. Morale | M60: 2 | N60: 1 | O60: 0 | P60: 5922.69 | Q60: 43299 | R60: 36360.69 | S60: 0 | T60: 3690 | AD60: 18 | AE60: 5 | AF60: 1
A61: DIRECTION COMMERCIALE BAS RHIN | B61: 113 | C61: BARR | D61: M OTT Maxime | E61: 82388121 | F61: GROUPE KOBLOTH | G61: 1 | H61: 1 | J61: 1 | K61: MN102202 | L61: P. Morale | M61: 1 | N61: 1 | O61: 0 | P61: 2606.05 | Q61: 37446 | R61: 2280.96 | S61: 1999.8 | T61: 1762.8 | U61: 3649.14 | V61: 952.34 | W61: 1715.46 | X61: 742.14 | Y61: 331.08 | Z61: 0 | AA61: 2446.86 | AB61: 597 | AC61: 3771.72 | AD61: 12 | AE61: 2 | AF61: 2 | AG61: 4 | AH61: 1 | AI61: 2 | AJ61: 2 | AK61: 2 | AL61: 1 | AM61: 1 | AN61: 1 | AO61: 5
A62: DIRECTION COMMERCIALE BAS RHIN | B62: 113 | C62: BARR | D62: M OTT Maxime | E62: 91715228 | F62: SC SENNUR-SALIM | G62: 1 | H62: 1 | J62: 1 | K62: MN102401 | L62: P. Morale | M62: 2 | N62: 1 | O62: 0 | P62: 658.88 | Q62: 40871 | R62: 2220 | S62: 2220 | T62: 2220 | U62: 2220 | V62: 2420 | W62: 2220 | X62: 2220 | Y62: 2620 | Z62: 2220 | AA62: 2220 | AB62: 2220 | AC62: 2220 | AD62: 6 | AE62: 8 | AF62: 3 | AG62: 2 | AH62: 6 | AI62: 17 | AJ62: 4 | AK62: 13 | AL62: 5 | AM62: 7 | AN62: 2 | AO62: 6
A63: DIRECTION COMMERCIALE BAS RHIN | B63: 121 | C63: SCHIRMECK | D63: M AMAND VICTOR | E63: 92703305 | F63: VINS D'ICI - VINS D'AILLEURS | G63: 1 | H63: 1 | J63: 1 | K63: MN102202 | L63: P. Morale | M63: 2 | N63: 1 | O63: 0 | P63: 7522.29 | Q63: 41923 | R63: 2980.18 | S63: 8856.45 | T63: 2139.9 | U63: 2727.34 | V63: 6585.03 | W63: 8368.21 | X63: 3944.56 | Y63: 2541.14 | Z63: 4728.68 | AA63: 3234.14 | AB63: 6469.24 | AC63: 1753.64 | AD63: 8 | AE63: 5 | AF63: 3 | AG63: 3 | AH63: 8 | AI63: 9 | AJ63: 5 | AK63: 1 | AL63: 6 | AM63: 6 | AN63: 6 | AO63: 6
A64: DIRECTION COMMERCIALE BAS RHIN | B64: 121 | C64: SCHIRMECK | D64: M AMAND VICTOR | E64: 93144336 | F64: OR TERRA | G64: 1 | H64: 1 | J64: 1 | K64: MN102202 | L64: P. Morale | M64: 1 | N64: 1 | O64: 0 | P64: 1344.63 | Q64: 42406 | R64: 30 | S64: 16000 | U64: 900 | V64: 0 | W64: 6000 | X64: 0 | Y64: 0 | Z64: 4132.49 | AA64: 7.99 | AB64: 40.05 | AC64: 4126 | AD64: 58 | AE64: 5 | AG64: 1 | AH64: 1 | AI64: 0 | AJ64: 52 | AK64: 70 | AL64: 51 | AM64: 45 | AN64: 63 | AO64: 43
A65: DIRECTION COMMERCIALE BAS RHIN | B65: 121 | C65: SCHIRMECK | D65: M AMAND VICTOR | E65: 94116323 | F65: KECK SANDRA | G65: 1 | H65: 1 | J65: 1 | K65: MN102202 | L65: P. Physique | M65: 1 | N65: 1 | O65: 1 | P65: 1381.76 | Q65: 43368 | R65: 5209.47 | S65: 200 | AD65: 10 | AE65: 1
A66: DIRECTION COMMERCIALE BAS RHIN | B66: 126 | C66: MUTZIG | D66: M AMAND VICTOR | E66: 91649811 | F66: BERNHARDT ERIC | G66: 1 | H66: 1 | J66: 1 | K66: MN102202 | L66: P. Physique | M66: 1 | N66: 2 | O66: 1 | P66: 23045.87 | Q66: 40809 | R66: 3840.6 | S66: 4800 | T66: 4040 | U66: 200 | AD66: 29 | AE66: 8 | AF66: 1 | AG66: 0
A67: DIRECTION COMMERCIALE BAS RHIN | B67: 144 | C67: RIBEAUVILLE | D67: MME WINDHOLTZ FANNY | E67: 92338772 | F67: AGENCE COMMERCIALE ZAMOLO | G67: 1 | H67: 1 | J67: 1 | K67: MN102202 | L67: P. Morale | M67: 2 | N67: 1 | O67: 0 | P67: 1447.83 | Q67: 41535 | R67: 9650 | S67: 10532.14 | T67: 4426.14 | U67: 773.74 | V67: 1028.57 | W67: 5487.65 | X67: 79.2 | Y67: 6095.24 | Z67: 16943 | AA67: 20299.78 | AB67: 21017.62 | AC67: 30022.29 | AD67: 8 | AE67: 4 | AF67: 3 | AG67: 3 | AH67: 3 | AI67: 11 | AJ67: 6 | AK67: 11 | AL67: 11 | AM67: 26 | AN67: 23 | AO67: 20
A68: DIRECTION COMMERCIALE HAUT RHIN | B68: 130 | C68: COLMAR REPUBLIQUE | D68: M FABRIZIO EUMELIO | E68: 82382564 | F68: MAISON BLOCH GENSBURGER | G68: 1 | H68: 1 | J68: 1 | K68: MN102202 | L68: P. Morale | M68: 2 | N68: 1 | O68: 0 | P68: 211732.98 | Q68: 25934 | R68: 22441 | S68: 17807.03 | T68: 12599 | U68: 10188.1 | V68: 11692.25 | W68: 9334.3 | X68: 19097.62 | Y68: 6400.45 | Z68: 10539.1 | AA68: 14955.9 | AB68: 30355.93 | AC68: 21128.28 | AD68: 10 | AE68: 0 | AF68: 5 | AG68: 5 | AH68: 6 | AI68: 5 | AJ68: 5 | AK68: 6 | AL68: 6 | AM68: 5 | AN68: 8 | AO68: 6
A69: DIRECTION COMMERCIALE HAUT RHIN | B69: 130 | C69: COLMAR REPUBLIQUE | D69: M FABRIZIO EUMELIO | E69: 82402087 | F69: DE KORVIN-KROKOWSKI HELENE | G69: 1 | H69: 1 | J69: 1 | K69: MN102102 | L69: P. Physique | M69: 1 | N69: 2 | O69: 2 | P69: 25034.07 | Q69: 30362 | R69: 8615.46 | S69: 7115.94 | T69: 5182 | U69: 3333.12 | V69: 7271.18 | W69: 6205.69 | X69: 8652.63 | Y69: 7467.2 | Z69: 7809.95 | AA69: 7286.35 | AB69: 7119.06 | AC69: 7816.82 | AD69: 6 | AE69: 3 | AF69: 7 | AG69: 4 | AH69: 5 | AI69: 5 | AJ69: 4 | AK69: 6 | AL69: 10 | AM69: 10 | AN69: 11 | AO69: 7
A70: DIRECTION COMMERCIALE HAUT RHIN | B70: 132 | C70: COLMAR MARAICHERS | D70: MME SIEBER LAETITIA | E70: 92516010 | F70: GOLLY NADINE | G70: 1 | H70: 1 | J70: 1 | K70: MN102102 | L70: P. Physique | M70: 1 | N70: 2 | O70: 0 | P70: 53704.55 | Q70: 40893 | R70: 3055 | S70: 1455 | T70: 1760 | U70: 2620 | V70: 3090 | W70: 2386 | X70: 2952 | Y70: 2255 | Z70: 2845 | AA70: 2200 | AB70: 3110 | AC70: 2836 | AD70: 6 | AE70: 4 | AF70: 5 | AG70: 5 | AH70: 9 | AI70: 6 | AJ70: 7 | AK70: 7 | AL70: 8 | AM70: 5 | AN70: 3 | AO70: 10
A71: DIRECTION COMMERCIALE HAUT RHIN | B71: 133 | C71: COLMAR VAUBAN | D71: MME WINDHOLTZ FANNY | E71: 93140076 | F71: LS FINANCEMENTS | G71: 1 | H71: 1 | J71: 1 | K71: MN102202 | L71: P. Morale | M71: 2 | N71: 1 | O71: 0 | P71: 3173.06 | Q71: 42403 | R71: 0 | S71: 0 | T71: 2175.14 | U71: 0 | V71: 0 | W71: 950 | X71: 3000 | Y71: 0 | Z71: 0 | AA71: 0 | AB71: 5000 | AC71: 5000 | AD71: 12 | AE71: 1 | AF71: 2 | AG71: 1 | AH71: 6 | AI71: 6 | AJ71: 12 | AK71: 14 | AL71: 15 | AM71: 23 | AN71: 16 | AO71: 19
A72: DIRECTION COMMERCIALE HAUT RHIN | B72: 139 | C72: INGERSHEIM | D72: MME MARION CATHERINE | E72: 82395513 | F72: SARL VANCUTSEM | G72: 1 | H72: 1 | J72: 1 | K72: MN102202 | L72: P. Morale | M72: 1 | N72: 1 | O72: 0 | P72: 554.08 | Q72: 39070 | R72: 6505.02 | S72: 839.28 | U72: 522 | V72: 100 | X72: 1400 | Y72: 32328.26 | Z72: 21728.87 | AA72: 33654.04 | AB72: 19025.36 | AC72: 22002.92 | AD72: 22 | AE72: 4 | AG72: 1 | AH72: 0 | AJ72: 7 | AK72: 12 | AL72: 11 | AM72: 20 | AN72: 10 | AO72: 12
A73: DIRECTION COMMERCIALE HAUT RHIN | B73: 139 | C73: INGERSHEIM | D73: MME MARION CATHERINE | E73: 93307095 | F73: SCI AVICENNE | G73: 1 | H73: 1 | J73: 1 | K73: MN102401 | L73: P. Morale | M73: 1 | N73: 1 | O73: 0 | P73: 1711.87 | Q73: 42487 | R73: 4940 | S73: 3840 | T73: 3540 | U73: 3740 | V73: 3240 | W73: 4540 | X73: 3240 | Y73: 4270 | Z73: 3240 | AA73: 3340 | AB73: 4120 | AC73: 4740 | AD73: 8 | AE73: 4 | AF73: 5 | AG73: 4 | AH73: 5 | AI73: 8 | AJ73: 4 | AK73: 9 | AL73: 4 | AM73: 4 | AN73: 4 | AO73: 13
A74: DIRECTION COMMERCIALE HAUT RHIN | B74: 147 | C74: GUEBWILLER | D74: M LEININGER ROLAND | E74: 94104837 | F74: THE FARM | G74: 1 | H74: 1 | J74: 1 | K74: MN102202 | L74: P. Morale | M74: 1 | N74: 1 | O74: 0 | P74: 8931.52 | Q74: 43314 | R74: 23680 | T74: 8000 | AD74: 30 | AF74: 0
A75: DIRECTION COMMERCIALE HAUT RHIN | B75: 147 | C75: GUEBWILLER | D75: MME SALZBORN-SCHULIAR Sophie | E75: 94103899 | F75: LES COUZ | G75: 1 | H75: 1 | J75: 1 | K75: MN102202 | L75: P. Morale | M75: 1 | N75: 1 | O75: 0 | P75: 8452.61 | Q75: 43314 | R75: 7516.33 | S75: 995.94 | T75: 2000 | AD75: 11 | AE75: 8 | AF75: 1
A76: DIRECTION COMMERCIALE HAUT RHIN | B76: 152 | C76: KAYSERSBERG | D76: MME GROS Dorothee | E76: 82402595 | F76: AYDIN FAHRETTIN | G76: 1 | H76: 1 | J76: 1 | K76: MN102202 | L76: P. Physique | M76: 1 | N76: 2 | O76: 1 | P76: 4228.13 | Q76: 33715 | R76: 6711.5 | S76: 930 | T76: 0 | U76: 350 | V76: 3200 | W76: 3496 | X76: 2052 | AD76: 34 | AE76: 16 | AF76: 4 | AG76: 14 | AH76: 16 | AI76: 9 | AJ76: 4
A77: DIRECTION COMMERCIALE HAUT RHIN | B77: 154 | C77: LAPOUTROIE | D77: MME MARION CATHERINE | E77: 82398767 | F77: AGENCE COMMERCIALE ET DE GESTION GEORG | G77: 1 | H77: 1 | J77: 1 | K77: MN102102 | L77: P. Morale | M77: 2 | N77: 1 | O77: 0 | P77: 1297.44 | Q77: 40148 | R77: 1936.3 | S77: 1046.25 | T77: 2761.5 | U77: 2961.91 | V77: 1204 | W77: 1134 | X77: 2451.5 | Y77: 2000 | Z77: 1000 | AA77: 358.5 | AB77: 9600 | AC77: 958.5 | AD77: 5 | AE77: 4 | AF77: 6 | AG77: 3 | AH77: 4 | AI77: 4 | AJ77: 6 | AK77: 3 | AL77: 3 | AM77: 3 | AN77: 7 | AO77: 3
A78: DIRECTION COMMERCIALE HAUT RHIN | B78: 156 | C78: SOULTZMATT | D78: MME SALZBORN-SCHULIAR Sophie | E78: 93500132 | F78: GOLLENTZ MARIE JEANNE LEONIE | G78: 1 | H78: 1 | J78: 1 | K78: MN102102 | L78: P. Physique | M78: 1 | N78: 1 | O78: 1 | P78: 21925.12 | Q78: 42664 | R78: 5478.58 | S78: 10789.16 | T78: 5394.58 | U78: 10789.16 | V78: 0 | W78: 6275.02 | X78: 6565.27 | Y78: 6331.51 | Z78: 10083.34 | AA78: 0 | AB78: 5357.62 | AC78: 5394.92 | AD78: 7 | AE78: 4 | AF78: 5 | AG78: 4 | AH78: 3 | AI78: 5 | AJ78: 9 | AK78: 5 | AL78: 7 | AM78: 7 | AN78: 4 | AO78: 2
A79: DIRECTION COMMERCIALE HAUT RHIN | B79: 169 | C79: MULHOUSE ROOSEVELT | D79: M BOUHIEDA Hocine | E79: 92972879 | F79: NATEL INTERNATIONAL | G79: 1 | H79: 1 | J79: 1 | K79: MN102202 | L79: P. Morale | M79: 2 | N79: 1 | O79: 0 | P79: 112439.52 | Q79: 42216 | R79: 416.4 | S79: 0 | T79: 384 | U79: 2367 | V79: 2416.8 | W79: 12761 | X79: 2257.8 | Y79: 223.2 | Z79: 1065 | AA79: 1148.4 | AB79: 3662.04 | AC79: 49800 | AD79: 8 | AE79: 6 | AF79: 3 | AG79: 5 | AH79: 6 | AI79: 5 | AJ79: 7 | AK79: 4 | AL79: 5 | AM79: 3 | AN79: 8 | AO79: 5
A80: DIRECTION COMMERCIALE HAUT RHIN | B80: 170 | C80: MULHOUSE REUNION | D80: M BOUHIEDA Hocine | E80: 91864769 | F80: WALCH GAEL | G80: 1 | H80: 1 | J80: 1 | K80: MN102102 | L80: P. Physique | M80: 2 | N80: 3 | O80: 1 | P80: 18563.45 | Q80: 41012 | R80: 0 | S80: 0 | T80: 390 | U80: 0 | V80: 0 | W80: 0 | X80: 2540 | Y80: 0 | Z80: 3247.5 | AA80: 0 | AB80: 2246 | AC80: 1422 | AD80: 4 | AE80: 4 | AF80: 7 | AG80: 3 | AH80: 6 | AI80: 5 | AJ80: 3 | AK80: 4 | AL80: 6 | AM80: 4 | AN80: 3 | AO80: 5
A81: DIRECTION COMMERCIALE HAUT RHIN | B81: 170 | C81: MULHOUSE REUNION | D81: M BOUHIEDA Hocine | E81: 94052417 | F81: JEGE SERVICES | G81: 1 | H81: 1 | J81: 1 | K81: MN102202 | L81: P. Morale | M81: 2 | N81: 1 | O81: 0 | P81: 6584.37 | Q81: 43257 | R81: 8200 | S81: 650 | T81: 2340 | U81: 460 | V81: 3150 | AD81: 18 | AE81: 15 | AF81: 13 | AG81: 0 | AH81: 0
A82: DIRECTION COMMERCIALE HAUT RHIN | B82: 170 | C82: MULHOUSE REUNION | D82: M SALVI MICHAEL | E82: 93337484 | F82: SICOM | G82: 1 | H82: 1 | J82: 1 | K82: MN102102 | L82: P. Morale | M82: 3 | N82: 1 | O82: 0 | P82: 243685.67 | Q82: 42516 | R82: 165.44 | S82: 103538.23 | T82: 0 | U82: 250 | V82: 0 | W82: 34372.76 | X82: 314.41 | Y82: 0 | Z82: 240 | AA82: 0 | AB82: 0 | AC82: 18000 | AD82: 10 | AE82: 5 | AF82: 10 | AG82: 1 | AH82: 6 | AI82: 6 | AJ82: 7 | AK82: 9 | AL82: 7 | AM82: 8 | AN82: 11 | AO82: 5
A83: DIRECTION COMMERCIALE HAUT RHIN | B83: 170 | C83: MULHOUSE REUNION | D83: MME GEORGIN SYLVIA | E83: 82583884 | F83: MME SCHAUB SCHLIENGER MARTINE | G83: 1 | H83: 1 | J83: 1 | K83: MN102102 | L83: P. Physique | M83: 2 | N83: 2 | O83: 1 | P83: 18838.38 | Q83: 29319 | R83: 7201.42 | S83: 0 | T83: 2000 | AD83: 10 | AE83: 9 | AF83: 2
A84: DIRECTION COMMERCIALE HAUT RHIN | B84: 174 | C84: MULHOUSE DORNACH | D84: M WILHELM Guy | E84: 93859733 | F84: CHEVAL D'OR | G84: 1 | H84: 1 | J84: 1 | K84: MN102202 | L84: P. Morale | M84: 3 | N84: 1 | O84: 0 | P84: 2006.59 | Q84: 43034 | R84: 18039.64 | S84: 14995.9 | T84: 11540.04 | U84: 14233.87 | V84: 9153.01 | W84: 4826.15 | X84: 500 | Y84: 0 | Z84: 100 | AD84: 14 | AE84: 15 | AF84: 20 | AG84: 11 | AH84: 19 | AI84: 8 | AJ84: 3 | AK84: 1 | AL84: 1
A85: DIRECTION COMMERCIALE HAUT RHIN | B85: 178 | C85: SAINT LOUIS | D85: MME MORGEN MANON | E85: 92441310 | F85: OPTIQUE DIEMER | G85: 1 | H85: 1 | J85: 1 | K85: MN102202 | L85: P. Morale | M85: 3 | N85: 2 | O85: 0 | P85: 38223.57 | Q85: 41620 | R85: 103124.58 | S85: 0 | T85: 0 | U85: 1207.26 | V85: 0 | W85: 0 | X85: 0 | Y85: 0 | Z85: 1250 | AA85: 3098.61 | AB85: 4169.06 | AC85: 3911.08 | AD85: 23 | AE85: 2 | AF85: 1 | AG85: 3 | AH85: 1 | AI85: 1 | AJ85: 1 | AK85: 1 | AL85: 9 | AM85: 8 | AN85: 8 | AO85: 2
A86: DIRECTION COMMERCIALE HAUT RHIN | B86: 179 | C86: SIERENTZ | D86: MME REMOND KATHIA | E86: 82399484 | F86: LES COTEAUX SARL | G86: 1 | H86: 1 | J86: 1 | K86: MN102202 | L86: P. Morale | M86: 2 | N86: 0 | O86: 0 | P86: 120665.31 | Q86: 40309 | R86: 0 | S86: 0 | T86: 0 | U86: 0 | V86: 0 | W86: 0 | X86: 0 | Y86: 0 | Z86: 0 | AA86: 0 | AB86: 0 | AC86: 161500 | AD86: 12 | AE86: 3 | AF86: 1 | AG86: 9 | AH86: 3 | AI86: 1 | AJ86: 8 | AK86: 2 | AL86: 2 | AM86: 9 | AN86: 6 | AO86: 1
A87: DIRECTION COMMERCIALE HAUT RHIN | B87: 183 | C87: WITTENHEIM | D87: M HUCK THOMAS | E87: 83234241 | F87: MR SERDAL NAS | G87: 1 | H87: 1 | J87: 1 | K87: MN102202 | L87: P. Physique | M87: 2 | N87: 1 | O87: 2 | P87: 4775.16 | Q87: 36592 | R87: 8290 | S87: 1453.5 | T87: 2300 | U87: 1180 | V87: 2100 | W87: 1700 | X87: 3082 | Y87: 1600 | Z87: 2850 | AA87: 750 | AB87: 1000 | AC87: 2350 | AD87: 20 | AE87: 14 | AF87: 4 | AG87: 6 | AH87: 9 | AI87: 17 | AJ87: 16 | AK87: 13 | AL87: 11 | AM87: 5 | AN87: 7 | AO87: 13
A88: DIRECTION COMMERCIALE HAUT RHIN | B88: 183 | C88: WITTENHEIM | D88: M HUCK THOMAS | E88: 92911090 | F88: SCI DE LA COURONNE 2015 | G88: 1 | H88: 1 | J88: 1 | K88: MN102401 | L88: P. Morale | M88: 3 | N88: 1 | O88: 0 | P88: -85336.7 | Q88: 42184 | R88: 19712.4 | S88: 17940 | T88: 14640 | U88: 12840 | V88: 12840 | W88: 6240 | X88: 22440 | Y88: 66855.89 | Z88: 840 | AA88: 871.31 | AB88: 20840 | AC88: 597379.24 | AD88: 6 | AE88: 5 | AF88: 5 | AG88: 4 | AH88: 4 | AI88: 7 | AJ88: 12 | AK88: 4 | AL88: 6 | AM88: 8 | AN88: 36 | AO88: 12
A89: DIRECTION COMMERCIALE HAUT RHIN | B89: 184 | C89: ILLZACH | D89: M HUCK THOMAS | E89: 93091165 | F89: ARI RENOVATION EURL | G89: 1 | H89: 1 | J89: 1 | K89: MN102202 | L89: P. Morale | M89: 1 | N89: 1 | O89: 0 | P89: 257.83 | Q89: 42343 | R89: 6500 | S89: 5500 | T89: 7000 | U89: 9000 | V89: 140 | W89: 16020 | X89: 200 | AA89: 2806 | AD89: 9 | AE89: 5 | AF89: 4 | AG89: 4 | AH89: 0 | AI89: 4 | AJ89: 2 | AM89: 6
A90: DIRECTION COMMERCIALE HAUT RHIN | B90: 184 | C90: ILLZACH | D90: M HUCK THOMAS | E90: 94096834 | F90: GRAND EST TP | G90: 1 | H90: 1 | J90: 1 | K90: MN102202 | L90: P. Morale | M90: 2 | N90: 1 | O90: 0 | P90: 609.19 | Q90: 43306 | R90: 6000 | S90: 5600 | T90: 1000 | AD90: 26 | AE90: 8 | AF90: 0
A91: DIRECTION COMMERCIALE HAUT RHIN | B91: 184 | C91: ILLZACH | D91: M KUCK PHILIPPE | E91: 82398279 | F91: SCI PANIF | G91: 1 | H91: 1 | J91: 1 | K91: MN102401 | L91: P. Morale | M91: 1 | N91: 0 | O91: 0 | P91: 17003.16 | Q91: 39962 | R91: 13804.8 | S91: 6481.4 | T91: 9243.1 | U91: 12903.1 | V91: 8759.52 | W91: 8357.65 | X91: 7857.65 | Y91: 7726.91 | Z91: 7782.49 | AA91: 7857.65 | AB91: 9642.85 | AC91: 9709.81 | AD91: 9 | AE91: 3 | AF91: 3 | AG91: 4 | AH91: 2 | AI91: 3 | AJ91: 3 | AK91: 2 | AL91: 3 | AM91: 2 | AN91: 1 | AO91: 2
A92: DIRECTION COMMERCIALE HAUT RHIN | B92: 188 | C92: PFASTATT | D92: M HAMMERER LUDOVIC | E92: 93346429 | F92: SCHMITT JACQUES CHRISTIAN | G92: 1 | H92: 1 | J92: 1 | K92: MN102102 | L92: P. Physique | M92: 1 | N92: 2 | O92: 1 | P92: 8585.67 | Q92: 42524 | R92: 16205.02 | S92: 1548.93 | T92: 115 | AD92: 14 | AE92: 2 | AF92: 0
A93: DIRECTION COMMERCIALE HAUT RHIN | B93: 188 | C93: PFASTATT | D93: M HAMMERER LUDOVIC | E93: 93875776 | F93: CONSULTING AND CO | G93: 1 | H93: 1 | J93: 1 | K93: MN102202 | L93: P. Morale | M93: 1 | N93: 1 | O93: 0 | P93: 22172.85 | Q93: 43054 | R93: 17467.92 | S93: 17170.56 | T93: 18026.76 | U93: 6224.52 | V93: 28276.8 | W93: 0 | X93: 18478.28 | Y93: 0 | AB93: 1800 | AC93: 1000 | AD93: 12 | AE93: 4 | AF93: 3 | AG93: 6 | AH93: 4 | AI93: 3 | AJ93: 1 | AK93: 1 | AN93: 0 | AO93: 0
A94: DIRECTION COMMERCIALE HAUT RHIN | B94: 188 | C94: PFASTATT | D94: M HAMMERER LUDOVIC | E94: 94083331 | F94: TP GOLD | G94: 1 | H94: 1 | J94: 1 | K94: MN102202 | L94: P. Morale | M94: 1 | N94: 1 | O94: 0 | P94: 1354.61 | Q94: 43288 | R94: 4709.3 | S94: 2402.21 | T94: 2999.65 | U94: 500 | AD94: 20 | AE94: 15 | AF94: 19 | AG94: 1
A95: DIRECTION COMMERCIALE HAUT RHIN | B95: 188 | C95: PFASTATT | D95: M HAMMERER LUDOVIC | E95: 94114713 | F95: 7 ETOILES LINES | G95: 1 | H95: 1 | J95: 1 | K95: MN102202 | L95: P. Morale | M95: 1 | N95: 1 | O95: 0 | P95: 16790.62 | Q95: 43329 | R95: 34852.22 | AD95: 16
A96: DIRECTION COMMERCIALE HAUT RHIN | B96: 193 | C96: DANNEMARIE | D96: MME BISCHOFF CHANTAL | E96: 92984934 | F96: PICARD CLAIRE | G96: 1 | H96: 1 | J96: 1 | K96: MN102102 | L96: P. Physique | M96: 1 | N96: 3 | O96: 2 | P96: 41182.01 | Q96: 41963 | R96: 2967.84 | S96: 434.85 | T96: 964.38 | U96: 8.58 | AD96: 16 | AE96: 1 | AF96: 0 | AG96: 0
A97: DIRECTION COMMERCIALE HAUT RHIN | B97: 194 | C97: THANN | D97: M PARDAVILA ALEXANDRE | E97: 93812055 | F97: FINANDGO | G97: 1 | H97: 1 | J97: 1 | K97: MN102202 | L97: P. Morale | M97: 2 | N97: 1 | O97: 0 | P97: 2314.04 | Q97: 42986 | R97: 1711 | S97: 0 | T97: 3600 | U97: 600 | V97: 1000 | W97: 2300 | X97: 196 | Y97: 1600 | Z97: 19 | AA97: 778 | AB97: 18.5 | AC97: 826 | AD97: 16 | AE97: 3 | AF97: 4 | AG97: 4 | AH97: 9 | AI97: 13 | AJ97: 8 | AK97: 13 | AL97: 12 | AM97: 14 | AN97: 21 | AO97: 19
A98: DIRECTION COMMERCIALE HAUT RHIN | B98: 195 | C98: CERNAY | D98: MME JUNG CELINE | E98: 93602414 | F98: SEN ABDULLAH | G98: 1 | H98: 1 | J98: 1 | K98: MN102202 | L98: P. Physique | M98: 1 | N98: 1 | O98: 1 | P98: 3558.09 | Q98: 42770 | R98: 5615.2 | S98: 575.85 | T98: 735 | U98: 2270.87 | V98: 2639.96 | W98: 2102 | X98: 2620.45 | Y98: 116.8 | Z98: 3642.63 | AA98: 1543.67 | AB98: 3255 | AC98: 3814.68 | AD98: 16 | AE98: 14 | AF98: 28 | AG98: 62 | AH98: 49 | AI98: 24 | AJ98: 14 | AK98: 27 | AL98: 20 | AM98: 23 | AN98: 23 | AO98: 27

Sheet Sorties Actifs ND
A1: Direction Commerciale | B1: ES | C1: Libellé ES | D1: Nom Gestionnaire | E1: N° Personne | F1: Nom du client | G1: Client Présent M-1 | H1: Client Présent M | I1: ACTIFS ND M-1 | J1: ACTIFS ND M | K1: Code Marché | L1: Personnalité Juridique | M1: Nbre CCE | N1: Nbre Forfaits | O1: Nbre Carte Paiement | P1: SF TOT | Q1: Date arrivée | R1: Montant flux M | S1: Montant flux M-1 | T1: Montant flux M-2 | U1: Montant flux M-3 | V1: Montant flux M-4 | W1: Montant flux M-5 | X1: Montant flux M-6 | Y1: Montant flux M-7 | Z1: Montant flux M-8 | AA1: Montant flux M-9 | AB1: Montant flux M-10 | AC1: Montant flux M-11 | AD1: NB flux deb M | AE1: NB flux deb M-1 | AF1: NB flux deb M-2 | AG1: NB flux deb M-3 | AH1: NB flux deb M-4 | AI1: NB flux deb M-5 | AJ1: NB flux deb M-6 | AK1: NB flux deb M-7 | AL1: NB flux deb M-8 | AM1: NB flux deb M-9 | AN1: NB flux deb M-10 | AO1: NB flux deb M-11
A2: DIRECTION COMMERCIALE BAS RHIN | B2: 6 | C2: STRASBOURG NEUDORF | D2: M GROSS Olivier | E2: 82453434 | F2: MIEHE MARIE | G2: 1 | H2: 1 | I2: 1 | K2: MN102102 | L2: P. Physique | M2: 1 | N2: 1 | O2: 0 | P2: 155056.37 | Q2: 31686 | R2: 6724 | S2: 4880.13 | T2: 4968.58 | U2: 6736.65 | V2: 9466.54 | W2: 7048.61 | X2: 8841.73 | Y2: 7691.63 | Z2: 6146.33 | AA2: 6731.37 | AB2: 3935.68 | AC2: 6522.48 | AD2: 5 | AE2: 3 | AF2: 6 | AG2: 8 | AH2: 8 | AI2: 7 | AJ2: 8 | AK2: 8 | AL2: 7 | AM2: 9 | AN2: 5 | AO2: 7
A3: DIRECTION COMMERCIALE BAS RHIN | B3: 6 | C3: STRASBOURG NEUDORF | D3: M GROSS Olivier | E3: 82727349 | F3: WENDLING OLIVIER | G3: 1 | H3: 1 | I3: 1 | K3: MN102102 | L3: P. Physique | M3: 1 | N3: 2 | O3: 1 | P3: 74540.69 | Q3: 33234 | R3: 9.68 | S3: 3062.85 | T3: 1897.53 | U3: 8943.11 | V3: 11467.2 | W3: 25920.56 | X3: 9744.27 | Y3: 6424.62 | Z3: 10439.69 | AA3: 14125.88 | AB3: 10116.42 | AC3: 3981 | AD3: 2 | AE3: 4 | AF3: 6 | AG3: 8 | AH3: 2 | AI3: 7 | AJ3: 4 | AK3: 11 | AL3: 5 | AM3: 8 | AN3: 5 | AO3: 3
A4: DIRECTION COMMERCIALE BAS RHIN | B4: 6 | C4: STRASBOURG NEUDORF | D4: M GROSS Olivier | E4: 91167350 | F4: BIENAIME EUGENIE LUCIE FRANCOISE | G4: 1 | H4: 1 | I4: 1 | K4: MN102202 | L4: P. Physique | M4: 1 | N4: 2 | O4: 1 | P4: 755.61 | Q4: 40344 | R4: 3233.01 | S4: 4713.18 | T4: 2192.16 | U4: 4013.48 | V4: 6029.41 | W4: 3473.27 | X4: 3007.7 | Y4: 2495.45 | Z4: 2568.56 | AA4: 4429.82 | AB4: 3210.56 | AC4: 2362.55 | AD4: 5 | AE4: 3 | AF4: 5 | AG4: 12 | AH4: 7 | AI4: 15 | AJ4: 11 | AK4: 8 | AL4: 10 | AM4: 12 | AN4: 10 | AO4: 8
A5: DIRECTION COMMERCIALE BAS RHIN | B5: 6 | C5: STRASBOURG NEUDORF | D5: M GROSS Olivier | E5: 93839860 | F5: NH TRANSPORTS | G5: 1 | H5: 1 | I5: 1 | K5: MN102202 | L5: P. Morale | M5: 1 | N5: 1 | O5: 0 | P5: 46876.4 | Q5: 43014 | R5: 10224 | S5: 0 | T5: 15905 | U5: 7884 | V5: 0 | W5: 15096 | X5: 1152 | Y5: 0 | AD5: 3 | AE5: 4 | AF5: 4 | AG5: 7 | AH5: 8 | AI5: 8 | AJ5: 7 | AK5: 2
A6: DIRECTION COMMERCIALE BAS RHIN | B6: 6 | C6: STRASBOURG NEUDORF | D6: M WEIBLE JEREMY | E6: 92962331 | F6: NGUYEN HOANG LAN ANNIE | G6: 1 | H6: 1 | I6: 1 | K6: MN102102 | L6: P. Physique | M6: 1 | N6: 2 | O6: 1 | P6: 107700.8 | Q6: 42206 | R6: 6890.13 | S6: 1192.24 | T6: 11515.45 | U6: 9698.89 | V6: 7941.72 | W6: 8094.96 | X6: 9797.51 | Y6: 7845.5 | Z6: 9865.75 | AA6: 8344.27 | AB6: 8238.2 | AC6: 9379.79 | AD6: 2 | AE6: 7 | AF6: 5 | AG6: 6 | AH6: 3 | AI6: 4 | AJ6: 5 | AK6: 7 | AL6: 7 | AM6: 9 | AN6: 13 | AO6: 9
A7: DIRECTION COMMERCIALE BAS RHIN | B7: 7 | C7: ILLKIRCH CENTRE | D7: M AUTIXIERE Dimitri | E7: 83097541 | F7: ROTH PEGGY | G7: 1 | H7: 1 | I7: 1 | K7: MN102102 | L7: P. Physique | M7: 1 | N7: 0 | O7: 1 | P7: 58188.29 | Q7: 32094 | R7: 1642 | S7: 1879 | T7: 1794 | U7: 2311 | V7: 2620 | W7: 1961 | X7: 2162 | Y7: 1910 | Z7: 2158 | AA7: 1216 | AB7: 2269 | AC7: 1975 | AD7: 6 | AE7: 8 | AF7: 7 | AG7: 9 | AH7: 8 | AI7: 7 | AJ7: 8 | AK7: 10 | AL7: 7 | AM7: 9 | AN7: 5 | AO7: 7
A8: DIRECTION COMMERCIALE BAS RHIN | B8: 7 | C8: ILLKIRCH CENTRE | D8: MME LOBSTEIN LAETITIA | E8: 82389123 | F8: A.M.A. AACHOUR SARL | G8: 1 | H8: 1 | I8: 1 | K8: MN102202 | L8: P. Morale | M8: 2 | N8: 1 | O8: 0 | P8: 844.37 | Q8: 40816 | R8: 23.33 | S8: 0 | T8: 7683.89 | U8: 0 | V8: 470.4 | W8: 0 | X8: 5000 | Y8: 10866.83 | Z8: 46666.92 | AA8: 7561.67 | AB8: 30002 | AC8: 26768.83 | AD8: 6 | AE8: 4 | AF8: 4 | AG8: 7 | AH8: 3 | AI8: 6 | AJ8: 5 | AK8: 8 | AL8: 8 | AM8: 13 | AN8: 12 | AO8: 18
A9: DIRECTION COMMERCIALE BAS RHIN | B9: 8 | C9: FEGERSHEIM | D9: MME MARCALO CATIA | E9: 82469841 | F9: SOLT ERIC | G9: 1 | H9: 1 | I9: 1 | K9: MN102102 | L9: P. Physique | M9: 2 | N9: 2 | O9: 2 | P9: 100842.54 | Q9: 33259 | R9: 15468.5 | S9: 18668 | T9: 16160 | U9: 12940 | V9: 16465 | W9: 7175 | X9: 24935.61 | Y9: 21670 | Z9: 226540 | AA9: 14789.9 | AB9: 19120 | AC9: 7356.1 | AD9: 4 | AE9: 3 | AF9: 6 | AG9: 7 | AH9: 7 | AI9: 9 | AJ9: 11 | AK9: 10 | AL9: 8 | AM9: 9 | AN9: 5 | AO9: 7
A10: DIRECTION COMMERCIALE BAS RHIN | B10: 8 | C10: FEGERSHEIM | D10: MME MARCALO CATIA | E10: 92211236 | F10: RESTO'PRISE | G10: 1 | H10: 1 | I10: 1 | K10: MN102202 | L10: P. Morale | M10: 1 | N10: 0 | O10: 0 | P10: 236.2 | Q10: 41374 | R10: 734.63 | S10: 34 | T10: 9983.6 | U10: 14050.29 | V10: 20002.41 | W10: 11409.28 | X10: 15138.52 | Y10: 15806.41 | Z10: 15800.07 | AA10: 16639.14 | AB10: 14430.24 | AC10: 17572.81 | AD10: 2 | AE10: 2 | AF10: 4 | AG10: 43 | AH10: 51 | AI10: 31 | AJ10: 44 | AK10: 43 | AL10: 48 | AM10: 43 | AN10: 39 | AO10: 38
A11: DIRECTION COMMERCIALE BAS RHIN | B11: 14 | C11: OSTWALD | D11: MME JASAREVIC SANELA | E11: 92478484 | F11: KAYSERI SARL | G11: 1 | H11: 1 | I11: 1 | K11: MN102202 | L11: P. Morale | M11: 2 | N11: 1 | O11: 0 | P11: 64769.31 | Q11: 41681 | R11: 0 | S11: 0 | T11: 0 | U11: 0 | V11: 0 | W11: 0 | X11: 0 | Y11: 0 | Z11: 0 | AA11: 0 | AB11: 4 | AC11: 0 | AD11: 1 | AE11: 1 | AF11: 8 | AG11: 8 | AH11: 9 | AI11: 1 | AJ11: 3 | AK11: 3 | AL11: 4 | AM11: 1 | AN11: 1 | AO11: 2
A12: DIRECTION COMMERCIALE BAS RHIN | B12: 15 | C12: LINGOLSHEIM | D12: MME MARCALO CATIA | E12: 83108760 | F12: BRAIEK ALEXANDRE | G12: 1 | H12: 1 | I12: 1 | K12: MN102202 | L12: P. Physique | M12: 1 | N12: 3 | O12: 1 | P12: 25300.71 | Q12: 36997 | R12: 4982.2 | S12: 5241.3 | T12: 1839 | U12: 7252.9 | V12: 3216.08 | W12: 3098.5 | X12: 3984.2 | Y12: 2783 | Z12: 9843.43 | AA12: 6490.15 | AB12: 6762.3 | AC12: 5481.85 | AD12: 3 | AE12: 3 | AF12: 5 | AG12: 8 | AH12: 4 | AI12: 4 | AJ12: 8 | AK12: 3 | AL12: 5 | AM12: 6 | AN12: 8 | AO12: 4
A13: DIRECTION COMMERCIALE BAS RHIN | B13: 15 | C13: LINGOLSHEIM | D13: MME MARCALO CATIA | E13: 91451410 | F13: TRANSPORTS ALBERT EURL | G13: 1 | H13: 1 | I13: 1 | K13: MN102202 | L13: P. Morale | M13: 2 | N13: 1 | O13: 0 | P13: 8173.72 | Q13: 40606 | R13: 8000 | S13: 0 | T13: 0 | U13: 2673.6 | V13: 4083.8 | W13: 5612.6 | X13: 3234 | Y13: 8908.5 | Z13: 2646 | AA13: 6338.2 | AB13: 6639 | AC13: 10483.2 | AD13: 5 | AE13: 5 | AF13: 4 | AG13: 7 | AH13: 17 | AI13: 10 | AJ13: 27 | AK13: 29 | AL13: 30 | AM13: 30 | AN13: 30 | AO13: 32
A14: DIRECTION COMMERCIALE BAS RHIN | B14: 18 | C14: ESPACE MESANGE | D14: M CASTELEYN VINCENT | E14: 93412417 | F14: IMMEUBLE PRIVE | G14: 1 | H14: 1 | I14: 1 | K14: MN102102 | L14: P. Morale | M14: 1 | N14: 1 | O14: 0 | P14: -3224.11 | Q14: 42614 | R14: 500 | S14: 3000 | T14: 6500 | U14: 0 | V14: 2000 | W14: 3884 | X14: 2500 | Y14: 5000 | Z14: 5000 | AA14: 10500 | AB14: 0 | AC14: 16680.11 | AD14: 3 | AE14: 5 | AF14: 5 | AG14: 9 | AH14: 4 | AI14: 6 | AJ14: 10 | AK14: 4 | AL14: 7 | AM14: 16 | AN14: 3 | AO14: 7
A15: DIRECTION COMMERCIALE BAS RHIN | B15: 18 | C15: ESPACE MESANGE | D15: M CASTELEYN VINCENT | E15: 93436122 | F15: SCI KIRCHER | G15: 1 | H15: 1 | I15: 1 | K15: MN102401 | L15: P. Morale | M15: 1 | N15: 1 | O15: 0 | P15: 2904.9 | Q15: 42656 | R15: 7071 | S15: 6111 | T15: 4431 | U15: 6791 | V15: 19401 | W15: 4891 | X15: 4891 | Y15: 5611 | Z15: 5131 | AA15: 14676 | AB15: 918 | AC15: 918 | AD15: 5 | AE15: 5 | AF15: 2 | AG15: 11 | AH15: 2 | AI15: 6 | AJ15: 4 | AK15: 3 | AL15: 3 | AM15: 11 | AN15: 4 | AO15: 0
A16: DIRECTION COMMERCIALE BAS RHIN | B16: 18 | C16: ESPACE MESANGE | D16: M CASTELEYN VINCENT | E16: 94004092 | F16: RASCASSE SAS | G16: 1 | H16: 1 | I16: 1 | K16: MN102202 | L16: P. Morale | M16: 1 | N16: 1 | O16: 0 | P16: 4512.03 | Q16: 43196 | R16: 0 | S16: 0 | T16: 0 | U16: 0 | AD16: 4 | AE16: 5 | AF16: 4 | AG16: 13
A17: DIRECTION COMMERCIALE BAS RHIN | B17: 18 | C17: ESPACE MESANGE | D17: M CASTELEYN VINCENT | E17: 94028679 | F17: VILLA BLANCA | G17: 1 | H17: 1 | I17: 1 | K17: MN102202 | L17: P. Morale | M17: 2 | N17: 1 | O17: 0 | P17: 17694.22 | Q17: 43258 | R17: 0 | S17: 16756 | T17: 0 | U17: 32000 | V17: 10000 | AD17: 1 | AE17: 8 | AF17: 3 | AG17: 7 | AH17: 0
A18: DIRECTION COMMERCIALE BAS RHIN | B18: 18 | C18: ESPACE MESANGE | D18: M STARCK Gaetan | E18: 93188962 | F18: AVENIR & BOIS | G18: 1 | H18: 1 | I18: 1 | K18: MN102202 | L18: P. Morale | M18: 1 | N18: 1 | O18: 0 | P18: 64.73 | Q18: 43158 | S18: 5000 | T18: 1500 | U18: 9651.82 | V18: 4608.86 | AE18: 2 | AF18: 1 | AG18: 13 | AH18: 1
A19: DIRECTION COMMERCIALE BAS RHIN | B19: 18 | C19: ESPACE MESANGE | D19: M STARCK Gaetan | E19: 93803809 | F19: SCI DU 2 RUE SAINT-GILLES | G19: 1 | H19: 1 | I19: 1 | K19: MN102401 | L19: P. Morale | M19: 1 | N19: 1 | O19: 0 | P19: 46603.07 | Q19: 42998 | R19: 0 | S19: 0 | T19: 0 | U19: 0 | V19: 0 | W19: 0 | X19: 0 | Y19: 0 | Z19: 0 | AA19: 0 | AB19: 0 | AD19: 1 | AE19: 6 | AF19: 4 | AG19: 6 | AH19: 7 | AI19: 7 | AJ19: 3 | AK19: 12 | AL19: 1 | AM19: 4 | AN19: 3
A20: DIRECTION COMMERCIALE BAS RHIN | B20: 18 | C20: ESPACE MESANGE | D20: MME CRAVTOV ELENA | E20: 82386470 | F20: SCI LE FLORAC | G20: 1 | H20: 1 | I20: 1 | K20: MN102401 | L20: P. Morale | M20: 1 | N20: 0 | O20: 0 | P20: 91038.34 | Q20: 35320 | R20: 5735.85 | S20: 4305 | T20: 4103.55 | U20: 4504.81 | V20: 3425 | W20: 6155.55 | X20: 6942.1 | Y20: 5995 | Z20: 5853.55 | AA20: 6669.84 | AB20: 6320 | AC20: 6263.55 | AD20: 7 | AE20: 5 | AF20: 1 | AG20: 12 | AH20: 4 | AI20: 2 | AJ20: 2 | AK20: 2 | AL20: 4 | AM20: 3 | AN20: 6 | AO20: 4
A21: DIRECTION COMMERCIALE BAS RHIN | B21: 19 | C21: STRASBOURG ANVERS | D21: MLLE GAUTHIER-LAFAYE Muriel | E21: 82389319 | F21: PHARMACIE DE L EUROPE | G21: 1 | H21: 1 | I21: 1 | K21: MN102102 | L21: P. Morale | M21: 1 | N21: 0 | O21: 0 | P21: 1508.28 | Q21: 36818 | R21: 13.9 | S21: 0 | T21: 428.39 | U21: 6127.69 | V21: 129.7 | W21: 3320.35 | X21: 5557.7 | Y21: 3048.66 | Z21: 4644.08 | AA21: 9152.62 | AB21: 174.19 | AC21: 3868.3 | AD21: 4 | AE21: 3 | AF21: 6 | AG21: 6 | AH21: 4 | AI21: 6 | AJ21: 8 | AK21: 8 | AL21: 10 | AM21: 14 | AN21: 3 | AO21: 15
A22: DIRECTION COMMERCIALE BAS RHIN | B22: 19 | C22: STRASBOURG ANVERS | D22: MLLE GAUTHIER-LAFAYE Muriel | E22: 82466111 | F22: ZIMMERMANN ALEXANDRE | G22: 1 | H22: 1 | I22: 1 | K22: MN102102 | L22: P. Physique | M22: 1 | N22: 3 | O22: 1 | P22: 3512.55 | Q22: 26368 | R22: 6002.49 | S22: 7101.1 | T22: 6794.1 | U22: 14209.1 | V22: 11961.1 | W22: 18906.64 | X22: 12869.94 | Y22: 17359.39 | Z22: 24067.18 | AA22: 34074.5 | AB22: 2285.55 | AC22: 6427.55 | AD22: 3 | AE22: 3 | AF22: 8 | AG22: 6 | AH22: 9 | AI22: 9 | AJ22: 6 | AK22: 9 | AL22: 13 | AM22: 13 | AN22: 6 | AO22: 4
A23: DIRECTION COMMERCIALE BAS RHIN | B23: 19 | C23: STRASBOURG ANVERS | D23: MLLE GAUTHIER-LAFAYE Muriel | E23: 93610983 | F23: SCI ESPACE | G23: 1 | H23: 1 | I23: 1 | K23: MN102402 | L23: P. Morale | M23: 1 | N23: 1 | O23: 0 | P23: 5825.55 | Q23: 42777 | R23: 12165.98 | S23: 8521.88 | T23: 8521.88 | U23: 8521.88 | V23: 8521.88 | W23: 8521.88 | X23: 8521.88 | Y23: 8521.88 | Z23: 8521.88 | AA23: 8521.88 | AB23: 8521.88 | AC23: 8521.88 | AD23: 4 | AE23: 4 | AF23: 4 | AG23: 8 | AH23: 4 | AI23: 9 | AJ23: 4 | AK23: 3 | AL23: 8 | AM23: 3 | AN23: 6 | AO23: 5
A24: DIRECTION COMMERCIALE BAS RHIN | B24: 19 | C24: STRASBOURG ANVERS | D24: MLLE GAUTHIER-LAFAYE Muriel | E24: 93899849 | F24: SCI QIGU | G24: 1 | H24: 1 | I24: 1 | K24: MN102401 | L24: P. Morale | M24: 1 | N24: 1 | O24: 0 | P24: 768.87 | Q24: 43082 | R24: 24475.76 | S24: 61808.8 | T24: 2975.76 | U24: 49353.94 | V24: 21500 | W24: 16245.64 | Z24: 13000 | AA24: 2000 | AD24: 1 | AE24: 5 | AF24: 0 | AG24: 10 | AH24: 2 | AI24: 4 | AL24: 2 | AM24: 0
A25: DIRECTION COMMERCIALE BAS RHIN | B25: 20 | C25: STRASBOURG ROBERTSAU | D25: MME MRIOUD NORA | E25: 92942699 | F25: KOCBAY DURMUS | G25: 1 | H25: 1 | I25: 1 | K25: MN102202 | L25: P. Physique | M25: 1 | N25: 1 | O25: 0 | P25: 1115.85 | Q25: 42186 | R25: 2750 | S25: 1023 | T25: 840 | U25: 4096.69 | V25: 8674.91 | W25: 0 | X25: 5380 | Y25: 0 | Z25: 0 | AA25: 15700 | AB25: 0 | AC25: 100 | AD25: 2 | AE25: 3 | AF25: 3 | AG25: 10 | AH25: 4 | AI25: 1 | AJ25: 3 | AK25: 5 | AL25: 9 | AM25: 5 | AN25: 2 | AO25: 2
A26: DIRECTION COMMERCIALE BAS RHIN | B26: 23 | C26: STRASBOURG VOSGES | D26: MLLE GAUTHIER-LAFAYE Muriel | E26: 82383103 | F26: SAKHY FRERES | G26: 1 | H26: 1 | I26: 1 | K26: MN102202 | L26: P. Morale | M26: 2 | N26: 0 | O26: 0 | P26: 1508.3 | Q26: 34982 | AA26: 6316.84 | AM26: 31
A27: DIRECTION COMMERCIALE BAS RHIN | B27: 23 | C27: STRASBOURG VOSGES | D27: MLLE GAUTHIER-LAFAYE Muriel | E27: 82383103 | F27: SAKHY FRERES | G27: 1 | H27: 1 | I27: 1 | K27: MN102202 | L27: P. Morale | M27: 1 | N27: 0 | O27: 0 | P27: 1508.3 | Q27: 34982 | R27: 50 | S27: 300 | T27: 22050 | U27: 0 | V27: 1583 | W27: 0 | X27: 14369.4 | Y27: 8182.02 | Z27: 9460.02 | AB27: 6773.56 | AC27: 5884.7 | AD27: 2 | AE27: 3 | AF27: 9 | AG27: 16 | AH27: 21 | AI27: 23 | AJ27: 26 | AK27: 26 | AL27: 21 | AN27: 19 | AO27: 25
A28: DIRECTION COMMERCIALE BAS RHIN | B28: 23 | C28: STRASBOURG VOSGES | D28: MLLE GAUTHIER-LAFAYE Muriel | E28: 82565816 | F28: MARTY GENEVIEVE CARINE | G28: 1 | H28: 1 | I28: 1 | K28: MN102102 | L28: P. Physique | M28: 2 | N28: 2 | O28: 1 | P28: 141297.99 | Q28: 35339 | R28: 2445 | S28: 13000 | T28: 2550 | U28: 4000 | V28: 28000 | W28: 12700 | X28: 8000 | Y28: 4000 | Z28: 12000 | AA28: 3000 | AB28: 9000 | AC28: 6000 | AD28: 3 | AE28: 4 | AF28: 6 | AG28: 7 | AH28: 7 | AI28: 10 | AJ28: 7 | AK28: 7 | AL28: 8 | AM28: 4 | AN28: 7 | AO28: 9
A29: DIRECTION COMMERCIALE BAS RHIN | B29: 24 | C29: STRASBOURG AUSTERLITZ | D29: M MONTAISE HERVE | E29: 83043323 | F29: RITTER LEFEBVRE ANNE SOPHIE | G29: 1 | H29: 1 | I29: 1 | K29: MN102102 | L29: P. Physique | M29: 2 | N29: 2 | O29: 1 | P29: 25619.84 | Q29: 30504 | R29: 8694.41 | S29: 8814.02 | T29: 3380.98 | U29: 6192.14 | V29: 7980.09 | W29: 6900.21 | X29: 7249.65 | Y29: 7844.02 | Z29: 11355.7 | AA29: 6485.18 | AB29: 10176.53 | AC29: 6597.94 | AD29: 6 | AE29: 5 | AF29: 3 | AG29: 7 | AH29: 6 | AI29: 6 | AJ29: 10 | AK29: 8 | AL29: 11 | AM29: 8 | AN29: 8 | AO29: 7
A30: DIRECTION COMMERCIALE BAS RHIN | B30: 24 | C30: STRASBOURG AUSTERLITZ | D30: M WEIBLE JEREMY | E30: 82468166 | F30: FISCHER BRIGITTE | G30: 1 | H30: 1 | I30: 1 | K30: MN102102 | L30: P. Physique | M30: 2 | N30: 1 | O30: 0 | P30: 45071.97 | Q30: 33767 | R30: 179.98 | S30: 7425.94 | T30: 96.55 | U30: 75.54 | V30: 3576.29 | W30: 6966.47 | X30: 5235.25 | Y30: 5890.28 | Z30: 0 | AA30: 4421.56 | AB30: 4009.73 | AC30: 9116.72 | AD30: 5 | AE30: 5 | AF30: 4 | AG30: 6 | AH30: 7 | AI30: 6 | AJ30: 5 | AK30: 4 | AL30: 4 | AM30: 4 | AN30: 6 | AO30: 4
A31: DIRECTION COMMERCIALE BAS RHIN | B31: 24 | C31: STRASBOURG AUSTERLITZ | D31: M WEIBLE JEREMY | E31: 91522457 | F31: LE PETIT CAB' | G31: 1 | H31: 1 | I31: 1 | K31: MN102202 | L31: P. Morale | M31: 2 | N31: 0 | O31: 0 | P31: 501.49 | Q31: 40676 | R31: 3505 | S31: 1061.53 | T31: 6070.98 | U31: 9000 | V31: 31573.65 | W31: 46310.27 | X31: 66872.68 | Y31: 56685.13 | Z31: 66905.52 | AA31: 51164.06 | AB31: 59094.56 | AC31: 68905.85 | AD31: 1 | AE31: 2 | AF31: 4 | AG31: 11 | AH31: 19 | AI31: 52 | AJ31: 88 | AK31: 65 | AL31: 71 | AM31: 68 | AN31: 81 | AO31: 69
A32: DIRECTION COMMERCIALE BAS RHIN | B32: 25 | C32: STRASBOURG ESPLANADE | D32: M DAVID Didier | E32: 93281742 | F32: LE MORFAL | G32: 1 | H32: 1 | I32: 1 | K32: MN102202 | L32: P. Morale | M32: 2 | N32: 1 | O32: 0 | P32: 3551.26 | Q32: 42459 | R32: 3000 | S32: 2110.41 | T32: 6159.93 | U32: 4500 | V32: 5500 | W32: 3020 | X32: 4000 | Y32: 4522.91 | Z32: 4500 | AA32: 5450 | AB32: 2000 | AC32: 6000 | AD32: 5 | AE32: 4 | AF32: 5 | AG32: 7 | AH32: 9 | AI32: 6 | AJ32: 4 | AK32: 6 | AL32: 7 | AM32: 3 | AN32: 5 | AO32: 4
A33: DIRECTION COMMERCIALE BAS RHIN | B33: 25 | C33: STRASBOURG ESPLANADE | D33: M DAVID Didier | E33: 93555360 | F33: Y & D RENOVATION | G33: 1 | H33: 1 | I33: 1 | K33: MN102202 | L33: P. Morale | M33: 1 | N33: 1 | O33: 0 | P33: 8505.56 | Q33: 42724 | R33: 0 | S33: 0 | T33: 0 | U33: 924 | V33: 4626.2 | W33: 2570.74 | X33: 13050 | Y33: 3365.1 | Z33: 4287 | AA33: 3270.67 | AB33: 1677 | AC33: 29331.61 | AD33: 1 | AE33: 2 | AF33: 9 | AG33: 33 | AH33: 25 | AI33: 30 | AJ33: 31 | AK33: 42 | AL33: 33 | AM33: 42 | AN33: 34 | AO33: 55
A34: DIRECTION COMMERCIALE BAS RHIN | B34: 30 | C34: BRUMATH | D34: M COLINET JEAN-FRANCOIS | E34: 82764072 | F34: WEIL JONATHAN | G34: 1 | H34: 1 | I34: 1 | K34: MN102202 | L34: P. Physique | M34: 1 | N34: 2 | O34: 2 | P34: 7261.24 | Q34: 31065 | R34: 0 | S34: 1091.25 | T34: 1016 | U34: 561.5 | V34: 3791.5 | W34: 1000 | X34: 0 | Y34: 0 | Z34: 0 | AA34: 0 | AB34: 0 | AC34: 3742.4 | AD34: 15 | AE34: 10 | AF34: 9 | AG34: 9 | AH34: 14 | AI34: 12 | AJ34: 14 | AK34: 6 | AL34: 4 | AM34: 6 | AN34: 14 | AO34: 12
A35: DIRECTION COMMERCIALE BAS RHIN | B35: 30 | C35: BRUMATH | D35: MME MICHEL CELINE | E35: 92507579 | F35: TETRAEDRE | G35: 1 | H35: 1 | I35: 1 | K35: MN102202 | L35: P. Morale | M35: 1 | N35: 1 | O35: 0 | P35: 8833.36 | Q35: 41689 | R35: 7968.24 | S35: 7619.43 | T35: 0 | U35: 9000 | V35: 9000 | W35: 5000 | X35: 30000 | Y35: 0 | Z35: 30000 | AA35: 18000 | AB35: 15000 | AC35: 30000 | AD35: 3 | AE35: 3 | AF35: 8 | AG35: 6 | AH35: 4 | AI35: 10 | AJ35: 8 | AK35: 7 | AL35: 12 | AM35: 13 | AN35: 11 | AO35: 11
A36: DIRECTION COMMERCIALE BAS RHIN | B36: 31 | C36: TRUCHTERSHEIM | D36: M KOEHLER CEDRIC | E36: 91519303 | F36: HOPP JEAN | G36: 1 | H36: 1 | I36: 1 | K36: MN102202 | L36: P. Physique | M36: 1 | N36: 1 | O36: 1 | P36: 2890.58 | Q36: 40672 | R36: 1179.5 | S36: 735.55 | T36: 651.75 | U36: 2255.2 | V36: 4608.96 | W36: 2397.26 | X36: 2646.25 | Y36: 870.75 | Z36: 686.9 | AA36: 2013.75 | AB36: 3670.1 | AC36: 1698.38 | AD36: 11 | AE36: 12 | AF36: 12 | AG36: 6 | AH36: 10 | AI36: 12 | AJ36: 6 | AK36: 7 | AL36: 22 | AM36: 11 | AN36: 7 | AO36: 7
A37: DIRECTION COMMERCIALE BAS RHIN | B37: 39 | C37: REICHSTETT | D37: MME OHLMANN VANESSA | E37: 83169772 | F37: BLAUMEISER PATRICK | G37: 1 | H37: 1 | I37: 1 | K37: MN102102 | L37: P. Physique | M37: 1 | N37: 1 | O37: 0 | P37: 518.65 | Q37: 35713 | R37: 1341 | S37: 78 | T37: 3927.47 | U37: 5661.78 | V37: 85.5 | W37: 7016.88 | X37: 19377.57 | Y37: 13202.62 | Z37: 11405.57 | AA37: 12617.49 | AB37: 10806.1 | AC37: 11188.36 | AD37: 3 | AE37: 3 | AF37: 8 | AG37: 4 | AH37: 9 | AI37: 12 | AJ37: 10 | AK37: 11 | AL37: 11 | AM37: 9 | AN37: 12 | AO37: 12
A38: DIRECTION COMMERCIALE BAS RHIN | B38: 43 | C38: STRASBOURG HALLES | D38: M BETTON TEDDY | E38: 93474367 | F38: JUAN CATHERINE LAURENCE | G38: 1 | H38: 1 | I38: 1 | K38: MN102102 | L38: P. Physique | M38: 1 | N38: 2 | O38: 1 | P38: -258.88 | Q38: 42661 | R38: 1883.6 | S38: 1020.76 | T38: 623.79 | U38: 1215.83 | V38: 1159.49 | W38: 1845.87 | X38: 1044.05 | Y38: 2899.49 | Z38: 1338.34 | AA38: 11948.85 | AB38: 8335.92 | AC38: 7265 | AD38: 5 | AE38: 4 | AF38: 4 | AG38: 7 | AH38: 4 | AI38: 9 | AJ38: 6 | AK38: 5 | AL38: 7 | AM38: 14 | AN38: 27 | AO38: 35
A39: DIRECTION COMMERCIALE BAS RHIN | B39: 43 | C39: STRASBOURG HALLES | D39: M SCHULTIS Laurent | E39: 83242054 | F39: VENCHIARUTTI JOST NADINE | G39: 1 | H39: 1 | I39: 1 | K39: MN102102 | L39: P. Physique | M39: 1 | N39: 1 | O39: 2 | P39: 1414.03 | Q39: 36762 | R39: 475.83 | S39: 0 | T39: 500 | U39: 2565 | V39: 1900 | W39: 1778.89 | X39: 0 | Y39: 290 | Z39: 852.52 | AA39: 2734.5 | AB39: 5922.26 | AC39: 4626.18 | AD39: 69 | AE39: 57 | AF39: 45 | AG39: 56 | AH39: 64 | AI39: 44 | AJ39: 49 | AK39: 60 | AL39: 53 | AM39: 66 | AN39: 58 | AO39: 63
... A42: DIRECTION COMMERCIALE BAS RHIN | B42: 45 | C42: STRASBOURG FRANCS BOURGEOIS | D42: M CASTELEYN VINCENT | E42: 82399421 | F42: MARIA HOLDING | G42: 1 | H42: 1 | I42: 1 | K42: MN102202 | L42: P. Morale | M42: 2 | N42: 1 | O42: 0 | P42: 38.24 | Q42: 40290 | R42: 0 | S42: 6500 | T42: 6743 | U42: 0 | V42: 1087.49 | W42: 41965 | X42: 5848.03 | Y42: 0 | Z42: 67400 | AA42: 19000 | AB42: 10500 | AC42: 9500 | AD42: 4 | AE42: 4 | AF42: 6 | AG42: 7 | AH42: 3 | AI42: 4 | AJ42: 5 | AK42: 3 | AL42: 8 | AM42: 5 | AN42: 4 | AO42: 5
A43: DIRECTION COMMERCIALE BAS RHIN | B43: 45 | C43: STRASBOURG FRANCS BOURGEOIS | D43: M SCHULTIS Laurent | E43: 91255413 | F43: WLMH | G43: 1 | H43: 1 | I43: 1 | K43: MN102202 | L43: P. Morale | M43: 1 | N43: 1 | O43: 0 | P43: 3001.3 | Q43: 40428 | S43: 0 | T43: 0 | U43: 0 | V43: 49 | W43: 0 | X43: 17512.26 | Y43: 1743.2 | Z43: 0 | AA43: 0 | AB43: 25379.71 | AC43: 4368 | AE43: 3 | AF43: 6 | AG43: 7 | AH43: 4 | AI43: 8 | AJ43: 9 | AK43: 13 | AL43: 8 | AM43: 14 | AN43: 16 | AO43: 9
A44: DIRECTION COMMERCIALE BAS RHIN | B44: 47 | C44: STRASBOURG CRONENBOURG | D44: M ZOUARI AISSA | E44: 92071701 | F44: KAYSER TRANSPORTS | G44: 1 | H44: 1 | I44: 1 | K44: MN102202 | L44: P. Morale | M44: 1 | N44: 1 | O44: 0 | P44: 20.9 | Q44: 41225 | R44: 0 | S44: 0 | T44: 1054.8 | U44: 5444.01 | V44: 31594.57 | W44: 36425.18 | X44: 44866.53 | Y44: 31646.54 | Z44: 35456.88 | AA44: 33027.17 | AB44: 32121.79 | AC44: 39215.89 | AD44: 2 | AE44: 2 | AF44: 7 | AG44: 18 | AH44: 59 | AI44: 58 | AJ44: 53 | AK44: 40 | AL44: 44 | AM44: 30 | AN44: 43 | AO44: 42
A45: DIRECTION COMMERCIALE BAS RHIN | B45: 54 | C45: STRASBOURG MONTAGNE VERTE | D45: M KOEHLER CEDRIC | E45: 93964814 | F45: RE-FLEX ALSACE | G45: 1 | H45: 1 | I45: 1 | K45: MN102202 | L45: P. Morale | M45: 2 | N45: 1 | O45: 0 | P45: 3223.67 | Q45: 43152 | R45: 4062.22 | S45: 1994.46 | T45: 3304.89 | U45: 3944.73 | V45: 2946.8 | W45: 651.21 | X45: 80.05 | Y45: 3124.86 | AD45: 2 | AE45: 5 | AF45: 6 | AG45: 9 | AH45: 0 | AI45: 1 | AJ45: 1 | AK45: 0
A46: DIRECTION COMMERCIALE BAS RHIN | B46: 60 | C46: HAGUENAU HOUBLON | D46: MLLE BOEYKENS AUDREY | E46: 92445542 | F46: FELLMANN COSIMA | G46: 1 | H46: 1 | I46: 1 | K46: MN102102 | L46: P. Physique | M46: 1 | N46: 1 | O46: 2 | P46: 1942.4 | Q46: 41625 | R46: 1017.52 | S46: 877.86 | T46: 2209.35 | U46: 2012.42 | V46: 2355.93 | W46: 1715.67 | X46: 1959.3 | Y46: 1649.57 | Z46: 2681.27 | AA46: 1631.37 | AB46: 3231.58 | AC46: 2347.5 | AD46: 6 | AE46: 13 | AF46: 18 | AG46: 30 | AH46: 22 | AI46: 18 | AJ46: 18 | AK46: 17 | AL46: 12 | AM46: 20 | AN46: 30 | AO46: 11
A47: DIRECTION COMMERCIALE BAS RHIN | B47: 67 | C47: PFAFFENHOFFEN | D47: M WERNERT HERVE | E47: 91975728 | F47: ALSA PLAC SARL | G47: 1 | H47: 1 | I47: 1 | K47: MN102202 | L47: P. Morale | M47: 2 | N47: 1 | O47: 0 | P47: 2186.48 | Q47: 41130 | R47: 234.44 | S47: 0 | U47: 4180 | V47: 6838 | W47: 7800 | X47: 3000 | Y47: 4000 | Z47: 3337.94 | AA47: 1654.35 | AB47: 0 | AC47: 4986.13 | AD47: 3 | AE47: 10 | AG47: 9 | AH47: 7 | AI47: 11 | AJ47: 10 | AK47: 7 | AL47: 4 | AM47: 6 | AN47: 6 | AO47: 3
A48: DIRECTION COMMERCIALE BAS RHIN | B48: 71 | C48: WISSEMBOURG | D48: MLLE CHRISTMANN SARAH | E48: 93068884 | F48: GOLDHAMMER HILBERT | G48: 1 | H48: 1 | I48: 1 | K48: MN102202 | L48: P. Physique | M48: 1 | N48: 1 | O48: 1 | P48: 1595.64 | Q48: 42341 | R48: 2940 | S48: 500 | T48: 6719 | U48: 2200 | V48: 14740 | W48: 13985 | X48: 14195 | Y48: 36185 | Z48: 25145 | AA48: 35434 | AB48: 41265 | AC48: 27390 | AD48: 3 | AE48: 5 | AF48: 4 | AG48: 21 | AH48: 50 | AI48: 42 | AJ48: 26 | AK48: 43 | AL48: 27 | AM48: 51 | AN48: 57 | AO48: 27
A49: DIRECTION COMMERCIALE BAS RHIN | B49: 76 | C49: BETSCHDORF | D49: MLLE CHRISTMANN SARAH | E49: 93705535 | F49: CUISINE H | G49: 1 | H49: 1 | I49: 1 | K49: MN102202 | L49: P. Morale | M49: 3 | N49: 1 | O49: 0 | P49: -1368.85 | Q49: 42874 | R49: 0 | S49: 59 | T49: 700 | U49: 4747.31 | V49: 8349.1 | W49: 6674.39 | X49: 5776.45 | Y49: 1914.15 | Z49: 1404.4 | AA49: 1467.95 | AB49: 6023.4 | AC49: 7519.37 | AD49: 1 | AE49: 1 | AF49: 4 | AG49: 37 | AH49: 37 | AI49: 45 | AJ49: 58 | AK49: 38 | AL49: 20 | AM49: 11 | AN49: 23 | AO49: 30
A50: DIRECTION COMMERCIALE BAS RHIN | B50: 80 | C50: WOERTH | D50: M RUSCH STEPHANE | E50: 83155036 | F50: GUTHMULLER BRICKA VERONIQUE | G50: 1 | H50: 1 | I50: 1 | K50: MN102202 | L50: P. Physique | M50: 1 | N50: 2 | O50: 2 | P50: 50375.26 | Q50: 30012 | R50: 1464 | S50: 1478 | T50: 1748 | U50: 1835.18 | V50: 1491.5 | W50: 3629.03 | X50: 1799.06 | Y50: 1593 | Z50: 2575.85 | AA50: 1753.5 | AB50: 2561.55 | AC50: 1686 | AD50: 10 | AE50: 8 | AF50: 10 | AG50: 11 | AH50: 8 | AI50: 18 | AJ50: 13 | AK50: 10 | AL50: 15 | AM50: 11 | AN50: 9 | AO50: 10
A51: DIRECTION COMMERCIALE BAS RHIN | B51: 82 | C51: BOUXWILLER | D51: MME CHRISTMANN MAGALIE | E51: 83443693 | F51: PETER CASANOVA FRANCOISE | G51: 1 | H51: 1 | I51: 1 | K51: MN102102 | L51: P. Physique | M51: 1 | N51: 2 | O51: 2 | P51: 11628.08 | Q51: 42452 | R51: 4665.96 | S51: 3385.86 | T51: 862.16 | U51: 1704.52 | V51: 1997.2 | W51: 3323.32 | X51: 2698 | Y51: 3014.63 | Z51: 4264.6 | AA51: 4079.33 | AB51: 5629.18 | AC51: 3211.96 | AD51: 4 | AE51: 5 | AF51: 4 | AG51: 9 | AH51: 8 | AI51: 7 | AJ51: 8 | AK51: 8 | AL51: 7 | AM51: 7 | AN51: 5 | AO51: 9
A52: DIRECTION COMMERCIALE BAS RHIN | B52: 87 | C52: SAVERNE | D52: M ZINCK YVES | E52: 92755176 | F52: JACOB SAS | G52: 1 | H52: 1 | I52: 1 | K52: MN102202 | L52: P. Morale | M52: 1 | N52: 1 | O52: 0 | P52: 124.54 | Q52: 41978 | R52: 0 | S52: 0 | T52: 1695.6 | U52: 400 | V52: 400 | W52: 0 | X52: 2841.6 | Y52: 2060.4 | Z52: 4287.6 | AA52: 3270 | AB52: 0 | AC52: 9506.2 | AD52: 5 | AE52: 4 | AF52: 5 | AG52: 6 | AH52: 10 | AI52: 8 | AJ52: 12 | AK52: 15 | AL52: 9 | AM52: 14 | AN52: 14 | AO52: 16
A53: DIRECTION COMMERCIALE BAS RHIN | B53: 87 | C53: SAVERNE | D53: MME JOST CATHERINE | E53: 82805529 | F53: DISTEL MONJARDIN MARJORIE AUDE | G53: 1 | H53: 1 | I53: 1 | K53: MN102202 | L53: P. Physique | M53: 1 | N53: 2 | O53: 2 | P53: 14833.4 | Q53: 37175 | R53: 2236 | S53: 1965.3 | T53: 0 | U53: 1903.6 | V53: 4783.4 | W53: 1838 | X53: 2513 | Y53: 1336 | Z53: 1954.9 | AA53: 1199.1 | AB53: 4011.3 | AC53: 3588.5 | AD53: 3 | AE53: 7 | AF53: 4 | AG53: 6 | AH53: 6 | AI53: 12 | AJ53: 3 | AK53: 7 | AL53: 17 | AM53: 6 | AN53: 2 | AO53: 12
A54: DIRECTION COMMERCIALE BAS RHIN | B54: 87 | C54: SAVERNE | D54: MME JOST CATHERINE | E54: 92725636 | F54: CONSTRUCTIONS JEAN FRITSCH | G54: 1 | H54: 1 | I54: 1 | K54: MN102202 | L54: P. Morale | M54: 2 | N54: 1 | O54: 0 | P54: -2.6 | Q54: 41975 | R54: 0 | S54: 2353.34 | U54: 9177 | V54: 21743.75 | W54: 1474 | X54: 9600 | Y54: 7043.21 | Z54: 6089.4 | AA54: 0 | AB54: 4104.95 | AC54: 13250.2 | AD54: 2 | AE54: 1 | AG54: 16 | AH54: 24 | AI54: 3 | AJ54: 7 | AK54: 8 | AL54: 8 | AM54: 3 | AN54: 23 | AO54: 36
A55: DIRECTION COMMERCIALE BAS RHIN | B55: 92 | C55: HOCHFELDEN | D55: MME GOETZ SEVERINE | E55: 83128934 | F55: STEINMETZ THOMAS | G55: 1 | H55: 1 | I55: 1 | K55: MN102102 | L55: P. Physique | M55: 1 | N55: 1 | O55: 1 | P55: 2004.81 | Q55: 32531 | S55: 0 | T55: 7133.55 | U55: 7482.4 | V55: 6357.21 | W55: 6345.1 | X55: 6635.76 | Y55: 2728.88 | Z55: 6756.19 | AA55: 6870.6 | AB55: 9780.75 | AC55: 5395.8 | AE55: 1 | AF55: 3 | AG55: 20 | AH55: 23 | AI55: 19 | AJ55: 26 | AK55: 17 | AL55: 15 | AM55: 16 | AN55: 14 | AO55: 11
A56: DIRECTION COMMERCIALE BAS RHIN | B56: 93 | C56: MARMOUTIER | D56: MME CAKMAK SEVERINE | E56: 91595565 | F56: GJB CONSULTING | G56: 1 | H56: 1 | I56: 1 | K56: MN102202 | L56: P. Morale | M56: 2 | N56: 1 | O56: 0 | P56: 38440.09 | Q56: 40752 | R56: 5987.61 | S56: 1190 | T56: 2825 | U56: 2825 | V56: 6645 | W56: 6990 | X56: 0 | Y56: 2825 | Z56: 2825 | AA56: 0 | AB56: 7860.48 | AC56: 6728.67 | AD56: 5 | AE56: 3 | AF56: 3 | AG56: 9 | AH56: 4 | AI56: 6 | AJ56: 7 | AK56: 5 | AL56: 4 | AM56: 7 | AN56: 5 | AO56: 6
A57: DIRECTION COMMERCIALE BAS RHIN | B57: 95 | C57: SARRE UNION | D57: MME WEBER MARJORIE | E57: 83438383 | F57: BREY BIEBER NATHALIE | G57: 1 | H57: 1 | I57: 1 | K57: MN102202 | L57: P. Physique | M57: 1 | N57: 1 | O57: 1 | P57: 1304.98 | Q57: 40099 | R57: 3999.38 | S57: 3984.6 | T57: 1550.86 | U57: 3150.74 | V57: 5035.15 | W57: 3948.96 | X57: 4419.9 | Y57: 2134.9 | Z57: 3851.48 | AA57: 6459.66 | AB57: 6191.36 | AC57: 5317.85 | AD57: 0 | AE57: 2 | AF57: 5 | AG57: 12 | AH57: 15 | AI57: 8 | AJ57: 7 | AK57: 8 | AL57: 7 | AM57: 9 | AN57: 13 | AO57: 11
A58: DIRECTION COMMERCIALE BAS RHIN | B58: 101 | C58: SELESTAT CENTRE | D58: MME DENKOVA MILITSA | E58: 83357213 | F58: BOBERT PETRA | G58: 1 | H58: 1 | I58: 1 | K58: MN102102 | L58: P. Physique | M58: 1 | N58: 2 | O58: 2 | P58: 54971.19 | Q58: 31268 | R58: 2943 | S58: 760 | T58: 1200 | U58: 2272.5 | V58: 3424.5 | W58: 3449 | X58: 3628.5 | Y58: 3853.48 | Z58: 7543.56 | AA58: 787.5 | AB58: 1383.5 | AC58: 1275 | AD58: 4 | AE58: 4 | AF58: 3 | AG58: 11 | AH58: 5 | AI58: 5 | AJ58: 6 | AK58: 5 | AL58: 6 | AM58: 8 | AN58: 5 | AO58: 4
A59: DIRECTION COMMERCIALE BAS RHIN | B59: 101 | C59: SELESTAT CENTRE | D59: MME DENKOVA MILITSA | E59: 91420549 | F59: RAYMOND EHRHARD EURL | G59: 1 | H59: 1 | I59: 1 | K59: MN102102 | L59: P. Morale | M59: 2 | N59: 1 | O59: 0 | P59: 33550.08 | Q59: 40578 | R59: 0 | S59: 0 | T59: 0 | U59: 6596.17 | V59: 28672.06 | W59: 0 | X59: 0 | Y59: 0 | Z59: 0 | AA59: 75298.12 | AB59: 5220.04 | AC59: 0 | AD59: 1 | AE59: 2 | AF59: 2 | AG59: 11 | AH59: 8 | AI59: 12 | AJ59: 6 | AK59: 9 | AL59: 9 | AM59: 4 | AN59: 10 | AO59: 8
A60: DIRECTION COMMERCIALE BAS RHIN | B60: 101 | C60: SELESTAT CENTRE | D60: MME REECH JENNIFER | E60: 82521388 | F60: LABERGER LAURENT RENE | G60: 1 | H60: 1 | I60: 1 | K60: MN102102 | L60: P. Physique | M60: 2 | N60: 2 | O60: 0 | P60: -143.37 | Q60: 27030 | R60: 1820.8 | S60: 4208.08 | T60: 3000 | U60: 2520.8 | V60: 6036.6 | W60: 8773 | X60: 13016.24 | Y60: 10873.88 | Z60: 9172.91 | AA60: 8299.73 | AB60: 9054.73 | AC60: 11653.09 | AD60: 5 | AE60: 4 | AF60: 5 | AG60: 9 | AH60: 6 | AI60: 11 | AJ60: 14 | AK60: 13 | AL60: 14 | AM60: 11 | AN60: 14 | AO60: 10
A61: DIRECTION COMMERCIALE BAS RHIN | B61: 108 | C61: CHATENOIS | D61: MME MARTINS Nicole | E61: 91471422 | F61: SCHWIEN PASCAL | G61: 1 | H61: 1 | I61: 1 | K61: MN102102 | L61: P. Physique | M61: 2 | N61: 1 | O61: 1 | P61: 513.53 | Q61: 40624 | R61: 11.99 | S61: 1514 | T61: 1488 | U61: 1058 | V61: 395.29 | W61: 0 | X61: 7791 | Y61: 868 | Z61: 3415 | AA61: 2653 | AB61: 0 | AC61: 4261 | AD61: 10 | AE61: 9 | AF61: 13 | AG61: 6 | AH61: 5 | AI61: 6 | AJ61: 7 | AK61: 3 | AL61: 11 | AM61: 14 | AN61: 13 | AO61: 11
A62: DIRECTION COMMERCIALE BAS RHIN | B62: 109 | C62: MARCKOLSHEIM | D62: MME DENKOVA MILITSA | E62: 82781254 | F62: OTT JONATHAN | G62: 1 | H62: 1 | I62: 1 | K62: MN102202 | L62: P. Physique | M62: 1 | N62: 2 | O62: 1 | P62: 3200.46 | Q62: 30761 | R62: 0 | S62: 0 | T62: 1700 | U62: 1200 | V62: 0 | W62: 1360.43 | X62: 0 | Y62: 7225 | Z62: 0 | AA62: 3980 | AB62: 4880 | AC62: 1434.59 | AD62: 3 | AE62: 7 | AF62: 5 | AG62: 3 | AH62: 4 | AI62: 4 | AJ62: 7 | AK62: 6 | AL62: 7 | AM62: 10 | AN62: 5 | AO62: 4
A63: DIRECTION COMMERCIALE BAS RHIN | B63: 109 | C63: MARCKOLSHEIM | D63: MME DENKOVA MILITSA | E63: 82857955 | F63: FAHRNER REGIS RICHARD ALPHONSE | G63: 1 | H63: 1 | I63: 1 | K63: MN102102 | L63: P. Physique | M63: 1 | N63: 2 | O63: 2 | P63: 11731.9 | Q63: 28917 | R63: 4632.5 | S63: 3825 | T63: 17425 | U63: 13855 | W63: 0 | X63: 0 | Z63: 0 | AA63: 12026 | AB63: 0 | AC63: 16030 | AD63: 3 | AE63: 3 | AF63: 7 | AG63: 6 | AI63: 2 | AJ63: 3 | AL63: 2 | AM63: 7 | AN63: 3 | AO63: 6
A64: DIRECTION COMMERCIALE BAS RHIN | B64: 111 | C64: BENFELD | D64: MLLE GOUSSELOT Elodie | E64: 93664246 | F64: OMICRON | G64: 1 | H64: 1 | I64: 1 | K64: MN102102 | L64: P. Morale | M64: 2 | N64: 1 | O64: 0 | P64: 13866.33 | Q64: 42823 | R64: 42447 | S64: 24131.16 | T64: 20775 | U64: 3516 | V64: 15666 | W64: 13922.23 | X64: 15678 | Y64: 31934.64 | Z64: 14400 | AA64: 2580 | AB64: 13029.2 | AC64: 12340 | AD64: 4 | AE64: 4 | AF64: 6 | AG64: 12 | AH64: 6 | AI64: 10 | AJ64: 10 | AK64: 14 | AL64: 5 | AM64: 10 | AN64: 3 | AO64: 5
A65: DIRECTION COMMERCIALE BAS RHIN | B65: 119 | C65: OBERNAI | D65: M FIX EMMANUEL | E65: 83418261 | F65: LOISEAU HERVE | G65: 1 | H65: 1 | I65: 1 | K65: MN102202 | L65: P. Physique | M65: 1 | N65: 2 | O65: 1 | P65: 25881.52 | Q65: 39667 | R65: 1200.13 | S65: 0 | T65: 3152.83 | U65: 1000 | V65: 2172.69 | W65: 500 | X65: 1800 | Y65: 700 | Z65: 3063.39 | AA65: 3677.35 | AB65: 1000 | AC65: 641.58 | AD65: 21 | AE65: 5 | AF65: 12 | AG65: 25 | AH65: 10 | AI65: 19 | AJ65: 17 | AK65: 23 | AL65: 26 | AM65: 38 | AN65: 26 | AO65: 22
A66: DIRECTION COMMERCIALE BAS RHIN | B66: 121 | C66: SCHIRMECK | D66: MME HIESSLER VIVIANE | E66: 92906359 | F66: LEGROS LEO | G66: 1 | H66: 1 | I66: 1 | K66: MN102202 | L66: P. Physique | M66: 1 | N66: 3 | O66: 3 | P66: 1651.29 | Q66: 38125 | R66: 1742.5 | S66: 845.5 | T66: 1896.34 | U66: 1390 | V66: 3559 | W66: 2549.3 | X66: 934 | Y66: 1437 | Z66: 2033.2 | AA66: 688.5 | AB66: 802 | AC66: 1163.06 | AD66: 36 | AE66: 25 | AF66: 38 | AG66: 22 | AH66: 26 | AI66: 26 | AJ66: 20 | AK66: 13 | AL66: 23 | AM66: 31 | AN66: 21 | AO66: 29
A67: DIRECTION COMMERCIALE BAS RHIN | B67: 127 | C67: ROSHEIM | D67: MME SIGRIST CHRISTELLE | E67: 82398421 | F67: CORDONNERIE PASCAL | G67: 1 | H67: 1 | I67: 1 | K67: MN102202 | L67: P. Morale | M67: 2 | N67: 1 | O67: 0 | P67: 103589.51 | Q67: 39997 | R67: 158.48 | S67: 15.7 | T67: 85130.54 | U67: 4420.46 | V67: 11929.7 | W67: 8750.89 | X67: 9808.46 | Y67: 7909.63 | Z67: 8751.95 | AA67: 8108.23 | AB67: 6402.38 | AC67: 11361.53 | AD67: 2 | AE67: 4 | AF67: 9 | AG67: 19 | AH67: 11 | AI67: 10 | AJ67: 17 | AK67: 13 | AL67: 15 | AM67: 13 | AN67: 18 | AO67: 14
A68: DIRECTION COMMERCIALE BAS RHIN | B68: 127 | C68: ROSHEIM | D68: MME SIGRIST CHRISTELLE | E68: 83128878 | F68: MLE CATHERINE BERNHARD | G68: 1 | H68: 1 | I68: 1 | K68: MN102202 | L68: P. Physique | M68: 1 | N68: 2 | O68: 0 | P68: 7676.54 | Q68: 27030 | R68: 1415.13 | S68: 1338 | T68: 788 | U68: 3705.75 | V68: 1531.5 | W68: 2272.5 | X68: 900 | Y68: 1628 | Z68: 3889.68 | AA68: 2174.5 | AB68: 3909.5 | AC68: 2493.57 | AD68: 3 | AE68: 5 | AF68: 4 | AG68: 7 | AH68: 3 | AI68: 5 | AJ68: 3 | AK68: 5 | AL68: 6 | AM68: 3 | AN68: 4 | AO68: 5
A69: DIRECTION COMMERCIALE HAUT RHIN | B69: 130 | C69: COLMAR REPUBLIQUE | D69: M MIRAUCOURT JULIEN | E69: 92217181 | F69: SCI LE VILLAGE | G69: 1 | H69: 1 | I69: 1 | K69: MN102401 | L69: P. Morale | M69: 2 | N69: 1 | O69: 0 | P69: 2341.54 | Q69: 41422 | R69: 4068 | S69: 3876 | T69: 4068 | U69: 6098 | V69: 4778 | W69: 5796 | X69: 5793.84 | Y69: 4414.85 | Z69: 3918 | AA69: 6030 | AB69: 4626 | AC69: 4224 | AD69: 4 | AE69: 4 | AF69: 5 | AG69: 7 | AH69: 7 | AI69: 6 | AJ69: 7 | AK69: 5 | AL69: 4 | AM69: 5 | AN69: 5 | AO69: 5
A70: DIRECTION COMMERCIALE HAUT RHIN | B70: 130 | C70: COLMAR REPUBLIQUE | D70: M MIRAUCOURT JULIEN | E70: 93888674 | F70: GOUIN CHARLYNE CLAIRE | G70: 1 | H70: 1 | I70: 1 | K70: MN102102 | L70: P. Physique | M70: 1 | N70: 2 | O70: 1 | P70: 30388.37 | Q70: 43068 | R70: 8145.56 | S70: 8697.46 | T70: 6912.49 | U70: 5534.11 | V70: 8016.7 | W70: 6718.78 | X70: 7584.8 | Y70: 8170.7 | AA70: 0 | AB70: 0 | AD70: 3 | AE70: 4 | AF70: 6 | AG70: 7 | AH70: 7 | AI70: 3 | AJ70: 6 | AK70: 1 | AM70: 1 | AN70: 2
A71: DIRECTION COMMERCIALE HAUT RHIN | B71: 130 | C71: COLMAR REPUBLIQUE | D71: MME WINDHOLTZ FANNY | E71: 83175873 | F71: MAECHLER MARTINE | G71: 1 | H71: 1 | I71: 1 | K71: MN102102 | L71: P. Physique | M71: 1 | N71: 2 | O71: 1 | P71: 2474.8 | Q71: 35794 | R71: 5329.33 | S71: 2208.79 | T71: 3038.49 | U71: 2521.26 | V71: 2455.35 | W71: 2071.83 | X71: 1338.79 | Y71: 2605.15 | Z71: 2992.55 | AA71: 3121.6 | AB71: 5268.95 | AC71: 3813.9 | AD71: 3 | AE71: 4 | AF71: 6 | AG71: 5 | AH71: 6 | AI71: 6 | AJ71: 5 | AK71: 6 | AL71: 7 | AM71: 9 | AN71: 9 | AO71: 8
A72: DIRECTION COMMERCIALE HAUT RHIN | B72: 132 | C72: COLMAR MARAICHERS | D72: MME BLEU AMANDINE | E72: 93373306 | F72: CHAUVEL | G72: 1 | H72: 1 | I72: 1 | K72: MN102202 | L72: P. Morale | M72: 3 | N72: 1 | O72: 0 | P72: 6233.37 | Q72: 42552 | R72: 0 | S72: 1859.36 | T72: 2943.48 | U72: 3703 | V72: 4083.6 | W72: 2016.31 | X72: 2232.08 | Y72: 3122.87 | Z72: 5361.16 | AA72: 8080.64 | AB72: 3398.48 | AC72: 750.01 | AD72: 4 | AE72: 4 | AF72: 10 | AG72: 5 | AH72: 7 | AI72: 7 | AJ72: 7 | AK72: 7 | AL72: 10 | AM72: 15 | AN72: 26 | AO72: 12
A73: DIRECTION COMMERCIALE HAUT RHIN | B73: 132 | C73: COLMAR MARAICHERS | D73: MME SIEBER LAETITIA | E73: 82704164 | F73: PIED MATHIEU | G73: 1 | H73: 1 | I73: 1 | K73: MN102202 | L73: P. Physique | M73: 1 | N73: 2 | O73: 0 | P73: -12.56 | Q73: 34320 | R73: 4100 | S73: 4360 | T73: 2360 | U73: 8854 | V73: 4440 | W73: 2460 | X73: 1650 | Y73: 1200 | Z73: 3300 | AA73: 1900 | AB73: 4450 | AC73: 4632 | AD73: 2 | AE73: 3 | AF73: 5 | AG73: 8 | AH73: 9 | AI73: 4 | AJ73: 5 | AK73: 3 | AL73: 6 | AM73: 5 | AN73: 6 | AO73: 5
A74: DIRECTION COMMERCIALE HAUT RHIN | B74: 132 | C74: COLMAR MARAICHERS | D74: MME SIEBER LAETITIA | E74: 93028394 | F74: VALMAT | G74: 1 | H74: 1 | I74: 1 | K74: MN102202 | L74: P. Morale | M74: 1 | N74: 0 | O74: 0 | P74: -122.63 | Q74: 42277 | R74: 150 | S74: 0 | T74: 1111 | U74: 67598.22 | V74: 105492.63 | W74: 256773.65 | X74: 111364.73 | Y74: 117769.33 | Z74: 123220.52 | AA74: 225719.73 | AB74: 154069.77 | AC74: 279284.61 | AD74: 2 | AE74: 3 | AF74: 8 | AG74: 58 | AH74: 78 | AI74: 90 | AJ74: 89 | AK74: 87 | AL74: 73 | AM74: 113 | AN74: 90 | AO74: 99
A75: DIRECTION COMMERCIALE HAUT RHIN | B75: 134 | C75: COLMAR SAINT JOSEPH | D75: MME RINKENBACH CHRISTEL | E75: 83225633 | F75: KRENTZ MARTINE | G75: 1 | H75: 1 | I75: 1 | K75: MN102202 | L75: P. Physique | M75: 2 | N75: 2 | O75: 1 | P75: 38323.1 | Q75: 36474 | R75: 1972 | S75: 2550 | T75: 1817 | U75: 2560 | V75: 2266 | W75: 3011 | X75: 2822 | Y75: 2453 | Z75: 2092 | AA75: 1879.5 | AB75: 3059 | AC75: 2299 | AD75: 1 | AE75: 1 | AF75: 10 | AG75: 8 | AH75: 9 | AI75: 10 | AJ75: 7 | AK75: 8 | AL75: 8 | AM75: 9 | AN75: 5 | AO75: 9
A76: DIRECTION COMMERCIALE HAUT RHIN | B76: 134 | C76: COLMAR SAINT JOSEPH | D76: MME RINKENBACH CHRISTEL | E76: 92697329 | F76: AZ CHAUFFAGE | G76: 1 | H76: 1 | I76: 1 | K76: MN102202 | L76: P. Morale | M76: 2 | N76: 1 | O76: 0 | P76: 917.8 | Q76: 41918 | R76: 2915.93 | S76: 615.37 | T76: 6180 | U76: 804.78 | V76: 7329.89 | W76: 2446 | X76: 0 | Y76: 5521 | Z76: 2651.59 | AA76: 3144.1 | AB76: 6072.9 | AC76: 1170 | AD76: 2 | AE76: 9 | AF76: 3 | AG76: 12 | AH76: 9 | AI76: 7 | AJ76: 7 | AK76: 8 | AL76: 6 | AM76: 3 | AN76: 9 | AO76: 12
A77: DIRECTION COMMERCIALE HAUT RHIN | B77: 140 | C77: WINTZENHEIM | D77: MME CAZAUX-DEBAT ROSELYNE | E77: 82454821 | F77: APPATORE LAURENT | G77: 1 | H77: 1 | I77: 1 | K77: MN102202 | L77: P. Physique | M77: 2 | N77: 3 | O77: 1 | P77: 32843.21 | Q77: 32071 | R77: 0 | S77: 7100 | T77: 0 | U77: 13069 | V77: 4000 | W77: 3500 | X77: 8000 | Y77: 2205 | Z77: 8800 | AA77: 37.54 | AB77: 0 | AC77: 5000 | AD77: 5 | AE77: 1 | AF77: 1 | AG77: 13 | AH77: 8 | AI77: 12 | AJ77: 12 | AK77: 10 | AL77: 10 | AM77: 10 | AN77: 4 | AO77: 3
A78: DIRECTION COMMERCIALE HAUT RHIN | B78: 141 | C78: HORBOURG WIHR | D78: MME DARD JOANNA | E78: 92829939 | F78: AYDIN CIHAN YASEMIN | G78: 1 | H78: 1 | I78: 1 | K78: MN102102 | L78: P. Physique | M78: 1 | N78: 1 | O78: 1 | P78: -427.55 | Q78: 42063 | S78: 0 | T78: 0 | U78: 0 | V78: 0 | W78: 0 | X78: 68712 | Y78: 15840 | AE78: 1 | AF78: 11 | AG78: 12 | AH78: 5 | AI78: 22 | AJ78: 10 | AK78: 5
A79: DIRECTION COMMERCIALE HAUT RHIN | B79: 147 | C79: GUEBWILLER | D79: M BORDONNE JEROME | E79: 82397883 | F79: DECO RANGEMENT | G79: 1 | H79: 1 | I79: 1 | K79: MN102202 | L79: P. Morale | M79: 1 | N79: 1 | O79: 0 | P79: 890.42 | Q79: 39997 | R79: 923 | S79: 923 | T79: 923 | U79: 923 | V79: 3343.15 | W79: 6750.83 | X79: 2160.46 | Y79: 923 | Z79: 3693 | AA79: 573 | AB79: 923 | AC79: 923 | AD79: 3 | AE79: 4 | AF79: 7 | AG79: 8 | AH79: 8 | AI79: 11 | AJ79: 9 | AK79: 2 | AL79: 7 | AM79: 3 | AN79: 2 | AO79: 7
A80: DIRECTION COMMERCIALE HAUT RHIN | B80: 147 | C80: GUEBWILLER | D80: M BORDONNE JEROME | E80: 92392280 | F80: GARAGE BELKA | G80: 1 | H80: 1 | I80: 1 | K80: MN102202 | L80: P. Morale | M80: 2 | N80: 1 | O80: 0 | P80: -73.05 | Q80: 41558 | S80: 21634.19 | T80: 2827.58 | U80: 3549.69 | V80: 22069.44 | W80: 20540.5 | X80: 17965.13 | Y80: 35505.06 | Z80: 14483.52 | AA80: 17855.95 | AB80: 16325.42 | AC80: 11935.85 | AE80: 3 | AF80: 6 | AG80: 18 | AH80: 36 | AI80: 52 | AJ80: 46 | AK80: 52 | AL80: 47 | AM80: 43 | AN80: 48 | AO80: 34
A81: DIRECTION COMMERCIALE HAUT RHIN | B81: 152 | C81: KAYSERSBERG | D81: MME GROS Dorothee | E81: 83260956 | F81: JONET KEVIN | G81: 1 | H81: 1 | I81: 1 | K81: MN102202 | L81: P. Physique | M81: 1 | N81: 2 | O81: 1 | P81: -94.96 | Q81: 36980 | R81: 700 | S81: 2620 | T81: 2625 | U81: 2230 | V81: 2220 | W81: 2367.5 | AD81: 3 | AE81: 11 | AF81: 6 | AG81: 27 | AH81: 10 | AI81: 20
A82: DIRECTION COMMERCIALE HAUT RHIN | B82: 152 | C82: KAYSERSBERG | D82: MME GROS Dorothee | E82: 93081061 | F82: COUP DE COEUR | G82: 1 | H82: 1 | I82: 1 | K82: MN102202 | L82: P. Morale | M82: 2 | N82: 1 | O82: 0 | P82: 54485.42 | Q82: 42333 | R82: 0 | S82: 0 | T82: 437.85 | U82: 0 | V82: 3668 | W82: 360 | X82: 45000 | Y82: 0 | Z82: 0 | AA82: 45000 | AB82: 5913.2 | AC82: 0 | AD82: 4 | AE82: 5 | AF82: 5 | AG82: 5 | AH82: 4 | AI82: 5 | AJ82: 9 | AK82: 7 | AL82: 8 | AM82: 11 | AN82: 10 | AO82: 11
A83: DIRECTION COMMERCIALE HAUT RHIN | B83: 152 | C83: KAYSERSBERG | D83: MME MARION CATHERINE | E83: 82596825 | F83: THIEBAULT VIRGINIE NADINE | G83: 1 | H83: 1 | I83: 1 | K83: MN102102 | L83: P. Physique | M83: 1 | N83: 2 | O83: 1 | P83: 3196.67 | Q83: 31316 | R83: 1064 | S83: 0 | T83: 0 | U83: 3281.45 | V83: 6117.57 | W83: 4608.01 | X83: 6614.43 | Y83: 7565.71 | Z83: 5682.47 | AA83: 10081.59 | AB83: 5540.76 | AC83: 10012.36 | AD83: 1 | AE83: 2 | AF83: 6 | AG83: 16 | AH83: 21 | AI83: 18 | AJ83: 15 | AK83: 20 | AL83: 24 | AM83: 17 | AN83: 24 | AO83: 30
A84: DIRECTION COMMERCIALE HAUT RHIN | B84: 154 | C84: LAPOUTROIE | D84: MME GRAFF MARYLINE | E84: 92883642 | F84: PRIN WILMARCK | G84: 1 | H84: 1 | I84: 1 | K84: MN102202 | L84: P. Physique | M84: 2 | N84: 2 | O84: 1 | P84: 7304.16 | Q84: 42122 | R84: 0 | S84: 1869 | T84: 4520 | U84: 2040 | V84: 4433.6 | W84: 1100 | X84: 2100 | Y84: 1793.76 | Z84: 2711.95 | AA84: 150 | AB84: 300 | AC84: 1190 | AD84: 13 | AE84: 15 | AF84: 18 | AG84: 14 | AH84: 16 | AI84: 8 | AJ84: 4 | AK84: 6 | AL84: 7 | AM84: 8 | AN84: 6 | AO84: 13
A85: DIRECTION COMMERCIALE HAUT RHIN | B85: 160 | C85: SOULTZ | D85: MME LAHURE Nadine | E85: 83307028 | F85: BOHLER LIONEL FABRICE | G85: 1 | H85: 1 | I85: 1 | K85: MN102202 | L85: P. Physique | M85: 1 | N85: 1 | O85: 1 | P85: 6454.92 | Q85: 40022 | R85: 4606.46 | S85: 75 | T85: 500 | U85: 4552.24 | V85: 4956.6 | W85: 6408.13 | X85: 5740.46 | Y85: 5679.27 | Z85: 4053.32 | AA85: 2337.96 | AB85: 3644.2 | AC85: 2301.6 | AD85: 5 | AE85: 5 | AF85: 4 | AG85: 6 | AH85: 7 | AI85: 11 | AJ85: 9 | AK85: 15 | AL85: 15 | AM85: 15 | AN85: 11 | AO85: 6
A86: DIRECTION COMMERCIALE HAUT RHIN | B86: 169 | C86: MULHOUSE ROOSEVELT | D86: M BOUHIEDA Hocine | E86: 94008646 | F86: PRO VENTE FRANCE | G86: 1 | H86: 1 | I86: 1 | K86: MN102202 | L86: P. Morale | M86: 1 | N86: 1 | O86: 0 | P86: 642.8 | Q86: 43202 | R86: 4468 | S86: 0 | T86: 992 | U86: 0 | V86: 0 | W86: 0 | X86: 1000 | AD86: 3 | AE86: 3 | AF86: 5 | AG86: 9 | AH86: 14 | AI86: 3 | AJ86: 0
A87: DIRECTION COMMERCIALE HAUT RHIN | B87: 170 | C87: MULHOUSE REUNION | D87: M SALVI MICHAEL | E87: 82385239 | F87: PK CONSEILS | G87: 1 | H87: 1 | I87: 1 | K87: MN102102 | L87: P. Morale | M87: 2 | N87: 1 | O87: 0 | P87: 48009.66 | Q87: 35047 | R87: 22480 | S87: 302 | T87: 2580.61 | U87: 7260 | V87: 0 | W87: 2517.58 | X87: 0 | Y87: 14116.88 | Z87: 2637.06 | AA87: 0 | AB87: 9000 | AC87: 2461.48 | AD87: 2 | AE87: 4 | AF87: 2 | AG87: 9 | AH87: 11 | AI87: 6 | AJ87: 5 | AK87: 5 | AL87: 10 | AM87: 11 | AN87: 5 | AO87: 8
A88: DIRECTION COMMERCIALE HAUT RHIN | B88: 174 | C88: MULHOUSE DORNACH | D88: MLLE GILLIARD Aude | E88: 83177231 | F88: VALENTE FERREIRA DA SILVA JOSE CARLOS | G88: 1 | H88: 1 | I88: 1 | K88: MN102202 | L88: P. Physique | M88: 1 | N88: 1 | O88: 2 | P88: 546.36 | Q88: 35808 | R88: 3000 | S88: 2000 | T88: 0 | U88: 2000 | V88: 7040 | W88: 160 | X88: 0 | Y88: 0 | Z88: 10 | AA88: 11.5 | AB88: 1288 | AC88: 0 | AD88: 8 | AE88: 3 | AF88: 22 | AG88: 26 | AH88: 5 | AI88: 0 | AJ88: 4 | AK88: 7 | AL88: 14 | AM88: 19 | AN88: 28 | AO88: 29
A89: DIRECTION COMMERCIALE HAUT RHIN | B89: 178 | C89: SAINT LOUIS | D89: MME MORGEN MANON | E89: 93017354 | F89: SELARL PHARMACIE SCHAFFHAUSER | G89: 1 | H89: 1 | I89: 1 | K89: MN102102 | L89: P. Morale | M89: 1 | N89: 1 | O89: 0 | P89: -6052.69 | Q89: 42265 | R89: 20000 | S89: 14.3 | T89: 0 | U89: 0 | V89: 0 | W89: 29841.15 | X89: 29377.44 | Y89: 24573.77 | Z89: 26587.34 | AA89: 32402.08 | AB89: 31820.41 | AC89: 27396.48 | AD89: 3 | AE89: 5 | AF89: 6 | AG89: 10 | AH89: 13 | AI89: 14 | AJ89: 18 | AK89: 15 | AL89: 15 | AM89: 13 | AN89: 14 | AO89: 22
A90: DIRECTION COMMERCIALE HAUT RHIN | B90: 179 | C90: SIERENTZ | D90: MME REMOND KATHIA | E90: 83252247 | F90: M CAMUS THOMAS | G90: 1 | H90: 1 | I90: 1 | K90: MN102102 | L90: P. Physique | M90: 1 | N90: 2 | O90: 2 | P90: 3759.38 | Q90: 36617 | R90: 24.51 | S90: 0 | T90: 2450.22 | U90: 9843.66 | V90: 4021.69 | W90: 4584.83 | X90: 3194.28 | AD90: 3 | AE90: 3 | AF90: 6 | AG90: 7 | AH90: 1 | AI90: 2 | AJ90: 2
A91: DIRECTION COMMERCIALE HAUT RHIN | B91: 179 | C91: SIERENTZ | D91: MME REMOND KATHIA | E91: 93092471 | F91: RCZ CONSULTING | G91: 1 | H91: 1 | I91: 1 | K91: MN102202 | L91: P. Morale | M91: 1 | N91: 1 | O91: 0 | P91: 30473.64 | Q91: 42346 | R91: 0 | S91: 9000 | T91: 3600 | U91: 6338 | V91: 10848 | W91: 5400 | X91: 3600 | Y91: 3600 | Z91: 3600 | AA91: 0 | AB91: 7200 | AC91: 3600 | AD91: 4 | AE91: 5 | AF91: 4 | AG91: 6 | AH91: 5 | AI91: 7 | AJ91: 6 | AK91: 3 | AL91: 4 | AM91: 6 | AN91: 3 | AO91: 1
A92: DIRECTION COMMERCIALE HAUT RHIN | B92: 179 | C92: SIERENTZ | D92: MME REMOND KATHIA | E92: 93929068 | F92: ALSAGRAPHIC | G92: 1 | H92: 1 | I92: 1 | K92: MN102202 | L92: P. Morale | M92: 2 | N92: 1 | O92: 0 | P92: 19931.1 | Q92: 43140 | R92: 40973.2 | S92: 8221.06 | T92: 0 | U92: 0 | V92: 9291.4 | W92: 4985.4 | X92: 5930.62 | Y92: 18714.1 | AD92: 4 | AE92: 7 | AF92: 2 | AG92: 14 | AH92: 1 | AI92: 0 | AJ92: 8 | AK92: 2
A93: DIRECTION COMMERCIALE HAUT RHIN | B93: 180 | C93: RIEDISHEIM | D93: M HUCK THOMAS | E93: 82870713 | F93: GONZALES BECKER BRIGITTE | G93: 1 | H93: 1 | I93: 1 | K93: MN102102 | L93: P. Physique | M93: 2 | N93: 1 | O93: 1 | P93: 35901.03 | Q93: 35613 | R93: 5219 | S93: 720 | T93: 1280 | U93: 6405 | V93: 2225 | W93: 4785 | X93: 2895 | Y93: 2055 | Z93: 2630 | AA93: 1535 | AB93: 6951.18 | AC93: 3220 | AD93: 4 | AE93: 4 | AF93: 6 | AG93: 9 | AH93: 4 | AI93: 6 | AJ93: 5 | AK93: 5 | AL93: 4 | AM93: 4 | AN93: 11 | AO93: 10
A94: DIRECTION COMMERCIALE HAUT RHIN | B94: 184 | C94: ILLZACH | D94: M KUCK PHILIPPE | E94: 92743353 | F94: POM' DE PAIN | G94: 1 | H94: 1 | I94: 1 | K94: MN102202 | L94: P. Morale | M94: 2 | N94: 1 | O94: 0 | P94: 13115.16 | Q94: 41990 | R94: 146643.28 | S94: 0 | T94: 910.93 | U94: 2132.33 | V94: 22126.58 | W94: 22955.44 | X94: 43087.04 | Y94: 20583.62 | Z94: 24635.96 | AA94: 40826.26 | AB94: 24835.89 | AC94: 23319.81 | AD94: 1 | AE94: 1 | AF94: 10 | AG94: 12 | AH94: 16 | AI94: 34 | AJ94: 34 | AK94: 27 | AL94: 35 | AM94: 30 | AN94: 21 | AO94: 25
A95: DIRECTION COMMERCIALE HAUT RHIN | B95: 185 | C95: RIXHEIM | D95: M GABORIAU CEDRIC | E95: 82385685 | F95: ALPHA SECURITE | G95: 1 | H95: 1 | I95: 1 | K95: MN102202 | L95: P. Morale | M95: 1 | N95: 0 | O95: 0 | P95: 96727.32 | Q95: 34156 | R95: 1100.78 | S95: 1044.92 | T95: 1308.8 | U95: 1709.75 | V95: 2084.42 | W95: 968.45 | X95: 858.21 | Y95: 2649.79 | Z95: 2302.54 | AA95: 6384.68 | AB95: 1657.9 | AC95: 1910.35 | AD95: 8 | AE95: 11 | AF95: 5 | AG95: 12 | AH95: 6 | AI95: 12 | AJ95: 5 | AK95: 5 | AL95: 7 | AM95: 13 | AN95: 9 | AO95: 6
A96: DIRECTION COMMERCIALE HAUT RHIN | B96: 186 | C96: BRUNSTATT | D96: M BOUHIEDA Hocine | E96: 93469340 | F96: KOSINSKI GALLI KARINE | G96: 1 | H96: 1 | I96: 1 | K96: MN102102 | L96: P. Physique | M96: 1 | N96: 1 | O96: 2 | P96: -8.04 | Q96: 42661 | S96: 11.99 | U96: 1264.5 | V96: 5878.82 | W96: 8178.55 | X96: 1000 | Y96: 4661.8 | Z96: 1675 | AA96: 2625 | AB96: 180 | AC96: 1781.59 | AE96: 1 | AG96: 18 | AH96: 18 | AI96: 25 | AJ96: 35 | AK96: 26 | AL96: 6 | AM96: 12 | AN96: 4 | AO96: 17
A97: DIRECTION COMMERCIALE HAUT RHIN | B97: 186 | C97: BRUNSTATT | D97: M BOUHIEDA Hocine | E97: 93847533 | F97: ALSAROUTE | G97: 1 | H97: 1 | I97: 1 | K97: MN102202 | L97: P. Morale | M97: 0 | N97: 0 | O97: 0 | P97: 0 | Q97: 43021 | R97: 1536 | S97: 1800 | T97: 2208 | U97: 156290.01 | V97: 194777.55 | W97: 199962.71 | X97: 174031.67 | Y97: 180089.95 | Z97: 133184.66 | AA97: 136445.4 | AB97: 150623.05 | AC97: 91540.97 | AD97: 0 | AE97: 369 | AF97: 840 | AG97: 852 | AH97: 838 | AI97: 894 | AJ97: 629 | AK97: 148 | AL97: 102 | AM97: 97 | AN97: 65 | AO97: 44
A98: DIRECTION COMMERCIALE HAUT RHIN | B98: 194 | C98: THANN | D98: M PARDAVILA ALEXANDRE | E98: 93694215 | F98: JET | G98: 1 | H98: 1 | I98: 1 | K98: MN102202 | L98: P. Morale | M98: 1 | N98: 1 | O98: 0 | P98: -40868.76 | Q98: 42858 | R98: 35580.12 | S98: 4212 | T98: 26342.64 | U98: 59960.36 | V98: 21785.37 | W98: 75697.15 | X98: 37001.61 | Y98: 47659.35 | Z98: 65101.2 | AA98: 55144.59 | AB98: 87765.36 | AC98: 48058.51 | AD98: 23 | AE98: 13 | AF98: 37 | AG98: 31 | AH98: 70 | AI98: 86 | AJ98: 105 | AK98: 75 | AL98: 78 | AM98: 103 | AN98: 139 | AO98: 133
A99: DIRECTION COMMERCIALE HAUT RHIN | B99: 194 | C99: THANN | D99: MME CLAUDEL STEPHANIE | E99: 93554318 | F99: SCI 2 L PRO | G99: 1 | H99: 1 | I99: 1 | K99: MN102401 | L99: P. Morale | M99: 1 | N99: 1 | O99: 0 | P99: 46387.56 | Q99: 42831 | R99: 1019 | S99: 8908 | T99: 1018.97 | U99: 2229.09 | V99: 8784 | W99: 181 | X99: 120 | Y99: 119.6 | AA99: 6339.14 | AB99: 120 | AC99: 96 | AD99: 1 | AE99: 3 | AF99: 0 | AG99: 28 | AH99: 5 | AI99: 5 | AJ99: 0 | AK99: 0 | AM99: 0 | AN99: 0 | AO99: 2
A100: DIRECTION COMMERCIALE HAUT RHIN | B100: 194 | C100: THANN | D100: MME MENY DANIELLE | E100: 83407689 | F100: POURROY STIRNEMANN LAURENCE | G100: 1 | H100: 1 | I100: 1 | K100: MN102102 | L100: P. Physique | M100: 3 | N100: 1 | O100: 2 | P100: 3391.15 | Q100: 39464 | R100: 1274.7 | S100: 1002 | T100: 0 | U100: 5318.45 | V100: 3401.74 | W100: 530.57 | X100: 6935.33 | Y100: 5359.93 | Z100: 294 | AA100: 4355.15 | AB100: 2354.49 | AC100: 3575 | AD100: 6 | AE100: 3 | AF100: 5 | AG100: 10 | AH100: 15 | AI100: 9 | AJ100: 8 | AK100: 9 | AL100: 7 | AM100: 13 | AN100: 5 | AO100: 11

Sheet Nouveaux clients PROS
A1: Direction Commerciale | B1: ES | C1: Libellé ES | D1: Nom Gestionnaire | E1: N° personne | F1: Nom du client | G1: Client Présent M-1 | H1: Client Présent M | I1: ACTIF ND M | J1: Code Marché | K1: Personnalité Juridique | L1: Nbre CCE | M1: Nbre Forfaits | N1: Nbre Carte Paiement | O1: Surface Financière | P1: Date arrivée | Q1: Montant flux M | R1: NB flux deb M
A2: CAF ALSACE NORD | B2: 202 | C2: ENTREPRISES ALSACE NORD | D2: M GARION FREDERIC | E2: 94173508 | F2: FUF CONSEILS | H2: 1 | J2: MN102202 | K2: P. Morale | L2: 1 | M2: 0 | N2: 0 | O2: 0 | P2: 43397
A3: DIRECTION COMMERCIALE BAS RHIN | B3: 6 | C3: STRASBOURG NEUDORF | D3: M WEIBLE JEREMY | E3: 82941157 | F3: TAVERNA FRANCO | H3: 1 | I3: 1 | J3: MN102202 | K3: P. Physique | L3: 1 | M3: 1 | N3: 2 | O3: 4186.82 | P3: 43375 | Q3: 2610 | R3: 12
A4: DIRECTION COMMERCIALE BAS RHIN | B4: 6 | C4: STRASBOURG NEUDORF | D4: M WEIBLE JEREMY | E4: 94036639 | F4: STUDIO 80 | H4: 1 | J4: MN102202 | K4: P. Morale | L4: 1 | M4: 1 | N4: 0 | O4: 1129.03 | P4: 43375 | Q4: 5000 | R4: 0
A5: DIRECTION COMMERCIALE BAS RHIN | B5: 6 | C5: STRASBOURG NEUDORF | D5: M WEIBLE JEREMY | E5: 94036659 | F5: SCI DU 23 ROUTE DU POLYGONE | H5: 1 | J5: MN102401 | K5: P. Morale | L5: 1 | M5: 1 | N5: 0 | O5: 0 | P5: 43375
A6: DIRECTION COMMERCIALE BAS RHIN | B6: 6 | C6: STRASBOURG NEUDORF | D6: M WEIBLE JEREMY | E6: 94130243 | F6: M BONNE BENJAMIN | H6: 1 | I6: 1 | J6: MN102102 | K6: P. Physique | L6: 1 | M6: 1 | N6: 1 | O6: 6689.67 | P6: 43377 | Q6: 14509.14 | R6: 6
A7: DIRECTION COMMERCIALE BAS RHIN | B7: 6 | C7: STRASBOURG NEUDORF | D7: M WEIBLE JEREMY | E7: 94175873 | F7: DIM RENOV | H7: 1 | J7: MN102202 | K7: P. Morale | L7: 2 | M7: 1 | N7: 0 | O7: 2258.06 | P7: 43398 | Q7: 10000 | R7: 0
A8: DIRECTION COMMERCIALE BAS RHIN | B8: 7 | C8: ILLKIRCH CENTRE | D8: MME LEFEVRE CELINE | E8: 94175966 | F8: DE OLIVEIRA ARCHITECTURE | H8: 1 | J8: MN102102 | K8: P. Morale | L8: 1 | M8: 0 | N8: 0 | O8: 225.8 | P8: 43398 | Q8: 1000 | R8: 0
A9: DIRECTION COMMERCIALE BAS RHIN | B9: 7 | C9: ILLKIRCH CENTRE | D9: MME MARCALO CATIA | E9: 94096550 | F9: MTE ENTREPRISE | H9: 1 | J9: MN102202 | K9: P. Morale | L9: 1 | M9: 1 | N9: 0 | O9: 935.48 | P9: 43306
A10: DIRECTION COMMERCIALE BAS RHIN | B10: 10 | C10: STRASBOURG MEINAU | D10: M WEIBLE JEREMY | E10: 92384038 | F10: AUTO ECOLE PLUS QUE PERMIS | H10: 1 | J10: MN102102 | K10: P. Morale | L10: 1 | M10: 1 | N10: 0 | O10: 0 | P10: 41564
A11: DIRECTION COMMERCIALE BAS RHIN | B11: 10 | C11: STRASBOURG MEINAU | D11: M WEIBLE JEREMY | E11: 94159782 | F11: FA7 SERVICES | H11: 1 | J11: MN102202 | K11: P. Morale | L11: 3 | M11: 1 | N11: 0 | O11: 3548.38 | P11: 43383 | Q11: 5000 | R11: 0
A12: DIRECTION COMMERCIALE BAS RHIN | B12: 18 | C12: ESPACE MESANGE | D12: M CASTELEYN VINCENT | E12: 94028796 | F12: SCI DU RIED | H12: 1 | J12: MN102401 | K12: P. Morale | L12: 1 | M12: 1 | N12: 0 | O12: 0 | P12: 43392
A13: DIRECTION COMMERCIALE BAS RHIN | B13: 18 | C13: ESPACE MESANGE | D13: M CASTELEYN VINCENT | E13: 94155134 | F13: GROUPE KESKIN | H13: 1 | J13: MN102202 | K13: P. Morale | L13: 2 | M13: 1 | N13: 0 | O13: 3774.19 | P13: 43377 | Q13: 5000 | R13: 2
A14: DIRECTION COMMERCIALE BAS RHIN | B14: 18 | C14: ESPACE MESANGE | D14: M CASTELEYN VINCENT | E14: 94164585 | F14: BOULANGERIE PATISSERIE FRANCIS | H14: 1 | J14: MN102202 | K14: P. Morale | L14: 1 | M14: 1 | N14: 0 | O14: 0 | P14: 43390
A15: DIRECTION COMMERCIALE BAS RHIN | B15: 18 | C15: ESPACE MESANGE | D15: M STARCK Gaetan | E15: 94138819 | F15: SCI RONTGEN | H15: 1 | J15: MN102401 | K15: P. Morale | L15: 1 | M15: 1 | N15: 0 | O15: 0 | P15: 43396
A16: DIRECTION COMMERCIALE BAS RHIN | B16: 19 | C16: STRASBOURG ANVERS | D16: MLLE GAUTHIER-LAFAYE Muriel | E16: 94062823 | F16: JOSAM | H16: 1 | J16: MN102401 | K16: P. Morale | L16: 2 | M16: 1 | N16: 0 | O16: 290.32 | P16: 43392 | Q16: 1000 | R16: 0
A17: DIRECTION COMMERCIALE BAS RHIN | B17: 19 | C17: STRASBOURG ANVERS | D17: MLLE GAUTHIER-LAFAYE Muriel | E17: 94161301 | F17: KADY JONATHAN BIENVENUE | H17: 1 | J17: MN102102 | K17: P. Physique | L17: 1 | M17: 1 | N17: 1 | O17: 35.15 | P17: 43385 | Q17: 313.8 | R17: 12
A18: DIRECTION COMMERCIALE BAS RHIN | B18: 20 | C18: STRASBOURG ROBERTSAU | D18: MME RAGUIG ILHAME | E18: 93953070 | F18: 2JB | H18: 1 | J18: MN102401 | K18: P. Morale | L18: 1 | M18: 1 | N18: 0 | O18: 6255.16 | P18: 43139 | Q18: 1560 | R18: 4
A19: DIRECTION COMMERCIALE BAS RHIN | B19: 24 | C19: STRASBOURG AUSTERLITZ | D19: MME LEDERMANN HELENE | E19: 82825578 | F19: KISTLER DAVID | H19: 1 | J19: MN102202 | K19: P. Physique | L19: 1 | M19: 2 | N19: 2 | O19: 14813.73 | P19: 32212 | Q19: 5028.85 | R19: 0
A20: DIRECTION COMMERCIALE BAS RHIN | B20: 27 | C20: SCHILTIGHEIM CENTRE | E20: 94175378 | F20: MIND ROCKET | H20: 1 | J20: MN102202 | K20: P. Morale | L20: 2 | M20: 1 | N20: 0 | O20: 64.51 | P20: 43398 | Q20: 1000 | R20: 0
A21: DIRECTION COMMERCIALE BAS RHIN | B21: 27 | C21: SCHILTIGHEIM CENTRE | D21: M PAGNIER STEPHANE | E21: 82561191 | F21: STEINSCHADEN DAVID | H21: 1 | J21: MN102202 | K21: P. Physique | L21: 1 | M21: 1 | N21: 1 | O21: 36.77 | P21: 34776 | Q21: 100 | R21: 0
A22: DIRECTION COMMERCIALE BAS RHIN | B22: 27 | C22: SCHILTIGHEIM CENTRE | D22: M PAGNIER STEPHANE | E22: 94014296 | F22: FLESCH GOUDIN LAURE | H22: 1 | J22: MN102102 | K22: P. Physique | L22: 1 | M22: 2 | N22: 3 | O22: 3089.06 | P22: 43208
A23: DIRECTION COMMERCIALE BAS RHIN | B23: 27 | C23: SCHILTIGHEIM CENTRE | D23: M PAGNIER STEPHANE | E23: 94111814 | F23: CELESTE 18 | H23: 1 | J23: MN102401 | K23: P. Morale | L23: 1 | M23: 1 | N23: 0 | O23: 0 | P23: 43384
A24: DIRECTION COMMERCIALE BAS RHIN | B24: 27 | C24: SCHILTIGHEIM CENTRE | D24: M PAGNIER STEPHANE | E24: 94179999 | F24: NOJO | H24: 1 | J24: MN102202 | K24: P. Morale | L24: 1 | M24: 1 | N24: 0 | O24: 0 | P24: 43404
A25: DIRECTION COMMERCIALE BAS RHIN | B25: 27 | C25: SCHILTIGHEIM CENTRE | D25: M PAGNIER STEPHANE | E25: 94180485 | F25: TODOR MUGUREL VASILE | H25: 1 | J25: MN102202 | K25: P. Physique | L25: 1 | M25: 1 | N25: 1 | O25: 0 | P25: 43404
A26: DIRECTION COMMERCIALE BAS RHIN | B26: 27 | C26: SCHILTIGHEIM CENTRE | D26: M RAVANEL DAMIEN | E26: 94154417 | F26: LA HOUBLONNIERE | H26: 1 | J26: MN102202 | K26: P. Morale | L26: 1 | M26: 0 | N26: 0 | O26: 903.22 | P26: 43377 | Q26: 1000 | R26: 0
A27: DIRECTION COMMERCIALE BAS RHIN | B27: 27 | C27: SCHILTIGHEIM CENTRE | D27: M RAVANEL DAMIEN | E27: 94154583 | F27: ZEBILINI ALEXANDRE LAURENT VALERY | H27: 1 | J27: MN102102 | K27: P. Physique | L27: 1 | M27: 1 | N27: 1 | O27: 0 | P27: 43377
A28: DIRECTION COMMERCIALE BAS RHIN | B28: 27 | C28: SCHILTIGHEIM CENTRE | D28: M RAVANEL DAMIEN | E28: 94169191 | F28: LA COMPAGNIE DES ALSACIENS REUNIS | H28: 1 | J28: MN102202 | K28: P. Morale | L28: 2 | M28: 1 | N28: 0 | O28: 451.61 | P28: 43391 | Q28: 1000 | R28: 0
A29: DIRECTION COMMERCIALE BAS RHIN | B29: 30 | C29: BRUMATH | D29: M KOCH JONATHAN | E29: 94118682 | F29: COIFFURE ANNE | H29: 1 | J29: MN102202 | K29: P. Morale | L29: 2 | M29: 1 | N29: 0 | O29: 9269.11 | P29: 43336 | Q29: 9102.43 | R29: 9
A30: DIRECTION COMMERCIALE BAS RHIN | B30: 30 | C30: BRUMATH | D30: M KOCH JONATHAN | E30: 94143697 | F30: BUREAU VALLEE | H30: 1 | J30: MN102202 | K30: P. Morale | L30: 3 | M30: 1 | N30: 0 | O30: 8128.9 | P30: 43399 | Q30: 70000 | R30: 0
A31: DIRECTION COMMERCIALE BAS RHIN | B31: 33 | C31: LA WANTZENAU | D31: MME ARCIN CHRISTELLE | E31: 94069341 | F31: LE SALON | H31: 1 | J31: MN102202 | K31: P. Morale | L31: 1 | M31: 1 | N31: 0 | O31: 0 | P31: 43377
A32: DIRECTION COMMERCIALE BAS RHIN | B32: 37 | C32: MUNDOLSHEIM | D32: M KOCH JONATHAN | E32: 92878562 | F32: GOURINY FOUAD | H32: 1 | J32: MN102202 | K32: P. Physique | L32: 2 | M32: 1 | N32: 2 | O32: 547.46 | P32: 43390 | Q32: 1669.95 | R32: 0
A33: DIRECTION COMMERCIALE BAS RHIN | B33: 38 | C33: OBERHAUSBERGEN | D33: M KOEHLER CEDRIC | E33: 94174190 | F33: KABHDIS | H33: 1 | J33: MN102202 | K33: P. Morale | L33: 3 | M33: 1 | N33: 0 | O33: 1170.96 | P33: 43397 | Q33: 6100 | R33: 0
A34: DIRECTION COMMERCIALE BAS RHIN | B34: 40 | C34: ECKBOLSHEIM | D34: M ZOUARI AISSA | E34: 94167931 | F34: OUAGGAD HICHAM | H34: 1 | J34: MN102202 | K34: P. Physique | L34: 1 | M34: 2 | N34: 2 | O34: -13.93 | P34: 43391
A35: DIRECTION COMMERCIALE BAS RHIN | B35: 41 | C35: HOERDT | D35: MLLE BERNARD Dounya | E35: 93881017 | F35: BOREY CAROLINE ANGELINE | H35: 1 | J35: MN102202 | K35: P. Physique | L35: 2 | M35: 2 | N35: 1 | O35: -10.96 | P35: 43060
A36: DIRECTION COMMERCIALE BAS RHIN | B36: 43 | C36: STRASBOURG HALLES | D36: M STARCK Gaetan | E36: 94138709 | F36: SELARL CAB IMAGERIE MEDICALE BALTIMORE | H36: 1 | J36: MN102102 | K36: P. Morale | L36: 1 | M36: 1 | N36: 0 | O36: 0 | P36: 43396
A37: DIRECTION COMMERCIALE BAS RHIN | B37: 60 | C37: HAGUENAU HOUBLON | D37: MME OHLMANN SABRINA | E37: 94146261 | F37: SCI VALVERDE en formation | H37: 1 | J37: MN102401 | K37: P. Morale | L37: 1 | M37: 0 | N37: 0 | O37: 0 | P37: 43396
A38: DIRECTION COMMERCIALE BAS RHIN | B38: 64 | C38: HAGUENAU MUSAU | D38: M KREBS LUDOVIC | E38: 82375358 | F38: CE CHARLES MULLER RECYCLING | H38: 1 | J38: MN102202 | K38: P. Morale | L38: 1 | M38: 0 | N38: 0 | O38: 160304.39 | P38: 33022 | Q38: 0 | R38: 2
A39: DIRECTION COMMERCIALE BAS RHIN | B39: 65 | C39: WEITBRUCH | D39: M KOCH JONATHAN | E39: 94172275 | F39: N G | H39: 1 | I39: 1 | J39: MN102202 | K39: P. Morale | L39: 2 | M39: 1 | N39: 0 | O39: 322.58 | P39: 43396 | Q39: 4000 | R39: 6
A40: DIRECTION COMMERCIALE BAS RHIN | B40: 68 | C40: REICHSHOFFEN | D40: M VERDET Adrien | E40: 82754263 | F40: HEISSLER DIDIER | H40: 1 | J40: MN102202 | K40: P. Physique | L40: 0 | M40: 1 | N40: 0 | O40: -71.55 | P40: 28497
A41: DIRECTION COMMERCIALE BAS RHIN | B41: 70 | C41: GUNDERSHOFFEN | D41: MME KIRCHER CINDY | E41: 93359953 | F41: GROLL JEREMIE | H41: 1 | J41: MN102202 | K41: P. Physique | L41: 1 | M41: 3 | N41: 2 | O41: 32924.3 | P41: 42538 | Q41: 450 | R41: 1
A42: DIRECTION COMMERCIALE BAS RHIN | B42: 71 | C42: WISSEMBOURG | D42: M HABERKORN Vincent | E42: 94176467 | F42: WEKO AUTOTEILE | H42: 1 | J42: MN102202 | K42: P. Morale | L42: 1 | M42: 1 | N42: 0 | O42: 0 | P42: 43399
A43: DIRECTION COMMERCIALE BAS RHIN | B43: 71 | C43: WISSEMBOURG | D43: M HABERKORN Vincent | E43: 94179492 | F43: M BOYRAZ CENGIZ | H43: 1 | J43: MN102202 | K43: P. Physique | L43: 1 | M43: 1 | N43: 1 | O43: 0 | P43: 43404
A44: DIRECTION COMMERCIALE BAS RHIN | B44: 74 | C44: SOUFFLENHEIM | D44: MLLE DOLLINGER SANDRINE | E44: 83256015 | F44: MR AURELIEN RUCH | H44: 1 | J44: MN102202 | K44: P. Physique | L44: 1 | M44: 2 | N44: 1 | O44: 3579.78 | P44: 36916
A45: DIRECTION COMMERCIALE BAS RHIN | B45: 77 | C45: SELTZ | D45: M SEISENBERGER PIERRE | E45: 93699508 | F45: GULIAS | H45: 1 | I45: 1 | J45: MN102202 | K45: P. Morale | L45: 1 | M45: 1 | N45: 0 | O45: 9316.88 | P45: 42860 | Q45: 176.76 | R45: 11
A46: DIRECTION COMMERCIALE BAS RHIN | B46: 85 | C46: INGWILLER | D46: M TOUSSAINT OLIVIER | E46: 82382820 | F46: ETS JEAN LUC LAZAR | H46: 1 | I46: 1 | J46: MN102202 | K46: P. Morale | L46: 2 | M46: 1 | N46: 0 | O46: 130943.02 | P46: 35857 | Q46: 155554 | R46: 22
A47: DIRECTION COMMERCIALE BAS RHIN | B47: 92 | C47: HOCHFELDEN | D47: MME GRINGER CLAIRE | E47: 94151892 | F47: EDAT SYSTEMES S.A.S. | H47: 1 | J47: MN102202 | K47: P. Morale | L47: 1 | M47: 0 | N47: 0 | O47: 3870.96 | P47: 43375 | Q47: 4000 | R47: 0
A48: DIRECTION COMMERCIALE BAS RHIN | B48: 95 | C48: SARRE UNION | D48: MME WEBER MARJORIE | E48: 94173894 | F48: DARIO DIVERSITY COACH | H48: 1 | J48: MN102202 | K48: P. Morale | L48: 2 | M48: 0 | N48: 0 | O48: 516.12 | P48: 43397 | Q48: 2000 | R48: 0
A49: DIRECTION COMMERCIALE BAS RHIN | B49: 101 | C49: SELESTAT CENTRE | D49: MME DENKOVA MILITSA | E49: 94149991 | F49: SCI CLEBER | H49: 1 | J49: MN102401 | K49: P. Morale | L49: 1 | M49: 1 | N49: 0 | O49: 0 | P49: 43383
A50: DIRECTION COMMERCIALE BAS RHIN | B50: 101 | C50: SELESTAT CENTRE | D50: MME DENKOVA MILITSA | E50: 94151687 | F50: SPFPL WOERLY | H50: 1 | J50: MN102102 | K50: P. Morale | L50: 1 | M50: 0 | N50: 0 | O50: 29032.25 | P50: 43375 | Q50: 30000 | R50: 0
A51: DIRECTION COMMERCIALE BAS RHIN | B51: 104 | C51: ERSTEIN | D51: MME RUEFF DOMINIQUE | E51: 83190943 | F51: CHEZ NATHAN | H51: 1 | J51: MN102202 | K51: P. Physique | L51: 1 | M51: 2 | N51: 1 | O51: 259.19 | P51: 35993
A52: DIRECTION COMMERCIALE BAS RHIN | B52: 111 | C52: BENFELD | D52: M AGENCE BENFELD DE CLIENTELE | E52: 82685897 | F52: MME SCHNEIDER LAURA | H52: 1 | J52: MN102202 | K52: P. Physique | L52: 1 | M52: 2 | N52: 1 | O52: 7932.16 | P52: 34948 | Q52: 37 | R52: 1
A53: DIRECTION COMMERCIALE BAS RHIN | B53: 113 | C53: BARR | D53: M BELCOUR HERVE | E53: 82716070 | F53: MLE VIRGINIE ROBIN | H53: 1 | J53: MN102102 | K53: P. Physique | L53: 1 | M53: 2 | N53: 2 | O53: 1374.74 | P53: 29106
A54: DIRECTION COMMERCIALE BAS RHIN | B54: 113 | C54: BARR | D54: M SPATZ Michel | E54: 94174610 | F54: PHOTO CELES | H54: 1 | J54: MN102202 | K54: P. Morale | L54: 3 | M54: 1 | N54: 0 | O54: 225.8 | P54: 43398 | Q54: 1000 | R54: 0
A55: DIRECTION COMMERCIALE BAS RHIN | B55: 116 | C55: MOLSHEIM | D55: M AMAND VICTOR | E55: 94162646 | F55: MY ELEC | H55: 1 | J55: MN102202 | K55: P. Morale | L55: 2 | M55: 1 | N55: 0 | O55: 451.61 | P55: 43391 | Q55: 1000 | R55: 0
A56: DIRECTION COMMERCIALE BAS RHIN | B56: 116 | C56: MOLSHEIM | D56: M HEYM LAURENT | E56: 94074808 | F56: MARYLINE VII | H56: 1 | J56: MN102401 | K56: P. Morale | L56: 1 | M56: 0 | N56: 0 | O56: 1000 | P56: 43281
A57: DIRECTION COMMERCIALE BAS RHIN | B57: 116 | C57: MOLSHEIM | D57: M HEYM LAURENT | E57: 94142203 | F57: SCI ALDAUD | H57: 1 | J57: MN102402 | K57: P. Morale | L57: 1 | M57: 1 | N57: 0 | O57: 910.8 | P57: 43391
A58: DIRECTION COMMERCIALE BAS RHIN | B58: 116 | C58: MOLSHEIM | D58: MME PFEIFFER VIRGINIE | E58: 94151693 | F58: STEINER BAUCOURT STEINERT SYLVIE | H58: 1 | J58: MN102102 | K58: P. Physique | L58: 1 | M58: 1 | N58: 0 | O58: 0 | P58: 43376
A59: DIRECTION COMMERCIALE BAS RHIN | B59: 119 | C59: OBERNAI | D59: M OTT Maxime | E59: 94158984 | F59: FEHLAUER TRAVAUX FORESTIERS | H59: 1 | J59: MN102302 | K59: P. Morale | L59: 3 | M59: 1 | N59: 0 | O59: -1.93 | P59: 43393
A60: DIRECTION COMMERCIALE BAS RHIN | B60: 119 | C60: OBERNAI | D60: MLLE WHITE ANGELIQUE | E60: 94162142 | F60: TELETECHNIC BENDER | H60: 1 | J60: MN102202 | K60: P. Morale | L60: 2 | M60: 1 | N60: 0 | O60: 0 | P60: 43385
A61: DIRECTION COMMERCIALE BAS RHIN | B61: 144 | C61: RIBEAUVILLE | D61: MME WINDHOLTZ FANNY | E61: 94165378 | F61: OWEN PARTNERS SAS | H61: 1 | J61: MN102202 | K61: P. Morale | L61: 3 | M61: 1 | N61: 0 | O61: 2870.96 | P61: 43390 | Q61: 11000 | R61: 0
A62: DIRECTION COMMERCIALE HAUT RHIN | B62: 130 | C62: COLMAR REPUBLIQUE | D62: MME WINDHOLTZ FANNY | E62: 94155089 | F62: SARL PRO - TP ALSACE | H62: 1 | J62: MN102202 | K62: P. Morale | L62: 1 | M62: 1 | N62: 0 | O62: 771.77 | P62: 43384 | Q62: 1993.75 | R62: 0
A63: DIRECTION COMMERCIALE HAUT RHIN | B63: 132 | C63: COLMAR MARAICHERS | D63: MME BLEU AMANDINE | E63: 94113809 | F63: BOCAN | H63: 1 | J63: MN102202 | K63: P. Morale | L63: 1 | M63: 1 | N63: 0 | O63: 0 | P63: 43399
A64: DIRECTION COMMERCIALE HAUT RHIN | B64: 132 | C64: COLMAR MARAICHERS | D64: MME BLEU AMANDINE | E64: 94147268 | F64: SCI LGL | H64: 1 | J64: MN102401 | K64: P. Morale | L64: 1 | M64: 1 | N64: 0 | O64: 1.42 | P64: 43384 | Q64: 300 | R64: 1
A65: DIRECTION COMMERCIALE HAUT RHIN | B65: 132 | C65: COLMAR MARAICHERS | D65: MME SIEBER LAETITIA | E65: 82427667 | F65: HEINIMANN DAVID | H65: 1 | J65: MN102202 | K65: P. Physique | L65: 1 | M65: 2 | N65: 2 | O65: -13.93 | P65: 26245
A66: DIRECTION COMMERCIALE HAUT RHIN | B66: 132 | C66: COLMAR MARAICHERS | D66: MME SIEBER LAETITIA | E66: 83432419 | F66: VERLAGUET CORINNE | H66: 1 | J66: MN102202 | K66: P. Physique | L66: 1 | M66: 1 | N66: 1 | O66: 2.12 | P66: 43355 | Q66: 147 | R66: 0
A67: DIRECTION COMMERCIALE HAUT RHIN | B67: 132 | C67: COLMAR MARAICHERS | D67: MME SIEBER LAETITIA | E67: 93956128 | F67: K CONCEPT INGENIERIE | H67: 1 | J67: MN102202 | K67: P. Morale | L67: 1 | M67: 0 | N67: 0 | O67: 107.15 | P67: 43144 | Q67: 3321.67 | R67: 1
A68: DIRECTION COMMERCIALE HAUT RHIN | B68: 133 | C68: COLMAR VAUBAN | D68: MME WINDHOLTZ FANNY | E68: 94174513 | F68: FASHION & CONTRIBTION | H68: 1 | J68: MN102202 | K68: P. Morale | L68: 3 | M68: 1 | N68: 0 | O68: 806.45 | P68: 43398 | Q68: 5000 | R68: 0
A69: DIRECTION COMMERCIALE HAUT RHIN | B69: 134 | C69: COLMAR SAINT JOSEPH | D69: MME RINKENBACH CHRISTEL | E69: 82680700 | F69: MLE MANON UHLEN | H69: 1 | J69: MN102102 | K69: P. Physique | L69: 2 | M69: 2 | N69: 1 | O69: 47057.17 | P69: 35579
A70: DIRECTION COMMERCIALE HAUT RHIN | B70: 134 | C70: COLMAR SAINT JOSEPH | D70: MME RINKENBACH CHRISTEL | E70: 83410350 | F70: TONDINI JULIE | H70: 1 | J70: MN102102 | K70: P. Physique | L70: 2 | M70: 2 | N70: 0 | O70: 2668.57 | P70: 39508 | Q70: 650 | R70: 0
A71: DIRECTION COMMERCIALE HAUT RHIN | B71: 135 | C71: COLMAR SAINTE MARIE | D71: M SCHWINDENHAMMER MARC | E71: 94163941 | F71: AYDIN IBRAHIM | H71: 1 | J71: MN102202 | K71: P. Physique | L71: 1 | M71: 1 | N71: 1 | O71: -7.09 | P71: 43385 | Q71: 500 | R71: 0
A72: DIRECTION COMMERCIALE HAUT RHIN | B72: 135 | C72: COLMAR SAINTE MARIE | D72: MME STOLL LEA | E72: 83183720 | F72: UGUR MUHAMER | H72: 1 | I72: 1 | J72: MN102202 | K72: P. Physique | L72: 1 | M72: 2 | N72: 2 | O72: 5604.99 | P72: 35888 | Q72: 12950 | R72: 7
A73: DIRECTION COMMERCIALE HAUT RHIN | B73: 141 | C73: HORBOURG WIHR | D73: MME DARD JOANNA | E73: 94165729 | F73: WAKE CONNECTION | H73: 1 | J73: MN102202 | K73: P. Morale | L73: 2 | M73: 1 | N73: 0 | O73: 467.74 | P73: 43389 | Q73: 1000 | R73: 0
A74: DIRECTION COMMERCIALE HAUT RHIN | B74: 143 | C74: MUNSTER | D74: MME MARION CATHERINE | E74: 94171312 | F74: TALIEU CHAUFFAGE SANITAIRE EN FORMATION | H74: 1 | J74: MN102202 | K74: P. Morale | L74: 3 | M74: 1 | N74: 0 | O74: 387.09 | P74: 43393 | Q74: 1000 | R74: 0
A75: DIRECTION COMMERCIALE HAUT RHIN | B75: 148 | C75: ORBEY | D75: MME SCHILLING PATRICIA | E75: 94170440 | F75: L'ESPRIT GAGNANT | H75: 1 | J75: MN102202 | K75: P. Morale | L75: 2 | M75: 1 | N75: 0 | O75: 1258.06 | P75: 43392 | Q75: 3000 | R75: 0
A76: DIRECTION COMMERCIALE HAUT RHIN | B76: 153 | C76: ROUFFACH | D76: M THAMI ROMAIN | E76: 83226839 | F76: MME ROINE SYLVIANE | H76: 1 | J76: MN102102 | K76: P. Physique | L76: 1 | M76: 2 | N76: 1 | O76: 5097.29 | P76: 36493
A77: DIRECTION COMMERCIALE HAUT RHIN | B77: 153 | C77: ROUFFACH | D77: MME MALISKA SYLVIE | E77: 82398089 | F77: SCI PIMACA | H77: 1 | J77: MN102401 | K77: P. Morale | L77: 1 | M77: 0 | N77: 0 | O77: -1.01 | P77: 39905 | Q77: 54.42 | R77: 1
A78: DIRECTION COMMERCIALE HAUT RHIN | B78: 153 | C78: ROUFFACH | D78: MME SALZBORN-SCHULIAR Sophie | E78: 94167393 | F78: CEMAWINE | H78: 1 | J78: MN102202 | K78: P. Morale | L78: 2 | M78: 1 | N78: 0 | O78: 967.74 | P78: 43390 | Q78: 2000 | R78: 0
A79: DIRECTION COMMERCIALE HAUT RHIN | B79: 159 | C79: MUNTZENHEIM | D79: M DARD PIERRE-ALEXIS | E79: 82459936 | F79: SCHNETZ JEAN BAPTISTE | H79: 1 | J79: MN102202 | K79: P. Physique | L79: 1 | M79: 2 | N79: 0 | O79: 10850.38 | P79: 33085
A80: DIRECTION COMMERCIALE HAUT RHIN | B80: 160 | C80: SOULTZ | D80: MME SALZBORN-SCHULIAR Sophie | E80: 94176878 | F80: SELARL COUASNON LAURENCE | H80: 1 | J80: MN102102 | K80: P. Morale | L80: 1 | M80: 1 | N80: 0 | O80: 0 | P80: 43399
A81: DIRECTION COMMERCIALE HAUT RHIN | B81: 162 | C81: ENSISHEIM | D81: MME BIRY ADELINE | E81: 94173441 | F81: CREAKTIVE | H81: 1 | J81: MN102202 | K81: P. Morale | L81: 2 | M81: 1 | N81: 0 | O81: 112.9 | P81: 43397 | Q81: 500 | R81: 0
A82: DIRECTION COMMERCIALE HAUT RHIN | B82: 169 | C82: MULHOUSE ROOSEVELT | D82: MME GAUTHIER EVELYNE | E82: 94154909 | F82: LE PHENIX | H82: 1 | J82: MN102202 | K82: P. Morale | L82: 1 | M82: 1 | N82: 0 | O82: 64.51 | P82: 43377 | Q82: 1000 | R82: 0
A83: DIRECTION COMMERCIALE HAUT RHIN | B83: 169 | C83: MULHOUSE ROOSEVELT | D83: MME MALISKA SYLVIE | E83: 93695140 | F83: PHARMALUMA | H83: 1 | J83: MN102102 | K83: P. Morale | L83: 1 | M83: 1 | N83: 0 | O83: 165.22 | P83: 42877 | Q83: 1000 | R83: 1
A84: DIRECTION COMMERCIALE HAUT RHIN | B84: 174 | C84: MULHOUSE DORNACH | D84: M WILHELM Guy | E84: 94166019 | F84: SMT | H84: 1 | J84: MN102202 | K84: P. Morale | L84: 1 | M84: 0 | N84: 0 | O84: 419.35 | P84: 43392 | Q84: 1000 | R84: 0
A85: DIRECTION COMMERCIALE HAUT RHIN | B85: 178 | C85: SAINT LOUIS | D85: MME MORGEN MANON | E85: 94164396 | F85: ALSACE DEPANNAGE MULHOUSE | H85: 1 | J85: MN102202 | K85: P. Morale | L85: 1 | M85: 0 | N85: 0 | O85: 516.12 | P85: 43386 | Q85: 1000 | R85: 0
A86: DIRECTION COMMERCIALE HAUT RHIN | B86: 178 | C86: SAINT LOUIS | D86: MME MORGEN MANON | E86: 94164435 | F86: ALSACE DEPANNAGE HEIMSBRUNN | H86: 1 | J86: MN102202 | K86: P. Morale | L86: 1 | M86: 0 | N86: 0 | O86: 516.12 | P86: 43386 | Q86: 1000 | R86: 0
A87: DIRECTION COMMERCIALE HAUT RHIN | B87: 183 | C87: WITTENHEIM | D87: M AGENCE WITTENHEIM DE CLIENTELE | E87: 91895272 | F87: MLLE OTT LAURA | H87: 1 | J87: MN102202 | K87: P. Physique | L87: 1 | M87: 2 | N87: 2 | O87: 4132.1 | P87: 41047
A88: DIRECTION COMMERCIALE HAUT RHIN | B88: 184 | C88: ILLZACH | D88: M IFFRIG SIMON-PIERRE | E88: 94157251 | F88: BR IMMOBILIER 68 | H88: 1 | J88: MN102102 | K88: P. Morale | L88: 1 | M88: 1 | N88: 0 | O88: 1398.45 | P88: 43379 | Q88: 7500 | R88: 3
A89: DIRECTION COMMERCIALE HAUT RHIN | B89: 184 | C89: ILLZACH | D89: M IFFRIG SIMON-PIERRE | E89: 94158306 | F89: JB CONCEPT | H89: 1 | J89: MN102202 | K89: P. Morale | L89: 1 | M89: 0 | N89: 0 | O89: 741.93 | P89: 43382 | Q89: 1000 | R89: 0
A90: DIRECTION COMMERCIALE HAUT RHIN | B90: 188 | C90: PFASTATT | D90: M HAMMERER LUDOVIC | E90: 94177277 | F90: AJM NET PLUS | H90: 1 | J90: MN102202 | K90: P. Morale | L90: 1 | M90: 1 | N90: 0 | O90: 6.45 | P90: 43399 | Q90: 200 | R90: 0
A91: DIRECTION COMMERCIALE HAUT RHIN | B91: 193 | C91: DANNEMARIE | D91: MME SIMON ISABELLE | E91: 94170476 | F91: DSC | H91: 1 | J91: MN102202 | K91: P. Morale | L91: 2 | M91: 1 | N91: 0 | O91: 629.03 | P91: 43392 | Q91: 1500 | R91: 0
A92: DIRECTION COMMERCIALE HAUT RHIN | B92: 194 | C92: THANN | D92: M PARDAVILA ALEXANDRE | E92: 94159522 | F92: SARL JLBDIS | H92: 1 | J92: MN102202 | K92: P. Morale | L92: 2 | M92: 1 | N92: 0 | O92: 2709.67 | P92: 43383 | Q92: 6000 | R92: 0
A93: DIRECTION COMMERCIALE HAUT RHIN | B93: 195 | C93: CERNAY | D93: M FELBINGER CORENTIN | E93: 93561003 | F93: BERNA GABRIEL MARIAN | H93: 1 | J93: MN102202 | K93: P. Physique | L93: 2 | M93: 2 | N93: 0 | O93: 412.69 | P93: 42733
A94: DIRECTION COMMERCIALE HAUT RHIN | B94: 196 | C94: MASEVAUX | D94: M DUVAL FREDERIC | E94: 94083924 | F94: LA ROUGEMONTOISE | H94: 1 | J94: MN102202 | K94: P. Morale | L94: 4 | M94: 1 | N94: 0 | O94: 15483.87 | P94: 43381 | Q94: 20000 | R94: 0

Sheet Clients Pros sortants
A1: Groupe | B1: ES M-1 | C1: N° Personne | D1: Nom du client | E1: Code Marché M-1 | F1: Client Présent M-1 | G1: Client Présent M | H1: ACTIF ND M
A2: 803 | B2: 206 | C2: 82398053 | D2: SCI DUO AVENIR | E2: MN102302 | F2: 1
A3: 802 | B3: 202 | C3: 93888711 | D3: LES PROMOTEURS D'AUJOURD'HUI | E3: MN102202 | F3: 1
A4: 264 | B4: 130 | C4: 83431285 | D4: HEITZLER CLAIRE | E4: MN102102 | F4: 1
A5: 264 | B5: 130 | C5: 91869782 | D5: BAGAS | E5: MN102202 | F5: 1
A6: 264 | B6: 130 | C6: 93307056 | D6: BATIR COMPAGNIE & ASSOCIES | E6: MN102202 | F6: 1
A7: 264 | B7: 134 | C7: 92387966 | D7: A.S.E.B | E7: MN102202 | F7: 1
A8: 264 | B8: 135 | C8: 92825297 | D8: KIRCA | E8: MN102202 | F8: 1
A9: 264 | B9: 141 | C9: 82393070 | D9: AGESTIO | E9: MN102102 | F9: 1
A10: 264 | B10: 141 | C10: 92373184 | D10: NO SIESTA | E10: MN102202 | F10: 1
A11: 264 | B11: 153 | C11: 93782330 | D11: SOCIETE CIVILE IMMOBILIERE TASSIGNY | E11: MN102401 | F11: 1
A12: 264 | B12: 169 | C12: 82396842 | D12: SCI CENIC | E12: MN102401 | F12: 1
A13: 264 | B13: 169 | C13: 93861805 | D13: VINCENT MURA | E13: MN102202 | F13: 1
... A21: 262 | B21: 8 | C21: 93904600 | D21: LA BOUTIQUE DE PARIS | E21: MN102402 | F21: 1
A22: 262 | B22: 18 | C22: 93890538 | D22: JLF FISHING | E22: MN102202 | F22: 1 | H22: 1
A23: 262 | B23: 19 | C23: 92720521 | D23: HA SAS | E23: MN102401 | F23: 1
A24: 262 | B24: 19 | C24: 93364275 | D24: ED-WOOD & VINYL | E24: MN102202 | F24: 1
A25: 262 | B25: 23 | C25: 82392428 | D25: SCI L ET F MAETZ | E25: MN102401 | F25: 1
A26: 262 | B26: 26 | C26: 94147423 | D26: DCUBE | E26: MN102302 | F26: 1
A27: 262 | B27: 27 | C27: 82393740 | D27: SUMSER PFLANZENHANDEL GMBH | E27: MN102202 | F27: 1
A28: 262 | B28: 30 | C28: 92061313 | D28: POLYEDRE IMMOBILIER | E28: MN102202 | F28: 1
A29: 262 | B29: 30 | C29: 93247024 | D29: ORPI IMMOBILIERE DANN | E29: MN102202 | F29: 1 | H29: 1
A30: 262 | B30: 30 | C30: 93621033 | D30: CONCEPT HABITAT | E30: MN102202 | F30: 1
A31: 262 | B31: 39 | C31: 82912793 | D31: LOBJOIE MARC LOUIS GABRIEL | E31: MN102202 | F31: 1
A32: 262 | B32: 40 | C32: 83129563 | D32: WELSCH FREDERIQUE | E32: MN102102 | F32: 1
A33: 262 | B33: 43 | C33: 82395214 | D33: ABSIS ASSURANCES | E33: MN102102 | F33: 1
A34: 262 | B34: 43 | C34: 82568667 | D34: LAURENT FREDERIC | E34: MN102102 | F34: 1
A35: 262 | B35: 45 | C35: 82399441 | D35: L ATELIER D GRANPERE | E35: MN102202 | F35: 1
A36: 262 | B36: 45 | C36: 82480953 | D36: BOLLINI MARGUERITE | E36: MN102102 | F36: 1
A37: 262 | B37: 47 | C37: 91837829 | D37: FG COIFFURE | E37: MN102202 | F37: 1
A38: 262 | B38: 47 | C38: 92154121 | D38: TRANSPORTS KIROUANE | E38: MN102202 | F38: 1
A39: 262 | B39: 47 | C39: 92881179 | D39: NGS TRANSPORT | E39: MN102202 | F39: 1
A40: 262 | B40: 65 | C40: 92816651 | D40: Carrefour express | E40: MN102202 | F40: 1 | H40: 1
A41: 262 | B41: 65 | C41: 93425267 | D41: LUXURIA | E41: MN102202 | F41: 1
A42: 262 | B42: 67 | C42: 92454758 | D42: DLS | E42: MN102202 | F42: 1
A43: 262 | B43: 67 | C43: 92927891 | D43: GENEL | E43: MN102202 | F43: 1
A44: 262 | B44: 77 | C44: 92090343 | D44: SCI A.C.F | E44: MN102401 | F44: 1
A45: 262 | B45: 79 | C45: 92521239 | D45: JH OBERHOFFEN | E45: MN102202 | F45: 1 | H45: 1
A46: 262 | B46: 82 | C46: 92910395 | D46: holding muller | E46: MN102202 | F46: 1
A47: 262 | B47: 89 | C47: 83113642 | D47: MEDER ALOISE | E47: MN102202 | F47: 1
A48: 262 | B48: 95 | C48: 93141477 | D48: GARAGE AMEGEE | E48: MN102202 | F48: 1 | H48: 1
A49: 262 | B49: 101 | C49: 82681744 | D49: GAY OHNET AGNES | E49: MN102202 | F49: 1
A50: 262 | B50: 101 | C50: 91235446 | D50: PIERRA JEAN-MICHEL ROBERT | E50: MN102202 | F50: 1
A51: 262 | B51: 111 | C51: 82398786 | D51: MVO | E51: MN102202 | F51: 1
A52: 262 | B52: 111 | C52: 82793603 | D52: FRIESS ANGELIQUE | E52: MN102102 | F52: 1
A53: 262 | B53: 116 | C53: 92166304 | D53: EARL WELTEVREDEN | E53: MN102302 | F53: 1
A54: 262 | B54: 119 | C54: 82982642 | D54: SCAMPS ECKERT CHARLENE | E54: MN102102 | F54: 1
A55: 262 | B55: 120 | C55: 82833200 | D55: GAUER EBEN FLEUR FLORENCE | E55: MN102202 | F55: 1
A56: 262 | B56: 120 | C56: 91161410 | D56: EDEL SEBASTIEN | E56: MN102202 | F56: 1
A57: 262 | B57: 126 | C57: 92678270 | D57: CELIK UCAR CANSU | E57: MN102202 | F57: 1

Sheet Volumétries par ES
A1: DirCo | B1: ES | C1: Clients Pros M-1 | D1: Clients Pros M | E1: Variation nombre de clients Pros | F1: Nouveaux clients | G1: Clients sortants | H1: Nbre Actifs ND M-1 | I1: Nbre Actifs ND M | J1: Variation nombre Actifs ND | K1: Devenus Actifs ND | L1: Sorties Actifs ND
A2: 262 | B2: 6 | C2: 163 | D2: 168 | E2: 5 | F2: =SUMIF('Nouveaux clients PROS'!B:B,'Volumétries par ES'!B2,'Nouveaux clients PROS'!H:H) -> 5 | G2: =SUMIF('Clients Pros sortants'!B:B,'Volumétries par ES'!B2,'Clients Pros sortants'!F:F) -> 0 | H2: 90 | I2: 88 | J2: -2 | L2: =SUMIF('Sorties Actifs ND'!B:B,'Volumétries par ES'!B2,'Sorties Actifs ND'!I:I) -> 5
A3: 262 | B3: 7 | C3: 133 | D3: 134 | E3: 1 | F3: =SUMIF('Nouveaux clients PROS'!B:B,'Volumétries par ES'!B3,'Nouveaux clients PROS'!H:H) -> 2 | G3: =SUMIF('Clients Pros sortants'!B:B,'Volumétries par ES'!B3,'Clients Pros sortants'!F:F) -> 1 | H3: 77 | I3: 77 | J3: 0 | L3: =SUMIF('Sorties Actifs ND'!B:B,'Volumétries par ES'!B3,'Sorties Actifs ND'!I:I) -> 2
A4: 262 | B4: 8 | C4: 76 | D4: 74 | E4: -2 | F4: =SUMIF('Nouveaux clients PROS'!B:B,'Volumétries par ES'!B4,'Nouveaux clients PROS'!H:H) -> 0 | G4: =SUMIF('Clients Pros sortants'!B:B,'Volumétries par ES'!B4,'Clients Pros sortants'!F:F) -> 2 | H4: 38 | I4: 36 | J4: -2 | L4: =SUMIF('Sorties Actifs ND'!B:B,'Volumétries par ES'!B4,'Sorties Actifs ND'!I:I) -> 2
A5: 262 | B5: 10 | C5: 54 | D5: 56 | E5: 2 | F5: =SUMIF('Nouveaux clients PROS'!B:B,'Volumétries par ES'!B5,'Nouveaux clients PROS'!H:H) -> 2 | G5: =SUMIF('Clients Pros sortants'!B:B,'Volumétries par ES'!B5,'Clients Pros sortants'!F:F) -> 0 | H5: 26 | I5: 26 | J5: 0 | L5: =SUMIF('Sorties Actifs ND'!B:B,'Volumétries par ES'!B5,'Sorties Actifs ND'!I:I) -> 0
A6: 262 | B6: 12 | C6: 32 | D6: 32 | E6: 0 | F6: =SUMIF('Nouveaux clients PROS'!B:B,'Volumétries par ES'!B6,'Nouveaux clients PROS'!H:H) -> 0 | G6: =SUMIF('Clients Pros sortants'!B:B,'Volumétries par ES'!B6,'Clients Pros sortants'!F:F) -> 0 | H6: 18 | I6: 18 | J6: 0 | L6: =SUMIF('Sorties Actifs ND'!B:B,'Volumétries par ES'!B6,'Sorties Actifs ND'!I:I) -> 0
A7: 262 | B7: 13 | C7: 20 | D7: 20 | E7: 0 | F7: =SUMIF('Nouveaux clients PROS'!B:B,'Volumétries par ES'!B7,'Nouveaux clients PROS'!H:H) -> 0 | G7: =SUMIF('Clients Pros sortants'!B:B,'Volumétries par ES'!B7,'Clients Pros sortants'!F:F) -> 0 | H7: 5 | I7: 5 | J7: 0 | L7: =SUMIF('Sorties Actifs ND'!B:B,'Volumétries par ES'!B7,'Sorties Actifs ND'!I:I) -> 0
A8: 262 | B8: 14 | C8: 46 | D8: 46 | E8: 0 | F8: =SUMIF('Nouveaux clients PROS'!B:B,'Volumétries par ES'!B8,'Nouveaux clients PROS'!H:H) -> 0 | G8: =SUMIF('Clients Pros sortants'!B:B,'Volumétries par ES'!B8,'Clients Pros sortants'!F:F) -> 0 | H8: 28 | I8: 27 | J8: -1 | L8: =SUMIF('Sorties Actifs ND'!B:B,'Volumétries par ES'!B8,'Sorties Actifs ND'!I:I) -> 1
A9: 262 | B9: 15 | C9: 64 | D9: 64 | E9: 0 | F9: =SUMIF('Nouveaux clients PROS'!B:B,'Volumétries par ES'!B9,'Nouveaux clients PROS'!H:H) -> 0 | G9: =SUMIF('Clients Pros sortants'!B:B,'Volumétries par ES'!B9,'Clients Pros sortants'!F:F) -> 0 | H9: 32 | I9: 32 | J9: 0 | L9: =SUMIF('Sorties Actifs ND'!B:B,'Volumétries par ES'!B9,'Sorties Actifs ND'!I:I) -> 2
B10: 16 | C10: 1 | D10: 1 | E10: 0 | H10: 1 | I10: 1 | J10: 0
A11: 269 | B11: 17 | C11: 3 | D11: 3 | E11: 0 | F11: =SUMIF('Nouveaux clients PROS'!B:B,'Volumétries par ES'!B11,'Nouveaux clients PROS'!H:H) -> 0 | G11: =SUMIF('Clients Pros sortants'!B:B,'Volumétries par ES'!B11,'Clients Pros sortants'!F:F) -> 0 | L11: =SUMIF('Sorties Actifs ND'!B:B,'Volumétries par ES'!B11,'Sorties Actifs ND'!I:I) -> 0
A12: 262 | B12: 18 | C12: 211 | D12: 214 | E12: 3 | F12: =SUMIF('Nouveaux clients PROS'!B:B,'Volumétries par ES'!B12,'Nouveaux clients PROS'!H:H) -> 4 | G12: =SUMIF('Clients Pros sortants'!B:B,'Volumétries par ES'!B12,'Clients Pros sortants'!F:F) -> 1 | H12: 111 | I12: 105 | J12: -6 | L12: =SUMIF('Sorties Actifs ND'!B:B,'Volumétries par ES'!B12,'Sorties Actifs ND'!I:I) -> 7
A13: 262 | B13: 19 | C13: 205 | D13: 207 | E13: 2 | F13: =SUMIF('Nouveaux clients PROS'!B:B,'Volumétries par ES'!B13,'Nouveaux clients PROS'!H:H) -> 2 | G13: =SUMIF('Clients Pros sortants'!B:B,'Volumétries par ES'!B13,'Clients Pros sortants'!F:F) -> 2 | H13: 100 | I13: 101 | J13: 1 | L13: =SUMIF('Sorties Actifs ND'!B:B,'Volumétries par ES'!B13,'Sorties Actifs ND'!I:I) -> 4
A14: 262 | B14: 20 | C14: 119 | D14: 119 | E14: 0 | F14: =SUMIF('Nouveaux clients PROS'!B:B,'Volumétries par ES'!B14,'Nouveaux clients PROS'!H:H) -> 1 | G14: =SUMIF('Clients Pros sortants'!B:B,'Volumétries par ES'!B14,'Clients Pros sortants'!F:F) -> 0 | H14: 64 | I14: 64 | J14: 0 | L14: =SUMIF('Sorties Actifs ND'!B:B,'Volumétries par ES'!B14,'Sorties Actifs ND'!I:I) -> 1
A15: 262 | B15: 23 | C15: 80 | D15: 78 | E15: -2 | F15: =SUMIF('Nouveaux clients PROS'!B:B,'Volumétries par ES'!B15,'Nouveaux clients PROS'!H:H) -> 0 | G15: =SUMIF('Clients Pros sortants'!B:B,'Volumétries par ES'!B15,'Clients Pros sortants'!F:F) -> 1 | H15: 38 | I15: 37 | J15: -1 | L15: =SUMIF('Sorties Actifs ND'!B:B,'Volumétries par ES'!B15,'Sorties Actifs ND'!I:I) -> 3
A16: 262 | B16: 24 | C16: 71 | D16: 72 | E16: 1 | F16: =SUMIF('Nouveaux clients PROS'!B:B,'Volumétries par ES'!B16,'Nouveaux clients PROS'!H:H) -> 1 | G16: =SUMIF('Clients Pros sortants'!B:B,'Volumétries par ES'!B16,'Clients Pros sortants'!F:F) -> 0 | H16: 31 | I16: 31 | J16: 0 | L16: =SUMIF('Sorties Actifs ND'!B:B,'Volumétries par ES'!B16,'Sorties Actifs ND'!I:I) -> 3
A17: 262 | B17: 25 | C17: 90 | D17: 90 | E17: 0 | F17: =SUMIF('Nouveaux clients PROS'!B:B,'Volumétries par ES'!B17,'Nouveaux clients PROS'!H:H) -> 0 | G17: =SUMIF('Clients Pros sortants'!B:B,'Volumétries par ES'!B17,'Clients Pros sortants'!F:F) -> 0 | H17: 43 | I17: 43 | J17: 0 | L17: =SUMIF('Sorties Actifs ND'!B:B,'Volumétries par ES'!B17,'Sorties Actifs ND'!I:I) -> 2
A18: 262 | B18: 26 | C18: 17 | D18: 16 | E18: -1 | H18: 6 | I18: 7 | J18: 1
A19: 262 | B19: 27 | C19: 145 | D19: 154 | E19: 9 | F19: =SUMIF('Nouveaux clients PROS'!B:B,'Volumétries par ES'!B19,'Nouveaux clients PROS'!H:H) -> 9 | G19: =SUMIF('Clients Pros sortants'!B:B,'Volumétries par ES'!B19,'Clients Pros sortants'!F:F) -> 1 | H19: 77 | I19: 79 | J19: 2 | L19: =SUMIF('Sorties Actifs ND'!B:B,'Volumétries par ES'!B19,'Sorties Actifs ND'!I:I) -> 0
A20: 262 | B20: 28 | C20: 64 | D20: 64 | E20: 0 | F20: =SUMIF('Nouveaux clients PROS'!B:B,'Volumétries par ES'!B20,'Nouveaux clients PROS'!H:H) -> 0 | G20: =SUMIF('Clients Pros sortants'!B:B,'Volumétries par ES'!B20,'Clients Pros sortants'!F:F) -> 0 | H20: 37 | I20: 38 | J20: 1 | L20: =SUMIF('Sorties Actifs ND'!B:B,'Volumétries par ES'!B20,'Sorties Actifs ND'!I:I) -> 0
A21: 262 | B21: 29 | C21: 44 | D21: 44 | E21: 0 | F21: =SUMIF('Nouveaux clients PROS'!B:B,'Volumétries par ES'!B21,'Nouveaux clients PROS'!H:H) -> 0 | G21: =SUMIF('Clients Pros sortants'!B:B,'Volumétries par ES'!B21,'Clients Pros sortants'!F:F) -> 0 | H21: 24 | I21: 26 | J21: 2 | L21: =SUMIF('Sorties Actifs ND'!B:B,'Volumétries par ES'!B21,'Sorties Actifs ND'!I:I) -> 0
A22: 262 | B22: 30 | C22: 154 | D22: 153 | E22: -1 | F22: =SUMIF('Nouveaux clients PROS'!B:B,'Volumétries par ES'!B22,'Nouveaux clients PROS'!H:H) -> 2 | G22: =SUMIF('Clients Pros sortants'!B:B,'Volumétries par ES'!B22,'Clients Pros sortants'!F:F) -> 3 | H22: 95 | I22: 94 | J22: -1 | L22: =SUMIF('Sorties Actifs ND'!B:B,'Volumétries par ES'!B22,'Sorties Actifs ND'!I:I) -> 2
A23: 262 | B23: 31 | C23: 88 | D23: 87 | E23: -1 | F23: =SUMIF('Nouveaux clients PROS'!B:B,'Volumétries par ES'!B23,'Nouveaux clients PROS'!H:H) -> 0 | G23: =SUMIF('Clients Pros sortants'!B:B,'Volumétries par ES'!B23,'Clients Pros sortants'!F:F) -> 0 | H23: 47 | I23: 48 | J23: 1 | L23: =SUMIF('Sorties Actifs ND'!B:B,'Volumétries par ES'!B23,'Sorties Actifs ND'!I:I) -> 1
A24: 262 | B24: 33 | C24: 49 | D24: 50 | E24: 1 | F24: =SUMIF('Nouveaux clients PROS'!B:B,'Volumétries par ES'!B24,'Nouveaux clients PROS'!H:H) -> 1 | G24: =SUMIF('Clients Pros sortants'!B:B,'Volumétries par ES'!B24,'Clients Pros sortants'!F:F) -> 0 | H24: 31 | I24: 31 | J24: 0 | L24: =SUMIF('Sorties Actifs ND'!B:B,'Volumétries par ES'!B24,'Sorties Actifs ND'!I:I) -> 0
A25: 262 | B25: 34 | C25: 32 | D25: 32 | E25: 0 | F25: =SUMIF('Nouveaux clients PROS'!B:B,'Volumétries par ES'!B25,'Nouveaux clients PROS'!H:H) -> 0 | G25: =SUMIF('Clients Pros sortants'!B:B,'Volumétries par ES'!B25,'Clients Pros sortants'!F:F) -> 0 | H25: 23 | I25: 24 | J25: 1 | L25: =SUMIF('Sorties Actifs ND'!B:B,'Volumétries par ES'!B25,'Sorties Actifs ND'!I:I) -> 0
A26: 262 | B26: 37 | C26: 47 | D26: 48 | E26: 1 | F26: =SUMIF('Nouveaux clients PROS'!B:B,'Volumétries par ES'!B26,'Nouveaux clients PROS'!H:H) -> 1 | G26: =SUMIF('Clients Pros sortants'!B:B,'Volumétries par ES'!B26,'Clients Pros sortants'!F:F) -> 0 | H26: 23 | I26: 23 | J26: 0 | L26: =SUMIF('Sorties Actifs ND'!B:B,'Volumétries par ES'!B26,'Sorties Actifs ND'!I:I) -> 0
A27: 262 | B27: 38 | C27: 109 | D27: 111 | E27: 2 | F27: =SUMIF('Nouveaux clients PROS'!B:B,'Volumétries par ES'!B27,'Nouveaux clients PROS'!H:H) -> 1 | G27: =SUMIF('Clients Pros sortants'!B:B,'Volumétries par ES'!B27,'Clients Pros sortants'!F:F) -> 0 | H27: 54 | I27: 55 | J27: 1 | L27: =SUMIF('Sorties Actifs ND'!B:B,'Volumétries par ES'!B27,'Sorties Actifs ND'!I:I) -> 0
A28: 262 | B28: 39 | C28: 43 | D28: 42 | E28: -1 | F28: =SUMIF('Nouveaux clients PROS'!B:B,'Volumétries par ES'!B28,'Nouveaux clients PROS'!H:H) -> 0 | G28: =SUMIF('Clients Pros sortants'!B:B,'Volumétries par ES'!B28,'Clients Pros sortants'!F:F) -> 1 | H28: 21 | I28: 20 | J28: -1 | L28: =SUMIF('Sorties Actifs ND'!B:B,'Volumétries par ES'!B28,'Sorties Actifs ND'!I:I) -> 1
A29: 262 | B29: 40 | C29: 36 | D29: 36 | E29: 0 | F29: =SUMIF('Nouveaux clients PROS'!B:B,'Volumétries par ES'!B29,'Nouveaux clients PROS'!H:H) -> 1 | G29: =SUMIF('Clients Pros sortants'!B:B,'Volumétries par ES'!B29,'Clients Pros sortants'!F:F) -> 1 | H29: 19 | I29: 19 | J29: 0 | L29: =SUMIF('Sorties Actifs ND'!B:B,'Volumétries par ES'!B29,'Sorties Actifs ND'!I:I) -> 0
A30: 262 | B30: 41 | C30: 48 | D30: 49 | E30: 1 | F30: =SUMIF('Nouveaux clients PROS'!B:B,'Volumétries par ES'!B30,'Nouveaux clients PROS'!H:H) -> 1 | G30: =SUMIF('Clients Pros sortants'!B:B,'Volumétries par ES'!B30,'Clients Pros sortants'!F:F) -> 0 | H30: 29 | I30: 29 | J30: 0 | L30: =SUMIF('Sorties Actifs ND'!B:B,'Volumétries par ES'!B30,'Sorties Actifs ND'!I:I) -> 0
... A121: 264 | B121: 198 | C121: 31 | D121: 31 | E121: 0 | F121: =SUMIF('Nouveaux clients PROS'!B:B,'Volumétries par ES'!B121,'Nouveaux clients PROS'!H:H) -> 0 | G121: =SUMIF('Clients Pros sortants'!B:B,'Volumétries par ES'!B121,'Clients Pros sortants'!F:F) -> 0 | H121: 14 | I121: 14 | J121: 0 | L121: =SUMIF('Sorties Actifs ND'!B:B,'Volumétries par ES'!B121,'Sorties Actifs ND'!I:I) -> 0
B122: 202 | C122: 10 | D122: 11 | E122: 1 | F122: =SUMIF('Nouveaux clients PROS'!B:B,'Volumétries par ES'!B122,'Nouveaux clients PROS'!H:H) -> 1 | G122: =SUMIF('Clients Pros sortants'!B:B,'Volumétries par ES'!B122,'Clients Pros sortants'!F:F) -> 1 | H122: 1 | I122: 2 | J122: 1 | L122: =SUMIF('Sorties Actifs ND'!B:B,'Volumétries par ES'!B122,'Sorties Actifs ND'!I:I) -> 0
B123: 205 | C123: 4 | D123: 4 | E123: 0 | F123: =SUMIF('Nouveaux clients PROS'!B:B,'Volumétries par ES'!B123,'Nouveaux clients PROS'!H:H) -> 0 | G123: =SUMIF('Clients Pros sortants'!B:B,'Volumétries par ES'!B123,'Clients Pros sortants'!F:F) -> 0 | L123: =SUMIF('Sorties Actifs ND'!B:B,'Volumétries par ES'!B123,'Sorties Actifs ND'!I:I) -> 0
B124: 206 | C124: 3 | D124: 2 | E124: -1 | F124: =SUMIF('Nouveaux clients PROS'!B:B,'Volumétries par ES'!B124,'Nouveaux clients PROS'!H:H) -> 0 | G124: =SUMIF('Clients Pros sortants'!B:B,'Volumétries par ES'!B124,'Clients Pros sortants'!F:F) -> 1 | H124: 1 | I124: 1 | J124: 0 | L124: =SUMIF('Sorties Actifs ND'!B:B,'Volumétries par ES'!B124,'Sorties Actifs ND'!I:I) -> 0
B125: 212 | C125: 1 | D125: 1 | E125: 0 | F125: =SUMIF('Nouveaux clients PROS'!B:B,'Volumétries par ES'!B125,'Nouveaux clients PROS'!H:H) -> 0 | G125: =SUMIF('Clients Pros sortants'!B:B,'Volumétries par ES'!B125,'Clients Pros sortants'!F:F) -> 0 | L125: =SUMIF('Sorties Actifs ND'!B:B,'Volumétries par ES'!B125,'Sorties Actifs ND'!I:I) -> 0
B126: 215 | C126: 1 | D126: 1 | E126: 0
B127: 250 | C127: 2 | D127: 2 | E127: 0 | F127: =SUMIF('Nouveaux clients PROS'!B:B,'Volumétries par ES'!B127,'Nouveaux clients PROS'!H:H) -> 0 | G127: =SUMIF('Clients Pros sortants'!B:B,'Volumétries par ES'!B127,'Clients Pros sortants'!F:F) -> 0 | L127: =SUMIF('Sorties Actifs ND'!B:B,'Volumétries par ES'!B127,'Sorties Actifs ND'!I:I) -> 0
B128: 500 | C128: 2 | D128: 2 | E128: 0 | F128: =SUMIF('Nouveaux clients PROS'!B:B,'Volumétries par ES'!B128,'Nouveaux clients PROS'!H:H) -> 0 | G128: =SUMIF('Clients Pros sortants'!B:B,'Volumétries par ES'!B128,'Clients Pros sortants'!F:F) -> 0 | L128: =SUMIF('Sorties Actifs ND'!B:B,'Volumétries par ES'!B128,'Sorties Actifs ND'!I:I) -> 0
B129: 913 | C129: 2 | D129: 2 | E129: 0 | F129: =SUMIF('Nouveaux clients PROS'!B:B,'Volumétries par ES'!B129,'Nouveaux clients PROS'!H:H) -> 0 | G129: =SUMIF('Clients Pros sortants'!B:B,'Volumétries par ES'!B129,'Clients Pros sortants'!F:F) -> 0 | L129: =SUMIF('Sorties Actifs ND'!B:B,'Volumétries par ES'!B129,'Sorties Actifs ND'!I:I) -> 0
A130: TOTAL | C130: =SUM(C2:C129) -> 8079 | D130: =SUM(D2:D129) -> 8116 | E130: =SUM(E2:E129) -> 37 | F130: =SUM(F2:F129) -> 93 | G130: =SUM(G2:G129) -> 55 | H130: =SUM(H2:H129) -> 4116 | I130: =SUM(I2:I129) -> 4115 | J130: =SUM(J2:J129) -> -1 | ... L130: =SUM(L2:L129) -> 99
