Workbook

Sheet Accueil
G8: 43799

Sheet PV GP
A1: Accueil | D1: BAROMETRE BDD - DIRECTIONS REGIONALES
D2: PV PART SUR OBJECTIFS
D3: =+Accueil!G8 -> 43799
D7: Excédents de collecte Assurance vie par ETP | G7: Chiffre d'affaire UC par ETP | J7: Evolution du nombre de clients Premium par ETP | M7: Ventes brutes Cartes Infinite et Platinum par ETP
E8: Taux d'atteinte saisonalisé | F8: =VLOOKUP(D3,ETP!$I$11:$J$22,2,FALSE) -> 0.91666667 | H8: Taux d'atteinte saisonalisé | I8: =+F8 -> 0.91666667 | K8: Taux d'atteinte saisonalisé | L8: =+F8 -> 0.91666667 | N8: Taux d'atteinte saisonalisé | O8: =+F8 -> 0.91666667
A9: eds | B9: Direction régionale | C9: ETP perf | D9: Réal | E9: Obj | F9: % | G9: Réal | H9: Obj | I9: % | J9: Réal | K9: Obj | L9: % | M9: Réal | N9: Obj | O9: %
A10: 50 | B10: Aube Haute Marne | C10: =VLOOKUP($A10,'RECAP DC'!$G$6:$Y$12,3,FALSE) -> 3.900458 | D10: =VLOOKUP($A10,'RECAP DC'!$G$6:$Y$12,5,FALSE) -> 6796.0278 | E10: =VLOOKUP($A10,'RECAP DC'!$G$6:$Y$12,6,FALSE) -> 3000 | F10: =VLOOKUP($A10,'RECAP DC'!$G$6:$Y$12,7,FALSE) -> 2.2653426 | G10: =VLOOKUP($A10,'RECAP DC'!$G$6:$Y$12,8,FALSE) -> 4486.5993 | H10: =VLOOKUP($A10,'RECAP DC'!$G$6:$Y$12,9,FALSE) -> 5000 | I10: =VLOOKUP($A10,'RECAP DC'!$G$6:$Y$12,10,FALSE) -> 0.89731985 | J10: =VLOOKUP($A10,'RECAP DC'!$G$6:$Y$12,14,FALSE) -> 26.919916 | K10: =VLOOKUP($A10,'RECAP DC'!$G$6:$Y$12,15,FALSE) -> 24 | L10: =VLOOKUP($A10,'RECAP DC'!$G$6:$Y$12,16,FALSE) -> 1.1216631 | M10: =VLOOKUP($A10,'RECAP DC'!$G$6:$Y$12,17,FALSE) -> 25.125255 | N10: =VLOOKUP($A10,'RECAP DC'!$G$6:$Y$12,18,FALSE) -> 20 | O10: =VLOOKUP($A10,'RECAP DC'!$G$6:$Y$12,19,FALSE) -> 1.2562627
A11: 262 | B11: Bas-Rhin | C11: =VLOOKUP(A11,'RECAP DC'!$G$6:$Y$12,3,FALSE) -> 12.312058 | D11: =VLOOKUP($A11,'RECAP DC'!$G$6:$Y$12,5,FALSE) -> 2594.759 | E11: =VLOOKUP($A11,'RECAP DC'!$G$6:$Y$12,6,FALSE) -> 3000 | F11: =VLOOKUP($A11,'RECAP DC'!$G$6:$Y$12,7,FALSE) -> 0.86491965 | G11: =VLOOKUP($A11,'RECAP DC'!$G$6:$Y$12,8,FALSE) -> 2551.3798 | H11: =VLOOKUP($A11,'RECAP DC'!$G$6:$Y$12,9,FALSE) -> 5000 | I11: =VLOOKUP($A11,'RECAP DC'!$G$6:$Y$12,10,FALSE) -> 0.51027596 | J11: =VLOOKUP($A11,'RECAP DC'!$G$6:$Y$12,14,FALSE) -> 25.178569 | K11: =VLOOKUP($A11,'RECAP DC'!$G$6:$Y$12,15,FALSE) -> 24 | L11: =VLOOKUP($A11,'RECAP DC'!$G$6:$Y$12,16,FALSE) -> 1.049107 | M11: =VLOOKUP($A11,'RECAP DC'!$G$6:$Y$12,17,FALSE) -> 13.726381 | N11: =VLOOKUP($A11,'RECAP DC'!$G$6:$Y$12,18,FALSE) -> 20 | O11: =VLOOKUP($A11,'RECAP DC'!$G$6:$Y$12,19,FALSE) -> 0.68631906
A12: 264 | B12: Haut-Rhin | C12: =VLOOKUP(A12,'RECAP DC'!$G$6:$Y$12,3,FALSE) -> 6.2205584 | D12: =VLOOKUP($A12,'RECAP DC'!$G$6:$Y$12,5,FALSE) -> 2581.7326 | E12: =VLOOKUP($A12,'RECAP DC'!$G$6:$Y$12,6,FALSE) -> 3000 | F12: =VLOOKUP($A12,'RECAP DC'!$G$6:$Y$12,7,FALSE) -> 0.86057752 | G12: =VLOOKUP($A12,'RECAP DC'!$G$6:$Y$12,8,FALSE) -> 1854.0622 | H12: =VLOOKUP($A12,'RECAP DC'!$G$6:$Y$12,9,FALSE) -> 5000 | I12: =VLOOKUP($A12,'RECAP DC'!$G$6:$Y$12,10,FALSE) -> 0.37081244 | J12: =VLOOKUP($A12,'RECAP DC'!$G$6:$Y$12,14,FALSE) -> 18.969358 | K12: =VLOOKUP($A12,'RECAP DC'!$G$6:$Y$12,15,FALSE) -> 24 | L12: =VLOOKUP($A12,'RECAP DC'!$G$6:$Y$12,16,FALSE) -> 0.79038993 | M12: =VLOOKUP($A12,'RECAP DC'!$G$6:$Y$12,17,FALSE) -> 17.040271 | N12: =VLOOKUP($A12,'RECAP DC'!$G$6:$Y$12,18,FALSE) -> 20 | O12: =VLOOKUP($A12,'RECAP DC'!$G$6:$Y$12,19,FALSE) -> 0.85201355
A13: 30 | B13: Marne-Ardennes | C13: =VLOOKUP(A13,'RECAP DC'!$G$6:$Y$12,3,FALSE) -> 6.6887788 | D13: =VLOOKUP($A13,'RECAP DC'!$G$6:$Y$12,5,FALSE) -> 2546.4049 | E13: =VLOOKUP($A13,'RECAP DC'!$G$6:$Y$12,6,FALSE) -> 3000 | F13: =VLOOKUP($A13,'RECAP DC'!$G$6:$Y$12,7,FALSE) -> 0.84880162 | G13: =VLOOKUP($A13,'RECAP DC'!$G$6:$Y$12,8,FALSE) -> 3341.0836 | H13: =VLOOKUP($A13,'RECAP DC'!$G$6:$Y$12,9,FALSE) -> 5000 | I13: =VLOOKUP($A13,'RECAP DC'!$G$6:$Y$12,10,FALSE) -> 0.66821672 | J13: =VLOOKUP($A13,'RECAP DC'!$G$6:$Y$12,14,FALSE) -> 30.050329 | K13: =VLOOKUP($A13,'RECAP DC'!$G$6:$Y$12,15,FALSE) -> 24 | L13: =VLOOKUP($A13,'RECAP DC'!$G$6:$Y$12,16,FALSE) -> 1.252097 | M13: =VLOOKUP($A13,'RECAP DC'!$G$6:$Y$12,17,FALSE) -> 22.724627 | N13: =VLOOKUP($A13,'RECAP DC'!$G$6:$Y$12,18,FALSE) -> 20 | O13: =VLOOKUP($A13,'RECAP DC'!$G$6:$Y$12,19,FALSE) -> 1.1362313
A14: 110 | B14: Meurthe et Moselle Meuse | C14: =VLOOKUP(A14,'RECAP DC'!$G$6:$Y$12,3,FALSE) -> 7.8007975 | D14: =VLOOKUP($A14,'RECAP DC'!$G$6:$Y$12,5,FALSE) -> 3723.4241 | E14: =VLOOKUP($A14,'RECAP DC'!$G$6:$Y$12,6,FALSE) -> 3000 | F14: =VLOOKUP($A14,'RECAP DC'!$G$6:$Y$12,7,FALSE) -> 1.2411414 | G14: =VLOOKUP($A14,'RECAP DC'!$G$6:$Y$12,8,FALSE) -> 3345.3296 | H14: =VLOOKUP($A14,'RECAP DC'!$G$6:$Y$12,9,FALSE) -> 5000 | I14: =VLOOKUP($A14,'RECAP DC'!$G$6:$Y$12,10,FALSE) -> 0.66906592 | J14: =VLOOKUP($A14,'RECAP DC'!$G$6:$Y$12,14,FALSE) -> 30.637893 | K14: =VLOOKUP($A14,'RECAP DC'!$G$6:$Y$12,15,FALSE) -> 24 | L14: =VLOOKUP($A14,'RECAP DC'!$G$6:$Y$12,16,FALSE) -> 1.2765789 | M14: =VLOOKUP($A14,'RECAP DC'!$G$6:$Y$12,17,FALSE) -> 23.074564 | N14: =VLOOKUP($A14,'RECAP DC'!$G$6:$Y$12,18,FALSE) -> 20 | O14: =VLOOKUP($A14,'RECAP DC'!$G$6:$Y$12,19,FALSE) -> 1.1537282
A15: 160 | B15: Moselle | C15: =VLOOKUP(A15,'RECAP DC'!$G$6:$Y$12,3,FALSE) -> 9.1587397 | D15: =VLOOKUP($A15,'RECAP DC'!$G$6:$Y$12,5,FALSE) -> 6156.5455 | E15: =VLOOKUP($A15,'RECAP DC'!$G$6:$Y$12,6,FALSE) -> 3000 | F15: =VLOOKUP($A15,'RECAP DC'!$G$6:$Y$12,7,FALSE) -> 2.0521818 | G15: =VLOOKUP($A15,'RECAP DC'!$G$6:$Y$12,8,FALSE) -> 4053.5978 | H15: =VLOOKUP($A15,'RECAP DC'!$G$6:$Y$12,9,FALSE) -> 5000 | I15: =VLOOKUP($A15,'RECAP DC'!$G$6:$Y$12,10,FALSE) -> 0.81071956 | J15: =VLOOKUP($A15,'RECAP DC'!$G$6:$Y$12,14,FALSE) -> 35.921973 | K15: =VLOOKUP($A15,'RECAP DC'!$G$6:$Y$12,15,FALSE) -> 24 | L15: =VLOOKUP($A15,'RECAP DC'!$G$6:$Y$12,16,FALSE) -> 1.4967489 | M15: =VLOOKUP($A15,'RECAP DC'!$G$6:$Y$12,17,FALSE) -> 22.492178 | N15: =VLOOKUP($A15,'RECAP DC'!$G$6:$Y$12,18,FALSE) -> 20 | O15: =VLOOKUP($A15,'RECAP DC'!$G$6:$Y$12,19,FALSE) -> 1.1246089
A16: 80 | B16: Vosges | C16: =VLOOKUP(A16,'RECAP DC'!$G$6:$Y$12,3,FALSE) -> 3.6896686 | D16: =VLOOKUP($A16,'RECAP DC'!$G$6:$Y$12,5,FALSE) -> 3058.8517 | E16: =VLOOKUP($A16,'RECAP DC'!$G$6:$Y$12,6,FALSE) -> 3000 | F16: =VLOOKUP($A16,'RECAP DC'!$G$6:$Y$12,7,FALSE) -> 1.0196172 | G16: =VLOOKUP($A16,'RECAP DC'!$G$6:$Y$12,8,FALSE) -> 3106.0451 | H16: =VLOOKUP($A16,'RECAP DC'!$G$6:$Y$12,9,FALSE) -> 5000 | I16: =VLOOKUP($A16,'RECAP DC'!$G$6:$Y$12,10,FALSE) -> 0.62120902 | J16: =VLOOKUP($A16,'RECAP DC'!$G$6:$Y$12,14,FALSE) -> 43.906383 | K16: =VLOOKUP($A16,'RECAP DC'!$G$6:$Y$12,15,FALSE) -> 24 | L16: =VLOOKUP($A16,'RECAP DC'!$G$6:$Y$12,16,FALSE) -> 1.8294326 | M16: =VLOOKUP($A16,'RECAP DC'!$G$6:$Y$12,17,FALSE) -> 26.018597 | N16: =VLOOKUP($A16,'RECAP DC'!$G$6:$Y$12,18,FALSE) -> 20 | O16: =VLOOKUP($A16,'RECAP DC'!$G$6:$Y$12,19,FALSE) -> 1.3009299
A17: Total CEGEE | C17: =+'RECAP DC'!I14 -> 49.771059 | D17: =+'RECAP DC'!K14 -> 3781.8092 | E17: =+'RECAP DC'!L14 -> 3000 | F17: =+'RECAP DC'!M14 -> 1.2606031 | G17: =+'RECAP DC'!N14 -> 3164.0067 | H17: =+'RECAP DC'!O14 -> 5000 | I17: =+'RECAP DC'!P14 -> 0.63280133 | J17: =+'RECAP DC'!T14 -> 31.644896 | K17: =+'RECAP DC'!U14 -> 24 | L17: =+'RECAP DC'!V14 -> 1.3185373 | M17: =+'RECAP DC'!W14 -> 20.232642 | N17: =+'RECAP DC'!X14 -> 20 | O17: =+'RECAP DC'!Y14 -> 1.0116321

Sheet RECAP PDV
G1: 1 | H1: 2 | I1: 3 | J1: 4
K3: Excédents de collecte ASV par ETP | N3: Chiffre d'affaire UC par ETP | Q3: Qualité NPS | T3: Evolution du nombre de clients Premium par ETP | W3: Ventes brutes Cartes Infinite et Platinum par ETP
L4: Taux d'atteinte saisonalisé | M4: x % | O4: Taux d'atteinte saisonalisé | P4: x % | R4: Taux d'atteinte saisonalisé | S4: x % | U4: Taux d'atteinte saisonalisé | V4: x % | X4: Taux d'atteinte saisonalisé | Y4: x %
A5: NO GROUPE | B5: groupe | C5: UC | D5: libelle uc | E5: EDS | F5: AGENCE | G5: EDS PDV | H5: POINT DE VENTE | I5: EDS PDV ORIGINE | K5: Réal | L5: Obj | M5: % | N5: Réal | O5: Obj | P5: % | Q5: Réal | R5: Obj | S5: % | T5: Réal | U5: Obj | V5: % | W5: Réal | X5: Obj | Y5: %
A6: 50 | B6: Aube Haute Marne | C6: 21 | D6: CHAUMONT | E6: 410560 | F6: BOURBONNE LES BAINS | G6: 10560 | H6: BOURBONNE LES BAINS | I6: 10560 | K6: =SUMIF(COLLECTE!B:B,I6,COLLECTE!H:H)/1000 -> 208.411 | N6: =SUMIF('UC GPS'!B:B,I6,'UC GPS'!F:F)+SUMIF(PREMIUM!L:L,I6,PREMIUM!H:H)/1000 -> 0
A7: 50 | B7: Aube Haute Marne | C7: 21 | D7: CHAUMONT | E7: 510558 | F7: CHALINDREY | G7: 10558 | H7: CHALINDREY | I7: 10558 | K7: =SUMIF(COLLECTE!B:B,I7,COLLECTE!H:H)/1000 -> 453.42557 | N7: =SUMIF('UC GPS'!B:B,I7,'UC GPS'!F:F)+SUMIF(PREMIUM!L:L,I7,PREMIUM!H:H)/1000 -> 0
A8: 50 | B8: Aube Haute Marne | C8: 21 | D8: CHAUMONT | E8: 410539 | F8: CHATEAUVILLAIN | G8: 10539 | H8: CHATEAUVILLAIN | I8: 10539 | K8: =SUMIF(COLLECTE!B:B,I8,COLLECTE!H:H)/1000 -> 299.87631 | N8: =SUMIF('UC GPS'!B:B,I8,'UC GPS'!F:F)+SUMIF(PREMIUM!L:L,I8,PREMIUM!H:H)/1000 -> 0
A9: 50 | B9: Aube Haute Marne | C9: 21 | D9: CHAUMONT | E9: 410566 | F9: CHAUMONT HOTEL DE VILLE | G9: 10566 | H9: CHAUMONT HOTEL DE VILLE | I9: 10566 | K9: =SUMIF(COLLECTE!B:B,I9,COLLECTE!H:H)/1000 -> 1385.7016 | N9: =SUMIF('UC GPS'!B:B,I9,'UC GPS'!F:F)+SUMIF(PREMIUM!L:L,I9,PREMIUM!H:H)/1000 -> 0
A10: 50 | B10: Aube Haute Marne | C10: 21 | D10: CHAUMONT | E10: 510590 | F10: CHAUMONT REPUBLIQUE | G10: 10590 | H10: CHAUMONT REPUBLIQUE | I10: 10590 | K10: =SUMIF(COLLECTE!B:B,I10,COLLECTE!H:H)/1000 -> 171.25411 | N10: =SUMIF('UC GPS'!B:B,I10,'UC GPS'!F:F)+SUMIF(PREMIUM!L:L,I10,PREMIUM!H:H)/1000 -> 0
A11: 50 | B11: Aube Haute Marne | C11: 21 | D11: CHAUMONT | E11: 451154 | F11: JOINVILLE | G11: 51154 | H11: JOINVILLE | I11: 51154 | K11: =SUMIF(COLLECTE!B:B,I11,COLLECTE!H:H)/1000 -> 131.918 | N11: =SUMIF('UC GPS'!B:B,I11,'UC GPS'!F:F)+SUMIF(PREMIUM!L:L,I11,PREMIUM!H:H)/1000 -> 0
A12: 50 | B12: Aube Haute Marne | C12: 21 | D12: CHAUMONT | E12: 410541 | F12: LANGRES | G12: 10541 | H12: LANGRES | I12: 10541 | K12: =SUMIF(COLLECTE!B:B,I12,COLLECTE!H:H)/1000 -> 1071.4367 | N12: =SUMIF('UC GPS'!B:B,I12,'UC GPS'!F:F)+SUMIF(PREMIUM!L:L,I12,PREMIUM!H:H)/1000 -> 0
A13: 50 | B13: Aube Haute Marne | C13: 21 | D13: CHAUMONT | E13: 410582 | F13: NOGENT EN BASSIGNY | G13: 10582 | H13: NOGENT EN BASSIGNY | I13: 10582 | K13: =SUMIF(COLLECTE!B:B,I13,COLLECTE!H:H)/1000 -> 372.44411 | N13: =SUMIF('UC GPS'!B:B,I13,'UC GPS'!F:F)+SUMIF(PREMIUM!L:L,I13,PREMIUM!H:H)/1000 -> 0
A14: 50 | B14: Aube Haute Marne | C14: 21 | D14: CHAUMONT | E14: 451156 | F14: SAINT DIZIER CENTRE | G14: 51156 | H14: SAINT DIZIER CENTRE | I14: 51156 | K14: =SUMIF(COLLECTE!B:B,I14,COLLECTE!H:H)/1000 -> 1454.6379 | N14: =SUMIF('UC GPS'!B:B,I14,'UC GPS'!F:F)+SUMIF(PREMIUM!L:L,I14,PREMIUM!H:H)/1000 -> 0
A15: 50 | B15: Aube Haute Marne | C15: 21 | D15: CHAUMONT | E15: 551157 | F15: SAINT DIZIER EUROPE | G15: 51157 | H15: SAINT DIZIER EUROPE | I15: 51157 | K15: =SUMIF(COLLECTE!B:B,I15,COLLECTE!H:H)/1000 -> 1299.8701 | N15: =SUMIF('UC GPS'!B:B,I15,'UC GPS'!F:F)+SUMIF(PREMIUM!L:L,I15,PREMIUM!H:H)/1000 -> 0
A16: 50 | B16: Aube Haute Marne | C16: 21 | D16: CHAUMONT | E16: 451151 | F16: WASSY | G16: 51151 | H16: WASSY | I16: 51151 | K16: =SUMIF(COLLECTE!B:B,I16,COLLECTE!H:H)/1000 -> 464.5849 | N16: =SUMIF('UC GPS'!B:B,I16,'UC GPS'!F:F)+SUMIF(PREMIUM!L:L,I16,PREMIUM!H:H)/1000 -> 0
A17: 50 | B17: Aube Haute Marne | C17: 14 | D17: TROYES | E17: 410583 | F17: AIX EN OTHE | G17: 10583 | H17: AIX EN OTHE | I17: 10583 | K17: =SUMIF(COLLECTE!B:B,I17,COLLECTE!H:H)/1000 -> 78.69942 | N17: =SUMIF('UC GPS'!B:B,I17,'UC GPS'!F:F)+SUMIF(PREMIUM!L:L,I17,PREMIUM!H:H)/1000 -> 0
... A341: 269 | B341: Multimédia | C341: 5017 | D341: MON AGENCE | E341: 4017 | F341: Agence du personnel | G341: 17 | H341: Agence du personnel | I341: 17 | K341: =SUMIF(COLLECTE!B:B,I341,COLLECTE!H:H)/1000 -> 12.34299 | N341: =SUMIF('UC GPS'!B:B,I341,'UC GPS'!F:F)+SUMIF(PREMIUM!L:L,I341,PREMIUM!H:H)/1000 -> 0

Sheet RECAP AG
G1: 1 | H1: 2 | I1: 3 | J1: 4 | K1: 5 | L1: 6 | M1: 7 | N1: 8 | O1: 9 | P1: 10 | Q1: 11 | R1: 12 | S1: 13 | T1: 14 | U1: 15 | V1: 16 | W1: 17 | X1: 18 | Y1: 19
K3: Excédents de collecte ASV par ETP | N3: Chiffre d'affaire UC par ETP | Q3: Qualité NPS | T3: Evolution du nombre de clients Premium par ETP | W3: Ventes brutes Cartes Infinite et Platinum par ETP
L4: Taux d'atteinte saisonalisé | M4: =VLOOKUP(#REF!,#REF!,6,FALSE) -> #REF! | O4: Taux d'atteinte saisonalisé | P4: =VLOOKUP(#REF!,#REF!,6,FALSE) -> #REF! | R4: Taux d'atteinte saisonalisé | S4: =VLOOKUP(#REF!,#REF!,6,FALSE) -> #REF! | U4: Taux d'atteinte saisonalisé | V4: =VLOOKUP(#REF!,#REF!,6,FALSE) -> #REF! | X4: Taux d'atteinte saisonalisé | Y4: =VLOOKUP(#REF!,#REF!,6,FALSE) -> #REF!
C5: NO GROUPE | D5: groupe | E5: UC | F5: libelle uc | G5: EDS | H5: AGENCE | I5: ETP | K5: Réal | L5: Obj | M5: % | N5: Réal | O5: Obj | P5: % | Q5: Réal | R5: Obj | S5: % | T5: Réal | U5: Obj | V5: % | W5: Réal | X5: Obj | Y5: % | AG5: 0.8 | AH5: 80% 100% | AI5: 100% 110% | AJ5: 1.1 | AL5: 0.8 | AM5: 80% 100% | AN5: 100% 120% | AO5: 1.2 | AQ5: 0.8 | AR5: 80% 100% | AS5: 100% 120% | AT5: 1.2 | AV5: 0.8 | AW5: 80% 100% | AX5: 100% 120% | AY5: 1.2 | BA5: 0.8 | BB5: 80% 100% | BC5: 100% 120% | BD5: 1.2
C6: 50 | D6: AUBE HAUTE MARNE | E6: 21 | F6: CHAUMONT | G6: 410560 | H6: BOURBONNE LES BAINS | K6: =SUMIF('RECAP PDV'!$E:$E,$G6,'RECAP PDV'!K:K) -> 208.411 | N6: =SUMIF('RECAP PDV'!$E:$E,$G6,'RECAP PDV'!N:N) -> 0 | AF6: =M6/$M$4 -> #REF! | AG6: =IF(AF6<0.8,1,0) -> #REF! | AH6: =IF(AND(AF6>=0.8,AF6<1),1,0) -> #REF! | AI6: =IF(AND(AF6>=1,AF6<1.1),1,0) -> #REF! | AJ6: =IF(AF6>1.1,1,0) -> #REF! | AK6: =P6/$P$4 -> #REF! | AL6: =IF(AK6<0.8,1,0) -> #REF! | AM6: =IF(AND(AK6>=0.8,AK6<1),1,0) -> #REF! | AN6: =IF(AND(AK6>=1,AK6<1.2),1,0) -> #REF! | AO6: =IF(AK6>1.2,1,0) -> #REF! | AP6: =S6/$S$4 -> #REF! | AQ6: =IF(AP6<0.8,1,0) -> #REF! | AR6: =IF(AND(AP6>=0.8,AP6<1),1,0) -> #REF! | AS6: =IF(AND(AP6>=1,AP6<1.2),1,0) -> #REF! | AT6: =IF(AP6>1.2,1,0) -> #REF! | AU6: =V6/$V$4 -> #REF! | AV6: =IF(AU6<0.8,1,0) -> #REF! | AW6: =IF(AND(AU6>=0.8,AU6<1),1,0) -> #REF! | AX6: =IF(AND(AU6>=1,AU6<1.2),1,0) -> #REF! | AY6: =IF(AU6>1.2,1,0) -> #REF! | AZ6: =Y6/$Y$4 -> #REF! | BA6: =IF(AZ6<0.8,1,0) -> #REF! | BB6: =IF(AND(AZ6>=0.8,AZ6<1),1,0) -> #REF! | BC6: =IF(AND(AZ6>=1,AZ6<1.2),1,0) -> #REF! | BD6: =IF(AZ6>1.2,1,0) -> #REF!
C7: 50 | D7: AUBE HAUTE MARNE | E7: 21 | F7: CHAUMONT | G7: 510558 | H7: CHALINDREY | K7: =SUMIF('RECAP PDV'!$E:$E,$G7,'RECAP PDV'!K:K) -> 453.42557 | N7: =SUMIF('RECAP PDV'!$E:$E,$G7,'RECAP PDV'!N:N) -> 0 | AF7: =M7/$M$4 -> #REF! | AG7: =IF(AF7<0.8,1,0) -> #REF! | AH7: =IF(AND(AF7>=0.8,AF7<1),1,0) -> #REF! | AI7: =IF(AND(AF7>=1,AF7<1.1),1,0) -> #REF! | AJ7: =IF(AF7>1.1,1,0) -> #REF! | AK7: =P7/$P$4 -> #REF! | AL7: =IF(AK7<0.8,1,0) -> #REF! | AM7: =IF(AND(AK7>=0.8,AK7<1),1,0) -> #REF! | AN7: =IF(AND(AK7>=1,AK7<1.2),1,0) -> #REF! | AO7: =IF(AK7>1.2,1,0) -> #REF! | AP7: =S7/$S$4 -> #REF! | AQ7: =IF(AP7<0.8,1,0) -> #REF! | AR7: =IF(AND(AP7>=0.8,AP7<1),1,0) -> #REF! | AS7: =IF(AND(AP7>=1,AP7<1.2),1,0) -> #REF! | AT7: =IF(AP7>1.2,1,0) -> #REF! | AU7: =V7/$V$4 -> #REF! | AV7: =IF(AU7<0.8,1,0) -> #REF! | AW7: =IF(AND(AU7>=0.8,AU7<1),1,0) -> #REF! | AX7: =IF(AND(AU7>=1,AU7<1.2),1,0) -> #REF! | AY7: =IF(AU7>1.2,1,0) -> #REF! | AZ7: =Y7/$Y$4 -> #REF! | BA7: =IF(AZ7<0.8,1,0) -> #REF! | BB7: =IF(AND(AZ7>=0.8,AZ7<1),1,0) -> #REF! | BC7: =IF(AND(AZ7>=1,AZ7<1.2),1,0) -> #REF! | BD7: =IF(AZ7>1.2,1,0) -> #REF!
C8: 50 | D8: AUBE HAUTE MARNE | E8: 21 | F8: CHAUMONT | G8: 410539 | H8: CHATEAUVILLAIN | K8: =SUMIF('RECAP PDV'!$E:$E,$G8,'RECAP PDV'!K:K) -> 299.87631 | N8: =SUMIF('RECAP PDV'!$E:$E,$G8,'RECAP PDV'!N:N) -> 0 | AF8: =M8/$M$4 -> #REF! | AG8: =IF(AF8<0.8,1,0) -> #REF! | AH8: =IF(AND(AF8>=0.8,AF8<1),1,0) -> #REF! | AI8: =IF(AND(AF8>=1,AF8<1.1),1,0) -> #REF! | AJ8: =IF(AF8>1.1,1,0) -> #REF! | AK8: =P8/$P$4 -> #REF! | AL8: =IF(AK8<0.8,1,0) -> #REF! | AM8: =IF(AND(AK8>=0.8,AK8<1),1,0) -> #REF! | AN8: =IF(AND(AK8>=1,AK8<1.2),1,0) -> #REF! | AO8: =IF(AK8>1.2,1,0) -> #REF! | AP8: =S8/$S$4 -> #REF! | AQ8: =IF(AP8<0.8,1,0) -> #REF! | AR8: =IF(AND(AP8>=0.8,AP8<1),1,0) -> #REF! | AS8: =IF(AND(AP8>=1,AP8<1.2),1,0) -> #REF! | AT8: =IF(AP8>1.2,1,0) -> #REF! | AU8: =V8/$V$4 -> #REF! | AV8: =IF(AU8<0.8,1,0) -> #REF! | AW8: =IF(AND(AU8>=0.8,AU8<1),1,0) -> #REF! | AX8: =IF(AND(AU8>=1,AU8<1.2),1,0) -> #REF! | AY8: =IF(AU8>1.2,1,0) -> #REF! | AZ8: =Y8/$Y$4 -> #REF! | BA8: =IF(AZ8<0.8,1,0) -> #REF! | BB8: =IF(AND(AZ8>=0.8,AZ8<1),1,0) -> #REF! | BC8: =IF(AND(AZ8>=1,AZ8<1.2),1,0) -> #REF! | BD8: =IF(AZ8>1.2,1,0) -> #REF!
C9: 50 | D9: AUBE HAUTE MARNE | E9: 21 | F9: CHAUMONT | G9: 410566 | H9: CHAUMONT HOTEL DE VILLE | K9: =SUMIF('RECAP PDV'!$E:$E,$G9,'RECAP PDV'!K:K) -> 1385.7016 | N9: =SUMIF('RECAP PDV'!$E:$E,$G9,'RECAP PDV'!N:N) -> 0 | AF9: =M9/$M$4 -> #REF! | AG9: =IF(AF9<0.8,1,0) -> #REF! | AH9: =IF(AND(AF9>=0.8,AF9<1),1,0) -> #REF! | AI9: =IF(AND(AF9>=1,AF9<1.1),1,0) -> #REF! | AJ9: =IF(AF9>1.1,1,0) -> #REF! | AK9: =P9/$P$4 -> #REF! | AL9: =IF(AK9<0.8,1,0) -> #REF! | AM9: =IF(AND(AK9>=0.8,AK9<1),1,0) -> #REF! | AN9: =IF(AND(AK9>=1,AK9<1.2),1,0) -> #REF! | AO9: =IF(AK9>1.2,1,0) -> #REF! | AP9: =S9/$S$4 -> #REF! | AQ9: =IF(AP9<0.8,1,0) -> #REF! | AR9: =IF(AND(AP9>=0.8,AP9<1),1,0) -> #REF! | AS9: =IF(AND(AP9>=1,AP9<1.2),1,0) -> #REF! | AT9: =IF(AP9>1.2,1,0) -> #REF! | AU9: =V9/$V$4 -> #REF! | AV9: =IF(AU9<0.8,1,0) -> #REF! | AW9: =IF(AND(AU9>=0.8,AU9<1),1,0) -> #REF! | AX9: =IF(AND(AU9>=1,AU9<1.2),1,0) -> #REF! | AY9: =IF(AU9>1.2,1,0) -> #REF! | AZ9: =Y9/$Y$4 -> #REF! | BA9: =IF(AZ9<0.8,1,0) -> #REF! | BB9: =IF(AND(AZ9>=0.8,AZ9<1),1,0) -> #REF! | BC9: =IF(AND(AZ9>=1,AZ9<1.2),1,0) -> #REF! | BD9: =IF(AZ9>1.2,1,0) -> #REF!
C10: 50 | D10: AUBE HAUTE MARNE | E10: 21 | F10: CHAUMONT | G10: 510590 | H10: CHAUMONT REPUBLIQUE | K10: =SUMIF('RECAP PDV'!$E:$E,$G10,'RECAP PDV'!K:K) -> 171.25411 | N10: =SUMIF('RECAP PDV'!$E:$E,$G10,'RECAP PDV'!N:N) -> 0 | AF10: =M10/$M$4 -> #REF! | AG10: =IF(AF10<0.8,1,0) -> #REF! | AH10: =IF(AND(AF10>=0.8,AF10<1),1,0) -> #REF! | AI10: =IF(AND(AF10>=1,AF10<1.1),1,0) -> #REF! | AJ10: =IF(AF10>1.1,1,0) -> #REF! | AK10: =P10/$P$4 -> #REF! | AL10: =IF(AK10<0.8,1,0) -> #REF! | AM10: =IF(AND(AK10>=0.8,AK10<1),1,0) -> #REF! | AN10: =IF(AND(AK10>=1,AK10<1.2),1,0) -> #REF! | AO10: =IF(AK10>1.2,1,0) -> #REF! | AP10: =S10/$S$4 -> #REF! | AQ10: =IF(AP10<0.8,1,0) -> #REF! | AR10: =IF(AND(AP10>=0.8,AP10<1),1,0) -> #REF! | AS10: =IF(AND(AP10>=1,AP10<1.2),1,0) -> #REF! | AT10: =IF(AP10>1.2,1,0) -> #REF! | AU10: =V10/$V$4 -> #REF! | AV10: =IF(AU10<0.8,1,0) -> #REF! | AW10: =IF(AND(AU10>=0.8,AU10<1),1,0) -> #REF! | AX10: =IF(AND(AU10>=1,AU10<1.2),1,0) -> #REF! | AY10: =IF(AU10>1.2,1,0) -> #REF! | AZ10: =Y10/$Y$4 -> #REF! | BA10: =IF(AZ10<0.8,1,0) -> #REF! | BB10: =IF(AND(AZ10>=0.8,AZ10<1),1,0) -> #REF! | BC10: =IF(AND(AZ10>=1,AZ10<1.2),1,0) -> #REF! | BD10: =IF(AZ10>1.2,1,0) -> #REF!
C11: 50 | D11: AUBE HAUTE MARNE | E11: 21 | F11: CHAUMONT | G11: 451154 | H11: JOINVILLE | K11: =SUMIF('RECAP PDV'!$E:$E,$G11,'RECAP PDV'!K:K) -> 131.918 | N11: =SUMIF('RECAP PDV'!$E:$E,$G11,'RECAP PDV'!N:N) -> 0 | AF11: =M11/$M$4 -> #REF! | AG11: =IF(AF11<0.8,1,0) -> #REF! | AH11: =IF(AND(AF11>=0.8,AF11<1),1,0) -> #REF! | AI11: =IF(AND(AF11>=1,AF11<1.1),1,0) -> #REF! | AJ11: =IF(AF11>1.1,1,0) -> #REF! | AK11: =P11/$P$4 -> #REF! | AL11: =IF(AK11<0.8,1,0) -> #REF! | AM11: =IF(AND(AK11>=0.8,AK11<1),1,0) -> #REF! | AN11: =IF(AND(AK11>=1,AK11<1.2),1,0) -> #REF! | AO11: =IF(AK11>1.2,1,0) -> #REF! | AP11: =S11/$S$4 -> #REF! | AQ11: =IF(AP11<0.8,1,0) -> #REF! | AR11: =IF(AND(AP11>=0.8,AP11<1),1,0) -> #REF! | AS11: =IF(AND(AP11>=1,AP11<1.2),1,0) -> #REF! | AT11: =IF(AP11>1.2,1,0) -> #REF! | AU11: =V11/$V$4 -> #REF! | AV11: =IF(AU11<0.8,1,0) -> #REF! | AW11: =IF(AND(AU11>=0.8,AU11<1),1,0) -> #REF! | AX11: =IF(AND(AU11>=1,AU11<1.2),1,0) -> #REF! | AY11: =IF(AU11>1.2,1,0) -> #REF! | AZ11: =Y11/$Y$4 -> #REF! | BA11: =IF(AZ11<0.8,1,0) -> #REF! | BB11: =IF(AND(AZ11>=0.8,AZ11<1),1,0) -> #REF! | BC11: =IF(AND(AZ11>=1,AZ11<1.2),1,0) -> #REF! | BD11: =IF(AZ11>1.2,1,0) -> #REF!
C12: 50 | D12: AUBE HAUTE MARNE | E12: 21 | F12: CHAUMONT | G12: 410541 | H12: LANGRES | K12: =SUMIF('RECAP PDV'!$E:$E,$G12,'RECAP PDV'!K:K) -> 1071.4367 | N12: =SUMIF('RECAP PDV'!$E:$E,$G12,'RECAP PDV'!N:N) -> 0 | AF12: =M12/$M$4 -> #REF! | AG12: =IF(AF12<0.8,1,0) -> #REF! | AH12: =IF(AND(AF12>=0.8,AF12<1),1,0) -> #REF! | AI12: =IF(AND(AF12>=1,AF12<1.1),1,0) -> #REF! | AJ12: =IF(AF12>1.1,1,0) -> #REF! | AK12: =P12/$P$4 -> #REF! | AL12: =IF(AK12<0.8,1,0) -> #REF! | AM12: =IF(AND(AK12>=0.8,AK12<1),1,0) -> #REF! | AN12: =IF(AND(AK12>=1,AK12<1.2),1,0) -> #REF! | AO12: =IF(AK12>1.2,1,0) -> #REF! | AP12: =S12/$S$4 -> #REF! | AQ12: =IF(AP12<0.8,1,0) -> #REF! | AR12: =IF(AND(AP12>=0.8,AP12<1),1,0) -> #REF! | AS12: =IF(AND(AP12>=1,AP12<1.2),1,0) -> #REF! | AT12: =IF(AP12>1.2,1,0) -> #REF! | AU12: =V12/$V$4 -> #REF! | AV12: =IF(AU12<0.8,1,0) -> #REF! | AW12: =IF(AND(AU12>=0.8,AU12<1),1,0) -> #REF! | AX12: =IF(AND(AU12>=1,AU12<1.2),1,0) -> #REF! | AY12: =IF(AU12>1.2,1,0) -> #REF! | AZ12: =Y12/$Y$4 -> #REF! | BA12: =IF(AZ12<0.8,1,0) -> #REF! | BB12: =IF(AND(AZ12>=0.8,AZ12<1),1,0) -> #REF! | BC12: =IF(AND(AZ12>=1,AZ12<1.2),1,0) -> #REF! | BD12: =IF(AZ12>1.2,1,0) -> #REF!
C13: 50 | D13: AUBE HAUTE MARNE | E13: 21 | F13: CHAUMONT | G13: 410582 | H13: NOGENT EN BASSIGNY | K13: =SUMIF('RECAP PDV'!$E:$E,$G13,'RECAP PDV'!K:K) -> 372.44411 | N13: =SUMIF('RECAP PDV'!$E:$E,$G13,'RECAP PDV'!N:N) -> 0 | AF13: =M13/$M$4 -> #REF! | AG13: =IF(AF13<0.8,1,0) -> #REF! | AH13: =IF(AND(AF13>=0.8,AF13<1),1,0) -> #REF! | AI13: =IF(AND(AF13>=1,AF13<1.1),1,0) -> #REF! | AJ13: =IF(AF13>1.1,1,0) -> #REF! | AK13: =P13/$P$4 -> #REF! | AL13: =IF(AK13<0.8,1,0) -> #REF! | AM13: =IF(AND(AK13>=0.8,AK13<1),1,0) -> #REF! | AN13: =IF(AND(AK13>=1,AK13<1.2),1,0) -> #REF! | AO13: =IF(AK13>1.2,1,0) -> #REF! | AP13: =S13/$S$4 -> #REF! | AQ13: =IF(AP13<0.8,1,0) -> #REF! | AR13: =IF(AND(AP13>=0.8,AP13<1),1,0) -> #REF! | AS13: =IF(AND(AP13>=1,AP13<1.2),1,0) -> #REF! | AT13: =IF(AP13>1.2,1,0) -> #REF! | AU13: =V13/$V$4 -> #REF! | AV13: =IF(AU13<0.8,1,0) -> #REF! | AW13: =IF(AND(AU13>=0.8,AU13<1),1,0) -> #REF! | AX13: =IF(AND(AU13>=1,AU13<1.2),1,0) -> #REF! | AY13: =IF(AU13>1.2,1,0) -> #REF! | AZ13: =Y13/$Y$4 -> #REF! | BA13: =IF(AZ13<0.8,1,0) -> #REF! | BB13: =IF(AND(AZ13>=0.8,AZ13<1),1,0) -> #REF! | BC13: =IF(AND(AZ13>=1,AZ13<1.2),1,0) -> #REF! | BD13: =IF(AZ13>1.2,1,0) -> #REF!
C14: 50 | D14: AUBE HAUTE MARNE | E14: 21 | F14: CHAUMONT | G14: 451156 | H14: SAINT DIZIER CENTRE | K14: =SUMIF('RECAP PDV'!$E:$E,$G14,'RECAP PDV'!K:K) -> 1454.6379 | N14: =SUMIF('RECAP PDV'!$E:$E,$G14,'RECAP PDV'!N:N) -> 0 | AF14: =M14/$M$4 -> #REF! | AG14: =IF(AF14<0.8,1,0) -> #REF! | AH14: =IF(AND(AF14>=0.8,AF14<1),1,0) -> #REF! | AI14: =IF(AND(AF14>=1,AF14<1.1),1,0) -> #REF! | AJ14: =IF(AF14>1.1,1,0) -> #REF! | AK14: =P14/$P$4 -> #REF! | AL14: =IF(AK14<0.8,1,0) -> #REF! | AM14: =IF(AND(AK14>=0.8,AK14<1),1,0) -> #REF! | AN14: =IF(AND(AK14>=1,AK14<1.2),1,0) -> #REF! | AO14: =IF(AK14>1.2,1,0) -> #REF! | AP14: =S14/$S$4 -> #REF! | AQ14: =IF(AP14<0.8,1,0) -> #REF! | AR14: =IF(AND(AP14>=0.8,AP14<1),1,0) -> #REF! | AS14: =IF(AND(AP14>=1,AP14<1.2),1,0) -> #REF! | AT14: =IF(AP14>1.2,1,0) -> #REF! | AU14: =V14/$V$4 -> #REF! | AV14: =IF(AU14<0.8,1,0) -> #REF! | AW14: =IF(AND(AU14>=0.8,AU14<1),1,0) -> #REF! | AX14: =IF(AND(AU14>=1,AU14<1.2),1,0) -> #REF! | AY14: =IF(AU14>1.2,1,0) -> #REF! | AZ14: =Y14/$Y$4 -> #REF! | BA14: =IF(AZ14<0.8,1,0) -> #REF! | BB14: =IF(AND(AZ14>=0.8,AZ14<1),1,0) -> #REF! | BC14: =IF(AND(AZ14>=1,AZ14<1.2),1,0) -> #REF! | BD14: =IF(AZ14>1.2,1,0) -> #REF!
C15: 50 | D15: AUBE HAUTE MARNE | E15: 21 | F15: CHAUMONT | G15: 551157 | H15: SAINT DIZIER EUROPE | K15: =SUMIF('RECAP PDV'!$E:$E,$G15,'RECAP PDV'!K:K) -> 1299.8701 | N15: =SUMIF('RECAP PDV'!$E:$E,$G15,'RECAP PDV'!N:N) -> 0 | AF15: =M15/$M$4 -> #REF! | AG15: =IF(AF15<0.8,1,0) -> #REF! | AH15: =IF(AND(AF15>=0.8,AF15<1),1,0) -> #REF! | AI15: =IF(AND(AF15>=1,AF15<1.1),1,0) -> #REF! | AJ15: =IF(AF15>1.1,1,0) -> #REF! | AK15: =P15/$P$4 -> #REF! | AL15: =IF(AK15<0.8,1,0) -> #REF! | AM15: =IF(AND(AK15>=0.8,AK15<1),1,0) -> #REF! | AN15: =IF(AND(AK15>=1,AK15<1.2),1,0) -> #REF! | AO15: =IF(AK15>1.2,1,0) -> #REF! | AP15: =S15/$S$4 -> #REF! | AQ15: =IF(AP15<0.8,1,0) -> #REF! | AR15: =IF(AND(AP15>=0.8,AP15<1),1,0) -> #REF! | AS15: =IF(AND(AP15>=1,AP15<1.2),1,0) -> #REF! | AT15: =IF(AP15>1.2,1,0) -> #REF! | AU15: =V15/$V$4 -> #REF! | AV15: =IF(AU15<0.8,1,0) -> #REF! | AW15: =IF(AND(AU15>=0.8,AU15<1),1,0) -> #REF! | AX15: =IF(AND(AU15>=1,AU15<1.2),1,0) -> #REF! | AY15: =IF(AU15>1.2,1,0) -> #REF! | AZ15: =Y15/$Y$4 -> #REF! | BA15: =IF(AZ15<0.8,1,0) -> #REF! | BB15: =IF(AND(AZ15>=0.8,AZ15<1),1,0) -> #REF! | BC15: =IF(AND(AZ15>=1,AZ15<1.2),1,0) -> #REF! | BD15: =IF(AZ15>1.2,1,0) -> #REF!
C16: 50 | D16: AUBE HAUTE MARNE | E16: 21 | F16: CHAUMONT | G16: 451151 | H16: WASSY | K16: =SUMIF('RECAP PDV'!$E:$E,$G16,'RECAP PDV'!K:K) -> 464.5849 | N16: =SUMIF('RECAP PDV'!$E:$E,$G16,'RECAP PDV'!N:N) -> 0 | AF16: =M16/$M$4 -> #REF! | AG16: =IF(AF16<0.8,1,0) -> #REF! | AH16: =IF(AND(AF16>=0.8,AF16<1),1,0) -> #REF! | AI16: =IF(AND(AF16>=1,AF16<1.1),1,0) -> #REF! | AJ16: =IF(AF16>1.1,1,0) -> #REF! | AK16: =P16/$P$4 -> #REF! | AL16: =IF(AK16<0.8,1,0) -> #REF! | AM16: =IF(AND(AK16>=0.8,AK16<1),1,0) -> #REF! | AN16: =IF(AND(AK16>=1,AK16<1.2),1,0) -> #REF! | AO16: =IF(AK16>1.2,1,0) -> #REF! | AP16: =S16/$S$4 -> #REF! | AQ16: =IF(AP16<0.8,1,0) -> #REF! | AR16: =IF(AND(AP16>=0.8,AP16<1),1,0) -> #REF! | AS16: =IF(AND(AP16>=1,AP16<1.2),1,0) -> #REF! | AT16: =IF(AP16>1.2,1,0) -> #REF! | AU16: =V16/$V$4 -> #REF! | AV16: =IF(AU16<0.8,1,0) -> #REF! | AW16: =IF(AND(AU16>=0.8,AU16<1),1,0) -> #REF! | AX16: =IF(AND(AU16>=1,AU16<1.2),1,0) -> #REF! | AY16: =IF(AU16>1.2,1,0) -> #REF! | AZ16: =Y16/$Y$4 -> #REF! | BA16: =IF(AZ16<0.8,1,0) -> #REF! | BB16: =IF(AND(AZ16>=0.8,AZ16<1),1,0) -> #REF! | BC16: =IF(AND(AZ16>=1,AZ16<1.2),1,0) -> #REF! | BD16: =IF(AZ16>1.2,1,0) -> #REF!
C17: 50 | D17: AUBE HAUTE MARNE | E17: 14 | F17: TROYES | G17: 410583 | H17: AIX EN OTHE | K17: =SUMIF('RECAP PDV'!$E:$E,$G17,'RECAP PDV'!K:K) -> 78.69942 | N17: =SUMIF('RECAP PDV'!$E:$E,$G17,'RECAP PDV'!N:N) -> 0 | AF17: =M17/$M$4 -> #REF! | AG17: =IF(AF17<0.8,1,0) -> #REF! | AH17: =IF(AND(AF17>=0.8,AF17<1),1,0) -> #REF! | AI17: =IF(AND(AF17>=1,AF17<1.1),1,0) -> #REF! | AJ17: =IF(AF17>1.1,1,0) -> #REF! | AK17: =P17/$P$4 -> #REF! | AL17: =IF(AK17<0.8,1,0) -> #REF! | AM17: =IF(AND(AK17>=0.8,AK17<1),1,0) -> #REF! | AN17: =IF(AND(AK17>=1,AK17<1.2),1,0) -> #REF! | AO17: =IF(AK17>1.2,1,0) -> #REF! | AP17: =S17/$S$4 -> #REF! | AQ17: =IF(AP17<0.8,1,0) -> #REF! | AR17: =IF(AND(AP17>=0.8,AP17<1),1,0) -> #REF! | AS17: =IF(AND(AP17>=1,AP17<1.2),1,0) -> #REF! | AT17: =IF(AP17>1.2,1,0) -> #REF! | AU17: =V17/$V$4 -> #REF! | AV17: =IF(AU17<0.8,1,0) -> #REF! | AW17: =IF(AND(AU17>=0.8,AU17<1),1,0) -> #REF! | AX17: =IF(AND(AU17>=1,AU17<1.2),1,0) -> #REF! | AY17: =IF(AU17>1.2,1,0) -> #REF! | AZ17: =Y17/$Y$4 -> #REF! | BA17: =IF(AZ17<0.8,1,0) -> #REF! | BB17: =IF(AND(AZ17>=0.8,AZ17<1),1,0) -> #REF! | BC17: =IF(AND(AZ17>=1,AZ17<1.2),1,0) -> #REF! | BD17: =IF(AZ17>1.2,1,0) -> #REF!
... C280: 160 | D280: MOSELLE | E280: 44 | F280: MOSELLE NORD | G280: 457158 | H280: YUTZ | K280: =SUMIF('RECAP PDV'!$E:$E,$G280,'RECAP PDV'!K:K) -> 1017.8108 | N280: =SUMIF('RECAP PDV'!$E:$E,$G280,'RECAP PDV'!N:N) -> 0 | AF280: =M280/$M$4 -> #REF! | AG280: =IF(AF280<0.8,1,0) -> #REF! | AH280: =IF(AND(AF280>=0.8,AF280<1),1,0) -> #REF! | AI280: =IF(AND(AF280>=1,AF280<1.1),1,0) -> #REF! | AJ280: =IF(AF280>1.1,1,0) -> #REF! | AK280: =P280/$P$4 -> #REF! | AL280: =IF(AK280<0.8,1,0) -> #REF! | AM280: =IF(AND(AK280>=0.8,AK280<1),1,0) -> #REF! | AN280: =IF(AND(AK280>=1,AK280<1.2),1,0) -> #REF! | AO280: =IF(AK280>1.2,1,0) -> #REF! | AP280: =S280/$S$4 -> #REF! | AQ280: =IF(AP280<0.8,1,0) -> #REF! | AR280: =IF(AND(AP280>=0.8,AP280<1),1,0) -> #REF! | AS280: =IF(AND(AP280>=1,AP280<1.2),1,0) -> #REF! | AT280: =IF(AP280>1.2,1,0) -> #REF! | AU280: =V280/$V$4 -> #REF! | AV280: =IF(AU280<0.8,1,0) -> #REF! | AW280: =IF(AND(AU280>=0.8,AU280<1),1,0) -> #REF! | AX280: =IF(AND(AU280>=1,AU280<1.2),1,0) -> #REF! | AY280: =IF(AU280>1.2,1,0) -> #REF! | AZ280: =Y280/$Y$4 -> #REF! | BA280: =IF(AZ280<0.8,1,0) -> #REF! | BB280: =IF(AND(AZ280>=0.8,AZ280<1),1,0) -> #REF! | BC280: =IF(AND(AZ280>=1,AZ280<1.2),1,0) -> #REF! | BD280: =IF(AZ280>1.2,1,0) -> #REF!
C281: 269 | D281: Multimédia | E281: 5022 | F281: MON BANQUIER EN LIGNE | G281: 4022 | H281: Mon banquier en ligne | K281: =SUMIF('RECAP PDV'!$E:$E,$G281,'RECAP PDV'!K:K) -> -52.31898 | N281: =SUMIF('RECAP PDV'!$E:$E,$G281,'RECAP PDV'!N:N) -> 0
C282: 80 | D282: VOSGES | E282: 57 | F282: EPINAL | G282: 588201 | H282: CHANTRAINE | K282: =SUMIF('RECAP PDV'!$E:$E,$G282,'RECAP PDV'!K:K) -> 112.36745 | N282: =SUMIF('RECAP PDV'!$E:$E,$G282,'RECAP PDV'!N:N) -> 0 | AF282: =M282/$M$4 -> #REF! | AG282: =IF(AF282<0.8,1,0) -> #REF! | AH282: =IF(AND(AF282>=0.8,AF282<1),1,0) -> #REF! | AI282: =IF(AND(AF282>=1,AF282<1.1),1,0) -> #REF! | AJ282: =IF(AF282>1.1,1,0) -> #REF! | AK282: =P282/$P$4 -> #REF! | AL282: =IF(AK282<0.8,1,0) -> #REF! | AM282: =IF(AND(AK282>=0.8,AK282<1),1,0) -> #REF! | AN282: =IF(AND(AK282>=1,AK282<1.2),1,0) -> #REF! | AO282: =IF(AK282>1.2,1,0) -> #REF! | AP282: =S282/$S$4 -> #REF! | AQ282: =IF(AP282<0.8,1,0) -> #REF! | AR282: =IF(AND(AP282>=0.8,AP282<1),1,0) -> #REF! | AS282: =IF(AND(AP282>=1,AP282<1.2),1,0) -> #REF! | AT282: =IF(AP282>1.2,1,0) -> #REF! | AU282: =V282/$V$4 -> #REF! | AV282: =IF(AU282<0.8,1,0) -> #REF! | AW282: =IF(AND(AU282>=0.8,AU282<1),1,0) -> #REF! | AX282: =IF(AND(AU282>=1,AU282<1.2),1,0) -> #REF! | AY282: =IF(AU282>1.2,1,0) -> #REF! | AZ282: =Y282/$Y$4 -> #REF! | BA282: =IF(AZ282<0.8,1,0) -> #REF! | BB282: =IF(AND(AZ282>=0.8,AZ282<1),1,0) -> #REF! | BC282: =IF(AND(AZ282>=1,AZ282<1.2),1,0) -> #REF! | BD282: =IF(AZ282>1.2,1,0) -> #REF!
C283: 80 | D283: VOSGES | E283: 57 | F283: EPINAL | G283: 588206 | H283: CHARMES | K283: =SUMIF('RECAP PDV'!$E:$E,$G283,'RECAP PDV'!K:K) -> 443.85395 | N283: =SUMIF('RECAP PDV'!$E:$E,$G283,'RECAP PDV'!N:N) -> 0 | AF283: =M283/$M$4 -> #REF! | AG283: =IF(AF283<0.8,1,0) -> #REF! | AH283: =IF(AND(AF283>=0.8,AF283<1),1,0) -> #REF! | AI283: =IF(AND(AF283>=1,AF283<1.1),1,0) -> #REF! | AJ283: =IF(AF283>1.1,1,0) -> #REF! | AK283: =P283/$P$4 -> #REF! | AL283: =IF(AK283<0.8,1,0) -> #REF! | AM283: =IF(AND(AK283>=0.8,AK283<1),1,0) -> #REF! | AN283: =IF(AND(AK283>=1,AK283<1.2),1,0) -> #REF! | AO283: =IF(AK283>1.2,1,0) -> #REF! | AP283: =S283/$S$4 -> #REF! | AQ283: =IF(AP283<0.8,1,0) -> #REF! | AR283: =IF(AND(AP283>=0.8,AP283<1),1,0) -> #REF! | AS283: =IF(AND(AP283>=1,AP283<1.2),1,0) -> #REF! | AT283: =IF(AP283>1.2,1,0) -> #REF! | AU283: =V283/$V$4 -> #REF! | AV283: =IF(AU283<0.8,1,0) -> #REF! | AW283: =IF(AND(AU283>=0.8,AU283<1),1,0) -> #REF! | AX283: =IF(AND(AU283>=1,AU283<1.2),1,0) -> #REF! | AY283: =IF(AU283>1.2,1,0) -> #REF! | AZ283: =Y283/$Y$4 -> #REF! | BA283: =IF(AZ283<0.8,1,0) -> #REF! | BB283: =IF(AND(AZ283>=0.8,AZ283<1),1,0) -> #REF! | BC283: =IF(AND(AZ283>=1,AZ283<1.2),1,0) -> #REF! | BD283: =IF(AZ283>1.2,1,0) -> #REF!
C284: 80 | D284: VOSGES | E284: 57 | F284: EPINAL | G284: 588216 | H284: CHATENOIS | K284: =SUMIF('RECAP PDV'!$E:$E,$G284,'RECAP PDV'!K:K) -> -6.64693 | N284: =SUMIF('RECAP PDV'!$E:$E,$G284,'RECAP PDV'!N:N) -> 0 | AF284: =M284/$M$4 -> #REF! | AG284: =IF(AF284<0.8,1,0) -> #REF! | AH284: =IF(AND(AF284>=0.8,AF284<1),1,0) -> #REF! | AI284: =IF(AND(AF284>=1,AF284<1.1),1,0) -> #REF! | AJ284: =IF(AF284>1.1,1,0) -> #REF! | AK284: =P284/$P$4 -> #REF! | AL284: =IF(AK284<0.8,1,0) -> #REF! | AM284: =IF(AND(AK284>=0.8,AK284<1),1,0) -> #REF! | AN284: =IF(AND(AK284>=1,AK284<1.2),1,0) -> #REF! | AO284: =IF(AK284>1.2,1,0) -> #REF! | AP284: =S284/$S$4 -> #REF! | AQ284: =IF(AP284<0.8,1,0) -> #REF! | AR284: =IF(AND(AP284>=0.8,AP284<1),1,0) -> #REF! | AS284: =IF(AND(AP284>=1,AP284<1.2),1,0) -> #REF! | AT284: =IF(AP284>1.2,1,0) -> #REF! | AU284: =V284/$V$4 -> #REF! | AV284: =IF(AU284<0.8,1,0) -> #REF! | AW284: =IF(AND(AU284>=0.8,AU284<1),1,0) -> #REF! | AX284: =IF(AND(AU284>=1,AU284<1.2),1,0) -> #REF! | AY284: =IF(AU284>1.2,1,0) -> #REF! | AZ284: =Y284/$Y$4 -> #REF! | BA284: =IF(AZ284<0.8,1,0) -> #REF! | BB284: =IF(AND(AZ284>=0.8,AZ284<1),1,0) -> #REF! | BC284: =IF(AND(AZ284>=1,AZ284<1.2),1,0) -> #REF! | BD284: =IF(AZ284>1.2,1,0) -> #REF!
C285: 80 | D285: VOSGES | E285: 57 | F285: EPINAL | G285: 488256 | H285: DARNEY | K285: =SUMIF('RECAP PDV'!$E:$E,$G285,'RECAP PDV'!K:K) -> 61.21212 | N285: =SUMIF('RECAP PDV'!$E:$E,$G285,'RECAP PDV'!N:N) -> 0 | AF285: =M285/$M$4 -> #REF! | AG285: =IF(AF285<0.8,1,0) -> #REF! | AH285: =IF(AND(AF285>=0.8,AF285<1),1,0) -> #REF! | AI285: =IF(AND(AF285>=1,AF285<1.1),1,0) -> #REF! | AJ285: =IF(AF285>1.1,1,0) -> #REF! | AK285: =P285/$P$4 -> #REF! | AL285: =IF(AK285<0.8,1,0) -> #REF! | AM285: =IF(AND(AK285>=0.8,AK285<1),1,0) -> #REF! | AN285: =IF(AND(AK285>=1,AK285<1.2),1,0) -> #REF! | AO285: =IF(AK285>1.2,1,0) -> #REF! | AP285: =S285/$S$4 -> #REF! | AQ285: =IF(AP285<0.8,1,0) -> #REF! | AR285: =IF(AND(AP285>=0.8,AP285<1),1,0) -> #REF! | AS285: =IF(AND(AP285>=1,AP285<1.2),1,0) -> #REF! | AT285: =IF(AP285>1.2,1,0) -> #REF! | AU285: =V285/$V$4 -> #REF! | AV285: =IF(AU285<0.8,1,0) -> #REF! | AW285: =IF(AND(AU285>=0.8,AU285<1),1,0) -> #REF! | AX285: =IF(AND(AU285>=1,AU285<1.2),1,0) -> #REF! | AY285: =IF(AU285>1.2,1,0) -> #REF! | AZ285: =Y285/$Y$4 -> #REF! | BA285: =IF(AZ285<0.8,1,0) -> #REF! | BB285: =IF(AND(AZ285>=0.8,AZ285<1),1,0) -> #REF! | BC285: =IF(AND(AZ285>=1,AZ285<1.2),1,0) -> #REF! | BD285: =IF(AZ285>1.2,1,0) -> #REF!
C286: 80 | D286: VOSGES | E286: 57 | F286: EPINAL | G286: 488261 | H286: DOCELLES | K286: =SUMIF('RECAP PDV'!$E:$E,$G286,'RECAP PDV'!K:K) -> 47.9979 | N286: =SUMIF('RECAP PDV'!$E:$E,$G286,'RECAP PDV'!N:N) -> 0 | AF286: =M286/$M$4 -> #REF! | AG286: =IF(AF286<0.8,1,0) -> #REF! | AH286: =IF(AND(AF286>=0.8,AF286<1),1,0) -> #REF! | AI286: =IF(AND(AF286>=1,AF286<1.1),1,0) -> #REF! | AJ286: =IF(AF286>1.1,1,0) -> #REF! | AK286: =P286/$P$4 -> #REF! | AL286: =IF(AK286<0.8,1,0) -> #REF! | AM286: =IF(AND(AK286>=0.8,AK286<1),1,0) -> #REF! | AN286: =IF(AND(AK286>=1,AK286<1.2),1,0) -> #REF! | AO286: =IF(AK286>1.2,1,0) -> #REF! | AP286: =S286/$S$4 -> #REF! | AQ286: =IF(AP286<0.8,1,0) -> #REF! | AR286: =IF(AND(AP286>=0.8,AP286<1),1,0) -> #REF! | AS286: =IF(AND(AP286>=1,AP286<1.2),1,0) -> #REF! | AT286: =IF(AP286>1.2,1,0) -> #REF! | AU286: =V286/$V$4 -> #REF! | AV286: =IF(AU286<0.8,1,0) -> #REF! | AW286: =IF(AND(AU286>=0.8,AU286<1),1,0) -> #REF! | AX286: =IF(AND(AU286>=1,AU286<1.2),1,0) -> #REF! | AY286: =IF(AU286>1.2,1,0) -> #REF! | AZ286: =Y286/$Y$4 -> #REF! | BA286: =IF(AZ286<0.8,1,0) -> #REF! | BB286: =IF(AND(AZ286>=0.8,AZ286<1),1,0) -> #REF! | BC286: =IF(AND(AZ286>=1,AZ286<1.2),1,0) -> #REF! | BD286: =IF(AZ286>1.2,1,0) -> #REF!
C287: 80 | D287: VOSGES | E287: 57 | F287: EPINAL | G287: 488281 | H287: ELOYES | K287: =SUMIF('RECAP PDV'!$E:$E,$G287,'RECAP PDV'!K:K) -> 55.28068 | N287: =SUMIF('RECAP PDV'!$E:$E,$G287,'RECAP PDV'!N:N) -> 0 | AF287: =M287/$M$4 -> #REF! | AG287: =IF(AF287<0.8,1,0) -> #REF! | AH287: =IF(AND(AF287>=0.8,AF287<1),1,0) -> #REF! | AI287: =IF(AND(AF287>=1,AF287<1.1),1,0) -> #REF! | AJ287: =IF(AF287>1.1,1,0) -> #REF! | AK287: =P287/$P$4 -> #REF! | AL287: =IF(AK287<0.8,1,0) -> #REF! | AM287: =IF(AND(AK287>=0.8,AK287<1),1,0) -> #REF! | AN287: =IF(AND(AK287>=1,AK287<1.2),1,0) -> #REF! | AO287: =IF(AK287>1.2,1,0) -> #REF! | AP287: =S287/$S$4 -> #REF! | AQ287: =IF(AP287<0.8,1,0) -> #REF! | AR287: =IF(AND(AP287>=0.8,AP287<1),1,0) -> #REF! | AS287: =IF(AND(AP287>=1,AP287<1.2),1,0) -> #REF! | AT287: =IF(AP287>1.2,1,0) -> #REF! | AU287: =V287/$V$4 -> #REF! | AV287: =IF(AU287<0.8,1,0) -> #REF! | AW287: =IF(AND(AU287>=0.8,AU287<1),1,0) -> #REF! | AX287: =IF(AND(AU287>=1,AU287<1.2),1,0) -> #REF! | AY287: =IF(AU287>1.2,1,0) -> #REF! | AZ287: =Y287/$Y$4 -> #REF! | BA287: =IF(AZ287<0.8,1,0) -> #REF! | BB287: =IF(AND(AZ287>=0.8,AZ287<1),1,0) -> #REF! | BC287: =IF(AND(AZ287>=1,AZ287<1.2),1,0) -> #REF! | BD287: =IF(AZ287>1.2,1,0) -> #REF!
C288: 80 | D288: VOSGES | E288: 57 | F288: EPINAL | G288: 488286 | H288: EPINAL ARISTIDE BRIAND | K288: =SUMIF('RECAP PDV'!$E:$E,$G288,'RECAP PDV'!K:K) -> 1105.2706 | N288: =SUMIF('RECAP PDV'!$E:$E,$G288,'RECAP PDV'!N:N) -> 0 | AF288: =M288/$M$4 -> #REF! | AG288: =IF(AF288<0.8,1,0) -> #REF! | AH288: =IF(AND(AF288>=0.8,AF288<1),1,0) -> #REF! | AI288: =IF(AND(AF288>=1,AF288<1.1),1,0) -> #REF! | AJ288: =IF(AF288>1.1,1,0) -> #REF! | AK288: =P288/$P$4 -> #REF! | AL288: =IF(AK288<0.8,1,0) -> #REF! | AM288: =IF(AND(AK288>=0.8,AK288<1),1,0) -> #REF! | AN288: =IF(AND(AK288>=1,AK288<1.2),1,0) -> #REF! | AO288: =IF(AK288>1.2,1,0) -> #REF! | AP288: =S288/$S$4 -> #REF! | AQ288: =IF(AP288<0.8,1,0) -> #REF! | AR288: =IF(AND(AP288>=0.8,AP288<1),1,0) -> #REF! | AS288: =IF(AND(AP288>=1,AP288<1.2),1,0) -> #REF! | AT288: =IF(AP288>1.2,1,0) -> #REF! | AU288: =V288/$V$4 -> #REF! | AV288: =IF(AU288<0.8,1,0) -> #REF! | AW288: =IF(AND(AU288>=0.8,AU288<1),1,0) -> #REF! | AX288: =IF(AND(AU288>=1,AU288<1.2),1,0) -> #REF! | AY288: =IF(AU288>1.2,1,0) -> #REF! | AZ288: =Y288/$Y$4 -> #REF! | BA288: =IF(AZ288<0.8,1,0) -> #REF! | BB288: =IF(AND(AZ288>=0.8,AZ288<1),1,0) -> #REF! | BC288: =IF(AND(AZ288>=1,AZ288<1.2),1,0) -> #REF! | BD288: =IF(AZ288>1.2,1,0) -> #REF!
C289: 80 | D289: VOSGES | E289: 57 | F289: EPINAL | G289: 488291 | H289: EPINAL AVRINSART | K289: =SUMIF('RECAP PDV'!$E:$E,$G289,'RECAP PDV'!K:K) -> 18.68 | N289: =SUMIF('RECAP PDV'!$E:$E,$G289,'RECAP PDV'!N:N) -> 0 | AF289: =M289/$M$4 -> #REF! | AG289: =IF(AF289<0.8,1,0) -> #REF! | AH289: =IF(AND(AF289>=0.8,AF289<1),1,0) -> #REF! | AI289: =IF(AND(AF289>=1,AF289<1.1),1,0) -> #REF! | AJ289: =IF(AF289>1.1,1,0) -> #REF! | AK289: =P289/$P$4 -> #REF! | AL289: =IF(AK289<0.8,1,0) -> #REF! | AM289: =IF(AND(AK289>=0.8,AK289<1),1,0) -> #REF! | AN289: =IF(AND(AK289>=1,AK289<1.2),1,0) -> #REF! | AO289: =IF(AK289>1.2,1,0) -> #REF! | AP289: =S289/$S$4 -> #REF! | AQ289: =IF(AP289<0.8,1,0) -> #REF! | AR289: =IF(AND(AP289>=0.8,AP289<1),1,0) -> #REF! | AS289: =IF(AND(AP289>=1,AP289<1.2),1,0) -> #REF! | AT289: =IF(AP289>1.2,1,0) -> #REF! | AU289: =V289/$V$4 -> #REF! | AV289: =IF(AU289<0.8,1,0) -> #REF! | AW289: =IF(AND(AU289>=0.8,AU289<1),1,0) -> #REF! | AX289: =IF(AND(AU289>=1,AU289<1.2),1,0) -> #REF! | AY289: =IF(AU289>1.2,1,0) -> #REF! | AZ289: =Y289/$Y$4 -> #REF! | BA289: =IF(AZ289<0.8,1,0) -> #REF! | BB289: =IF(AND(AZ289>=0.8,AZ289<1),1,0) -> #REF! | BC289: =IF(AND(AZ289>=1,AZ289<1.2),1,0) -> #REF! | BD289: =IF(AZ289>1.2,1,0) -> #REF!
C290: 80 | D290: VOSGES | E290: 57 | F290: EPINAL | G290: 488288 | H290: EPINAL LEOPOLD BOURG | K290: =SUMIF('RECAP PDV'!$E:$E,$G290,'RECAP PDV'!K:K) -> -98.86628 | N290: =SUMIF('RECAP PDV'!$E:$E,$G290,'RECAP PDV'!N:N) -> 0 | AF290: =M290/$M$4 -> #REF! | AG290: =IF(AF290<0.8,1,0) -> #REF! | AH290: =IF(AND(AF290>=0.8,AF290<1),1,0) -> #REF! | AI290: =IF(AND(AF290>=1,AF290<1.1),1,0) -> #REF! | AJ290: =IF(AF290>1.1,1,0) -> #REF! | AK290: =P290/$P$4 -> #REF! | AL290: =IF(AK290<0.8,1,0) -> #REF! | AM290: =IF(AND(AK290>=0.8,AK290<1),1,0) -> #REF! | AN290: =IF(AND(AK290>=1,AK290<1.2),1,0) -> #REF! | AO290: =IF(AK290>1.2,1,0) -> #REF! | AP290: =S290/$S$4 -> #REF! | AQ290: =IF(AP290<0.8,1,0) -> #REF! | AR290: =IF(AND(AP290>=0.8,AP290<1),1,0) -> #REF! | AS290: =IF(AND(AP290>=1,AP290<1.2),1,0) -> #REF! | AT290: =IF(AP290>1.2,1,0) -> #REF! | AU290: =V290/$V$4 -> #REF! | AV290: =IF(AU290<0.8,1,0) -> #REF! | AW290: =IF(AND(AU290>=0.8,AU290<1),1,0) -> #REF! | AX290: =IF(AND(AU290>=1,AU290<1.2),1,0) -> #REF! | AY290: =IF(AU290>1.2,1,0) -> #REF! | AZ290: =Y290/$Y$4 -> #REF! | BA290: =IF(AZ290<0.8,1,0) -> #REF! | BB290: =IF(AND(AZ290>=0.8,AZ290<1),1,0) -> #REF! | BC290: =IF(AND(AZ290>=1,AZ290<1.2),1,0) -> #REF! | BD290: =IF(AZ290>1.2,1,0) -> #REF!
C291: 80 | D291: VOSGES | E291: 57 | F291: EPINAL | G291: 588336 | H291: GOLBEY | K291: =SUMIF('RECAP PDV'!$E:$E,$G291,'RECAP PDV'!K:K) -> 131.19437 | N291: =SUMIF('RECAP PDV'!$E:$E,$G291,'RECAP PDV'!N:N) -> 0 | AF291: =M291/$M$4 -> #REF! | AG291: =IF(AF291<0.8,1,0) -> #REF! | AH291: =IF(AND(AF291>=0.8,AF291<1),1,0) -> #REF! | AI291: =IF(AND(AF291>=1,AF291<1.1),1,0) -> #REF! | AJ291: =IF(AF291>1.1,1,0) -> #REF! | AK291: =P291/$P$4 -> #REF! | AL291: =IF(AK291<0.8,1,0) -> #REF! | AM291: =IF(AND(AK291>=0.8,AK291<1),1,0) -> #REF! | AN291: =IF(AND(AK291>=1,AK291<1.2),1,0) -> #REF! | AO291: =IF(AK291>1.2,1,0) -> #REF! | AP291: =S291/$S$4 -> #REF! | AQ291: =IF(AP291<0.8,1,0) -> #REF! | AR291: =IF(AND(AP291>=0.8,AP291<1),1,0) -> #REF! | AS291: =IF(AND(AP291>=1,AP291<1.2),1,0) -> #REF! | AT291: =IF(AP291>1.2,1,0) -> #REF! | AU291: =V291/$V$4 -> #REF! | AV291: =IF(AU291<0.8,1,0) -> #REF! | AW291: =IF(AND(AU291>=0.8,AU291<1),1,0) -> #REF! | AX291: =IF(AND(AU291>=1,AU291<1.2),1,0) -> #REF! | AY291: =IF(AU291>1.2,1,0) -> #REF! | AZ291: =Y291/$Y$4 -> #REF! | BA291: =IF(AZ291<0.8,1,0) -> #REF! | BB291: =IF(AND(AZ291>=0.8,AZ291<1),1,0) -> #REF! | BC291: =IF(AND(AZ291>=1,AZ291<1.2),1,0) -> #REF! | BD291: =IF(AZ291>1.2,1,0) -> #REF!
C292: 80 | D292: VOSGES | E292: 57 | F292: EPINAL | G292: 588396 | H292: LE VAL D AJOL | K292: =SUMIF('RECAP PDV'!$E:$E,$G292,'RECAP PDV'!K:K) -> -53.92642 | N292: =SUMIF('RECAP PDV'!$E:$E,$G292,'RECAP PDV'!N:N) -> 0 | AF292: =M292/$M$4 -> #REF! | AG292: =IF(AF292<0.8,1,0) -> #REF! | AH292: =IF(AND(AF292>=0.8,AF292<1),1,0) -> #REF! | AI292: =IF(AND(AF292>=1,AF292<1.1),1,0) -> #REF! | AJ292: =IF(AF292>1.1,1,0) -> #REF! | AK292: =P292/$P$4 -> #REF! | AL292: =IF(AK292<0.8,1,0) -> #REF! | AM292: =IF(AND(AK292>=0.8,AK292<1),1,0) -> #REF! | AN292: =IF(AND(AK292>=1,AK292<1.2),1,0) -> #REF! | AO292: =IF(AK292>1.2,1,0) -> #REF! | AP292: =S292/$S$4 -> #REF! | AQ292: =IF(AP292<0.8,1,0) -> #REF! | AR292: =IF(AND(AP292>=0.8,AP292<1),1,0) -> #REF! | AS292: =IF(AND(AP292>=1,AP292<1.2),1,0) -> #REF! | AT292: =IF(AP292>1.2,1,0) -> #REF! | AU292: =V292/$V$4 -> #REF! | AV292: =IF(AU292<0.8,1,0) -> #REF! | AW292: =IF(AND(AU292>=0.8,AU292<1),1,0) -> #REF! | AX292: =IF(AND(AU292>=1,AU292<1.2),1,0) -> #REF! | AY292: =IF(AU292>1.2,1,0) -> #REF! | AZ292: =Y292/$Y$4 -> #REF! | BA292: =IF(AZ292<0.8,1,0) -> #REF! | BB292: =IF(AND(AZ292>=0.8,AZ292<1),1,0) -> #REF! | BC292: =IF(AND(AZ292>=1,AZ292<1.2),1,0) -> #REF! | BD292: =IF(AZ292>1.2,1,0) -> #REF!
C293: 80 | D293: VOSGES | E293: 57 | F293: EPINAL | G293: 488451 | H293: MIRECOURT | K293: =SUMIF('RECAP PDV'!$E:$E,$G293,'RECAP PDV'!K:K) -> 991.25432 | N293: =SUMIF('RECAP PDV'!$E:$E,$G293,'RECAP PDV'!N:N) -> 0 | AF293: =M293/$M$4 -> #REF! | AG293: =IF(AF293<0.8,1,0) -> #REF! | AH293: =IF(AND(AF293>=0.8,AF293<1),1,0) -> #REF! | AI293: =IF(AND(AF293>=1,AF293<1.1),1,0) -> #REF! | AJ293: =IF(AF293>1.1,1,0) -> #REF! | AK293: =P293/$P$4 -> #REF! | AL293: =IF(AK293<0.8,1,0) -> #REF! | AM293: =IF(AND(AK293>=0.8,AK293<1),1,0) -> #REF! | AN293: =IF(AND(AK293>=1,AK293<1.2),1,0) -> #REF! | AO293: =IF(AK293>1.2,1,0) -> #REF! | AP293: =S293/$S$4 -> #REF! | AQ293: =IF(AP293<0.8,1,0) -> #REF! | AR293: =IF(AND(AP293>=0.8,AP293<1),1,0) -> #REF! | AS293: =IF(AND(AP293>=1,AP293<1.2),1,0) -> #REF! | AT293: =IF(AP293>1.2,1,0) -> #REF! | AU293: =V293/$V$4 -> #REF! | AV293: =IF(AU293<0.8,1,0) -> #REF! | AW293: =IF(AND(AU293>=0.8,AU293<1),1,0) -> #REF! | AX293: =IF(AND(AU293>=1,AU293<1.2),1,0) -> #REF! | AY293: =IF(AU293>1.2,1,0) -> #REF! | AZ293: =Y293/$Y$4 -> #REF! | BA293: =IF(AZ293<0.8,1,0) -> #REF! | BB293: =IF(AND(AZ293>=0.8,AZ293<1),1,0) -> #REF! | BC293: =IF(AND(AZ293>=1,AZ293<1.2),1,0) -> #REF! | BD293: =IF(AZ293>1.2,1,0) -> #REF!
... C312: 80 | D312: VOSGES | E312: 55 | F312: SAINT DIE | G312: 588666 | H312: VAGNEY | K312: =SUMIF('RECAP PDV'!$E:$E,$G312,'RECAP PDV'!K:K) -> 720.08957 | N312: =SUMIF('RECAP PDV'!$E:$E,$G312,'RECAP PDV'!N:N) -> 0 | AF312: =M312/$M$4 -> #REF! | AG312: =IF(AF312<0.8,1,0) -> #REF! | AH312: =IF(AND(AF312>=0.8,AF312<1),1,0) -> #REF! | AI312: =IF(AND(AF312>=1,AF312<1.1),1,0) -> #REF! | AJ312: =IF(AF312>1.1,1,0) -> #REF! | AK312: =P312/$P$4 -> #REF! | AL312: =IF(AK312<0.8,1,0) -> #REF! | AM312: =IF(AND(AK312>=0.8,AK312<1),1,0) -> #REF! | AN312: =IF(AND(AK312>=1,AK312<1.2),1,0) -> #REF! | AO312: =IF(AK312>1.2,1,0) -> #REF! | AP312: =S312/$S$4 -> #REF! | AQ312: =IF(AP312<0.8,1,0) -> #REF! | AR312: =IF(AND(AP312>=0.8,AP312<1),1,0) -> #REF! | AS312: =IF(AND(AP312>=1,AP312<1.2),1,0) -> #REF! | AT312: =IF(AP312>1.2,1,0) -> #REF! | AU312: =V312/$V$4 -> #REF! | AV312: =IF(AU312<0.8,1,0) -> #REF! | AW312: =IF(AND(AU312>=0.8,AU312<1),1,0) -> #REF! | AX312: =IF(AND(AU312>=1,AU312<1.2),1,0) -> #REF! | AY312: =IF(AU312>1.2,1,0) -> #REF! | AZ312: =Y312/$Y$4 -> #REF! | BA312: =IF(AZ312<0.8,1,0) -> #REF! | BB312: =IF(AND(AZ312>=0.8,AZ312<1),1,0) -> #REF! | BC312: =IF(AND(AZ312>=1,AZ312<1.2),1,0) -> #REF! | BD312: =IF(AZ312>1.2,1,0) -> #REF!
AG314: =SUM(AG6:AG312) -> #REF! | AH314: =SUM(AH6:AH312) -> #REF! | AI314: =SUM(AI6:AI312) -> #REF! | AJ314: =SUM(AJ6:AJ312) -> #REF! | AL314: =SUM(AL6:AL312) -> #REF! | AM314: =SUM(AM6:AM312) -> #REF! | AN314: =SUM(AN6:AN312) -> #REF! | AO314: =SUM(AO6:AO312) -> #REF! | AQ314: =SUM(AQ6:AQ312) -> #REF! | AR314: =SUM(AR6:AR312) -> #REF! | AS314: =SUM(AS6:AS312) -> #REF! | AT314: =SUM(AT6:AT312) -> #REF! | AV314: =SUM(AV6:AV312) -> #REF! | AW314: =SUM(AW6:AW312) -> #REF! | AX314: =SUM(AX6:AX312) -> #REF! | AY314: =SUM(AY6:AY312) -> #REF! | BA314: =SUM(BA6:BA312) -> #REF! | BB314: =SUM(BB6:BB312) -> #REF! | BC314: =SUM(BC6:BC312) -> #REF! | BD314: =SUM(BD6:BD312) -> #REF!

Sheet RECAP TER
G1: 1 | H1: 2 | I1: 3 | J1: 4 | K1: 5 | L1: 6 | M1: 7 | N1: 8 | O1: 9 | P1: 10 | Q1: 11 | R1: 12 | S1: 13 | T1: 14 | U1: 15 | V1: 16 | W1: 17 | X1: 18 | Y1: 19
K3: Excédents de collecte ASV par ETP | N3: Chiffre d'affaire UC par ETP | Q3: Qualité NPS | T3: Evolution du nombre de clients Premium par ETP | W3: Ventes brutes Cartes Infinite et Platinum par ETP
L4: Taux d'atteinte saisonalisé | M4: =VLOOKUP(#REF!,#REF!,6,FALSE) -> #REF! | O4: Taux d'atteinte saisonalisé | P4: =VLOOKUP(#REF!,#REF!,6,FALSE) -> #REF! | R4: Taux d'atteinte saisonalisé | S4: =VLOOKUP(#REF!,#REF!,6,FALSE) -> #REF! | U4: Taux d'atteinte saisonalisé | V4: =VLOOKUP(#REF!,#REF!,6,FALSE) -> #REF! | X4: Taux d'atteinte saisonalisé | Y4: =VLOOKUP(#REF!,#REF!,6,FALSE) -> #REF!
D5: eds pnb | E5: NO GROUPE | F5: groupe | G5: UC | H5: libelle uc | I5: ETP | K5: Réal | L5: Obj | M5: % | N5: Réal | O5: Obj | P5: % | Q5: Réal | R5: Obj | S5: % | T5: Réal | U5: Obj | V5: % | W5: Réal | X5: Obj | Y5: % | AG5: 0.8 | AH5: 80% 100% | AI5: 100% 110% | AJ5: 1.1 | AL5: 0.8 | AM5: 80% 100% | AN5: 100% 120% | AO5: 1.2 | AQ5: 0.8 | AR5: 80% 100% | AS5: 100% 120% | AT5: 1.2 | AV5: 0.8 | AW5: 80% 100% | AX5: 100% 120% | AY5: 1.2 | BA5: 0.8 | BB5: 80% 100% | BC5: 100% 120% | BD5: 1.2
D6: 100021 | E6: 50 | F6: AUBE HAUTE MARNE | G6: 21 | H6: CHAUMONT | K6: =SUMIF('RECAP PDV'!$C:$C,$G6,'RECAP PDV'!K:K) -> 7313.5603 | N6: =SUMIF('RECAP PDV'!$C:$C,$G6,'RECAP PDV'!N:N) -> 0 | AF6: =M6/$M$4 -> #REF! | AG6: =IF(AF6<0.8,1,0) -> #REF! | AH6: =IF(AND(AF6>=0.8,AF6<1),1,0) -> #REF! | AI6: =IF(AND(AF6>=1,AF6<1.1),1,0) -> #REF! | AJ6: =IF(AF6>1.1,1,0) -> #REF! | AK6: =P6/$P$4 -> #REF! | AL6: =IF(AK6<0.8,1,0) -> #REF! | AM6: =IF(AND(AK6>=0.8,AK6<1),1,0) -> #REF! | AN6: =IF(AND(AK6>=1,AK6<1.2),1,0) -> #REF! | AO6: =IF(AK6>1.2,1,0) -> #REF! | AP6: =S6/$S$4 -> #REF! | AQ6: =IF(AP6<0.8,1,0) -> #REF! | AR6: =IF(AND(AP6>=0.8,AP6<1),1,0) -> #REF! | AS6: =IF(AND(AP6>=1,AP6<1.2),1,0) -> #REF! | AT6: =IF(AP6>1.2,1,0) -> #REF! | AU6: =V6/$V$4 -> #REF! | AV6: =IF(AU6<0.8,1,0) -> #REF! | AW6: =IF(AND(AU6>=0.8,AU6<1),1,0) -> #REF! | AX6: =IF(AND(AU6>=1,AU6<1.2),1,0) -> #REF! | AY6: =IF(AU6>1.2,1,0) -> #REF! | AZ6: =Y6/$Y$4 -> #REF! | BA6: =IF(AZ6<0.8,1,0) -> #REF! | BB6: =IF(AND(AZ6>=0.8,AZ6<1),1,0) -> #REF! | BC6: =IF(AND(AZ6>=1,AZ6<1.2),1,0) -> #REF! | BD6: =IF(AZ6>1.2,1,0) -> #REF!
D7: 100014 | E7: 50 | F7: AUBE HAUTE MARNE | G7: 14 | H7: TROYES | K7: =SUMIF('RECAP PDV'!$C:$C,$G7,'RECAP PDV'!K:K) -> 19194.061 | N7: =SUMIF('RECAP PDV'!$C:$C,$G7,'RECAP PDV'!N:N) -> 0 | AF7: =M7/$M$4 -> #REF! | AG7: =IF(AF7<0.8,1,0) -> #REF! | AH7: =IF(AND(AF7>=0.8,AF7<1),1,0) -> #REF! | AI7: =IF(AND(AF7>=1,AF7<1.1),1,0) -> #REF! | AJ7: =IF(AF7>1.1,1,0) -> #REF! | AK7: =P7/$P$4 -> #REF! | AL7: =IF(AK7<0.8,1,0) -> #REF! | AM7: =IF(AND(AK7>=0.8,AK7<1),1,0) -> #REF! | AN7: =IF(AND(AK7>=1,AK7<1.2),1,0) -> #REF! | AO7: =IF(AK7>1.2,1,0) -> #REF! | AP7: =S7/$S$4 -> #REF! | AQ7: =IF(AP7<0.8,1,0) -> #REF! | AR7: =IF(AND(AP7>=0.8,AP7<1),1,0) -> #REF! | AS7: =IF(AND(AP7>=1,AP7<1.2),1,0) -> #REF! | AT7: =IF(AP7>1.2,1,0) -> #REF! | AU7: =V7/$V$4 -> #REF! | AV7: =IF(AU7<0.8,1,0) -> #REF! | AW7: =IF(AND(AU7>=0.8,AU7<1),1,0) -> #REF! | AX7: =IF(AND(AU7>=1,AU7<1.2),1,0) -> #REF! | AY7: =IF(AU7>1.2,1,0) -> #REF! | AZ7: =Y7/$Y$4 -> #REF! | BA7: =IF(AZ7<0.8,1,0) -> #REF! | BB7: =IF(AND(AZ7>=0.8,AZ7<1),1,0) -> #REF! | BC7: =IF(AND(AZ7>=1,AZ7<1.2),1,0) -> #REF! | BD7: =IF(AZ7>1.2,1,0) -> #REF!
D8: 105060 | E8: 262 | F8: BAS-RHIN | G8: 5060 | H8: HAGUENAU | K8: =SUMIF('RECAP PDV'!$C:$C,$G8,'RECAP PDV'!K:K) -> 5524.693 | N8: =SUMIF('RECAP PDV'!$C:$C,$G8,'RECAP PDV'!N:N) -> 0.152 | AF8: =M8/$M$4 -> #REF! | AG8: =IF(AF8<0.8,1,0) -> #REF! | AH8: =IF(AND(AF8>=0.8,AF8<1),1,0) -> #REF! | AI8: =IF(AND(AF8>=1,AF8<1.1),1,0) -> #REF! | AJ8: =IF(AF8>1.1,1,0) -> #REF! | AK8: =P8/$P$4 -> #REF! | AL8: =IF(AK8<0.8,1,0) -> #REF! | AM8: =IF(AND(AK8>=0.8,AK8<1),1,0) -> #REF! | AN8: =IF(AND(AK8>=1,AK8<1.2),1,0) -> #REF! | AO8: =IF(AK8>1.2,1,0) -> #REF! | AP8: =S8/$S$4 -> #REF! | AQ8: =IF(AP8<0.8,1,0) -> #REF! | AR8: =IF(AND(AP8>=0.8,AP8<1),1,0) -> #REF! | AS8: =IF(AND(AP8>=1,AP8<1.2),1,0) -> #REF! | AT8: =IF(AP8>1.2,1,0) -> #REF! | AU8: =V8/$V$4 -> #REF! | AV8: =IF(AU8<0.8,1,0) -> #REF! | AW8: =IF(AND(AU8>=0.8,AU8<1),1,0) -> #REF! | AX8: =IF(AND(AU8>=1,AU8<1.2),1,0) -> #REF! | AY8: =IF(AU8>1.2,1,0) -> #REF! | AZ8: =Y8/$Y$4 -> #REF! | BA8: =IF(AZ8<0.8,1,0) -> #REF! | BB8: =IF(AND(AZ8>=0.8,AZ8<1),1,0) -> #REF! | BC8: =IF(AND(AZ8>=1,AZ8<1.2),1,0) -> #REF! | BD8: =IF(AZ8>1.2,1,0) -> #REF!
D9: 105101 | E9: 262 | F9: BAS-RHIN | G9: 5101 | H9: SELESTAT | K9: =SUMIF('RECAP PDV'!$C:$C,$G9,'RECAP PDV'!K:K) -> 9483.9384 | N9: =SUMIF('RECAP PDV'!$C:$C,$G9,'RECAP PDV'!N:N) -> 0 | AF9: =M9/$M$4 -> #REF! | AG9: =IF(AF9<0.8,1,0) -> #REF! | AH9: =IF(AND(AF9>=0.8,AF9<1),1,0) -> #REF! | AI9: =IF(AND(AF9>=1,AF9<1.1),1,0) -> #REF! | AJ9: =IF(AF9>1.1,1,0) -> #REF! | AK9: =P9/$P$4 -> #REF! | AL9: =IF(AK9<0.8,1,0) -> #REF! | AM9: =IF(AND(AK9>=0.8,AK9<1),1,0) -> #REF! | AN9: =IF(AND(AK9>=1,AK9<1.2),1,0) -> #REF! | AO9: =IF(AK9>1.2,1,0) -> #REF! | AP9: =S9/$S$4 -> #REF! | AQ9: =IF(AP9<0.8,1,0) -> #REF! | AR9: =IF(AND(AP9>=0.8,AP9<1),1,0) -> #REF! | AS9: =IF(AND(AP9>=1,AP9<1.2),1,0) -> #REF! | AT9: =IF(AP9>1.2,1,0) -> #REF! | AU9: =V9/$V$4 -> #REF! | AV9: =IF(AU9<0.8,1,0) -> #REF! | AW9: =IF(AND(AU9>=0.8,AU9<1),1,0) -> #REF! | AX9: =IF(AND(AU9>=1,AU9<1.2),1,0) -> #REF! | AY9: =IF(AU9>1.2,1,0) -> #REF! | AZ9: =Y9/$Y$4 -> #REF! | BA9: =IF(AZ9<0.8,1,0) -> #REF! | BB9: =IF(AND(AZ9>=0.8,AZ9<1),1,0) -> #REF! | BC9: =IF(AND(AZ9>=1,AZ9<1.2),1,0) -> #REF! | BD9: =IF(AZ9>1.2,1,0) -> #REF!
D10: 105006 | E10: 262 | F10: BAS-RHIN | G10: 5006 | H10: STRASBOURG | K10: =SUMIF('RECAP PDV'!$C:$C,$G10,'RECAP PDV'!K:K) -> 16938.191 | N10: =SUMIF('RECAP PDV'!$C:$C,$G10,'RECAP PDV'!N:N) -> 0 | AF10: =M10/$M$4 -> #REF! | AG10: =IF(AF10<0.8,1,0) -> #REF! | AH10: =IF(AND(AF10>=0.8,AF10<1),1,0) -> #REF! | AI10: =IF(AND(AF10>=1,AF10<1.1),1,0) -> #REF! | AJ10: =IF(AF10>1.1,1,0) -> #REF! | AK10: =P10/$P$4 -> #REF! | AL10: =IF(AK10<0.8,1,0) -> #REF! | AM10: =IF(AND(AK10>=0.8,AK10<1),1,0) -> #REF! | AN10: =IF(AND(AK10>=1,AK10<1.2),1,0) -> #REF! | AO10: =IF(AK10>1.2,1,0) -> #REF! | AP10: =S10/$S$4 -> #REF! | AQ10: =IF(AP10<0.8,1,0) -> #REF! | AR10: =IF(AND(AP10>=0.8,AP10<1),1,0) -> #REF! | AS10: =IF(AND(AP10>=1,AP10<1.2),1,0) -> #REF! | AT10: =IF(AP10>1.2,1,0) -> #REF! | AU10: =V10/$V$4 -> #REF! | AV10: =IF(AU10<0.8,1,0) -> #REF! | AW10: =IF(AND(AU10>=0.8,AU10<1),1,0) -> #REF! | AX10: =IF(AND(AU10>=1,AU10<1.2),1,0) -> #REF! | AY10: =IF(AU10>1.2,1,0) -> #REF! | AZ10: =Y10/$Y$4 -> #REF! | BA10: =IF(AZ10<0.8,1,0) -> #REF! | BB10: =IF(AND(AZ10>=0.8,AZ10<1),1,0) -> #REF! | BC10: =IF(AND(AZ10>=1,AZ10<1.2),1,0) -> #REF! | BD10: =IF(AZ10>1.2,1,0) -> #REF!
D11: 105130 | E11: 264 | F11: HAUT-RHIN | G11: 5130 | H11: COLMAR | K11: =SUMIF('RECAP PDV'!$C:$C,$G11,'RECAP PDV'!K:K) -> 7902.6512 | N11: =SUMIF('RECAP PDV'!$C:$C,$G11,'RECAP PDV'!N:N) -> 0 | AF11: =M11/$M$4 -> #REF! | AG11: =IF(AF11<0.8,1,0) -> #REF! | AH11: =IF(AND(AF11>=0.8,AF11<1),1,0) -> #REF! | AI11: =IF(AND(AF11>=1,AF11<1.1),1,0) -> #REF! | AJ11: =IF(AF11>1.1,1,0) -> #REF! | AK11: =P11/$P$4 -> #REF! | AL11: =IF(AK11<0.8,1,0) -> #REF! | AM11: =IF(AND(AK11>=0.8,AK11<1),1,0) -> #REF! | AN11: =IF(AND(AK11>=1,AK11<1.2),1,0) -> #REF! | AO11: =IF(AK11>1.2,1,0) -> #REF! | AP11: =S11/$S$4 -> #REF! | AQ11: =IF(AP11<0.8,1,0) -> #REF! | AR11: =IF(AND(AP11>=0.8,AP11<1),1,0) -> #REF! | AS11: =IF(AND(AP11>=1,AP11<1.2),1,0) -> #REF! | AT11: =IF(AP11>1.2,1,0) -> #REF! | AU11: =V11/$V$4 -> #REF! | AV11: =IF(AU11<0.8,1,0) -> #REF! | AW11: =IF(AND(AU11>=0.8,AU11<1),1,0) -> #REF! | AX11: =IF(AND(AU11>=1,AU11<1.2),1,0) -> #REF! | AY11: =IF(AU11>1.2,1,0) -> #REF! | AZ11: =Y11/$Y$4 -> #REF! | BA11: =IF(AZ11<0.8,1,0) -> #REF! | BB11: =IF(AND(AZ11>=0.8,AZ11<1),1,0) -> #REF! | BC11: =IF(AND(AZ11>=1,AZ11<1.2),1,0) -> #REF! | BD11: =IF(AZ11>1.2,1,0) -> #REF!
D12: 105169 | E12: 264 | F12: HAUT-RHIN | G12: 5169 | H12: MULHOUSE | K12: =SUMIF('RECAP PDV'!$C:$C,$G12,'RECAP PDV'!K:K) -> 8157.1668 | N12: =SUMIF('RECAP PDV'!$C:$C,$G12,'RECAP PDV'!N:N) -> 11.38 | AF12: =M12/$M$4 -> #REF! | AG12: =IF(AF12<0.8,1,0) -> #REF! | AH12: =IF(AND(AF12>=0.8,AF12<1),1,0) -> #REF! | AI12: =IF(AND(AF12>=1,AF12<1.1),1,0) -> #REF! | AJ12: =IF(AF12>1.1,1,0) -> #REF! | AK12: =P12/$P$4 -> #REF! | AL12: =IF(AK12<0.8,1,0) -> #REF! | AM12: =IF(AND(AK12>=0.8,AK12<1),1,0) -> #REF! | AN12: =IF(AND(AK12>=1,AK12<1.2),1,0) -> #REF! | AO12: =IF(AK12>1.2,1,0) -> #REF! | AP12: =S12/$S$4 -> #REF! | AQ12: =IF(AP12<0.8,1,0) -> #REF! | AR12: =IF(AND(AP12>=0.8,AP12<1),1,0) -> #REF! | AS12: =IF(AND(AP12>=1,AP12<1.2),1,0) -> #REF! | AT12: =IF(AP12>1.2,1,0) -> #REF! | AU12: =V12/$V$4 -> #REF! | AV12: =IF(AU12<0.8,1,0) -> #REF! | AW12: =IF(AND(AU12>=0.8,AU12<1),1,0) -> #REF! | AX12: =IF(AND(AU12>=1,AU12<1.2),1,0) -> #REF! | AY12: =IF(AU12>1.2,1,0) -> #REF! | AZ12: =Y12/$Y$4 -> #REF! | BA12: =IF(AZ12<0.8,1,0) -> #REF! | BB12: =IF(AND(AZ12>=0.8,AZ12<1),1,0) -> #REF! | BC12: =IF(AND(AZ12>=1,AZ12<1.2),1,0) -> #REF! | BD12: =IF(AZ12>1.2,1,0) -> #REF!
D13: 100006 | E13: 30 | F13: MARNE-ARDENNES | G13: 6 | H13: CHALONS EN CHAMPAGNE | K13: =SUMIF('RECAP PDV'!$C:$C,$G13,'RECAP PDV'!K:K) -> 2956.1673 | N13: =SUMIF('RECAP PDV'!$C:$C,$G13,'RECAP PDV'!N:N) -> 0 | AF13: =M13/$M$4 -> #REF! | AG13: =IF(AF13<0.8,1,0) -> #REF! | AH13: =IF(AND(AF13>=0.8,AF13<1),1,0) -> #REF! | AI13: =IF(AND(AF13>=1,AF13<1.1),1,0) -> #REF! | AJ13: =IF(AF13>1.1,1,0) -> #REF! | AK13: =P13/$P$4 -> #REF! | AL13: =IF(AK13<0.8,1,0) -> #REF! | AM13: =IF(AND(AK13>=0.8,AK13<1),1,0) -> #REF! | AN13: =IF(AND(AK13>=1,AK13<1.2),1,0) -> #REF! | AO13: =IF(AK13>1.2,1,0) -> #REF! | AP13: =S13/$S$4 -> #REF! | AQ13: =IF(AP13<0.8,1,0) -> #REF! | AR13: =IF(AND(AP13>=0.8,AP13<1),1,0) -> #REF! | AS13: =IF(AND(AP13>=1,AP13<1.2),1,0) -> #REF! | AT13: =IF(AP13>1.2,1,0) -> #REF! | AU13: =V13/$V$4 -> #REF! | AV13: =IF(AU13<0.8,1,0) -> #REF! | AW13: =IF(AND(AU13>=0.8,AU13<1),1,0) -> #REF! | AX13: =IF(AND(AU13>=1,AU13<1.2),1,0) -> #REF! | AY13: =IF(AU13>1.2,1,0) -> #REF! | AZ13: =Y13/$Y$4 -> #REF! | BA13: =IF(AZ13<0.8,1,0) -> #REF! | BB13: =IF(AND(AZ13>=0.8,AZ13<1),1,0) -> #REF! | BC13: =IF(AND(AZ13>=1,AZ13<1.2),1,0) -> #REF! | BD13: =IF(AZ13>1.2,1,0) -> #REF!
D14: 100002 | E14: 30 | F14: MARNE-ARDENNES | G14: 2 | H14: CHARLEVILLE MEZIERES | K14: =SUMIF('RECAP PDV'!$C:$C,$G14,'RECAP PDV'!K:K) -> 1225.9039 | N14: =SUMIF('RECAP PDV'!$C:$C,$G14,'RECAP PDV'!N:N) -> 0 | AF14: =M14/$M$4 -> #REF! | AG14: =IF(AF14<0.8,1,0) -> #REF! | AH14: =IF(AND(AF14>=0.8,AF14<1),1,0) -> #REF! | AI14: =IF(AND(AF14>=1,AF14<1.1),1,0) -> #REF! | AJ14: =IF(AF14>1.1,1,0) -> #REF! | AK14: =P14/$P$4 -> #REF! | AL14: =IF(AK14<0.8,1,0) -> #REF! | AM14: =IF(AND(AK14>=0.8,AK14<1),1,0) -> #REF! | AN14: =IF(AND(AK14>=1,AK14<1.2),1,0) -> #REF! | AO14: =IF(AK14>1.2,1,0) -> #REF! | AP14: =S14/$S$4 -> #REF! | AQ14: =IF(AP14<0.8,1,0) -> #REF! | AR14: =IF(AND(AP14>=0.8,AP14<1),1,0) -> #REF! | AS14: =IF(AND(AP14>=1,AP14<1.2),1,0) -> #REF! | AT14: =IF(AP14>1.2,1,0) -> #REF! | AU14: =V14/$V$4 -> #REF! | AV14: =IF(AU14<0.8,1,0) -> #REF! | AW14: =IF(AND(AU14>=0.8,AU14<1),1,0) -> #REF! | AX14: =IF(AND(AU14>=1,AU14<1.2),1,0) -> #REF! | AY14: =IF(AU14>1.2,1,0) -> #REF! | AZ14: =Y14/$Y$4 -> #REF! | BA14: =IF(AZ14<0.8,1,0) -> #REF! | BB14: =IF(AND(AZ14>=0.8,AZ14<1),1,0) -> #REF! | BC14: =IF(AND(AZ14>=1,AZ14<1.2),1,0) -> #REF! | BD14: =IF(AZ14>1.2,1,0) -> #REF!
D15: 100011 | E15: 30 | F15: MARNE-ARDENNES | G15: 11 | H15: REIMS | K15: =SUMIF('RECAP PDV'!$C:$C,$G15,'RECAP PDV'!K:K) -> 12850.268 | N15: =SUMIF('RECAP PDV'!$C:$C,$G15,'RECAP PDV'!N:N) -> 0 | AF15: =M15/$M$4 -> #REF! | AG15: =IF(AF15<0.8,1,0) -> #REF! | AH15: =IF(AND(AF15>=0.8,AF15<1),1,0) -> #REF! | AI15: =IF(AND(AF15>=1,AF15<1.1),1,0) -> #REF! | AJ15: =IF(AF15>1.1,1,0) -> #REF! | AK15: =P15/$P$4 -> #REF! | AL15: =IF(AK15<0.8,1,0) -> #REF! | AM15: =IF(AND(AK15>=0.8,AK15<1),1,0) -> #REF! | AN15: =IF(AND(AK15>=1,AK15<1.2),1,0) -> #REF! | AO15: =IF(AK15>1.2,1,0) -> #REF! | AP15: =S15/$S$4 -> #REF! | AQ15: =IF(AP15<0.8,1,0) -> #REF! | AR15: =IF(AND(AP15>=0.8,AP15<1),1,0) -> #REF! | AS15: =IF(AND(AP15>=1,AP15<1.2),1,0) -> #REF! | AT15: =IF(AP15>1.2,1,0) -> #REF! | AU15: =V15/$V$4 -> #REF! | AV15: =IF(AU15<0.8,1,0) -> #REF! | AW15: =IF(AND(AU15>=0.8,AU15<1),1,0) -> #REF! | AX15: =IF(AND(AU15>=1,AU15<1.2),1,0) -> #REF! | AY15: =IF(AU15>1.2,1,0) -> #REF! | AZ15: =Y15/$Y$4 -> #REF! | BA15: =IF(AZ15<0.8,1,0) -> #REF! | BB15: =IF(AND(AZ15>=0.8,AZ15<1),1,0) -> #REF! | BC15: =IF(AND(AZ15>=1,AZ15<1.2),1,0) -> #REF! | BD15: =IF(AZ15>1.2,1,0) -> #REF!
D16: 100026 | E16: 110 | F16: MEURTHE ET MOSELLE MEUSE | G16: 26 | H16: NANCY | K16: =SUMIF('RECAP PDV'!$C:$C,$G16,'RECAP PDV'!K:K) -> 9913.7764 | N16: =SUMIF('RECAP PDV'!$C:$C,$G16,'RECAP PDV'!N:N) -> 0 | AF16: =M16/$M$4 -> #REF! | AG16: =IF(AF16<0.8,1,0) -> #REF! | AH16: =IF(AND(AF16>=0.8,AF16<1),1,0) -> #REF! | AI16: =IF(AND(AF16>=1,AF16<1.1),1,0) -> #REF! | AJ16: =IF(AF16>1.1,1,0) -> #REF! | AK16: =P16/$P$4 -> #REF! | AL16: =IF(AK16<0.8,1,0) -> #REF! | AM16: =IF(AND(AK16>=0.8,AK16<1),1,0) -> #REF! | AN16: =IF(AND(AK16>=1,AK16<1.2),1,0) -> #REF! | AO16: =IF(AK16>1.2,1,0) -> #REF! | AP16: =S16/$S$4 -> #REF! | AQ16: =IF(AP16<0.8,1,0) -> #REF! | AR16: =IF(AND(AP16>=0.8,AP16<1),1,0) -> #REF! | AS16: =IF(AND(AP16>=1,AP16<1.2),1,0) -> #REF! | AT16: =IF(AP16>1.2,1,0) -> #REF! | AU16: =V16/$V$4 -> #REF! | AV16: =IF(AU16<0.8,1,0) -> #REF! | AW16: =IF(AND(AU16>=0.8,AU16<1),1,0) -> #REF! | AX16: =IF(AND(AU16>=1,AU16<1.2),1,0) -> #REF! | AY16: =IF(AU16>1.2,1,0) -> #REF! | AZ16: =Y16/$Y$4 -> #REF! | BA16: =IF(AZ16<0.8,1,0) -> #REF! | BB16: =IF(AND(AZ16>=0.8,AZ16<1),1,0) -> #REF! | BC16: =IF(AND(AZ16>=1,AZ16<1.2),1,0) -> #REF! | BD16: =IF(AZ16>1.2,1,0) -> #REF!
D17: 100027 | E17: 110 | F17: MEURTHE ET MOSELLE MEUSE | G17: 27 | H17: PONT A MOUSSON | K17: =SUMIF('RECAP PDV'!$C:$C,$G17,'RECAP PDV'!K:K) -> 9996.5515 | N17: =SUMIF('RECAP PDV'!$C:$C,$G17,'RECAP PDV'!N:N) -> 0 | AF17: =M17/$M$4 -> #REF! | AG17: =IF(AF17<0.8,1,0) -> #REF! | AH17: =IF(AND(AF17>=0.8,AF17<1),1,0) -> #REF! | AI17: =IF(AND(AF17>=1,AF17<1.1),1,0) -> #REF! | AJ17: =IF(AF17>1.1,1,0) -> #REF! | AK17: =P17/$P$4 -> #REF! | AL17: =IF(AK17<0.8,1,0) -> #REF! | AM17: =IF(AND(AK17>=0.8,AK17<1),1,0) -> #REF! | AN17: =IF(AND(AK17>=1,AK17<1.2),1,0) -> #REF! | AO17: =IF(AK17>1.2,1,0) -> #REF! | AP17: =S17/$S$4 -> #REF! | AQ17: =IF(AP17<0.8,1,0) -> #REF! | AR17: =IF(AND(AP17>=0.8,AP17<1),1,0) -> #REF! | AS17: =IF(AND(AP17>=1,AP17<1.2),1,0) -> #REF! | AT17: =IF(AP17>1.2,1,0) -> #REF! | AU17: =V17/$V$4 -> #REF! | AV17: =IF(AU17<0.8,1,0) -> #REF! | AW17: =IF(AND(AU17>=0.8,AU17<1),1,0) -> #REF! | AX17: =IF(AND(AU17>=1,AU17<1.2),1,0) -> #REF! | AY17: =IF(AU17>1.2,1,0) -> #REF! | AZ17: =Y17/$Y$4 -> #REF! | BA17: =IF(AZ17<0.8,1,0) -> #REF! | BB17: =IF(AND(AZ17>=0.8,AZ17<1),1,0) -> #REF! | BC17: =IF(AND(AZ17>=1,AZ17<1.2),1,0) -> #REF! | BD17: =IF(AZ17>1.2,1,0) -> #REF!
... D23: 100055 | E23: 80 | F23: VOSGES | G23: 55 | H23: SAINT DIE | K23: =SUMIF('RECAP PDV'!$C:$C,$G23,'RECAP PDV'!K:K) -> 7263.7955 | N23: =SUMIF('RECAP PDV'!$C:$C,$G23,'RECAP PDV'!N:N) -> 0 | AF23: =M23/$M$4 -> #REF! | AG23: =IF(AF23<0.8,1,0) -> #REF! | AH23: =IF(AND(AF23>=0.8,AF23<1),1,0) -> #REF! | AI23: =IF(AND(AF23>=1,AF23<1.1),1,0) -> #REF! | AJ23: =IF(AF23>1.1,1,0) -> #REF! | AK23: =P23/$P$4 -> #REF! | AL23: =IF(AK23<0.8,1,0) -> #REF! | AM23: =IF(AND(AK23>=0.8,AK23<1),1,0) -> #REF! | AN23: =IF(AND(AK23>=1,AK23<1.2),1,0) -> #REF! | AO23: =IF(AK23>1.2,1,0) -> #REF! | AP23: =S23/$S$4 -> #REF! | AQ23: =IF(AP23<0.8,1,0) -> #REF! | AR23: =IF(AND(AP23>=0.8,AP23<1),1,0) -> #REF! | AS23: =IF(AND(AP23>=1,AP23<1.2),1,0) -> #REF! | AT23: =IF(AP23>1.2,1,0) -> #REF! | AU23: =V23/$V$4 -> #REF! | AV23: =IF(AU23<0.8,1,0) -> #REF! | AW23: =IF(AND(AU23>=0.8,AU23<1),1,0) -> #REF! | AX23: =IF(AND(AU23>=1,AU23<1.2),1,0) -> #REF! | AY23: =IF(AU23>1.2,1,0) -> #REF! | AZ23: =Y23/$Y$4 -> #REF! | BA23: =IF(AZ23<0.8,1,0) -> #REF! | BB23: =IF(AND(AZ23>=0.8,AZ23<1),1,0) -> #REF! | BC23: =IF(AND(AZ23>=1,AZ23<1.2),1,0) -> #REF! | BD23: =IF(AZ23>1.2,1,0) -> #REF!
AG24: =SUM(AG6:AG23) -> #REF! | AH24: =SUM(AH6:AH23) -> #REF! | AI24: =SUM(AI6:AI23) -> #REF! | AJ24: =SUM(AJ6:AJ23) -> #REF! | AL24: =SUM(AL6:AL23) -> #REF! | AM24: =SUM(AM6:AM23) -> #REF! | AN24: =SUM(AN6:AN23) -> #REF! | AO24: =SUM(AO6:AO23) -> #REF! | AQ24: =SUM(AQ6:AQ23) -> #REF! | AR24: =SUM(AR6:AR23) -> #REF! | AS24: =SUM(AS6:AS23) -> #REF! | AT24: =SUM(AT6:AT23) -> #REF! | AV24: =SUM(AV6:AV23) -> #REF! | AW24: =SUM(AW6:AW23) -> #REF! | AX24: =SUM(AX6:AX23) -> #REF! | AY24: =SUM(AY6:AY23) -> #REF! | BA24: =SUM(BA6:BA23) -> #REF! | BB24: =SUM(BB6:BB23) -> #REF! | BC24: =SUM(BC6:BC23) -> #REF! | BD24: =SUM(BD6:BD23) -> #REF!

Sheet RECAP DC
G1: 1 | H1: 2 | I1: 3 | J1: 4 | K1: 5 | L1: 6 | M1: 7 | N1: 8 | O1: 9 | P1: 10 | Q1: 11 | R1: 12 | S1: 13 | T1: 14 | U1: 15 | V1: 16 | W1: 17 | X1: 18 | Y1: 19
K3: Excédents de collecte ASV par ETP | N3: Chiffre d'affaire UC par ETP | Q3: Qualité NPS | T3: Evolution du nombre de clients Premium par ETP | W3: Ventes brutes Cartes Infinite et Platinum par ETP
L4: Taux d'atteinte saisonalisé | O4: Taux d'atteinte saisonalisé | R4: Taux d'atteinte saisonalisé | U4: Taux d'atteinte saisonalisé | X4: Taux d'atteinte saisonalisé
G5: NO GROUPE | H5: groupe | I5: ETP | K5: Réal | L5: Obj | M5: % | N5: Réal | O5: Obj | P5: % | R5: Réal | T5: Réal | U5: Obj | V5: % | W5: Réal | X5: Obj | Y5: % | AG5: 0.8 | AH5: 80% 100% | AI5: 100% 110% | AJ5: 1.1 | AL5: 0.8 | AM5: 80% 100% | AN5: 100% 120% | AO5: 1.2 | AQ5: 0.8 | AR5: 80% 100% | AS5: 100% 120% | AT5: 1.2 | AV5: 0.8 | AW5: 80% 100% | AX5: 100% 120% | AY5: 1.2 | BA5: 0.8 | BB5: 80% 100% | BC5: 100% 120% | BD5: 1.2
F6: 200050 | G6: 50 | H6: Aube Haute Marne | I6: =VLOOKUP(G6,ETP!$B$11:$D$17,3,FALSE) -> 3.900458 | K6: =SUMIF('RECAP PDV'!$A:$A,$G6,'RECAP PDV'!K:K)/I6 -> 6796.0278 | L6: =VLOOKUP(G6,OBJECTIFS!$C$6:$L$12,6,FALSE) -> 3000 | M6: =+K6/L6 -> 2.2653426 | N6: =SUMIF('UC GPS'!H:H,G6,'UC GPS'!N:N)/1000/I6 -> 4486.5993 | O6: =VLOOKUP(G6,OBJECTIFS!$C$6:$L$12,7,FALSE) -> 5000 | P6: =+N6/O6 -> 0.89731985 | R6: =#REF! -> #REF! | T6: =SUMIF(PREMIUM!A:A,G6,PREMIUM!P:P)/I6+SUMIF(PREMIUM!A:A,G6,PREMIUM!R:R)/I6 -> 26.919916 | U6: =VLOOKUP(G6,OBJECTIFS!$C$6:$L$12,9,FALSE) -> 24 | V6: =+T6/U6 -> 1.1216631 | W6: =SUMIF(CARTES!H:H,G6,CARTES!N:N)/I6 -> 25.125255 | X6: =VLOOKUP(G6,OBJECTIFS!$C$6:$L$12,10,FALSE) -> 20 | Y6: =+W6/X6 -> 1.2562627 | AF6: =M6/$M$4 -> #DIV/0! | AG6: =IF(AF6<0.8,1,0) -> #DIV/0! | AH6: =IF(AND(AF6>=0.8,AF6<1),1,0) -> #DIV/0! | AI6: =IF(AND(AF6>=1,AF6<1.1),1,0) -> #DIV/0! | AJ6: =IF(AF6>1.1,1,0) -> #DIV/0! | AK6: =P6/$P$4 -> #DIV/0! | AL6: =IF(AK6<0.8,1,0) -> #DIV/0! | AM6: =IF(AND(AK6>=0.8,AK6<1),1,0) -> #DIV/0! | AN6: =IF(AND(AK6>=1,AK6<1.2),1,0) -> #DIV/0! | AO6: =IF(AK6>1.2,1,0) -> #DIV/0! | AP6: =S6/$S$4 -> #DIV/0! | AQ6: =IF(AP6<0.8,1,0) -> #DIV/0! | AR6: =IF(AND(AP6>=0.8,AP6<1),1,0) -> #DIV/0! | AS6: =IF(AND(AP6>=1,AP6<1.2),1,0) -> #DIV/0! | AT6: =IF(AP6>1.2,1,0) -> #DIV/0! | AU6: =V6/$V$4 -> #DIV/0! | AV6: =IF(AU6<0.8,1,0) -> #DIV/0! | AW6: =IF(AND(AU6>=0.8,AU6<1),1,0) -> #DIV/0! | AX6: =IF(AND(AU6>=1,AU6<1.2),1,0) -> #DIV/0! | AY6: =IF(AU6>1.2,1,0) -> #DIV/0! | AZ6: =Y6/$Y$4 -> #DIV/0! | BA6: =IF(AZ6<0.8,1,0) -> #DIV/0! | BB6: =IF(AND(AZ6>=0.8,AZ6<1),1,0) -> #DIV/0! | BC6: =IF(AND(AZ6>=1,AZ6<1.2),1,0) -> #DIV/0! | BD6: =IF(AZ6>1.2,1,0) -> #DIV/0!
F7: 200262 | G7: 262 | H7: Bas-Rhin | I7: =VLOOKUP(G7,ETP!$B$11:$D$17,3,FALSE) -> 12.312058 | K7: =SUMIF('RECAP PDV'!$A:$A,$G7,'RECAP PDV'!K:K)/I7 -> 2594.759 | L7: =VLOOKUP(G7,OBJECTIFS!$C$6:$L$12,6,FALSE) -> 3000 | M7: =+K7/L7 -> 0.86491965 | N7: =SUMIF('UC GPS'!H:H,G7,'UC GPS'!N:N)/1000/I7 -> 2551.3798 | O7: =VLOOKUP(G7,OBJECTIFS!$C$6:$L$12,7,FALSE) -> 5000 | P7: =+N7/O7 -> 0.51027596 | R7: =#REF! -> #REF! | T7: =SUMIF(PREMIUM!A:A,G7,PREMIUM!P:P)/I7+SUMIF(PREMIUM!A:A,G7,PREMIUM!R:R)/I7 -> 25.178569 | U7: =VLOOKUP(G7,OBJECTIFS!$C$6:$L$12,9,FALSE) -> 24 | V7: =+T7/U7 -> 1.049107 | W7: =SUMIF(CARTES!H:H,G7,CARTES!N:N)/I7 -> 13.726381 | X7: =VLOOKUP(G7,OBJECTIFS!$C$6:$L$12,10,FALSE) -> 20 | Y7: =+W7/X7 -> 0.68631906 | AF7: =M7/$M$4 -> #DIV/0! | AG7: =IF(AF7<0.8,1,0) -> #DIV/0! | AH7: =IF(AND(AF7>=0.8,AF7<1),1,0) -> #DIV/0! | AI7: =IF(AND(AF7>=1,AF7<1.1),1,0) -> #DIV/0! | AJ7: =IF(AF7>1.1,1,0) -> #DIV/0! | AK7: =P7/$P$4 -> #DIV/0! | AL7: =IF(AK7<0.8,1,0) -> #DIV/0! | AM7: =IF(AND(AK7>=0.8,AK7<1),1,0) -> #DIV/0! | AN7: =IF(AND(AK7>=1,AK7<1.2),1,0) -> #DIV/0! | AO7: =IF(AK7>1.2,1,0) -> #DIV/0! | AP7: =S7/$S$4 -> #DIV/0! | AQ7: =IF(AP7<0.8,1,0) -> #DIV/0! | AR7: =IF(AND(AP7>=0.8,AP7<1),1,0) -> #DIV/0! | AS7: =IF(AND(AP7>=1,AP7<1.2),1,0) -> #DIV/0! | AT7: =IF(AP7>1.2,1,0) -> #DIV/0! | AU7: =V7/$V$4 -> #DIV/0! | AV7: =IF(AU7<0.8,1,0) -> #DIV/0! | AW7: =IF(AND(AU7>=0.8,AU7<1),1,0) -> #DIV/0! | AX7: =IF(AND(AU7>=1,AU7<1.2),1,0) -> #DIV/0! | AY7: =IF(AU7>1.2,1,0) -> #DIV/0! | AZ7: =Y7/$Y$4 -> #DIV/0! | BA7: =IF(AZ7<0.8,1,0) -> #DIV/0! | BB7: =IF(AND(AZ7>=0.8,AZ7<1),1,0) -> #DIV/0! | BC7: =IF(AND(AZ7>=1,AZ7<1.2),1,0) -> #DIV/0! | BD7: =IF(AZ7>1.2,1,0) -> #DIV/0!
F8: 200264 | G8: 264 | H8: Haut-Rhin | I8: =VLOOKUP(G8,ETP!$B$11:$D$17,3,FALSE) -> 6.2205584 | K8: =SUMIF('RECAP PDV'!$A:$A,$G8,'RECAP PDV'!K:K)/I8 -> 2581.7326 | L8: =VLOOKUP(G8,OBJECTIFS!$C$6:$L$12,6,FALSE) -> 3000 | M8: =+K8/L8 -> 0.86057752 | N8: =SUMIF('UC GPS'!H:H,G8,'UC GPS'!N:N)/1000/I8 -> 1854.0622 | O8: =VLOOKUP(G8,OBJECTIFS!$C$6:$L$12,7,FALSE) -> 5000 | P8: =+N8/O8 -> 0.37081244 | R8: =#REF! -> #REF! | T8: =SUMIF(PREMIUM!A:A,G8,PREMIUM!P:P)/I8+SUMIF(PREMIUM!A:A,G8,PREMIUM!R:R)/I8 -> 18.969358 | U8: =VLOOKUP(G8,OBJECTIFS!$C$6:$L$12,9,FALSE) -> 24 | V8: =+T8/U8 -> 0.79038993 | W8: =SUMIF(CARTES!H:H,G8,CARTES!N:N)/I8 -> 17.040271 | X8: =VLOOKUP(G8,OBJECTIFS!$C$6:$L$12,10,FALSE) -> 20 | Y8: =+W8/X8 -> 0.85201355 | AF8: =M8/$M$4 -> #DIV/0! | AG8: =IF(AF8<0.8,1,0) -> #DIV/0! | AH8: =IF(AND(AF8>=0.8,AF8<1),1,0) -> #DIV/0! | AI8: =IF(AND(AF8>=1,AF8<1.1),1,0) -> #DIV/0! | AJ8: =IF(AF8>1.1,1,0) -> #DIV/0! | AK8: =P8/$P$4 -> #DIV/0! | AL8: =IF(AK8<0.8,1,0) -> #DIV/0! | AM8: =IF(AND(AK8>=0.8,AK8<1),1,0) -> #DIV/0! | AN8: =IF(AND(AK8>=1,AK8<1.2),1,0) -> #DIV/0! | AO8: =IF(AK8>1.2,1,0) -> #DIV/0! | AP8: =S8/$S$4 -> #DIV/0! | AQ8: =IF(AP8<0.8,1,0) -> #DIV/0! | AR8: =IF(AND(AP8>=0.8,AP8<1),1,0) -> #DIV/0! | AS8: =IF(AND(AP8>=1,AP8<1.2),1,0) -> #DIV/0! | AT8: =IF(AP8>1.2,1,0) -> #DIV/0! | AU8: =V8/$V$4 -> #DIV/0! | AV8: =IF(AU8<0.8,1,0) -> #DIV/0! | AW8: =IF(AND(AU8>=0.8,AU8<1),1,0) -> #DIV/0! | AX8: =IF(AND(AU8>=1,AU8<1.2),1,0) -> #DIV/0! | AY8: =IF(AU8>1.2,1,0) -> #DIV/0! | AZ8: =Y8/$Y$4 -> #DIV/0! | BA8: =IF(AZ8<0.8,1,0) -> #DIV/0! | BB8: =IF(AND(AZ8>=0.8,AZ8<1),1,0) -> #DIV/0! | BC8: =IF(AND(AZ8>=1,AZ8<1.2),1,0) -> #DIV/0! | BD8: =IF(AZ8>1.2,1,0) -> #DIV/0!
F9: 200030 | G9: 30 | H9: Marne Ardennes | I9: =VLOOKUP(G9,ETP!$B$11:$D$17,3,FALSE) -> 6.6887788 | K9: =SUMIF('RECAP PDV'!$A:$A,$G9,'RECAP PDV'!K:K)/I9 -> 2546.4049 | L9: =VLOOKUP(G9,OBJECTIFS!$C$6:$L$12,6,FALSE) -> 3000 | M9: =+K9/L9 -> 0.84880162 | N9: =SUMIF('UC GPS'!H:H,G9,'UC GPS'!N:N)/1000/I9 -> 3341.0836 | O9: =VLOOKUP(G9,OBJECTIFS!$C$6:$L$12,7,FALSE) -> 5000 | P9: =+N9/O9 -> 0.66821672 | R9: =#REF! -> #REF! | T9: =SUMIF(PREMIUM!A:A,G9,PREMIUM!P:P)/I9+SUMIF(PREMIUM!A:A,G9,PREMIUM!R:R)/I9 -> 30.050329 | U9: =VLOOKUP(G9,OBJECTIFS!$C$6:$L$12,9,FALSE) -> 24 | V9: =+T9/U9 -> 1.252097 | W9: =SUMIF(CARTES!H:H,G9,CARTES!N:N)/I9 -> 22.724627 | X9: =VLOOKUP(G9,OBJECTIFS!$C$6:$L$12,10,FALSE) -> 20 | Y9: =+W9/X9 -> 1.1362313 | AF9: =M9/$M$4 -> #DIV/0! | AG9: =IF(AF9<0.8,1,0) -> #DIV/0! | AH9: =IF(AND(AF9>=0.8,AF9<1),1,0) -> #DIV/0! | AI9: =IF(AND(AF9>=1,AF9<1.1),1,0) -> #DIV/0! | AJ9: =IF(AF9>1.1,1,0) -> #DIV/0! | AK9: =P9/$P$4 -> #DIV/0! | AL9: =IF(AK9<0.8,1,0) -> #DIV/0! | AM9: =IF(AND(AK9>=0.8,AK9<1),1,0) -> #DIV/0! | AN9: =IF(AND(AK9>=1,AK9<1.2),1,0) -> #DIV/0! | AO9: =IF(AK9>1.2,1,0) -> #DIV/0! | AP9: =S9/$S$4 -> #DIV/0! | AQ9: =IF(AP9<0.8,1,0) -> #DIV/0! | AR9: =IF(AND(AP9>=0.8,AP9<1),1,0) -> #DIV/0! | AS9: =IF(AND(AP9>=1,AP9<1.2),1,0) -> #DIV/0! | AT9: =IF(AP9>1.2,1,0) -> #DIV/0! | AU9: =V9/$V$4 -> #DIV/0! | AV9: =IF(AU9<0.8,1,0) -> #DIV/0! | AW9: =IF(AND(AU9>=0.8,AU9<1),1,0) -> #DIV/0! | AX9: =IF(AND(AU9>=1,AU9<1.2),1,0) -> #DIV/0! | AY9: =IF(AU9>1.2,1,0) -> #DIV/0! | AZ9: =Y9/$Y$4 -> #DIV/0! | BA9: =IF(AZ9<0.8,1,0) -> #DIV/0! | BB9: =IF(AND(AZ9>=0.8,AZ9<1),1,0) -> #DIV/0! | BC9: =IF(AND(AZ9>=1,AZ9<1.2),1,0) -> #DIV/0! | BD9: =IF(AZ9>1.2,1,0) -> #DIV/0!
F10: 200110 | G10: 110 | H10: Meurthe et Moselle Meuse | I10: =VLOOKUP(G10,ETP!$B$11:$D$17,3,FALSE) -> 7.8007975 | K10: =SUMIF('RECAP PDV'!$A:$A,$G10,'RECAP PDV'!K:K)/I10 -> 3723.4241 | L10: =VLOOKUP(G10,OBJECTIFS!$C$6:$L$12,6,FALSE) -> 3000 | M10: =+K10/L10 -> 1.2411414 | N10: =SUMIF('UC GPS'!H:H,G10,'UC GPS'!N:N)/1000/I10 -> 3345.3296 | O10: =VLOOKUP(G10,OBJECTIFS!$C$6:$L$12,7,FALSE) -> 5000 | P10: =+N10/O10 -> 0.66906592 | R10: =#REF! -> #REF! | T10: =SUMIF(PREMIUM!A:A,G10,PREMIUM!P:P)/I10+SUMIF(PREMIUM!A:A,G10,PREMIUM!R:R)/I10 -> 30.637893 | U10: =VLOOKUP(G10,OBJECTIFS!$C$6:$L$12,9,FALSE) -> 24 | V10: =+T10/U10 -> 1.2765789 | W10: =SUMIF(CARTES!H:H,G10,CARTES!N:N)/I10 -> 23.074564 | X10: =VLOOKUP(G10,OBJECTIFS!$C$6:$L$12,10,FALSE) -> 20 | Y10: =+W10/X10 -> 1.1537282 | AF10: =M10/$M$4 -> #DIV/0! | AG10: =IF(AF10<0.8,1,0) -> #DIV/0! | AH10: =IF(AND(AF10>=0.8,AF10<1),1,0) -> #DIV/0! | AI10: =IF(AND(AF10>=1,AF10<1.1),1,0) -> #DIV/0! | AJ10: =IF(AF10>1.1,1,0) -> #DIV/0! | AK10: =P10/$P$4 -> #DIV/0! | AL10: =IF(AK10<0.8,1,0) -> #DIV/0! | AM10: =IF(AND(AK10>=0.8,AK10<1),1,0) -> #DIV/0! | AN10: =IF(AND(AK10>=1,AK10<1.2),1,0) -> #DIV/0! | AO10: =IF(AK10>1.2,1,0) -> #DIV/0! | AP10: =S10/$S$4 -> #DIV/0! | AQ10: =IF(AP10<0.8,1,0) -> #DIV/0! | AR10: =IF(AND(AP10>=0.8,AP10<1),1,0) -> #DIV/0! | AS10: =IF(AND(AP10>=1,AP10<1.2),1,0) -> #DIV/0! | AT10: =IF(AP10>1.2,1,0) -> #DIV/0! | AU10: =V10/$V$4 -> #DIV/0! | AV10: =IF(AU10<0.8,1,0) -> #DIV/0! | AW10: =IF(AND(AU10>=0.8,AU10<1),1,0) -> #DIV/0! | AX10: =IF(AND(AU10>=1,AU10<1.2),1,0) -> #DIV/0! | AY10: =IF(AU10>1.2,1,0) -> #DIV/0! | AZ10: =Y10/$Y$4 -> #DIV/0! | BA10: =IF(AZ10<0.8,1,0) -> #DIV/0! | BB10: =IF(AND(AZ10>=0.8,AZ10<1),1,0) -> #DIV/0! | BC10: =IF(AND(AZ10>=1,AZ10<1.2),1,0) -> #DIV/0! | BD10: =IF(AZ10>1.2,1,0) -> #DIV/0!
F11: 200160 | G11: 160 | H11: Moselle | I11: =VLOOKUP(G11,ETP!$B$11:$D$17,3,FALSE) -> 9.1587397 | K11: =SUMIF('RECAP PDV'!$A:$A,$G11,'RECAP PDV'!K:K)/I11 -> 6156.5455 | L11: =VLOOKUP(G11,OBJECTIFS!$C$6:$L$12,6,FALSE) -> 3000 | M11: =+K11/L11 -> 2.0521818 | N11: =SUMIF('UC GPS'!H:H,G11,'UC GPS'!N:N)/1000/I11 -> 4053.5978 | O11: =VLOOKUP(G11,OBJECTIFS!$C$6:$L$12,7,FALSE) -> 5000 | P11: =+N11/O11 -> 0.81071956 | R11: =#REF! -> #REF! | T11: =SUMIF(PREMIUM!A:A,G11,PREMIUM!P:P)/I11+SUMIF(PREMIUM!A:A,G11,PREMIUM!R:R)/I11 -> 35.921973 | U11: =VLOOKUP(G11,OBJECTIFS!$C$6:$L$12,9,FALSE) -> 24 | V11: =+T11/U11 -> 1.4967489 | W11: =SUMIF(CARTES!H:H,G11,CARTES!N:N)/I11 -> 22.492178 | X11: =VLOOKUP(G11,OBJECTIFS!$C$6:$L$12,10,FALSE) -> 20 | Y11: =+W11/X11 -> 1.1246089 | AF11: =M11/$M$4 -> #DIV/0! | AG11: =IF(AF11<0.8,1,0) -> #DIV/0! | AH11: =IF(AND(AF11>=0.8,AF11<1),1,0) -> #DIV/0! | AI11: =IF(AND(AF11>=1,AF11<1.1),1,0) -> #DIV/0! | AJ11: =IF(AF11>1.1,1,0) -> #DIV/0! | AK11: =P11/$P$4 -> #DIV/0! | AL11: =IF(AK11<0.8,1,0) -> #DIV/0! | AM11: =IF(AND(AK11>=0.8,AK11<1),1,0) -> #DIV/0! | AN11: =IF(AND(AK11>=1,AK11<1.2),1,0) -> #DIV/0! | AO11: =IF(AK11>1.2,1,0) -> #DIV/0! | AP11: =S11/$S$4 -> #DIV/0! | AQ11: =IF(AP11<0.8,1,0) -> #DIV/0! | AR11: =IF(AND(AP11>=0.8,AP11<1),1,0) -> #DIV/0! | AS11: =IF(AND(AP11>=1,AP11<1.2),1,0) -> #DIV/0! | AT11: =IF(AP11>1.2,1,0) -> #DIV/0! | AU11: =V11/$V$4 -> #DIV/0! | AV11: =IF(AU11<0.8,1,0) -> #DIV/0! | AW11: =IF(AND(AU11>=0.8,AU11<1),1,0) -> #DIV/0! | AX11: =IF(AND(AU11>=1,AU11<1.2),1,0) -> #DIV/0! | AY11: =IF(AU11>1.2,1,0) -> #DIV/0! | AZ11: =Y11/$Y$4 -> #DIV/0! | BA11: =IF(AZ11<0.8,1,0) -> #DIV/0! | BB11: =IF(AND(AZ11>=0.8,AZ11<1),1,0) -> #DIV/0! | BC11: =IF(AND(AZ11>=1,AZ11<1.2),1,0) -> #DIV/0! | BD11: =IF(AZ11>1.2,1,0) -> #DIV/0!
F12: 200080 | G12: 80 | H12: Vosges | I12: =VLOOKUP(G12,ETP!$B$11:$D$17,3,FALSE) -> 3.6896686 | K12: =SUMIF('RECAP PDV'!$A:$A,$G12,'RECAP PDV'!K:K)/I12 -> 3058.8517 | L12: =VLOOKUP(G12,OBJECTIFS!$C$6:$L$12,6,FALSE) -> 3000 | M12: =+K12/L12 -> 1.0196172 | N12: =SUMIF('UC GPS'!H:H,G12,'UC GPS'!N:N)/1000/I12 -> 3106.0451 | O12: =VLOOKUP(G12,OBJECTIFS!$C$6:$L$12,7,FALSE) -> 5000 | P12: =+N12/O12 -> 0.62120902 | R12: =#REF! -> #REF! | T12: =SUMIF(PREMIUM!A:A,G12,PREMIUM!P:P)/I12+SUMIF(PREMIUM!A:A,G12,PREMIUM!R:R)/I12 -> 43.906383 | U12: =VLOOKUP(G12,OBJECTIFS!$C$6:$L$12,9,FALSE) -> 24 | V12: =+T12/U12 -> 1.8294326 | W12: =SUMIF(CARTES!H:H,G12,CARTES!N:N)/I12 -> 26.018597 | X12: =VLOOKUP(G12,OBJECTIFS!$C$6:$L$12,10,FALSE) -> 20 | Y12: =+W12/X12 -> 1.3009299 | AF12: =M12/$M$4 -> #DIV/0! | AG12: =IF(AF12<0.8,1,0) -> #DIV/0! | AH12: =IF(AND(AF12>=0.8,AF12<1),1,0) -> #DIV/0! | AI12: =IF(AND(AF12>=1,AF12<1.1),1,0) -> #DIV/0! | AJ12: =IF(AF12>1.1,1,0) -> #DIV/0! | AK12: =P12/$P$4 -> #DIV/0! | AL12: =IF(AK12<0.8,1,0) -> #DIV/0! | AM12: =IF(AND(AK12>=0.8,AK12<1),1,0) -> #DIV/0! | AN12: =IF(AND(AK12>=1,AK12<1.2),1,0) -> #DIV/0! | AO12: =IF(AK12>1.2,1,0) -> #DIV/0! | AP12: =S12/$S$4 -> #DIV/0! | AQ12: =IF(AP12<0.8,1,0) -> #DIV/0! | AR12: =IF(AND(AP12>=0.8,AP12<1),1,0) -> #DIV/0! | AS12: =IF(AND(AP12>=1,AP12<1.2),1,0) -> #DIV/0! | AT12: =IF(AP12>1.2,1,0) -> #DIV/0! | AU12: =V12/$V$4 -> #DIV/0! | AV12: =IF(AU12<0.8,1,0) -> #DIV/0! | AW12: =IF(AND(AU12>=0.8,AU12<1),1,0) -> #DIV/0! | AX12: =IF(AND(AU12>=1,AU12<1.2),1,0) -> #DIV/0! | AY12: =IF(AU12>1.2,1,0) -> #DIV/0! | AZ12: =Y12/$Y$4 -> #DIV/0! | BA12: =IF(AZ12<0.8,1,0) -> #DIV/0! | BB12: =IF(AND(AZ12>=0.8,AZ12<1),1,0) -> #DIV/0! | BC12: =IF(AND(AZ12>=1,AZ12<1.2),1,0) -> #DIV/0! | BD12: =IF(AZ12>1.2,1,0) -> #DIV/0!
AG13: =SUM(AG6:AG12) -> #DIV/0! | AH13: =SUM(AH6:AH12) -> #DIV/0! | AI13: =SUM(AI6:AI12) -> #DIV/0! | AJ13: =SUM(AJ6:AJ12) -> #DIV/0! | AL13: =SUM(AL6:AL12) -> #DIV/0! | AM13: =SUM(AM6:AM12) -> #DIV/0! | AN13: =SUM(AN6:AN12) -> #DIV/0! | AO13: =SUM(AO6:AO12) -> #DIV/0! | AQ13: =SUM(AQ6:AQ12) -> #DIV/0! | AR13: =SUM(AR6:AR12) -> #DIV/0! | AS13: =SUM(AS6:AS12) -> #DIV/0! | AT13: =SUM(AT6:AT12) -> #DIV/0! | AV13: =SUM(AV6:AV12) -> #DIV/0! | AW13: =SUM(AW6:AW12) -> #DIV/0! | AX13: =SUM(AX6:AX12) -> #DIV/0! | AY13: =SUM(AY6:AY12) -> #DIV/0! | BA13: =SUM(BA6:BA12) -> #DIV/0! | BB13: =SUM(BB6:BB12) -> #DIV/0! | BC13: =SUM(BC6:BC12) -> #DIV/0! | BD13: =SUM(BD6:BD12) -> #DIV/0!
I14: =SUM(I6:I13) -> 49.771059 | K14: =SUM('RECAP PDV'!$K$6:$K$341)/I14 -> 3781.8092 | L14: 3000 | M14: =+K14/L14 -> 1.2606031 | N14: =SUM('UC GPS'!$N$3:$O$102)/1000/I14 -> 3164.0067 | O14: 5000 | P14: =+N14/O14 -> 0.63280133 | R14: =#REF! -> #REF! | T14: =(PREMIUM!P16+PREMIUM!R16)/I14 -> 31.644896 | U14: 24 | V14: =+T14/U14 -> 1.3185373 | W14: =SUM(CARTES!N3:N121)/I14 -> 20.232642 | X14: 20 | Y14: =+W14/X14 -> 1.0116321

Sheet OBJECTIFS
H1: Excédent collecte | I1: UC ass vie | J1: nps | K1: Premium | L1: VB cartes inf plat | P1: Excédent collecte | Q1: UC ass vie | R1: nps | S1: Premium | T1: PNB
H2: ASVie | P2: ASVie
F3: etp | H3: / etp | I3: / etp | J3: / etp | K3: / etp | L3: / etp
F4: juin
C5: NO GROUPE | D5: groupe | Q5: GPS
C6: 50 | D6: AUBE HAUTE MARNE | F6: 3.9624339 | H6: 3000 | I6: 5000 | J6: =+R6/$F6 -> 0 | K6: 24 | L6: 20 | P6: =$P$14*(P17/$P$24) -> 23598.199 | Q6: =SUMIF('UC GPS'!H:H,C6,'UC GPS'!P:P)/1000 -> 0 | S6: 308
C7: 262 | D7: BAS-RHIN | F7: 13.411641 | H7: 3000 | I7: 5000 | J7: =+R7/$F7 -> 0 | K7: 24 | L7: 20 | P7: =$P$14*(P18/$P$24) -> 51674.968 | Q7: =SUMIF('UC GPS'!H:H,C7,'UC GPS'!P:P)/1000 -> 0 | S7: 673
C8: 264 | D8: HAUT-RHIN | F8: 6.8432211 | H8: 3000 | I8: 5000 | J8: =+R8/$F8 -> 0 | K8: 24 | L8: 20 | P8: =$P$14*(P19/$P$24) -> 30273.085 | Q8: =SUMIF('UC GPS'!H:H,C8,'UC GPS'!P:P)/1000 -> 0 | S8: 395
C9: 30 | D9: MARNE-ARDENNES | F9: 6.6333474 | H9: 3000 | I9: 5000 | J9: =+R9/$F9 -> 0 | K9: 24 | L9: 20 | P9: =$P$14*(P20/$P$24) -> 42225.831 | Q9: =SUMIF('UC GPS'!H:H,C9,'UC GPS'!P:P)/1000 -> 0 | S9: 550
C10: 110 | D10: MEURTHE ET MOSELLE MEUSE | F10: 7.814584 | H10: 3000 | I10: 5000 | J10: =+R10/$F10 -> 0 | K10: 24 | L10: 20 | P10: =$P$14*(P21/$P$24) -> 46009.049 | Q10: =SUMIF('UC GPS'!H:H,C10,'UC GPS'!P:P)/1000 -> 0 | S10: 600
C11: 160 | D11: MOSELLE | F11: 9.2943615 | H11: 3000 | I11: 5000 | J11: =+R11/$F11 -> 0 | K11: 24 | L11: 20 | P11: =$P$14*(P22/$P$24) -> 51594.107 | Q11: =SUMIF('UC GPS'!H:H,C11,'UC GPS'!P:P)/1000 -> 0 | S11: 673
C12: 80 | D12: VOSGES | F12: 3.2746032 | H12: 3000 | I12: 5000 | J12: =+R12/$F12 -> 0 | K12: 24 | L12: 20 | P12: =$P$14*(P23/$P$24) -> 24624.762 | Q12: =SUMIF('UC GPS'!H:H,C12,'UC GPS'!P:P)/1000 -> 0 | S12: 321
P14: 270000 | Q14: =SUM(Q6:Q13) -> 0 | S14: 3520 | T14: =SUM(T6:T13) -> 0
P16: obj assvie bdd | S16: repartition selon
L17: AUBE HAUTE MARNE | M17: 50 | P17: 14421.122 | S17: obj AssVie BDD
L18: BAS-RHIN | M18: 262 | P18: 31579.147
L19: HAUT-RHIN | M19: 264 | P19: 18500.219
L20: MARNE-ARDENNES | M20: 30 | P20: 25804.674
L21: MEURTHE ET MOSELLE MEUSE | M21: 110 | P21: 28116.641
L22: MOSELLE | M22: 160 | P22: 31529.732
L23: VOSGES | M23: 80 | P23: 15048.465
P24: =SUM(P17:P23) -> 165000

Sheet ETP
B8: au 30/11/2019
B10: eds | C10: directions régionales | D10: ETP MOYEN | I10: Arrêté | J10: Saisonnalité
B11: 50 | C11: AUBE HAUTE-MARNE | D11: 3.900458 | I11: 43496 | J11: =1/12 -> 0.083333333
B12: 262 | C12: BAS-RHIN | D12: 12.312058 | I12: 43524 | J12: =+J11+$J$11 -> 0.16666667
B13: 264 | C13: HAUT-RHIN | D13: 6.2205584 | I13: 43555 | J13: =+J12+$J$11 -> 0.25
B14: 30 | C14: MARNE ARDENNES | D14: 6.6887788 | I14: 43585 | J14: =+J13+$J$11 -> 0.33333333
B15: 110 | C15: MEURTHE ET MOSELLE MEUSE | D15: 7.8007975 | I15: 43616 | J15: =+J14+$J$11 -> 0.41666667
B16: 160 | C16: MOSELLE | D16: 9.1587397 | I16: 43646 | J16: =+J15+$J$11 -> 0.5
B17: 80 | C17: VOSGES | D17: 3.6896686 | I17: 43677 | J17: =+J16+$J$11 -> 0.58333333
C18: CE GEE | D18: 49.771059 | I18: 43708 | J18: =+J17+$J$11 -> 0.66666667
I19: 43738 | J19: =+J18+$J$11 -> 0.75
I20: 43769 | J20: =+J19+$J$11 -> 0.83333333
I21: 43799 | J21: =+J20+$J$11 -> 0.91666667
I22: 43830 | J22: =+J21+$J$11 -> 1

Sheet COLLECTE
B4: DOM Idnt Extr Eds Niv4 | C4: DOM Desg Cour Eds Niv4 | D4: Numero D'Entite Titulaire | E4: Reference Du Produit | F4: Code Comm Niv1 | G4: Libl Comm Niv1 | H4: Excédent en montant
B5: 6 | C5: STRASBOURG NEUDORF | D5: 65210253 | E5: PREMI204163 | F5: NATV_PREMI | G5: MILLEVIE Premium | H5: 60000
B6: 6 | C6: STRASBOURG NEUDORF | D6: 90176256 | E6: R119286502 | F6: C852 | G6: NUANCES | H6: 207658
B7: 6 | C7: STRASBOURG NEUDORF | D7: 90183025 | E7: C985651180 | F7: C852 | G7: NUANCES | H7: 4200
B8: 6 | C8: STRASBOURG NEUDORF | D8: 90394624 | E8: E118631199 | F8: C852 | G8: NUANCES | H8: -2000
B9: 6 | C9: STRASBOURG NEUDORF | D9: 90394624 | E9: E118631199 | F9: C852 | G9: NUANCES | H9: -2038.6
B10: 6 | C10: STRASBOURG NEUDORF | D10: 90420202 | E10: H643057192 | F10: C852 | G10: NUANCES | H10: -20000
B11: 6 | C11: STRASBOURG NEUDORF | D11: 90428064 | E11: K643057194 | F11: C852 | G11: NUANCES | H11: -20000
B12: 6 | C12: STRASBOURG NEUDORF | D12: 90553906 | E12: N985872427 | F12: C852 | G12: NUANCES | H12: 600
B13: 6 | C13: STRASBOURG NEUDORF | D13: 90592196 | E13: M950166812 | F13: C949 | G13: PRE (POINT RETRAITE ECUREUIL) | H13: 640.29
B14: 6 | C14: STRASBOURG NEUDORF | D14: 90593658 | E14: R418153010 | F14: C418 | G14: AIKIDO | H14: 63000
B15: 6 | C15: STRASBOURG NEUDORF | D15: 90607952 | E15: B119010926 | F15: C852 | G15: NUANCES | H15: -25000
B16: 6 | C16: STRASBOURG NEUDORF | D16: 90607952 | E16: INFIN040717 | F16: NATV_INFIN | G16: MILLEVIE Infinie | H16: 100000
... B11516: 88716 | C11516: XERTIGNY | D11516: 13267964 | E11516: C642190754 | F11516: C852 | G11516: NUANCES | H11516: 300

Sheet UC GPS
B2: NumeroSemaine | C2: Direction | D2: Direction commerciale | E2: Territoire | F2: Agence | G2: PV | H2: CODE_Structure | I2: Type_Structure | J2: Code_Agent | K2: Denomination | L2: METIER | M2: PRODUIT | N2: CUMUL | V2: Extraction envoyée par Damien Chenet
B3: 48 | C3: NULL | D3: AUBE HAUTE MARNE | E3: NULL | F3: NULL | G3: NULL | H3: 50 | I3: GR | J3: a0050456 | K3: PASCAL TOMTAS | L3: CAGP | M3: CA UC ASS VIE sur flux et arbitrage sur stock (en €) | N3: 2716747 | V3: colonne code structure : indiquer le code structure de la direction régionale pour le type structure=PV
B4: 48 | C4: NULL | D4: MARNE-ARDENNES | E4: NULL | F4: NULL | G4: NULL | H4: 30 | I4: DE | J4: a0051017 | K4: SABRINA DEWAELE | L4: CAGP | M4: CA UC ASS VIE sur flux et arbitrage sur stock (en €) | N4: 2768697
B5: 48 | C5: NULL | D5: MARNE-ARDENNES | E5: NULL | F5: NULL | G5: NULL | H5: 30 | I5: DE | J5: a0051038 | K5: STEPHANE LEBLOND | L5: CAGP-junior | M5: CA UC ASS VIE sur flux et arbitrage sur stock (en €) | N5: 5045346 | V5: Métier : CAGP CAGP junior DIRCO Patrimonial
B6: 48 | C6: NULL | D6: AUBE HAUTE MARNE | E6: NULL | F6: NULL | G6: NULL | H6: 50 | I6: GR | J6: a0051129 | K6: BRUNO RAIMOND | L6: DIRCO patrimonial | M6: CA UC ASS VIE sur flux et arbitrage sur stock (en €) | N6: 4122706 | V6: Produit : CA UC ASS VIE sur flux et arbitrage sur stock (en €)
B7: 48 | C7: NULL | D7: AUBE HAUTE MARNE | E7: NULL | F7: NULL | G7: NULL | H7: 50 | I7: GR | J7: a0051331 | K7: GUILLAUME PAILLEY | L7: CAGP-junior | M7: CA UC ASS VIE sur flux et arbitrage sur stock (en €) | N7: 3545905
B8: 48 | C8: NULL | D8: AUBE HAUTE MARNE | E8: NULL | F8: NULL | G8: NULL | H8: 50 | I8: GR | J8: a5130470 | K8: JEAN-PIERRE SCHALLER | L8: CAGP | M8: CA UC ASS VIE sur flux et arbitrage sur stock (en €) | N8: 3572349
B9: 48 | C9: NULL | D9: MARNE-ARDENNES | E9: NULL | F9: NULL | G9: NULL | H9: 30 | I9: DE | J9: a5130722 | K9: STEPHANE HERMENT | L9: CAGP | M9: CA UC ASS VIE sur flux et arbitrage sur stock (en €) | N9: 1927877
B10: 48 | C10: NULL | D10: VOSGES | E10: NULL | F10: NULL | G10: NULL | H10: 80 | I10: GR | J10: a5700024 | K10: OLIVIER ANTOINE | L10: CAGP-junior | M10: CA UC ASS VIE sur flux et arbitrage sur stock (en €) | N10: 971080
B11: 48 | C11: NULL | D11: VOSGES | E11: TERRITOIRE SAINT DIE | F11: AGENCE VAGNEY | G11: NULL | H11: 80 | I11: AG | J11: a5700024 | K11: OLIVIER ANTOINE | L11: CAGP-junior | M11: CA UC ASS VIE sur flux et arbitrage sur stock (en €) | N11: 10259
B12: 48 | C12: NULL | D12: MEURTHE ET MOSELLE MEUSE | E12: NULL | F12: NULL | G12: NULL | H12: 110 | I12: DE | J12: a5700034 | K12: JULIEN ARNOULD | L12: CAGP | M12: CA UC ASS VIE sur flux et arbitrage sur stock (en €) | N12: 3660382
B13: 48 | C13: NULL | D13: MOSELLE | E13: NULL | F13: NULL | G13: NULL | H13: 160 | I13: GR | J13: a5700155 | K13: AURELIE BOILLAT | L13: CAGP | M13: CA UC ASS VIE sur flux et arbitrage sur stock (en €) | N13: 2466049
B14: 48 | C14: NULL | D14: MOSELLE | E14: NULL | F14: NULL | G14: NULL | H14: 160 | I14: GR | J14: a5700398 | K14: THIERRY DORGET | L14: DIRCO patrimonial | M14: CA UC ASS VIE sur flux et arbitrage sur stock (en €) | N14: 395000
B15: 48 | C15: NULL | D15: MOSELLE | E15: NULL | F15: NULL | G15: NULL | H15: 160 | I15: GR | J15: a5700401 | K15: NELSON DOS SANTOS | L15: CAGP | M15: CA UC ASS VIE sur flux et arbitrage sur stock (en €) | N15: 5657479
B16: 48 | C16: NULL | D16: MEURTHE ET MOSELLE MEUSE | E16: NULL | F16: NULL | G16: NULL | H16: 110 | I16: DE | J16: a5700414 | K16: RICHARD DUDZIC | L16: DIRCO patrimonial | M16: CA UC ASS VIE sur flux et arbitrage sur stock (en €) | N16: 259500
B17: 48 | C17: NULL | D17: MEURTHE ET MOSELLE MEUSE | E17: NULL | F17: NULL | G17: NULL | H17: 110 | I17: DE | J17: a5700480 | K17: FRANCE FORIGNON | L17: CAGP | M17: CA UC ASS VIE sur flux et arbitrage sur stock (en €) | N17: 1460336
B18: 48 | C18: NULL | D18: MOSELLE | E18: NULL | F18: NULL | G18: NULL | H18: 160 | I18: GR | J18: a5700509 | K18: MURIEL FURNO | L18: CAGP | M18: CA UC ASS VIE sur flux et arbitrage sur stock (en €) | N18: 5246237
... B79: 48 | C79: NULL | D79: BAS-RHIN | E79: NULL | F79: NULL | G79: NULL | H79: 262 | I79: GR | J79: a6706117 | K79: LIONEL STEINHILBER | L79: CAGP | M79: CA UC ASS VIE sur flux et arbitrage sur stock (en €) | N79: 1327116

Sheet PREMIUM
C1: Copier le tableau en C5
D5: Nb de relations au 31/12/2018 | H5: Nb de relations au 30/11/2019 | L5: Variation nette annuelle en % | M5: Variation nette annuelle en nb | N5: Variation nette annuelle en % | O5: Variation nette annuelle en nb | P5: Variation nette annuelle en % | Q5: Variation nette annuelle en nb | R5: Variation nette annuelle en % | S5: Variation nette annuelle en nb
C6: REGION | D6: PREMIUM | E6: PREM_HDG | F6: PREM_GP | G6: PREM_BQP | H6: PREMIUM | I6: PREM_HDG | J6: PREM_GP | K6: PREM_BQP | L6: PREMIUM | N6: PREM_HDG | P6: PREM_GP | R6: PREM_BQP
A7: 50 | B7: Aube Haute Marne | C7: AUBE HAUTE MARNE | D7: 10189 | E7: 7870 | F7: 2252 | G7: 67 | H7: 10474 | I7: 8050 | J7: 2350 | K7: 74 | L7: 285 | M7: 0.027971342 | N7: 180 | O7: 0.022871665 | P7: 98 | Q7: 0.043516874 | R7: 7 | S7: 0.10447761
A8: 262 | B8: Bas-Rhin | C8: BAS RHIN | D8: 21646 | E8: 16417 | F8: 5032 | G8: 197 | H8: 22320 | I8: 16781 | J8: 5325 | K8: 214 | L8: 674 | M8: 0.031137393 | N8: 364 | O8: 0.022172139 | P8: 293 | Q8: 0.058227345 | R8: 17 | S8: 0.086294416
A9: 264 | B9: Haut-Rhin | C9: HAUT RHIN | D9: 13287 | E9: 10011 | F9: 3134 | G9: 142 | H9: 13699 | I9: 10305 | J9: 3231 | K9: 163 | L9: 412 | M9: 0.031007752 | N9: 294 | O9: 0.029367696 | P9: 97 | Q9: 0.030950862 | R9: 21 | S9: 0.14788732
A10: 30 | B10: Marne Ardennes | C10: MARNE ARDENNES | D10: 19332 | E10: 14505 | F10: 4649 | G10: 178 | H10: 19719 | I10: 14691 | J10: 4832 | K10: 196 | L10: 387 | M10: 0.020018622 | N10: 186 | O10: 0.012823164 | P10: 183 | Q10: 0.039363304 | R10: 18 | S10: 0.1011236
A11: 110 | B11: Meurthe et Moselle Meuse | C11: MEURTHE ET MOSELLE MEUSE | D11: 20268 | E11: 15389 | F11: 4754 | G11: 125 | H11: 20682 | I11: 15564 | J11: 4966 | K11: 152 | L11: 414 | M11: 0.020426288 | N11: 175 | O11: 0.011371759 | P11: 212 | Q11: 0.044594026 | R11: 27 | S11: 0.216
A12: 160 | B12: Moselle | C12: MOSELLE | D12: 23276 | E12: 17686 | F12: 5443 | G12: 147 | H12: 23893 | I12: 17974 | J12: 5742 | K12: 177 | L12: 617 | M12: 0.026507991 | N12: 288 | O12: 0.016284066 | P12: 299 | Q12: 0.054932941 | R12: 30 | S12: 0.20408163
A13: 80 | B13: Vosges | C13: VOSGES | D13: 11197 | E13: 8571 | F13: 2564 | G13: 62 | H13: 11380 | I13: 8592 | J13: 2721 | K13: 67 | L13: 183 | M13: 0.016343663 | N13: 21 | O13: 0.0024501225 | P13: 157 | Q13: 0.061232449 | R13: 5 | S13: 0.080645161
C14: MULTIMEDIA | D14: 867 | E14: 713 | F14: 150 | G14: 4 | H14: 1224 | I14: 986 | J14: 232 | K14: 6 | L14: 357 | M14: 0.41176471 | N14: 273 | O14: 0.3828892 | P14: 82 | Q14: 0.54666667 | R14: 2 | S14: 0.5
C15: Hors région | D15: 84 | E15: 26 | F15: 33 | G15: 25 | H15: 152 | I15: 67 | J15: 57 | K15: 28 | L15: 68 | M15: 0.80952381 | N15: 41 | O15: 1.5769231 | P15: 24 | Q15: 0.72727273 | R15: 3 | S15: 0.12
C16: Total CEGEE | D16: 120146 | E16: 91188 | F16: 28011 | G16: 947 | H16: 123543 | I16: 93010 | J16: 29456 | K16: 1077 | L16: 3397 | M16: 0.028273933 | N16: 1822 | O16: 0.019980699 | P16: 1445 | Q16: 0.051586877 | R16: 130 | S16: 0.13727561

Sheet CARTES
S1: GPS
B2: NumeroSemaine | C2: Direction | D2: Direction commerciale | E2: Territoire | F2: Agence | G2: PV | H2: CODE_Structure | I2: Type_Structure | J2: Code_Agent | K2: Denomination | L2: METIER | M2: PRODUIT | N2: CUMUL
B3: 48 | C3: NULL | D3: AUBE HAUTE MARNE | E3: NULL | F3: NULL | G3: NULL | H3: 50 | I3: GR | J3: a0050456 | K3: PASCAL TOMTAS | L3: CAGP | M3: Cartes Infinite et Platinum | N3: 18 | S3: CAGP
B4: 48 | C4: NULL | D4: MARNE-ARDENNES | E4: NULL | F4: NULL | G4: NULL | H4: 30 | I4: DE | J4: a0051017 | K4: SABRINA DEWAELE | L4: CAGP | M4: Cartes Infinite et Platinum | N4: 15 | S4: DIRCO patrimonial
B5: 48 | C5: NULL | D5: MARNE-ARDENNES | E5: NULL | F5: NULL | G5: NULL | H5: 30 | I5: GR | J5: a0051017 | K5: SABRINA DEWAELE | L5: CAGP | M5: Cartes Infinite et Platinum | N5: 2 | S5: CAGP-junior
B6: 48 | C6: NULL | D6: MARNE-ARDENNES | E6: NULL | F6: NULL | G6: NULL | H6: 30 | I6: DE | J6: a0051038 | K6: STEPHANE LEBLOND | L6: CAGP-junior | M6: Cartes Infinite et Platinum | N6: 12
B7: 48 | C7: NULL | D7: MARNE-ARDENNES | E7: NULL | F7: NULL | G7: NULL | H7: 30 | I7: GR | J7: a0051038 | K7: STEPHANE LEBLOND | L7: CAGP-junior | M7: Cartes Infinite et Platinum | N7: 7
B8: 48 | C8: NULL | D8: AUBE HAUTE MARNE | E8: NULL | F8: NULL | G8: NULL | H8: 50 | I8: GR | J8: a0051129 | K8: BRUNO RAIMOND | L8: DIRCO patrimonial | M8: Cartes Infinite et Platinum | N8: 6
B9: 48 | C9: NULL | D9: AUBE HAUTE MARNE | E9: NULL | F9: NULL | G9: NULL | H9: 50 | I9: GR | J9: a0051331 | K9: GUILLAUME PAILLEY | L9: CAGP-junior | M9: Cartes Infinite et Platinum | N9: 39
B10: 48 | C10: NULL | D10: AUBE HAUTE MARNE | E10: NULL | F10: NULL | G10: NULL | H10: 50 | I10: GR | J10: a5130470 | K10: JEAN-PIERRE SCHALLER | L10: CAGP | M10: Cartes Infinite et Platinum | N10: 9
B11: 48 | C11: NULL | D11: MARNE-ARDENNES | E11: NULL | F11: NULL | G11: NULL | H11: 30 | I11: DE | J11: a5130722 | K11: STEPHANE HERMENT | L11: CAGP | M11: Cartes Infinite et Platinum | N11: 19
B12: 48 | C12: NULL | D12: MARNE-ARDENNES | E12: NULL | F12: NULL | G12: NULL | H12: 30 | I12: GR | J12: a5130722 | K12: STEPHANE HERMENT | L12: CAGP | M12: Cartes Infinite et Platinum | N12: 1
B13: 48 | C13: NULL | D13: VOSGES | E13: TERRITOIRE SAINT DIE | F13: AGENCE VAGNEY | G13: NULL | H13: 80 | I13: AG | J13: a5700024 | K13: OLIVIER ANTOINE | L13: CAGP-junior | M13: Cartes Infinite et Platinum | N13: 1
B14: 48 | C14: NULL | D14: MEURTHE ET MOSELLE MEUSE | E14: NULL | F14: NULL | G14: NULL | H14: 110 | I14: DE | J14: a5700034 | K14: JULIEN ARNOULD | L14: CAGP | M14: Cartes Infinite et Platinum | N14: 27
B15: 48 | C15: NULL | D15: MOSELLE | E15: NULL | F15: NULL | G15: NULL | H15: 160 | I15: GR | J15: a5700155 | K15: AURELIE BOILLAT | L15: CAGP | M15: Cartes Infinite et Platinum | N15: 31
B16: 48 | C16: NULL | D16: MOSELLE | E16: NULL | F16: NULL | G16: NULL | H16: 160 | I16: GR | J16: a5700401 | K16: NELSON DOS SANTOS | L16: CAGP | M16: Cartes Infinite et Platinum | N16: 26
B17: 48 | C17: NULL | D17: MOSELLE | E17: NULL | F17: NULL | G17: NULL | H17: 160 | I17: GR | J17: a5700509 | K17: MURIEL FURNO | L17: CAGP | M17: Cartes Infinite et Platinum | N17: 21
... B77: 48 | C77: NULL | D77: BAS-RHIN | E77: NULL | F77: NULL | G77: NULL | H77: 262 | I77: GR | J77: a6706117 | K77: LIONEL STEINHILBER | L77: CAGP | M77: Cartes Infinite et Platinum | N77: 11

Sheet PV SUCCESSION
A1: Accueil | D1: BAROMETRE BDD - AGENCES SUCCESSION
D2: PV PART SUR OBJECTIFS
D3: =+Accueil!G8 -> 43799
D7: Taux de recyclage des dossiers VIP sans part hors succession | G7: Délai moyen : taux mens de dénouement des dossiers entrés en M-3 (hors Ass Vie) Métier GTCS | J7: Délai moyen : taux mens de dénouement des dossiers entrés en M-3 (hors Ass Vie) Métier GS | M7: Prise des appels (SVI) taux collectif agence succession | P7: Productivité moyenne GTCS ("unités"/jour) | S7: Argent frais en K€ | V7: Nouveaux clients | Y7: Nb de procédures en retard en fin de mois sur successions "NONAFF" | AB7: NPS | AE7: Taux de recyclage métier GTCS
E8: Taux d'atteinte saisonalisé | F8: =VLOOKUP(D3,ETP!$I$11:$J$22,2,FALSE) -> 0.91666667 | H8: Taux d'atteinte saisonalisé | I8: =+F8 -> 0.91666667 | K8: Taux d'atteinte saisonalisé | L8: =+I8 -> 0.91666667 | N8: Taux d'atteinte saisonalisé | O8: =+F8 -> 0.91666667 | Q8: Taux d'atteinte saisonalisé | R8: =+F8 -> 0.91666667 | T8: Taux d'atteinte saisonalisé | U8: =+I8 -> 0.91666667 | W8: Taux d'atteinte saisonalisé | X8: =+O8 -> 0.91666667 | Z8: Taux d'atteinte saisonalisé | AA8: =+R8 -> 0.91666667
B9: Agence succession | D9: Réal | E9: Obj | F9: % | G9: Réal | H9: Obj | I9: % | J9: Réal | K9: Obj | L9: % | M9: Réal | N9: Obj | O9: % | P9: Réal | Q9: Obj | R9: % | S9: Réal | T9: Obj | U9: % | V9: Réal | W9: Obj | X9: % | Y9: Réal | Z9: Obj | AA9: % | AC9: Réal | AF9: Réal
B10: Strasbourg | D10: =+'ACT COM'!N35 -> 0.64084082 | E10: 0.6 | F10: =+D10/E10 -> 1.068068 | G10: =+'TDB GEE SUCCESSION'!P35 -> 0.47985981 | H10: 0.54 | I10: =+G10/H10 -> 0.88862927 | M10: =+'TDB GEE SUCCESSION'!P56 -> 0.85790588 | N10: 0.8 | O10: =+M10/N10 -> 1.0723823 | P10: =+'TDB GEE SUCCESSION'!P41 -> 63.5709 | Q10: 45 | R10: =+P10/Q10 -> 1.4126867 | S10: =+'ACT COM'!J35/1000 -> 5691.585 | T10: 3000 | U10: =+S10/T10 -> 1.897195 | V10: =+'ACT COM'!K35 -> 54 | W10: 80 | X10: =+V10/W10 -> 0.675 | AC10: =+NPS!D3 -> -13 | AE10: =+'TDB GEE SUCCESSION'!S51 -> 0.5849 | AF10: 0.5 | AG10: =+AE10/AF10 -> 1.1698
B11: Reims | D11: =+'ACT COM'!N43 -> 0.60976983 | E11: 0.6 | F11: =+D11/E11 -> 1.016283 | G11: =+'TDB GEE SUCCESSION'!P33 -> 0.49545 | H11: 0.54 | I11: =+G11/H11 -> 0.9175 | J11: =+'TDB GEE SUCCESSION'!P34 -> 0.7183 | K11: 0.54 | L11: =+J11/K11 -> 1.3301852 | M11: =+'TDB GEE SUCCESSION'!P54 -> 0.77971014 | N11: 0.8 | O11: =+M11/N11 -> 0.97463768 | P11: =+'TDB GEE SUCCESSION'!P40 -> 64.3628 | Q11: 45 | R11: =+P11/Q11 -> 1.4302844 | S11: =+'ACT COM'!J43/1000 -> 8564.926 | T11: 3000 | U11: =+S11/T11 -> 2.8549753 | V11: =+'ACT COM'!K43 -> 61 | W11: 80 | X11: =+V11/W11 -> 0.7625 | Y11: =+'TDB GEE SUCCESSION'!S47 -> 2163 | Z11: max 500 | AA11: =IF(Y11<=500,1,0) -> 0 | AC11: =+NPS!D3 -> -13 | AE11: =+'TDB GEE SUCCESSION'!S50 -> 0.4555 | AF11: 0.5 | AG11: =+AE11/AF11 -> 0.911

Sheet ACT COM
C2: CHIFFRES PRECEDENTS
D3: Données au : | E3: 43794
C5: CAGPS Stg | D5: (depuis 12/2018) nb de dossiers | E5: montant successions | F5: montant recyclé | G5: successions dénouées brut | H5: Hors succession (droits,…) | I5: Suspens: part succession non dénouée si règlement partiel | J5: argent frais | K5: nb nouveaux clients | L5: nombre successions en instance | M5: montant successions en instance | N5: % recycl. en ôtant la part Hors succession | O5: % recyclage
C6: VA | D6: 204 | E6: 34047514 | F6: 14420351 | G6: 24068711 | H6: 2280938 | I6: 314086 | J6: 981493 | K6: 6 | L6: 67 | M6: 10292889 | N6: 0.67153587 | O6: 0.60705446
C7: DAS | D7: 219 | E7: 37740402 | F7: 12632175 | G7: 21309656 | H7: 1775724 | I7: 221400 | J7: 210391 | K7: 14 | L7: 85 | M7: 16652146 | N7: 0.65409212 | O7: 0.59901468
C8: CH | D8: 181 | E8: 32784456 | F8: 8931255 | G8: 16571796 | H8: 1648529 | I8: 0 | J8: 1242089 | K8: 7 | L8: 92 | M8: 16212660 | N8: 0.59847854 | O8: 0.53894309
C9: DES | D9: 245 | E9: 41088243 | F9: 12669231 | G9: 20977656 | H9: 1118350 | I9: 318233 | J9: 1895849 | K9: 6 | L9: 119 | M9: 20428820 | N9: 0.64833855 | O9: 0.61324225
C10: TM | D10: 222 | E10: 36083163 | F10: 6899117 | G10: 13137591 | H10: 265623 | I10: 460053 | J10: 139179 | K10: 3 | L10: 141 | M10: 23405625 | N10: 0.5558463 | O10: 0.54420006
C11: SD | D11: 217 | E11: 35542776 | F11: 9600377 | G11: 18091375 | H11: 1557177 | I11: 232618 | J11: 742848 | K11: 18 | L11: 101 | M11: 17684019 | N11: 0.5889231 | O11: 0.53757252
C13: Total | D13: 1288 | E13: 217286554 | F13: 65152506 | G13: 114156785 | H13: 8646341 | I13: 1546390 | J13: 5211849 | K13: 54 | L13: 605 | M13: 104676159 | N13: 0.62668301 | O13: 0.57856565
C15: CAGPS Reims | D15: (depuis 12/2018) nb de dossiers | E15: montant successions | F15: montant recyclé | G15: successions dénouées brut | H15: Hors succession (droits,…) | I15: Suspens: part succession non dénouée si règlement partiel | J15: argent frais | K15: nb nouveaux clients | L15: nombre successions en instance | M15: montant successions en instance | N15: % recycl. en ôtant la part Hors succession | O15: % recyclage
C16: MH | D16: 261 | E16: 46854026 | F16: 13799093 | G16: 21685507 | H16: 1523077 | I16: 893993 | J16: 765275 | K16: 21 | L16: 165 | M16: 26062512 | N16: 0.7161501 | O16: 0.6636887
C17: MF | D17: 239 | E17: 38684173 | F17: 14353001 | G17: 26650278 | H17: 923427 | I17: 1802492 | J17: 2971193 | K17: 9 | L17: 110 | M17: 13836387 | N17: 0.59993252 | O17: 0.57763702
C18: SLQ | D18: 310 | E18: 55982622 | F18: 22603559 | G18: 39455071 | H18: 1330798 | I18: 866280 | J18: 3678446 | K18: 14 | L18: 97 | M18: 17393831 | N18: 0.60667677 | O18: 0.58575453
C19: ALH | D19: 240 | E19: 44793871 | F19: 13238038 | G19: 29534925 | H19: 1173022 | I19: 2564525 | J19: 1040502 | K19: 16 | L19: 112 | M19: 17823471 | N19: 0.5131544 | O19: 0.49083581
C21: Total | D21: 1050 | E21: 186314692 | F21: 63993691 | G21: 117325781 | H21: 4950324 | I21: 6127290 | J21: 8455416 | K21: 60 | L21: 484 | M21: 75116201 | N21: 0.60230395 | O21: 0.57549064
C24: DERNIERS CHIFFRES
D25: Données au : | E25: 43801
C27: CAGPS Stg | D27: (depuis 12/2018) nb de dossiers | E27: montant successions | F27: montant recyclé | G27: successions dénouées brut | H27: Hors succession (droits,…) | I27: Suspens: part succession non dénouée si règlement partiel | J27: argent frais | K27: nb nouveaux clients | L27: nombre successions en instance | M27: montant successions en instance | N27: % recycl. en ôtant la part Hors succession | O27: % recyclage
C28: VA | D28: 207 | E28: 34374904 | F28: 14591394 | G28: 24549938 | H28: 2280938 | I28: 314086 | J28: 981493 | K28: 6 | L28: 67 | M28: 10139052 | N28: 0.6646072 | O28: 0.60205822
C29: DAS | D29: 224 | E29: 38714525 | F29: 13208335 | G29: 22054979 | H29: 1868986 | I29: 221400 | J29: 210391 | K29: 14 | L29: 86 | M29: 16880946 | N29: 0.66158799 | O29: 0.6049551
C30: CH | D30: 187 | E30: 34069210 | F30: 10183494 | G30: 18749421 | H30: 1749603 | I30: 1472157 | J30: 1262089 | K30: 7 | L30: 98 | M30: 16791946 | N30: 0.65582923 | O30: 0.58941589
C31: DES | D31: 249 | E31: 41600768 | F31: 13281474 | G31: 21969541 | H31: 1118683 | I31: 635830 | J31: 1895849 | K31: 6 | L31: 121 | M31: 20267057 | N31: 0.65700992 | O31: 0.62255807
C32: TM | D32: 227 | E32: 36729445 | F32: 7507644 | G32: 13920862 | H32: 514138 | I32: 555235 | J32: 139179 | K32: 3 | L32: 144 | M32: 23363818 | N32: 0.58418476 | O32: 0.56171282
C33: SD | D33: 221 | E33: 36196587 | F33: 9884962 | G33: 18917513 | H33: 1862811 | I33: 432105 | J33: 1202584 | K33: 18 | L33: 103 | M33: 17711179 | N33: 0.59467013 | O33: 0.53474405
C35: Total | D35: 1315 | E35: 221685439 | F35: 68657303 | G35: 120162254 | H35: 9395159 | I35: 3630813 | J35: 5691585 | K35: 54 | L35: 619 | M35: 105153998 | N35: 0.64084082 | O35: 0.58917407
C37: CAGPS Reims | D37: (depuis 12/2018) nb de dossiers | E37: montant successions | F37: montant recyclé | G37: successions dénouées brut | H37: Hors succession (droits,…) | I37: Suspens: part succession non dénouée si règlement partiel | J37: argent frais | K37: nb nouveaux clients | L37: nombre successions en instance | M37: montant successions en instance | N37: % recycl. en ôtant la part Hors succession | O37: % recyclage
C38: MH | D38: 268 | E38: 47766758 | F38: 14191462 | G38: 22537728 | H38: 1833607 | I38: 955528 | J38: 765275 | K38: 21 | L38: 167 | M38: 26184558 | N38: 0.71860623 | O38: 0.657554
C39: MF | D39: 239 | E39: 38684173 | F39: 14396132 | G39: 26789884 | H39: 928552 | I39: 1802492 | J39: 2971193 | K39: 9 | L39: 109 | M39: 13696781 | N39: 0.59837183 | O39: 0.57613584
C40: SLQ | D40: 317 | E40: 56972096 | F40: 22653100 | G40: 40002001 | H40: 1535376 | I40: 2079445 | J40: 3774698 | K40: 14 | L40: 113 | M40: 19049540 | N40: 0.62255718 | O40: 0.59735161
C41: ALH | D41: 241 | E41: 45077694 | F41: 13507811 | G41: 30038720 | H41: 1315961 | I41: 2732215 | J41: 1053760 | K41: 17 | L41: 111 | M41: 17771189 | N41: 0.51972021 | O41: 0.49467374
C43: Total | D43: 1065 | E43: 188500721 | F43: 64748505 | G43: 119368333 | H43: 5613496 | I43: 7569680 | J43: 8564926 | K43: 61 | L43: 500 | M43: 76702068 | N43: 0.60976983 | O43: 0.57915282
C46: EVOLUTION SUR LA PERIODE (= écart entre les 2 tableaux ci-dessus)
C48: CAGPS Stg | D48: (depuis 12/2018) nb de dossiers | E48: montant successions | F48: montant recyclé | G48: successions dénouées brut | H48: Hors succession (droits,…) | I48: Suspens: part succession non dénouée si règlement partiel | J48: argent frais | K48: nb nouveaux clients | L48: nombre successions en instance | M48: montant successions en instance | N48: % recycl. en ôtant la part Hors succession | O48: % recyclage
C49: VA | D49: 3 | E49: 327390 | F49: 171043 | G49: 481227 | H49: 0 | I49: 0 | J49: 0 | K49: 0 | L49: 0 | M49: -153837 | N49: 0.35543101 | O49: 0.35543101
C50: DAS | D50: 5 | E50: 974123 | F50: 576160 | G50: 745323 | H50: 93262 | I50: 0 | J50: 0 | K50: 0 | L50: 1 | M50: 228800 | N50: 0.88359831 | O50: 0.77303397
C51: CH | D51: 6 | E51: 1284754 | F51: 1252239 | G51: 2177625 | H51: 101074 | I51: 1472157 | J51: 20000 | K51: 0 | L51: 6 | M51: 579286 | N51: 2.0718918 | O51: 1.7750472
C52: DES | D52: 4 | E52: 512525 | F52: 612243 | G52: 991885 | H52: 333 | I52: 317597 | J52: 0 | K52: 0 | L52: 2 | M52: -161763 | N52: 0.90843306 | O52: 0.90798442
C53: TM | D53: 5 | E53: 646282 | F53: 608527 | G53: 783271 | H53: 248515 | I53: 95182 | J53: 0 | K53: 0 | L53: 3 | M53: -41807 | N53: 1.3843562 | O53: 0.88437252
C54: SD | D54: 4 | E54: 653811 | F54: 284585 | G54: 826138 | H54: 305634 | I54: 199487 | J54: 459736 | K54: 0 | L54: 2 | M54: 27160 | N54: 0.88651068 | O54: 0.45413635
C56: Total | D56: 27 | E56: 4398885 | F56: 3504797 | G56: 6005469 | H56: 748818 | I56: 2084423 | J56: 479736 | K56: 0 | L56: 14 | M56: 477839 | N56: 1.1048377 | O56: 0.89384236
C58: CAGPS Reims | D58: (depuis 12/2018) nb de dossiers | E58: montant successions | F58: montant recyclé | G58: successions dénouées brut | H58: Hors succession (droits,…) | I58: Suspens: part succession non dénouée si règlement partiel | J58: argent frais | K58: nb nouveaux clients | L58: nombre successions en instance | M58: montant successions en instance | N58: % recycl. en ôtant la part Hors succession | O58: % recyclage
C59: MH | D59: 7 | E59: 912732 | F59: 392369 | G59: 852221 | H59: 310530 | I59: 61535 | J59: 0 | K59: 0 | L59: 2 | M59: 122046 | N59: 0.81716984 | O59: 0.49623871
C60: MF | D60: 0 | E60: 0 | F60: 43131 | G60: 139606 | H60: 5125 | I60: 0 | J60: 0 | K60: 0 | L60: -1 | M60: -139606 | N60: 0.32072189 | O60: 0.30894804
C61: SLQ | D61: 7 | E61: 989474 | F61: 49541 | G61: 546930 | H61: 204578 | I61: 1213165 | J61: 96252 | K61: 0 | L61: 16 | M61: 1655709 | N61: -0.056890515 | O61: -0.074359648
C62: ALH | D62: 1 | E62: 283823 | F62: 269773 | G62: 503795 | H62: 142939 | I62: 167690 | J62: 13258 | K62: 1 | L62: -1 | M62: -52282 | N62: 1.3965864 | O62: 0.80264501
C64: Total | D64: 15 | E64: 2186029 | F64: 754814 | G64: 2042552 | H64: 663172 | I64: 1442390 | J64: 109510 | K64: 1 | L64: 16 | M64: 1585867 | N64: -11.979273 | O64: 1.2576838

Sheet TDB GEE SUCCESSION
C1: 43466 | D1: 43497 | E1: 43525 | F1: 43556 | G1: 43586 | H1: 43617 | I1: 43647 | J1: 43678 | K1: 43709 | L1: 43739 | M1: 43770 | N1: 43800 | P1: Cumul /moyenne
A3: Dossiers reçus | B3: Total ag. successions | C3: 1498 | D3: 1541 | E3: 1566 | F3: 1215 | G3: 1373 | H3: 1222 | I3: 1265 | J3: 1366 | K3: 1127 | L3: 1456 | M3: 1422 | P3: =SUM(C3:N3) -> 15051
B4: Agence Succession Reims | C4: 946 | D4: 1019 | E4: 1041 | F4: 795 | G4: 899 | H4: 824 | I4: 837 | J4: 963 | K4: 742 | L4: 1007 | M4: 969 | P4: =SUM(C4:N4) -> 10042
B5: dont > 75 K€ | C5: 117 | D5: 100 | E5: 118 | F5: 84 | G5: 105 | H5: 90 | I5: 66 | J5: 79 | K5: 70 | L5: 93 | M5: 71 | P5: =SUM(C5:N5) -> 993
B6: dont >10 K€ et < 75 K€ | C6: =+C4-C5-C7-C8 -> 266 | D6: =+D4-D5-D7-D8 -> 309 | E6: =+E4-E5-E7-E8 -> 299 | F6: =+F4-F5-F7-F8 -> 245 | G6: =+G4-G5-G7-G8 -> 247 | H6: =+H4-H5-H7-H8 -> 198 | I6: =+I4-I5-I7-I8 -> 228 | J6: =+J4-J5-J7-J8 -> 216 | ... M6: =+M4-M5-M7-M8 -> 251 | P6: =SUM(C6:N6) -> 2696
B7: dont < 10 K€ | C7: 545 | D7: 589 | E7: 608 | F7: 457 | G7: 537 | H7: 524 | I7: 530 | J7: 663 | K7: 465 | L7: 638 | M7: 617 | P7: =SUM(C7:N7) -> 6173
B8: dont dossiers Conjoints | C8: 18 | D8: 21 | E8: 16 | F8: 9 | G8: 10 | H8: 12 | I8: 13 | J8: 5 | K8: 15 | L8: 31 | M8: 30 | P8: =SUM(C8:N8) -> 180
B9: Agence Succession Stg | C9: 552 | D9: 522 | E9: 525 | F9: 420 | G9: 474 | H9: 398 | I9: 428 | J9: 403 | K9: 385 | L9: 449 | M9: 453 | P9: =SUM(C9:N9) -> 5009
B10: dont > 75 K€ | C10: 155 | D10: 138 | E10: 146 | F10: 109 | G10: 137 | H10: 109 | I10: 107 | J10: 103 | K10: 81 | L10: 95 | M10: 45 | P10: =SUM(C10:N10) -> 1225
B11: dont >10 K€ et < 75 K€ | C11: =+C9-C10-C12-C13 -> 359 | D11: =+D9-D10-D12-D13 -> 332 | E11: =+E9-E10-E12-E13 -> 339 | F11: =+F9-F10-F12-F13 -> 269 | G11: =+G9-G10-G12-G13 -> 301 | H11: =+H9-H10-H12-H13 -> 265 | I11: =+I9-I10-I12-I13 -> 293 | J11: =+J9-J10-J12-J13 -> 270 | ... M11: =+M9-M10-M12-M13 -> 365 | P11: =SUM(C11:N11) -> 3357
B12: dont dossiers Conjoints | C12: 6 | D12: 7 | E12: 12 | F12: 7 | G12: 10 | H12: 10 | I12: 2 | J12: 5 | K12: 6 | L12: 18 | M12: 9 | P12: =SUM(C12:N12) -> 92
B13: dont dossiers Non clients | C13: 32 | D13: 45 | E13: 28 | F13: 35 | G13: 26 | H13: 14 | I13: 26 | J13: 25 | K13: 37 | L13: 33 | M13: 34 | P13: =SUM(C13:N13) -> 335
A15: Arrêtés de comptes | B15: Dossiers "arrêtés" | C15: 1329 | D15: 1402 | E15: 1779 | F15: 1275 | G15: 1171 | H15: 1157 | I15: 1304 | J15: 1383 | K15: 1381 | L15: 1417 | M15: 1209 | P15: =SUM(C15:N15) -> 14807
B16: dont Ag. Succ. Reims | C16: 880 | D16: 974 | E16: 1308 | F16: 872 | G16: 665 | H16: 685 | I16: 844 | J16: 1051 | K16: 1049 | L16: 832 | M16: 862 | P16: =SUM(C16:N16) -> 10022
B17: dont Ag. Succ. Stg | C17: 449 | D17: 428 | E17: 471 | F17: 403 | G17: 506 | H17: 472 | I17: 460 | J17: 332 | K17: 332 | L17: 585 | M17: 347 | P17: =SUM(C17:N17) -> 4785
B18: Doss. non "arrêtés" (fin mois) | C18: 906 | D18: =+D19+D20 -> 1050 | E18: 831 | F18: 774 | G18: 974 | H18: 1043 | I18: 1000 | J18: 989 | K18: 733 | L18: 850 | M18: 981 | P18: =SUM(C18:N18) -> 10131
B19: dont Ag. Succ. Reims | C19: 466 | D19: =478+35 -> 513 | E19: 231 | F19: 161 | G19: 400 | H19: 552 | I19: 535 | J19: 456 | K19: 135 | L19: 379 | M19: 423 | P19: =SUM(C19:N19) -> 4251
B20: dont Ag. Succ. Stg | C20: 440 | D20: =496+41 -> 537 | E20: 600 | F20: 613 | G20: 574 | H20: 491 | I20: 465 | J20: 533 | K20: 598 | L20: 471 | M20: 558 | P20: =SUM(C20:N20) -> 5880
A22: Stock - Dossiers en cours | B22: Dossiers ouverts sous HJ | C22: 13999 | D22: 14005 | E22: 13720 | F22: 13446 | G22: 11895 | H22: 11930 | I22: 11817 | J22: 11622 | K22: 10975 | L22: 11039 | M22: 11318 | P22: =AVERAGE(C22:N22) -> 12342.364
B23: dont Ag. Succ. Reims | C23: =+C22-C24 -> 9318 | D23: =+D22-D24 -> 9275 | E23: =+E22-E24 -> 8940 | F23: =+F22-F24 -> 8693 | G23: =+G22-G24 -> 7148 | H23: =+H22-H24 -> 7207 | I23: =+I22-I24 -> 7208 | J23: =+J22-J24 -> 7246 | K23: =+K22-K24 -> 6634 | L23: 6703 | M23: =+M22-M24 -> 6887 | P23: =AVERAGE(C23:N23) -> 7750.8182
B24: dont Ag. Succ. Stg | C24: 4681 | D24: 4730 | E24: 4780 | F24: 4753 | G24: 4747 | H24: 4723 | I24: 4609 | J24: =4363+13 -> 4376 | K24: 4341 | L24: 4336 | M24: 4431 | P24: =AVERAGE(C24:N24) -> 4591.5455
B25: Clients décédés hors HJ avec solde non nul | C25: 2918 | D25: 2915 | E25: 2782 | F25: 2793 | G25: 2774 | H25: 2293 | I25: 2384 | J25: 2138 | K25: 2168 | L25: 1973 | M25: NC | P25: =AVERAGE(C25:N25) -> 2513.8
B26: Encours (M€) | C26: 235.268 | D26: 237.717 | E26: 234.728 | F26: 226.699 | G26: 226.162 | H26: 218.022 | I26: 215.584 | J26: 214.156 | K26: 204.653 | L26: 207.761 | M26: NC | P26: =AVERAGE(C26:N26) -> 222.075
A28: Dossiers clients clos | B28: Total ag. successions | C28: 1416 | D28: 1452 | E28: 1780 | F28: 1415 | G28: 2851 | H28: 1142 | I28: 1379 | J28: 1516 | K28: 1770 | L28: 1325 | M28: 1135 | P28: =SUM(C28:N28) -> 17181
B29: (dont) Agence Succession Reims | C29: 830 | D29: 1032 | E29: 1346 | F29: 1010 | G29: 2413 | H29: 758 | I29: 852 | J29: 920 | K29: 1375 | L29: 925 | M29: 812 | P29: =SUM(C29:N29) -> 12273
B30: (dont) Agence Succession Stg | C30: 586 | D30: 420 | E30: 434 | F30: 405 | G30: 438 | H30: 384 | I30: 527 | J30: 596 | K30: 395 | L30: 400 | M30: 323 | P30: =SUM(C30:N30) -> 4908
B31: reclôtures, déclôtures,… | C31: - | D31: =+(D22-C22)-(D3-D8-D12-D13-D28) -> -10 | E31: =+(E22-D22)-(E3-E8-E12-E13-E28) -> -15 | F31: =+(F22-E22)-(F3-F8-F12-F13-F28) -> -23 | G31: =+(G22-F22)-(G3-G8-G12-G13-G28) -> -27 | H31: =+(H22-G22)-(H3-H8-H12-H13-H28) -> -9 | I31: =+(I22-H22)-(I3-I8-I12-I13-I28) -> 42 | J31: =+(J22-I22)-(J3-J8-J12-J13-J28) -> -10 | K31: =+(K22-J22)-(K3-K8-K12-K13-K28) -> 54 | ... M31: =+(M22-L22)-(M3-M8-M12-M13-M28) -> 65 | P31: =SUM(C31:N31) -> 82
A33: Délais GTCS et GS | B33: Agence Succession Reims GTCS | C33: NC | D33: NC | E33: NC | F33: 0.4511 | G33: 0.5081 | H33: 0.5 | I33: 0.5569 | J33: 0.488 | K33: 0.48 | L33: 0.5371 | M33: 0.4424 | P33: =AVERAGE(C33:N33) -> 0.49545
B34: Agence Succession Reims GS | C34: NC | D34: NC | E34: NC | F34: 0.7273 | G34: 0.7501 | H34: 0.7452 | I34: 0.7306 | J34: 0.733 | K34: 0.6835 | L34: 0.714 | M34: 0.6627 | P34: =AVERAGE(C34:N34) -> 0.7183
B35: Agence Succession Stg GTCS | C35: NC | D35: NC | E35: NC | F35: 0.5164 | G35: 0.51041667 | H35: 0.4881 | I35: 0.49517685 | J35: 0.4421365 | K35: 0.47404844 | L35: 0.4393 | M35: 0.4733 | P35: =AVERAGE(C35:N35) -> 0.47985981
A37: Tarification | B37: Tarification nette TTC | C37: 155329 | D37: 239111 | E37: 323044 | F37: 244837 | G37: 214905 | H37: 200871 | I37: 202268 | J37: 229646 | K37: 173007 | L37: 172637 | M37: 229447 | P37: =SUM(C37:N37) -> 2385102
B38: Tar. Nette - HT | C38: =+C37/1.2 -> 129440.83 | D38: =+D37/1.2 -> 199259.17 | E38: =+E37/1.2 -> 269203.33 | F38: =+F37/1.2 -> 204030.83 | G38: =+G37/1.2 -> 179087.5 | H38: =+H37/1.2 -> 167392.5 | I38: =+I37/1.2 -> 168556.67 | J38: =+J37/1.2 -> 191371.67 | ... M38: =+M37/1.2 -> 191205.83 | P38: =SUM(C38:N38) -> 1987585
A40: Productivité GTCS (fin mois) | B40: Agence Succession Reims GTCS | C40: 58.953 | D40: 68.955 | E40: 65 | F40: 59 | G40: 60 | H40: 63 | I40: 65 | J40: 78 | K40: 70 | L40: 55.72 | M40: NC | P40: =AVERAGE(C40:N40) -> 64.3628
B41: Agence Succession Stg GTCS | C41: 51.343 | D41: 68.736 | E41: 69 | F41: 65 | G41: 67 | H41: 74 | I41: 55 | J41: 56 | K41: 65 | L41: 64.63 | M41: NC | P41: =AVERAGE(C41:N41) -> 63.5709
A43: MyFlow - nb demandes reçues | B43: Agence Succession Reims | C43: 912 | D43: NC | E43: NC | F43: NC | G43: NC | H43: NC | I43: NC | J43: NC | K43: NC | L43: NC | M43: NC | P43: =SUM(C43:N43) -> 912
B44: Agence Succession Stg | C44: 423 | D44: NC | E44: NC | F44: NC | G44: NC | H44: NC | I44: NC | J44: NC | K44: NC | L44: NC | M44: NC | P44: =SUM(C44:N44) -> 423
A46: Procédures restantes (fin mois) | B46: Agence Succession Reims | C46: 4657 | D46: =7144-D48 -> 4308 | E46: 4692 | F46: =8200-F48 -> 6108 | G46: =7928-G48 -> 5929 | H46: =8325-H48 -> 6417 | I46: 6566 | J46: 5668 | K46: 3657 | L46: 2887 | M46: 3128 | P46: =AVERAGE(C46:N46) -> 4910.6364 | R46: Procédures restantes (fin mois) | S46: 3128
B47: dont portef. GS | C47: 1852 | D47: =1920+99 -> 2019 | E47: 2451 | F47: 4068 | G47: 4311 | H47: =4531+83 -> 4614 | I47: 4801 | J47: 4425 | K47: 2952 | L47: 2165 | M47: =2148+15 -> 2163 | P47: =AVERAGE(C47:N47) -> 3256.4545 | S47: 2163
B48: Agence Succession Stg | C48: 2677 | D48: 2836 | E48: 1845 | F48: 2092 | G48: 1999 | H48: 1908 | I48: =1942+15 -> 1957 | J48: 2038 | K48: 2031 | L48: 1758 | M48: 2073 | P48: =AVERAGE(C48:N48) -> 2110.3636 | S48: 2073 | T48: Action reporter les derniers résultats connus
T49: en cellule S50 S51
A50: Recyclage calculé pour les GTCS (fin mois) | B50: Agence Succession Reims GTCS | C50: NC | D50: NC | E50: 0.4541 | F50: NC | G50: NC | H50: 0.4555 | I50: NC | J50: NC | K50: NC | L50: NC | M50: NC | P50: - | R50: Recyclage calculé pour les GTCS (fin mois) | S50: 0.4555
B51: Agence Succession Stg GTCS | C51: NC | D51: NC | E51: 0.5794 | F51: NC | G51: NC | H51: 0.5849 | I51: NC | J51: NC | K51: NC | L51: NC | M51: NC | P51: - | S51: 0.5849
A53: SVI - Ag. Succ. Reims | B53: nombre | C53: 1093 | D53: 1118 | E53: 958 | F53: 763 | G53: 652 | H53: 680 | I53: 629 | J53: 540 | K53: 706 | L53: 680 | M53: 763 | P53: =SUM(C53:N53) -> 8582
B54: taux décroché | C54: =638/C53 -> 0.58371455 | D54: =631/D53 -> 0.56440072 | E54: =811/E53 -> 0.84655532 | F54: =653/F53 -> 0.85583224 | G54: =526/G53 -> 0.80674847 | H54: =550/H53 -> 0.80882353 | I54: =485/I53 -> 0.77106518 | J54: =410/J53 -> 0.75925926 | K54: =624/K53 -> 0.88385269 | L54: =561/L53 -> 0.825 | M54: =665/M53 -> 0.87155963 | P54: =AVERAGE(C54:N54) -> 0.77971014
A55: SVI Ag. Succ. Stg | B55: nombre | C55: 343 | D55: 389 | E55: 465 | F55: 455 | G55: 421 | H55: 402 | I55: 447 | J55: 376 | K55: 407 | L55: 444 | M55: 412 | P55: =SUM(C55:N55) -> 4561
B56: taux décroché | C56: =312/C55 -> 0.90962099 | D56: =360/D55 -> 0.92544987 | E56: =408/E55 -> 0.87741935 | F56: =354/F55 -> 0.77802198 | G56: =361/G55 -> 0.85748219 | H56: =332/H55 -> 0.82587065 | I56: =386/I55 -> 0.86353468 | J56: =314/J55 -> 0.83510638 | K56: =357/K55 -> 0.87714988 | L56: =400/L55 -> 0.9009009 | M56: =324/M55 -> 0.78640777 | P56: =AVERAGE(C56:N56) -> 0.85790588

Sheet NPS
B3: A SAISIR NPS CEGEE | D3: -13
