Workbook

Sheet Accueil
G8: 43799

Sheet PV GP
A1: Accueil | D1: BAROMETRE BDD - DIRECTIONS REGIONALES
D2: PV PART SUR OBJECTIFS
D3: =+Accueil!G8 -> 43799
D7: Excédents de collecte Assurance vie par ETP | G7: Chiffre d'affaire UC par ETP | J7: Evolution du nombre de clients Premium par ETP | M7: Ventes brutes Cartes Infinite et Platinum par ETP
E8: Taux d'atteinte saisonalisé | F8: =VLOOKUP(D3,ETP!$I$11:$J$22,2,FALSE) -> 0.91666667 | H8: Taux d'atteinte saisonalisé | I8: =+F8 -> 0.91666667 | K8: Taux d'atteinte saisonalisé | L8: =+F8 -> 0.91666667 | N8: Taux d'atteinte saisonalisé | O8: =+F8 -> 0.91666667
A9: eds | B9: Direction régionale | C9: ETP perf | D9: Réal | E9: Obj | F9: % | G9: Réal | H9: Obj | I9: % | J9: Réal | K9: Obj | L9: % | M9: Réal | N9: Obj | O9: %
A10: 50 | B10: Aube Haute Marne | C10: =VLOOKUP($A10,'RECAP DC'!$G$6:$Y$12,3,FALSE) -> 3.900458 | D10: =VLOOKUP($A10,'RECAP DC'!$G$6:$Y$12,5,FALSE) -> 6796.0278 | E10: =VLOOKUP($A10,'RECAP DC'!$G$6:$Y$12,6,FALSE) -> 3000 | F10: =VLOOKUP($A10,'RECAP DC'!$G$6:$Y$12,7,FALSE) -> 2.2653426 | G10: =VLOOKUP($A10,'RECAP DC'!$G$6:$Y$12,8,FALSE) -> 4486.5993 | H10: =VLOOKUP($A10,'RECAP DC'!$G$6:$Y$12,9,FALSE) -> 5000 | I10: =VLOOKUP($A10,'RECAP DC'!$G$6:$Y$12,10,FALSE) -> 0.89731985 | J10: =VLOOKUP($A10,'RECAP DC'!$G$6:$Y$12,14,FALSE) -> 26.919916 | K10: =VLOOKUP($A10,'RECAP DC'!$G$6:$Y$12,15,FALSE) -> 24 | L10: =VLOOKUP($A10,'RECAP DC'!$G$6:$Y$12,16,FALSE) -> 1.1216631 | M10: =VLOOKUP($A10,'RECAP DC'!$G$6:$Y$12,17,FALSE) -> 25.125255 | N10: =VLOOKUP($A10,'RECAP DC'!$G$6:$Y$12,18,FALSE) -> 20 | O10: =VLOOKUP($A10,'RECAP DC'!$G$6:$Y$12,19,FALSE) -> 1.2562627
A11: 262 | B11: Bas-Rhin | C11: =VLOOKUP(A11,'RECAP DC'!$G$6:$Y$12,3,FALSE) -> 12.312058 | D11: =VLOOKUP($A11,'RECAP DC'!$G$6:$Y$12,5,FALSE) -> 2594.759 | E11: =VLOOKUP($A11,'RECAP DC'!$G$6:$Y$12,6,FALSE) -> 3000 | F11: =VLOOKUP($A11,'RECAP DC'!$G$6:$Y$12,7,FALSE) -> 0.86491965 | G11: =VLOOKUP($A11,'RECAP DC'!$G$6:$Y$12,8,FALSE) -> 2551.3798 | H11: =VLOOKUP($A11,'RECAP DC'!$G$6:$Y$12,9,FALSE) -> 5000 | I11: =VLOOKUP($A11,'RECAP DC'!$G$6:$Y$12,10,FALSE) -> 0.51027596 | J11: =VLOOKUP($A11,'RECAP DC'!$G$6:$Y$12,14,FALSE) -> 25.178569 | K11: =VLOOKUP($A11,'RECAP DC'!$G$6:$Y$12,15,FALSE) -> 24 | L11: =VLOOKUP($A11,'RECAP DC'!$G$6:$Y$12,16,FALSE) -> 1.049107 | M11: =VLOOKUP($A11,'RECAP DC'!$G$6:$Y$12,17,FALSE) -> 13.726381 | N11: =VLOOKUP($A11,'RECAP DC'!$G$6:$Y$12,18,FALSE) -> 20 | O11: =VLOOKUP($A11,'RECAP DC'!$G$6:$Y$12,19,FALSE) -> 0.68631906
A12: 264 | B12: Haut-Rhin | C12: =VLOOKUP(A12,'RECAP DC'!$G$6:$Y$12,3,FALSE) -> 6.2205584 | D12: =VLOOKUP($A12,'RECAP DC'!$G$6:$Y$12,5,FALSE) -> 2581.7326 | E12: =VLOOKUP($A12,'RECAP DC'!$G$6:$Y$12,6,FALSE) -> 3000 | F12: =VLOOKUP($A12,'RECAP DC'!$G$6:$Y$12,7,FALSE) -> 0.86057752 | G12: =VLOOKUP($A12,'RECAP DC'!$G$6:$Y$12,8,FALSE) -> 1854.0622 | H12: =VLOOKUP($A12,'RECAP DC'!$G$6:$Y$12,9,FALSE) -> 5000 | I12: =VLOOKUP($A12,'RECAP DC'!$G$6:$Y$12,10,FALSE) -> 0.37081244 | J12: =VLOOKUP($A12,'RECAP DC'!$G$6:$Y$12,14,FALSE) -> 18.969358 | K12: =VLOOKUP($A12,'RECAP DC'!$G$6:$Y$12,15,FALSE) -> 24 | L12: =VLOOKUP($A12,'RECAP DC'!$G$6:$Y$12,16,FALSE) -> 0.79038993 | M12: =VLOOKUP($A12,'RECAP DC'!$G$6:$Y$12,17,FALSE) -> 17.040271 | N12: =VLOOKUP($A12,'RECAP DC'!$G$6:$Y$12,18,FALSE) -> 20 | O12: =VLOOKUP($A12,'RECAP DC'!$G$6:$Y$12,19,FALSE) -> 0.85201355
A13: 30 | B13: Marne-Ardennes | C13: =VLOOKUP(A13,'RECAP DC'!$G$6:$Y$12,3,FALSE) -> 6.6887788 | D13: =VLOOKUP($A13,'RECAP DC'!$G$6:$Y$12,5,FALSE) -> 2546.4049 | E13: =VLOOKUP($A13,'RECAP DC'!$G$6:$Y$12,6,FALSE) -> 3000 | F13: =VLOOKUP($A13,'RECAP DC'!$G$6:$Y$12,7,FALSE) -> 0.84880162 | G13: =VLOOKUP($A13,'RECAP DC'!$G$6:$Y$12,8,FALSE) -> 3341.0836 | H13: =VLOOKUP($A13,'RECAP DC'!$G$6:$Y$12,9,FALSE) -> 5000 | I13: =VLOOKUP($A13,'RECAP DC'!$G$6:$Y$12,10,FALSE) -> 0.66821672 | J13: =VLOOKUP($A13,'RECAP DC'!$G$6:$Y$12,14,FALSE) -> 30.050329 | K13: =VLOOKUP($A13,'RECAP DC'!$G$6:$Y$12,15,FALSE) -> 24 | L13: =VLOOKUP($A13,'RECAP DC'!$G$6:$Y$12,16,FALSE) -> 1.252097 | M13: =VLOOKUP($A13,'RECAP DC'!$G$6:$Y$12,17,FALSE) -> 22.724627 | N13: =VLOOKUP($A13,'RECAP DC'!$G$6:$Y$12,18,FALSE) -> 20 | O13: =VLOOKUP($A13,'RECAP DC'!$G$6:$Y$12,19,FALSE) -> 1.1362313
A14: 110 | B14: Meurthe et Moselle Meuse | C14: =VLOOKUP(A14,'RECAP DC'!$G$6:$Y$12,3,FALSE) -> 7.8007975 | D14: =VLOOKUP($A14,'RECAP DC'!$G$6:$Y$12,5,FALSE) -> 3723.4241 | E14: =VLOOKUP($A14,'RECAP DC'!$G$6:$Y$12,6,FALSE) -> 3000 | F14: =VLOOKUP($A14,'RECAP DC'!$G$6:$Y$12,7,FALSE) -> 1.2411414 | G14: =VLOOKUP($A14,'RECAP DC'!$G$6:$Y$12,8,FALSE) -> 3345.3296 | H14: =VLOOKUP($A14,'RECAP DC'!$G$6:$Y$12,9,FALSE) -> 5000 | I14: =VLOOKUP($A14,'RECAP DC'!$G$6:$Y$12,10,FALSE) -> 0.66906592 | J14: =VLOOKUP($A14,'RECAP DC'!$G$6:$Y$12,14,FALSE) -> 30.637893 | K14: =VLOOKUP($A14,'RECAP DC'!$G$6:$Y$12,15,FALSE) -> 24 | L14: =VLOOKUP($A14,'RECAP DC'!$G$6:$Y$12,16,FALSE) -> 1.2765789 | M14: =VLOOKUP($A14,'RECAP DC'!$G$6:$Y$12,17,FALSE) -> 23.074564 | N14: =VLOOKUP($A14,'RECAP DC'!$G$6:$Y$12,18,FALSE) -> 20 | O14: =VLOOKUP($A14,'RECAP DC'!$G$6:$Y$12,19,FALSE) -> 1.1537282
A15: 160 | B15: Moselle | C15: =VLOOKUP(A15,'RECAP DC'!$G$6:$Y$12,3,FALSE) -> 9.1587397 | D15: =VLOOKUP($A15,'RECAP DC'!$G$6:$Y$12,5,FALSE) -> 6156.5455 | E15: =VLOOKUP($A15,'RECAP DC'!$G$6:$Y$12,6,FALSE) -> 3000 | F15: =VLOOKUP($A15,'RECAP DC'!$G$6:$Y$12,7,FALSE) -> 2.0521818 | G15: =VLOOKUP($A15,'RECAP DC'!$G$6:$Y$12,8,FALSE) -> 4053.5978 | H15: =VLOOKUP($A15,'RECAP DC'!$G$6:$Y$12,9,FALSE) -> 5000 | I15: =VLOOKUP($A15,'RECAP DC'!$G$6:$Y$12,10,FALSE) -> 0.81071956 | J15: =VLOOKUP($A15,'RECAP DC'!$G$6:$Y$12,14,FALSE) -> 35.921973 | K15: =VLOOKUP($A15,'RECAP DC'!$G$6:$Y$12,15,FALSE) -> 24 | L15: =VLOOKUP($A15,'RECAP DC'!$G$6:$Y$12,16,FALSE) -> 1.4967489 | M15: =VLOOKUP($A15,'RECAP DC'!$G$6:$Y$12,17,FALSE) -> 22.492178 | N15: =VLOOKUP($A15,'RECAP DC'!$G$6:$Y$12,18,FALSE) -> 20 | O15: =VLOOKUP($A15,'RECAP DC'!$G$6:$Y$12,19,FALSE) -> 1.1246089
A16: 80 | B16: Vosges | C16: =VLOOKUP(A16,'RECAP DC'!$G$6:$Y$12,3,FALSE) -> 3.6896686 | D16: =VLOOKUP($A16,'RECAP DC'!$G$6:$Y$12,5,FALSE) -> 3058.8517 | E16: =VLOOKUP($A16,'RECAP DC'!$G$6:$Y$12,6,FALSE) -> 3000 | F16: =VLOOKUP($A16,'RECAP DC'!$G$6:$Y$12,7,FALSE) -> 1.0196172 | G16: =VLOOKUP($A16,'RECAP DC'!$G$6:$Y$12,8,FALSE) -> 3106.0451 | H16: =VLOOKUP($A16,'RECAP DC'!$G$6:$Y$12,9,FALSE) -> 5000 | I16: =VLOOKUP($A16,'RECAP DC'!$G$6:$Y$12,10,FALSE) -> 0.62120902 | J16: =VLOOKUP($A16,'RECAP DC'!$G$6:$Y$12,14,FALSE) -> 43.906383 | K16: =VLOOKUP($A16,'RECAP DC'!$G$6:$Y$12,15,FALSE) -> 24 | L16: =VLOOKUP($A16,'RECAP DC'!$G$6:$Y$12,16,FALSE) -> 1.8294326 | M16: =VLOOKUP($A16,'RECAP DC'!$G$6:$Y$12,17,FALSE) -> 26.018597 | N16: =VLOOKUP($A16,'RECAP DC'!$G$6:$Y$12,18,FALSE) -> 20 | O16: =VLOOKUP($A16,'RECAP DC'!$G$6:$Y$12,19,FALSE) -> 1.3009299
A17: Total CEGEE | C17: =+'RECAP DC'!I14 -> 49.771059 | D17: =+'RECAP DC'!K14 -> 3781.8092 | E17: =+'RECAP DC'!L14 -> 3000 | F17: =+'RECAP DC'!M14 -> 1.2606031 | G17: =+'RECAP DC'!N14 -> 3164.0067 | H17: =+'RECAP DC'!O14 -> 5000 | I17: =+'RECAP DC'!P14 -> 0.63280133 | J17: =+'RECAP DC'!T14 -> 31.644896 | K17: =+'RECAP DC'!U14 -> 24 | L17: =+'RECAP DC'!V14 -> 1.3185373 | M17: =+'RECAP DC'!W14 -> 20.232642 | N17: =+'RECAP DC'!X14 -> 20 | O17: =+'RECAP DC'!Y14 -> 1.0116321

Sheet RECAP PDV
G1: 1 | H1: 2 | I1: 3 | J1: 4
K3: Excédents de collecte ASV par ETP | N3: Chiffre d'affaire UC par ETP | Q3: Qualité NPS | T3: Evolution du nombre de clients Premium par ETP | W3: Ventes brutes Cartes Infinite et Platinum par ETP
L4: Taux d'atteinte saisonalisé | M4: x % | O4: Taux d'atteinte saisonalisé | P4: x % | R4: Taux d'atteinte saisonalisé | S4: x % | U4: Taux d'atteinte saisonalisé | V4: x % | X4: Taux d'atteinte saisonalisé | Y4: x %
A5: NO GROUPE | B5: groupe | C5: UC | D5: libelle uc | E5: EDS | F5: AGENCE | G5: EDS PDV | H5: POINT DE VENTE | I5: EDS PDV ORIGINE | K5: Réal | L5: Obj | M5: % | N5: Réal | O5: Obj | P5: % | Q5: Réal | R5: Obj | S5: % | T5: Réal | U5: Obj | V5: % | W5: Réal | X5: Obj | Y5: %
A6: 50 | B6: Aube Haute Marne | C6: 21 | D6: CHAUMONT | E6: 410560 | F6: BOURBONNE LES BAINS | G6: 10560 | H6: BOURBONNE LES BAINS | I6: 10560 | K6: =SUMIF(COLLECTE!B:B,I6,COLLECTE!H:H)/1000 -> 208.411 | N6: =SUMIF('UC GPS'!B:B,I6,'UC GPS'!F:F)+SUMIF(PREMIUM!L:L,I6,PREMIUM!H:H)/1000 -> 0
A7: 50 | B7: Aube Haute Marne | C7: 21 | D7: CHAUMONT | E7: 510558 | F7: CHALINDREY | G7: 10558 | H7: CHALINDREY | I7: 10558 | K7: =SUMIF(COLLECTE!B:B,I7,COLLECTE!H:H)/1000 -> 453.42557 | N7: =SUMIF('UC GPS'!B:B,I7,'UC GPS'!F:F)+SUMIF(PREMIUM!L:L,I7,PREMIUM!H:H)/1000 -> 0
A8: 50 | B8: Aube Haute Marne | C8: 21 | D8: CHAUMONT | E8: 410539 | F8: CHATEAUVILLAIN | G8: 10539 | H8: CHATEAUVILLAIN | I8: 10539 | K8: =SUMIF(COLLECTE!B:B,I8,COLLECTE!H:H)/1000 -> 299.87631 | N8: =SUMIF('UC GPS'!B:B,I8,'UC GPS'!F:F)+SUMIF(PREMIUM!L:L,I8,PREMIUM!H:H)/1000 -> 0
A9: 50 | B9: Aube Haute Marne | C9: 21 | D9: CHAUMONT | E9: 410566 | F9: CHAUMONT HOTEL DE VILLE | G9: 10566 | H9: CHAUMONT HOTEL DE VILLE | I9: 10566 | K9: =SUMIF(COLLECTE!B:B,I9,COLLECTE!H:H)/1000 -> 1385.7016 | N9: =SUMIF('UC GPS'!B:B,I9,'UC GPS'!F:F)+SUMIF(PREMIUM!L:L,I9,PREMIUM!H:H)/1000 -> 0
A10: 50 | B10: Aube Haute Marne | C10: 21 | D10: CHAUMONT | E10: 510590 | F10: CHAUMONT REPUBLIQUE | G10: 10590 | H10: CHAUMONT REPUBLIQUE | I10: 10590 | K10: =SUMIF(COLLECTE!B:B,I10,COLLECTE!H:H)/1000 -> 171.25411 | N10: =SUMIF('UC GPS'!B:B,I10,'UC GPS'!F:F)+SUMIF(PREMIUM!L:L,I10,PREMIUM!H:H)/1000 -> 0
A11: 50 | B11: Aube Haute Marne | C11: 21 | D11: CHAUMONT | E11: 451154 | F11: JOINVILLE | G11: 51154 | H11: JOINVILLE | I11: 51154 | K11: =SUMIF(COLLECTE!B:B,I11,COLLECTE!H:H)/1000 -> 131.918 | N11: =SUMIF('UC GPS'!B:B,I11,'UC GPS'!F:F)+SUMIF(PREMIUM!L:L,I11,PREMIUM!H:H)/1000 -> 0
A12: 50 | B12: Aube Haute Marne | C12: 21 | D12: CHAUMONT | E12: 410541 | F12: LANGRES | G12: 10541 | H12: LANGRES | I12: 10541 | K12: =SUMIF(COLLECTE!B:B,I12,COLLECTE!H:H)/1000 -> 1071.4367 | N12: =SUMIF('UC GPS'!B:B,I12,'UC GPS'!F:F)+SUMIF(PREMIUM!L:L,I12,PREMIUM!H:H)/1000 -> 0
A13: 50 | B13: Aube Haute Marne | C13: 21 | D13: CHAUMONT | E13: 410582 | F13: NOGENT EN BASSIGNY | G13: 10582 | H13: NOGENT EN BASSIGNY | I13: 10582 | K13: =SUMIF(COLLECTE!B:B,I13,COLLECTE!H:H)/1000 -> 372.44411 | N13: =SUMIF('UC GPS'!B:B,I13,'UC GPS'!F:F)+SUMIF(PREMIUM!L:L,I13,PREMIUM!H:H)/1000 -> 0
A14: 50 | B14: Aube Haute Marne | C14: 21 | D14: CHAUMONT | E14: 451156 | F14: SAINT DIZIER CENTRE | G14: 51156 | H14: SAINT DIZIER CENTRE | I14: 51156 | K14: =SUMIF(COLLECTE!B:B,I14,COLLECTE!H:H)/1000 -> 1454.6379 | N14: =SUMIF('UC GPS'!B:B,I14,'UC GPS'!F:F)+SUMIF(PREMIUM!L:L,I14,PREMIUM!H:H)/1000 -> 0
A15: 50 | B15: Aube Haute Marne | C15: 21 | D15: CHAUMONT | E15: 551157 | F15: SAINT DIZIER EUROPE | G15: 51157 | H15: SAINT DIZIER EUROPE | I15: 51157 | K15: =SUMIF(COLLECTE!B:B,I15,COLLECTE!H:H)/1000 -> 1299.8701 | N15: =SUMIF('UC GPS'!B:B,I15,'UC GPS'!F:F)+SUMIF(PREMIUM!L:L,I15,PREMIUM!H:H)/1000 -> 0
A16: 50 | B16: Aube Haute Marne | C16: 21 | D16: CHAUMONT | E16: 451151 | F16: WASSY | G16: 51151 | H16: WASSY | I16: 51151 | K16: =SUMIF(COLLECTE!B:B,I16,COLLECTE!H:H)/1000 -> 464.5849 | N16: =SUMIF('UC GPS'!B:B,I16,'UC GPS'!F:F)+SUMIF(PREMIUM!L:L,I16,PREMIUM!H:H)/1000 -> 0
A17: 50 | B17: Aube Haute Marne | C17: 14 | D17: TROYES | E17: 410583 | F17: AIX EN OTHE | G17: 10583 | H17: AIX EN OTHE | I17: 10583 | K17: =SUMIF(COLLECTE!B:B,I17,COLLECTE!H:H)/1000 -> 78.69942 | N17: =SUMIF('UC GPS'!B:B,I17,'UC GPS'!F:F)+SUMIF(PREMIUM!L:L,I17,PREMIUM!H:H)/1000 -> 0
... A341: 269 | B341: Multimédia | C341: 5017 | D341: MON AGENCE | E341: 4017 | F341: Agence du personnel | G341: 17 | H341: Agence du personnel | I341: 17 | K341: =SUMIF(COLLECTE!B:B,I341,COLLECTE!H:H)/1000 -> 12.34299 | N341: =SUMIF('UC GPS'!B:B,I341,'UC GPS'!F:F)+SUMIF(PREMIUM!L:L,I341,PREMIUM!H:H)/1000 -> 0

Sheet RECAP AG
G1: 1 | H1: 2 | I1: 3 | J1: 4 | K1: 5 | L1: 6 | M1: 7 | N1: 8 | O1: 9 | P1: 10 | Q1: 11 | R1: 12 | S1: 13 | T1: 14 | U1: 15 | V1: 16 | W1: 17 | X1: 18 | Y1: 19
K3: Excédents de collecte ASV par ETP | N3: Chiffre d'affaire UC par ETP | Q3: Qualité NPS | T3: Evolution du nombre de clients Premium par ETP | W3: Ventes brutes Cartes Infinite et Platinum par ETP
L4: Taux d'atteinte saisonalisé | M4: =VLOOKUP(#REF!,#REF!,6,FALSE) -> #REF! | O4: Taux d'atteinte saisonalisé | P4: =VLOOKUP(#REF!,#REF!,6,FALSE) -> #REF! | R4: Taux d'atteinte saisonalisé | S4: =VLOOKUP(#REF!,#REF!,6,FALSE) -> #REF! | U4: Taux d'atteinte saisonalisé | V4: =VLOOKUP(#REF!,#REF!,6,FALSE) -> #REF! | X4: Taux d'atteinte saisonalisé | Y4: =VLOOKUP(#REF!,#REF!,6,FALSE) -> #REF!
C5: NO GROUPE | D5: groupe | E5: UC | F5: libelle uc | G5: EDS | H5: AGENCE | I5: ETP | K5: Réal | L5: Obj | M5: % | N5: Réal | O5: Obj | P5: % | Q5: Réal | R5: Obj | S5: % | T5: Réal | U5: Obj | V5: % | W5: Réal | X5: Obj | Y5: % | AG5: 0.8 | AH5: 80% 100% | AI5: 100% 110% | AJ5: 1.1 | AL5: 0.8 | AM5: 80% 100% | AN5: 100% 120% | AO5: 1.2 | AQ5: 0.8 | AR5: 80% 100% | AS5: 100% 120% | AT5: 1.2 | AV5: 0.8 | AW5: 80% 100% | AX5: 100% 120% | AY5: 1.2 | BA5: 0.8 | BB5: 80% 100% | BC5: 100% 120% | BD5: 1.2
C6: 50 | D6: AUBE HAUTE MARNE | E6: 21 | F6: CHAUMONT | G6: 410560 | H6: BOURBONNE LES BAINS | K6: =SUMIF('RECAP PDV'!$E:$E,$G6,'RECAP PDV'!K:K) -> 208.411 | N6: =SUMIF('RECAP PDV'!$E:$E,$G6,'RECAP PDV'!N:N) -> 0 | AF6: =M6/$M$4 -> #REF! | AG6: =IF(AF6<0.8,1,0) -> #REF! | AH6: =IF(AND(AF6>=0.8,AF6<1),1,0) -> #REF! | AI6: =IF(AND(AF6>=1,AF6<1.1),1,0) -> #REF! | AJ6: =IF(AF6>1.1,1,0) -> #REF! | AK6: =P6/$P$4 -> #REF! | AL6: =IF(AK6<0.8,1,0) -> #REF! | AM6: =IF(AND(AK6>=0.8,AK6<1),1,0) -> #REF! | AN6: =IF(AND(AK6>=1,AK6<1.2),1,0) -> #REF! | AO6: =IF(AK6>1.2,1,0) -> #REF! | AP6: =S6/$S$4 -> #REF! | AQ6: =IF(AP6<0.8,1,0) -> #REF! | AR6: =IF(AND(AP6>=0.8,AP6<1),1,0) -> #REF! | AS6: =IF(AND(AP6>=1,AP6<1.2),1,0) -> #REF! | AT6: =IF(AP6>1.2,1,0) -> #REF! | AU6: =V6/$V$4 -> #REF! | AV6: =IF(AU6<0.8,1,0) -> #REF! | AW6: =IF(AND(AU6>=0.8,AU6<1),1,0) -> #REF! | AX6: =IF(AND(AU6>=1,AU6<1.2),1,0) -> #REF! | AY6: =IF(AU6>1.2,1,0) -> #REF! | AZ6: =Y6/$Y$4 -> #REF! | BA6: =IF(AZ6<0.8,1,0) -> #REF! | BB6: =IF(AND(AZ6>=0.8,AZ6<1),1,0) -> #REF! | BC6: =IF(AND(AZ6>=1,AZ6<1.2),1,0) -> #REF! | BD6: =IF(AZ6>1.2,1,0) -> #REF!
C7: 50 | D7: AUBE HAUTE MARNE | E7: 21 | F7: CHAUMONT | G7: 510558 | H7: CHALINDREY | K7: =SUMIF('RECAP PDV'!$E:$E,$G7,'RECAP PDV'!K:K) -> 453.42557 | N7: =SUMIF('RECAP PDV'!$E:$E,$G7,'RECAP PDV'!N:N) -> 0 | AF7: =M7/$M$4 -> #REF! | AG7: =IF(AF7<0.8,1,0) -> #REF! | AH7: =IF(AND(AF7>=0.8,AF7<1),1,0) -> #REF! | AI7: =IF(AND(AF7>=1,AF7<1.1),1,0) -> #REF! | AJ7: =IF(AF7>1.1,1,0) -> #REF! | AK7: =P7/$P$4 -> #REF! | AL7: =IF(AK7<0.8,1,0) -> #REF! | AM7: =IF(AND(AK7>=0.8,AK7<1),1,0) -> #REF! | AN7: =IF(AND(AK7>=1,AK7<1.2),1,0) -> #REF! | AO7: =IF(AK7>1.2,1,0) -> #REF! | AP7: =S7/$S$4 -> #REF! | AQ7: =IF(AP7<0.8,1,0) -> #REF! | AR7: =IF(AND(AP7>=0.8,AP7<1),1,0) -> #REF! | AS7: =IF(AND(AP7>=1,AP7<1.2),1,0) -> #REF! | AT7: =IF(AP7>1.2,1,0) -> #REF! | AU7: =V7/$V$4 -> #REF! | AV7: =IF(AU7<0.8,1,0) -> #REF! | AW7: =IF(AND(AU7>=0.8,AU7<1),1,0) -> #REF! | AX7: =IF(AND(AU7>=1,AU7<1.2),1,0) -> #REF! | AY7: =IF(AU7>1.2,1,0) -> #REF! | AZ7: =Y7/$Y$4 -> #REF! | BA7: =IF(AZ7<0.8,1,0) -> #REF! | BB7: =IF(AND(AZ7>=0.8,AZ7<1),1,0) -> #REF! | BC7: =IF(AND(AZ7>=1,AZ7<1.2),1,0) -> #REF! | BD7: =IF(AZ7>1.2,1,0) -> #REF!
C8: 50 | D8: AUBE HAUTE MARNE | E8: 21 | F8: CHAUMONT | G8: 410539 | H8: CHATEAUVILLAIN | K8: =SUMIF('RECAP PDV'!$E:$E,$G8,'RECAP PDV'!K:K) -> 299.87631 | N8: =SUMIF('RECAP PDV'!$E:$E,$G8,'RECAP PDV'!N:N) -> 0 | AF8: =M8/$M$4 -> #REF! | AG8: =IF(AF8<0.8,1,0) -> #REF! | AH8: =IF(AND(AF8>=0.8,AF8<1),1,0) -> #REF! | AI8: =IF(AND(AF8>=1,AF8<1.1),1,0) -> #REF! | AJ8: =IF(AF8>1.1,1,0) -> #REF! | AK8: =P8/$P$4 -> #REF! | AL8: =IF(AK8<0.8,1,0) -> #REF! | AM8: =IF(AND(AK8>=0.8,AK8<1),1,0) -> #REF! | AN8: =IF(AND(AK8>=1,AK8<1.2),1,0) -> #REF! | AO8: =IF(AK8>1.2,1,0) -> #REF! | AP8: =S8/$S$4 -> #REF! | AQ8: =IF(AP8<0.8,1,0) -> #REF! | AR8: =IF(AND(AP8>=0.8,AP8<1),1,0) -> #REF! | AS8: =IF(AND(AP8>=1,AP8<1.2),1,0) -> #REF! | AT8: =IF(AP8>1.2,1,0) -> #REF! | AU8: =V8/$V$4 -> #REF! | AV8: =IF(AU8<0.8,1,0) -> #REF! | AW8: =IF(AND(AU8>=0.8,AU8<1),1,0) -> #REF! | AX8: =IF(AND(AU8>=1,AU8<1.2),1,0) -> #REF! | AY8: =IF(AU8>1.2,1,0) -> #REF! | AZ8: =Y8/$Y$4 -> #REF! | BA8: =IF(AZ8<0.8,1,0) -> #REF! | BB8: =IF(AND(AZ8>=0.8,AZ8<1),1,0) -> #REF! | BC8: =IF(AND(AZ8>=1,AZ8<1.2),1,0) -> #REF! | BD8: =IF(AZ8>1.2,1,0) -> #REF!
C9: 50 | D9: AUBE HAUTE MARNE | E9: 21 | F9: CHAUMONT | G9: 410566 | H9: CHAUMONT HOTEL DE VILLE | K9: =SUMIF('RECAP PDV'!$E:$E,$G9,'RECAP PDV'!K:K) -> 1385.7016 | N9: =SUMIF('RECAP PDV'!$E:$E,$G9,'RECAP PDV'!N:N) -> 0 | AF9: =M9/$M$4 -> #REF! | AG9: =IF(AF9<0.8,1,0) -> #REF! | AH9: =IF(AND(AF9>=0.8,AF9<1),1,0) -> #REF! | AI9: =IF(AND(AF9>=1,AF9<1.1),1,0) -> #REF! | AJ9: =IF(AF9>1.1,1,0) -> #REF! | AK9: =P9/$P$4 -> #REF! | AL9: =IF(AK9<0.8,1,0) -> #REF! | AM9: =IF(AND(AK9>=0.8,AK9<1),1,0) -> #REF! | AN9: =IF(AND(AK9>=1,AK9<1.2),1,0) -> #REF! | AO9: =IF(AK9>1.2,1,0) -> #REF! | AP9: =S9/$S$4 -> #REF! | AQ9: =IF(AP9<0.8,1,0) -> #REF! | AR9: =IF(AND(AP9>=0.8,AP9<1),1,0) -> #REF! | AS9: =IF(AND(AP9>=1,AP9<1.2),1,0) -> #REF! | AT9: =IF(AP9>1.2,1,0) -> #REF! | AU9: =V9/$V$4 -> #REF! | AV9: =IF(AU9<0.8,1,0) -> #REF! | AW9: =IF(AND(AU9>=0.8,AU9<1),1,0) -> #REF! | AX9: =IF(AND(AU9>=1,AU9<1.2),1,0) -> #REF! | AY9: =IF(AU9>1.2,1,0) -> #REF! | AZ9: =Y9/$Y$4 -> #REF! | BA9: =IF(AZ9<0.8,1,0) -> #REF! | BB9: =IF(AND(AZ9>=0.8,AZ9<1),1,0) -> #REF! | BC9: =IF(AND(AZ9>=1,AZ9<1.2),1,0) -> #REF! | BD9: =IF(AZ9>1.2,1,0) -> #REF!
C10: 50 | D10: AUBE HAUTE MARNE | E10: 21 | F10: CHAUMONT | G10: 510590 | H10: CHAUMONT REPUBLIQUE | K10: =SUMIF('RECAP PDV'!$E:$E,$G10,'RECAP PDV'!K:K) -> 171.25411 | N10: =SUMIF('RECAP PDV'!$E:$E,$G10,'RECAP PDV'!N:N) -> 0 | AF10: =M10/$M$4 -> #REF! | AG10: =IF(AF10<0.8,1,0) -> #REF! | AH10: =IF(AND(AF10>=0.8,AF10<1),1,0) -> #REF! | AI10: =IF(AND(AF10>=1,AF10<1.1),1,0) -> #REF! | AJ10: =IF(AF10>1.1,1,0) -> #REF! | AK10: =P10/$P$4 -> #REF! | AL10: =IF(AK10<0.8,1,0) -> #REF! | AM10: =IF(AND(AK10>=0.8,AK10<1),1,0) -> #REF! | AN10: =IF(AND(AK10>=1,AK10<1.2),1,0) -> #REF! | AO10: =IF(AK10>1.2,1,0) -> #REF! | AP10: =S10/$S$4 -> #REF! | AQ10: =IF(AP10<0.8,1,0) -> #REF! | AR10: =IF(AND(AP10>=0.8,AP10<1),1,0) -> #REF! | AS10: =IF(AND(AP10>=1,AP10<1.2),1,0) -> #REF! | AT10: =IF(AP10>1.2,1,0) -> #REF! | AU10: =V10/$V$4 -> #REF! | AV10: =IF(AU10<0.8,1,0) -> #REF! | AW10: =IF(AND(AU10>=0.8,AU10<1),1,0) -> #REF! | AX10: =IF(AND(AU10>=1,AU10<1.2),1,0) -> #REF! | AY10: =IF(AU10>1.2,1,0) -> #REF! | AZ10: =Y10/$Y$4 -> #REF! | BA10: =IF(AZ10<0.8,1,0) -> #REF! | BB10: =IF(AND(AZ10>=0.8,AZ10<1),1,0) -> #REF! | BC10: =IF(AND(AZ10>=1,AZ10<1.2),1,0) -> #REF! | BD10: =IF(AZ10>1.2,1,0) -> #REF!
C11: 50 | D11: AUBE HAUTE MARNE | E11: 21 | F11: CHAUMONT | G11: 451154 | H11: JOINVILLE | K11: =SUMIF('RECAP PDV'!$E:$E,$G11,'RECAP PDV'!K:K) -> 131.918 | N11: =SUMIF('RECAP PDV'!$E:$E,$G11,'RECAP PDV'!N:N) -> 0 | AF11: =M11/$M$4 -> #REF! | AG11: =IF(AF11<0.8,1,0) -> #REF! | AH11: =IF(AND(AF11>=0.8,AF11<1),1,0) -> #REF! | AI11: =IF(AND(AF11>=1,AF11<1.1),1,0) -> #REF! | AJ11: =IF(AF11>1.1,1,0) -> #REF! | AK11: =P11/$P$4 -> #REF! | AL11: =IF(AK11<0.8,1,0) -> #REF! | AM11: =IF(AND(AK11>=0.8,AK11<1),1,0) -> #REF! | AN11: =IF(AND(AK11>=1,AK11<1.2),1,0) -> #REF! | AO11: =IF(AK11>1.2,1,0) -> #REF! | AP11: =S11/$S$4 -> #REF! | AQ11: =IF(AP11<0.8,1,0) -> #REF! | AR11: =IF(AND(AP11>=0.8,AP11<1),1,0) -> #REF! | AS11: =IF(AND(AP11>=1,AP11<1.2),1,0) -> #REF! | AT11: =IF(AP11>1.2,1,0) -> #REF! | AU11: =V11/$V$4 -> #REF! | AV11: =IF(AU11<0.8,1,0) -> #REF! | AW11: =IF(AND(AU11>=0.8,AU11<1),1,0) -> #REF! | AX11: =IF(AND(AU11>=1,AU11<1.2),1,0) -> #REF! | AY11: =IF(AU11>1.2,1,0) -> #REF! | AZ11: =Y11/$Y$4 -> #REF! | BA11: =IF(AZ11<0.8,1,0) -> #REF! | BB11: =IF(AND(AZ11>=0.8,AZ11<1),1,0) -> #REF! | BC11: =IF(AND(AZ11>=1,AZ11<1.2),1,0) -> #REF! | BD11: =IF(AZ11>1.2,1,0) -> #REF!
C12: 50 | D12: AUBE HAUTE MARNE | E12: 21 | F12: CHAUMONT | G12: 410541 | H12: LANGRES | K12: =SUMIF('RECAP PDV'!$E:$E,$G12,'RECAP PDV'!K:K) -> 1071.4367 | N12: =SUMIF('RECAP PDV'!$E:$E,$G12,'RECAP PDV'!N:N) -> 0 | AF12: =M12/$M$4 -> #REF! | AG12: =IF(AF12<0.8,1,0) -> #REF! | AH12: =IF(AND(AF12>=0.8,AF12<1),1,0) -> #REF! | AI12: =IF(AND(AF12>=1,AF12<1.1),1,0) -> #REF! | AJ12: =IF(AF12>1.1,1,0) -> #REF! | AK12: =P12/$P$4 -> #REF! | AL12: =IF(AK12<0.8,1,0) -> #REF! | AM12: =IF(AND(AK12>=0.8,AK12<1),1,0) -> #REF! | AN12: =IF(AND(AK12>=1,AK12<1.2),1,0) -> #REF! | AO12: =IF(AK12>1.2,1,0) -> #REF! | AP12: =S12/$S$4 -> #REF! | AQ12: =IF(AP12<0.8,1,0) -> #REF! | AR12: =IF(AND(AP12>=0.8,AP12<1),1,0) -> #REF! | AS12: =IF(AND(AP12>=1,AP12<1.2),1,0) -> #REF! | AT12: =IF(AP12>1.2,1,0) -> #REF! | AU12: =V12/$V$4 -> #REF! | AV12: =IF(AU12<0.8,1,0) -> #REF! | AW12: =IF(AND(AU12>=0.8,AU12<1),1,0) -> #REF! | AX12: =IF(AND(AU12>=1,AU12<1.2),1,0) -> #REF! | AY12: =IF(AU12>1.2,1,0) -> #REF! | AZ12: =Y12/$Y$4 -> #REF! | BA12: =IF(AZ12<0.8,1,0) -> #REF! | BB12: =IF(AND(AZ12>=0.8,AZ12<1),1,0) -> #REF! | BC12: =IF(AND(AZ12>=1,AZ12<1.2),1,0) -> #REF! | BD12: =IF(AZ12>1.2,1,0) -> #REF!
C13: 50 | D13: AUBE HAUTE MARNE | E13: 21 | F13: CHAUMONT | G13: 410582 | H13: NOGENT EN BASSIGNY | K13: =SUMIF('RECAP PDV'!$E:$E,$G13,'RECAP PDV'!K:K) -> 372.44411 | N13: =SUMIF('RECAP PDV'!$E:$E,$G13,'RECAP PDV'!N:N) -> 0 | AF13: =M13/$M$4 -> #REF! | AG13: =IF(AF13<0.8,1,0) -> #REF! | AH13: =IF(AND(AF13>=0.8,AF13<1),1,0) -> #REF! | AI13: =IF(AND(AF13>=1,AF13<1.1),1,0) -> #REF! | AJ13: =IF(AF13>1.1,1,0) -> #REF! | AK13: =P13/$P$4 -> #REF! | AL13: =IF(AK13<0.8,1,0) -> #REF! | AM13: =IF(AND(AK13>=0.8,AK13<1),1,0) -> #REF! | AN13: =IF(AND(AK13>=1,AK13<1.2),1,0) -> #REF! | AO13: =IF(AK13>1.2,1,0) -> #REF! | AP13: =S13/$S$4 -> #REF! | AQ13: =IF(AP13<0.8,1,0) -> #REF! | AR13: =IF(AND(AP13>=0.8,AP13<1),1,0) -> #REF! | AS13: =IF(AND(AP13>=1,AP13<1.2),1,0) -> #REF! | AT13: =IF(AP13>1.2,1,0) -> #REF! | AU13: =V13/$V$4 -> #REF! | AV13: =IF(AU13<0.8,1,0) -> #REF! | AW13: =IF(AND(AU13>=0.8,AU13<1),1,0) -> #REF! | AX13: =IF(AND(AU13>=1,AU13<1.2),1,0) -> #REF! | AY13: =IF(AU13>1.2,1,0) -> #REF! | AZ13: =Y13/$Y$4 -> #REF! | BA13: =IF(AZ13<0.8,1,0) -> #REF! | BB13: =IF(AND(AZ13>=0.8,AZ13<1),1,0) -> #REF! | BC13: =IF(AND(AZ13>=1,AZ13<1.2),1,0) -> #REF! | BD13: =IF(AZ13>1.2,1,0) -> #REF!
C14: 50 | D14: AUBE HAUTE MARNE | E14: 21 | F14: CHAUMONT | G14: 451156 | H14: SAINT DIZIER CENTRE | K14: =SUMIF('RECAP PDV'!$E:$E,$G14,'RECAP PDV'!K:K) -> 1454.6379 | N14: =SUMIF('RECAP PDV'!$E:$E,$G14,'RECAP PDV'!N:N) -> 0 | AF14: =M14/$M$4 -> #REF! | AG14: =IF(AF14<0.8,1,0) -> #REF! | AH14: =IF(AND(AF14>=0.8,AF14<1),1,0) -> #REF! | AI14: =IF(AND(AF14>=1,AF14<1.1),1,0) -> #REF! | AJ14: =IF(AF14>1.1,1,0) -> #REF! | AK14: =P14/$P$4 -> #REF! | AL14: =IF(AK14<0.8,1,0) -> #REF! | AM14: =IF(AND(AK14>=0.8,AK14<1),1,0) -> #REF! | AN14: =IF(AND(AK14>=1,AK14<1.2),1,0) -> #REF! | AO14: =IF(AK14>1.2,1,0) -> #REF! | AP14: =S14/$S$4 -> #REF! | AQ14: =IF(AP14<0.8,1,0) -> #REF! | AR14: =IF(AND(AP14>=0.8,AP14<1),1,0) -> #REF! | AS14: =IF(AND(AP14>=1,AP14<1.2),1,0) -> #REF! | AT14: =IF(AP14>1.2,1,0) -> #REF! | AU14: =V14/$V$4 -> #REF! | AV14: =IF(AU14<0.8,1,0) -> #REF! | AW14: =IF(AND(AU14>=0.8,AU14<1),1,0) -> #REF! | AX14: =IF(AND(AU14>=1,AU14<1.2),1,0) -> #REF! | AY14: =IF(AU14>1.2,1,0) -> #REF! | AZ14: =Y14/$Y$4 -> #REF! | BA14: =IF(AZ14<0.8,1,0) -> #REF! | BB14: =IF(AND(AZ14>=0.8,AZ14<1),1,0) -> #REF! | BC14: =IF(AND(AZ14>=1,AZ14<1.2),1,0) -> #REF! | BD14: =IF(AZ14>1.2,1,0) -> #REF!
C15: 50 | D15: AUBE HAUTE MARNE | E15: 21 | F15: CHAUMONT | G15: 551157 | H15: SAINT DIZIER EUROPE | K15: =SUMIF('RECAP PDV'!$E:$E,$G15,'RECAP PDV'!K:K) -> 1299.8701 | N15: =SUMIF('RECAP PDV'!$E:$E,$G15,'RECAP PDV'!N:N) -> 0 | AF15: =M15/$M$4 -> #REF! | AG15: =IF(AF15<0.8,1,0) -> #REF! | AH15: =IF(AND(AF15>=0.8,AF15<1),1,0) -> #REF! | AI15: =IF(AND(AF15>=1,AF15<1.1),1,0) -> #REF! | AJ15: =IF(AF15>1.1,1,0) -> #REF! | AK15: =P15/$P$4 -> #REF! | AL15: =IF(AK15<0.8,1,0) -> #REF! | AM15: =IF(AND(AK15>=0.8,AK15<1),1,0) -> #REF! | AN15: =IF(AND(AK15>=1,AK15<1.2),1,0) -> #REF! | AO15: =IF(AK15>1.2,1,0) -> #REF! | AP15: =S15/$S$4 -> #REF! | AQ15: =IF(AP15<0.8,1,0) -> #REF! | AR15: =IF(AND(AP15>=0.8,AP15<1),1,0) -> #REF! | AS15: =IF(AND(AP15>=1,AP15<1.2),1,0) -> #REF! | AT15: =IF(AP15>1.2,1,0) -> #REF! | AU15: =V15/$V$4 -> #REF! | AV15: =IF(AU15<0.8,1,0) -> #REF! | AW15: =IF(AND(AU15>=0.8,AU15<1),1,0) -> #REF! | AX15: =IF(AND(AU15>=1,AU15<1.2),1,0) -> #REF! | AY15: =IF(AU15>1.2,1,0) -> #REF! | AZ15: =Y15/$Y$4 -> #REF! | BA15: =IF(AZ15<0.8,1,0) -> #REF! | BB15: =IF(AND(AZ15>=0.8,AZ15<1),1,0) -> #REF! | BC15: =IF(AND(AZ15>=1,AZ15<1.2),1,0) -> #REF! | BD15: =IF(AZ15>1.2,1,0) -> #REF!
C16: 50 | D16: AUBE HAUTE MARNE | E16: 21 | F16: CHAUMONT | G16: 451151 | H16: WASSY | K16: =SUMIF('RECAP PDV'!$E:$E,$G16,'RECAP PDV'!K:K) -> 464.5849 | N16: =SUMIF('RECAP PDV'!$E:$E,$G16,'RECAP PDV'!N:N) -> 0 | AF16: =M16/$M$4 -> #REF! | AG16: =IF(AF16<0.8,1,0) -> #REF! | AH16: =IF(AND(AF16>=0.8,AF16<1),1,0) -> #REF! | AI16: =IF(AND(AF16>=1,AF16<1.1),1,0) -> #REF! | AJ16: =IF(AF16>1.1,1,0) -> #REF! | AK16: =P16/$P$4 -> #REF! | AL16: =IF(AK16<0.8,1,0) -> #REF! | AM16: =IF(AND(AK16>=0.8,AK16<1),1,0) -> #REF! | AN16: =IF(AND(AK16>=1,AK16<1.2),1,0) -> #REF! | AO16: =IF(AK16>1.2,1,0) -> #REF! | AP16: =S16/$S$4 -> #REF! | AQ16: =IF(AP16<0.8,1,0) -> #REF! | AR16: =IF(AND(AP16>=0.8,AP16<1),1,0) -> #REF! | AS16: =IF(AND(AP16>=1,AP16<1.2),1,0) -> #REF! | AT16: =IF(AP16>1.2,1,0) -> #REF! | AU16: =V16/$V$4 -> #REF! | AV16: =IF(AU16<0.8,1,0) -> #REF! | AW16: =IF(AND(AU16>=0.8,AU16<1),1,0) -> #REF! | AX16: =IF(AND(AU16>=1,AU16<1.2),1,0) -> #REF! | AY16: =IF(AU16>1.2,1,0) -> #REF! | AZ16: =Y16/$Y$4 -> #REF! | BA16: =IF(AZ16<0.8,1,0) -> #REF! | BB16: =IF(AND(AZ16>=0.8,AZ16<1),1,0) -> #REF! | BC16: =IF(AND(AZ16>=1,AZ16<1.2),1,0) -> #REF! | BD16: =IF(AZ16>1.2,1,0) -> #REF!
C17: 50 | D17: AUBE HAUTE MARNE | E17: 14 | F17: TROYES | G17: 410583 | H17: AIX EN OTHE | K17: =SUMIF('RECAP PDV'!$E:$E,$G17,'RECAP PDV'!K:K) -> 78.69942 | N17: =SUMIF('RECAP PDV'!$E:$E,$G17,'RECAP PDV'!N:N) -> 0 | AF17: =M17/$M$4 -> #REF! | AG17: =IF(AF17<0.8,1,0) -> #REF! | AH17: =IF(AND(AF17>=0.8,AF17<1),1,0) -> #REF! | AI17: =IF(AND(AF17>=1,AF17<1.1),1,0) -> #REF! | AJ17: =IF(AF17>1.1,1,0) -> #REF! | AK17: =P17/$P$4 -> #REF! | AL17: =IF(AK17<0.8,1,0) -> #REF! | AM17: =IF(AND(AK17>=0.8,AK17<1),1,0) -> #REF! | AN17: =IF(AND(AK17>=1,AK17<1.2),1,0) -> #REF! | AO17: =IF(AK17>1.2,1,0) -> #REF! | AP17: =S17/$S$4 -> #REF! | AQ17: =IF(AP17<0.8,1,0) -> #REF! | AR17: =IF(AND(AP17>=0.8,AP17<1),1,0) -> #REF! | AS17: =IF(AND(AP17>=1,AP17<1.2),1,0) -> #REF! | AT17: =IF(AP17>1.2,1,0) -> #REF! | AU17: =V17/$V$4 -> #REF! | AV17: =IF(AU17<0.8,1,0) -> #REF! | AW17: =IF(AND(AU17>=0.8,AU17<1),1,0) -> #REF! | AX17: =IF(AND(AU17>=1,AU17<1.2),1,0) -> #REF! | AY17: =IF(AU17>1.2,1,0) -> #REF! | AZ17: =Y17/$Y$4 -> #REF! | BA17: =IF(AZ17<0.8,1,0) -> #REF! | BB17: =IF(AND(AZ17>=0.8,AZ17<1),1,0) -> #REF! | BC17: =IF(AND(AZ17>=1,AZ17<1.2),1,0) -> #REF! | BD17: =IF(AZ17>1.2,1,0) -> #REF!
... C280: 160 | D280: MOSELLE | E280: 44 | F280: MOSELLE NORD | G280: 457158 | H280: YUTZ | K280: =SUMIF('RECAP PDV'!$E:$E,$G280,'RECAP PDV'!K:K) -> 1017.8108 | N280: =SUMIF('RECAP PDV'!$E:$E,$G280,'RECAP PDV'!N:N) -> 0 | AF280: =M280/$M$4 -> #REF! | AG280: =IF(AF280<0.8,1,0) -> #REF! | AH280: =IF(AND(AF280>=0.8,AF280<1),1,0) -> #REF! | AI280: =IF(AND(AF280>=1,AF280<1.1),1,0) -> #REF! | AJ280: =IF(AF280>1.1,1,0) -> #REF! | AK280: =P280/$P$4 -> #REF! | AL280: =IF(AK280<0.8,1,0) -> #REF! | AM280: =IF(AND(AK280>=0.8,AK280<1),1,0) -> #REF! | AN280: =IF(AND(AK280>=1,AK280<1.2),1,0) -> #REF! | AO280: =IF(AK280>1.2,1,0) -> #REF! | AP280: =S280/$S$4 -> #REF! | AQ280: =IF(AP280<0.8,1,0) -> #REF! | AR280: =IF(AND(AP280>=0.8,AP280<1),1,0) -> #REF! | AS280: =IF(AND(AP280>=1,AP280<1.2),1,0) -> #REF! | AT280: =IF(AP280>1.2,1,0) -> #REF! | AU280: =V280/$V$4 -> #REF! | AV280: =IF(AU280<0.8,1,0) -> #REF! | AW280: =IF(AND(AU280>=0.8,AU280<1),1,0) -> #REF! | AX280: =IF(AND(AU280>=1,AU280<1.2),1,0) -> #REF! | AY280: =IF(AU280>1.2,1,0) -> #REF! | AZ280: =Y280/$Y$4 -> #REF! | BA280: =IF(AZ280<0.8,1,0) -> #REF! | BB280: =IF(AND(AZ280>=0.8,AZ280<1),1,0) -> #REF! | BC280: =IF(AND(AZ280>=1,AZ280<1.2),1,0) -> #REF! | BD280: =IF(AZ280>1.2,1,0) -> #REF!
C281: 269 | D281: Multimédia | E281: 5022 | F281: MON BANQUIER EN LIGNE | G281: 4022 | H281: Mon banquier en ligne | K281: =SUMIF('RECAP PDV'!$E:$E,$G281,'RECAP PDV'!K:K) -> -52.31898 | N281: =SUMIF('RECAP PDV'!$E:$E,$G281,'RECAP PDV'!N:N) -> 0
C282: 80 | D282: VOSGES | E282: 57 | F282: EPINAL | G282: 588201 | H282: CHANTRAINE | K282: =SUMIF('RECAP PDV'!$E:$E,$G282,'RECAP PDV'!K:K) -> 112.36745 | N282: =SUMIF('RECAP PDV'!$E:$E,$G282,'RECAP PDV'!N:N) -> 0 | AF282: =M282/$M$4 -> #REF! | AG282: =IF(AF282<0.8,1,0) -> #REF! | AH282: =IF(AND(AF282>=0.8,AF282<1),1,0) -> #REF! | AI282: =IF(AND(AF282>=1,AF282<1.1),1,0) -> #REF! | AJ282: =IF(AF282>1.1,1,0) -> #REF! | AK282: =P282/$P$4 -> #REF! | AL282: =IF(AK282<0.8,1,0) -> #REF! | AM282: =IF(AND(AK282>=0.8,AK282<1),1,0) -> #REF! | AN282: =IF(AND(AK282>=1,AK282<1.2),1,0) -> #REF! | AO282: =IF(AK282>1.2,1,0) -> #REF! | AP282: =S282/$S$4 -> #REF! | AQ282: =IF(AP282<0.8,1,0) -> #REF! | AR282: =IF(AND(AP282>=0.8,AP282<1),1,0) -> #REF! | AS282: =IF(AND(AP282>=1,AP282<1.2),1,0) -> #REF! | AT282: =IF(AP282>1.2,1,0) -> #REF! | AU282: =V282/$V$4 -> #REF! | AV282: =IF(AU282<0.8,1,0) -> #REF! | AW282: =IF(AND(AU282>=0.8,AU282<1),1,0) -> #REF! | AX282: =IF(AND(AU282>=1,AU282<1.2),1,0) -> #REF! | AY282: =IF(AU282>1.2,1,0) -> #REF! | AZ282: =Y282/$Y$4 -> #REF! | BA282: =IF(AZ282<0.8,1,0) -> #REF! | BB282: =IF(AND(AZ282>=0.8,AZ282<1),1,0) -> #REF! | BC282: =IF(AND(AZ282>=1,AZ282<1.2),1,0) -> #REF! | BD282: =IF(AZ282>1.2,1,0) -> #REF!
C283: 80 | D283: VOSGES | E283: 57 | F283: EPINAL | G283: 588206 | H283: CHARMES | K283: =SUMIF('RECAP PDV'!$E:$E,$G283,'RECAP PDV'!K:K) -> 443.85395 | N283: =SUMIF('RECAP PDV'!$E:$E,$G283,'RECAP PDV'!N:N) -> 0 | AF283: =M283/$M$4 -> #REF! | AG283: =IF(AF283<0.8,1,0) -> #REF! | AH283: =IF(AND(AF283>=0.8,AF283<1),1,0) -> #REF! | AI283: =IF(AND(AF283>=1,AF283<1.1),1,0) -> #REF! | AJ283: =IF(AF283>1.1,1,0) -> #REF! | AK283: =P283/$P$4 -> #REF! | AL283: =IF(AK283<0.8,1,0) -> #REF! | AM283: =IF(AND(AK283>=0.8,AK283<1),1,0) -> #REF! | AN283: =IF(AND(AK283>=1,AK283<1.2),1,0) -> #REF! | AO283: =IF(AK283>1.2,1,0) -> #REF! | AP283: =S283/$S$4 -> #REF! | AQ283: =IF(AP283<0.8,1,0) -> #REF! | AR283: =IF(AND(AP283>=0.8,AP283<1),1,0) -> #REF! | AS283: =IF(AND(AP283>=1,AP283<1.2),1,0) -> #REF! | AT283: =IF(AP283>1.2,1,0) -> #REF! | AU283: =V283/$V$4 -> #REF! | AV283: =IF(AU283<0.8,1,0) -> #REF! | AW283: =IF(AND(AU283>=0.8,AU283<1),1,0) -> #REF! | AX283: =IF(AND(AU283>=1,AU283<1.2),1,0) -> #REF! | AY283: =IF(AU283>1.2,1,0) -> #REF! | AZ283: =Y283/$Y$4 -> #REF! | BA283: =IF(AZ283<0.8,1,0) -> #REF! | BB283: =IF(AND(AZ283>=0.8,AZ283<1),1,0) -> #REF! | BC283: =IF(AND(AZ283>=1,AZ283<1.2),1,0) -> #REF! | BD283: =IF(AZ283>1.2,1,0) -> #REF!
C284: 80 | D284: VOSGES | E284: 57 | F284: EPINAL | G284: 588216 | H284: CHATENOIS | K284: =SUMIF('RECAP PDV'!$E:$E,$G284,'RECAP PDV'!K:K) -> -6.64693 | N284: =SUMIF('RECAP PDV'!$E:$E,$G284,'RECAP PDV'!N:N) -> 0 | AF284: =M284/$M$4 -> #REF! | AG284: =IF(AF284<0.8,1,0) -> #REF! | AH284: =IF(AND(AF284>=0.8,AF284<1),1,0) -> #REF! | AI284: =IF(AND(AF284>=1,AF284<1.1),1,0) -> #REF! | AJ284: =IF(AF284>1.1,1,0) -> #REF! | AK284: =P284/$P$4 -> #REF! | AL284: =IF(AK284<0.8,1,0) -> #REF! | AM284: =IF(AND(AK284>=0.8,AK284<1),1,0) -> #REF! | AN284: =IF(AND(AK284>=1,AK284<1.2),1,0) -> #REF! | AO284: =IF(AK284>1.2,1,0) -> #REF! | AP284: =S284/$S$4 -> #REF! | AQ284: =IF(AP284<0.8,1,0) -> #REF! | AR284: =IF(AND(AP284>=0.8,AP284<1),1,0) -> #REF! | AS284: =IF(AND(AP284>=1,AP284<1.2),1,0) -> #REF! | AT284: =IF(AP284>1.2,1,0) -> #REF! | AU284: =V284/$V$4 -> #REF! | AV284: =IF(AU284<0.8,1,0) -> #REF! | AW284: =IF(AND(AU284>=0.8,AU284<1),1,0) -> #REF! | AX284: =IF(AND(AU284>=1,AU284<1.2),1,0) -> #REF! | AY284: =IF(AU284>1.2,1,0) -> #REF! | AZ284: =Y284/$Y$4 -> #REF! | BA284: =IF(AZ284<0.8,1,0) -> #REF! | BB284: =IF(AND(AZ284>=0.8,AZ284<1),1,0) -> #REF! | BC284: =IF(AND(AZ284>=1,AZ284<1.2),1,0) -> #REF! | BD284: =IF(AZ284>1.2,1,0) -> #REF!
C285: 80 | D285: VOSGES | E285: 57 | F285: EPINAL | G285: 488256 | H285: DARNEY | K285: =SUMIF('RECAP PDV'!$E:$E,$G285,'RECAP PDV'!K:K) -> 61.21212 | N285: =SUMIF('RECAP PDV'!$E:$E,$G285,'RECAP PDV'!N:N) -> 0 | AF285: =M285/$M$4 -> #REF! | AG285: =IF(AF285<0.8,1,0) -> #REF! | AH285: =IF(AND(AF285>=0.8,AF285<1),1,0) -> #REF! | AI285: =IF(AND(AF285>=1,AF285<1.1),1,0) -> #REF! | AJ285: =IF(AF285>1.1,1,0) -> #REF! | AK285: =P285/$P$4 -> #REF! | AL285: =IF(AK285<0.8,1,0) -> #REF! | AM285: =IF(AND(AK285>=0.8,AK285<1),1,0) -> #REF! | AN285: =IF(AND(AK285>=1,AK285<1.2),1,0) -> #REF! | AO285: =IF(AK285>1.2,1,0) -> #REF! | AP285: =S285/$S$4 -> #REF! | AQ285: =IF(AP285<0.8,1,0) -> #REF! | AR285: =IF(AND(AP285>=0.8,AP285<1),1,0) -> #REF! | AS285: =IF(AND(AP285>=1,AP285<1.2),1,0) -> #REF! | AT285: =IF(AP285>1.2,1,0) -> #REF! | AU285: =V285/$V$4 -> #REF! | AV285: =IF(AU285<0.8,1,0) -> #REF! | AW285: =IF(AND(AU285>=0.8,AU285<1),1,0) -> #REF! | AX285: =IF(AND(AU285>=1,AU285<1.2),1,0) -> #REF! | AY285: =IF(AU285>1.2,1,0) -> #REF! | AZ285: =Y285/$Y$4 -> #REF! | BA285: =IF(AZ285<0.8,1,0) -> #REF! | BB285: =IF(AND(AZ285>=0.8,AZ285<1),1,0) -> #REF! | BC285: =IF(AND(AZ285>=1,AZ285<1.2),1,0) -> #REF! | BD285: =IF(AZ285>1.2,1,0) -> #REF!
C286: 80 | D286: VOSGES | E286: 57 | F286: EPINAL | G286: 488261 | H286: DOCELLES | K286: =SUMIF('RECAP PDV'!$E:$E,$G286,'RECAP PDV'!K:K) -> 47.9979 | N286: =SUMIF('RECAP PDV'!$E:$E,$G286,'RECAP PDV'!N:N) -> 0 | AF286: =M286/$M$4 -> #REF! | AG286: =IF(AF286<0.8,1,0) -> #REF! | AH286: =IF(AND(AF286>=0.8,AF286<1),1,0) -> #REF! | AI286: =IF(AND(AF286>=1,AF286<1.1),1,0) -> #REF! | AJ286: =IF(AF286>1.1,1,0) -> #REF! | AK286: =P286/$P$4 -> #REF! | AL286: =IF(AK286<0.8,1,0) -> #REF! | AM286: =IF(AND(AK286>=0.8,AK286<1),1,0) -> #REF! | AN286: =IF(AND(AK286>=1,AK286<1.2),1,0) -> #REF! | AO286: =IF(AK286>1.2,1,0) -> #REF! | AP286: =S286/$S$4 -> #REF! | AQ286: =IF(AP286<0.8,1,0) -> #REF! | AR286: =IF(AND(AP286>=0.8,AP286<1),1,0) -> #REF! | AS286: =IF(AND(AP286>=1,AP286<1.2),1,0) -> #REF! | AT286: =IF(AP286>1.2,1,0) -> #REF! | AU286: =V286/$V$4 -> #REF! | AV286: =IF(AU286<0.8,1,0) -> #REF! | AW286: =IF(AND(AU286>=0.8,AU286<1),1,0) -> #REF! | AX286: =IF(AND(AU286>=1,AU286<1.2),1,0) -> #REF! | AY286: =IF(AU286>1.2,1,0) -> #REF! | AZ286: =Y286/$Y$4 -> #REF! | BA286: =IF(AZ286<0.8,1,0) -> #REF! | BB286: =IF(AND(AZ286>=0.8,AZ286<1),1,0) -> #REF! | BC286: =IF(AND(AZ286>=1,AZ286<1.2),1,0) -> #REF! | BD286: =IF(AZ286>1.2,1,0) -> #REF!
C287: 80 | D287: VOSGES | E287: 57 | F287: EPINAL | G287: 488281 | H287: ELOYES | K287: =SUMIF('RECAP PDV'!$E:$E,$G287,'RECAP PDV'!K:K) -> 55.28068 | N287: =SUMIF('RECAP PDV'!$E:$E,$G287,'RECAP PDV'!N:N) -> 0 | AF287: =M287/$M$4 -> #REF! | AG287: =IF(AF287<0.8,1,0) -> #REF! | AH287: =IF(AND(AF287>=0.8,AF287<1),1,0) -> #REF! | AI287: =IF(AND(AF287>=1,AF287<1.1),1,0) -> #REF! | AJ287: =IF(AF287>1.1,1,0) -> #REF! | AK287: =P287/$P$4 -> #REF! | AL287: =IF(AK287<0.8,1,0) -> #REF! | AM287: =IF(AND(AK287>=0.8,AK287<1),1,0) -> #REF! | AN287: =IF(AND(AK287>=1,AK287<1.2),1,0) -> #REF! | AO287: =IF(AK287>1.2,1,0) -> #REF! | AP287: =S287/$S$4 -> #REF! | AQ287: =IF(AP287<0.8,1,0) -> #REF! | AR287: =IF(AND(AP287>=0.8,AP287<1),1,0) -> #REF! | AS287: =IF(AND(AP287>=1,AP287<1.2),1,0) -> #REF! | AT287: =IF(AP287>1.2,1,0) -> #REF! | AU287: =V287/$V$4 -> #REF! | AV287: =IF(AU287<0.8,1,0) -> #REF! | AW287: =IF(AND(AU287>=0.8,AU287<1),1,0) -> #REF! | AX287: =IF(AND(AU287>=1,AU287<1.2),1,0) -> #REF! | AY287: =IF(AU287>1.2,1,0) -> #REF! | AZ287: =Y287/$Y$4 -> #REF! | BA287: =IF(AZ287<0.8,1,0) -> #REF! | BB287: =IF(AND(AZ287>=0.8,AZ287<1),1,0) -> #REF! | BC287: =IF(AND(AZ287>=1,AZ287<1.2),1,0) -> #REF! | BD287: =IF(AZ287>1.2,1,0) -> #REF!
C288: 80 | D288: VOSGES | E288: 57 | F288: EPINAL | G288: 488286 | H288: EPINAL ARISTIDE BRIAND | K288: =SUMIF('RECAP PDV'!$E:$E,$G288,'RECAP PDV'!K:K) -> 1105.2706 | N288: =SUMIF('RECAP PDV'!$E:$E,$G288,'RECAP PDV'!N:N) -> 0 | AF288: =M288/$M$4 -> #REF! | AG288: =IF(AF288<0.8,1,0) -> #REF! | AH288: =IF(AND(AF288>=0.8,AF288<1),1,0) -> #REF! | AI288: =IF(AND(AF288>=1,AF288<1.1),1,0) -> #REF! | AJ288: =IF(AF288>1.1,1,0) -> #REF! | AK288: =P288/$P$4 -> #REF! | AL288: =IF(AK288<0.8,1,0) -> #REF! | AM288: =IF(AND(AK288>=0.8,AK288<1),1,0) -> #REF! | AN288: =IF(AND(AK288>=1,AK288<1.2),1,0) -> #REF! | AO288: =IF(AK288>1.2,1,0) -> #REF! | AP288: =S288/$S$4 -> #REF! | AQ288: =IF(AP288<0.8,1,0) -> #REF! | AR288: =IF(AND(AP288>=0.8,AP288<1),1,0) -> #REF! | AS288: =IF(AND(AP288>=1,AP288<1.2),1,0) -> #REF! | AT288: =IF(AP288>1.2,1,0) -> #REF! | AU288: =V288/$V$4 -> #REF! | AV288: =IF(AU288<0.8,1,0) -> #REF! | AW288: =IF(AND(AU288>=0.8,AU288<1),1,0) -> #REF! | AX288: =IF(AND(AU288>=1,AU288<1.2),1,0) -> #REF! | AY288: =IF(AU288>1.2,1,0) -> #REF! | AZ288: =Y288/$Y$4 -> #REF! | BA288: =IF(AZ288<0.8,1,0) -> #REF! | BB288: =IF(AND(AZ288>=0.8,AZ288<1),1,0) -> #REF! | BC288: =IF(AND(AZ288>=1,AZ288<1.2),1,0) -> #REF! | BD288: =IF(AZ288>1.2,1,0) -> #REF!
C289: 80 | D289: VOSGES | E289: 57 | F289: EPINAL | G289: 488291 | H289: EPINAL AVRINSART | K289: =SUMIF('RECAP PDV'!$E:$E,$G289,'RECAP PDV'!K:K) -> 18.68 | N289: =SUMIF('RECAP PDV'!$E:$E,$G289,'RECAP PDV'!N:N) -> 0 | AF289: =M289/$M$4 -> #REF! | AG289: =IF(AF289<0.8,1,0) -> #REF! | AH289: =IF(AND(AF289>=0.8,AF289<1),1,0) -> #REF! | AI289: =IF(AND(AF289>=1,AF289<1.1),1,0) -> #REF! | AJ289: =IF(AF289>1.1,1,0) -> #REF! | AK289: =P289/$P$4 -> #REF! | AL289: =IF(AK289<0.8,1,0) -> #REF! | AM289: =IF(AND(AK289>=0.8,AK289<1),1,0) -> #REF! | AN289: =IF(AND(AK289>=1,AK289<1.2),1,0) -> #REF! | AO289: =IF(AK289>1.2,1,0) -> #REF! | AP289: =S289/$S$4 -> #REF! | AQ289: =IF(AP289<0.8,1,0) -> #REF! | AR289: =IF(AND(AP289>=0.8,AP289<1),1,0) -> #REF! | AS289: =IF(AND(AP289>=1,AP289<1.2),1,0) -> #REF! | AT289: =IF(AP289>1.2,1,0) -> #REF! | AU289: =V289/$V$4 -> #REF! | AV289: =IF(AU289<0.8,1,0) -> #REF! | AW289: =IF(AND(AU289>=0.8,AU289<1),1,0) -> #REF! | AX289: =IF(AND(AU289>=1,AU289<1.2),1,0) -> #REF! | AY289: =IF(AU289>1.2,1,0) -> #REF! | AZ289: =Y289/$Y$4 -> #REF! | BA289: =IF(AZ289<0.8,1,0) -> #REF! | BB289: =IF(AND(AZ289>=0.8,AZ289<1),1,0) -> #REF! | BC289: =IF(AND(AZ289>=1,AZ289<1.2),1,0) -> #REF! | BD289: =IF(AZ289>1.2,1,0) -> #REF!
C290: 80 | D290: VOSGES | E290: 57 | F290: EPINAL | G290: 488288 | H290: EPINAL LEOPOLD BOURG | K290: =SUMIF('RECAP PDV'!$E:$E,$G290,'RECAP PDV'!K:K) -> -98.86628 | N290: =SUMIF('RECAP PDV'!$E:$E,$G290,'RECAP PDV'!N:N) -> 0 | AF290: =M290/$M$4 -> #REF! | AG290: =IF(AF290<0.8,1,0) -> #REF! | AH290: =IF(AND(AF290>=0.8,AF290<1),1,0) -> #REF! | AI290: =IF(AND(AF290>=1,AF290<1.1),1,0) -> #REF! | AJ290: =IF(AF290>1.1,1,0) -> #REF! | AK290: =P290/$P$4 -> #REF! | AL290: =IF(AK290<0.8,1,0) -> #REF! | AM290: =IF(AND(AK290>=0.8,AK290<1),1,0) -> #REF! | AN290: =IF(AND(AK290>=1,AK290<1.2),1,0) -> #REF! | AO290: =IF(AK290>1.2,1,0) -> #REF! | AP290: =S290/$S$4 -> #REF! | AQ290: =IF(AP290<0.8,1,0) -> #REF! | AR290: =IF(AND(AP290>=0.8,AP290<1),1,0) -> #REF! | AS290: =IF(AND(AP290>=1,AP290<1.2),1,0) -> #REF! | AT290: =IF(AP290>1.2,1,0) -> #REF! | AU290: =V290/$V$4 -> #REF! | AV290: =IF(AU290<0.8,1,0) -> #REF! | AW290: =IF(AND(AU290>=0.8,AU290<1),1,0) -> #REF! | AX290: =IF(AND(AU290>=1,AU290<1.2),1,0) -> #REF! | AY290: =IF(AU290>1.2,1,0) -> #REF! | AZ290: =Y290/$Y$4 -> #REF! | BA290: =IF(AZ290<0.8,1,0) -> #REF! | BB290: =IF(AND(AZ290>=0.8,AZ290<1),1,0) -> #REF! | BC290: =IF(AND(AZ290>=1,AZ290<1.2),1,0) -> #REF! | BD290: =IF(AZ290>1.2,1,0) -> #REF!
C291: 80 | D291: VOSGES | E291: 57 | F291: EPINAL | G291: 588336 | H291: GOLBEY | K291: =SUMIF('RECAP PDV'!$E:$E,$G291,'RECAP PDV'!K:K) -> 131.19437 | N291: =SUMIF('RECAP PDV'!$E:$E,$G291,'RECAP PDV'!N:N) -> 0 | AF291: =M291/$M$4 -> #REF! | AG291: =IF(AF291<0.8,1,0) -> #REF! | AH291: =IF(AND(AF291>=0.8,AF291<1),1,0) -> #REF! | AI291: =IF(AND(AF291>=1,AF291<1.1),1,0) -> #REF! | AJ291: =IF(AF291>1.1,1,0) -> #REF! | AK291: =P291/$P$4 -> #REF! | AL291: =IF(AK291<0.8,1,0) -> #REF! | AM291: =IF(AND(AK291>=0.8,AK291<1),1,0) -> #REF! | AN291: =IF(AND(AK291>=1,AK291<1.2),1,0) -> #REF! | AO291: =IF(AK291>1.2,1,0) -> #REF! | AP291: =S291/$S$4 -> #REF! | AQ291: =IF(AP291<0.8,1,0) -> #REF! | AR291: =IF(AND(AP291>=0.8,AP291<1),1,0) -> #REF! | AS291: =IF(AND(AP291>=1,AP291<1.2),1,0) -> #REF! | AT291: =IF(AP291>1.2,1,0) -> #REF! | AU291: =V291/$V$4 -> #REF! | AV291: =IF(AU291<0.8,1,0) -> #REF! | AW291: =IF(AND(AU291>=0.8,AU291<1),1,0) -> #REF! | AX291: =IF(AND(AU291>=1,AU291<1.2),1,0) -> #REF! | AY291: =IF(AU291>1.2,1,0) -> #REF! | AZ291: =Y291/$Y$4 -> #REF! | BA291: =IF(AZ291<0.8,1,0) -> #REF! | BB291: =IF(AND(AZ291>=0.8,AZ291<1),1,0) -> #REF! | BC291: =IF(AND(AZ291>=1,AZ291<1.2),1,0) -> #REF! | BD291: =IF(AZ291>1.2,1,0) -> #REF!
C292: 80 | D292: VOSGES | E292: 57 | F292: EPINAL | G292: 588396 | H292: LE VAL D AJOL | K292: =SUMIF('RECAP PDV'!$E:$E,$G292,'RECAP PDV'!K:K) -> -53.92642 | N292: =SUMIF('RECAP PDV'!$E:$E,$G292,'RECAP PDV'!N:N) -> 0 | AF292: =M292/$M$4 -> #REF! | AG292: =IF(AF292<0.8,1,0) -> #REF! | AH292: =IF(AND(AF292>=0.8,AF292<1),1,0) -> #REF! | AI292: =IF(AND(AF292>=1,AF292<1.1),1,0) -> #REF! | AJ292: =IF(AF292>1.1,1,0) -> #REF! | AK292: =P292/$P$4 -> #REF! | AL292: =IF(AK292<0.8,1,0) -> #REF! | AM292: =IF(AND(AK292>=0.8,AK292<1),1,0) -> #REF! | AN292: =IF(AND(AK292>=1,AK292<1.2),1,0) -> #REF! | AO292: =IF(AK292>1.2,1,0) -> #REF! | AP292: =S292/$S$4 -> #REF! | AQ292: =IF(AP292<0.8,1,0) -> #REF! | AR292: =IF(AND(AP292>=0.8,AP292<1),1,0) -> #REF! | AS292: =IF(AND(AP292>=1,AP292<1.2),1,0) -> #REF! | AT292: =IF(AP292>1.2,1,0) -> #REF! | AU292: =V292/$V$4 -> #REF! | AV292: =IF(AU292<0.8,1,0) -> #REF! | AW292: =IF(AND(AU292>=0.8,AU292<1),1,0) -> #REF! | AX292: =IF(AND(AU292>=1,AU292<1.2),1,0) -> #REF! | AY292: =IF(AU292>1.2,1,0) -> #REF! | AZ292: =Y292/$Y$4 -> #REF! | BA292: =IF(AZ292<0.8,1,0) -> #REF! | BB292: =IF(AND(AZ292>=0.8,AZ292<1),1,0) -> #REF! | BC292: =IF(AND(AZ292>=1,AZ292<1.2),1,0) -> #REF! | BD292: =IF(AZ292>1.2,1,0) -> #REF!
C293: 80 | D293: VOSGES | E293: 57 | F293: EPINAL | G293: 488451 | H293: MIRECOURT | K293: =SUMIF('RECAP PDV'!$E:$E,$G293,'RECAP PDV'!K:K) -> 991.25432 | N293: =SUMIF('RECAP PDV'!$E:$E,$G293,'RECAP PDV'!N:N) -> 0 | AF293: =M293/$M$4 -> #REF! | AG293: =IF(AF293<0.8,1,0) -> #REF! | AH293: =IF(AND(AF293>=0.8,AF293<1),1,0) -> #REF! | AI293: =IF(AND(AF293>=1,AF293<1.1),1,0) -> #REF! | AJ293: =IF(AF293>1.1,1,0) -> #REF! | AK293: =P293/$P$4 -> #REF! | AL293: =IF(AK293<0.8,1,0) -> #REF! | AM293: =IF(AND(AK293>=0.8,AK293<1),1,0) -> #REF! | AN293: =IF(AND(AK293>=1,AK293<1.2),1,0) -> #REF! | AO293: =IF(AK293>1.2,1,0) -> #REF! | AP293: =S293/$S$4 -> #REF! | AQ293: =IF(AP293<0.8,1,0) -> #REF! | AR293: =IF(AND(AP293>=0.8,AP293<1),1,0) -> #REF! | AS293: =IF(AND(AP293>=1,AP293<1.2),1,0) -> #REF! | AT293: =IF(AP293>1.2,1,0) -> #REF! | AU293: =V293/$V$4 -> #REF! | AV293: =IF(AU293<0.8,1,0) -> #REF! | AW293: =IF(AND(AU293>=0.8,AU293<1),1,0) -> #REF! | AX293: =IF(AND(AU293>=1,AU293<1.2),1,0) -> #REF! | AY293: =IF(AU293>1.2,1,0) -> #REF! | AZ293: =Y293/$Y$4 -> #REF! | BA293: =IF(AZ293<0.8,1,0) -> #REF! | BB293: =IF(AND(AZ293>=0.8,AZ293<1),1,0) -> #REF! | BC293: =IF(AND(AZ293>=1,AZ293<1.2),1,0) -> #REF! | BD293: =IF(AZ293>1.2,1,0) -> #REF!
... C312: 80 | D312: VOSGES | E312: 55 | F312: SAINT DIE | G312: 588666 | H312: VAGNEY | K312: =SUMIF('RECAP PDV'!$E:$E,$G312,'RECAP PDV'!K:K) -> 720.08957 | N312: =SUMIF('RECAP PDV'!$E:$E,$G312,'RECAP PDV'!N:N) -> 0 | AF312: =M312/$M$4 -> #REF! | AG312: =IF(AF312<0.8,1,0) -> #REF! | AH312: =IF(AND(AF312>=0.8,AF312<1),1,0) -> #REF! | AI312: =IF(AND(AF312>=1,AF312<1.1),1,0) -> #REF! | AJ312: =IF(AF312>1.1,1,0) -> #REF! | AK312: =P312/$P$4 -> #REF! | AL312: =IF(AK312<0.8,1,0) -> #REF! | AM312: =IF(AND(AK312>=0.8,AK312<1),1,0) -> #REF! | AN312: =IF(AND(AK312>=1,AK312<1.2),1,0) -> #REF! | AO312: =IF(AK312>1.2,1,0) -> #REF! | AP312: =S312/$S$4 -> #REF! | AQ312: =IF(AP312<0.8,1,0) -> #REF! | AR312: =IF(AND(AP312>=0.8,AP312<1),1,0) -> #REF! | AS312: =IF(AND(AP312>=1,AP312<1.2),1,0) -> #REF! | AT312: =IF(AP312>1.2,1,0) -> #REF! | AU312: =V312/$V$4 -> #REF! | AV312: =IF(AU312<0.8,1,0) -> #REF! | AW312: =IF(AND(AU312>=0.8,AU312<1),1,0) -> #REF! | AX312: =IF(AND(AU312>=1,AU312<1.2),1,0) -> #REF! | AY312: =IF(AU312>1.2,1,0) -> #REF! | AZ312: =Y312/$Y$4 -> #REF! | BA312: =IF(AZ312<0.8,1,0) -> #REF! | BB312: =IF(AND(AZ312>=0.8,AZ312<1),1,0) -> #REF! | BC312: =IF(AND(AZ312>=1,AZ312<1.2),1,0) -> #REF! | BD312: =IF(AZ312>1.2,1,0) -> #REF!
AG314: =SUM(AG6:AG312) -> #REF! | AH314: =SUM(AH6:AH312) -> #REF! | AI314: =SUM(AI6:AI312) -> #REF! | AJ314: =SUM(AJ6:AJ312) -> #REF! | AL314: =SUM(AL6:AL312) -> #REF! | AM314: =SUM(AM6:AM312) -> #REF! | AN314: =SUM(AN6:AN312) -> #REF! | AO314: =SUM(AO6:AO312) -> #REF! | AQ314: =SUM(AQ6:AQ312) -> #REF! | AR314: =SUM(AR6:AR312) -> #REF! | AS314: =SUM(AS6:AS312) -> #REF! | AT314: =SUM(AT6:AT312) -> #REF! | AV314: =SUM(AV6:AV312) -> #REF! | AW314: =SUM(AW6:AW312) -> #REF! | AX314: =SUM(AX6:AX312) -> #REF! | AY314: =SUM(AY6:AY312) -> #REF! | BA314: =SUM(BA6:BA312) -> #REF! | BB314: =SUM(BB6:BB312) -> #REF! | BC314: =SUM(BC6:BC312) -> #REF! | BD314: =SUM(BD6:BD312) -> #REF!

Sheet RECAP TER
G1: 1 | H1: 2 | I1: 3 | J1: 4 | K1: 5 | L1: 6 | M1: 7 | N1: 8 | O1: 9 | P1: 10 | Q1: 11 | R1: 12 | S1: 13 | T1: 14 | U1: 15 | V1: 16 | W1: 17 | X1: 18 | Y1: 19
K3: Excédents de collecte ASV par ETP | N3: Chiffre d'affaire UC par ETP | Q3: Qualité NPS | T3: Evolution du nombre de clients Premium par ETP | W3: Ventes brutes Cartes Infinite et Platinum par ETP
L4: Taux d'atteinte saisonalisé | M4: =VLOOKUP(#REF!,#REF!,6,FALSE) -> #REF! | O4: Taux d'atteinte saisonalisé | P4: =VLOOKUP(#REF!,#REF!,6,FALSE) -> #REF! | R4: Taux d'atteinte saisonalisé | S4: =VLOOKUP(#REF!,#REF!,6,FALSE) -> #REF! | U4: Taux d'atteinte saisonalisé | V4: =VLOOKUP(#REF!,#REF!,6,FALSE) -> #REF! | X4: Taux d'atteinte saisonalisé | Y4: =VLOOKUP(#REF!,#REF!,6,FALSE) -> #REF!
D5: eds pnb | E5: NO GROUPE | F5: groupe | G5: UC | H5: libelle uc | I5: ETP | K5: Réal | L5: Obj | M5: % | N5: Réal | O5: Obj | P5: % | Q5: Réal | R5: Obj | S5: % | T5: Réal | U5: Obj | V5: % | W5: Réal | X5: Obj | Y5: % | AG5: 0.8 | AH5: 80% 100% | AI5: 100% 110% | AJ5: 1.1 | AL5: 0.8 | AM5: 80% 100% | AN5: 100% 120% | AO5: 1.2 | AQ5: 0.8 | AR5: 80% 100% | AS5: 100% 120% | AT5: 1.2 | AV5: 0.8 | AW5: 80% 100% | AX5: 100% 120% | AY5: 1.2 | BA5: 0.8 | BB5: 80% 100% | BC5: 100% 120% | BD5: 1.2
D6: 100021 | E6: 50 | F6: AUBE HAUTE MARNE | G6: 21 | H6: CHAUMONT | K6: =SUMIF('RECAP PDV'!$C:$C,$G6,'RECAP PDV'!K:K) -> 7313.5603 | N6: =SUMIF('RECAP PDV'!$C:$C,$G6,'RECAP PDV'!N:N) -> 0 | AF6: =M6/$M$4 -> #REF! | AG6: =IF(AF6<0.8,1,0) -> #REF! | AH6: =IF(AND(AF6>=0.8,AF6<1),1,0) -> #REF! | AI6: =IF(AND(AF6>=1,AF6<1.1),1,0) -> #REF! | AJ6: =IF(AF6>1.1,1,0) -> #REF! | AK6: =P6/$P$4 -> #REF! | AL6: =IF(AK6<0.8,1,0) -> #REF! | AM6: =IF(AND(AK6>=0.8,AK6<1),1,0) -> #REF! | AN6: =IF(AND(AK6>=1,AK6<1.2),1,0) -> #REF! | AO6: =IF(AK6>1.2,1,0) -> #REF! | AP6: =S6/$S$4 -> #REF! | AQ6: =IF(AP6<0.8,1,0) -> #REF! | AR6: =IF(AND(AP6>=0.8,AP6<1),1,0) -> #REF! | AS6: =IF(AND(AP6>=1,AP6<1.2),1,0) -> #REF! | AT6: =IF(AP6>1.2,1,0) -> #REF! | AU6: =V6/$V$4 -> #REF! | AV6: =IF(AU6<0.8,1,0) -> #REF! | AW6: =IF(AND(AU6>=0.8,AU6<1),1,0) -> #REF! | AX6: =IF(AND(AU6>=1,AU6<1.2),1,0) -> #REF! | AY6: =IF(AU6>1.2,1,0) -> #REF! | AZ6: =Y6/$Y$4 -> #REF! | BA6: =IF(AZ6<0.8,1,0) -> #REF! | BB6: =IF(AND(AZ6>=0.8,AZ6<1),1,0) -> #REF! | BC6: =IF(AND(AZ6>=1,AZ6<1.2),1,0) -> #REF! | BD6: =IF(AZ6>1.2,1,0) -> #REF!
D7: 100014 | E7: 50 | F7: AUBE HAUTE MARNE | G7: 14 | H7: TROYES | K7: =SUMIF('RECAP PDV'!$C:$C,$G7,'RECAP PDV'!K:K) -> 19194.061 | N7: =SUMIF('RECAP PDV'!$C:$C,$G7,'RECAP PDV'!N:N) -> 0 | AF7: =M7/$M$4 -> #REF! | AG7: =IF(AF7<0.8,1,0) -> #REF! | AH7: =IF(AND(AF7>=0.8,AF7<1),1,0) -> #REF! | AI7: =IF(AND(AF7>=1,AF7<1.1),1,0) -> #REF! | AJ7: =IF(AF7>1.1,1,0) -> #REF! | AK7: =P7/$P$4 -> #REF! | AL7: =IF(AK7<0.8,1,0) -> #REF! | AM7: =IF(AND(AK7>=0.8,AK7<1),1,0) -> #REF! | AN7: =IF(AND(AK7>=1,AK7<1.2),1,0) -> #REF! | AO7: =IF(AK7>1.2,1,0) -> #REF! | AP7: =S7/$S$4 -> #REF! | AQ7: =IF(AP7<0.8,1,0) -> #REF! | AR7: =IF(AND(AP7>=0.8,AP7<1),1,0) -> #REF! | AS7: =IF(AND(AP7>=1,AP7<1.2),1,0) -> #REF! | AT7: =IF(AP7>1.2,1,0) -> #REF! | AU7: =V7/$V$4 -> #REF! | AV7: =IF(AU7<0.8,1,0) -> #REF! | AW7: =IF(AND(AU7>=0.8,AU7<1),1,0) -> #REF! | AX7: =IF(AND(AU7>=1,AU7<1.2),1,0) -> #REF! | AY7: =IF(AU7>1.2,1,0) -> #REF! | AZ7: =Y7/$Y$4 -> #REF! | BA7: =IF(AZ7<0.8,1,0) -> #REF! | BB7: =IF(AND(AZ7>=0.8,AZ7<1),1,0) -> #REF! | BC7: =IF(AND(AZ7>=1,AZ7<1.2),1,0) -> #REF! | BD7: =IF(AZ7>1.2,1,0) -> #REF!
D8: 105060 | E8: 262 | F8: BAS-RHIN | G8: 5060 | H8: HAGUENAU | K8: =SUMIF('RECAP PDV'!$C:$C,$G8,'RECAP PDV'!K:K) -> 5524.693 | N8: =SUMIF('RECAP PDV'!$C:$C,$G8,'RECAP PDV'!N:N) -> 0.152 | AF8: =M8/$M$4 -> #REF! | AG8: =IF(AF8<0.8,1,0) -> #REF! | AH8: =IF(AND(AF8>=0.8,AF8<1),1,0) -> #REF! | AI8: =IF(AND(AF8>=1,AF8<1.1),1,0) -> #REF! | AJ8: =IF(AF8>1.1,1,0) -> #REF! | AK8: =P8/$P$4 -> #REF! | AL8: =IF(AK8<0.8,1,0) -> #REF! | AM8: =IF(AND(AK8>=0.8,AK8<1),1,0) -> #REF! | AN8: =IF(AND(AK8>=1,AK8<1.2),1,0) -> #REF! | AO8: =IF(AK8>1.2,1,0) -> #REF! | AP8: =S8/$S$4 -> #REF! | AQ8: =IF(AP8<0.8,1,0) -> #REF! | AR8: =IF(AND(AP8>=0.8,AP8<1),1,0) -> #REF! | AS8: =IF(AND(AP8>=1,AP8<1.2),1,0) -> #REF! | AT8: =IF(AP8>1.2,1,0) -> #REF! | AU8: =V8/$V$4 -> #REF! | AV8: =IF(AU8<0.8,1,0) -> #REF! | AW8: =IF(AND(AU8>=0.8,AU8<1),1,0) -> #REF! | AX8: =IF(AND(AU8>=1,AU8<1.2),1,0) -> #REF! | AY8: =IF(AU8>1.2,1,0) -> #REF! | AZ8: =Y8/$Y$4 -> #REF! | BA8: =IF(AZ8<0.8,1,0) -> #REF! | BB8: =IF(AND(AZ8>=0.8,AZ8<1),1,0) -> #REF! | BC8: =IF(AND(AZ8>=1,AZ8<1.2),1,0) -> #REF! | BD8: =IF(AZ8>1.2,1,0) -> #REF!
D9: 105101 | E9: 262 | F9: BAS-RHIN | G9: 5101 | H9: SELESTAT | K9: =SUMIF('RECAP PDV'!$C:$C,$G9,'RECAP PDV'!K:K) -> 9483.9384 | N9: =SUMIF('RECAP PDV'!$C:$C,$G9,'RECAP PDV'!N:N) -> 0 | AF9: =M9/$M$4 -> #REF! | AG9: =IF(AF9<0.8,1,0) -> #REF! | AH9: =IF(AND(AF9>=0.8,AF9<1),1,0) -> #REF! | AI9: =IF(AND(AF9>=1,AF9<1.1),1,0) -> #REF! | AJ9: =IF(AF9>1.1,1,0) -> #REF! | AK9: =P9/$P$4 -> #REF! | AL9: =IF(AK9<0.8,1,0) -> #REF! | AM9: =IF(AND(AK9>=0.8,AK9<1),1,0) -> #REF! | AN9: =IF(AND(AK9>=1,AK9<1.2),1,0) -> #REF! | AO9: =IF(AK9>1.2,1,0) -> #REF! | AP9: =S9/$S$4 -> #REF! | AQ9: =IF(AP9<0.8,1,0) -> #REF! | AR9: =IF(AND(AP9>=0.8,AP9<1),1,0) -> #REF! | AS9: =IF(AND(AP9>=1,AP9<1.2),1,0) -> #REF! | AT9: =IF(AP9>1.2,1,0) -> #REF! | AU9: =V9/$V$4 -> #REF! | AV9: =IF(AU9<0.8,1,0) -> #REF! | AW9: =IF(AND(AU9>=0.8,AU9<1),1,0) -> #REF! | AX9: =IF(AND(AU9>=1,AU9<1.2),1,0) -> #REF! | AY9: =IF(AU9>1.2,1,0) -> #REF! | AZ9: =Y9/$Y$4 -> #REF! | BA9: =IF(AZ9<0.8,1,0) -> #REF! | BB9: =IF(AND(AZ9>=0.8,AZ9<1),1,0) -> #REF! | BC9: =IF(AND(AZ9>=1,AZ9<1.2),1,0) -> #REF! | BD9: =IF(AZ9>1.2,1,0) -> #REF!
D10: 105006 | E10: 262 | F10: BAS-RHIN | G10: 5006 | H10: STRASBOURG | K10: =SUMIF('RECAP PDV'!$C:$C,$G10,'RECAP PDV'!K:K) -> 16938.191 | N10: =SUMIF('RECAP PDV'!$C:$C,$G10,'RECAP PDV'!N:N) -> 0 | AF10: =M10/$M$4 -> #REF! | AG10: =IF(AF10<0.8,1,0) -> #REF! | AH10: =IF(AND(AF10>=0.8,AF10<1),1,0) -> #REF! | AI10: =IF(AND(AF10>=1,AF10<1.1),1,0) -> #REF! | AJ10: =IF(AF10>1.1,1,0) -> #REF! | AK10: =P10/$P$4 -> #REF! | AL10: =IF(AK10<0.8,1,0) -> #REF! | AM10: =IF(AND(AK10>=0.8,AK10<1),1,0) -> #REF! | AN10: =IF(AND(AK10>=1,AK10<1.2),1,0) -> #REF! | AO10: =IF(AK10>1.2,1,0) -> #REF! | AP10: =S10/$S$4 -> #REF! | AQ10: =IF(AP10<0.8,1,0) -> #REF! | AR10: =IF(AND(AP10>=0.8,AP10<1),1,0) -> #REF! | AS10: =IF(AND(AP10>=1,AP10<1.2),1,0) -> #REF! | AT10: =IF(AP10>1.2,1,0) -> #REF! | AU10: =V10/$V$4 -> #REF! | AV10: =IF(AU10<0.8,1,0) -> #REF! | AW10: =IF(AND(AU10>=0.8,AU10<1),1,0) -> #REF! | AX10: =IF(AND(AU10>=1,AU10<1.2),1,0) -> #REF! | AY10: =IF(AU10>1.2,1,0) -> #REF! | AZ10: =Y10/$Y$4 -> #REF! | BA10: =IF(AZ10<0.8,1,0) -> #REF! | BB10: =IF(AND(AZ10>=0.8,AZ10<1),1,0) -> #REF! | BC10: =IF(AND(AZ10>=1,AZ10<1.2),1,0) -> #REF! | BD10: =IF(AZ10>1.2,1,0) -> #REF!
D11: 105130 | E11: 264 | F11: HAUT-RHIN | G11: 5130 | H11: COLMAR | K11: =SUMIF('RECAP PDV'!$C:$C,$G11,'RECAP PDV'!K:K) -> 7902.6512 | N11: =SUMIF('RECAP PDV'!$C:$C,$G11,'RECAP PDV'!N:N) -> 0 | AF11: =M11/$M$4 -> #REF! | AG11: =IF(AF11<0.8,1,0) -> #REF! | AH11: =IF(AND(AF11>=0.8,AF11<1),1,0) -> #REF! | AI11: =IF(AND(AF11>=1,AF11<1.1),1,0) -> #REF! | AJ11: =IF(AF11>1.1,1,0) -> #REF! | AK11: =P11/$P$4 -> #REF! | AL11: =IF(AK11<0.8,1,0) -> #REF! | AM11: =IF(AND(AK11>=0.8,AK11<1),1,0) -> #REF! | AN11: =IF(AND(AK11>=1,AK11<1.2),1,0) -> #REF! | AO11: =IF(AK11>1.2,1,0) -> #REF! | AP11: =S11/$S$4 -> #REF! | AQ11: =IF(AP11<0.8,1,0) -> #REF! | AR11: =IF(AND(AP11>=0.8,AP11<1),1,0) -> #REF! | AS11: =IF(AND(AP11>=1,AP11<1.2),1,0) -> #REF! | AT11: =IF(AP11>1.2,1,0) -> #REF! | AU11: =V11/$V$4 -> #REF! | AV11: =IF(AU11<0.8,1,0) -> #REF! | AW11: =IF(AND(AU11>=0.8,AU11<1),1,0) -> #REF! | AX11: =IF(AND(AU11>=1,AU11<1.2),1,0) -> #REF! | AY11: =IF(AU11>1.2,1,0) -> #REF! | AZ11: =Y11/$Y$4 -> #REF! | BA11: =IF(AZ11<0.8,1,0) -> #REF! | BB11: =IF(AND(AZ11>=0.8,AZ11<1),1,0) -> #REF! | BC11: =IF(AND(AZ11>=1,AZ11<1.2),1,0) -> #REF! | BD11: =IF(AZ11>1.2,1,0) -> #REF!
D12: 105169 | E12: 264 | F12: HAUT-RHIN | G12: 5169 | H12: MULHOUSE | K12: =SUMIF('RECAP PDV'!$C:$C,$G12,'RECAP PDV'!K:K) -> 8157.1668 | N12: =SUMIF('RECAP PDV'!$C:$C,$G12,'RECAP PDV'!N:N) -> 11.38 | AF12: =M12/$M$4 -> #REF! | AG12: =IF(AF12<0.8,1,0) -> #REF! | AH12: =IF(AND(AF12>=0.8,AF12<1),1,0) -> #REF! | AI12: =IF(AND(AF12>=1,AF12<1.1),1,0) -> #REF! | AJ12: =IF(AF12>1.1,1,0) -> #REF! | AK12: =P12/$P$4 -> #REF! | AL12: =IF(AK12<0.8,1,0) -> #REF! | AM12: =IF(AND(AK12>=0.8,AK12<1),1,0) -> #REF! | AN12: =IF(AND(AK12>=1,AK12<1.2),1,0) -> #REF! | AO12: =IF(AK12>1.2,1,0) -> #REF! | AP12: =S12/$S$4 -> #REF! | AQ12: =IF(AP12<0.8,1,0) -> #REF! | AR12: =IF(AND(AP12>=0.8,AP12<1),1,0) -> #REF! | AS12: =IF(AND(AP12>=1,AP12<1.2),1,0) -> #REF! | AT12: =IF(AP12>1.2,1,0) -> #REF! | AU12: =V12/$V$4 -> #REF! | AV12: =IF(AU12<0.8,1,0) -> #REF! | AW12: =IF(AND(AU12>=0.8,AU12<1),1,0) -> #REF! | AX12: =IF(AND(AU12>=1,AU12<1.2),1,0) -> #REF! | AY12: =IF(AU12>1.2,1,0) -> #REF! | AZ12: =Y12/$Y$4 -> #REF! | BA12: =IF(AZ12<0.8,1,0) -> #REF! | BB12: =IF(AND(AZ12>=0.8,AZ12<1),1,0) -> #REF! | BC12: =IF(AND(AZ12>=1,AZ12<1.2),1,0) -> #REF! | BD12: =IF(AZ12>1.2,1,0) -> #REF!
D13: 100006 | E13: 30 | F13: MARNE-ARDENNES | G13: 6 | H13: CHALONS EN CHAMPAGNE | K13: =SUMIF('RECAP PDV'!$C:$C,$G13,'RECAP PDV'!K:K) -> 2956.1673 | N13: =SUMIF('RECAP PDV'!$C:$C,$G13,'RECAP PDV'!N:N) -> 0 | AF13: =M13/$M$4 -> #REF! | AG13: =IF(AF13<0.8,1,0) -> #REF! | AH13: =IF(AND(AF13>=0.8,AF13<1),1,0) -> #REF! | AI13: =IF(AND(AF13>=1,AF13<1.1),1,0) -> #REF! | AJ13: =IF(AF13>1.1,1,0) -> #REF! | AK13: =P13/$P$4 -> #REF! | AL13: =IF(AK13<0.8,1,0) -> #REF! | AM13: =IF(AND(AK13>=0.8,AK13<1),1,0) -> #REF! | AN13: =IF(AND(AK13>=1,AK13<1.2),1,0) -> #REF! | AO13: =IF(AK13>1.2,1,0) -> #REF! | AP13: =S13/$S$4 -> #REF! | AQ13: =IF(AP13<0.8,1,0) -> #REF! | AR13: =IF(AND(AP13>=0.8,AP13<1),1,0) -> #REF! | AS13: =IF(AND(AP13>=1,AP13<1.2),1,0) -> #REF! | AT13: =IF(AP13>1.2,1,0) -> #REF! | AU13: =V13/$V$4 -> #REF! | AV13: =IF(AU13<0.8,1,0) -> #REF! | AW13: =IF(AND(AU13>=0.8,AU13<1),1,0) -> #REF! | AX13: =IF(AND(AU13>=1,AU13<1.2),1,0) -> #REF! | AY13: =IF(AU13>1.2,1,0) -> #REF! | AZ13: =Y13/$Y$4 -> #REF! | BA13: =IF(AZ13<0.8,1,0) -> #REF! | BB13: =IF(AND(AZ13>=0.8,AZ13<1),1,0) -> #REF! | BC13: =IF(AND(AZ13>=1,AZ13<1.2),1,0) -> #REF! | BD13: =IF(AZ13>1.2,1,0) -> #REF!
D14: 100002 | E14: 30 | F14: MARNE-ARDENNES | G14: 2 | H14: CHARLEVILLE MEZIERES | K14: =SUMIF('RECAP PDV'!$C:$C,$G14,'RECAP PDV'!K:K) -> 1225.9039 | N14: =SUMIF('RECAP PDV'!$C:$C,$G14,'RECAP PDV'!N:N) -> 0 | AF14: =M14/$M$4 -> #REF! | AG14: =IF(AF14<0.8,1,0) -> #REF! | AH14: =IF(AND(AF14>=0.8,AF14<1),1,0) -> #REF! | AI14: =IF(AND(AF14>=1,AF14<1.1),1,0) -> #REF! | AJ14: =IF(AF14>1.1,1,0) -> #REF! | AK14: =P14/$P$4 -> #REF! | AL14: =IF(AK14<0.8,1,0) -> #REF! | AM14: =IF(AND(AK14>=0.8,AK14<1),1,0) -> #REF! | AN14: =IF(AND(AK14>=1,AK14<1.2),1,0) -> #REF! | AO14: =IF(AK14>1.2,1,0) -> #REF! | AP14: =S14/$S$4 -> #REF! | AQ14: =IF(AP14<0.8,1,0) -> #REF! | AR14: =IF(AND(AP14>=0.8,AP14<1),1,0) -> #REF! | AS14: =IF(AND(AP14>=1,AP14<1.2),1,0) -> #REF! | AT14: =IF(AP14>1.2,1,0) -> #REF! | AU14: =V14/$V$4 -> #REF! | AV14: =IF(AU14<0.8,1,0) -> #REF! | AW14: =IF(AND(AU14>=0.8,AU14<1),1,0) -> #REF! | AX14: =IF(AND(AU14>=1,AU14<1.2),1,0) -> #REF! | AY14: =IF(AU14>1.2,1,0) -> #REF! | AZ14: =Y14/$Y$4 -> #REF! | BA14: =IF(AZ14<0.8,1,0) -> #REF! | BB14: =IF(AND(AZ14>=0.8,AZ14<1),1,0) -> #REF! | BC14: =IF(AND(AZ14>=1,AZ14<1.2),1,0) -> #REF! | BD14: =IF(AZ14>1.2,1,0) -> #REF!
D15: 100011 | E15: 30 | F15: MARNE-ARDENNES | G15: 11 | H15: REIMS | K15: =SUMIF('RECAP PDV'!$C:$C,$G15,'RECAP PDV'!K:K) -> 12850.268 | N15: =SUMIF('RECAP PDV'!$C:$C,$G15,'RECAP PDV'!N:N) -> 0 | AF15: =M15/$M$4 -> #REF! | AG15: =IF(AF15<0.8,1,0) -> #REF! | AH15: =IF(AND(AF15>=0.8,AF15<1),1,0) -> #REF! | AI15: =IF(AND(AF15>=1,AF15<1.1),1,0) -> #REF! | AJ15: =IF(AF15>1.1,1,0) -> #REF! | AK15: =P15/$P$4 -> #REF! | AL15: =IF(AK15<0.8,1,0) -> #REF! | AM15: =IF(AND(AK15>=0.8,AK15<1),1,0) -> #REF! | AN15: =IF(AND(AK15>=1,AK15<1.2),1,0) -> #REF! | AO15: =IF(AK15>1.2,1,0) -> #REF! | AP15: =S15/$S$4 -> #REF! | AQ15: =IF(AP15<0.8,1,0) -> #REF! | AR15: =IF(AND(AP15>=0.8,AP15<1),1,0) -> #REF! | AS15: =IF(AND(AP15>=1,AP15<1.2),1,0) -> #REF! | AT15: =IF(AP15>1.2,1,0) -> #REF! | AU15: =V15/$V$4 -> #REF! | AV15: =IF(AU15<0.8,1,0) -> #REF! | AW15: =IF(AND(AU15>=0.8,AU15<1),1,0) -> #REF! | AX15: =IF(AND(AU15>=1,AU15<1.2),1,0) -> #REF! | AY15: =IF(AU15>1.2,1,0) -> #REF! | AZ15: =Y15/$Y$4 -> #REF! | BA15: =IF(AZ15<0.8,1,0) -> #REF! | BB15: =IF(AND(AZ15>=0.8,AZ15<1),1,0) -> #REF! | BC15: =IF(AND(AZ15>=1,AZ15<1.2),1,0) -> #REF! | BD15: =IF(AZ15>1.2,1,0) -> #REF!
D16: 100026 | E16: 110 | F16: MEURTHE ET MOSELLE MEUSE | G16: 26 | H16: NANCY | K16: =SUMIF('RECAP PDV'!$C:$C,$G16,'RECAP PDV'!K:K) -> 9913.7764 | N16: =SUMIF('RECAP PDV'!$C:$C,$G16,'RECAP PDV'!N:N) -> 0 | AF16: =M16/$M$4 -> #REF! | AG16: =IF(AF16<0.8,1,0) -> #REF! | AH16: =IF(AND(AF16>=0.8,AF16<1),1,0) -> #REF! | AI16: =IF(AND(AF16>=1,AF16<1.1),1,0) -> #REF! | AJ16: =IF(AF16>1.1,1,0) -> #REF! | AK16: =P16/$P$4 -> #REF! | AL16: =IF(AK16<0.8,1,0) -> #REF! | AM16: =IF(AND(AK16>=0.8,AK16<1),1,0) -> #REF! | AN16: =IF(AND(AK16>=1,AK16<1.2),1,0) -> #REF! | AO16: =IF(AK16>1.2,1,0) -> #REF! | AP16: =S16/$S$4 -> #REF! | AQ16: =IF(AP16<0.8,1,0) -> #REF! | AR16: =IF(AND(AP16>=0.8,AP16<1),1,0) -> #REF! | AS16: =IF(AND(AP16>=1,AP16<1.2),1,0) -> #REF! | AT16: =IF(AP16>1.2,1,0) -> #REF! | AU16: =V16/$V$4 -> #REF! | AV16: =IF(AU16<0.8,1,0) -> #REF! | AW16: =IF(AND(AU16>=0.8,AU16<1),1,0) -> #REF! | AX16: =IF(AND(AU16>=1,AU16<1.2),1,0) -> #REF! | AY16: =IF(AU16>1.2,1,0) -> #REF! | AZ16: =Y16/$Y$4 -> #REF! | BA16: =IF(AZ16<0.8,1,0) -> #REF! | BB16: =IF(AND(AZ16>=0.8,AZ16<1),1,0) -> #REF! | BC16: =IF(AND(AZ16>=1,AZ16<1.2),1,0) -> #REF! | BD16: =IF(AZ16>1.2,1,0) -> #REF!
