Workbook

Sheet Accueil
F8: 43799

Sheet PV PRO
A1: Accueil | D1: BAROMETRE BDD - MARCHE PROFESSIONNELS
D2: PV PART SUR OBJECTIFS
D3: =+Accueil!F8 -> 43799
D7: Excédents de collecte par ETP yc DAV | G7: Engagements crédit MLT CBM LLD par ETP | J7: Qualité NPS PRO CEGEE | M7: Ventes brutes de forfaits Pro et Asso par ETP | P7: PNB sur activité nouvelle par ETP | S7: Evolution Proactifs + Proactifs Equipés par ETP
E8: Taux d'atteinte saisonalisé | F8: =VLOOKUP(D3,ETP!$K$10:$L$21,2,FALSE) -> 0.91666667 | H8: Taux d'atteinte saisonalisé | I8: =+$F$8 -> 0.91666667 | K8: Non disponible | N8: Taux d'atteinte saisonalisé | O8: =+$F$8 -> 0.91666667 | Q8: Taux d'atteinte saisonalisé | R8: =+$F$8 -> 0.91666667 | T8: Taux d'atteinte saisonalisé | U8: =+$F$8 -> 0.91666667
A9: eds | B9: Direction | C9: ETP perf | D9: Réal | E9: Obj | F9: % | G9: Réal | H9: Obj | I9: % | K9: Réal | M9: Réal | N9: Obj | O9: % | P9: Réal | Q9: Obj | R9: % | S9: Réal | T9: Obj | U9: %
A10: 50 | B10: Aube Haute Marne | C10: =VLOOKUP($A10,'RECAP DC'!$G$6:$AB$12,3,FALSE) -> 11.648474 | D10: =VLOOKUP($A10,'RECAP DC'!$G$6:$AB$12,5,FALSE) -> 1456.6336 | E10: =VLOOKUP($A10,'RECAP DC'!$G$6:$AB$12,6,FALSE) -> 278.20581 | F10: =VLOOKUP($A10,'RECAP DC'!$G$6:$AB$12,7,FALSE) -> 5.2358128 | G10: =VLOOKUP($A10,'RECAP DC'!$G$6:$AB$12,8,FALSE) -> 2578.4144 | H10: =VLOOKUP($A10,'RECAP DC'!$G$6:$AB$12,9,FALSE) -> 2477.7705 | I10: =VLOOKUP($A10,'RECAP DC'!$G$6:$AB$12,10,FALSE) -> 1.0406187 | K10: =VLOOKUP($A10,'RECAP DC'!$G$6:$AB$12,12,FALSE) -> #REF! | M10: =VLOOKUP($A10,'RECAP DC'!$G$6:$AB$12,14,FALSE) -> 30.73364 | N10: =VLOOKUP($A10,'RECAP DC'!$G$6:$AB$12,15,FALSE) -> 34.775727 | O10: =VLOOKUP($A10,'RECAP DC'!$G$6:$AB$12,16,FALSE) -> 0.88376701 | P10: =VLOOKUP($A10,'RECAP DC'!$G$6:$AB$12,17,FALSE) -> 207.90886 | Q10: =VLOOKUP($A10,'RECAP DC'!$G$6:$AB$12,18,FALSE) -> 206.13312 | R10: =VLOOKUP($A10,'RECAP DC'!$G$6:$AB$12,19,FALSE) -> 1.0086145 | S10: =VLOOKUP($A10,'RECAP DC'!$G$6:$AB$12,20,FALSE) -> 0.42924078 | T10: =VLOOKUP($A10,'RECAP DC'!$G$6:$AB$12,21,FALSE) -> 10.867415 | U10: =VLOOKUP($A10,'RECAP DC'!$G$6:$AB$12,22,FALSE) -> 0.039497967
A11: 262 | B11: Bas-Rhin | C11: =VLOOKUP(A11,'RECAP DC'!$G$6:$AB$12,3,FALSE) -> 21.988649 | D11: =VLOOKUP($A11,'RECAP DC'!$G$6:$AB$12,5,FALSE) -> 864.89387 | E11: =VLOOKUP($A11,'RECAP DC'!$G$6:$AB$12,6,FALSE) -> 518.03622 | F11: =VLOOKUP($A11,'RECAP DC'!$G$6:$AB$12,7,FALSE) -> 1.6695625 | G11: =VLOOKUP($A11,'RECAP DC'!$G$6:$AB$12,8,FALSE) -> 2780.1138 | H11: =VLOOKUP($A11,'RECAP DC'!$G$6:$AB$12,9,FALSE) -> 2474.548 | I11: =VLOOKUP($A11,'RECAP DC'!$G$6:$AB$12,10,FALSE) -> 1.1234834 | K11: =VLOOKUP($A11,'RECAP DC'!$G$6:$AB$12,12,FALSE) -> #REF! | M11: =VLOOKUP($A11,'RECAP DC'!$G$6:$AB$12,14,FALSE) -> 30.970525 | N11: =VLOOKUP($A11,'RECAP DC'!$G$6:$AB$12,15,FALSE) -> 40.240314 | O11: =VLOOKUP($A11,'RECAP DC'!$G$6:$AB$12,16,FALSE) -> 0.76963926 | P11: =VLOOKUP($A11,'RECAP DC'!$G$6:$AB$12,17,FALSE) -> 247.85584 | Q11: =VLOOKUP($A11,'RECAP DC'!$G$6:$AB$12,18,FALSE) -> 245.41966 | R11: =VLOOKUP($A11,'RECAP DC'!$G$6:$AB$12,19,FALSE) -> 1.0099266 | S11: =VLOOKUP($A11,'RECAP DC'!$G$6:$AB$12,20,FALSE) -> 2.2739005 | T11: =VLOOKUP($A11,'RECAP DC'!$G$6:$AB$12,21,FALSE) -> 12.488373 | U11: =VLOOKUP($A11,'RECAP DC'!$G$6:$AB$12,22,FALSE) -> 0.1820814
A12: 264 | B12: Haut-Rhin | C12: =VLOOKUP(A12,'RECAP DC'!$G$6:$AB$12,3,FALSE) -> 12.607988 | D12: =VLOOKUP($A12,'RECAP DC'!$G$6:$AB$12,5,FALSE) -> 629.09425 | E12: =VLOOKUP($A12,'RECAP DC'!$G$6:$AB$12,6,FALSE) -> 447.56014 | F12: =VLOOKUP($A12,'RECAP DC'!$G$6:$AB$12,7,FALSE) -> 1.4056083 | G12: =VLOOKUP($A12,'RECAP DC'!$G$6:$AB$12,8,FALSE) -> 1982.9956 | H12: =VLOOKUP($A12,'RECAP DC'!$G$6:$AB$12,9,FALSE) -> 2079.0378 | I12: =VLOOKUP($A12,'RECAP DC'!$G$6:$AB$12,10,FALSE) -> 0.95380448 | K12: =VLOOKUP($A12,'RECAP DC'!$G$6:$AB$12,12,FALSE) -> #REF! | M12: =VLOOKUP($A12,'RECAP DC'!$G$6:$AB$12,14,FALSE) -> 27.284291 | N12: =VLOOKUP($A12,'RECAP DC'!$G$6:$AB$12,15,FALSE) -> 36.28866 | O12: =VLOOKUP($A12,'RECAP DC'!$G$6:$AB$12,16,FALSE) -> 0.75186824 | P12: =VLOOKUP($A12,'RECAP DC'!$G$6:$AB$12,17,FALSE) -> 188.09351 | Q12: =VLOOKUP($A12,'RECAP DC'!$G$6:$AB$12,18,FALSE) -> 220.1512 | R12: =VLOOKUP($A12,'RECAP DC'!$G$6:$AB$12,19,FALSE) -> 0.85438329 | S12: =VLOOKUP($A12,'RECAP DC'!$G$6:$AB$12,20,FALSE) -> 1.6656108 | T12: =VLOOKUP($A12,'RECAP DC'!$G$6:$AB$12,21,FALSE) -> 11.340206 | U12: =VLOOKUP($A12,'RECAP DC'!$G$6:$AB$12,22,FALSE) -> 0.14687659
A13: 30 | B13: Marne-Ardennes | C13: =VLOOKUP(A13,'RECAP DC'!$G$6:$AB$12,3,FALSE) -> 19.581965 | D13: =VLOOKUP($A13,'RECAP DC'!$G$6:$AB$12,5,FALSE) -> 737.42506 | E13: =VLOOKUP($A13,'RECAP DC'!$G$6:$AB$12,6,FALSE) -> 381.68211 | F13: =VLOOKUP($A13,'RECAP DC'!$G$6:$AB$12,7,FALSE) -> 1.9320399 | G13: =VLOOKUP($A13,'RECAP DC'!$G$6:$AB$12,8,FALSE) -> 2876.1877 | H13: =VLOOKUP($A13,'RECAP DC'!$G$6:$AB$12,9,FALSE) -> 2733.4005 | I13: =VLOOKUP($A13,'RECAP DC'!$G$6:$AB$12,10,FALSE) -> 1.0522379 | K13: =VLOOKUP($A13,'RECAP DC'!$G$6:$AB$12,12,FALSE) -> #REF! | M13: =VLOOKUP($A13,'RECAP DC'!$G$6:$AB$12,14,FALSE) -> 40.394312 | N13: =VLOOKUP($A13,'RECAP DC'!$G$6:$AB$12,15,FALSE) -> 35.782698 | O13: =VLOOKUP($A13,'RECAP DC'!$G$6:$AB$12,16,FALSE) -> 1.1288783 | P13: =VLOOKUP($A13,'RECAP DC'!$G$6:$AB$12,17,FALSE) -> 231.655 | Q13: =VLOOKUP($A13,'RECAP DC'!$G$6:$AB$12,18,FALSE) -> 222.39941 | R13: =VLOOKUP($A13,'RECAP DC'!$G$6:$AB$12,19,FALSE) -> 1.041617 | S13: =VLOOKUP($A13,'RECAP DC'!$G$6:$AB$12,20,FALSE) -> 2.8087069 | T13: =VLOOKUP($A13,'RECAP DC'!$G$6:$AB$12,21,FALSE) -> 11.927566 | U13: =VLOOKUP($A13,'RECAP DC'!$G$6:$AB$12,22,FALSE) -> 0.23548031
A14: 110 | B14: Meurthe et Moselle Meuse | C14: =VLOOKUP(A14,'RECAP DC'!$G$6:$AB$12,3,FALSE) -> 14.327515 | D14: =VLOOKUP($A14,'RECAP DC'!$G$6:$AB$12,5,FALSE) -> 611.43305 | E14: =VLOOKUP($A14,'RECAP DC'!$G$6:$AB$12,6,FALSE) -> 318.94756 | F14: =VLOOKUP($A14,'RECAP DC'!$G$6:$AB$12,7,FALSE) -> 1.9170332 | G14: =VLOOKUP($A14,'RECAP DC'!$G$6:$AB$12,8,FALSE) -> 1632.6477 | H14: =VLOOKUP($A14,'RECAP DC'!$G$6:$AB$12,9,FALSE) -> 1993.4223 | I14: =VLOOKUP($A14,'RECAP DC'!$G$6:$AB$12,10,FALSE) -> 0.8190175 | K14: =VLOOKUP($A14,'RECAP DC'!$G$6:$AB$12,12,FALSE) -> #REF! | M14: =VLOOKUP($A14,'RECAP DC'!$G$6:$AB$12,14,FALSE) -> 36.572987 | N14: =VLOOKUP($A14,'RECAP DC'!$G$6:$AB$12,15,FALSE) -> 29.901334 | O14: =VLOOKUP($A14,'RECAP DC'!$G$6:$AB$12,16,FALSE) -> 1.2231222 | P14: =VLOOKUP($A14,'RECAP DC'!$G$6:$AB$12,17,FALSE) -> 194.70557 | Q14: =VLOOKUP($A14,'RECAP DC'!$G$6:$AB$12,18,FALSE) -> 230.24027 | R14: =VLOOKUP($A14,'RECAP DC'!$G$6:$AB$12,19,FALSE) -> 0.84566253 | S14: =VLOOKUP($A14,'RECAP DC'!$G$6:$AB$12,20,FALSE) -> 4.4669297 | T14: =VLOOKUP($A14,'RECAP DC'!$G$6:$AB$12,21,FALSE) -> 10.963822 | U14: =VLOOKUP($A14,'RECAP DC'!$G$6:$AB$12,22,FALSE) -> 0.40742448
A15: 160 | B15: Moselle | C15: =VLOOKUP(A15,'RECAP DC'!$G$6:$AB$12,3,FALSE) -> 15.459798 | D15: =VLOOKUP($A15,'RECAP DC'!$G$6:$AB$12,5,FALSE) -> 887.51503 | E15: =VLOOKUP($A15,'RECAP DC'!$G$6:$AB$12,6,FALSE) -> 306.19084 | F15: =VLOOKUP($A15,'RECAP DC'!$G$6:$AB$12,7,FALSE) -> 2.8985682 | G15: =VLOOKUP($A15,'RECAP DC'!$G$6:$AB$12,8,FALSE) -> 1665.9777 | H15: =VLOOKUP($A15,'RECAP DC'!$G$6:$AB$12,9,FALSE) -> 2296.4313 | I15: =VLOOKUP($A15,'RECAP DC'!$G$6:$AB$12,10,FALSE) -> 0.72546375 | K15: =VLOOKUP($A15,'RECAP DC'!$G$6:$AB$12,12,FALSE) -> #REF! | M15: =VLOOKUP($A15,'RECAP DC'!$G$6:$AB$12,14,FALSE) -> 42.626689 | N15: =VLOOKUP($A15,'RECAP DC'!$G$6:$AB$12,15,FALSE) -> 33.808572 | O15: =VLOOKUP($A15,'RECAP DC'!$G$6:$AB$12,16,FALSE) -> 1.2608249 | P15: =VLOOKUP($A15,'RECAP DC'!$G$6:$AB$12,17,FALSE) -> 207.54091 | Q15: =VLOOKUP($A15,'RECAP DC'!$G$6:$AB$12,18,FALSE) -> 251.20407 | R15: =VLOOKUP($A15,'RECAP DC'!$G$6:$AB$12,19,FALSE) -> 0.8261845 | S15: =VLOOKUP($A15,'RECAP DC'!$G$6:$AB$12,20,FALSE) -> 4.5278729 | T15: =VLOOKUP($A15,'RECAP DC'!$G$6:$AB$12,21,FALSE) -> 12.757952 | U15: =VLOOKUP($A15,'RECAP DC'!$G$6:$AB$12,22,FALSE) -> 0.35490595
A16: 80 | B16: Vosges | C16: =VLOOKUP(A16,'RECAP DC'!$G$6:$AB$12,3,FALSE) -> 9.0695895 | D16: =VLOOKUP($A16,'RECAP DC'!$G$6:$AB$12,5,FALSE) -> 788.18587 | E16: =VLOOKUP($A16,'RECAP DC'!$G$6:$AB$12,6,FALSE) -> 246.45131 | F16: =VLOOKUP($A16,'RECAP DC'!$G$6:$AB$12,7,FALSE) -> 3.1981402 | G16: =VLOOKUP($A16,'RECAP DC'!$G$6:$AB$12,8,FALSE) -> 2300.2124 | H16: =VLOOKUP($A16,'RECAP DC'!$G$6:$AB$12,9,FALSE) -> 2002.4169 | I16: =VLOOKUP($A16,'RECAP DC'!$G$6:$AB$12,10,FALSE) -> 1.148718 | K16: =VLOOKUP($A16,'RECAP DC'!$G$6:$AB$12,12,FALSE) -> #REF! | M16: =VLOOKUP($A16,'RECAP DC'!$G$6:$AB$12,14,FALSE) -> 34.731451 | N16: =VLOOKUP($A16,'RECAP DC'!$G$6:$AB$12,15,FALSE) -> 30.806414 | O16: =VLOOKUP($A16,'RECAP DC'!$G$6:$AB$12,16,FALSE) -> 1.1274097 | P16: =VLOOKUP($A16,'RECAP DC'!$G$6:$AB$12,17,FALSE) -> 210.01646 | Q16: =VLOOKUP($A16,'RECAP DC'!$G$6:$AB$12,18,FALSE) -> 205.17072 | R16: =VLOOKUP($A16,'RECAP DC'!$G$6:$AB$12,19,FALSE) -> 1.0236181 | S16: =VLOOKUP($A16,'RECAP DC'!$G$6:$AB$12,20,FALSE) -> 7.1668073 | T16: =VLOOKUP($A16,'RECAP DC'!$G$6:$AB$12,21,FALSE) -> 10.268805 | U16: =VLOOKUP($A16,'RECAP DC'!$G$6:$AB$12,22,FALSE) -> 0.6979203
A17: Réalisation moyenne par ETP | C17: =+'RECAP DC'!I14 -> 104.68398 | D17: =+'RECAP DC'!K14 -> 846.14932 | E17: =+'RECAP DC'!L14 -> 374.05782 | F17: =+'RECAP DC'!M14 -> 2.2620816 | G17: =+'RECAP DC'!N14 -> 2317.9884 | H17: =+'RECAP DC'!O14 -> 2337.8614 | I17: =+'RECAP DC'!P14 -> 0.9914995 | K17: =+'RECAP DC'!R14 -> #REF! | M17: =+'RECAP DC'!T14 -> 35.143869 | N17: =+'RECAP DC'!U14 -> 35.067921 | O17: =+'RECAP DC'!V14 -> 1.0021658 | P17: =+'RECAP DC'!W14 -> 221.07976 | Q17: =+'RECAP DC'!X14 -> 228.78311 | R17: =+'RECAP DC'!Y14 -> 0.96632901 | S17: ='RECAP DC'!Z14 -> 3.1236872 | T17: ='RECAP DC'!AA14 -> 11.689307 | U17: ='RECAP DC'!AB14 -> 0.26722604
A19: ETP perf PRO = GC Pro + 0,1 etp par agence + CA Viti

Sheet PV PRESCRIP
A1: Accueil | D1: BAROMETRE BDD - PRESCRIPTION PROFESSIONNELLE
D2: PV PART SUR OBJECTIFS
D3: =+Accueil!F8 -> 43799
D7: Excédents de collecte par ETP yc DAV | G7: Engagements crédit MLT CBM LLD par ETP | J7: Qualité NPS PRO CEGEE | M7: Ventes brutes de forfaits Pro et Asso par ETP | P7: MIA Taux de marge crédit MLT | S7: Evolution Proactifs + Proactifs Equipés par ETP
E8: Taux d'atteinte saisonalisé | F8: =VLOOKUP(D3,ETP!$K$10:$L$21,2,FALSE) -> 0.91666667 | H8: Taux d'atteinte saisonalisé | I8: =+$F$8 -> 0.91666667 | K8: Non disponible | N8: Taux d'atteinte saisonalisé | O8: =+$F$8 -> 0.91666667 | Q8: Taux d'atteinte saisonalisé | R8: =+$F$8 -> 0.91666667 | T8: Taux d'atteinte saisonalisé | U8: =+$F$8 -> 0.91666667
A9: eds | B9: Direction | C9: ETP perf | D9: Réal | E9: Obj | F9: % | G9: Réal | H9: Obj | I9: % | K9: Réal | M9: Réal | N9: Obj | O9: % | P9: Réal | Q9: Obj | R9: % | S9: Réal | T9: Obj | U9: %
A10: 50 | B10: Aube Haute Marne | C10: =VLOOKUP($A10,'RECAP DC'!$G$6:$AB$12,3,FALSE) -> 11.648474 | D10: =VLOOKUP($A10,'RECAP DC'!$G$6:$AB$12,5,FALSE) -> 1456.6336 | E10: =VLOOKUP($A10,'RECAP DC'!$G$6:$AB$12,6,FALSE) -> 278.20581 | F10: =VLOOKUP($A10,'RECAP DC'!$G$6:$AB$12,7,FALSE) -> 5.2358128 | G10: =VLOOKUP($A10,'RECAP DC'!$G$6:$AB$12,8,FALSE) -> 2578.4144 | H10: =VLOOKUP($A10,'RECAP DC'!$G$6:$AB$12,9,FALSE) -> 2477.7705 | I10: =VLOOKUP($A10,'RECAP DC'!$G$6:$AB$12,10,FALSE) -> 1.0406187 | K10: =VLOOKUP($A10,'RECAP DC'!$G$6:$AB$12,12,FALSE) -> #REF! | M10: =VLOOKUP($A10,'RECAP DC'!$G$6:$AB$12,14,FALSE) -> 30.73364 | N10: =VLOOKUP($A10,'RECAP DC'!$G$6:$AB$12,15,FALSE) -> 34.775727 | O10: =VLOOKUP($A10,'RECAP DC'!$G$6:$AB$12,16,FALSE) -> 0.88376701 | P10: =VLOOKUP($A10,'RECAP DC'!$G$6:$AE$12,23,FALSE) -> 0.0058261716 | Q10: =VLOOKUP($A10,'RECAP DC'!$G$6:$AE$12,24,FALSE) -> 0.004 | R10: =VLOOKUP($A10,'RECAP DC'!$G$6:$AE$12,25,FALSE) -> 1.4565429 | S10: =VLOOKUP($A10,'RECAP DC'!$G$6:$AB$12,20,FALSE) -> 0.42924078 | T10: =VLOOKUP($A10,'RECAP DC'!$G$6:$AB$12,21,FALSE) -> 10.867415 | U10: =VLOOKUP($A10,'RECAP DC'!$G$6:$AB$12,22,FALSE) -> 0.039497967
A11: 262 | B11: Bas-Rhin | C11: =VLOOKUP(A11,'RECAP DC'!$G$6:$AB$12,3,FALSE) -> 21.988649 | D11: =VLOOKUP($A11,'RECAP DC'!$G$6:$AB$12,5,FALSE) -> 864.89387 | E11: =VLOOKUP($A11,'RECAP DC'!$G$6:$AB$12,6,FALSE) -> 518.03622 | F11: =VLOOKUP($A11,'RECAP DC'!$G$6:$AB$12,7,FALSE) -> 1.6695625 | G11: =VLOOKUP($A11,'RECAP DC'!$G$6:$AB$12,8,FALSE) -> 2780.1138 | H11: =VLOOKUP($A11,'RECAP DC'!$G$6:$AB$12,9,FALSE) -> 2474.548 | I11: =VLOOKUP($A11,'RECAP DC'!$G$6:$AB$12,10,FALSE) -> 1.1234834 | K11: =VLOOKUP($A11,'RECAP DC'!$G$6:$AB$12,12,FALSE) -> #REF! | M11: =VLOOKUP($A11,'RECAP DC'!$G$6:$AB$12,14,FALSE) -> 30.970525 | N11: =VLOOKUP($A11,'RECAP DC'!$G$6:$AB$12,15,FALSE) -> 40.240314 | O11: =VLOOKUP($A11,'RECAP DC'!$G$6:$AB$12,16,FALSE) -> 0.76963926 | P11: =VLOOKUP($A11,'RECAP DC'!$G$6:$AE$12,23,FALSE) -> 0.0082476794 | Q11: =VLOOKUP($A11,'RECAP DC'!$G$6:$AE$12,24,FALSE) -> 0.004 | R11: =VLOOKUP($A11,'RECAP DC'!$G$6:$AE$12,25,FALSE) -> 2.0619199 | S11: =VLOOKUP($A11,'RECAP DC'!$G$6:$AB$12,20,FALSE) -> 2.2739005 | T11: =VLOOKUP($A11,'RECAP DC'!$G$6:$AB$12,21,FALSE) -> 12.488373 | U11: =VLOOKUP($A11,'RECAP DC'!$G$6:$AB$12,22,FALSE) -> 0.1820814
A12: 264 | B12: Haut-Rhin | C12: =VLOOKUP(A12,'RECAP DC'!$G$6:$AB$12,3,FALSE) -> 12.607988 | D12: =VLOOKUP($A12,'RECAP DC'!$G$6:$AB$12,5,FALSE) -> 629.09425 | E12: =VLOOKUP($A12,'RECAP DC'!$G$6:$AB$12,6,FALSE) -> 447.56014 | F12: =VLOOKUP($A12,'RECAP DC'!$G$6:$AB$12,7,FALSE) -> 1.4056083 | G12: =VLOOKUP($A12,'RECAP DC'!$G$6:$AB$12,8,FALSE) -> 1982.9956 | H12: =VLOOKUP($A12,'RECAP DC'!$G$6:$AB$12,9,FALSE) -> 2079.0378 | I12: =VLOOKUP($A12,'RECAP DC'!$G$6:$AB$12,10,FALSE) -> 0.95380448 | K12: =VLOOKUP($A12,'RECAP DC'!$G$6:$AB$12,12,FALSE) -> #REF! | M12: =VLOOKUP($A12,'RECAP DC'!$G$6:$AB$12,14,FALSE) -> 27.284291 | N12: =VLOOKUP($A12,'RECAP DC'!$G$6:$AB$12,15,FALSE) -> 36.28866 | O12: =VLOOKUP($A12,'RECAP DC'!$G$6:$AB$12,16,FALSE) -> 0.75186824 | P12: =VLOOKUP($A12,'RECAP DC'!$G$6:$AE$12,23,FALSE) -> 0.0059150432 | Q12: =VLOOKUP($A12,'RECAP DC'!$G$6:$AE$12,24,FALSE) -> 0.004 | R12: =VLOOKUP($A12,'RECAP DC'!$G$6:$AE$12,25,FALSE) -> 1.4787608 | S12: =VLOOKUP($A12,'RECAP DC'!$G$6:$AB$12,20,FALSE) -> 1.6656108 | T12: =VLOOKUP($A12,'RECAP DC'!$G$6:$AB$12,21,FALSE) -> 11.340206 | U12: =VLOOKUP($A12,'RECAP DC'!$G$6:$AB$12,22,FALSE) -> 0.14687659
A13: 30 | B13: Marne-Ardennes | C13: =VLOOKUP(A13,'RECAP DC'!$G$6:$AB$12,3,FALSE) -> 19.581965 | D13: =VLOOKUP($A13,'RECAP DC'!$G$6:$AB$12,5,FALSE) -> 737.42506 | E13: =VLOOKUP($A13,'RECAP DC'!$G$6:$AB$12,6,FALSE) -> 381.68211 | F13: =VLOOKUP($A13,'RECAP DC'!$G$6:$AB$12,7,FALSE) -> 1.9320399 | G13: =VLOOKUP($A13,'RECAP DC'!$G$6:$AB$12,8,FALSE) -> 2876.1877 | H13: =VLOOKUP($A13,'RECAP DC'!$G$6:$AB$12,9,FALSE) -> 2733.4005 | I13: =VLOOKUP($A13,'RECAP DC'!$G$6:$AB$12,10,FALSE) -> 1.0522379 | K13: =VLOOKUP($A13,'RECAP DC'!$G$6:$AB$12,12,FALSE) -> #REF! | M13: =VLOOKUP($A13,'RECAP DC'!$G$6:$AB$12,14,FALSE) -> 40.394312 | N13: =VLOOKUP($A13,'RECAP DC'!$G$6:$AB$12,15,FALSE) -> 35.782698 | O13: =VLOOKUP($A13,'RECAP DC'!$G$6:$AB$12,16,FALSE) -> 1.1288783 | P13: =VLOOKUP($A13,'RECAP DC'!$G$6:$AE$12,23,FALSE) -> 0.006317129 | Q13: =VLOOKUP($A13,'RECAP DC'!$G$6:$AE$12,24,FALSE) -> 0.004 | R13: =VLOOKUP($A13,'RECAP DC'!$G$6:$AE$12,25,FALSE) -> 1.5792823 | S13: =VLOOKUP($A13,'RECAP DC'!$G$6:$AB$12,20,FALSE) -> 2.8087069 | T13: =VLOOKUP($A13,'RECAP DC'!$G$6:$AB$12,21,FALSE) -> 11.927566 | U13: =VLOOKUP($A13,'RECAP DC'!$G$6:$AB$12,22,FALSE) -> 0.23548031
A14: 110 | B14: Meurthe et Moselle Meuse | C14: =VLOOKUP(A14,'RECAP DC'!$G$6:$AB$12,3,FALSE) -> 14.327515 | D14: =VLOOKUP($A14,'RECAP DC'!$G$6:$AB$12,5,FALSE) -> 611.43305 | E14: =VLOOKUP($A14,'RECAP DC'!$G$6:$AB$12,6,FALSE) -> 318.94756 | F14: =VLOOKUP($A14,'RECAP DC'!$G$6:$AB$12,7,FALSE) -> 1.9170332 | G14: =VLOOKUP($A14,'RECAP DC'!$G$6:$AB$12,8,FALSE) -> 1632.6477 | H14: =VLOOKUP($A14,'RECAP DC'!$G$6:$AB$12,9,FALSE) -> 1993.4223 | I14: =VLOOKUP($A14,'RECAP DC'!$G$6:$AB$12,10,FALSE) -> 0.8190175 | K14: =VLOOKUP($A14,'RECAP DC'!$G$6:$AB$12,12,FALSE) -> #REF! | M14: =VLOOKUP($A14,'RECAP DC'!$G$6:$AB$12,14,FALSE) -> 36.572987 | N14: =VLOOKUP($A14,'RECAP DC'!$G$6:$AB$12,15,FALSE) -> 29.901334 | O14: =VLOOKUP($A14,'RECAP DC'!$G$6:$AB$12,16,FALSE) -> 1.2231222 | P14: =VLOOKUP($A14,'RECAP DC'!$G$6:$AE$12,23,FALSE) -> 0.0079986315 | Q14: =VLOOKUP($A14,'RECAP DC'!$G$6:$AE$12,24,FALSE) -> 0.004 | R14: =VLOOKUP($A14,'RECAP DC'!$G$6:$AE$12,25,FALSE) -> 1.9996579 | S14: =VLOOKUP($A14,'RECAP DC'!$G$6:$AB$12,20,FALSE) -> 4.4669297 | T14: =VLOOKUP($A14,'RECAP DC'!$G$6:$AB$12,21,FALSE) -> 10.963822 | U14: =VLOOKUP($A14,'RECAP DC'!$G$6:$AB$12,22,FALSE) -> 0.40742448
A15: 160 | B15: Moselle | C15: =VLOOKUP(A15,'RECAP DC'!$G$6:$AB$12,3,FALSE) -> 15.459798 | D15: =VLOOKUP($A15,'RECAP DC'!$G$6:$AB$12,5,FALSE) -> 887.51503 | E15: =VLOOKUP($A15,'RECAP DC'!$G$6:$AB$12,6,FALSE) -> 306.19084 | F15: =VLOOKUP($A15,'RECAP DC'!$G$6:$AB$12,7,FALSE) -> 2.8985682 | G15: =VLOOKUP($A15,'RECAP DC'!$G$6:$AB$12,8,FALSE) -> 1665.9777 | H15: =VLOOKUP($A15,'RECAP DC'!$G$6:$AB$12,9,FALSE) -> 2296.4313 | I15: =VLOOKUP($A15,'RECAP DC'!$G$6:$AB$12,10,FALSE) -> 0.72546375 | K15: =VLOOKUP($A15,'RECAP DC'!$G$6:$AB$12,12,FALSE) -> #REF! | M15: =VLOOKUP($A15,'RECAP DC'!$G$6:$AB$12,14,FALSE) -> 42.626689 | N15: =VLOOKUP($A15,'RECAP DC'!$G$6:$AB$12,15,FALSE) -> 33.808572 | O15: =VLOOKUP($A15,'RECAP DC'!$G$6:$AB$12,16,FALSE) -> 1.2608249 | P15: =VLOOKUP($A15,'RECAP DC'!$G$6:$AE$12,23,FALSE) -> 0.0080447518 | Q15: =VLOOKUP($A15,'RECAP DC'!$G$6:$AE$12,24,FALSE) -> 0.004 | R15: =VLOOKUP($A15,'RECAP DC'!$G$6:$AE$12,25,FALSE) -> 2.0111879 | S15: =VLOOKUP($A15,'RECAP DC'!$G$6:$AB$12,20,FALSE) -> 4.5278729 | T15: =VLOOKUP($A15,'RECAP DC'!$G$6:$AB$12,21,FALSE) -> 12.757952 | U15: =VLOOKUP($A15,'RECAP DC'!$G$6:$AB$12,22,FALSE) -> 0.35490595
A16: 80 | B16: Vosges | C16: =VLOOKUP(A16,'RECAP DC'!$G$6:$AB$12,3,FALSE) -> 9.0695895 | D16: =VLOOKUP($A16,'RECAP DC'!$G$6:$AB$12,5,FALSE) -> 788.18587 | E16: =VLOOKUP($A16,'RECAP DC'!$G$6:$AB$12,6,FALSE) -> 246.45131 | F16: =VLOOKUP($A16,'RECAP DC'!$G$6:$AB$12,7,FALSE) -> 3.1981402 | G16: =VLOOKUP($A16,'RECAP DC'!$G$6:$AB$12,8,FALSE) -> 2300.2124 | H16: =VLOOKUP($A16,'RECAP DC'!$G$6:$AB$12,9,FALSE) -> 2002.4169 | I16: =VLOOKUP($A16,'RECAP DC'!$G$6:$AB$12,10,FALSE) -> 1.148718 | K16: =VLOOKUP($A16,'RECAP DC'!$G$6:$AB$12,12,FALSE) -> #REF! | M16: =VLOOKUP($A16,'RECAP DC'!$G$6:$AB$12,14,FALSE) -> 34.731451 | N16: =VLOOKUP($A16,'RECAP DC'!$G$6:$AB$12,15,FALSE) -> 30.806414 | O16: =VLOOKUP($A16,'RECAP DC'!$G$6:$AB$12,16,FALSE) -> 1.1274097 | P16: =VLOOKUP($A16,'RECAP DC'!$G$6:$AE$12,23,FALSE) -> 0.0066476345 | Q16: =VLOOKUP($A16,'RECAP DC'!$G$6:$AE$12,24,FALSE) -> 0.004 | R16: =VLOOKUP($A16,'RECAP DC'!$G$6:$AE$12,25,FALSE) -> 1.6619086 | S16: =VLOOKUP($A16,'RECAP DC'!$G$6:$AB$12,20,FALSE) -> 7.1668073 | T16: =VLOOKUP($A16,'RECAP DC'!$G$6:$AB$12,21,FALSE) -> 10.268805 | U16: =VLOOKUP($A16,'RECAP DC'!$G$6:$AB$12,22,FALSE) -> 0.6979203
A17: Réalisation moyenne par ETP | C17: =+'RECAP DC'!I14 -> 104.68398 | D17: =+'RECAP DC'!K14 -> 846.14932 | E17: =+'RECAP DC'!L14 -> 374.05782 | F17: =+'RECAP DC'!M14 -> 2.2620816 | G17: =+'RECAP DC'!N14 -> 2317.9884 | H17: =+'RECAP DC'!O14 -> 2337.8614 | I17: =+'RECAP DC'!P14 -> 0.9914995 | K17: =+'RECAP DC'!R14 -> #REF! | M17: =+'RECAP DC'!T14 -> 35.143869 | N17: =+'RECAP DC'!U14 -> 35.067921 | O17: =+'RECAP DC'!V14 -> 1.0021658 | P17: ='RECAP DC'!AC14 -> 0.0071101254 | Q17: ='RECAP DC'!AD14 -> 0.004 | R17: ='RECAP DC'!AE14 -> 1.7775313 | S17: ='RECAP DC'!Z14 -> 3.1236872 | T17: ='RECAP DC'!AA14 -> 11.689307 | U17: ='RECAP DC'!AB14 -> 0.26722604
A19: ETP perf PRO = GC Pro + 0,1 etp par agence + CA Viti

Sheet PV ASSO
A1: Accueil | D1: BAROMETRE BDD - MARCHE ASSOCIATIONS DE PROXIMITE
D2: PV PART SUR OBJECTIFS
D3: =+Accueil!F8 -> 43799
D7: Excédents de collecte PRO+AP par ETP yc DAV PRO+AP | G7: Ventes brutes de forfaits Association par ETP | J7: Evolution clients actifs associations par ETP | M7: Taux de complétude DRC EER | P7: Taux de complétude DRC Stock | S7: PNB sur activité nouvelle par ETP
E8: Taux d'atteinte saisonalisé | F8: =VLOOKUP(D3,ETP!$K$10:$L$21,2,FALSE) -> 0.91666667 | H8: Taux d'atteinte saisonalisé | I8: =+$F$8 -> 0.91666667 | K8: Taux d'atteinte saisonalisé | L8: =+$F$8 -> 0.91666667 | N8: Taux d'atteinte saisonalisé | O8: =+$F$8 -> 0.91666667 | Q8: Taux d'atteinte saisonalisé | R8: =+$F$8 -> 0.91666667 | T8: Taux d'atteinte saisonalisé | U8: =+$F$8 -> 0.91666667
C9: ETP perf | D9: Réal | E9: Obj | F9: % | G9: Réal | H9: Obj | I9: % | J9: Réal | K9: Obj | L9: % | M9: Réal | N9: Obj | O9: % | P9: Réal | Q9: Obj | R9: % | S9: Réal | T9: Obj | U9: %
A10: Gestionnaire clientèle Association | C10: 1 | D10: =SUM('Asso Collecte'!E1:E20)/1000+'Asso Dav'!K6 -> 0.09772 | E10: 200 | F10: =+D10/E10 -> 0.0004886 | G10: =SUM('Asso Forf'!G1:G204) -> 52 | H10: 30 | I10: =+G10/H10 -> 1.7333333 | J10: =+'Asso Actif'!D1 -> 27 | K10: 26 | L10: =+J10/K10 -> 1.0384615 | M10: =+'Asso DRC'!F1 -> 0.8877551 | N10: 0.95 | O10: =+M10/N10 -> 0.93447905 | P10: =+'Asso DRC'!I1 -> 0.31256883 | Q10: 0.9 | R10: =+P10/Q10 -> 0.3472987 | S10: =+'PV PRO'!P17 -> 221.07976 | T10: =+'PV PRO'!Q17 -> 228.78311 | U10: =+'PV PRO'!R17 -> 0.96632901

Sheet RECAP PDV
G1: 1 | H1: 2 | I1: 3 | J1: 4
K3: Excédent de collecte par ETP yc DAV | N3: Engagements crédit MLT CBM LLD par ETP | Q3: Qualité NPS PRO CEGEE | T3: Ventes brutes de forfaits Pro et Asso par ETP | W3: PNB sur activité nouvelle par ETP | Z3: Evolution Proactif par ETP
L4: Taux d'atteinte saisonalisé | M4: x % | O4: Taux d'atteinte saisonalisé | P4: x % | R4: Taux d'atteinte saisonalisé | S4: x % | U4: Taux d'atteinte saisonalisé | V4: x % | X4: Taux d'atteinte saisonalisé | Y4: x % | AA4: Taux d'atteinte saisonalisé | AB4: x %
A5: NO GROUPE | B5: groupe | C5: UC | D5: libelle uc | E5: EDS | F5: AGENCE | G5: EDS PDV | H5: POINT DE VENTE | I5: EDS PDV ORIGINE | K5: Réal | L5: Obj | M5: % | N5: Réal | O5: Obj | P5: % | Q5: Réal | R5: Obj | S5: % | T5: Réal | U5: Obj | V5: % | W5: Réal | X5: Obj | Y5: % | Z5: Réal | AA5: Obj | AB5: %
A6: 50 | B6: Aube Haute Marne | C6: 21 | D6: CHAUMONT | E6: 410560 | F6: BOURBONNE LES BAINS | G6: 10560 | H6: BOURBONNE LES BAINS | I6: 10560 | K6: =SUMIF(COLLECTE!B:B,I6,COLLECTE!G:G)+SUMIF(DAV!I:I,I6,DAV!K:K) -> 237.32083 | N6: =SUMIF(CREDIT!B:B,I6,CREDIT!F:F)+SUMIF(LLD!L:L,I6,LLD!H:H)/1000 -> 47 | T6: =SUMIF(FORFAIT!B:B,I6,FORFAIT!G:G) -> 2 | Z6: =SUMIF(PROACTIF!D:D,I6,PROACTIF!G:G)+SUMIF(PROACTIF!P:P,I6,PROACTIF!S:S) -> 2
A7: 50 | B7: Aube Haute Marne | C7: 21 | D7: CHAUMONT | E7: 510558 | F7: CHALINDREY | G7: 10558 | H7: CHALINDREY | I7: 10558 | K7: =SUMIF(COLLECTE!B:B,I7,COLLECTE!G:G)+SUMIF(DAV!I:I,I7,DAV!K:K) -> 36.17507 | N7: =SUMIF(CREDIT!B:B,I7,CREDIT!F:F)+SUMIF(LLD!L:L,I7,LLD!H:H)/1000 -> 55 | T7: =SUMIF(FORFAIT!B:B,I7,FORFAIT!G:G) -> 1 | Z7: =SUMIF(PROACTIF!D:D,I7,PROACTIF!G:G)+SUMIF(PROACTIF!P:P,I7,PROACTIF!S:S) -> -2
A8: 50 | B8: Aube Haute Marne | C8: 21 | D8: CHAUMONT | E8: 410539 | F8: CHATEAUVILLAIN | G8: 10539 | H8: CHATEAUVILLAIN | I8: 10539 | K8: =SUMIF(COLLECTE!B:B,I8,COLLECTE!G:G)+SUMIF(DAV!I:I,I8,DAV!K:K) -> 215.26853 | N8: =SUMIF(CREDIT!B:B,I8,CREDIT!F:F)+SUMIF(LLD!L:L,I8,LLD!H:H)/1000 -> 64 | T8: =SUMIF(FORFAIT!B:B,I8,FORFAIT!G:G) -> 1 | Z8: =SUMIF(PROACTIF!D:D,I8,PROACTIF!G:G)+SUMIF(PROACTIF!P:P,I8,PROACTIF!S:S) -> -1
A9: 50 | B9: Aube Haute Marne | C9: 21 | D9: CHAUMONT | E9: 410566 | F9: CHAUMONT HOTEL DE VILLE | G9: 10566 | H9: CHAUMONT HOTEL DE VILLE | I9: 10566 | K9: =SUMIF(COLLECTE!B:B,I9,COLLECTE!G:G)+SUMIF(DAV!I:I,I9,DAV!K:K) -> 909.99716 | N9: =SUMIF(CREDIT!B:B,I9,CREDIT!F:F)+SUMIF(LLD!L:L,I9,LLD!H:H)/1000 -> 3210.5378 | T9: =SUMIF(FORFAIT!B:B,I9,FORFAIT!G:G) -> 25 | Z9: =SUMIF(PROACTIF!D:D,I9,PROACTIF!G:G)+SUMIF(PROACTIF!P:P,I9,PROACTIF!S:S) -> -2
A10: 50 | B10: Aube Haute Marne | C10: 21 | D10: CHAUMONT | E10: 510590 | F10: CHAUMONT REPUBLIQUE | G10: 10590 | H10: CHAUMONT REPUBLIQUE | I10: 10590 | K10: =SUMIF(COLLECTE!B:B,I10,COLLECTE!G:G)+SUMIF(DAV!I:I,I10,DAV!K:K) -> 499.10441 | N10: =SUMIF(CREDIT!B:B,I10,CREDIT!F:F)+SUMIF(LLD!L:L,I10,LLD!H:H)/1000 -> 578.93001 | T10: =SUMIF(FORFAIT!B:B,I10,FORFAIT!G:G) -> 8 | Z10: =SUMIF(PROACTIF!D:D,I10,PROACTIF!G:G)+SUMIF(PROACTIF!P:P,I10,PROACTIF!S:S) -> 11
A11: 50 | B11: Aube Haute Marne | C11: 21 | D11: CHAUMONT | E11: 451154 | F11: JOINVILLE | G11: 51154 | H11: JOINVILLE | I11: 51154 | K11: =SUMIF(COLLECTE!B:B,I11,COLLECTE!G:G)+SUMIF(DAV!I:I,I11,DAV!K:K) -> -47.61982 | N11: =SUMIF(CREDIT!B:B,I11,CREDIT!F:F)+SUMIF(LLD!L:L,I11,LLD!H:H)/1000 -> 205.98071 | T11: =SUMIF(FORFAIT!B:B,I11,FORFAIT!G:G) -> 7 | Z11: =SUMIF(PROACTIF!D:D,I11,PROACTIF!G:G)+SUMIF(PROACTIF!P:P,I11,PROACTIF!S:S) -> 1
A12: 50 | B12: Aube Haute Marne | C12: 21 | D12: CHAUMONT | E12: 410541 | F12: LANGRES | G12: 10541 | H12: LANGRES | I12: 10541 | K12: =SUMIF(COLLECTE!B:B,I12,COLLECTE!G:G)+SUMIF(DAV!I:I,I12,DAV!K:K) -> 363.96548 | N12: =SUMIF(CREDIT!B:B,I12,CREDIT!F:F)+SUMIF(LLD!L:L,I12,LLD!H:H)/1000 -> 176.5 | T12: =SUMIF(FORFAIT!B:B,I12,FORFAIT!G:G) -> 16 | Z12: =SUMIF(PROACTIF!D:D,I12,PROACTIF!G:G)+SUMIF(PROACTIF!P:P,I12,PROACTIF!S:S) -> -3
A13: 50 | B13: Aube Haute Marne | C13: 21 | D13: CHAUMONT | E13: 410582 | F13: NOGENT EN BASSIGNY | G13: 10582 | H13: NOGENT EN BASSIGNY | I13: 10582 | K13: =SUMIF(COLLECTE!B:B,I13,COLLECTE!G:G)+SUMIF(DAV!I:I,I13,DAV!K:K) -> 214.24598 | N13: =SUMIF(CREDIT!B:B,I13,CREDIT!F:F)+SUMIF(LLD!L:L,I13,LLD!H:H)/1000 -> 92.16541 | T13: =SUMIF(FORFAIT!B:B,I13,FORFAIT!G:G) -> 7 | Z13: =SUMIF(PROACTIF!D:D,I13,PROACTIF!G:G)+SUMIF(PROACTIF!P:P,I13,PROACTIF!S:S) -> -1
A14: 50 | B14: Aube Haute Marne | C14: 21 | D14: CHAUMONT | E14: 451156 | F14: SAINT DIZIER CENTRE | G14: 51156 | H14: SAINT DIZIER CENTRE | I14: 51156 | K14: =SUMIF(COLLECTE!B:B,I14,COLLECTE!G:G)+SUMIF(DAV!I:I,I14,DAV!K:K) -> 1252.7911 | N14: =SUMIF(CREDIT!B:B,I14,CREDIT!F:F)+SUMIF(LLD!L:L,I14,LLD!H:H)/1000 -> 2712.772 | T14: =SUMIF(FORFAIT!B:B,I14,FORFAIT!G:G) -> 24 | Z14: =SUMIF(PROACTIF!D:D,I14,PROACTIF!G:G)+SUMIF(PROACTIF!P:P,I14,PROACTIF!S:S) -> 5
A15: 50 | B15: Aube Haute Marne | C15: 21 | D15: CHAUMONT | E15: 551157 | F15: SAINT DIZIER EUROPE | G15: 51157 | H15: SAINT DIZIER EUROPE | I15: 51157 | K15: =SUMIF(COLLECTE!B:B,I15,COLLECTE!G:G)+SUMIF(DAV!I:I,I15,DAV!K:K) -> -37.83863 | N15: =SUMIF(CREDIT!B:B,I15,CREDIT!F:F)+SUMIF(LLD!L:L,I15,LLD!H:H)/1000 -> 91.98702 | T15: =SUMIF(FORFAIT!B:B,I15,FORFAIT!G:G) -> 7 | Z15: =SUMIF(PROACTIF!D:D,I15,PROACTIF!G:G)+SUMIF(PROACTIF!P:P,I15,PROACTIF!S:S) -> -2
A16: 50 | B16: Aube Haute Marne | C16: 21 | D16: CHAUMONT | E16: 451151 | F16: WASSY | G16: 51151 | H16: WASSY | I16: 51151 | K16: =SUMIF(COLLECTE!B:B,I16,COLLECTE!G:G)+SUMIF(DAV!I:I,I16,DAV!K:K) -> 941.09166 | N16: =SUMIF(CREDIT!B:B,I16,CREDIT!F:F)+SUMIF(LLD!L:L,I16,LLD!H:H)/1000 -> 115.70044 | T16: =SUMIF(FORFAIT!B:B,I16,FORFAIT!G:G) -> 11 | Z16: =SUMIF(PROACTIF!D:D,I16,PROACTIF!G:G)+SUMIF(PROACTIF!P:P,I16,PROACTIF!S:S) -> 0
A17: 50 | B17: Aube Haute Marne | C17: 14 | D17: TROYES | E17: 410583 | F17: AIX EN OTHE | G17: 10583 | H17: AIX EN OTHE | I17: 10583 | K17: =SUMIF(COLLECTE!B:B,I17,COLLECTE!G:G)+SUMIF(DAV!I:I,I17,DAV!K:K) -> 139.5633 | N17: =SUMIF(CREDIT!B:B,I17,CREDIT!F:F)+SUMIF(LLD!L:L,I17,LLD!H:H)/1000 -> 33 | T17: =SUMIF(FORFAIT!B:B,I17,FORFAIT!G:G) -> 7 | Z17: =SUMIF(PROACTIF!D:D,I17,PROACTIF!G:G)+SUMIF(PROACTIF!P:P,I17,PROACTIF!S:S) -> 0
... A341: 269 | B341: Multimédia | C341: 5017 | D341: MON AGENCE | E341: 4017 | F341: Agence du personnel | G341: 17 | H341: Agence du personnel | I341: 17 | K341: =SUMIF(COLLECTE!B:B,I341,COLLECTE!G:G)+SUMIF(DAV!I:I,I341,DAV!K:K) -> 534.04385 | N341: =SUMIF(CREDIT!B:B,I341,CREDIT!F:F)+SUMIF(LLD!L:L,I341,LLD!H:H)/1000 -> 158.27172 | T341: =SUMIF(FORFAIT!B:B,I341,FORFAIT!G:G) -> 6 | Z341: =SUMIF(PROACTIF!D:D,I341,PROACTIF!G:G)+SUMIF(PROACTIF!P:P,I341,PROACTIF!S:S) -> -3

Sheet RECAP AG
G1: 1 | H1: 2 | I1: 3 | J1: 4 | K1: 5 | L1: 6 | M1: 7 | N1: 8 | O1: 9 | P1: 10 | Q1: 11 | R1: 12 | S1: 13 | T1: 14 | U1: 15 | V1: 16 | W1: 17 | X1: 18 | Y1: 19 | Z1: 20 | AA1: 21 | AB1: 22
K3: Excédent de collecte par ETP yc DAV | N3: Engagements crédit MLT CBM LLD par ETP | Q3: Qualité NPS PRO CEGEE | T3: Ventes brutes de forfaits Pro et Asso par ETP | W3: PNB sur activité nouvelle par ETP | Z3: Evolution Proactif par ETP
L4: Taux d'atteinte saisonalisé | M4: =VLOOKUP(#REF!,#REF!,6,FALSE) -> #REF! | O4: Taux d'atteinte saisonalisé | P4: =VLOOKUP(#REF!,#REF!,6,FALSE) -> #REF! | R4: Taux d'atteinte saisonalisé | S4: =VLOOKUP(#REF!,#REF!,6,FALSE) -> #REF! | U4: Taux d'atteinte saisonalisé | V4: =VLOOKUP(#REF!,#REF!,6,FALSE) -> #REF! | X4: Taux d'atteinte saisonalisé | Y4: =VLOOKUP(#REF!,#REF!,6,FALSE) -> #REF! | AA4: Taux d'atteinte saisonalisé | AB4: x %
C5: NO GROUPE | D5: groupe | E5: UC | F5: libelle uc | G5: EDS | H5: AGENCE | I5: ETP | K5: Réal | L5: Obj | M5: % | N5: Réal | O5: Obj | P5: % | Q5: Réal | R5: Obj | S5: % | T5: Réal | U5: Obj | V5: % | W5: Réal | X5: Obj | Y5: % | Z5: Réal | AA5: Obj | AB5: % | AJ5: 0.8 | AK5: 80% 100% | AL5: 100% 110% | AM5: 1.1 | AO5: 0.8 | AP5: 80% 100% | AQ5: 100% 120% | AR5: 1.2 | AT5: 0.8 | AU5: 80% 100% | AV5: 100% 120% | AW5: 1.2 | AY5: 0.8 | AZ5: 80% 100% | BA5: 100% 120% | BB5: 1.2 | BD5: 0.8 | BE5: 80% 100% | BF5: 100% 120% | BG5: 1.2
C6: 50 | D6: AUBE HAUTE MARNE | E6: 21 | F6: CHAUMONT | G6: 410560 | H6: BOURBONNE LES BAINS | K6: =SUMIF('RECAP PDV'!$E:$E,$G6,'RECAP PDV'!K:K) -> 237.32083 | N6: =SUMIF('RECAP PDV'!$E:$E,$G6,'RECAP PDV'!N:N) -> 47 | T6: =SUMIF('RECAP PDV'!$E:$E,$G6,'RECAP PDV'!T:T) -> 2 | Z6: =SUMIF('RECAP PDV'!E:E,G6,'RECAP PDV'!Z:Z) -> 2 | AI6: =M6/$M$4 -> #REF! | AJ6: =IF(AI6<0.8,1,0) -> #REF! | AK6: =IF(AND(AI6>=0.8,AI6<1),1,0) -> #REF! | AL6: =IF(AND(AI6>=1,AI6<1.1),1,0) -> #REF! | AM6: =IF(AI6>1.1,1,0) -> #REF! | AN6: =P6/$P$4 -> #REF! | AO6: =IF(AN6<0.8,1,0) -> #REF! | AP6: =IF(AND(AN6>=0.8,AN6<1),1,0) -> #REF! | AQ6: =IF(AND(AN6>=1,AN6<1.2),1,0) -> #REF! | AR6: =IF(AN6>1.2,1,0) -> #REF! | AS6: =S6/$S$4 -> #REF! | AT6: =IF(AS6<0.8,1,0) -> #REF! | AU6: =IF(AND(AS6>=0.8,AS6<1),1,0) -> #REF! | AV6: =IF(AND(AS6>=1,AS6<1.2),1,0) -> #REF! | AW6: =IF(AS6>1.2,1,0) -> #REF! | AX6: =V6/$V$4 -> #REF! | AY6: =IF(AX6<0.8,1,0) -> #REF! | AZ6: =IF(AND(AX6>=0.8,AX6<1),1,0) -> #REF! | BA6: =IF(AND(AX6>=1,AX6<1.2),1,0) -> #REF! | BB6: =IF(AX6>1.2,1,0) -> #REF! | BC6: =Y6/$Y$4 -> #REF! | BD6: =IF(BC6<0.8,1,0) -> #REF! | BE6: =IF(AND(BC6>=0.8,BC6<1),1,0) -> #REF! | BF6: =IF(AND(BC6>=1,BC6<1.2),1,0) -> #REF! | BG6: =IF(BC6>1.2,1,0) -> #REF!
C7: 50 | D7: AUBE HAUTE MARNE | E7: 21 | F7: CHAUMONT | G7: 510558 | H7: CHALINDREY | K7: =SUMIF('RECAP PDV'!$E:$E,$G7,'RECAP PDV'!K:K) -> 36.17507 | N7: =SUMIF('RECAP PDV'!$E:$E,$G7,'RECAP PDV'!N:N) -> 55 | T7: =SUMIF('RECAP PDV'!$E:$E,$G7,'RECAP PDV'!T:T) -> 1 | Z7: =SUMIF('RECAP PDV'!E:E,G7,'RECAP PDV'!Z:Z) -> -2 | AI7: =M7/$M$4 -> #REF! | AJ7: =IF(AI7<0.8,1,0) -> #REF! | AK7: =IF(AND(AI7>=0.8,AI7<1),1,0) -> #REF! | AL7: =IF(AND(AI7>=1,AI7<1.1),1,0) -> #REF! | AM7: =IF(AI7>1.1,1,0) -> #REF! | AN7: =P7/$P$4 -> #REF! | AO7: =IF(AN7<0.8,1,0) -> #REF! | AP7: =IF(AND(AN7>=0.8,AN7<1),1,0) -> #REF! | AQ7: =IF(AND(AN7>=1,AN7<1.2),1,0) -> #REF! | AR7: =IF(AN7>1.2,1,0) -> #REF! | AS7: =S7/$S$4 -> #REF! | AT7: =IF(AS7<0.8,1,0) -> #REF! | AU7: =IF(AND(AS7>=0.8,AS7<1),1,0) -> #REF! | AV7: =IF(AND(AS7>=1,AS7<1.2),1,0) -> #REF! | AW7: =IF(AS7>1.2,1,0) -> #REF! | AX7: =V7/$V$4 -> #REF! | AY7: =IF(AX7<0.8,1,0) -> #REF! | AZ7: =IF(AND(AX7>=0.8,AX7<1),1,0) -> #REF! | BA7: =IF(AND(AX7>=1,AX7<1.2),1,0) -> #REF! | BB7: =IF(AX7>1.2,1,0) -> #REF! | BC7: =Y7/$Y$4 -> #REF! | BD7: =IF(BC7<0.8,1,0) -> #REF! | BE7: =IF(AND(BC7>=0.8,BC7<1),1,0) -> #REF! | BF7: =IF(AND(BC7>=1,BC7<1.2),1,0) -> #REF! | BG7: =IF(BC7>1.2,1,0) -> #REF!
C8: 50 | D8: AUBE HAUTE MARNE | E8: 21 | F8: CHAUMONT | G8: 410539 | H8: CHATEAUVILLAIN | K8: =SUMIF('RECAP PDV'!$E:$E,$G8,'RECAP PDV'!K:K) -> 215.26853 | N8: =SUMIF('RECAP PDV'!$E:$E,$G8,'RECAP PDV'!N:N) -> 64 | T8: =SUMIF('RECAP PDV'!$E:$E,$G8,'RECAP PDV'!T:T) -> 1 | Z8: =SUMIF('RECAP PDV'!E:E,G8,'RECAP PDV'!Z:Z) -> -1 | AI8: =M8/$M$4 -> #REF! | AJ8: =IF(AI8<0.8,1,0) -> #REF! | AK8: =IF(AND(AI8>=0.8,AI8<1),1,0) -> #REF! | AL8: =IF(AND(AI8>=1,AI8<1.1),1,0) -> #REF! | AM8: =IF(AI8>1.1,1,0) -> #REF! | AN8: =P8/$P$4 -> #REF! | AO8: =IF(AN8<0.8,1,0) -> #REF! | AP8: =IF(AND(AN8>=0.8,AN8<1),1,0) -> #REF! | AQ8: =IF(AND(AN8>=1,AN8<1.2),1,0) -> #REF! | AR8: =IF(AN8>1.2,1,0) -> #REF! | AS8: =S8/$S$4 -> #REF! | AT8: =IF(AS8<0.8,1,0) -> #REF! | AU8: =IF(AND(AS8>=0.8,AS8<1),1,0) -> #REF! | AV8: =IF(AND(AS8>=1,AS8<1.2),1,0) -> #REF! | AW8: =IF(AS8>1.2,1,0) -> #REF! | AX8: =V8/$V$4 -> #REF! | AY8: =IF(AX8<0.8,1,0) -> #REF! | AZ8: =IF(AND(AX8>=0.8,AX8<1),1,0) -> #REF! | BA8: =IF(AND(AX8>=1,AX8<1.2),1,0) -> #REF! | BB8: =IF(AX8>1.2,1,0) -> #REF! | BC8: =Y8/$Y$4 -> #REF! | BD8: =IF(BC8<0.8,1,0) -> #REF! | BE8: =IF(AND(BC8>=0.8,BC8<1),1,0) -> #REF! | BF8: =IF(AND(BC8>=1,BC8<1.2),1,0) -> #REF! | BG8: =IF(BC8>1.2,1,0) -> #REF!
C9: 50 | D9: AUBE HAUTE MARNE | E9: 21 | F9: CHAUMONT | G9: 410566 | H9: CHAUMONT HOTEL DE VILLE | K9: =SUMIF('RECAP PDV'!$E:$E,$G9,'RECAP PDV'!K:K) -> 909.99716 | N9: =SUMIF('RECAP PDV'!$E:$E,$G9,'RECAP PDV'!N:N) -> 3210.5378 | T9: =SUMIF('RECAP PDV'!$E:$E,$G9,'RECAP PDV'!T:T) -> 25 | Z9: =SUMIF('RECAP PDV'!E:E,G9,'RECAP PDV'!Z:Z) -> -2 | AI9: =M9/$M$4 -> #REF! | AJ9: =IF(AI9<0.8,1,0) -> #REF! | AK9: =IF(AND(AI9>=0.8,AI9<1),1,0) -> #REF! | AL9: =IF(AND(AI9>=1,AI9<1.1),1,0) -> #REF! | AM9: =IF(AI9>1.1,1,0) -> #REF! | AN9: =P9/$P$4 -> #REF! | AO9: =IF(AN9<0.8,1,0) -> #REF! | AP9: =IF(AND(AN9>=0.8,AN9<1),1,0) -> #REF! | AQ9: =IF(AND(AN9>=1,AN9<1.2),1,0) -> #REF! | AR9: =IF(AN9>1.2,1,0) -> #REF! | AS9: =S9/$S$4 -> #REF! | AT9: =IF(AS9<0.8,1,0) -> #REF! | AU9: =IF(AND(AS9>=0.8,AS9<1),1,0) -> #REF! | AV9: =IF(AND(AS9>=1,AS9<1.2),1,0) -> #REF! | AW9: =IF(AS9>1.2,1,0) -> #REF! | AX9: =V9/$V$4 -> #REF! | AY9: =IF(AX9<0.8,1,0) -> #REF! | AZ9: =IF(AND(AX9>=0.8,AX9<1),1,0) -> #REF! | BA9: =IF(AND(AX9>=1,AX9<1.2),1,0) -> #REF! | BB9: =IF(AX9>1.2,1,0) -> #REF! | BC9: =Y9/$Y$4 -> #REF! | BD9: =IF(BC9<0.8,1,0) -> #REF! | BE9: =IF(AND(BC9>=0.8,BC9<1),1,0) -> #REF! | BF9: =IF(AND(BC9>=1,BC9<1.2),1,0) -> #REF! | BG9: =IF(BC9>1.2,1,0) -> #REF!
C10: 50 | D10: AUBE HAUTE MARNE | E10: 21 | F10: CHAUMONT | G10: 510590 | H10: CHAUMONT REPUBLIQUE | K10: =SUMIF('RECAP PDV'!$E:$E,$G10,'RECAP PDV'!K:K) -> 499.10441 | N10: =SUMIF('RECAP PDV'!$E:$E,$G10,'RECAP PDV'!N:N) -> 578.93001 | T10: =SUMIF('RECAP PDV'!$E:$E,$G10,'RECAP PDV'!T:T) -> 8 | Z10: =SUMIF('RECAP PDV'!E:E,G10,'RECAP PDV'!Z:Z) -> 11 | AI10: =M10/$M$4 -> #REF! | AJ10: =IF(AI10<0.8,1,0) -> #REF! | AK10: =IF(AND(AI10>=0.8,AI10<1),1,0) -> #REF! | AL10: =IF(AND(AI10>=1,AI10<1.1),1,0) -> #REF! | AM10: =IF(AI10>1.1,1,0) -> #REF! | AN10: =P10/$P$4 -> #REF! | AO10: =IF(AN10<0.8,1,0) -> #REF! | AP10: =IF(AND(AN10>=0.8,AN10<1),1,0) -> #REF! | AQ10: =IF(AND(AN10>=1,AN10<1.2),1,0) -> #REF! | AR10: =IF(AN10>1.2,1,0) -> #REF! | AS10: =S10/$S$4 -> #REF! | AT10: =IF(AS10<0.8,1,0) -> #REF! | AU10: =IF(AND(AS10>=0.8,AS10<1),1,0) -> #REF! | AV10: =IF(AND(AS10>=1,AS10<1.2),1,0) -> #REF! | AW10: =IF(AS10>1.2,1,0) -> #REF! | AX10: =V10/$V$4 -> #REF! | AY10: =IF(AX10<0.8,1,0) -> #REF! | AZ10: =IF(AND(AX10>=0.8,AX10<1),1,0) -> #REF! | BA10: =IF(AND(AX10>=1,AX10<1.2),1,0) -> #REF! | BB10: =IF(AX10>1.2,1,0) -> #REF! | BC10: =Y10/$Y$4 -> #REF! | BD10: =IF(BC10<0.8,1,0) -> #REF! | BE10: =IF(AND(BC10>=0.8,BC10<1),1,0) -> #REF! | BF10: =IF(AND(BC10>=1,BC10<1.2),1,0) -> #REF! | BG10: =IF(BC10>1.2,1,0) -> #REF!
C11: 50 | D11: AUBE HAUTE MARNE | E11: 21 | F11: CHAUMONT | G11: 451154 | H11: JOINVILLE | K11: =SUMIF('RECAP PDV'!$E:$E,$G11,'RECAP PDV'!K:K) -> -47.61982 | N11: =SUMIF('RECAP PDV'!$E:$E,$G11,'RECAP PDV'!N:N) -> 205.98071 | T11: =SUMIF('RECAP PDV'!$E:$E,$G11,'RECAP PDV'!T:T) -> 7 | Z11: =SUMIF('RECAP PDV'!E:E,G11,'RECAP PDV'!Z:Z) -> 1 | AI11: =M11/$M$4 -> #REF! | AJ11: =IF(AI11<0.8,1,0) -> #REF! | AK11: =IF(AND(AI11>=0.8,AI11<1),1,0) -> #REF! | AL11: =IF(AND(AI11>=1,AI11<1.1),1,0) -> #REF! | AM11: =IF(AI11>1.1,1,0) -> #REF! | AN11: =P11/$P$4 -> #REF! | AO11: =IF(AN11<0.8,1,0) -> #REF! | AP11: =IF(AND(AN11>=0.8,AN11<1),1,0) -> #REF! | AQ11: =IF(AND(AN11>=1,AN11<1.2),1,0) -> #REF! | AR11: =IF(AN11>1.2,1,0) -> #REF! | AS11: =S11/$S$4 -> #REF! | AT11: =IF(AS11<0.8,1,0) -> #REF! | AU11: =IF(AND(AS11>=0.8,AS11<1),1,0) -> #REF! | AV11: =IF(AND(AS11>=1,AS11<1.2),1,0) -> #REF! | AW11: =IF(AS11>1.2,1,0) -> #REF! | AX11: =V11/$V$4 -> #REF! | AY11: =IF(AX11<0.8,1,0) -> #REF! | AZ11: =IF(AND(AX11>=0.8,AX11<1),1,0) -> #REF! | BA11: =IF(AND(AX11>=1,AX11<1.2),1,0) -> #REF! | BB11: =IF(AX11>1.2,1,0) -> #REF! | BC11: =Y11/$Y$4 -> #REF! | BD11: =IF(BC11<0.8,1,0) -> #REF! | BE11: =IF(AND(BC11>=0.8,BC11<1),1,0) -> #REF! | BF11: =IF(AND(BC11>=1,BC11<1.2),1,0) -> #REF! | BG11: =IF(BC11>1.2,1,0) -> #REF!
C12: 50 | D12: AUBE HAUTE MARNE | E12: 21 | F12: CHAUMONT | G12: 410541 | H12: LANGRES | K12: =SUMIF('RECAP PDV'!$E:$E,$G12,'RECAP PDV'!K:K) -> 363.96548 | N12: =SUMIF('RECAP PDV'!$E:$E,$G12,'RECAP PDV'!N:N) -> 176.5 | T12: =SUMIF('RECAP PDV'!$E:$E,$G12,'RECAP PDV'!T:T) -> 16 | Z12: =SUMIF('RECAP PDV'!E:E,G12,'RECAP PDV'!Z:Z) -> -3 | AI12: =M12/$M$4 -> #REF! | AJ12: =IF(AI12<0.8,1,0) -> #REF! | AK12: =IF(AND(AI12>=0.8,AI12<1),1,0) -> #REF! | AL12: =IF(AND(AI12>=1,AI12<1.1),1,0) -> #REF! | AM12: =IF(AI12>1.1,1,0) -> #REF! | AN12: =P12/$P$4 -> #REF! | AO12: =IF(AN12<0.8,1,0) -> #REF! | AP12: =IF(AND(AN12>=0.8,AN12<1),1,0) -> #REF! | AQ12: =IF(AND(AN12>=1,AN12<1.2),1,0) -> #REF! | AR12: =IF(AN12>1.2,1,0) -> #REF! | AS12: =S12/$S$4 -> #REF! | AT12: =IF(AS12<0.8,1,0) -> #REF! | AU12: =IF(AND(AS12>=0.8,AS12<1),1,0) -> #REF! | AV12: =IF(AND(AS12>=1,AS12<1.2),1,0) -> #REF! | AW12: =IF(AS12>1.2,1,0) -> #REF! | AX12: =V12/$V$4 -> #REF! | AY12: =IF(AX12<0.8,1,0) -> #REF! | AZ12: =IF(AND(AX12>=0.8,AX12<1),1,0) -> #REF! | BA12: =IF(AND(AX12>=1,AX12<1.2),1,0) -> #REF! | BB12: =IF(AX12>1.2,1,0) -> #REF! | BC12: =Y12/$Y$4 -> #REF! | BD12: =IF(BC12<0.8,1,0) -> #REF! | BE12: =IF(AND(BC12>=0.8,BC12<1),1,0) -> #REF! | BF12: =IF(AND(BC12>=1,BC12<1.2),1,0) -> #REF! | BG12: =IF(BC12>1.2,1,0) -> #REF!
C13: 50 | D13: AUBE HAUTE MARNE | E13: 21 | F13: CHAUMONT | G13: 410582 | H13: NOGENT EN BASSIGNY | K13: =SUMIF('RECAP PDV'!$E:$E,$G13,'RECAP PDV'!K:K) -> 214.24598 | N13: =SUMIF('RECAP PDV'!$E:$E,$G13,'RECAP PDV'!N:N) -> 92.16541 | T13: =SUMIF('RECAP PDV'!$E:$E,$G13,'RECAP PDV'!T:T) -> 7 | Z13: =SUMIF('RECAP PDV'!E:E,G13,'RECAP PDV'!Z:Z) -> -1 | AI13: =M13/$M$4 -> #REF! | AJ13: =IF(AI13<0.8,1,0) -> #REF! | AK13: =IF(AND(AI13>=0.8,AI13<1),1,0) -> #REF! | AL13: =IF(AND(AI13>=1,AI13<1.1),1,0) -> #REF! | AM13: =IF(AI13>1.1,1,0) -> #REF! | AN13: =P13/$P$4 -> #REF! | AO13: =IF(AN13<0.8,1,0) -> #REF! | AP13: =IF(AND(AN13>=0.8,AN13<1),1,0) -> #REF! | AQ13: =IF(AND(AN13>=1,AN13<1.2),1,0) -> #REF! | AR13: =IF(AN13>1.2,1,0) -> #REF! | AS13: =S13/$S$4 -> #REF! | AT13: =IF(AS13<0.8,1,0) -> #REF! | AU13: =IF(AND(AS13>=0.8,AS13<1),1,0) -> #REF! | AV13: =IF(AND(AS13>=1,AS13<1.2),1,0) -> #REF! | AW13: =IF(AS13>1.2,1,0) -> #REF! | AX13: =V13/$V$4 -> #REF! | AY13: =IF(AX13<0.8,1,0) -> #REF! | AZ13: =IF(AND(AX13>=0.8,AX13<1),1,0) -> #REF! | BA13: =IF(AND(AX13>=1,AX13<1.2),1,0) -> #REF! | BB13: =IF(AX13>1.2,1,0) -> #REF! | BC13: =Y13/$Y$4 -> #REF! | BD13: =IF(BC13<0.8,1,0) -> #REF! | BE13: =IF(AND(BC13>=0.8,BC13<1),1,0) -> #REF! | BF13: =IF(AND(BC13>=1,BC13<1.2),1,0) -> #REF! | BG13: =IF(BC13>1.2,1,0) -> #REF!
C14: 50 | D14: AUBE HAUTE MARNE | E14: 21 | F14: CHAUMONT | G14: 451156 | H14: SAINT DIZIER CENTRE | K14: =SUMIF('RECAP PDV'!$E:$E,$G14,'RECAP PDV'!K:K) -> 1252.7911 | N14: =SUMIF('RECAP PDV'!$E:$E,$G14,'RECAP PDV'!N:N) -> 2712.772 | T14: =SUMIF('RECAP PDV'!$E:$E,$G14,'RECAP PDV'!T:T) -> 24 | Z14: =SUMIF('RECAP PDV'!E:E,G14,'RECAP PDV'!Z:Z) -> 5 | AI14: =M14/$M$4 -> #REF! | AJ14: =IF(AI14<0.8,1,0) -> #REF! | AK14: =IF(AND(AI14>=0.8,AI14<1),1,0) -> #REF! | AL14: =IF(AND(AI14>=1,AI14<1.1),1,0) -> #REF! | AM14: =IF(AI14>1.1,1,0) -> #REF! | AN14: =P14/$P$4 -> #REF! | AO14: =IF(AN14<0.8,1,0) -> #REF! | AP14: =IF(AND(AN14>=0.8,AN14<1),1,0) -> #REF! | AQ14: =IF(AND(AN14>=1,AN14<1.2),1,0) -> #REF! | AR14: =IF(AN14>1.2,1,0) -> #REF! | AS14: =S14/$S$4 -> #REF! | AT14: =IF(AS14<0.8,1,0) -> #REF! | AU14: =IF(AND(AS14>=0.8,AS14<1),1,0) -> #REF! | AV14: =IF(AND(AS14>=1,AS14<1.2),1,0) -> #REF! | AW14: =IF(AS14>1.2,1,0) -> #REF! | AX14: =V14/$V$4 -> #REF! | AY14: =IF(AX14<0.8,1,0) -> #REF! | AZ14: =IF(AND(AX14>=0.8,AX14<1),1,0) -> #REF! | BA14: =IF(AND(AX14>=1,AX14<1.2),1,0) -> #REF! | BB14: =IF(AX14>1.2,1,0) -> #REF! | BC14: =Y14/$Y$4 -> #REF! | BD14: =IF(BC14<0.8,1,0) -> #REF! | BE14: =IF(AND(BC14>=0.8,BC14<1),1,0) -> #REF! | BF14: =IF(AND(BC14>=1,BC14<1.2),1,0) -> #REF! | BG14: =IF(BC14>1.2,1,0) -> #REF!
C15: 50 | D15: AUBE HAUTE MARNE | E15: 21 | F15: CHAUMONT | G15: 551157 | H15: SAINT DIZIER EUROPE | K15: =SUMIF('RECAP PDV'!$E:$E,$G15,'RECAP PDV'!K:K) -> -37.83863 | N15: =SUMIF('RECAP PDV'!$E:$E,$G15,'RECAP PDV'!N:N) -> 91.98702 | T15: =SUMIF('RECAP PDV'!$E:$E,$G15,'RECAP PDV'!T:T) -> 7 | Z15: =SUMIF('RECAP PDV'!E:E,G15,'RECAP PDV'!Z:Z) -> -2 | AI15: =M15/$M$4 -> #REF! | AJ15: =IF(AI15<0.8,1,0) -> #REF! | AK15: =IF(AND(AI15>=0.8,AI15<1),1,0) -> #REF! | AL15: =IF(AND(AI15>=1,AI15<1.1),1,0) -> #REF! | AM15: =IF(AI15>1.1,1,0) -> #REF! | AN15: =P15/$P$4 -> #REF! | AO15: =IF(AN15<0.8,1,0) -> #REF! | AP15: =IF(AND(AN15>=0.8,AN15<1),1,0) -> #REF! | AQ15: =IF(AND(AN15>=1,AN15<1.2),1,0) -> #REF! | AR15: =IF(AN15>1.2,1,0) -> #REF! | AS15: =S15/$S$4 -> #REF! | AT15: =IF(AS15<0.8,1,0) -> #REF! | AU15: =IF(AND(AS15>=0.8,AS15<1),1,0) -> #REF! | AV15: =IF(AND(AS15>=1,AS15<1.2),1,0) -> #REF! | AW15: =IF(AS15>1.2,1,0) -> #REF! | AX15: =V15/$V$4 -> #REF! | AY15: =IF(AX15<0.8,1,0) -> #REF! | AZ15: =IF(AND(AX15>=0.8,AX15<1),1,0) -> #REF! | BA15: =IF(AND(AX15>=1,AX15<1.2),1,0) -> #REF! | BB15: =IF(AX15>1.2,1,0) -> #REF! | BC15: =Y15/$Y$4 -> #REF! | BD15: =IF(BC15<0.8,1,0) -> #REF! | BE15: =IF(AND(BC15>=0.8,BC15<1),1,0) -> #REF! | BF15: =IF(AND(BC15>=1,BC15<1.2),1,0) -> #REF! | BG15: =IF(BC15>1.2,1,0) -> #REF!
C16: 50 | D16: AUBE HAUTE MARNE | E16: 21 | F16: CHAUMONT | G16: 451151 | H16: WASSY | K16: =SUMIF('RECAP PDV'!$E:$E,$G16,'RECAP PDV'!K:K) -> 941.09166 | N16: =SUMIF('RECAP PDV'!$E:$E,$G16,'RECAP PDV'!N:N) -> 115.70044 | T16: =SUMIF('RECAP PDV'!$E:$E,$G16,'RECAP PDV'!T:T) -> 11 | Z16: =SUMIF('RECAP PDV'!E:E,G16,'RECAP PDV'!Z:Z) -> 0 | AI16: =M16/$M$4 -> #REF! | AJ16: =IF(AI16<0.8,1,0) -> #REF! | AK16: =IF(AND(AI16>=0.8,AI16<1),1,0) -> #REF! | AL16: =IF(AND(AI16>=1,AI16<1.1),1,0) -> #REF! | AM16: =IF(AI16>1.1,1,0) -> #REF! | AN16: =P16/$P$4 -> #REF! | AO16: =IF(AN16<0.8,1,0) -> #REF! | AP16: =IF(AND(AN16>=0.8,AN16<1),1,0) -> #REF! | AQ16: =IF(AND(AN16>=1,AN16<1.2),1,0) -> #REF! | AR16: =IF(AN16>1.2,1,0) -> #REF! | AS16: =S16/$S$4 -> #REF! | AT16: =IF(AS16<0.8,1,0) -> #REF! | AU16: =IF(AND(AS16>=0.8,AS16<1),1,0) -> #REF! | AV16: =IF(AND(AS16>=1,AS16<1.2),1,0) -> #REF! | AW16: =IF(AS16>1.2,1,0) -> #REF! | AX16: =V16/$V$4 -> #REF! | AY16: =IF(AX16<0.8,1,0) -> #REF! | AZ16: =IF(AND(AX16>=0.8,AX16<1),1,0) -> #REF! | BA16: =IF(AND(AX16>=1,AX16<1.2),1,0) -> #REF! | BB16: =IF(AX16>1.2,1,0) -> #REF! | BC16: =Y16/$Y$4 -> #REF! | BD16: =IF(BC16<0.8,1,0) -> #REF! | BE16: =IF(AND(BC16>=0.8,BC16<1),1,0) -> #REF! | BF16: =IF(AND(BC16>=1,BC16<1.2),1,0) -> #REF! | BG16: =IF(BC16>1.2,1,0) -> #REF!
C17: 50 | D17: AUBE HAUTE MARNE | E17: 14 | F17: TROYES | G17: 410583 | H17: AIX EN OTHE | K17: =SUMIF('RECAP PDV'!$E:$E,$G17,'RECAP PDV'!K:K) -> 139.5633 | N17: =SUMIF('RECAP PDV'!$E:$E,$G17,'RECAP PDV'!N:N) -> 33 | T17: =SUMIF('RECAP PDV'!$E:$E,$G17,'RECAP PDV'!T:T) -> 7 | Z17: =SUMIF('RECAP PDV'!E:E,G17,'RECAP PDV'!Z:Z) -> 0 | AI17: =M17/$M$4 -> #REF! | AJ17: =IF(AI17<0.8,1,0) -> #REF! | AK17: =IF(AND(AI17>=0.8,AI17<1),1,0) -> #REF! | AL17: =IF(AND(AI17>=1,AI17<1.1),1,0) -> #REF! | AM17: =IF(AI17>1.1,1,0) -> #REF! | AN17: =P17/$P$4 -> #REF! | AO17: =IF(AN17<0.8,1,0) -> #REF! | AP17: =IF(AND(AN17>=0.8,AN17<1),1,0) -> #REF! | AQ17: =IF(AND(AN17>=1,AN17<1.2),1,0) -> #REF! | AR17: =IF(AN17>1.2,1,0) -> #REF! | AS17: =S17/$S$4 -> #REF! | AT17: =IF(AS17<0.8,1,0) -> #REF! | AU17: =IF(AND(AS17>=0.8,AS17<1),1,0) -> #REF! | AV17: =IF(AND(AS17>=1,AS17<1.2),1,0) -> #REF! | AW17: =IF(AS17>1.2,1,0) -> #REF! | AX17: =V17/$V$4 -> #REF! | AY17: =IF(AX17<0.8,1,0) -> #REF! | AZ17: =IF(AND(AX17>=0.8,AX17<1),1,0) -> #REF! | BA17: =IF(AND(AX17>=1,AX17<1.2),1,0) -> #REF! | BB17: =IF(AX17>1.2,1,0) -> #REF! | BC17: =Y17/$Y$4 -> #REF! | BD17: =IF(BC17<0.8,1,0) -> #REF! | BE17: =IF(AND(BC17>=0.8,BC17<1),1,0) -> #REF! | BF17: =IF(AND(BC17>=1,BC17<1.2),1,0) -> #REF! | BG17: =IF(BC17>1.2,1,0) -> #REF!
... C280: 160 | D280: MOSELLE | E280: 44 | F280: MOSELLE NORD | G280: 457158 | H280: YUTZ | K280: =SUMIF('RECAP PDV'!$E:$E,$G280,'RECAP PDV'!K:K) -> -151.32409 | N280: =SUMIF('RECAP PDV'!$E:$E,$G280,'RECAP PDV'!N:N) -> 12 | T280: =SUMIF('RECAP PDV'!$E:$E,$G280,'RECAP PDV'!T:T) -> 3 | Z280: =SUMIF('RECAP PDV'!E:E,G280,'RECAP PDV'!Z:Z) -> -6 | AI280: =M280/$M$4 -> #REF! | AJ280: =IF(AI280<0.8,1,0) -> #REF! | AK280: =IF(AND(AI280>=0.8,AI280<1),1,0) -> #REF! | AL280: =IF(AND(AI280>=1,AI280<1.1),1,0) -> #REF! | AM280: =IF(AI280>1.1,1,0) -> #REF! | AN280: =P280/$P$4 -> #REF! | AO280: =IF(AN280<0.8,1,0) -> #REF! | AP280: =IF(AND(AN280>=0.8,AN280<1),1,0) -> #REF! | AQ280: =IF(AND(AN280>=1,AN280<1.2),1,0) -> #REF! | AR280: =IF(AN280>1.2,1,0) -> #REF! | AS280: =S280/$S$4 -> #REF! | AT280: =IF(AS280<0.8,1,0) -> #REF! | AU280: =IF(AND(AS280>=0.8,AS280<1),1,0) -> #REF! | AV280: =IF(AND(AS280>=1,AS280<1.2),1,0) -> #REF! | AW280: =IF(AS280>1.2,1,0) -> #REF! | AX280: =V280/$V$4 -> #REF! | AY280: =IF(AX280<0.8,1,0) -> #REF! | AZ280: =IF(AND(AX280>=0.8,AX280<1),1,0) -> #REF! | BA280: =IF(AND(AX280>=1,AX280<1.2),1,0) -> #REF! | BB280: =IF(AX280>1.2,1,0) -> #REF! | BC280: =Y280/$Y$4 -> #REF! | BD280: =IF(BC280<0.8,1,0) -> #REF! | BE280: =IF(AND(BC280>=0.8,BC280<1),1,0) -> #REF! | BF280: =IF(AND(BC280>=1,BC280<1.2),1,0) -> #REF! | BG280: =IF(BC280>1.2,1,0) -> #REF!
C281: 269 | D281: Multimédia | E281: 5022 | F281: MON BANQUIER EN LIGNE | G281: 4022 | H281: Mon banquier en ligne | K281: =SUMIF('RECAP PDV'!$E:$E,$G281,'RECAP PDV'!K:K) -> 57.34117 | N281: =SUMIF('RECAP PDV'!$E:$E,$G281,'RECAP PDV'!N:N) -> 0 | T281: =SUMIF('RECAP PDV'!$E:$E,$G281,'RECAP PDV'!T:T) -> 1 | Z281: =SUMIF('RECAP PDV'!E:E,G281,'RECAP PDV'!Z:Z) -> 0
C282: 80 | D282: VOSGES | E282: 57 | F282: EPINAL | G282: 588201 | H282: CHANTRAINE | K282: =SUMIF('RECAP PDV'!$E:$E,$G282,'RECAP PDV'!K:K) -> 169.50141 | N282: =SUMIF('RECAP PDV'!$E:$E,$G282,'RECAP PDV'!N:N) -> 167.438 | T282: =SUMIF('RECAP PDV'!$E:$E,$G282,'RECAP PDV'!T:T) -> 7 | Z282: =SUMIF('RECAP PDV'!E:E,G282,'RECAP PDV'!Z:Z) -> 3 | AI282: =M282/$M$4 -> #REF! | AJ282: =IF(AI282<0.8,1,0) -> #REF! | AK282: =IF(AND(AI282>=0.8,AI282<1),1,0) -> #REF! | AL282: =IF(AND(AI282>=1,AI282<1.1),1,0) -> #REF! | AM282: =IF(AI282>1.1,1,0) -> #REF! | AN282: =P282/$P$4 -> #REF! | AO282: =IF(AN282<0.8,1,0) -> #REF! | AP282: =IF(AND(AN282>=0.8,AN282<1),1,0) -> #REF! | AQ282: =IF(AND(AN282>=1,AN282<1.2),1,0) -> #REF! | AR282: =IF(AN282>1.2,1,0) -> #REF! | AS282: =S282/$S$4 -> #REF! | AT282: =IF(AS282<0.8,1,0) -> #REF! | AU282: =IF(AND(AS282>=0.8,AS282<1),1,0) -> #REF! | AV282: =IF(AND(AS282>=1,AS282<1.2),1,0) -> #REF! | AW282: =IF(AS282>1.2,1,0) -> #REF! | AX282: =V282/$V$4 -> #REF! | AY282: =IF(AX282<0.8,1,0) -> #REF! | AZ282: =IF(AND(AX282>=0.8,AX282<1),1,0) -> #REF! | BA282: =IF(AND(AX282>=1,AX282<1.2),1,0) -> #REF! | BB282: =IF(AX282>1.2,1,0) -> #REF! | BC282: =Y282/$Y$4 -> #REF! | BD282: =IF(BC282<0.8,1,0) -> #REF! | BE282: =IF(AND(BC282>=0.8,BC282<1),1,0) -> #REF! | BF282: =IF(AND(BC282>=1,BC282<1.2),1,0) -> #REF! | BG282: =IF(BC282>1.2,1,0) -> #REF!
C283: 80 | D283: VOSGES | E283: 57 | F283: EPINAL | G283: 588206 | H283: CHARMES | K283: =SUMIF('RECAP PDV'!$E:$E,$G283,'RECAP PDV'!K:K) -> -158.67607 | N283: =SUMIF('RECAP PDV'!$E:$E,$G283,'RECAP PDV'!N:N) -> 550.795 | T283: =SUMIF('RECAP PDV'!$E:$E,$G283,'RECAP PDV'!T:T) -> 13 | Z283: =SUMIF('RECAP PDV'!E:E,G283,'RECAP PDV'!Z:Z) -> -1 | AI283: =M283/$M$4 -> #REF! | AJ283: =IF(AI283<0.8,1,0) -> #REF! | AK283: =IF(AND(AI283>=0.8,AI283<1),1,0) -> #REF! | AL283: =IF(AND(AI283>=1,AI283<1.1),1,0) -> #REF! | AM283: =IF(AI283>1.1,1,0) -> #REF! | AN283: =P283/$P$4 -> #REF! | AO283: =IF(AN283<0.8,1,0) -> #REF! | AP283: =IF(AND(AN283>=0.8,AN283<1),1,0) -> #REF! | AQ283: =IF(AND(AN283>=1,AN283<1.2),1,0) -> #REF! | AR283: =IF(AN283>1.2,1,0) -> #REF! | AS283: =S283/$S$4 -> #REF! | AT283: =IF(AS283<0.8,1,0) -> #REF! | AU283: =IF(AND(AS283>=0.8,AS283<1),1,0) -> #REF! | AV283: =IF(AND(AS283>=1,AS283<1.2),1,0) -> #REF! | AW283: =IF(AS283>1.2,1,0) -> #REF! | AX283: =V283/$V$4 -> #REF! | AY283: =IF(AX283<0.8,1,0) -> #REF! | AZ283: =IF(AND(AX283>=0.8,AX283<1),1,0) -> #REF! | BA283: =IF(AND(AX283>=1,AX283<1.2),1,0) -> #REF! | BB283: =IF(AX283>1.2,1,0) -> #REF! | BC283: =Y283/$Y$4 -> #REF! | BD283: =IF(BC283<0.8,1,0) -> #REF! | BE283: =IF(AND(BC283>=0.8,BC283<1),1,0) -> #REF! | BF283: =IF(AND(BC283>=1,BC283<1.2),1,0) -> #REF! | BG283: =IF(BC283>1.2,1,0) -> #REF!
C284: 80 | D284: VOSGES | E284: 57 | F284: EPINAL | G284: 588216 | H284: CHATENOIS | K284: =SUMIF('RECAP PDV'!$E:$E,$G284,'RECAP PDV'!K:K) -> 70.18904 | N284: =SUMIF('RECAP PDV'!$E:$E,$G284,'RECAP PDV'!N:N) -> 0 | T284: =SUMIF('RECAP PDV'!$E:$E,$G284,'RECAP PDV'!T:T) -> 0 | Z284: =SUMIF('RECAP PDV'!E:E,G284,'RECAP PDV'!Z:Z) -> -3 | AI284: =M284/$M$4 -> #REF! | AJ284: =IF(AI284<0.8,1,0) -> #REF! | AK284: =IF(AND(AI284>=0.8,AI284<1),1,0) -> #REF! | AL284: =IF(AND(AI284>=1,AI284<1.1),1,0) -> #REF! | AM284: =IF(AI284>1.1,1,0) -> #REF! | AN284: =P284/$P$4 -> #REF! | AO284: =IF(AN284<0.8,1,0) -> #REF! | AP284: =IF(AND(AN284>=0.8,AN284<1),1,0) -> #REF! | AQ284: =IF(AND(AN284>=1,AN284<1.2),1,0) -> #REF! | AR284: =IF(AN284>1.2,1,0) -> #REF! | AS284: =S284/$S$4 -> #REF! | AT284: =IF(AS284<0.8,1,0) -> #REF! | AU284: =IF(AND(AS284>=0.8,AS284<1),1,0) -> #REF! | AV284: =IF(AND(AS284>=1,AS284<1.2),1,0) -> #REF! | AW284: =IF(AS284>1.2,1,0) -> #REF! | AX284: =V284/$V$4 -> #REF! | AY284: =IF(AX284<0.8,1,0) -> #REF! | AZ284: =IF(AND(AX284>=0.8,AX284<1),1,0) -> #REF! | BA284: =IF(AND(AX284>=1,AX284<1.2),1,0) -> #REF! | BB284: =IF(AX284>1.2,1,0) -> #REF! | BC284: =Y284/$Y$4 -> #REF! | BD284: =IF(BC284<0.8,1,0) -> #REF! | BE284: =IF(AND(BC284>=0.8,BC284<1),1,0) -> #REF! | BF284: =IF(AND(BC284>=1,BC284<1.2),1,0) -> #REF! | BG284: =IF(BC284>1.2,1,0) -> #REF!
C285: 80 | D285: VOSGES | E285: 57 | F285: EPINAL | G285: 488256 | H285: DARNEY | K285: =SUMIF('RECAP PDV'!$E:$E,$G285,'RECAP PDV'!K:K) -> 254.60873 | N285: =SUMIF('RECAP PDV'!$E:$E,$G285,'RECAP PDV'!N:N) -> 265.5 | T285: =SUMIF('RECAP PDV'!$E:$E,$G285,'RECAP PDV'!T:T) -> 5 | Z285: =SUMIF('RECAP PDV'!E:E,G285,'RECAP PDV'!Z:Z) -> -2 | AI285: =M285/$M$4 -> #REF! | AJ285: =IF(AI285<0.8,1,0) -> #REF! | AK285: =IF(AND(AI285>=0.8,AI285<1),1,0) -> #REF! | AL285: =IF(AND(AI285>=1,AI285<1.1),1,0) -> #REF! | AM285: =IF(AI285>1.1,1,0) -> #REF! | AN285: =P285/$P$4 -> #REF! | AO285: =IF(AN285<0.8,1,0) -> #REF! | AP285: =IF(AND(AN285>=0.8,AN285<1),1,0) -> #REF! | AQ285: =IF(AND(AN285>=1,AN285<1.2),1,0) -> #REF! | AR285: =IF(AN285>1.2,1,0) -> #REF! | AS285: =S285/$S$4 -> #REF! | AT285: =IF(AS285<0.8,1,0) -> #REF! | AU285: =IF(AND(AS285>=0.8,AS285<1),1,0) -> #REF! | AV285: =IF(AND(AS285>=1,AS285<1.2),1,0) -> #REF! | AW285: =IF(AS285>1.2,1,0) -> #REF! | AX285: =V285/$V$4 -> #REF! | AY285: =IF(AX285<0.8,1,0) -> #REF! | AZ285: =IF(AND(AX285>=0.8,AX285<1),1,0) -> #REF! | BA285: =IF(AND(AX285>=1,AX285<1.2),1,0) -> #REF! | BB285: =IF(AX285>1.2,1,0) -> #REF! | BC285: =Y285/$Y$4 -> #REF! | BD285: =IF(BC285<0.8,1,0) -> #REF! | BE285: =IF(AND(BC285>=0.8,BC285<1),1,0) -> #REF! | BF285: =IF(AND(BC285>=1,BC285<1.2),1,0) -> #REF! | BG285: =IF(BC285>1.2,1,0) -> #REF!
C286: 80 | D286: VOSGES | E286: 57 | F286: EPINAL | G286: 488261 | H286: DOCELLES | K286: =SUMIF('RECAP PDV'!$E:$E,$G286,'RECAP PDV'!K:K) -> 164.08979 | N286: =SUMIF('RECAP PDV'!$E:$E,$G286,'RECAP PDV'!N:N) -> 71 | T286: =SUMIF('RECAP PDV'!$E:$E,$G286,'RECAP PDV'!T:T) -> 0 | Z286: =SUMIF('RECAP PDV'!E:E,G286,'RECAP PDV'!Z:Z) -> 3 | AI286: =M286/$M$4 -> #REF! | AJ286: =IF(AI286<0.8,1,0) -> #REF! | AK286: =IF(AND(AI286>=0.8,AI286<1),1,0) -> #REF! | AL286: =IF(AND(AI286>=1,AI286<1.1),1,0) -> #REF! | AM286: =IF(AI286>1.1,1,0) -> #REF! | AN286: =P286/$P$4 -> #REF! | AO286: =IF(AN286<0.8,1,0) -> #REF! | AP286: =IF(AND(AN286>=0.8,AN286<1),1,0) -> #REF! | AQ286: =IF(AND(AN286>=1,AN286<1.2),1,0) -> #REF! | AR286: =IF(AN286>1.2,1,0) -> #REF! | AS286: =S286/$S$4 -> #REF! | AT286: =IF(AS286<0.8,1,0) -> #REF! | AU286: =IF(AND(AS286>=0.8,AS286<1),1,0) -> #REF! | AV286: =IF(AND(AS286>=1,AS286<1.2),1,0) -> #REF! | AW286: =IF(AS286>1.2,1,0) -> #REF! | AX286: =V286/$V$4 -> #REF! | AY286: =IF(AX286<0.8,1,0) -> #REF! | AZ286: =IF(AND(AX286>=0.8,AX286<1),1,0) -> #REF! | BA286: =IF(AND(AX286>=1,AX286<1.2),1,0) -> #REF! | BB286: =IF(AX286>1.2,1,0) -> #REF! | BC286: =Y286/$Y$4 -> #REF! | BD286: =IF(BC286<0.8,1,0) -> #REF! | BE286: =IF(AND(BC286>=0.8,BC286<1),1,0) -> #REF! | BF286: =IF(AND(BC286>=1,BC286<1.2),1,0) -> #REF! | BG286: =IF(BC286>1.2,1,0) -> #REF!
C287: 80 | D287: VOSGES | E287: 57 | F287: EPINAL | G287: 488281 | H287: ELOYES | K287: =SUMIF('RECAP PDV'!$E:$E,$G287,'RECAP PDV'!K:K) -> 151.74841 | N287: =SUMIF('RECAP PDV'!$E:$E,$G287,'RECAP PDV'!N:N) -> 564.77675 | T287: =SUMIF('RECAP PDV'!$E:$E,$G287,'RECAP PDV'!T:T) -> 11 | Z287: =SUMIF('RECAP PDV'!E:E,G287,'RECAP PDV'!Z:Z) -> 5 | AI287: =M287/$M$4 -> #REF! | AJ287: =IF(AI287<0.8,1,0) -> #REF! | AK287: =IF(AND(AI287>=0.8,AI287<1),1,0) -> #REF! | AL287: =IF(AND(AI287>=1,AI287<1.1),1,0) -> #REF! | AM287: =IF(AI287>1.1,1,0) -> #REF! | AN287: =P287/$P$4 -> #REF! | AO287: =IF(AN287<0.8,1,0) -> #REF! | AP287: =IF(AND(AN287>=0.8,AN287<1),1,0) -> #REF! | AQ287: =IF(AND(AN287>=1,AN287<1.2),1,0) -> #REF! | AR287: =IF(AN287>1.2,1,0) -> #REF! | AS287: =S287/$S$4 -> #REF! | AT287: =IF(AS287<0.8,1,0) -> #REF! | AU287: =IF(AND(AS287>=0.8,AS287<1),1,0) -> #REF! | AV287: =IF(AND(AS287>=1,AS287<1.2),1,0) -> #REF! | AW287: =IF(AS287>1.2,1,0) -> #REF! | AX287: =V287/$V$4 -> #REF! | AY287: =IF(AX287<0.8,1,0) -> #REF! | AZ287: =IF(AND(AX287>=0.8,AX287<1),1,0) -> #REF! | BA287: =IF(AND(AX287>=1,AX287<1.2),1,0) -> #REF! | BB287: =IF(AX287>1.2,1,0) -> #REF! | BC287: =Y287/$Y$4 -> #REF! | BD287: =IF(BC287<0.8,1,0) -> #REF! | BE287: =IF(AND(BC287>=0.8,BC287<1),1,0) -> #REF! | BF287: =IF(AND(BC287>=1,BC287<1.2),1,0) -> #REF! | BG287: =IF(BC287>1.2,1,0) -> #REF!
C288: 80 | D288: VOSGES | E288: 57 | F288: EPINAL | G288: 488286 | H288: EPINAL ARISTIDE BRIAND | K288: =SUMIF('RECAP PDV'!$E:$E,$G288,'RECAP PDV'!K:K) -> 1086.1264 | N288: =SUMIF('RECAP PDV'!$E:$E,$G288,'RECAP PDV'!N:N) -> 2643.9908 | T288: =SUMIF('RECAP PDV'!$E:$E,$G288,'RECAP PDV'!T:T) -> 27 | Z288: =SUMIF('RECAP PDV'!E:E,G288,'RECAP PDV'!Z:Z) -> -8 | AI288: =M288/$M$4 -> #REF! | AJ288: =IF(AI288<0.8,1,0) -> #REF! | AK288: =IF(AND(AI288>=0.8,AI288<1),1,0) -> #REF! | AL288: =IF(AND(AI288>=1,AI288<1.1),1,0) -> #REF! | AM288: =IF(AI288>1.1,1,0) -> #REF! | AN288: =P288/$P$4 -> #REF! | AO288: =IF(AN288<0.8,1,0) -> #REF! | AP288: =IF(AND(AN288>=0.8,AN288<1),1,0) -> #REF! | AQ288: =IF(AND(AN288>=1,AN288<1.2),1,0) -> #REF! | AR288: =IF(AN288>1.2,1,0) -> #REF! | AS288: =S288/$S$4 -> #REF! | AT288: =IF(AS288<0.8,1,0) -> #REF! | AU288: =IF(AND(AS288>=0.8,AS288<1),1,0) -> #REF! | AV288: =IF(AND(AS288>=1,AS288<1.2),1,0) -> #REF! | AW288: =IF(AS288>1.2,1,0) -> #REF! | AX288: =V288/$V$4 -> #REF! | AY288: =IF(AX288<0.8,1,0) -> #REF! | AZ288: =IF(AND(AX288>=0.8,AX288<1),1,0) -> #REF! | BA288: =IF(AND(AX288>=1,AX288<1.2),1,0) -> #REF! | BB288: =IF(AX288>1.2,1,0) -> #REF! | BC288: =Y288/$Y$4 -> #REF! | BD288: =IF(BC288<0.8,1,0) -> #REF! | BE288: =IF(AND(BC288>=0.8,BC288<1),1,0) -> #REF! | BF288: =IF(AND(BC288>=1,BC288<1.2),1,0) -> #REF! | BG288: =IF(BC288>1.2,1,0) -> #REF!
C289: 80 | D289: VOSGES | E289: 57 | F289: EPINAL | G289: 488291 | H289: EPINAL AVRINSART | K289: =SUMIF('RECAP PDV'!$E:$E,$G289,'RECAP PDV'!K:K) -> 71.31856 | N289: =SUMIF('RECAP PDV'!$E:$E,$G289,'RECAP PDV'!N:N) -> 52.8 | T289: =SUMIF('RECAP PDV'!$E:$E,$G289,'RECAP PDV'!T:T) -> 7 | Z289: =SUMIF('RECAP PDV'!E:E,G289,'RECAP PDV'!Z:Z) -> 4 | AI289: =M289/$M$4 -> #REF! | AJ289: =IF(AI289<0.8,1,0) -> #REF! | AK289: =IF(AND(AI289>=0.8,AI289<1),1,0) -> #REF! | AL289: =IF(AND(AI289>=1,AI289<1.1),1,0) -> #REF! | AM289: =IF(AI289>1.1,1,0) -> #REF! | AN289: =P289/$P$4 -> #REF! | AO289: =IF(AN289<0.8,1,0) -> #REF! | AP289: =IF(AND(AN289>=0.8,AN289<1),1,0) -> #REF! | AQ289: =IF(AND(AN289>=1,AN289<1.2),1,0) -> #REF! | AR289: =IF(AN289>1.2,1,0) -> #REF! | AS289: =S289/$S$4 -> #REF! | AT289: =IF(AS289<0.8,1,0) -> #REF! | AU289: =IF(AND(AS289>=0.8,AS289<1),1,0) -> #REF! | AV289: =IF(AND(AS289>=1,AS289<1.2),1,0) -> #REF! | AW289: =IF(AS289>1.2,1,0) -> #REF! | AX289: =V289/$V$4 -> #REF! | AY289: =IF(AX289<0.8,1,0) -> #REF! | AZ289: =IF(AND(AX289>=0.8,AX289<1),1,0) -> #REF! | BA289: =IF(AND(AX289>=1,AX289<1.2),1,0) -> #REF! | BB289: =IF(AX289>1.2,1,0) -> #REF! | BC289: =Y289/$Y$4 -> #REF! | BD289: =IF(BC289<0.8,1,0) -> #REF! | BE289: =IF(AND(BC289>=0.8,BC289<1),1,0) -> #REF! | BF289: =IF(AND(BC289>=1,BC289<1.2),1,0) -> #REF! | BG289: =IF(BC289>1.2,1,0) -> #REF!
C290: 80 | D290: VOSGES | E290: 57 | F290: EPINAL | G290: 488288 | H290: EPINAL LEOPOLD BOURG | K290: =SUMIF('RECAP PDV'!$E:$E,$G290,'RECAP PDV'!K:K) -> 311.35395 | N290: =SUMIF('RECAP PDV'!$E:$E,$G290,'RECAP PDV'!N:N) -> 1040.051 | T290: =SUMIF('RECAP PDV'!$E:$E,$G290,'RECAP PDV'!T:T) -> 14 | Z290: =SUMIF('RECAP PDV'!E:E,G290,'RECAP PDV'!Z:Z) -> 2 | AI290: =M290/$M$4 -> #REF! | AJ290: =IF(AI290<0.8,1,0) -> #REF! | AK290: =IF(AND(AI290>=0.8,AI290<1),1,0) -> #REF! | AL290: =IF(AND(AI290>=1,AI290<1.1),1,0) -> #REF! | AM290: =IF(AI290>1.1,1,0) -> #REF! | AN290: =P290/$P$4 -> #REF! | AO290: =IF(AN290<0.8,1,0) -> #REF! | AP290: =IF(AND(AN290>=0.8,AN290<1),1,0) -> #REF! | AQ290: =IF(AND(AN290>=1,AN290<1.2),1,0) -> #REF! | AR290: =IF(AN290>1.2,1,0) -> #REF! | AS290: =S290/$S$4 -> #REF! | AT290: =IF(AS290<0.8,1,0) -> #REF! | AU290: =IF(AND(AS290>=0.8,AS290<1),1,0) -> #REF! | AV290: =IF(AND(AS290>=1,AS290<1.2),1,0) -> #REF! | AW290: =IF(AS290>1.2,1,0) -> #REF! | AX290: =V290/$V$4 -> #REF! | AY290: =IF(AX290<0.8,1,0) -> #REF! | AZ290: =IF(AND(AX290>=0.8,AX290<1),1,0) -> #REF! | BA290: =IF(AND(AX290>=1,AX290<1.2),1,0) -> #REF! | BB290: =IF(AX290>1.2,1,0) -> #REF! | BC290: =Y290/$Y$4 -> #REF! | BD290: =IF(BC290<0.8,1,0) -> #REF! | BE290: =IF(AND(BC290>=0.8,BC290<1),1,0) -> #REF! | BF290: =IF(AND(BC290>=1,BC290<1.2),1,0) -> #REF! | BG290: =IF(BC290>1.2,1,0) -> #REF!
C291: 80 | D291: VOSGES | E291: 57 | F291: EPINAL | G291: 588336 | H291: GOLBEY | K291: =SUMIF('RECAP PDV'!$E:$E,$G291,'RECAP PDV'!K:K) -> -259.97466 | N291: =SUMIF('RECAP PDV'!$E:$E,$G291,'RECAP PDV'!N:N) -> 113.60892 | T291: =SUMIF('RECAP PDV'!$E:$E,$G291,'RECAP PDV'!T:T) -> 10 | Z291: =SUMIF('RECAP PDV'!E:E,G291,'RECAP PDV'!Z:Z) -> 3 | AI291: =M291/$M$4 -> #REF! | AJ291: =IF(AI291<0.8,1,0) -> #REF! | AK291: =IF(AND(AI291>=0.8,AI291<1),1,0) -> #REF! | AL291: =IF(AND(AI291>=1,AI291<1.1),1,0) -> #REF! | AM291: =IF(AI291>1.1,1,0) -> #REF! | AN291: =P291/$P$4 -> #REF! | AO291: =IF(AN291<0.8,1,0) -> #REF! | AP291: =IF(AND(AN291>=0.8,AN291<1),1,0) -> #REF! | AQ291: =IF(AND(AN291>=1,AN291<1.2),1,0) -> #REF! | AR291: =IF(AN291>1.2,1,0) -> #REF! | AS291: =S291/$S$4 -> #REF! | AT291: =IF(AS291<0.8,1,0) -> #REF! | AU291: =IF(AND(AS291>=0.8,AS291<1),1,0) -> #REF! | AV291: =IF(AND(AS291>=1,AS291<1.2),1,0) -> #REF! | AW291: =IF(AS291>1.2,1,0) -> #REF! | AX291: =V291/$V$4 -> #REF! | AY291: =IF(AX291<0.8,1,0) -> #REF! | AZ291: =IF(AND(AX291>=0.8,AX291<1),1,0) -> #REF! | BA291: =IF(AND(AX291>=1,AX291<1.2),1,0) -> #REF! | BB291: =IF(AX291>1.2,1,0) -> #REF! | BC291: =Y291/$Y$4 -> #REF! | BD291: =IF(BC291<0.8,1,0) -> #REF! | BE291: =IF(AND(BC291>=0.8,BC291<1),1,0) -> #REF! | BF291: =IF(AND(BC291>=1,BC291<1.2),1,0) -> #REF! | BG291: =IF(BC291>1.2,1,0) -> #REF!
