Workbook

Sheet Composition de la famille
C1: INITIAL Classic à CS | D1: INITIAL Classic | E1: CONFORT Classic à CS | F1: CONFORT Classic | G1: CONFORT Premier | H1: OPTIMAL Premier | I1: OPTIMAL Platinum | J1: OPTIMAL Infiinte
B2: Individuelle | C2: 7.4 | D2: 7.4 | E2: 10 | F2: 10 | G2: 16.1 | H2: 21.5 | I2: 27 | J2: 37.5
B3: Individuelle Jeunes 18-28ans | C3: 3.7 | D3: 3.7 | E3: 5 | F3: 5 | G3: 8.05 | H3: 10.75 | I3: 13.5 | J3: 18.75
B4: Individuelle Jeunes 12-17ans | C4: 0 | E4: 5
C7: Calculette Formules
C10: INITIAL Classic à CS | D10: INITIAL Classic | E10: CONFORT Classic à CS | F10: CONFORT Classic | G10: CONFORT Premier | H10: OPTIMAL Premier | I10: OPTIMAL Platinum | J10: OPTIMAL Infinite
B11: Individuelle | C11: 0 | D11: 0 | E11: 0 | F11: 0 | G11: 0 | H11: 0 | I11: 0 | J11: 0 | K11: Composition de la famille | L11:  Nombre de parent
B12: Individuelle Jeunes 18-28ans | C12: 0 | D12: 0 | E12: 0 | F12: 0 | G12: 0 | H12: 0 | I12: 0 | J12: 0 | L12:  Nombre d'enfant majeur
B13: Individuelle Jeunes 12-17ans | C13: 0 | E13: 0 | L13:  Nombre d'enfant mineur
B14: Total prix cumulé Formules Individuelles | C14: =(C11*C2)+(C12*C3)+(C13*C4) -> 0 | D14: =(D11*D2)+(D12*D3)+(D13*D4) -> 0 | E14: =(E11*E2)+(E12*E3)+(E13*E4) -> 0 | F14: =(F11*F2)+(F12*F3)+(F13*F4) -> 0 | G14: =(G11*G2)+(G12*G3)+(G13*G4) -> 0 | H14: =(H11*H2)+(H12*H3)+(H13*H4) -> 0 | I14: =(I11*I2)+(I12*I3)+(I13*I4) -> 0 | J14: =(J11*J2)+(J12*J3)+(J13*J4) -> 0
B15: Cotisation globale Formule Famille | C15: ='nouveau montage'!D20 -> 12.6 | D15: ='nouveau montage'!D20 -> 12.6 | E15: ='nouveau montage'!D21 -> 16.1 | F15: ='nouveau montage'!D21 -> 16.1 | G15: ='nouveau montage'!D22 -> 20.4 | H15: ='nouveau montage'!D23 -> 29 | I15: ='nouveau montage'!D24 -> 36.5 | J15: ='nouveau montage'!D25 -> 47.2
B16: Avantage client mensuel Formule Famille vs Formules Individuelles | C16: =C14-C15 -> -12.6 | D16: =D14-D15 -> -12.6 | E16: =E14-E15 -> -16.1 | F16: =F14-F15 -> -16.1 | G16: =G14-G15 -> -20.4 | H16: =H14-H15 -> -29 | I16: =I14-I15 -> -36.5 | J16: =J14-J15 -> -47.2
B17: Gain annuel pour le client | C17: =C16*12 -> -151.2 | D17: =D16*12 -> -151.2 | E17: =E16*12 -> -193.2 | F17: =F16*12 -> -193.2 | G17: =G16*12 -> -244.8 | H17: =H16*12 -> -348 | I17: =I16*12 -> -438 | J17: =J16*12 -> -566.4
B21: Proposez la Formule Famille à vos clients dès lors que leur gain annuel est positif

Sheet nouveau montage
A1: Situations clients à mettre en liste déroulante
A2: Titulaire 1 | B2: Titulaire 2 | C2: Titulaire 3 | D2: Titulaire 4 | E2: Titulaire 5 | F2: Titulaire 6 | G2: Titulaire 7 | H2: Titulaire 8 | I2: Titulaire 9 | J2: Titulaire 10
A4: 1. Compte individuel avec Formule INITIAL et carte Classic CSQS | B4: 1. Compte individuel avec Formule INITIAL et carte Classic CSQS | C4: Enfant 12/17 ans Compte individuel avec Formule INITIAL et carte Classic CSQS | D4: Enfant 12/17 ans Compte individuel avec Formule INITIAL et carte Classic CSQS | E4: Enfant 12/17 ans Compte individuel avec Formule INITIAL et carte Classic CSQS | F4: Enfant 12/17 ans Compte individuel avec Formule INITIAL et carte Classic CSQS | G4: Enfant 12/17 ans Compte individuel avec Formule INITIAL et carte Classic CSQS | H4: Enfant 12/17 ans Compte individuel avec Formule INITIAL et carte Classic CSQS | I4: Enfant 12/17 ans Compte individuel avec Formule INITIAL et carte Classic CSQS | J4: Enfant 12/17 ans Compte individuel avec Formule INITIAL et carte Classic CSQS
A5: 1. Compte individuel avec Formule INITIAL et carte Classic | B5: 1. Compte individuel avec Formule INITIAL et carte Classic | C5: Enfant 12/17 ans Compte individuel avec Formule CONFORT et carte Classic CSQS | D5: Enfant 12/17 ans Compte individuel avec Formule CONFORT et carte Classic CSQS | E5: Enfant 12/17 ans Compte individuel avec Formule CONFORT et carte Classic CSQS | F5: Enfant 12/17 ans Compte individuel avec Formule CONFORT et carte Classic CSQS | G5: Enfant 12/17 ans Compte individuel avec Formule CONFORT et carte Classic CSQS | H5: Enfant 12/17 ans Compte individuel avec Formule CONFORT et carte Classic CSQS | I5: Enfant 12/17 ans Compte individuel avec Formule CONFORT et carte Classic CSQS | J5: Enfant 12/17 ans Compte individuel avec Formule CONFORT et carte Classic CSQS
A6: 1. Compte individuel avec Formule CONFORT et carte Classic | B6: 1. Compte individuel avec Formule CONFORT et carte Classic | C6: Enfant 18/25 ans Compte individuel avec Formule INITIAL et carte Classic CSQS | D6: Enfant 18/25 ans Compte individuel avec Formule INITIAL et carte Classic CSQS | E6: Enfant 18/25 ans Compte individuel avec Formule INITIAL et carte Classic CSQS | F6: Enfant 18/25 ans Compte individuel avec Formule INITIAL et carte Classic CSQS | G6: Enfant 18/25 ans Compte individuel avec Formule INITIAL et carte Classic CSQS | H6: Enfant 18/25 ans Compte individuel avec Formule INITIAL et carte Classic CSQS | I6: Enfant 18/25 ans Compte individuel avec Formule INITIAL et carte Classic CSQS | J6: Enfant 18/25 ans Compte individuel avec Formule INITIAL et carte Classic CSQS
A7: 1. Compte individuel avec Formule CONFORT et carte Premier | B7: 1. Compte individuel avec Formule CONFORT et carte Premier | C7: Enfant 18/25 ans Compte individuel avec Formule CONFORT et carte Classic CSQS | D7: Enfant 18/25 ans Compte individuel avec Formule CONFORT et carte Classic CSQS | E7: Enfant 18/25 ans Compte individuel avec Formule CONFORT et carte Classic CSQS | F7: Enfant 18/25 ans Compte individuel avec Formule CONFORT et carte Classic CSQS | G7: Enfant 18/25 ans Compte individuel avec Formule CONFORT et carte Classic CSQS | H7: Enfant 18/25 ans Compte individuel avec Formule CONFORT et carte Classic CSQS | I7: Enfant 18/25 ans Compte individuel avec Formule CONFORT et carte Classic CSQS | J7: Enfant 18/25 ans Compte individuel avec Formule CONFORT et carte Classic CSQS
A8: 1. Compte individuel avec Formule OPTIMAL et carte Premier | B8: 1. Compte individuel avec Formule OPTIMAL et carte Premier | C8: Enfant 18/25 ans Compte individuel avec Formule CONFORT et carte Classic | D8: Enfant 18/25 ans Compte individuel avec Formule CONFORT et carte Classic | E8: Enfant 18/25 ans Compte individuel avec Formule CONFORT et carte Classic | F8: Enfant 18/25 ans Compte individuel avec Formule CONFORT et carte Classic | G8: Enfant 18/25 ans Compte individuel avec Formule CONFORT et carte Classic | H8: Enfant 18/25 ans Compte individuel avec Formule CONFORT et carte Classic | I8: Enfant 18/25 ans Compte individuel avec Formule CONFORT et carte Classic | J8: Enfant 18/25 ans Compte individuel avec Formule CONFORT et carte Classic
A9: 1. Compte individuel avec Formule OPTIMAL et carte Platinum | B9: 1. Compte individuel avec Formule OPTIMAL et carte Platinum | C9: Enfant 18/25 ans Compte individuel avec Formule OPTIMAL et carte Premier | D9: Enfant 18/25 ans Compte individuel avec Formule OPTIMAL et carte Premier | E9: Enfant 18/25 ans Compte individuel avec Formule OPTIMAL et carte Premier | F9: Enfant 18/25 ans Compte individuel avec Formule OPTIMAL et carte Premier | G9: Enfant 18/25 ans Compte individuel avec Formule OPTIMAL et carte Premier | H9: Enfant 18/25 ans Compte individuel avec Formule OPTIMAL et carte Premier | I9: Enfant 18/25 ans Compte individuel avec Formule OPTIMAL et carte Premier | J9: Enfant 18/25 ans Compte individuel avec Formule OPTIMAL et carte Premier
A10: 1. Compte individuel avec Formule OPTIMAL et carte Infinite | B10: 1. Compte individuel avec Formule OPTIMAL et carte Infinite | C10: Enfant 26/28 ans Compte individuel avec Formule INITIAL et carte Classic CSQS | D10: Enfant 26/28 ans Compte individuel avec Formule INITIAL et carte Classic CSQS | E10: Enfant 26/28 ans Compte individuel avec Formule INITIAL et carte Classic CSQS | F10: Enfant 26/28 ans Compte individuel avec Formule INITIAL et carte Classic CSQS | G10: Enfant 26/28 ans Compte individuel avec Formule INITIAL et carte Classic CSQS | H10: Enfant 26/28 ans Compte individuel avec Formule INITIAL et carte Classic CSQS | I10: Enfant 26/28 ans Compte individuel avec Formule INITIAL et carte Classic CSQS | J10: Enfant 26/28 ans Compte individuel avec Formule INITIAL et carte Classic CSQS
A11: 1. Compte joint avec Formule INITIAL et carte Classic CSQS | B11: 1. Compte joint avec Formule INITIAL et carte Classic CSQS | C11: Enfant 26/28 ans Compte individuel avec Formule INITIAL et carte Classic | D11: Enfant 26/28 ans Compte individuel avec Formule INITIAL et carte Classic | E11: Enfant 26/28 ans Compte individuel avec Formule INITIAL et carte Classic | F11: Enfant 26/28 ans Compte individuel avec Formule INITIAL et carte Classic | G11: Enfant 26/28 ans Compte individuel avec Formule INITIAL et carte Classic | H11: Enfant 26/28 ans Compte individuel avec Formule INITIAL et carte Classic | I11: Enfant 26/28 ans Compte individuel avec Formule INITIAL et carte Classic | J11: Enfant 26/28 ans Compte individuel avec Formule INITIAL et carte Classic
A12: 1. Compte joint avec Formule INITIAL et carte Classic | B12: 1. Compte joint avec Formule INITIAL et carte Classic | C12: Enfant 26/28 ans Compte individuel avec Formule CONFORT et carte Classic CSQS | D12: Enfant 26/28 ans Compte individuel avec Formule CONFORT et carte Classic CSQS | E12: Enfant 26/28 ans Compte individuel avec Formule CONFORT et carte Classic CSQS | F12: Enfant 26/28 ans Compte individuel avec Formule CONFORT et carte Classic CSQS | G12: Enfant 26/28 ans Compte individuel avec Formule CONFORT et carte Classic CSQS | H12: Enfant 26/28 ans Compte individuel avec Formule CONFORT et carte Classic CSQS | I12: Enfant 26/28 ans Compte individuel avec Formule CONFORT et carte Classic CSQS | J12: Enfant 26/28 ans Compte individuel avec Formule CONFORT et carte Classic CSQS
A13: 1. Compte joint avec Formule CONFORT et carte Classic | B13: 1. Compte joint avec Formule CONFORT et carte Classic | C13: Enfant 26/28 ans Compte individuel avec Formule CONFORT et carte Classic | D13: Enfant 26/28 ans Compte individuel avec Formule CONFORT et carte Classic | E13: Enfant 26/28 ans Compte individuel avec Formule CONFORT et carte Classic | F13: Enfant 26/28 ans Compte individuel avec Formule CONFORT et carte Classic | G13: Enfant 26/28 ans Compte individuel avec Formule CONFORT et carte Classic | H13: Enfant 26/28 ans Compte individuel avec Formule CONFORT et carte Classic | I13: Enfant 26/28 ans Compte individuel avec Formule CONFORT et carte Classic | J13: Enfant 26/28 ans Compte individuel avec Formule CONFORT et carte Classic
A14: 1. Compte joint avec Formule CONFORT et carte Premier | B14: 1. Compte joint avec Formule CONFORT et carte Premier | C14: Enfant 26/28 ans Compte individuel avec Formule OPTIMAL et carte Premier | D14: Enfant 26/28 ans Compte individuel avec Formule OPTIMAL et carte Premier | E14: Enfant 26/28 ans Compte individuel avec Formule OPTIMAL et carte Premier | F14: Enfant 26/28 ans Compte individuel avec Formule OPTIMAL et carte Premier | G14: Enfant 26/28 ans Compte individuel avec Formule OPTIMAL et carte Premier | H14: Enfant 26/28 ans Compte individuel avec Formule OPTIMAL et carte Premier | I14: Enfant 26/28 ans Compte individuel avec Formule OPTIMAL et carte Premier | J14: Enfant 26/28 ans Compte individuel avec Formule OPTIMAL et carte Premier
A15: 1. Compte joint avec Formule OPTIMAL et carte Premier | B15: 1. Compte joint avec Formule OPTIMAL et carte Premier
A16: 1. Compte joint avec Formule OPTIMAL et carte Platinum | B16: 1. Compte joint avec Formule OPTIMAL et carte Platinum
A17: 1. Compte joint avec Formule OPTIMAL et carte Infinite | B17: 1. Compte joint avec Formule OPTIMAL et carte Infinite
C19: Formule individuelle | D19: Formule Famille
A20: 2. Compte individuel avec Formule INITIAL et carte Classic CSQS | B20: 2. Compte individuel avec Formule INITIAL et carte Classic CSQS | C20: 7.4 | D20: 12.6
A21: 2. Compte individuel avec Formule INITIAL et carte Classic | B21: 2. Compte individuel avec Formule INITIAL et carte Classic | C21: 10 | D21: 16.1
A22: 2. Compte individuel avec Formule CONFORT et carte Classic | B22: 2. Compte individuel avec Formule CONFORT et carte Classic | C22: 16.1 | D22: 20.4
A23: 2. Compte individuel avec Formule CONFORT et carte Premier | B23: 2. Compte individuel avec Formule CONFORT et carte Premier | C23: 21.5 | D23: 29
A24: 2. Compte individuel avec Formule OPTIMAL et carte Premier | B24: 2. Compte individuel avec Formule OPTIMAL et carte Premier | C24: 27 | D24: 36.5
A25: 2. Compte individuel avec Formule OPTIMAL et carte Platinum | B25: 2. Compte individuel avec Formule OPTIMAL et carte Platinum | C25: 37.5 | D25: 47.2
A26: 2. Compte individuel avec Formule OPTIMAL et carte Infinite | B26: 2. Compte individuel avec Formule OPTIMAL et carte Infinite
A27: 2. Compte joint avec Formule INITIAL et carte Classic CSQS | B27: 2. Compte joint avec Formule INITIAL et carte Classic CSQS
A28: 2. Compte joint avec Formule INITIAL et carte Classic | B28: 2. Compte joint avec Formule INITIAL et carte Classic
A29: 2. Compte joint avec Formule CONFORT et carte Classic | B29: 2. Compte joint avec Formule CONFORT et carte Classic
A30: 2. Compte joint avec Formule CONFORT et carte Premier | B30: 2. Compte joint avec Formule CONFORT et carte Premier
A31: 2. Compte joint avec Formule OPTIMAL et carte Premier | B31: 2. Compte joint avec Formule OPTIMAL et carte Premier
A32: 2. Compte joint avec Formule OPTIMAL et carte Platinum | B32: 2. Compte joint avec Formule OPTIMAL et carte Platinum
A33: 2. Compte joint avec Formule OPTIMAL et carte Infinite | B33: 2. Compte joint avec Formule OPTIMAL et carte Infinite
A36: 3. Compte individuel avec Formule INITIAL et carte Classic CSQS | B36: 3. Compte individuel avec Formule INITIAL et carte Classic CSQS
A37: 3. Compte individuel avec Formule INITIAL et carte Classic | B37: 3. Compte individuel avec Formule INITIAL et carte Classic
A38: 3. Compte individuel avec Formule CONFORT et carte Classic | B38: 3. Compte individuel avec Formule CONFORT et carte Classic
A39: 3. Compte individuel avec Formule CONFORT et carte Premier | B39: 3. Compte individuel avec Formule CONFORT et carte Premier
... A49: 3. Compte joint avec Formule OPTIMAL et carte Infinite | B49: 3. Compte joint avec Formule OPTIMAL et carte Infinite
A52: * si les 2 titulaires possèdent 1 compte joint identique, en saisir que pour un
A53: si les différents titulaires veulent des niveaux de services différents (sauf pour le mineur), alors la Formule Famille ne pourra être souscrite
