Workbook

Sheet AGENCES
A1: REGION | B1: TERRITOIRE | C1: AGENCE | D1: ETP | E1: Gains après réfactions Risques et Conformité | H1: Gains potentiels avant résultats contrôles Risques et Conformité | M1: BANCARISATION | T1: CONQUETE 0-16 ANS | AA1: EPARGNE PLACEMENT | AH1: CREDITS | AO1: ASSURANCE & PREVOYANCE
M2: Formules hors transformation | T2: VB de Livrets, assurance vie et PEL sur 0-15 ans | AA2: Chiffre d'Affaires Assurance Vie | AH2: Engagements Conso (hors crédit projet) | AO2: VB Auto, 2 roues, MRH, Santé, GAV, Sécur Famille (0.8) & PJ (0.3)
E3: Gains après réfactions Risques et Conformité | F3: Taux réfactions | G3: Taux de conformité | H3: Gains potentiels par ETP avec bonus synergie (avant réfactions Conformité) | I3: Bonus Synergie | J3: Gains pot. par ETP | K3: Bonus excellence | L3: Nb Objectifs atteints | M3: Ventes Brutes | N3: Bonus univers absent | O3: Bonus client "ne" | P3: Total VB + bonus | Q3: Objectif | R3: Taux d'att. | S3: Gains | T3: Ventes Brutes | U3: Bonus univers absent | V3: Bonus client "ne" | W3: Total VB + bonus | X3: Objectif | Y3: Taux d'att. | Z3: Gains | AA3: Chiffre d'Affaires | AB3: Bonus univers absent | AC3: Bonus client "ne" | AD3: Total CA + bonus | AE3: Objectif | AF3: Taux d'att. | AG3: Gains | AH3: Engagem. | AI3: Bonus univers absent | AJ3: Bonus client "ne" | AK3: Total Engagem. + bonus | AL3: Objectif | AM3: Taux d'att. | AN3: Gains | AO3: Ventes Brutes | AP3: Bonus univers absent | AQ3: Bonus client "ne" | AR3: Total VB + bonus | AS3: Objectif | AT3: Taux d'att. | AU3: Gains
A4: AUBE HAUTE MARNE | B4: CHAUMONT | C4: CHAUMONT HOTEL DE VILLE | D4: 7.78 | E4: =ROUNDUP(H4-H4*F4,0) -> 120 | F4: =IF(G4<0.8,(0.05+0.8-G4),0) -> 0 | G4: 0.95238095 | H4: =J4+J4*I4 -> 120 | I4: 0.2 | J4: 100 | K4: 0 | L4: 2 | M4: 27 | N4: 19 | O4: 9 | P4: 55 | Q4: 233.4 | R4: 0.23564696 | S4: 0 | T4: 58 | U4: 55 | V4: 44 | W4: =T4+U4+V4 -> 157 | X4: 116.7 | Y4: =W4/X4 -> 1.3453299 | Z4: 50 | AA4: 703581.93 | AB4: 2152 | AC4: 46 | AD4: 705779.93 | AE4: 1050300 | AF4: 0.67197937 | AG4: 0 | AH4: 980081 | AI4: 20680.2 | AJ4: 13300.2 | AK4: 1014061.4 | AL4: 778000 | AM4: 1.3034208 | AN4: 50 | AO4: 111 | AP4: 31.4 | AQ4: 23.9 | AR4: 166.3 | AS4: 217.84 | AT4: 0.76340433 | AU4: 0
A5: AUBE HAUTE MARNE | B5: CHAUMONT | C5: CHAUMONT REPUBLIQUE | D5: 5.03 | E5: =ROUNDUP(H5-H5*F5,0) -> 300 | F5: =IF(G5<0.8,(0.05+0.8-G5),0) -> 0 | G5: 1 | H5: =J5+J5*I5 -> 300 | I5: 0.2 | J5: 250 | K5: 50 | L5: 4 | M5: 25 | N5: 20 | O5: 19 | P5: 64 | Q5: 150.9 | R5: 0.42412194 | S5: 0 | T5: 29 | U5: 27 | V5: 27 | W5: =T5+U5+V5 -> 83 | X5: 75.45 | Y5: =W5/X5 -> 1.1000663 | Z5: 50 | AA5: 819368.49 | AB5: 5244 | AC5: 24 | AD5: 824636.49 | AE5: 679050 | AF5: 1.2143973 | AG5: 50 | AH5: 621500 | AI5: 27000 | AJ5: 18800 | AK5: 667300 | AL5: 503000 | AM5: 1.3266402 | AN5: 50 | AO5: 86.3 | AP5: 43 | AQ5: 31 | AR5: 160.3 | AS5: 140.84 | AT5: 1.138171 | AU5: 50
A6: AUBE HAUTE MARNE | B6: CHAUMONT | C6: JOINVILLE | D6: 1.8 | E6: =ROUNDUP(H6-H6*F6,0) -> 432 | F6: =IF(G6<0.8,(0.05+0.8-G6),0) -> 0.1 | G6: 0.75 | H6: =J6+J6*I6 -> 480 | I6: 0.2 | J6: 400 | K6: 150 | L6: 5 | M6: 22 | N6: 19 | O6: 19 | P6: 60 | Q6: 54 | R6: 1.1111111 | S6: 50 | T6: 11 | U6: 11 | V6: 11 | W6: =T6+U6+V6 -> 33 | X6: 27 | Y6: =W6/X6 -> 1.2222222 | Z6: 50 | AA6: 289438.67 | AB6: 300 | AC6: 300 | AD6: 290038.67 | AE6: 243000 | AF6: 1.1935748 | AG6: 50 | AH6: 213700 | AI6: 7000 | AJ6: 2800 | AK6: 223500 | AL6: 180000 | AM6: 1.2416667 | AN6: 50 | AO6: 35.7 | AP6: 10.4 | AQ6: 7.6 | AR6: 53.7 | AS6: 50.4 | AT6: 1.0654762 | AU6: 50
A7: AUBE HAUTE MARNE | B7: CHAUMONT | C7: LANGRES | D7: 8.81 | E7: =ROUNDUP(H7-H7*F7,0) -> 300 | F7: =IF(G7<0.8,(0.05+0.8-G7),0) -> 0 | G7: 0.95652174 | H7: =J7+J7*I7 -> 300 | I7: 0.2 | J7: 250 | K7: 50 | L7: 4 | M7: 77 | N7: 49 | O7: 40 | P7: 166 | Q7: 264.3 | R7: 0.62807416 | S7: 0 | T7: 66 | U7: 60 | V7: 47 | W7: =T7+U7+V7 -> 173 | X7: 132.15 | Y7: =W7/X7 -> 1.3091184 | Z7: 50 | AA7: 1285102.8 | AB7: 34106 | AC7: 27700 | AD7: 1346908.8 | AE7: 1189350 | AF7: 1.1324747 | AG7: 50 | AH7: 1039350 | AI7: 72800 | AJ7: 27800 | AK7: 1139950 | AL7: 881000 | AM7: 1.2939274 | AN7: 50 | AO7: 158.2 | AP7: 80 | AQ7: 51.7 | AR7: 289.9 | AS7: 246.68 | AT7: 1.1752067 | AU7: 50
A8: AUBE HAUTE MARNE | B8: CHAUMONT | C8: SAINT DIZIER CENTRE | D8: 8.19 | E8: =ROUNDUP(H8-H8*F8,0) -> 180 | F8: =IF(G8<0.8,(0.05+0.8-G8),0) -> 0 | G8: 0.875 | H8: =J8+J8*I8 -> 180 | I8: 0.2 | J8: 150 | K8: 0 | L8: 3 | M8: 39 | N8: 32 | O8: 29 | P8: 100 | Q8: 245.7 | R8: 0.40700041 | S8: 0 | T8: 51 | U8: 47 | V8: 45 | W8: =T8+U8+V8 -> 143 | X8: 122.85 | Y8: =W8/X8 -> 1.1640212 | Z8: 50 | AA8: 1954786.2 | AB8: 15140 | AC8: 4740 | AD8: 1974666.2 | AE8: 1105650 | AF8: 1.7859776 | AG8: 50 | AH8: 784150 | AI8: 43590 | AJ8: 21440 | AK8: 849180 | AL8: 819000 | AM8: 1.0368498 | AN8: 50 | AO8: 96.6 | AP8: 52.1 | AQ8: 42.6 | AR8: 191.3 | AS8: 229.32 | AT8: 0.83420548 | AU8: 0
A9: AUBE HAUTE MARNE | B9: CHAUMONT | C9: WASSY | D9: 1.89 | E9: =ROUNDUP(H9-H9*F9,0) -> 432 | F9: =IF(G9<0.8,(0.05+0.8-G9),0) -> 0.1 | G9: 0.75 | H9: =J9+J9*I9 -> 480 | I9: 0.2 | J9: 400 | K9: 150 | L9: 5 | M9: 27 | N9: 23 | O9: 13 | P9: 63 | Q9: 56.7 | R9: 1.1111111 | S9: 50 | T9: 14 | U9: 13 | V9: 10 | W9: =T9+U9+V9 -> 37 | X9: 28.35 | Y9: =W9/X9 -> 1.3051146 | Z9: 50 | AA9: 345748.73 | AB9: 2125 | AC9: 1105 | AD9: 348978.73 | AE9: 255150 | AF9: 1.3677395 | AG9: 50 | AH9: 235830 | AI9: 13620 | AJ9: 6020 | AK9: 255470 | AL9: 189000 | AM9: 1.3516931 | AN9: 50 | AO9: 42.1 | AP9: 11.8 | AQ9: 8.7 | AR9: 62.6 | AS9: 52.92 | AT9: 1.1829176 | AU9: 50
A10: AUBE HAUTE MARNE | B10: TROYES | C10: ARCIS SUR AUBE | D10: 3.15 | E10: =ROUNDUP(H10-H10*F10,0) -> 300 | F10: =IF(G10<0.8,(0.05+0.8-G10),0) -> 0 | G10: 1 | H10: =J10+J10*I10 -> 300 | I10: 0.2 | J10: 250 | K10: 50 | L10: 4 | M10: 7 | N10: 7 | O10: 6 | P10: 20 | Q10: 94.5 | R10: 0.21164021 | S10: 0 | T10: 24 | U10: 24 | V10: 19 | W10: =T10+U10+V10 -> 67 | X10: 47.25 | Y10: =W10/X10 -> 1.4179894 | Z10: 50 | AA10: 467164.44 | AB10: 3074 | AC10: 3026 | AD10: 473264.44 | AE10: 425250 | AF10: 1.1129087 | AG10: 50 | AH10: 375101 | AI10: 32300 | AJ10: 22500 | AK10: 429901 | AL10: 315000 | AM10: 1.3647651 | AN10: 50 | AO10: 59.5 | AP10: 27.3 | AQ10: 15.7 | AR10: 102.5 | AS10: 88.2 | AT10: 1.1621315 | AU10: 50
A11: AUBE HAUTE MARNE | B11: TROYES | C11: BAR SUR AUBE | D11: 5.08 | E11: =ROUNDUP(H11-H11*F11,0) -> 120 | F11: =IF(G11<0.8,(0.05+0.8-G11),0) -> 0 | G11: 0.85714286 | H11: =J11+J11*I11 -> 120 | I11: 0.2 | J11: 100 | K11: 0 | L11: 2 | M11: 23 | N11: 19 | O11: 15 | P11: 57 | Q11: 152.4 | R11: 0.37401575 | S11: 0 | T11: 39 | U11: 37 | V11: 33 | W11: =T11+U11+V11 -> 109 | X11: 76.2 | Y11: =W11/X11 -> 1.4304462 | Z11: 50 | AA11: 369915.98 | AB11: 249 | AC11: 229 | AD11: 370393.98 | AE11: 685800 | AF11: 0.54009038 | AG11: 0 | AH11: 715080 | AI11: 13196 | AJ11: 2796 | AK11: 731072 | AL11: 508000 | AM11: 1.4391181 | AN11: 50 | AO11: 76 | AP11: 32 | AQ11: 21.6 | AR11: 129.6 | AS11: 142.24 | AT11: 0.91113611 | AU11: 0
A12: AUBE HAUTE MARNE | B12: TROYES | C12: BAR SUR SEINE | D12: 3.38 | E12: =ROUNDUP(H12-H12*F12,0) -> 180 | F12: =IF(G12<0.8,(0.05+0.8-G12),0) -> 0 | G12: 0.875 | H12: =J12+J12*I12 -> 180 | I12: 0.2 | J12: 150 | K12: 0 | L12: 3 | M12: 19 | N12: 16 | O12: 14 | P12: 49 | Q12: 101.4 | R12: 0.48323471 | S12: 0 | T12: 21 | U12: 20 | V12: 19 | W12: =T12+U12+V12 -> 60 | X12: 50.7 | Y12: =W12/X12 -> 1.183432 | Z12: 50 | AA12: 237469.73 | AB12: 2 | AC12: 2 | AD12: 237473.73 | AE12: 456300 | AF12: 0.52043333 | AG12: 0 | AH12: 369401 | AI12: 13460 | AJ12: 8660 | AK12: 391521 | AL12: 338000 | AM12: 1.1583462 | AN12: 50 | AO12: 54.3 | AP12: 27.1 | AQ12: 24.6 | AR12: 106 | AS12: 94.64 | AT12: 1.1200338 | AU12: 50
A13: AUBE HAUTE MARNE | B13: TROYES | C13: LA CHAPELLE ST LUC | D13: 5.06 | E13: =ROUNDUP(H13-H13*F13,0) -> 180 | F13: =IF(G13<0.8,(0.05+0.8-G13),0) -> 0 | G13: 0.9 | H13: =J13+J13*I13 -> 180 | I13: 0.2 | J13: 150 | K13: 0 | L13: 3 | M13: 27 | N13: 23 | O13: 23 | P13: 73 | Q13: 151.8 | R13: 0.48089592 | S13: 0 | T13: 37 | U13: 34 | V13: 33 | W13: =T13+U13+V13 -> 104 | X13: 75.9 | Y13: =W13/X13 -> 1.370224 | Z13: 50 | AA13: 216879.68 | AB13: 29346 | AC13: 29200 | AD13: 275425.68 | AE13: 683100 | AF13: 0.40319965 | AG13: 0 | AH13: 758600 | AI13: 38300 | AJ13: 28800 | AK13: 825700 | AL13: 506000 | AM13: 1.6318182 | AN13: 50 | AO13: 92.9 | AP13: 52.1 | AQ13: 36 | AR13: 181 | AS13: 141.68 | AT13: 1.2775268 | AU13: 50
A14: AUBE HAUTE MARNE | B14: TROYES | C14: NOGENT SUR SEINE | D14: 4.26 | E14: =ROUNDUP(H14-H14*F14,0) -> 60 | F14: =IF(G14<0.8,(0.05+0.8-G14),0) -> 0 | G14: 1 | H14: =J14+J14*I14 -> 60 | I14: 0.2 | J14: 50 | K14: 0 | L14: 1 | M14: 10 | N14: 8 | O14: 7 | P14: 25 | Q14: 127.8 | R14: 0.19561815 | S14: 0 | T14: 20 | U14: 20 | V14: 20 | W14: =T14+U14+V14 -> 60 | X14: 63.9 | Y14: =W14/X14 -> 0.93896714 | Z14: 0 | AA14: 191121.66 | AB14: 15300 | AC14: 300 | AD14: 206721.66 | AE14: 575100 | AF14: 0.35945342 | AG14: 0 | AH14: 447050 | AI14: 28920 | AJ14: 25920 | AK14: 501890 | AL14: 426000 | AM14: 1.1781455 | AN14: 50 | AO14: 23.9 | AP14: 8.6 | AQ14: 6.7 | AR14: 39.2 | AS14: 119.28 | AT14: 0.3286385 | AU14: 0
A15: AUBE HAUTE MARNE | B15: TROYES | C15: ROMILLY SUR SEINE | D15: 6.44 | E15: =ROUNDUP(H15-H15*F15,0) -> 120 | F15: =IF(G15<0.8,(0.05+0.8-G15),0) -> 0 | G15: 0.92857143 | H15: =J15+J15*I15 -> 120 | I15: 0.2 | J15: 100 | K15: 0 | L15: 2 | M15: 23 | N15: 21 | O15: 19 | P15: 63 | Q15: 193.2 | R15: 0.32608696 | S15: 0 | T15: 46 | U15: 44 | V15: 44 | W15: =T15+U15+V15 -> 134 | X15: 96.6 | Y15: =W15/X15 -> 1.3871636 | Z15: 50 | AA15: 570428.7 | AB15: 6030 | AC15: 5410 | AD15: 581868.7 | AE15: 869400 | AF15: 0.66927617 | AG15: 0 | AH15: 726300 | AI15: 32200 | AJ15: 30400 | AK15: 788900 | AL15: 644000 | AM15: 1.225 | AN15: 50 | AO15: 45.3 | AP15: 21.6 | AQ15: 17.1 | AR15: 84 | AS15: 180.32 | AT15: 0.46583851 | AU15: 0
... A29: BAS RHIN | B29: HAGUENAU | C29: INGWILLER | D29: 3.35 | E29: =ROUNDUP(H29-H29*F29,0) -> 275 | F29: =IF(G29<0.8,(0.05+0.8-G29),0) -> 0 | G29: 0.857 | H29: =J29+J29*I29 -> 275 | I29: 0.1 | J29: 250 | K29: 50 | L29: 4 | M29: 22 | N29: 11 | O29: 11 | P29: 44 | Q29: 100.5 | R29: 0.43781095 | S29: 0 | T29: 21 | U29: 21 | V29: 21 | W29: =T29+U29+V29 -> 63 | X29: 50.25 | Y29: =W29/X29 -> 1.2537313 | Z29: 50 | AA29: 887755.6 | AB29: 10580 | AC29: 6480 | AD29: 904815.6 | AE29: 452250 | AF29: 2.0006978 | AG29: 50 | AH29: 361000 | AI29: 16200 | AJ29: 13000 | AK29: 390200 | AL29: 335000 | AM29: 1.1647761 | AN29: 50 | AO29: 54.6 | AP29: 27.9 | AQ29: 18.4 | AR29: 100.9 | AS29: 93.8 | AT29: 1.075693 | AU29: 50
A30: BAS RHIN | B30: HAGUENAU | C30: NIEDERBRONN LES BAINS | D30: 5.3 | E30: =ROUNDUP(H30-H30*F30,0) -> 0 | F30: =IF(G30<0.8,(0.05+0.8-G30),0) -> 0 | G30: 0.94444444 | J30: 0 | K30: 0 | L30: 0 | M30: 18 | N30: 11 | O30: 9 | P30: 38 | Q30: 159 | R30: 0.23899371 | S30: 0 | T30: 22 | U30: 20 | V30: 17 | W30: =T30+U30+V30 -> 59 | X30: 79.5 | Y30: =W30/X30 -> 0.74213836 | Z30: 0 | AA30: 496449.75 | AB30: 110 | AC30: 106 | AD30: 496665.75 | AE30: 715500 | AF30: 0.69415199 | AG30: 0 | AH30: 453700 | AI30: 19400 | AJ30: 18000 | AK30: 491100 | AL30: 530000 | AM30: 0.92660377 | AN30: 0 | AO30: 42.1 | AP30: 11.4 | AQ30: 8.6 | AR30: 62.1 | AS30: 148.4 | AT30: 0.41846361 | AU30: 0
A31: BAS RHIN | B31: HAGUENAU | C31: PFAFFENHOFFEN | D31: 1.6 | E31: =ROUNDUP(H31-H31*F31,0) -> 110 | F31: =IF(G31<0.8,(0.05+0.8-G31),0) -> 0 | G31: 1 | H31: =J31+J31*I31 -> 110 | I31: 0.1 | J31: 100 | K31: 0 | L31: 2 | M31: 8 | N31: 3 | O31: 3 | P31: 14 | Q31: 48 | R31: 0.29166667 | S31: 0 | T31: 14 | U31: 11 | V31: 10 | W31: =T31+U31+V31 -> 35 | X31: 24 | Y31: =W31/X31 -> 1.4583333 | Z31: 50 | AA31: 139593.83 | AB31: 0 | AC31: 0 | AD31: 139593.83 | AE31: 216000 | AF31: 0.64626773 | AG31: 0 | AH31: 150800 | AI31: 0 | AJ31: 0 | AK31: 150800 | AL31: 160000 | AM31: 0.9425 | AN31: 0 | AO31: 29.8 | AP31: 8 | AQ31: 5 | AR31: 42.8 | AS31: 44.8 | AT31: 0.95535714 | AU31: 50
A32: BAS RHIN | B32: HAGUENAU | C32: SARRE UNION | D32: 3.52 | E32: =ROUNDUP(H32-H32*F32,0) -> 165 | F32: =IF(G32<0.8,(0.05+0.8-G32),0) -> 0 | G32: 1 | H32: =J32+J32*I32 -> 165 | I32: 0.1 | J32: 150 | K32: 0 | L32: 3 | M32: 12 | N32: 11 | O32: 7 | P32: 30 | Q32: 105.6 | R32: 0.28409091 | S32: 0 | T32: 30 | U32: 28 | V32: 16 | W32: =T32+U32+V32 -> 74 | X32: 52.8 | Y32: =W32/X32 -> 1.4015152 | Z32: 50 | AA32: 725709.77 | AB32: 20006 | AC32: 20000 | AD32: 765715.77 | AE32: 475200 | AF32: 1.6113547 | AG32: 50 | AH32: 519700 | AI32: 15000 | AJ32: 13000 | AK32: 547700 | AL32: 352000 | AM32: 1.5559659 | AN32: 50 | AO32: 24.2 | AP32: 7.2 | AQ32: 4.6 | AR32: 36 | AS32: 98.56 | AT32: 0.36525974 | AU32: 0
A33: BAS RHIN | B33: HAGUENAU | C33: SAVERNE | D33: 5.97 | E33: =ROUNDUP(H33-H33*F33,0) -> 165 | F33: =IF(G33<0.8,(0.05+0.8-G33),0) -> 0 | G33: 0.85 | H33: =J33+J33*I33 -> 165 | I33: 0.1 | J33: 150 | K33: 0 | L33: 3 | M33: 49 | N33: 35 | O33: 33 | P33: 117 | Q33: 179.1 | R33: 0.65326633 | S33: 0 | T33: 54 | U33: 46 | V33: 35 | W33: =T33+U33+V33 -> 135 | X33: 89.55 | Y33: =W33/X33 -> 1.5075377 | Z33: 50 | AA33: 964724.54 | AB33: 12262 | AC33: 6240 | AD33: 983226.54 | AE33: 805950 | AF33: 1.2199597 | AG33: 50 | AH33: 983320 | AI33: 6800 | AJ33: 4400 | AK33: 994520 | AL33: 597000 | AM33: 1.6658626 | AN33: 50 | AO33: 57.4 | AP33: 8.9 | AQ33: 6.1 | AR33: 72.4 | AS33: 167.16 | AT33: 0.43311797 | AU33: 0
A34: BAS RHIN | B34: HAGUENAU | C34: SOULTZ SOUS FORETS | D34: 1.68 | E34: =ROUNDUP(H34-H34*F34,0) -> 165 | F34: =IF(G34<0.8,(0.05+0.8-G34),0) -> 0 | G34: 0.83333333 | H34: =J34+J34*I34 -> 165 | I34: 0.1 | J34: 150 | K34: 0 | L34: 3 | M34: 18 | N34: 9 | O34: 9 | P34: 36 | Q34: 50.4 | R34: 0.71428571 | S34: 0 | T34: 11 | U34: 10 | V34: 10 | W34: =T34+U34+V34 -> 31 | X34: 25.2 | Y34: =W34/X34 -> 1.2301587 | Z34: 50 | AA34: 291634.02 | AB34: 404 | AC34: 402 | AD34: 292440.02 | AE34: 226800 | AF34: 1.2894181 | AG34: 50 | AH34: 189400 | AI34: 10000 | AJ34: 0 | AK34: 199400 | AL34: 168000 | AM34: 1.1869048 | AN34: 50 | AO34: 13.2 | AP34: 4.3 | AQ34: 4.3 | AR34: 21.8 | AS34: 47.04 | AT34: 0.46343537 | AU34: 0
A35: BAS RHIN | B35: HAGUENAU | C35: TRUCHTERSHEIM | D35: 2.36 | E35: =ROUNDUP(H35-H35*F35,0) -> 110 | F35: =IF(G35<0.8,(0.05+0.8-G35),0) -> 0 | G35: 1 | H35: =J35+J35*I35 -> 110 | I35: 0.1 | J35: 100 | K35: 0 | L35: 2 | M35: 13 | N35: 9 | O35: 5 | P35: 27 | Q35: 70.8 | R35: 0.38135593 | S35: 0 | T35: 22 | U35: 21 | V35: 8 | W35: =T35+U35+V35 -> 51 | X35: 35.4 | Y35: =W35/X35 -> 1.440678 | Z35: 50 | AA35: 1195975.4 | AB35: 44040 | AC35: 44000 | AD35: 1284015.4 | AE35: 318600 | AF35: 4.0301803 | AG35: 50 | AH35: 85500 | AI35: 3200 | AJ35: 3200 | AK35: 91900 | AL35: 236000 | AM35: 0.38940678 | AN35: 0 | AO35: 21.5 | AP35: 7.4 | AQ35: 5 | AR35: 33.9 | AS35: 66.08 | AT35: 0.51301453 | AU35: 0
A36: BAS RHIN | B36: HAGUENAU | C36: WISSEMBOURG | D36: 7.46 | E36: =ROUNDUP(H36-H36*F36,0) -> 165 | F36: =IF(G36<0.8,(0.05+0.8-G36),0) -> 0 | G36: 1 | H36: =J36+J36*I36 -> 165 | I36: 0.1 | J36: 150 | K36: 0 | L36: 3 | M36: 24 | N36: 20 | O36: 17 | P36: 61 | Q36: 223.8 | R36: 0.27256479 | S36: 0 | T36: 56 | U36: 54 | V36: 32 | W36: =T36+U36+V36 -> 142 | X36: 111.9 | Y36: =W36/X36 -> 1.2689902 | Z36: 50 | AA36: 1329569.7 | AB36: 5240 | AC36: 1210 | AD36: 1336019.7 | AE36: 1007100 | AF36: 1.3266008 | AG36: 50 | AH36: 851600 | AI36: 71260 | AJ36: 41760 | AK36: 964620 | AL36: 746000 | AM36: 1.2930563 | AN36: 50 | AO36: 114.5 | AP36: 40 | AQ36: 29.1 | AR36: 183.6 | AS36: 208.88 | AT36: 0.87897357 | AU36: 0
A37: BAS RHIN | B37: SELESTAT | C37: BARR | D37: 2.58 | E37: =ROUNDUP(H37-H37*F37,0) -> 90 | F37: =IF(G37<0.8,(0.05+0.8-G37),0) -> 0.183 | G37: 0.667 | H37: =J37+J37*I37 -> 110 | I37: 0.1 | J37: 100 | K37: 0 | L37: 2 | M37: 16 | N37: 15 | O37: 12 | P37: 43 | Q37: 77.4 | R37: 0.55555556 | S37: 0 | T37: 19 | U37: 15 | V37: 12 | W37: =T37+U37+V37 -> 46 | X37: 38.7 | Y37: =W37/X37 -> 1.1886305 | Z37: 50 | AA37: 222836.4 | AB37: 9100 | AC37: 9000 | AD37: 240936.4 | AE37: 348300 | AF37: 0.69174964 | AG37: 0 | AH37: 255100 | AI37: 25620 | AJ37: 11220 | AK37: 291940 | AL37: 258000 | AM37: 1.1315504 | AN37: 50 | AO37: 29.8 | AP37: 13.2 | AQ37: 11.4 | AR37: 54.4 | AS37: 72.24 | AT37: 0.7530454 | AU37: 0
A38: BAS RHIN | B38: SELESTAT | C38: BENFELD | D38: 3.86 | E38: =ROUNDUP(H38-H38*F38,0) -> 165 | F38: =IF(G38<0.8,(0.05+0.8-G38),0) -> 0 | G38: 1 | H38: =J38+J38*I38 -> 165 | I38: 0.1 | J38: 150 | K38: 0 | L38: 3 | M38: 11 | N38: 5 | O38: 3 | P38: 19 | Q38: 115.8 | R38: 0.16407599 | S38: 0 | T38: 20 | U38: 20 | V38: 20 | W38: =T38+U38+V38 -> 60 | X38: 57.9 | Y38: =W38/X38 -> 1.0362694 | Z38: 50 | AA38: 574322.13 | AB38: 106.494 | AC38: 6.494 | AD38: 574435.12 | AE38: 521100 | AF38: 1.102351 | AG38: 50 | AH38: 418500 | AI38: 16400 | AJ38: 1400 | AK38: 436300 | AL38: 386000 | AM38: 1.1303109 | AN38: 50 | AO38: 41.1 | AP38: 6.9 | AQ38: 2.8 | AR38: 50.8 | AS38: 108.08 | AT38: 0.47002221 | AU38: 0
A39: BAS RHIN | B39: SELESTAT | C39: ERSTEIN | D39: 3.71 | E39: =ROUNDUP(H39-H39*F39,0) -> 55 | F39: =IF(G39<0.8,(0.05+0.8-G39),0) -> 0 | G39: 1 | H39: =J39+J39*I39 -> 55 | I39: 0.1 | J39: 50 | K39: 0 | L39: 1 | M39: 11 | N39: 9 | O39: 6 | P39: 26 | Q39: 111.3 | R39: 0.23360288 | S39: 0 | T39: 13 | U39: 10 | V39: 6 | W39: =T39+U39+V39 -> 29 | X39: 55.65 | Y39: =W39/X39 -> 0.52111411 | Z39: 0 | AA39: 234656.82 | AB39: 20 | AC39: 20 | AD39: 234696.82 | AE39: 500850 | AF39: 0.46859703 | AG39: 0 | AH39: 466810 | AI39: 14408 | AJ39: 6408 | AK39: 487626 | AL39: 371000 | AM39: 1.3143558 | AN39: 50 | AO39: 29.1 | AP39: 9.1 | AQ39: 6.8 | AR39: 45 | AS39: 103.88 | AT39: 0.43319214 | AU39: 0
A40: BAS RHIN | B40: SELESTAT | C40: FEGERSHEIM | D40: 2.56 | E40: =ROUNDUP(H40-H40*F40,0) -> 110 | F40: =IF(G40<0.8,(0.05+0.8-G40),0) -> 0 | G40: 0.83333333 | H40: =J40+J40*I40 -> 110 | I40: 0.1 | J40: 100 | K40: 0 | L40: 2 | M40: 16 | N40: 14 | O40: 5 | P40: 35 | Q40: 76.8 | R40: 0.45572917 | S40: 0 | T40: 16 | U40: 16 | V40: 11 | W40: =T40+U40+V40 -> 43 | X40: 38.4 | Y40: =W40/X40 -> 1.1197917 | Z40: 50 | AA40: 279608.28 | AB40: 0 | AC40: 0 | AD40: 279608.28 | AE40: 345600 | AF40: 0.80905174 | AG40: 0 | AH40: 267500 | AI40: 16000 | AJ40: 200 | AK40: 283700 | AL40: 256000 | AM40: 1.1082031 | AN40: 50 | AO40: 21.2 | AP40: 5.5 | AQ40: 4.7 | AR40: 31.4 | AS40: 71.68 | AT40: 0.43805804 | AU40: 0
A41: BAS RHIN | B41: SELESTAT | C41: ILLKIRCH CENTRE | D41: 6.33 | E41: =ROUNDUP(H41-H41*F41,0) -> 110 | F41: =IF(G41<0.8,(0.05+0.8-G41),0) -> 0 | G41: 0.92307692 | H41: =J41+J41*I41 -> 110 | I41: 0.1 | J41: 100 | K41: 0 | L41: 2 | M41: 25 | N41: 15 | O41: 14 | P41: 54 | Q41: 189.9 | R41: 0.28436019 | S41: 0 | T41: 18 | U41: 13 | V41: 12 | W41: =T41+U41+V41 -> 43 | X41: 94.95 | Y41: =W41/X41 -> 0.45286993 | Z41: 0 | AA41: 1818418.8 | AB41: 7110 | AC41: 8 | AD41: 1825536.8 | AE41: 854550 | AF41: 2.1362551 | AG41: 50 | AH41: 689436 | AI41: 44427.2 | AJ41: 15500 | AK41: 749363.2 | AL41: 633000 | AM41: 1.1838281 | AN41: 50 | AO41: 68.6 | AP41: 22.8 | AQ41: 13.4 | AR41: 104.8 | AS41: 177.24 | AT41: 0.59128865 | AU41: 0
A42: BAS RHIN | B42: SELESTAT | C42: LINGOLSHEIM | D42: 3.75 | E42: =ROUNDUP(H42-H42*F42,0) -> 110 | F42: =IF(G42<0.8,(0.05+0.8-G42),0) -> 0 | G42: 1 | H42: =J42+J42*I42 -> 110 | I42: 0.1 | J42: 100 | K42: 0 | L42: 2 | M42: 9 | N42: 8 | O42: 7 | P42: 24 | Q42: 112.5 | R42: 0.21333333 | S42: 0 | T42: 17 | U42: 15 | V42: 14 | W42: =T42+U42+V42 -> 46 | X42: 56.25 | Y42: =W42/X42 -> 0.81777778 | Z42: 0 | AA42: 779835.6 | AB42: 202 | AC42: 0 | AD42: 780037.6 | AE42: 506250 | AF42: 1.540815 | AG42: 50 | AH42: 385450 | AI42: 14200 | AJ42: 2600 | AK42: 402250 | AL42: 375000 | AM42: 1.0726667 | AN42: 50 | AO42: 22.3 | AP42: 5.9 | AQ42: 4.9 | AR42: 33.1 | AS42: 105 | AT42: 0.3152381 | AU42: 0
... A53: BAS RHIN | B53: STRASBOURG | C53: MUNDOLSHEIM | D53: 3.54 | E53: =ROUNDUP(H53-H53*F53,0) -> 440 | F53: =IF(G53<0.8,(0.05+0.8-G53),0) -> 0 | G53: 1 | H53: =J53+J53*I53 -> 440 | I53: 0.1 | J53: 400 | K53: 150 | L53: 5 | M53: 55 | N53: 41 | O53: 34 | P53: 130 | Q53: 106.2 | R53: 1.2241055 | S53: 50 | T53: 28 | U53: 26 | V53: 23 | W53: =T53+U53+V53 -> 77 | X53: 53.1 | Y53: =W53/X53 -> 1.4500942 | Z53: 50 | AA53: 867363.76 | AB53: 21824 | AC53: 21802 | AD53: 910989.76 | AE53: 477900 | AF53: 1.9062351 | AG53: 50 | AH53: 422600 | AI53: 39200 | AJ53: 19600 | AK53: 481400 | AL53: 354000 | AM53: 1.359887 | AN53: 50 | AO53: 58.3 | AP53: 33.8 | AQ53: 27 | AR53: 119.1 | AS53: 99.12 | AT53: 1.2015738 | AU53: 50
A54: BAS RHIN | B54: STRASBOURG | C54: OBERHAUSBERGEN | D54: 3.95 | E54: =ROUNDUP(H54-H54*F54,0) -> 154 | F54: =IF(G54<0.8,(0.05+0.8-G54),0) -> 0.072222222 | G54: 0.77777778 | H54: =J54+J54*I54 -> 165 | I54: 0.1 | J54: 150 | K54: 0 | L54: 3 | M54: 32 | N54: 23 | O54: 17 | P54: 72 | Q54: 118.5 | R54: 0.60759494 | S54: 0 | T54: 26 | U54: 21 | V54: 19 | W54: =T54+U54+V54 -> 66 | X54: 59.25 | Y54: =W54/X54 -> 1.1139241 | Z54: 50 | AA54: =505623.58+300000 -> 805623.58 | AB54: 5912 | AC54: 810 | AD54: =SUM(AA54:AC54) -> 812345.58 | AE54: 533250 | AF54: =AD54/AE54 -> 1.523386 | AG54: 50 | AH54: =304500+60936 -> 365436 | AI54: 15300 | AJ54: 13700 | AK54: =SUM(AH54:AJ54) -> 394436 | AL54: 395000 | AM54: =AK54/AL54 -> 0.99857215 | AN54: 50 | AO54: 58 | AP54: 24.4 | AQ54: 16.4 | AR54: 98.8 | AS54: 110.6 | AT54: 0.89330922 | AU54: 0
A55: BAS RHIN | B55: STRASBOURG | C55: REICHSTETT | D55: 1.6 | E55: =ROUNDUP(H55-H55*F55,0) -> 165 | F55: =IF(G55<0.8,(0.05+0.8-G55),0) -> 0 | G55: 1 | H55: =J55+J55*I55 -> 165 | I55: 0.1 | J55: 150 | K55: 0 | L55: 3 | M55: 8 | N55: 7 | O55: 5 | P55: 20 | Q55: 48 | R55: 0.41666667 | S55: 0 | T55: 11 | U55: 11 | V55: 7 | W55: =T55+U55+V55 -> 29 | X55: 24 | Y55: =W55/X55 -> 1.2083333 | Z55: 50 | AA55: 567413.51 | AB55: 52038.12 | AC55: 12028 | AD55: 631479.63 | AE55: 216000 | AF55: 2.9235168 | AG55: 50 | AH55: 126500 | AI55: 3200 | AJ55: 0 | AK55: 129700 | AL55: 160000 | AM55: 0.810625 | AN55: 0 | AO55: 26.1 | AP55: 14.3 | AQ55: 8.8 | AR55: 49.2 | AS55: 44.8 | AT55: 1.0982143 | AU55: 50
A56: BAS RHIN | B56: STRASBOURG | C56: SCHILTIGHEIM CENTRE | D56: 2.95 | E56: =ROUNDUP(H56-H56*F56,0) -> 440 | F56: =IF(G56<0.8,(0.05+0.8-G56),0) -> 0 | G56: 1 | H56: =J56+J56*I56 -> 440 | I56: 0.1 | J56: 400 | K56: 150 | L56: 5 | M56: 51 | N56: 36 | O56: 34 | P56: 121 | Q56: 88.5 | R56: 1.3672316 | S56: 50 | T56: 26 | U56: 25 | V56: 24 | W56: =T56+U56+V56 -> 75 | X56: 44.25 | Y56: =W56/X56 -> 1.6949153 | Z56: 50 | AA56: 555288.46 | AB56: 17334 | AC56: 2426 | AD56: 575048.46 | AE56: 398250 | AF56: 1.4439384 | AG56: 50 | AH56: 420500 | AI56: 12200 | AJ56: 6400 | AK56: 439100 | AL56: 295000 | AM56: 1.4884746 | AN56: 50 | AO56: 53.8 | AP56: 30.8 | AQ56: 28.8 | AR56: 113.4 | AS56: 82.6 | AT56: 1.3728814 | AU56: 50
A57: BAS RHIN | B57: STRASBOURG | C57: SCHILTIGHEIM KLEBER | D57: 1.78 | E57: =ROUNDUP(H57-H57*F57,0) -> 330 | F57: =IF(G57<0.8,(0.05+0.8-G57),0) -> 0.25 | G57: 0.6 | H57: =J57+J57*I57 -> 440 | I57: 0.1 | J57: 400 | K57: 150 | L57: 5 | M57: 22 | N57: 20 | O57: 18 | P57: 60 | Q57: 53.4 | R57: 1.1235955 | S57: 50 | T57: 15 | U57: 14 | V57: 14 | W57: =T57+U57+V57 -> 43 | X57: 26.7 | Y57: =W57/X57 -> 1.6104869 | Z57: 50 | AA57: 352531.76 | AB57: 0 | AC57: 0 | AD57: 352531.76 | AE57: 240300 | AF57: 1.4670485 | AG57: 50 | AH57: 193400 | AI57: 14660 | AJ57: 12260 | AK57: 220320 | AL57: 178000 | AM57: 1.2377528 | AN57: 50 | AO57: 28 | AP57: 21.4 | AQ57: 19.8 | AR57: 69.2 | AS57: 49.84 | AT57: 1.388443 | AU57: 50
A58: BAS RHIN | B58: STRASBOURG | C58: STRASBOURG ANVERS | D58: 4.83 | E58: =ROUNDUP(H58-H58*F58,0) -> 275 | F58: =IF(G58<0.8,(0.05+0.8-G58),0) -> 0 | G58: 1 | H58: =J58+J58*I58 -> 275 | I58: 0.1 | J58: 250 | K58: 50 | L58: 4 | M58: 39 | N58: 32 | O58: 31 | P58: 102 | Q58: 144.9 | R58: 0.70393375 | S58: 0 | T58: 29 | U58: 28 | V58: 27 | W58: =T58+U58+V58 -> 84 | X58: 72.45 | Y58: =W58/X58 -> 1.1594203 | Z58: 50 | AA58: 1387732.9 | AB58: 208000 | AC58: 198000 | AD58: 1793732.9 | AE58: 652050 | AF58: 2.7509131 | AG58: 50 | AH58: 510378.21 | AI58: 60725.642 | AJ58: 46725.642 | AK58: 617829.49 | AL58: 483000 | AM58: 1.2791501 | AN58: 50 | AO58: 72.2 | AP58: 34.8 | AQ58: 28.6 | AR58: 135.6 | AS58: 135.24 | AT58: 1.0026619 | AU58: 50
A59: BAS RHIN | B59: STRASBOURG | C59: STRASBOURG AUSTERLITZ | D59: 2.28 | E59: =ROUNDUP(H59-H59*F59,0) -> 110 | F59: =IF(G59<0.8,(0.05+0.8-G59),0) -> 0 | G59: 0.8 | H59: =J59+J59*I59 -> 110 | I59: 0.1 | J59: 100 | K59: 0 | L59: 2 | M59: 30 | N59: 30 | O59: 12 | P59: 72 | Q59: 68.4 | R59: 1.0526316 | S59: 50 | T59: 14 | U59: 13 | V59: 12 | W59: =T59+U59+V59 -> 39 | X59: 34.2 | Y59: =W59/X59 -> 1.1403509 | Z59: 50 | AA59: 145479.17 | AB59: 1000 | AC59: 0 | AD59: 146479.17 | AE59: 307800 | AF59: 0.47589074 | AG59: 0 | AH59: 82000 | AI59: 2800 | AJ59: 400 | AK59: 85200 | AL59: 228000 | AM59: 0.37368421 | AN59: 0 | AO59: 29.6 | AP59: 13.7 | AQ59: 9.1 | AR59: 52.4 | AS59: 63.84 | AT59: 0.82080201 | AU59: 0
A60: BAS RHIN | B60: STRASBOURG | C60: STRASBOURG CRONENBOURG | D60: 3.48 | E60: =ROUNDUP(H60-H60*F60,0) -> 275 | F60: =IF(G60<0.8,(0.05+0.8-G60),0) -> 0 | G60: 1 | H60: =J60+J60*I60 -> 275 | I60: 0.1 | J60: 250 | K60: 50 | L60: 4 | M60: 51 | N60: 43 | O60: 30 | P60: 124 | Q60: 104.4 | R60: 1.1877395 | S60: 50 | T60: 46 | U60: 37 | V60: 26 | W60: =T60+U60+V60 -> 109 | X60: 52.2 | Y60: =W60/X60 -> 2.0881226 | Z60: 50 | AA60: 701331.29 | AB60: 520 | AC60: 512 | AD60: 702363.29 | AE60: 469800 | AF60: 1.4950262 | AG60: 50 | AH60: 370480 | AI60: 15196 | AJ60: 11796 | AK60: 397472 | AL60: 348000 | AM60: 1.1421609 | AN60: 50 | AO60: 42.9 | AP60: 19.1 | AQ60: 13.9 | AR60: 75.9 | AS60: 97.44 | AT60: 0.77894089 | AU60: 0
A61: BAS RHIN | B61: STRASBOURG | C61: STRASBOURG DANUBE | D61: 3.73 | E61: =ROUNDUP(H61-H61*F61,0) -> 275 | F61: =IF(G61<0.8,(0.05+0.8-G61),0) -> 0 | G61: 0.8 | H61: =J61+J61*I61 -> 275 | I61: 0.1 | J61: 250 | K61: 50 | L61: 4 | M61: 16 | N61: 15 | O61: 13 | P61: 44 | Q61: 111.9 | R61: 0.39320822 | S61: 0 | T61: 28 | U61: 25 | V61: 21 | W61: =T61+U61+V61 -> 74 | X61: 55.95 | Y61: =W61/X61 -> 1.3226095 | Z61: 50 | AA61: 535148.73 | AB61: 224 | AC61: 104 | AD61: 535476.73 | AE61: 503550 | AF61: 1.0634033 | AG61: 50 | AH61: 395200 | AI61: 18440 | AJ61: 12400 | AK61: 426040 | AL61: 373000 | AM61: 1.1421984 | AN61: 50 | AO61: 60.9 | AP61: 29.2 | AQ61: 24.2 | AR61: 114.3 | AS61: 104.44 | AT61: 1.0944083 | AU61: 50
A62: BAS RHIN | B62: STRASBOURG | C62: STRASBOURG FRANCS BOURGEOIS | D62: 3.94 | E62: =ROUNDUP(H62-H62*F62,0) -> 165 | F62: =IF(G62<0.8,(0.05+0.8-G62),0) -> 0 | G62: 1 | H62: =J62+J62*I62 -> 165 | I62: 0.1 | J62: 150 | K62: 0 | L62: 3 | M62: 18 | N62: 15 | O62: 15 | P62: 48 | Q62: 118.2 | R62: 0.40609137 | S62: 0 | T62: 27 | U62: 27 | V62: 26 | W62: =T62+U62+V62 -> 80 | X62: 59.1 | Y62: =W62/X62 -> 1.3536379 | Z62: 50 | AA62: 959634.16 | AB62: 9120 | AC62: 9120 | AD62: 977874.16 | AE62: 531900 | AF62: 1.8384549 | AG62: 50 | AH62: 452246 | AI62: 29200 | AJ62: 19000 | AK62: 500446 | AL62: 394000 | AM62: 1.2701675 | AN62: 50 | AO62: 36.9 | AP62: 19 | AQ62: 14.2 | AR62: 70.1 | AS62: 110.32 | AT62: 0.63542422 | AU62: 0
A63: BAS RHIN | B63: STRASBOURG | C63: STRASBOURG HALLES | D63: 7.41 | E63: =ROUNDUP(H63-H63*F63,0) -> 396 | F63: =IF(G63<0.8,(0.05+0.8-G63),0) -> 0.1 | G63: 0.75 | H63: =J63+J63*I63 -> 440 | I63: 0.1 | J63: 400 | K63: 150 | L63: 5 | M63: 94 | N63: 77 | O63: 73 | P63: 244 | Q63: 222.3 | R63: 1.0976158 | S63: 50 | T63: 55 | U63: 50 | V63: 44 | W63: =T63+U63+V63 -> 149 | X63: 111.15 | Y63: =W63/X63 -> 1.3405308 | Z63: 50 | AA63: 958680.14 | AB63: 67747 | AC63: 47345 | AD63: 1073772.1 | AE63: 1000350 | AF63: 1.0733965 | AG63: 50 | AH63: 710200 | AI63: 41200 | AJ63: 29400 | AK63: 780800 | AL63: 741000 | AM63: 1.0537112 | AN63: 50 | AO63: 100.7 | AP63: 68.1 | AQ63: 64.9 | AR63: 233.7 | AS63: 207.48 | AT63: 1.1263736 | AU63: 50
A64: BAS RHIN | B64: STRASBOURG | C64: STRASBOURG KOENIGSHOFFEN | D64: 2.72 | E64: =ROUNDUP(H64-H64*F64,0) -> 440 | F64: =IF(G64<0.8,(0.05+0.8-G64),0) -> 0 | G64: 1 | H64: =J64+J64*I64 -> 440 | I64: 0.1 | J64: 400 | K64: 150 | L64: 5 | M64: 42 | N64: 36 | O64: 26 | P64: 104 | Q64: 81.6 | R64: 1.2745098 | S64: 50 | T64: 28 | U64: 25 | V64: 20 | W64: =T64+U64+V64 -> 73 | X64: 40.8 | Y64: =W64/X64 -> 1.7892157 | Z64: 50 | AA64: 526338.98 | AB64: 20002 | AC64: 20002 | AD64: 566342.98 | AE64: 367200 | AF64: 1.5423284 | AG64: 50 | AH64: 322000 | AI64: 10600 | AJ64: 4400 | AK64: 337000 | AL64: 272000 | AM64: 1.2389706 | AN64: 50 | AO64: 59.9 | AP64: 20.7 | AQ64: 19.1 | AR64: 99.7 | AS64: 76.16 | AT64: 1.3090861 | AU64: 50
A65: BAS RHIN | B65: STRASBOURG | C65: STRASBOURG MEINAU | D65: 2.64 | E65: =ROUNDUP(H65-H65*F65,0) -> 440 | F65: =IF(G65<0.8,(0.05+0.8-G65),0) -> 0 | G65: 1 | H65: =J65+J65*I65 -> 440 | I65: 0.1 | J65: 400 | K65: 150 | L65: 5 | M65: 35 | N65: 31 | O65: 26 | P65: 92 | Q65: 79.2 | R65: 1.1616162 | S65: 50 | T65: 17 | U65: 15 | V65: 15 | W65: =T65+U65+V65 -> 47 | X65: 39.6 | Y65: =W65/X65 -> 1.1868687 | Z65: 50 | AA65: 461519.4 | AB65: 0 | AC65: 0 | AD65: 461519.4 | AE65: 356400 | AF65: 1.2949478 | AG65: 50 | AH65: 347500 | AI65: 18800 | AJ65: 6600 | AK65: 372900 | AL65: 264000 | AM65: 1.4125 | AN65: 50 | AO65: 34.5 | AP65: 25.3 | AQ65: 18.7 | AR65: 78.5 | AS65: 73.92 | AT65: 1.0619589 | AU65: 50
A66: BAS RHIN | B66: STRASBOURG | C66: STRASBOURG MONTAGNE VERTE | D66: 2.48 | E66: =ROUNDUP(H66-H66*F66,0) -> 110 | F66: =IF(G66<0.8,(0.05+0.8-G66),0) -> 0 | G66: 1 | H66: =J66+J66*I66 -> 110 | I66: 0.1 | J66: 100 | K66: 0 | L66: 2 | M66: 30 | N66: 25 | O66: 22 | P66: 77 | Q66: 74.4 | R66: 1.0349462 | S66: 50 | T66: 15 | U66: 15 | V66: 14 | W66: =T66+U66+V66 -> 44 | X66: 37.2 | Y66: =W66/X66 -> 1.1827957 | Z66: 50 | AA66: 290437.5 | AB66: 106 | AC66: 106 | AD66: 290649.5 | AE66: 334800 | AF66: 0.86812873 | AG66: 0 | AH66: 169250 | AI66: 8650 | AJ66: 6450 | AK66: 184350 | AL66: 248000 | AM66: 0.74334677 | AN66: 0 | AO66: 20.2 | AP66: 7.2 | AQ66: 7.2 | AR66: 34.6 | AS66: 69.44 | AT66: 0.49827189 | AU66: 0
... A68: BAS RHIN | B68: STRASBOURG | C68: STRASBOURG ROBERTSAU | D68: 5.59 | E68: =ROUNDUP(H68-H68*F68,0) -> 165 | F68: =IF(G68<0.8,(0.05+0.8-G68),0) -> 0 | G68: 0.91666667 | H68: =J68+J68*I68 -> 165 | I68: 0.1 | J68: 150 | K68: 0 | L68: 3 | M68: 45 | N68: 31 | O68: 24 | P68: 100 | Q68: 167.7 | R68: 0.59630292 | S68: 0 | T68: 46 | U68: 45 | V68: 18 | W68: =T68+U68+V68 -> 109 | X68: 83.85 | Y68: =W68/X68 -> 1.2999404 | Z68: 50 | AA68: 1513023.9 | AB68: 2128 | AC68: 2 | AD68: 1515153.9 | AE68: 754650 | AF68: 2.0077571 | AG68: 50 | AH68: 745418.05 | AI68: 52700 | AJ68: 21800 | AK68: 819918.05 | AL68: 559000 | AM68: 1.4667586 | AN68: 50 | AO68: 70.3 | AP68: 24.1 | AQ68: 13.2 | AR68: 107.6 | AS68: 156.52 | AT68: 0.68745208 | AU68: 0
A69: BAS RHIN | B69: STRASBOURG | C69: STRASBOURG VOSGES | D69: 2.92 | E69: =ROUNDUP(H69-H69*F69,0) -> 165 | F69: =IF(G69<0.8,(0.05+0.8-G69),0) -> 0 | G69: 1 | H69: =J69+J69*I69 -> 165 | I69: 0.1 | J69: 150 | K69: 0 | L69: 3 | M69: 12 | N69: 10 | O69: 6 | P69: 28 | Q69: 87.6 | R69: 0.3196347 | S69: 0 | T69: 21 | U69: 19 | V69: 17 | W69: =T69+U69+V69 -> 57 | X69: 43.8 | Y69: =W69/X69 -> 1.3013699 | Z69: 50 | AA69: =267069.47+162339 -> 429408.47 | AB69: 5004 | AC69: 0 | AD69: =272073.47+162339 -> 434412.47 | AE69: 394200 | AF69: =AD69/AE69 -> 1.1020103 | AG69: 50 | AH69: 449000 | AI69: 26800 | AJ69: 19000 | AK69: 494800 | AL69: 292000 | AM69: 1.6945205 | AN69: 50 | AO69: 8.8 | AP69: 5.5 | AQ69: 4.7 | AR69: 19 | AS69: 81.76 | AT69: 0.23238748 | AU69: 0
A70: HAUT RHIN | B70: COLMAR | C70: COLMAR MARAICHERS | D70: 3.52 | E70: =ROUNDUP(H70-H70*F70,0) -> 165 | F70: =IF(G70<0.8,(0.05+0.8-G70),0) -> 0 | G70: 0.83333333 | H70: =J70+J70*I70 -> 165 | I70: 0.1 | J70: 150 | K70: 0 | L70: 3 | M70: 46 | N70: 24 | O70: 16 | P70: 86 | Q70: 105.6 | R70: 0.81439394 | S70: 0 | T70: 25 | U70: 23 | V70: 16 | W70: =T70+U70+V70 -> 64 | X70: 52.8 | Y70: =W70/X70 -> 1.2121212 | Z70: 50 | AA70: 773960.06 | AB70: 36310 | AC70: 36000 | AD70: 846270.06 | AE70: 475200 | AF70: 1.7808713 | AG70: 50 | AH70: 384500 | AI70: 28040 | AJ70: 2400 | AK70: 414940 | AL70: 352000 | AM70: 1.1788068 | AN70: 50 | AO70: 29.3 | AP70: 11.9 | AQ70: 5.5 | AR70: 46.7 | AS70: 98.56 | AT70: 0.47382305 | AU70: 0
A71: HAUT RHIN | B71: COLMAR | C71: COLMAR REPUBLIQUE | D71: 6.28 | E71: =ROUNDUP(H71-H71*F71,0) -> 165 | F71: =IF(G71<0.8,(0.05+0.8-G71),0) -> 0 | G71: 0.875 | H71: =J71+J71*I71 -> 165 | I71: 0.1 | J71: 150 | K71: 0 | L71: 3 | M71: 29 | N71: 20 | O71: 15 | P71: 64 | Q71: 188.4 | R71: 0.33970276 | S71: 0 | T71: 46 | U71: 44 | V71: 40 | W71: =T71+U71+V71 -> 130 | X71: 94.2 | Y71: =W71/X71 -> 1.3800425 | Z71: 50 | AA71: 2517624.1 | AB71: 2134 | AC71: 2028 | AD71: 2521786.1 | AE71: 847800 | AF71: 2.9745059 | AG71: 50 | AH71: 789700 | AI71: 71500 | AJ71: 71500 | AK71: 932700 | AL71: 628000 | AM71: 1.4851911 | AN71: 50 | AO71: 59.6 | AP71: 29.9 | AQ71: 18.6 | AR71: 108.1 | AS71: 175.84 | AT71: 0.61476342 | AU71: 0
A72: HAUT RHIN | B72: COLMAR | C72: COLMAR SAINTE MARIE | D72: 6.08 | E72: =ROUNDUP(H72-H72*F72,0) -> 165 | F72: =IF(G72<0.8,(0.05+0.8-G72),0) -> 0 | G72: 0.875 | H72: =J72+J72*I72 -> 165 | I72: 0.1 | J72: 150 | K72: 0 | L72: 3 | M72: 31 | N72: 25 | O72: 21 | P72: 77 | Q72: 182.4 | R72: 0.42214912 | S72: 0 | T72: 38 | U72: 35 | V72: 34 | W72: =T72+U72+V72 -> 107 | X72: 91.2 | Y72: =W72/X72 -> 1.1732456 | Z72: 50 | AA72: 362351 | AB72: 609 | AC72: 0 | AD72: 362960 | AE72: 820800 | AF72: 0.44220273 | AG72: 0 | AH72: 583201 | AI72: 16400 | AJ72: 8600 | AK72: 608201 | AL72: 608000 | AM72: 1.0003306 | AN72: 50 | AO72: 94.8 | AP72: 49.9 | AQ72: 34.7 | AR72: 179.4 | AS72: 170.24 | AT72: 1.0538064 | AU72: 50
A73: HAUT RHIN | B73: COLMAR | C73: ENSISHEIM | D73: 3.02 | E73: =ROUNDUP(H73-H73*F73,0) -> 165 | F73: =IF(G73<0.8,(0.05+0.8-G73),0) -> 0 | G73: 1 | H73: =J73+J73*I73 -> 165 | I73: 0.1 | J73: 150 | K73: 0 | L73: 3 | M73: 34 | N73: 21 | O73: 17 | P73: 72 | Q73: 90.6 | R73: 0.79470199 | S73: 0 | T73: 21 | U73: 17 | V73: 15 | W73: =T73+U73+V73 -> 53 | X73: 45.3 | Y73: =W73/X73 -> 1.1699779 | Z73: 50 | AA73: 271357.43 | AB73: 2 | AC73: 2 | AD73: 271361.43 | AE73: 407700 | AF73: 0.66559095 | AG73: 0 | AH73: 295100 | AI73: 24300 | AJ73: 10600 | AK73: 330000 | AL73: 302000 | AM73: 1.0927152 | AN73: 50 | AO73: 45.9 | AP73: 25 | AQ73: 15.5 | AR73: 86.4 | AS73: 84.56 | AT73: 1.0217597 | AU73: 50
A74: HAUT RHIN | B74: COLMAR | C74: GUEBWILLER | D74: 4.42 | E74: =ROUNDUP(H74-H74*F74,0) -> 165 | F74: =IF(G74<0.8,(0.05+0.8-G74),0) -> 0 | G74: 0.90909091 | H74: =J74+J74*I74 -> 165 | I74: 0.1 | J74: 150 | K74: 0 | L74: 3 | M74: 22 | N74: 19 | O74: 11 | P74: 52 | Q74: 132.6 | R74: 0.39215686 | S74: 0 | T74: 33 | U74: 31 | V74: 25 | W74: =T74+U74+V74 -> 89 | X74: 66.3 | Y74: =W74/X74 -> 1.3423831 | Z74: 50 | AA74: 650273.28 | AB74: 28624 | AC74: 28604 | AD74: 707501.28 | AE74: 596700 | AF74: 1.1856901 | AG74: 50 | AH74: 478400 | AI74: 27540 | AJ74: 9340 | AK74: 515280 | AL74: 442000 | AM74: 1.1657919 | AN74: 50 | AO74: 29 | AP74: 10.9 | AQ74: 10.9 | AR74: 50.8 | AS74: 123.76 | AT74: 0.41047188 | AU74: 0
A75: HAUT RHIN | B75: COLMAR | C75: HORBOURG WIHR | D75: 3.77 | E75: =ROUNDUP(H75-H75*F75,0) -> 110 | F75: =IF(G75<0.8,(0.05+0.8-G75),0) -> 0 | G75: 1 | H75: =J75+J75*I75 -> 110 | I75: 0.1 | J75: 100 | K75: 0 | L75: 2 | M75: 33 | N75: 23 | O75: 21 | P75: 77 | Q75: 113.1 | R75: 0.68081344 | S75: 0 | T75: 36 | U75: 33 | V75: 22 | W75: =T75+U75+V75 -> 91 | X75: 56.55 | Y75: =W75/X75 -> 1.6091954 | Z75: 50 | AA75: 696985.52 | AB75: 25333.4 | AC75: 3020 | AD75: 725338.92 | AE75: 508950 | AF75: 1.4251673 | AG75: 50 | AH75: 345100 | AI75: 9820 | AJ75: 4400 | AK75: 359320 | AL75: 377000 | AM75: 0.95310345 | AN75: 0 | AO75: 27.4 | AP75: 13.1 | AQ75: 8.3 | AR75: 48.8 | AS75: 105.56 | AT75: 0.46229632 | AU75: 0
A76: HAUT RHIN | B76: COLMAR | C76: INGERSHEIM | D76: 4.5 | E76: =ROUNDUP(H76-H76*F76,0) -> 110 | F76: =IF(G76<0.8,(0.05+0.8-G76),0) -> 0 | G76: 0.90909091 | H76: =J76+J76*I76 -> 110 | I76: 0.1 | J76: 100 | K76: 0 | L76: 2 | M76: 23 | N76: 17 | O76: 15 | P76: 55 | Q76: 135 | R76: 0.40740741 | S76: 0 | T76: 30 | U76: 28 | V76: 26 | W76: =T76+U76+V76 -> 84 | X76: 67.5 | Y76: =W76/X76 -> 1.2444444 | Z76: 50 | AA76: 904543.27 | AB76: 2003 | AC76: 0 | AD76: 906546.27 | AE76: 607500 | AF76: 1.4922572 | AG76: 50 | AH76: 312000 | AI76: 12200 | AJ76: 600 | AK76: 324800 | AL76: 450000 | AM76: 0.72177778 | AN76: 0 | AO76: 30.1 | AP76: 6 | AQ76: 1.8 | AR76: 37.9 | AS76: 126 | AT76: 0.30079365 | AU76: 0
A77: HAUT RHIN | B77: COLMAR | C77: MUNSTER | D77: 3.55 | E77: =ROUNDUP(H77-H77*F77,0) -> 165 | F77: =IF(G77<0.8,(0.05+0.8-G77),0) -> 0 | G77: 0.85714286 | H77: =J77+J77*I77 -> 165 | I77: 0.1 | J77: 150 | K77: 0 | L77: 3 | M77: 13 | N77: 12 | O77: 8 | P77: 33 | Q77: 106.5 | R77: 0.30985915 | S77: 0 | T77: 22 | U77: 22 | V77: 18 | W77: =T77+U77+V77 -> 62 | X77: 53.25 | Y77: =W77/X77 -> 1.1643192 | Z77: 50 | AA77: 610362.39 | AB77: 12000 | AC77: 12000 | AD77: 634362.39 | AE77: 479250 | AF77: 1.3236565 | AG77: 50 | AH77: 481137 | AI77: 14340 | AJ77: 6840 | AK77: 502317 | AL77: 355000 | AM77: 1.4149775 | AN77: 50 | AO77: 27.1 | AP77: 7.8 | AQ77: 5.4 | AR77: 40.3 | AS77: 99.4 | AT77: 0.4054326 | AU77: 0
A78: HAUT RHIN | B78: COLMAR | C78: NEUF BRISACH | D78: 2.89 | E78: =ROUNDUP(H78-H78*F78,0) -> 110 | F78: =IF(G78<0.8,(0.05+0.8-G78),0) -> 0 | G78: 0.85714286 | H78: =J78+J78*I78 -> 110 | I78: 0.1 | J78: 100 | K78: 0 | L78: 2 | M78: 19 | N78: 16 | O78: 13 | P78: 48 | Q78: 86.7 | R78: 0.55363322 | S78: 0 | T78: 20 | U78: 17 | V78: 16 | W78: =T78+U78+V78 -> 53 | X78: 43.35 | Y78: =W78/X78 -> 1.2226067 | Z78: 50 | AA78: 67562.5 | AB78: 85.612 | AC78: 75 | AD78: 67723.112 | AE78: 390150 | AF78: 0.17358224 | AG78: 0 | AH78: 298900 | AI78: 15840 | AJ78: 7400 | AK78: 322140 | AL78: 289000 | AM78: 1.1146713 | AN78: 50 | AO78: 38 | AP78: 16.2 | AQ78: 9.6 | AR78: 63.8 | AS78: 80.92 | AT78: 0.78843302 | AU78: 0
A79: HAUT RHIN | B79: COLMAR | C79: ORBEY | D79: 3.76 | E79: =ROUNDUP(H79-H79*F79,0) -> 110 | F79: =IF(G79<0.8,(0.05+0.8-G79),0) -> 0 | G79: 1 | H79: =J79+J79*I79 -> 110 | I79: 0.1 | J79: 100 | K79: 0 | L79: 2 | M79: 13 | N79: 6 | O79: 4 | P79: 23 | Q79: 112.8 | R79: 0.20390071 | S79: 0 | T79: 24 | U79: 24 | V79: 23 | W79: =T79+U79+V79 -> 71 | X79: 56.4 | Y79: =W79/X79 -> 1.2588652 | Z79: 50 | AA79: 307623.96 | AB79: 20 | AC79: 0 | AD79: 307643.96 | AE79: 507600 | AF79: 0.60607557 | AG79: 0 | AH79: 392425 | AI79: 32900 | AJ79: 26200 | AK79: 451525 | AL79: 376000 | AM79: 1.2008644 | AN79: 50 | AO79: 17.4 | AP79: 7 | AQ79: 3.8 | AR79: 28.2 | AS79: 105.28 | AT79: 0.26785714 | AU79: 0
A80: HAUT RHIN | B80: COLMAR | C80: RIBEAUVILLE | D80: 3.78 | E80: =ROUNDUP(H80-H80*F80,0) -> 165 | F80: =IF(G80<0.8,(0.05+0.8-G80),0) -> 0 | G80: 1 | H80: =J80+J80*I80 -> 165 | I80: 0.1 | J80: 150 | K80: 0 | L80: 3 | M80: 18 | N80: 18 | O80: 11 | P80: 47 | Q80: 113.4 | R80: 0.41446208 | S80: 0 | T80: 26 | U80: 24 | V80: 19 | W80: =T80+U80+V80 -> 69 | X80: 56.7 | Y80: =W80/X80 -> 1.2169312 | Z80: 50 | AA80: 531941.51 | AB80: 35222 | AC80: 35120 | AD80: 602283.51 | AE80: 510300 | AF80: 1.1802538 | AG80: 50 | AH80: 362724 | AI80: 23280 | AJ80: 10000 | AK80: 396004 | AL80: 378000 | AM80: 1.0476296 | AN80: 50 | AO80: 36.6 | AP80: 14.5 | AQ80: 10.6 | AR80: 61.7 | AS80: 105.84 | AT80: 0.5829554 | AU80: 0
A81: HAUT RHIN | B81: COLMAR | C81: ROUFFACH | D81: 2.66 | E81: =ROUNDUP(H81-H81*F81,0) -> 110 | F81: =IF(G81<0.8,(0.05+0.8-G81),0) -> 0 | G81: 1 | H81: =J81+J81*I81 -> 110 | I81: 0.1 | J81: 100 | K81: 0 | L81: 2 | M81: 14 | N81: 11 | O81: 10 | P81: 35 | Q81: 79.8 | R81: 0.43859649 | S81: 0 | T81: 20 | U81: 20 | V81: 13 | W81: =T81+U81+V81 -> 53 | X81: 39.9 | Y81: =W81/X81 -> 1.3283208 | Z81: 50 | AA81: 104341.09 | AB81: 2460 | AC81: 420 | AD81: 107221.09 | AE81: 359100 | AF81: 0.29858282 | AG81: 0 | AH81: 327000 | AI81: 20740 | AJ81: 20740 | AK81: 368480 | AL81: 266000 | AM81: 1.3852632 | AN81: 50 | AO81: 26.7 | AP81: 8.4 | AQ81: 5.2 | AR81: 40.3 | AS81: 74.48 | AT81: 0.54108485 | AU81: 0
... A108: MARNE ARDENNES | B108: CHARLEVILLE MEZIERES | C108: MOUZON | D108: 1.5 | E108: =ROUNDUP(H108-H108*F108,0) -> 110 | F108: =IF(G108<0.8,(0.05+0.8-G108),0) -> 0 | G108: 1 | H108: =J108+J108*I108 -> 110 | I108: 0.1 | J108: 100 | K108: 0 | L108: 2 | M108: 17 | N108: 11 | O108: 8 | P108: 36 | Q108: 45 | R108: 0.8 | S108: 0 | T108: 20 | U108: 19 | V108: 18 | W108: =T108+U108+V108 -> 57 | X108: 22.5 | Y108: =W108/X108 -> 2.5333333 | Z108: 50 | AA108: 43944.96 | AB108: 0 | AC108: 0 | AD108: 43944.96 | AE108: 202500 | AF108: 0.21701215 | AG108: 0 | AH108: 226700 | AI108: 4640 | AJ108: 240 | AK108: 231580 | AL108: 150000 | AM108: 1.5438667 | AN108: 50 | AO108: 17.3 | AP108: 5 | AQ108: 5 | AR108: 27.3 | AS108: 42 | AT108: 0.65 | AU108: 0
A109: MARNE ARDENNES | B109: CHARLEVILLE MEZIERES | C109: RETHEL | D109: 5.51 | E109: =ROUNDUP(H109-H109*F109,0) -> 0 | F109: =IF(G109<0.8,(0.05+0.8-G109),0) -> 0 | G109: 0.84615385 | J109: 0 | K109: 0 | L109: 0 | M109: 22 | N109: 16 | O109: 13 | P109: 51 | Q109: 165.3 | R109: 0.30852995 | S109: 0 | T109: 22 | U109: 20 | V109: 19 | W109: =T109+U109+V109 -> 61 | X109: 82.65 | Y109: =W109/X109 -> 0.73805203 | Z109: 0 | AA109: 356143.35 | AB109: 12 | AC109: 4 | AD109: 356159.35 | AE109: 743850 | AF109: 0.47880534 | AG109: 0 | AH109: 351286 | AI109: 33980 | AJ109: 20680 | AK109: 405946 | AL109: 551000 | AM109: 0.7367441 | AN109: 0 | AO109: 45.2 | AP109: 16.3 | AQ109: 12.5 | AR109: 74 | AS109: 154.28 | AT109: 0.47964739 | AU109: 0
A110: MARNE ARDENNES | B110: CHARLEVILLE MEZIERES | C110: REVIN | D110: 4.1 | E110: =ROUNDUP(H110-H110*F110,0) -> 55 | F110: =IF(G110<0.8,(0.05+0.8-G110),0) -> 0 | G110: 1 | H110: =J110+J110*I110 -> 55 | I110: 0.1 | J110: 50 | K110: 0 | L110: 1 | M110: 16 | N110: 11 | O110: 5 | P110: 32 | Q110: 123 | R110: 0.2601626 | S110: 0 | T110: 24 | U110: 21 | V110: 16 | W110: =T110+U110+V110 -> 61 | X110: 61.5 | Y110: =W110/X110 -> 0.99186992 | Z110: 50 | AA110: 244569.55 | AB110: 4018 | AC110: 4002 | AD110: 252589.55 | AE110: 553500 | AF110: 0.45634968 | AG110: 0 | AH110: 293538.04 | AI110: 12200 | AJ110: 7800 | AK110: 313538.04 | AL110: 410000 | AM110: 0.76472693 | AN110: 0 | AO110: 49.9 | AP110: 16.9 | AQ110: 13.7 | AR110: 80.5 | AS110: 114.8 | AT110: 0.70121951 | AU110: 0
A111: MARNE ARDENNES | B111: CHARLEVILLE MEZIERES | C111: ROCROI | D111: 2.62 | E111: =ROUNDUP(H111-H111*F111,0) -> 55 | F111: =IF(G111<0.8,(0.05+0.8-G111),0) -> 0 | G111: 0.83333333 | H111: =J111+J111*I111 -> 55 | I111: 0.1 | J111: 50 | K111: 0 | L111: 1 | M111: 18 | N111: 14 | O111: 6 | P111: 38 | Q111: 78.6 | R111: 0.48346056 | S111: 0 | T111: 8 | U111: 8 | V111: 5 | W111: =T111+U111+V111 -> 21 | X111: 39.3 | Y111: =W111/X111 -> 0.53435115 | Z111: 0 | AA111: 88937.73 | AB111: 10 | AC111: 8 | AD111: 88955.73 | AE111: 353700 | AF111: 0.25150051 | AG111: 0 | AH111: 256500 | AI111: 21800 | AJ111: 18800 | AK111: 297100 | AL111: 262000 | AM111: 1.1339695 | AN111: 50 | AO111: 25.9 | AP111: 11.9 | AQ111: 8 | AR111: 45.8 | AS111: 73.36 | AT111: 0.62431843 | AU111: 0
A112: MARNE ARDENNES | B112: CHARLEVILLE MEZIERES | C112: SEDAN | D112: 8.91 | E112: =ROUNDUP(H112-H112*F112,0) -> 165 | F112: =IF(G112<0.8,(0.05+0.8-G112),0) -> 0 | G112: 0.83333333 | H112: =J112+J112*I112 -> 165 | I112: 0.1 | J112: 150 | K112: 0 | L112: 3 | M112: 56 | N112: 43 | O112: 38 | P112: 137 | Q112: 267.3 | R112: 0.51253273 | S112: 0 | T112: 61 | U112: 59 | V112: 56 | W112: =T112+U112+V112 -> 176 | X112: 133.65 | Y112: =W112/X112 -> 1.3168724 | Z112: 50 | AA112: 1671878.4 | AB112: 11401.332 | AC112: 7189.332 | AD112: 1690469.1 | AE112: 1202850 | AF112: 1.4053865 | AG112: 50 | AH112: 1431800 | AI112: 57140 | AJ112: 22940 | AK112: 1511880 | AL112: 891000 | AM112: 1.696835 | AN112: 50 | AO112: 52 | AP112: 20.9 | AQ112: 17 | AR112: 89.9 | AS112: 249.48 | AT112: 0.36034953 | AU112: 0
A113: MARNE ARDENNES | B113: CHARLEVILLE MEZIERES | C113: VILLERS SEMEUSE CORA | D113: 2.89 | E113: =ROUNDUP(H113-H113*F113,0) -> 275 | F113: =IF(G113<0.8,(0.05+0.8-G113),0) -> 0 | G113: 0.85714286 | H113: =J113+J113*I113 -> 275 | I113: 0.1 | J113: 250 | K113: 50 | L113: 4 | M113: 34 | N113: 28 | O113: 26 | P113: 88 | Q113: 86.7 | R113: 1.0149942 | S113: 50 | T113: 8 | U113: 5 | V113: 5 | W113: =T113+U113+V113 -> 18 | X113: 43.35 | Y113: =W113/X113 -> 0.41522491 | Z113: 0 | AA113: 397156.82 | AB113: 42 | AC113: 2 | AD113: 397200.82 | AE113: 390150 | AF113: 1.0180721 | AG113: 50 | AH113: 311900 | AI113: 15800 | AJ113: 8600 | AK113: 336300 | AL113: 289000 | AM113: 1.1636678 | AN113: 50 | AO113: 36 | AP113: 25.2 | AQ113: 19.8 | AR113: 81 | AS113: 80.92 | AT113: 1.0009886 | AU113: 50
A114: MARNE ARDENNES | B114: CHARLEVILLE MEZIERES | C114: VOUZIERS | D114: 2.37 | E114: =ROUNDUP(H114-H114*F114,0) -> 165 | F114: =IF(G114<0.8,(0.05+0.8-G114),0) -> 0 | G114: 1 | H114: =J114+J114*I114 -> 165 | I114: 0.1 | J114: 150 | K114: 0 | L114: 3 | M114: 6 | N114: 6 | O114: 6 | P114: 18 | Q114: 71.1 | R114: 0.25316456 | S114: 0 | T114: 19 | U114: 17 | V114: 14 | W114: =T114+U114+V114 -> 50 | X114: 35.55 | Y114: =W114/X114 -> 1.4064698 | Z114: 50 | AA114: 434343.54 | AB114: 460 | AC114: 260 | AD114: 435063.54 | AE114: 319950 | AF114: 1.359786 | AG114: 50 | AH114: 348000 | AI114: 14700 | AJ114: 11900 | AK114: 374600 | AL114: 237000 | AM114: 1.5805907 | AN114: 50 | AO114: 19.2 | AP114: 8.2 | AQ114: 7.2 | AR114: 34.6 | AS114: 66.36 | AT114: 0.52139843 | AU114: 0
A115: MARNE ARDENNES | B115: REIMS | C115: AY CHAMPAGNE | D115: 2.44 | E115: =ROUNDUP(H115-H115*F115,0) -> 0 | F115: =IF(G115<0.8,(0.05+0.8-G115),0) -> 0 | G115: 0.83333333 | J115: 0 | K115: 0 | L115: 0 | M115: 18 | N115: 14 | O115: 13 | P115: 45 | Q115: 73.2 | R115: 0.6147541 | S115: 0 | T115: 6 | U115: 5 | V115: 5 | W115: =T115+U115+V115 -> 16 | X115: 36.6 | Y115: =W115/X115 -> 0.43715847 | Z115: 0 | AA115: 131548.82 | AB115: 5239.608 | AC115: 5239.608 | AD115: 142028.04 | AE115: 329400 | AF115: 0.43117194 | AG115: 0 | AH115: 128735 | AI115: 0 | AJ115: 0 | AK115: 128735 | AL115: 244000 | AM115: 0.52760246 | AN115: 0 | AO115: 26.6 | AP115: 13.5 | AQ115: 10.3 | AR115: 50.4 | AS115: 68.32 | AT115: 0.73770492 | AU115: 0
A116: MARNE ARDENNES | B116: REIMS | C116: BETHENY | D116: 2.86 | E116: =ROUNDUP(H116-H116*F116,0) -> 440 | F116: =IF(G116<0.8,(0.05+0.8-G116),0) -> 0 | G116: 0.8 | H116: =J116+J116*I116 -> 440 | I116: 0.1 | J116: 400 | K116: 150 | L116: 5 | M116: 45 | N116: 30 | O116: 26 | P116: 101 | Q116: 85.8 | R116: 1.1771562 | S116: 50 | T116: 28 | U116: 28 | V116: 16 | W116: =T116+U116+V116 -> 72 | X116: 42.9 | Y116: =W116/X116 -> 1.6783217 | Z116: 50 | AA116: 773332.56 | AB116: 11160 | AC116: 11160 | AD116: 795652.56 | AE116: 386100 | AF116: 2.0607422 | AG116: 50 | AH116: 335178 | AI116: 11449.6 | AJ116: 9132.6 | AK116: 355760.2 | AL116: 286000 | AM116: 1.2439168 | AN116: 50 | AO116: 50.5 | AP116: 22.1 | AQ116: 19.4 | AR116: 92 | AS116: 80.08 | AT116: 1.1488511 | AU116: 50
A117: MARNE ARDENNES | B117: REIMS | C117: DAMERY | D117: 1.88 | E117: =ROUNDUP(H117-H117*F117,0) -> 36 | F117: =IF(G117<0.8,(0.05+0.8-G117),0) -> 0.35 | G117: 0.5 | H117: =J117+J117*I117 -> 55 | I117: 0.1 | J117: 50 | K117: 0 | L117: 1 | M117: 15 | N117: 11 | O117: 9 | P117: 35 | Q117: 56.4 | R117: 0.62056738 | S117: 0 | T117: 6 | U117: 5 | V117: 4 | W117: =T117+U117+V117 -> 15 | X117: 28.2 | Y117: =W117/X117 -> 0.53191489 | Z117: 0 | AA117: 228313.23 | AB117: 6178 | AC117: 6000 | AD117: 240491.23 | AE117: 253800 | AF117: 0.94756198 | AG117: 0 | AH117: 259548.37 | AI117: 4800 | AJ117: 4800 | AK117: 269148.37 | AL117: 188000 | AM117: 1.4316403 | AN117: 50 | AO117: 16.9 | AP117: 6.7 | AQ117: 5.8 | AR117: 29.4 | AS117: 52.64 | AT117: 0.55851064 | AU117: 0
A118: MARNE ARDENNES | B118: REIMS | C118: DORMANS | D118: 2.44 | E118: =ROUNDUP(H118-H118*F118,0) -> 0 | F118: =IF(G118<0.8,(0.05+0.8-G118),0) -> 0 | G118: 1 | J118: 0 | K118: 0 | L118: 0 | M118: 10 | N118: 8 | O118: 6 | P118: 24 | Q118: 73.2 | R118: 0.32786885 | S118: 0 | T118: 6 | U118: 4 | V118: 4 | W118: =T118+U118+V118 -> 14 | X118: 36.6 | Y118: =W118/X118 -> 0.38251366 | Z118: 0 | AA118: 302044.63 | AB118: 2100 | AC118: 1200 | AD118: 305344.63 | AE118: 329400 | AF118: 0.92697216 | AG118: 0 | AH118: 183900 | AI118: 8600 | AJ118: 2600 | AK118: 195100 | AL118: 244000 | AM118: 0.79959016 | AN118: 0 | AO118: 31.7 | AP118: 11.4 | AQ118: 8 | AR118: 51.1 | AS118: 68.32 | AT118: 0.74795082 | AU118: 0
A119: MARNE ARDENNES | B119: REIMS | C119: EPERNAY | D119: 8.95 | E119: =ROUNDUP(H119-H119*F119,0) -> 165 | F119: =IF(G119<0.8,(0.05+0.8-G119),0) -> 0 | G119: 0.93333333 | H119: =J119+J119*I119 -> 165 | I119: 0.1 | J119: 150 | K119: 0 | L119: 3 | M119: 68 | N119: 38 | O119: 31 | P119: 137 | Q119: 268.5 | R119: 0.51024209 | S119: 0 | T119: 55 | U119: 53 | V119: 51 | W119: =T119+U119+V119 -> 159 | X119: 134.25 | Y119: =W119/X119 -> 1.1843575 | Z119: 50 | AA119: 1459516.6 | AB119: 54740 | AC119: 50500 | AD119: 1564756.6 | AE119: 1208250 | AF119: 1.2950603 | AG119: 50 | AH119: 919593 | AI119: 53118.6 | AJ119: 39518.6 | AK119: 1012230.2 | AL119: 895000 | AM119: 1.1309835 | AN119: 50 | AO119: 72.6 | AP119: 40.8 | AQ119: 31.2 | AR119: 144.6 | AS119: 250.6 | AT119: 0.57701516 | AU119: 0
A120: MARNE ARDENNES | B120: REIMS | C120: FISMES | D120: 2.76 | E120: =ROUNDUP(H120-H120*F120,0) -> 110 | F120: =IF(G120<0.8,(0.05+0.8-G120),0) -> 0 | G120: 1 | H120: =J120+J120*I120 -> 110 | I120: 0.1 | J120: 100 | K120: 0 | L120: 2 | M120: 19 | N120: 15 | O120: 14 | P120: 48 | Q120: 82.8 | R120: 0.57971014 | S120: 0 | T120: 19 | U120: 17 | V120: 16 | W120: =T120+U120+V120 -> 52 | X120: 41.4 | Y120: =W120/X120 -> 1.2560386 | Z120: 50 | AA120: 77390.78 | AB120: 12 | AC120: 12 | AD120: 77414.78 | AE120: 372600 | AF120: 0.20776914 | AG120: 0 | AH120: 289866 | AI120: 21373.2 | AJ120: 20133.2 | AK120: 331372.4 | AL120: 276000 | AM120: 1.2006246 | AN120: 50 | AO120: 17.8 | AP120: 11.5 | AQ120: 11.5 | AR120: 40.8 | AS120: 77.28 | AT120: 0.52795031 | AU120: 0
A121: MARNE ARDENNES | B121: REIMS | C121: PIERRY LECLERC | D121: 1.7 | E121: =ROUNDUP(H121-H121*F121,0) -> 275 | F121: =IF(G121<0.8,(0.05+0.8-G121),0) -> 0 | G121: 1 | H121: =J121+J121*I121 -> 275 | I121: 0.1 | J121: 250 | K121: 50 | L121: 4 | M121: 29 | N121: 18 | O121: 15 | P121: 62 | Q121: 51 | R121: 1.2156863 | S121: 50 | T121: 23 | U121: 23 | V121: 16 | W121: =T121+U121+V121 -> 62 | X121: 25.5 | Y121: =W121/X121 -> 2.4313725 | Z121: 50 | AA121: 123328.7 | AB121: 20 | AC121: 0 | AD121: 123348.7 | AE121: 229500 | AF121: 0.5374671 | AG121: 0 | AH121: 199100 | AI121: 18460 | AJ121: 7180 | AK121: 224740 | AL121: 170000 | AM121: 1.322 | AN121: 50 | AO121: 23 | AP121: 13.4 | AQ121: 12.6 | AR121: 49 | AS121: 47.6 | AT121: 1.0294118 | AU121: 50
A122: MARNE ARDENNES | B122: REIMS | C122: REIMS CENTRE VILLE | D122: 6.54 | E122: =ROUNDUP(H122-H122*F122,0) -> 29 | F122: =IF(G122<0.8,(0.05+0.8-G122),0) -> 0.48636364 | G122: 0.36363636 | H122: =J122+J122*I122 -> 55 | I122: 0.1 | J122: 50 | K122: 0 | L122: 1 | M122: 61 | N122: 45 | O122: 41 | P122: 147 | Q122: 196.2 | R122: 0.74923547 | S122: 0 | T122: 10 | U122: 10 | V122: 9 | W122: =T122+U122+V122 -> 29 | X122: 98.1 | Y122: =W122/X122 -> 0.29561672 | Z122: 0 | AA122: 736553.74 | AB122: 6537 | AC122: 6522 | AD122: 749612.74 | AE122: 882900 | AF122: 0.8490347 | AG122: 0 | AH122: 702300 | AI122: 65900 | AJ122: 53100 | AK122: 821300 | AL122: 654000 | AM122: 1.2558104 | AN122: 50 | AO122: 72 | AP122: 41.3 | AQ122: 37.7 | AR122: 151 | AS122: 183.12 | AT122: 0.82459589 | AU122: 0
A123: MARNE ARDENNES | B123: REIMS | C123: REIMS CHATILLONS | D123: 4.01 | E123: =ROUNDUP(H123-H123*F123,0) -> 165 | F123: =IF(G123<0.8,(0.05+0.8-G123),0) -> 0 | G123: 1 | H123: =J123+J123*I123 -> 165 | I123: 0.1 | J123: 150 | K123: 0 | L123: 3 | M123: 36 | N123: 25 | O123: 24 | P123: 85 | Q123: 120.3 | R123: 0.70656692 | S123: 0 | T123: 19 | U123: 18 | V123: 16 | W123: =T123+U123+V123 -> 53 | X123: 60.15 | Y123: =W123/X123 -> 0.88113051 | Z123: 0 | AA123: 762847.19 | AB123: 12564 | AC123: 12464 | AD123: 787875.19 | AE123: 541350 | AF123: 1.4553897 | AG123: 50 | AH123: 423601 | AI123: 11020 | AJ123: 8220 | AK123: 442841 | AL123: 401000 | AM123: 1.1043416 | AN123: 50 | AO123: 50.4 | AP123: 35.6 | AQ123: 33.5 | AR123: 119.5 | AS123: 112.28 | AT123: 1.0643035 | AU123: 50
A124: MARNE ARDENNES | B124: REIMS | C124: REIMS EUROPE | D124: 2.31 | E124: =ROUNDUP(H124-H124*F124,0) -> 110 | F124: =IF(G124<0.8,(0.05+0.8-G124),0) -> 0 | G124: 1 | H124: =J124+J124*I124 -> 110 | I124: 0.1 | J124: 100 | K124: 0 | L124: 2 | M124: 15 | N124: 12 | O124: 10 | P124: 37 | Q124: 69.3 | R124: 0.53391053 | S124: 0 | T124: 15 | U124: 15 | V124: 10 | W124: =T124+U124+V124 -> 40 | X124: 34.65 | Y124: =W124/X124 -> 1.1544012 | Z124: 50 | AA124: 240490.6 | AB124: 6028 | AC124: 6022 | AD124: 252540.6 | AE124: 311850 | AF124: 0.80981433 | AG124: 0 | AH124: 218035 | AI124: 2400 | AJ124: 600 | AK124: 221035 | AL124: 231000 | AM124: 0.95686147 | AN124: 50 | AO124: 26.6 | AP124: 13.2 | AQ124: 11.1 | AR124: 50.9 | AS124: 64.68 | AT124: 0.78695114 | AU124: 0
A125: MARNE ARDENNES | B125: REIMS | C125: REIMS HIPPODROME | D125: 3.94 | E125: =ROUNDUP(H125-H125*F125,0) -> 55 | F125: =IF(G125<0.8,(0.05+0.8-G125),0) -> 0 | G125: 0.9 | H125: =J125+J125*I125 -> 55 | I125: 0.1 | J125: 50 | K125: 0 | L125: 1 | M125: 44 | N125: 31 | O125: 31 | P125: 106 | Q125: 118.2 | R125: 0.89678511 | S125: 0 | T125: 14 | U125: 14 | V125: 11 | W125: =T125+U125+V125 -> 39 | X125: 59.1 | Y125: =W125/X125 -> 0.65989848 | Z125: 0 | AA125: 331005.14 | AB125: 208 | AC125: 102 | AD125: 331315.14 | AE125: 531900 | AF125: 0.6228899 | AG125: 0 | AH125: 496590 | AI125: 34540 | AJ125: 29340 | AK125: 560470 | AL125: 394000 | AM125: 1.4225127 | AN125: 50 | AO125: 41.2 | AP125: 22.6 | AQ125: 20.2 | AR125: 84 | AS125: 110.32 | AT125: 0.76142132 | AU125: 0
A126: MARNE ARDENNES | B126: REIMS | C126: REIMS HOTEL DE VILLE | D126: 7.72 | E126: =ROUNDUP(H126-H126*F126,0) -> 110 | F126: =IF(G126<0.8,(0.05+0.8-G126),0) -> 0 | G126: 0.85714286 | H126: =J126+J126*I126 -> 110 | I126: 0.1 | J126: 100 | K126: 0 | L126: 2 | M126: 43 | N126: 35 | O126: 31 | P126: 109 | Q126: 231.6 | R126: 0.47063903 | S126: 0 | T126: 24 | U126: 24 | V126: 23 | W126: =T126+U126+V126 -> 71 | X126: 115.8 | Y126: =W126/X126 -> 0.61312608 | Z126: 0 | AA126: 2554500.6 | AB126: 77329.244 | AC126: 24714 | AD126: 2656543.8 | AE126: 1042200 | AF126: 2.548977 | AG126: 50 | AH126: 791260 | AI126: 72780 | AJ126: 52820 | AK126: 916860 | AL126: 772000 | AM126: 1.1876425 | AN126: 50 | AO126: 80.6 | AP126: 35.7 | AQ126: 28.9 | AR126: 145.2 | AS126: 216.16 | AT126: 0.67172465 | AU126: 0
A127: MARNE ARDENNES | B127: REIMS | C127: REIMS JEAN JAURES | D127: 2.97 | E127: =ROUNDUP(H127-H127*F127,0) -> 110 | F127: =IF(G127<0.8,(0.05+0.8-G127),0) -> 0 | G127: 0.88888889 | H127: =J127+J127*I127 -> 110 | I127: 0.1 | J127: 100 | K127: 0 | L127: 2 | M127: 24 | N127: 18 | O127: 16 | P127: 58 | Q127: 89.1 | R127: 0.65095398 | S127: 0 | T127: 25 | U127: 23 | V127: 14 | W127: =T127+U127+V127 -> 62 | X127: 44.55 | Y127: =W127/X127 -> 1.3916947 | Z127: 50 | AA127: 235275.41 | AB127: 3184 | AC127: 152 | AD127: 238611.41 | AE127: 400950 | AF127: 0.59511513 | AG127: 0 | AH127: 282645 | AI127: 41129 | AJ127: 27529 | AK127: 351303 | AL127: 297000 | AM127: 1.1828384 | AN127: 50 | AO127: 28.3 | AP127: 18 | AQ127: 15.4 | AR127: 61.7 | AS127: 83.16 | AT127: 0.74194324 | AU127: 0
A128: MARNE ARDENNES | B128: REIMS | C128: REIMS SAINTE ANNE | D128: 0.41 | E128: =ROUNDUP(H128-H128*F128,0) -> 0 | F128: =IF(G128<0.8,(0.05+0.8-G128),0) -> 0.25 | G128: 0.6 | J128: 0 | K128: 0 | L128: 0 | M128: 2 | N128: 2 | O128: 2 | P128: 6 | Q128: 12.3 | R128: 0.48780488 | S128: 0 | X128: 6.15 | Y128: =W128/X128 -> 0 | Z128: 0 | AE128: 55350 | AG128: 0 | AH128: 18000 | AI128: 2600 | AJ128: 2600 | AK128: 23200 | AL128: 41000 | AM128: 0.56585366 | AN128: 0 | AO128: 1 | AP128: 0 | AQ128: 0 | AR128: 1 | AS128: 11.48 | AT128: 0.087108014 | AU128: 0
A129: MARNE ARDENNES | B129: REIMS | C129: REIMS SAINT MARCEAUX | D129: 3.57 | E129: =ROUNDUP(H129-H129*F129,0) -> 55 | F129: =IF(G129<0.8,(0.05+0.8-G129),0) -> 0 | G129: 0.85714286 | H129: =J129+J129*I129 -> 55 | I129: 0.1 | J129: 50 | K129: 0 | L129: 1 | M129: 23 | N129: 20 | O129: 17 | P129: 60 | Q129: 107.1 | R129: 0.56022409 | S129: 0 | T129: 8 | U129: 6 | V129: 5 | W129: =T129+U129+V129 -> 19 | X129: 53.55 | Y129: =W129/X129 -> 0.35480859 | Z129: 0 | AA129: 221323.99 | AB129: 22000 | AC129: 22000 | AD129: 265323.99 | AE129: 481950 | AF129: 0.55052182 | AG129: 0 | AH129: 321850 | AI129: 19200 | AJ129: 1000 | AK129: 342050 | AL129: 357000 | AM129: 0.95812325 | AN129: 50 | AO129: 38 | AP129: 22.4 | AQ129: 18.7 | AR129: 79.1 | AS129: 99.96 | AT129: 0.79131653 | AU129: 0
A130: MARNE ARDENNES | B130: REIMS | C130: REIMS SAINT REMI | D130: 2.66 | E130: =ROUNDUP(H130-H130*F130,0) -> 440 | F130: =IF(G130<0.8,(0.05+0.8-G130),0) -> 0 | G130: 0.83333333 | H130: =J130+J130*I130 -> 440 | I130: 0.1 | J130: 400 | K130: 150 | L130: 5 | M130: 51 | N130: 36 | O130: 35 | P130: 122 | Q130: 79.8 | R130: 1.5288221 | S130: 50 | T130: 22 | U130: 20 | V130: 19 | W130: =T130+U130+V130 -> 61 | X130: 39.9 | Y130: =W130/X130 -> 1.5288221 | Z130: 50 | AA130: 576193.79 | AB130: 3110.672 | AC130: 300 | AD130: 579604.46 | AE130: 359100 | AF130: 1.6140475 | AG130: 50 | AH130: 293150 | AI130: 26130 | AJ130: 22930 | AK130: 342210 | AL130: 266000 | AM130: 1.2865038 | AN130: 50 | AO130: 44.4 | AP130: 30.6 | AQ130: 24.7 | AR130: 99.7 | AS130: 74.48 | AT130: 1.3386144 | AU130: 50
A131: MARNE ARDENNES | B131: REIMS | C131: REIMS SAINT THOMAS | D131: 6.65 | E131: =ROUNDUP(H131-H131*F131,0) -> 165 | F131: =IF(G131<0.8,(0.05+0.8-G131),0) -> 0 | G131: 0.83333333 | H131: =J131+J131*I131 -> 165 | I131: 0.1 | J131: 150 | K131: 0 | L131: 3 | M131: 71 | N131: 63 | O131: 53 | P131: 187 | Q131: 199.5 | R131: 0.93734336 | S131: 0 | T131: 45 | U131: 41 | V131: 34 | W131: =T131+U131+V131 -> 120 | X131: 99.75 | Y131: =W131/X131 -> 1.2030075 | Z131: 50 | AA131: 1065563 | AB131: 12 | AC131: 10 | AD131: 1065585 | AE131: 897750 | AF131: 1.1869507 | AG131: 50 | AH131: 830169 | AI131: 33453.8 | AJ131: 27053.8 | AK131: 890676.6 | AL131: 665000 | AM131: 1.3393633 | AN131: 50 | AO131: 50.7 | AP131: 28 | AQ131: 22.5 | AR131: 101.2 | AS131: 186.2 | AT131: 0.54350161 | AU131: 0
A132: MARNE ARDENNES | B132: REIMS | C132: TINQUEUX | D132: 4.78 | E132: =ROUNDUP(H132-H132*F132,0) -> 440 | F132: =IF(G132<0.8,(0.05+0.8-G132),0) -> 0 | G132: 0.81818182 | H132: =J132+J132*I132 -> 440 | I132: 0.1 | J132: 400 | K132: 150 | L132: 5 | M132: 62 | N132: 51 | O132: 40 | P132: 153 | Q132: 143.4 | R132: 1.0669456 | S132: 50 | T132: 35 | U132: 35 | V132: 33 | W132: =T132+U132+V132 -> 103 | X132: 71.7 | Y132: =W132/X132 -> 1.4365411 | Z132: 50 | AA132: 725230.62 | AB132: 9380 | AC132: 9360 | AD132: 743970.62 | AE132: 645300 | AF132: 1.1529066 | AG132: 50 | AH132: 450000 | AI132: 17060 | AJ132: 12560 | AK132: 479620 | AL132: 478000 | AM132: 1.0033891 | AN132: 50 | AO132: 73.9 | AP132: 38.1 | AQ132: 31.5 | AR132: 143.5 | AS132: 133.84 | AT132: 1.0721757 | AU132: 50
A133: MEURTHE ET MOSELLE MEUSE | B133: NANCY | C133: BACCARAT | D133: 2.56 | E133: =ROUNDUP(H133-H133*F133,0) -> 0 | F133: =IF(G133<0.8,(0.05+0.8-G133),0) -> 0 | G133: 1 | J133: 0 | K133: 0 | L133: 0 | M133: 8 | N133: 7 | O133: 6 | P133: 21 | Q133: 76.8 | R133: 0.2734375 | S133: 0 | T133: 9 | U133: 9 | V133: 7 | W133: =T133+U133+V133 -> 25 | X133: 38.4 | Y133: =W133/X133 -> 0.65104167 | Z133: 0 | AA133: 232145.9 | AB133: 40 | AC133: 40 | AD133: 232225.9 | AE133: 345600 | AF133: 0.67194994 | AG133: 0 | AH133: 177600 | AI133: 15520 | AJ133: 12520 | AK133: 205640 | AL133: 256000 | AM133: 0.80328125 | AN133: 0 | AO133: 28.3 | AP133: 14 | AQ133: 12.2 | AR133: 54.5 | AS133: 71.68 | AT133: 0.76032366 | AU133: 0
A134: MEURTHE ET MOSELLE MEUSE | B134: NANCY | C134: BLAINVILLE | D134: 3.52 | E134: =ROUNDUP(H134-H134*F134,0) -> 110 | F134: =IF(G134<0.8,(0.05+0.8-G134),0) -> 0 | G134: 1 | H134: =J134+J134*I134 -> 110 | I134: 0.1 | J134: 100 | K134: 0 | L134: 2 | M134: 17 | N134: 14 | O134: 9 | P134: 40 | Q134: 105.6 | R134: 0.37878788 | S134: 0 | T134: 31 | U134: 29 | V134: 17 | W134: =T134+U134+V134 -> 77 | X134: 52.8 | Y134: =W134/X134 -> 1.4583333 | Z134: 50 | AA134: 490830.1 | AB134: 22418 | AC134: 22412 | AD134: 535660.1 | AE134: 475200 | AF134: 1.1272309 | AG134: 50 | AH134: 231300 | AI134: 12800 | AJ134: 11600 | AK134: 255700 | AL134: 352000 | AM134: 0.72642045 | AN134: 0 | AO134: 32.4 | AP134: 13.5 | AQ134: 10.7 | AR134: 56.6 | AS134: 98.56 | AT134: 0.57426948 | AU134: 0
A135: MEURTHE ET MOSELLE MEUSE | B135: NANCY | C135: BLAMONT | D135: 1.2 | E135: =ROUNDUP(H135-H135*F135,0) -> 72 | F135: =IF(G135<0.8,(0.05+0.8-G135),0) -> 0.35 | G135: 0.5 | H135: =J135+J135*I135 -> 110 | I135: 0.1 | J135: 100 | K135: 0 | L135: 2 | M135: 8 | N135: 8 | O135: 7 | P135: 23 | Q135: 36 | R135: 0.63888889 | S135: 0 | T135: 11 | U135: 11 | V135: 9 | W135: =T135+U135+V135 -> 31 | X135: 18 | Y135: =W135/X135 -> 1.7222222 | Z135: 50 | AA135: 92867.95 | AB135: 6 | AC135: 0 | AD135: 92873.95 | AE135: 162000 | AF135: 0.57329599 | AG135: 0 | AH135: 92000 | AI135: 5800 | AJ135: 3200 | AK135: 101000 | AL135: 120000 | AM135: 0.84166667 | AN135: 0 | AO135: 16.2 | AP135: 9.9 | AQ135: 8.3 | AR135: 34.4 | AS135: 33.6 | AT135: 1.0238095 | AU135: 50
A136: MEURTHE ET MOSELLE MEUSE | B136: NANCY | C136: DOMBASLE SUR MEURTHE | D136: 3.45 | E136: =ROUNDUP(H136-H136*F136,0) -> 99 | F136: =IF(G136<0.8,(0.05+0.8-G136),0) -> 0.1 | G136: 0.75 | H136: =J136+J136*I136 -> 110 | I136: 0.1 | J136: 100 | K136: 0 | L136: 2 | M136: 18 | N136: 15 | O136: 13 | P136: 46 | Q136: 103.5 | R136: 0.44444444 | S136: 0 | T136: 24 | U136: 23 | V136: 18 | W136: =T136+U136+V136 -> 65 | X136: 51.75 | Y136: =W136/X136 -> 1.2560386 | Z136: 50 | AA136: 208673.13 | AB136: 60 | AC136: 0 | AD136: 208733.13 | AE136: 465750 | AF136: 0.4481656 | AG136: 0 | AH136: 393080 | AI136: 10016 | AJ136: 8016 | AK136: 411112 | AL136: 345000 | AM136: 1.191629 | AN136: 50 | AO136: 44.8 | AP136: 19.2 | AQ136: 15.1 | AR136: 79.1 | AS136: 96.6 | AT136: 0.81884058 | AU136: 0
A137: MEURTHE ET MOSELLE MEUSE | B137: NANCY | C137: ESSEY LES NANCY | D137: 3.04 | E137: =ROUNDUP(H137-H137*F137,0) -> 110 | F137: =IF(G137<0.8,(0.05+0.8-G137),0) -> 0 | G137: 1 | H137: =J137+J137*I137 -> 110 | I137: 0.1 | J137: 100 | K137: 0 | L137: 2 | M137: 15 | N137: 13 | O137: 11 | P137: 39 | Q137: 91.2 | R137: 0.42763158 | S137: 0 | T137: 5 | U137: 5 | V137: 4 | W137: =T137+U137+V137 -> 14 | X137: 45.6 | Y137: =W137/X137 -> 0.30701754 | Z137: 0 | AA137: 637497.39 | AB137: 30600 | AC137: 0 | AD137: 668097.39 | AE137: 410400 | AF137: 1.6279176 | AG137: 50 | AH137: 416550 | AI137: 23520 | AJ137: 8120 | AK137: 448190 | AL137: 304000 | AM137: 1.4743092 | AN137: 50 | AO137: 17.7 | AP137: 6.2 | AQ137: 4.6 | AR137: 28.5 | AS137: 85.12 | AT137: 0.33482143 | AU137: 0
A138: MEURTHE ET MOSELLE MEUSE | B138: NANCY | C138: JARVILLE LA MALGRANGE | D138: 2.36 | E138: =ROUNDUP(H138-H138*F138,0) -> 110 | F138: =IF(G138<0.8,(0.05+0.8-G138),0) -> 0 | G138: 1 | H138: =J138+J138*I138 -> 110 | I138: 0.1 | J138: 100 | K138: 0 | L138: 2 | M138: 8 | N138: 6 | O138: 6 | P138: 20 | Q138: 70.8 | R138: 0.28248588 | S138: 0 | T138: 11 | U138: 11 | V138: 11 | W138: =T138+U138+V138 -> 33 | X138: 35.4 | Y138: =W138/X138 -> 0.93220339 | Z138: 0 | AA138: 450020.74 | AB138: 4200 | AC138: 4200 | AD138: 458420.74 | AE138: 318600 | AF138: 1.4388598 | AG138: 50 | AH138: 323900 | AI138: 33540 | AJ138: 19540 | AK138: 376980 | AL138: 236000 | AM138: 1.5973729 | AN138: 50 | AO138: 19.7 | AP138: 10.4 | AQ138: 9.6 | AR138: 39.7 | AS138: 66.08 | AT138: 0.60078692 | AU138: 0
A139: MEURTHE ET MOSELLE MEUSE | B139: NANCY | C139: LUNEVILLE CARNOT | D139: 7.88 | E139: =ROUNDUP(H139-H139*F139,0) -> 110 | F139: =IF(G139<0.8,(0.05+0.8-G139),0) -> 0 | G139: 0.82608696 | H139: =J139+J139*I139 -> 110 | I139: 0.1 | J139: 100 | K139: 0 | L139: 2 | M139: 34 | N139: 28 | O139: 23 | P139: 85 | Q139: 236.4 | R139: 0.35956007 | S139: 0 | T139: 27 | U139: 26 | V139: 26 | W139: =T139+U139+V139 -> 79 | X139: 118.2 | Y139: =W139/X139 -> 0.66835871 | Z139: 0 | AA139: 1272439.8 | AB139: 7141.146 | AC139: 6104 | AD139: 1285685 | AE139: 1063800 | AF139: 1.2085777 | AG139: 50 | AH139: 819300 | AI139: 21640 | AJ139: 10840 | AK139: 851780 | AL139: 788000 | AM139: 1.0809391 | AN139: 50 | AO139: 70.1 | AP139: 26.5 | AQ139: 23.3 | AR139: 119.9 | AS139: 220.64 | AT139: 0.54341914 | AU139: 0
A140: MEURTHE ET MOSELLE MEUSE | B140: NANCY | C140: NANCY ARTEM | D140: 2.47 | E140: =ROUNDUP(H140-H140*F140,0) -> 9 | F140: =IF(G140<0.8,(0.05+0.8-G140),0) -> 0.85 | G140: 0 | H140: =J140+J140*I140 -> 55 | I140: 0.1 | J140: 50 | K140: 0 | L140: 1 | M140: 13 | N140: 9 | O140: 8 | P140: 30 | Q140: 74.1 | R140: 0.4048583 | S140: 0 | T140: 15 | U140: 15 | V140: 15 | W140: =T140+U140+V140 -> 45 | X140: 37.05 | Y140: =W140/X140 -> 1.2145749 | Z140: 50 | AA140: 206573.3 | AB140: 0 | AC140: 0 | AD140: 206573.3 | AE140: 333450 | AF140: 0.61950307 | AG140: 0 | AH140: 216100 | AI140: 9400 | AJ140: 9400 | AK140: 234900 | AL140: 247000 | AM140: 0.95101215 | AN140: 0 | AO140: 20.2 | AP140: 8.2 | AQ140: 5.6 | AR140: 34 | AS140: 69.16 | AT140: 0.49161365 | AU140: 0
A141: MEURTHE ET MOSELLE MEUSE | B141: NANCY | C141: NANCY PLACE DOMBASLE | D141: 9.63 | E141: =ROUNDUP(H141-H141*F141,0) -> 110 | F141: =IF(G141<0.8,(0.05+0.8-G141),0) -> 0 | G141: 0.80952381 | H141: =J141+J141*I141 -> 110 | I141: 0.1 | J141: 100 | K141: 0 | L141: 2 | M141: 69 | N141: 61 | O141: 53 | P141: 183 | Q141: 288.9 | R141: 0.63343718 | S141: 0 | T141: 35 | U141: 35 | V141: 33 | W141: =T141+U141+V141 -> 103 | X141: 144.45 | Y141: =W141/X141 -> 0.7130495 | Z141: 0 | AA141: 1206681.3 | AB141: 37030 | AC141: 13000 | AD141: 1256711.3 | AE141: 1300050 | AF141: 0.96666383 | AG141: 50 | AH141: 874490 | AI141: 76240 | AJ141: 46800 | AK141: 997530 | AL141: 963000 | AM141: 1.0358567 | AN141: 50 | AO141: 95.7 | AP141: 60.4 | AQ141: 50.6 | AR141: 206.7 | AS141: 269.64 | AT141: 0.76657766 | AU141: 0
A142: MEURTHE ET MOSELLE MEUSE | B142: NANCY | C142: NANCY POINT CENTRAL | D142: 3.17 | E142: =ROUNDUP(H142-H142*F142,0) -> 135 | F142: =IF(G142<0.8,(0.05+0.8-G142),0) -> 0.18333333 | G142: 0.66666667 | H142: =J142+J142*I142 -> 165 | I142: 0.1 | J142: 150 | K142: 0 | L142: 3 | M142: 17 | N142: 16 | O142: 16 | P142: 49 | Q142: 95.1 | R142: 0.51524711 | S142: 0 | T142: 21 | U142: 20 | V142: 20 | W142: =T142+U142+V142 -> 61 | X142: 47.55 | Y142: =W142/X142 -> 1.2828601 | Z142: 50 | AA142: 448792.69 | AB142: 15000 | AC142: 15000 | AD142: 478792.69 | AE142: 427950 | AF142: 1.1188052 | AG142: 50 | AH142: 333200 | AI142: 25500 | AJ142: 20700 | AK142: 379400 | AL142: 317000 | AM142: 1.1968454 | AN142: 50 | AO142: 32.1 | AP142: 15.4 | AQ142: 14.4 | AR142: 61.9 | AS142: 88.76 | AT142: 0.69738621 | AU142: 0
A143: MEURTHE ET MOSELLE MEUSE | B143: NANCY | C143: NANCY SAINT SEBASTIEN | D143: 5.23 | E143: =ROUNDUP(H143-H143*F143,0) -> 110 | F143: =IF(G143<0.8,(0.05+0.8-G143),0) -> 0 | G143: 0.9 | H143: =J143+J143*I143 -> 110 | I143: 0.1 | J143: 100 | K143: 0 | L143: 2 | M143: 35 | N143: 33 | O143: 31 | P143: 99 | Q143: 156.9 | R143: 0.63097514 | S143: 0 | T143: 34 | U143: 33 | V143: 30 | W143: =T143+U143+V143 -> 97 | X143: 78.45 | Y143: =W143/X143 -> 1.2364563 | Z143: 50 | AA143: 708468.66 | AB143: 20580 | AC143: 20500 | AD143: 749548.66 | AE143: 706050 | AF143: 1.0616085 | AG143: 50 | AH143: 272200 | AI143: 10500 | AJ143: 6100 | AK143: 288800 | AL143: 523000 | AM143: 0.55219885 | AN143: 0 | AO143: 46.8 | AP143: 22.1 | AQ143: 18.5 | AR143: 87.4 | AS143: 146.44 | AT143: 0.59683147 | AU143: 0
A144: MEURTHE ET MOSELLE MEUSE | B144: NANCY | C144: SAINT MAX | D144: 3.14 | E144: =ROUNDUP(H144-H144*F144,0) -> 50 | F144: =IF(G144<0.8,(0.05+0.8-G144),0) -> 0.1 | G144: 0.75 | H144: =J144+J144*I144 -> 55 | I144: 0.1 | J144: 50 | K144: 0 | L144: 1 | M144: 16 | N144: 13 | O144: 9 | P144: 38 | Q144: 94.2 | R144: 0.40339703 | S144: 0 | T144: 9 | U144: 7 | V144: 4 | W144: =T144+U144+V144 -> 20 | X144: 47.1 | Y144: =W144/X144 -> 0.42462845 | Z144: 0 | AA144: 560343.59 | AB144: 45100 | AC144: 38600 | AD144: 644043.59 | AE144: 423900 | AF144: 1.5193291 | AG144: 50 | AH144: 262900 | AI144: 12380 | AJ144: 5600 | AK144: 280880 | AL144: 314000 | AM144: 0.89452229 | AN144: 0 | AO144: 47.5 | AP144: 14.2 | AQ144: 11.6 | AR144: 73.3 | AS144: 87.92 | AT144: 0.83371247 | AU144: 0
A145: MEURTHE ET MOSELLE MEUSE | B145: NANCY | C145: SAINT NICOLAS DE PORT | D145: 2.22 | E145: =ROUNDUP(H145-H145*F145,0) -> 36 | F145: =IF(G145<0.8,(0.05+0.8-G145),0) -> 0.35 | G145: 0.5 | H145: =J145+J145*I145 -> 55 | I145: 0.1 | J145: 50 | K145: 0 | L145: 1 | M145: 10 | N145: 8 | O145: 5 | P145: 23 | Q145: 66.6 | R145: 0.34534535 | S145: 0 | T145: 17 | U145: 17 | V145: 12 | W145: =T145+U145+V145 -> 46 | X145: 33.3 | Y145: =W145/X145 -> 1.3813814 | Z145: 50 | AA145: 180494.64 | AB145: 21734 | AC145: 21734 | AD145: 223962.64 | AE145: 299700 | AF145: 0.74728942 | AG145: 0 | AH145: 129200 | AI145: 18800 | AJ145: 13600 | AK145: 161600 | AL145: 222000 | AM145: 0.72792793 | AN145: 0 | AO145: 20.3 | AP145: 12.9 | AQ145: 8.5 | AR145: 41.7 | AS145: 62.16 | AT145: 0.67084942 | AU145: 0
... A157: MEURTHE ET MOSELLE MEUSE | B157: PONT A MOUSSON | C157: LUDRES | D157: 3.44 | E157: =ROUNDUP(H157-H157*F157,0) -> 48 | F157: =IF(G157<0.8,(0.05+0.8-G157),0) -> 0.13571429 | G157: 0.71428571 | H157: =J157+J157*I157 -> 55 | I157: 0.1 | J157: 50 | K157: 0 | L157: 1 | M157: 27 | N157: 24 | O157: 21 | P157: 72 | Q157: 103.2 | R157: 0.69767442 | S157: 0 | T157: 29 | U157: 27 | V157: 22 | W157: =T157+U157+V157 -> 78 | X157: 51.6 | Y157: =W157/X157 -> 1.5116279 | Z157: 50 | AA157: 122278.21 | AB157: 3700 | AC157: 2100 | AD157: 128078.21 | AE157: 464400 | AF157: 0.27579287 | AG157: 0 | AH157: 182628 | AI157: 6700 | AJ157: 6700 | AK157: 196028 | AL157: 344000 | AM157: 0.56984884 | AN157: 0 | AO157: 19.7 | AP157: 6.8 | AQ157: 5.8 | AR157: 32.3 | AS157: 96.32 | AT157: 0.33534053 | AU157: 0
A158: MEURTHE ET MOSELLE MEUSE | B158: PONT A MOUSSON | C158: NANCY TROIS MAISONS | D158: 2.72 | E158: =ROUNDUP(H158-H158*F158,0) -> 0 | F158: =IF(G158<0.8,(0.05+0.8-G158),0) -> 0 | G158: 1 | J158: 0 | K158: 0 | L158: 0 | M158: 12 | N158: 7 | O158: 5 | P158: 24 | Q158: 81.6 | R158: 0.29411765 | S158: 0 | T158: 3 | U158: 2 | V158: 2 | W158: =T158+U158+V158 -> 7 | X158: 40.8 | Y158: =W158/X158 -> 0.17156863 | Z158: 0 | AA158: 140615.31 | AB158: 2220 | AC158: 600 | AD158: 143435.31 | AE158: 367200 | AF158: 0.39061904 | AG158: 0 | AH158: 88000 | AI158: 9600 | AJ158: 6000 | AK158: 103600 | AL158: 272000 | AM158: 0.38088235 | AN158: 0 | AO158: 20.5 | AP158: 9.3 | AQ158: 4.5 | AR158: 34.3 | AS158: 76.16 | AT158: 0.45036765 | AU158: 0
A159: MEURTHE ET MOSELLE MEUSE | B159: PONT A MOUSSON | C159: PAGNY SUR MOSELLE | D159: 2.49 | E159: =ROUNDUP(H159-H159*F159,0) -> 110 | F159: =IF(G159<0.8,(0.05+0.8-G159),0) -> 0 | G159: 1 | H159: =J159+J159*I159 -> 110 | I159: 0.1 | J159: 100 | K159: 0 | L159: 2 | M159: 12 | N159: 10 | O159: 7 | P159: 29 | Q159: 74.7 | R159: 0.38821954 | S159: 0 | T159: 19 | U159: 18 | V159: 12 | W159: =T159+U159+V159 -> 49 | X159: 37.35 | Y159: =W159/X159 -> 1.3119143 | Z159: 50 | AA159: 351764.81 | AB159: 652 | AC159: 60 | AD159: 352476.81 | AE159: 336150 | AF159: 1.04857 | AG159: 50 | AH159: 142941 | AI159: 4000 | AJ159: 4000 | AK159: 150941 | AL159: 249000 | AM159: 0.60618876 | AN159: 0 | AO159: 28.2 | AP159: 11.8 | AQ159: 9.1 | AR159: 49.1 | AS159: 69.72 | AT159: 0.70424555 | AU159: 0
A160: MEURTHE ET MOSELLE MEUSE | B160: PONT A MOUSSON | C160: POMPEY | D160: 2.46 | E160: =ROUNDUP(H160-H160*F160,0) -> 275 | F160: =IF(G160<0.8,(0.05+0.8-G160),0) -> 0 | G160: 0.83333333 | H160: =J160+J160*I160 -> 275 | I160: 0.1 | J160: 250 | K160: 50 | L160: 4 | M160: 17 | N160: 12 | O160: 12 | P160: 41 | Q160: 73.8 | R160: 0.55555556 | S160: 0 | T160: 21 | U160: 18 | V160: 17 | W160: =T160+U160+V160 -> 56 | X160: 36.9 | Y160: =W160/X160 -> 1.5176152 | Z160: 50 | AA160: 715873.1 | AB160: 17000 | AC160: 4100 | AD160: 736973.1 | AE160: 332100 | AF160: 2.2191301 | AG160: 50 | AH160: 292000 | AI160: 4100 | AJ160: 3000 | AK160: 299100 | AL160: 246000 | AM160: 1.2158537 | AN160: 50 | AO160: 46.5 | AP160: 29.2 | AQ160: 24 | AR160: 99.7 | AS160: 68.88 | AT160: 1.4474448 | AU160: 50
A161: MEURTHE ET MOSELLE MEUSE | B161: PONT A MOUSSON | C161: PONT A MOUSSON BREUIL | D161: 2.08 | E161: =ROUNDUP(H161-H161*F161,0) -> 27 | F161: =IF(G161<0.8,(0.05+0.8-G161),0) -> 0.51666667 | G161: 0.33333333 | H161: =J161+J161*I161 -> 55 | I161: 0.1 | J161: 50 | K161: 0 | L161: 1 | M161: 15 | N161: 12 | O161: 11 | P161: 38 | Q161: 62.4 | R161: 0.60897436 | S161: 0 | T161: 8 | U161: 7 | V161: 4 | W161: =T161+U161+V161 -> 19 | X161: 31.2 | Y161: =W161/X161 -> 0.60897436 | Z161: 0 | AA161: 361504.07 | AB161: 10000 | AC161: 10000 | AD161: 381504.07 | AE161: 280800 | AF161: 1.3586327 | AG161: 50 | AH161: 129750 | AI161: 9550 | AJ161: 7450 | AK161: 146750 | AL161: 208000 | AM161: 0.70552885 | AN161: 0 | AO161: 14.5 | AP161: 5.2 | AQ161: 5.2 | AR161: 24.9 | AS161: 58.24 | AT161: 0.42754121 | AU161: 0
...

Sheet TERRITOIRES
A1: REGION | B1: TERRITOIRE | C1: ETP | D1: Gains après réfactions Risques et Conformité | G1: Gains potentiels avant résultats contrôles Risques et Conformité | L1: BANCARISATION | S1: CONQUETE 0-16 ANS | Z1: EPARGNE PLACEMENT | AG1: CREDITS | AN1: ASSURANCE & PREVOYANCE
L2: Formules hors transformation | S2: VB de Livrets, assurance vie et PEL sur 0-15 ans | Z2: Chiffre d'Affaires Assurance Vie | AG2: Engagements Conso (hors crédit projet) | AN2: VB Auto, 2 roues, MRH, Santé, GAV, Sécur Famille (0.8) & PJ (0.3)
D3: Gains après réfactions Risques et Conformité | E3: Taux réfactions | F3: Taux de conformité | G3: Gains potentiels par ETP avec bonus synergie (avant réfactions Conformité) | H3: Bonus Synergie | I3: Gains pot. par ETP | J3: Bonus excellence | K3: Nb Objectifs atteints | L3: Ventes Brutes | M3: Bonus univers absent | N3: Bonus client "ne" | O3: Total VB + bonus | P3: Objectif | Q3: Taux d'att. | R3: Gains | S3: Ventes Brutes | T3: Bonus univers absent | U3: Bonus client "ne" | V3: Total VB + bonus | W3: Objectif | X3: Taux d'att. | Y3: Gains | Z3: Chiffre d'Affaires | AA3: Bonus univers absent | AB3: Bonus client "ne" | AC3: Total CA + bonus | AD3: Objectif | AE3: Taux d'att. | AF3: Gains | AG3: Engagem. | AH3: Bonus univers absent | AI3: Bonus client "ne" | AJ3: Total Engagem. + bonus | AK3: Objectif | AL3: Taux d'att. | AM3: Gains | AN3: Ventes Brutes | AO3: Bonus univers absent | AP3: Bonus client "ne" | AQ3: Total VB + bonus | AR3: Objectif | AS3: Taux d'att. | AT3: Gains
A4: AUBE HAUTE MARNE | B4: CHAUMONT | C4: 33.5 | D4: =ROUNDUP(G4-G4*E4,0) -> 300 | E4: =IF(F4<0.8,(0.05+0.8-F4),0) -> 0 | F4: 0.92682927 | G4: =I4+I4*H4 -> 300 | H4: 0.2 | I4: 250 | J4: 50 | K4: 4 | L4: 217 | M4: 162 | N4: 129 | O4: 508 | P4: 1005 | Q4: 0.50547264 | R4: 0 | S4: =SUMIF(AGENCES!$B$4:$B$256,TERRITOIRES!$B4,AGENCES!T$4:T$257) -> 229 | T4: =SUMIF(AGENCES!$B$4:$B$256,TERRITOIRES!$B4,AGENCES!U$4:U$257) -> 213 | U4: =SUMIF(AGENCES!$B$4:$B$256,TERRITOIRES!$B4,AGENCES!V$4:V$257) -> 184 | V4: =SUMIF(AGENCES!$B$4:$B$256,TERRITOIRES!$B4,AGENCES!W$4:W$257) -> 626 | W4: 502.5 | X4: =+V4/W4 -> 1.2457711 | Y4: 50 | Z4: =SUMIF(AGENCES!$B$4:$B$256,TERRITOIRES!$B4,AGENCES!AA$4:AA$257) -> 5398026.8 | AA4: =SUMIF(AGENCES!$B$4:$B$256,TERRITOIRES!$B4,AGENCES!AB$4:AB$257) -> 59067 | AB4: =SUMIF(AGENCES!$B$4:$B$256,TERRITOIRES!$B4,AGENCES!AC$4:AC$257) -> 33915 | AC4: =SUMIF(AGENCES!$B$4:$B$256,TERRITOIRES!$B4,AGENCES!AD$4:AD$257) -> 5491008.8 | AD4: 4522500 | AE4: 1.2141534 | AF4: 50 | AG4: =SUMIF(AGENCES!$B$4:$B$256,TERRITOIRES!$B4,AGENCES!AH$4:AH$257) -> 3874611 | AH4: =SUMIF(AGENCES!$B$4:$B$256,TERRITOIRES!$B4,AGENCES!AI$4:AI$257) -> 184690.2 | AI4: =SUMIF(AGENCES!$B$4:$B$256,TERRITOIRES!$B4,AGENCES!AJ$4:AJ$257) -> 90160.2 | AJ4: =SUMIF(AGENCES!$B$4:$B$256,TERRITOIRES!$B4,AGENCES!AK$4:AK$257) -> 4149461.4 | AK4: 3350000 | AL4: 1.2386452 | AM4: 50 | AN4: =SUMIF(AGENCES!$B$4:$B$256,TERRITOIRES!$B4,AGENCES!AO$4:AO$257) -> 529.9 | AO4: =SUMIF(AGENCES!$B$4:$B$256,TERRITOIRES!$B4,AGENCES!AP$4:AP$257) -> 228.7 | AP4: =SUMIF(AGENCES!$B$4:$B$256,TERRITOIRES!$B4,AGENCES!AQ$4:AQ$257) -> 165.5 | AQ4: =SUMIF(AGENCES!$B$4:$B$256,TERRITOIRES!$B4,AGENCES!AR$4:AR$257) -> 924.1 | AR4: 938 | AS4: 0.98518124 | AT4: 50
A5: AUBE HAUTE MARNE | B5: TROYES | C5: 58.84 | D5: =ROUNDUP(G5-G5*E5,0) -> 120 | E5: =IF(F5<0.8,(0.05+0.8-F5),0) -> 0 | F5: 0.9037037 | G5: =I5+I5*H5 -> 120 | H5: 0.2 | I5: 100 | J5: 0 | K5: 2 | L5: 258 | M5: 215 | N5: 187 | O5: 660 | P5: 1765.2 | Q5: 0.37389531 | R5: 0 | S5: =SUMIF(AGENCES!$B$4:$B$256,TERRITOIRES!$B5,AGENCES!T$4:T$257) -> 392 | T5: =SUMIF(AGENCES!$B$4:$B$256,TERRITOIRES!$B5,AGENCES!U$4:U$257) -> 379 | U5: =SUMIF(AGENCES!$B$4:$B$256,TERRITOIRES!$B5,AGENCES!V$4:V$257) -> 347 | V5: =SUMIF(AGENCES!$B$4:$B$256,TERRITOIRES!$B5,AGENCES!W$4:W$257) -> 1118 | W5: 882.6 | X5: =+V5/W5 -> 1.266712 | Y5: 50 | Z5: =SUMIF(AGENCES!$B$4:$B$256,TERRITOIRES!$B5,AGENCES!AA$4:AA$257) -> 7119666.7 | AA5: =SUMIF(AGENCES!$B$4:$B$256,TERRITOIRES!$B5,AGENCES!AB$4:AB$257) -> 136239 | AB5: =SUMIF(AGENCES!$B$4:$B$256,TERRITOIRES!$B5,AGENCES!AC$4:AC$257) -> 79079 | AC5: =SUMIF(AGENCES!$B$4:$B$256,TERRITOIRES!$B5,AGENCES!AD$4:AD$257) -> 7334984.7 | AD5: 7943400 | AE5: 0.92340619 | AF5: 0 | AG5: =SUMIF(AGENCES!$B$4:$B$256,TERRITOIRES!$B5,AGENCES!AH$4:AH$257) -> 7148188 | AH5: =SUMIF(AGENCES!$B$4:$B$256,TERRITOIRES!$B5,AGENCES!AI$4:AI$257) -> 324281 | AI5: =SUMIF(AGENCES!$B$4:$B$256,TERRITOIRES!$B5,AGENCES!AJ$4:AJ$257) -> 231131 | AJ5: =SUMIF(AGENCES!$B$4:$B$256,TERRITOIRES!$B5,AGENCES!AK$4:AK$257) -> 7703600 | AK5: 5884000 | AL5: 1.3092454 | AM5: 50 | AN5: =SUMIF(AGENCES!$B$4:$B$256,TERRITOIRES!$B5,AGENCES!AO$4:AO$257) -> 587.3 | AO5: =SUMIF(AGENCES!$B$4:$B$256,TERRITOIRES!$B5,AGENCES!AP$4:AP$257) -> 275 | AP5: =SUMIF(AGENCES!$B$4:$B$256,TERRITOIRES!$B5,AGENCES!AQ$4:AQ$257) -> 192.4 | AQ5: =SUMIF(AGENCES!$B$4:$B$256,TERRITOIRES!$B5,AGENCES!AR$4:AR$257) -> 1054.7 | AR5: 1647.52 | AS5: 0.64017432 | AT5: 0
A6: BAS RHIN | B6: HAGUENAU | C6: 56.57 | D6: =ROUNDUP(G6-G6*E6,0) -> 165 | E6: =IF(F6<0.8,(0.05+0.8-F6),0) -> 0 | F6: 0.92253521 | G6: =I6+I6*H6 -> 165 | H6: 0.1 | I6: 150 | J6: 0 | K6: 3 | L6: 290 | M6: 197 | N6: 159 | O6: 646 | P6: 1697.1 | Q6: 0.38064934 | R6: 0 | S6: =SUMIF(AGENCES!$B$4:$B$256,TERRITOIRES!$B6,AGENCES!T$4:T$257) -> 406 | T6: =SUMIF(AGENCES!$B$4:$B$256,TERRITOIRES!$B6,AGENCES!U$4:U$257) -> 375 | U6: =SUMIF(AGENCES!$B$4:$B$256,TERRITOIRES!$B6,AGENCES!V$4:V$257) -> 276 | V6: =SUMIF(AGENCES!$B$4:$B$256,TERRITOIRES!$B6,AGENCES!W$4:W$257) -> 1057 | W6: 848.55 | X6: =+V6/W6 -> 1.2456544 | Y6: 50 | Z6: =SUMIF(AGENCES!$B$4:$B$256,TERRITOIRES!$B6,AGENCES!AA$4:AA$257) -> 8627403.6 | AA6: =SUMIF(AGENCES!$B$4:$B$256,TERRITOIRES!$B6,AGENCES!AB$4:AB$257) -> 169069 | AB6: =SUMIF(AGENCES!$B$4:$B$256,TERRITOIRES!$B6,AGENCES!AC$4:AC$257) -> 145787 | AC6: =SUMIF(AGENCES!$B$4:$B$256,TERRITOIRES!$B6,AGENCES!AD$4:AD$257) -> 8942259.6 | AD6: 7636950 | AE6: 1.1709203 | AF6: 50 | AG6: =SUMIF(AGENCES!$B$4:$B$256,TERRITOIRES!$B6,AGENCES!AH$4:AH$257) -> 6150237 | AH6: =SUMIF(AGENCES!$B$4:$B$256,TERRITOIRES!$B6,AGENCES!AI$4:AI$257) -> 267560 | AI6: =SUMIF(AGENCES!$B$4:$B$256,TERRITOIRES!$B6,AGENCES!AJ$4:AJ$257) -> 163660 | AJ6: =SUMIF(AGENCES!$B$4:$B$256,TERRITOIRES!$B6,AGENCES!AK$4:AK$257) -> 6581457 | AK6: 5657000 | AL6: 1.1634182 | AM6: 50 | AN6: =SUMIF(AGENCES!$B$4:$B$256,TERRITOIRES!$B6,AGENCES!AO$4:AO$257) -> 602.2 | AO6: =SUMIF(AGENCES!$B$4:$B$256,TERRITOIRES!$B6,AGENCES!AP$4:AP$257) -> 207.1 | AP6: =SUMIF(AGENCES!$B$4:$B$256,TERRITOIRES!$B6,AGENCES!AQ$4:AQ$257) -> 153.9 | AQ6: =SUMIF(AGENCES!$B$4:$B$256,TERRITOIRES!$B6,AGENCES!AR$4:AR$257) -> 963.2 | AR6: 1583.96 | AS6: 0.60809616 | AT6: 0
A7: BAS RHIN | B7: SELESTAT | C7: 52.12 | D7: =ROUNDUP(G7-G7*E7,0) -> 165 | E7: =IF(F7<0.8,(0.05+0.8-F7),0) -> 0 | F7: 0.8803 | G7: =I7+I7*H7 -> 165 | H7: 0.1 | I7: 150 | J7: 0 | K7: 3 | L7: 208 | M7: 146 | N7: 102 | O7: 456 | P7: 1563.6 | Q7: 0.29163469 | R7: 0 | S7: =SUMIF(AGENCES!$B$4:$B$256,TERRITOIRES!$B7,AGENCES!T$4:T$257) -> 308 | T7: =SUMIF(AGENCES!$B$4:$B$256,TERRITOIRES!$B7,AGENCES!U$4:U$257) -> 270 | U7: =SUMIF(AGENCES!$B$4:$B$256,TERRITOIRES!$B7,AGENCES!V$4:V$257) -> 220 | V7: =SUMIF(AGENCES!$B$4:$B$256,TERRITOIRES!$B7,AGENCES!W$4:W$257) -> 798 | W7: 781.8 | X7: =+V7/W7 -> 1.0207214 | Y7: 50 | Z7: =SUMIF(AGENCES!$B$4:$B$256,TERRITOIRES!$B7,AGENCES!AA$4:AA$257) -> 7586747.3 | AA7: =SUMIF(AGENCES!$B$4:$B$256,TERRITOIRES!$B7,AGENCES!AB$4:AB$257) -> 72944.588 | AB7: =SUMIF(AGENCES!$B$4:$B$256,TERRITOIRES!$B7,AGENCES!AC$4:AC$257) -> 53816.588 | AC7: =SUMIF(AGENCES!$B$4:$B$256,TERRITOIRES!$B7,AGENCES!AD$4:AD$257) -> 7713508.5 | AD7: 7036200 | AE7: 1.0962606 | AF7: 50 | AG7: =SUMIF(AGENCES!$B$4:$B$256,TERRITOIRES!$B7,AGENCES!AH$4:AH$257) -> 5858817 | AH7: =SUMIF(AGENCES!$B$4:$B$256,TERRITOIRES!$B7,AGENCES!AI$4:AI$257) -> 288939.2 | AI7: =SUMIF(AGENCES!$B$4:$B$256,TERRITOIRES!$B7,AGENCES!AJ$4:AJ$257) -> 87768 | AJ7: =SUMIF(AGENCES!$B$4:$B$256,TERRITOIRES!$B7,AGENCES!AK$4:AK$257) -> 6235524.2 | AK7: 5212000 | AL7: 1.1963784 | AM7: 50 | AN7: =SUMIF(AGENCES!$B$4:$B$256,TERRITOIRES!$B7,AGENCES!AO$4:AO$257) -> 597 | AO7: =SUMIF(AGENCES!$B$4:$B$256,TERRITOIRES!$B7,AGENCES!AP$4:AP$257) -> 179 | AP7: =SUMIF(AGENCES!$B$4:$B$256,TERRITOIRES!$B7,AGENCES!AQ$4:AQ$257) -> 117.8 | AQ7: =SUMIF(AGENCES!$B$4:$B$256,TERRITOIRES!$B7,AGENCES!AR$4:AR$257) -> 893.8 | AR7: 1459.36 | AS7: 0.61246026 | AT7: 0
A8: BAS RHIN | B8: STRASBOURG | C8: 65.86 | D8: =ROUNDUP(G8-G8*E8,0) -> 165 | E8: =IF(F8<0.8,(0.05+0.8-F8),0) -> 0 | F8: 0.91891892 | G8: =I8+I8*H8 -> 165 | H8: 0.1 | I8: 150 | J8: 0 | K8: 3 | L8: 622 | M8: 507 | N8: 410 | O8: 1539 | P8: 1975.8 | Q8: 0.77892499 | R8: 0 | S8: =SUMIF(AGENCES!$B$4:$B$256,TERRITOIRES!$B8,AGENCES!T$4:T$257) -> 512 | T8: =SUMIF(AGENCES!$B$4:$B$256,TERRITOIRES!$B8,AGENCES!U$4:U$257) -> 471 | U8: =SUMIF(AGENCES!$B$4:$B$256,TERRITOIRES!$B8,AGENCES!V$4:V$257) -> 380 | V8: =SUMIF(AGENCES!$B$4:$B$256,TERRITOIRES!$B8,AGENCES!W$4:W$257) -> 1363 | W8: 987.9 | X8: =+V8/W8 -> 1.3796943 | Y8: 50 | Z8: =SUMIF(AGENCES!$B$4:$B$256,TERRITOIRES!$B8,AGENCES!AA$4:AA$257) -> 12950822 | AA8: =SUMIF(AGENCES!$B$4:$B$256,TERRITOIRES!$B8,AGENCES!AB$4:AB$257) -> 437122.12 | AB8: =SUMIF(AGENCES!$B$4:$B$256,TERRITOIRES!$B8,AGENCES!AC$4:AC$257) -> 338400 | AC8: =SUMIF(AGENCES!$B$4:$B$256,TERRITOIRES!$B8,AGENCES!AD$4:AD$257) -> 13726344 | AD8: 8891100 | AE8: 1.4918295 | AF8: 50 | AG8: =SUMIF(AGENCES!$B$4:$B$256,TERRITOIRES!$B8,AGENCES!AH$4:AH$257) -> 7156618.3 | AH8: =SUMIF(AGENCES!$B$4:$B$256,TERRITOIRES!$B8,AGENCES!AI$4:AI$257) -> 410071.64 | AI8: =SUMIF(AGENCES!$B$4:$B$256,TERRITOIRES!$B8,AGENCES!AJ$4:AJ$257) -> 248531.64 | AJ8: =SUMIF(AGENCES!$B$4:$B$256,TERRITOIRES!$B8,AGENCES!AK$4:AK$257) -> 7815221.5 | AK8: 6586000 | AL8: 1.1773892 | AM8: 50 | AN8: =SUMIF(AGENCES!$B$4:$B$256,TERRITOIRES!$B8,AGENCES!AO$4:AO$257) -> 843.7 | AO8: =SUMIF(AGENCES!$B$4:$B$256,TERRITOIRES!$B8,AGENCES!AP$4:AP$257) -> 426.9 | AP8: =SUMIF(AGENCES!$B$4:$B$256,TERRITOIRES!$B8,AGENCES!AQ$4:AQ$257) -> 343.7 | AQ8: =SUMIF(AGENCES!$B$4:$B$256,TERRITOIRES!$B8,AGENCES!AR$4:AR$257) -> 1614.3 | AR8: 1844.08 | AS8: 0.87539586 | AT8: 0
A9: HAUT RHIN | B9: COLMAR | C9: 48.23 | D9: =ROUNDUP(G9-G9*E9,0) -> 165 | E9: =IF(F9<0.8,(0.05+0.8-F9),0) -> 0 | F9: 0.92 | G9: =I9+I9*H9 -> 165 | H9: 0.1 | I9: 150 | J9: 0 | K9: 3 | L9: 295 | M9: 212 | N9: 162 | O9: 669 | P9: 1446.9 | Q9: 0.46236782 | R9: 0 | S9: =SUMIF(AGENCES!$B$4:$B$256,TERRITOIRES!$B9,AGENCES!T$4:T$257) -> 341 | T9: =SUMIF(AGENCES!$B$4:$B$256,TERRITOIRES!$B9,AGENCES!U$4:U$257) -> 318 | U9: =SUMIF(AGENCES!$B$4:$B$256,TERRITOIRES!$B9,AGENCES!V$4:V$257) -> 267 | V9: =SUMIF(AGENCES!$B$4:$B$256,TERRITOIRES!$B9,AGENCES!W$4:W$257) -> 926 | W9: 723.45 | X9: =+V9/W9 -> 1.2799779 | Y9: 50 | Z9: =SUMIF(AGENCES!$B$4:$B$256,TERRITOIRES!$B9,AGENCES!AA$4:AA$257) -> 7798926.1 | AA9: =SUMIF(AGENCES!$B$4:$B$256,TERRITOIRES!$B9,AGENCES!AB$4:AB$257) -> 144803.01 | AB9: =SUMIF(AGENCES!$B$4:$B$256,TERRITOIRES!$B9,AGENCES!AC$4:AC$257) -> 117269 | AC9: =SUMIF(AGENCES!$B$4:$B$256,TERRITOIRES!$B9,AGENCES!AD$4:AD$257) -> 8060998.2 | AD9: 6511050 | AE9: 1.2380489 | AF9: 50 | AG9: =SUMIF(AGENCES!$B$4:$B$256,TERRITOIRES!$B9,AGENCES!AH$4:AH$257) -> 5050187 | AH9: =SUMIF(AGENCES!$B$4:$B$256,TERRITOIRES!$B9,AGENCES!AI$4:AI$257) -> 296900 | AI9: =SUMIF(AGENCES!$B$4:$B$256,TERRITOIRES!$B9,AGENCES!AJ$4:AJ$257) -> 178620 | AJ9: =SUMIF(AGENCES!$B$4:$B$256,TERRITOIRES!$B9,AGENCES!AK$4:AK$257) -> 5525707 | AK9: 4823000 | AL9: 1.1456991 | AM9: 50 | AN9: =SUMIF(AGENCES!$B$4:$B$256,TERRITOIRES!$B9,AGENCES!AO$4:AO$257) -> 461.9 | AO9: =SUMIF(AGENCES!$B$4:$B$256,TERRITOIRES!$B9,AGENCES!AP$4:AP$257) -> 200.6 | AP9: =SUMIF(AGENCES!$B$4:$B$256,TERRITOIRES!$B9,AGENCES!AQ$4:AQ$257) -> 129.9 | AQ9: =SUMIF(AGENCES!$B$4:$B$256,TERRITOIRES!$B9,AGENCES!AR$4:AR$257) -> 792.4 | AR9: 1350.44 | AS9: 0.58677172 | AT9: 0
A10: HAUT RHIN | B10: MULHOUSE | C10: 51.07 | D10: =ROUNDUP(G10-G10*E10,0) -> 165 | E10: =IF(F10<0.8,(0.05+0.8-F10),0) -> 0 | F10: 0.89830508 | G10: =I10+I10*H10 -> 165 | H10: 0.1 | I10: 150 | J10: 0 | K10: 3 | L10: 373 | M10: 293 | N10: 222 | O10: 888 | P10: 1532.1 | Q10: 0.57959663 | R10: 0 | S10: =SUMIF(AGENCES!$B$4:$B$256,TERRITOIRES!$B10,AGENCES!T$4:T$257) -> 403 | T10: =SUMIF(AGENCES!$B$4:$B$256,TERRITOIRES!$B10,AGENCES!U$4:U$257) -> 352 | U10: =SUMIF(AGENCES!$B$4:$B$256,TERRITOIRES!$B10,AGENCES!V$4:V$257) -> 300 | V10: =SUMIF(AGENCES!$B$4:$B$256,TERRITOIRES!$B10,AGENCES!W$4:W$257) -> 1055 | W10: 766.05 | X10: =+V10/W10 -> 1.3771947 | Y10: 50 | Z10: =SUMIF(AGENCES!$B$4:$B$256,TERRITOIRES!$B10,AGENCES!AA$4:AA$257) -> 7399261 | AA10: =SUMIF(AGENCES!$B$4:$B$256,TERRITOIRES!$B10,AGENCES!AB$4:AB$257) -> 229796 | AB10: =SUMIF(AGENCES!$B$4:$B$256,TERRITOIRES!$B10,AGENCES!AC$4:AC$257) -> 145298 | AC10: =SUMIF(AGENCES!$B$4:$B$256,TERRITOIRES!$B10,AGENCES!AD$4:AD$257) -> 7774355 | AD10: 6894450 | AE10: 1.1276251 | AF10: 50 | AG10: =SUMIF(AGENCES!$B$4:$B$256,TERRITOIRES!$B10,AGENCES!AH$4:AH$257) -> 5949698.3 | AH10: =SUMIF(AGENCES!$B$4:$B$256,TERRITOIRES!$B10,AGENCES!AI$4:AI$257) -> 254864.35 | AI10: =SUMIF(AGENCES!$B$4:$B$256,TERRITOIRES!$B10,AGENCES!AJ$4:AJ$257) -> 200264.35 | AJ10: =SUMIF(AGENCES!$B$4:$B$256,TERRITOIRES!$B10,AGENCES!AK$4:AK$257) -> 6404827.1 | AK10: 5107000 | AL10: 1.2541271 | AM10: 50 | AN10: =SUMIF(AGENCES!$B$4:$B$256,TERRITOIRES!$B10,AGENCES!AO$4:AO$257) -> 357 | AO10: =SUMIF(AGENCES!$B$4:$B$256,TERRITOIRES!$B10,AGENCES!AP$4:AP$257) -> 153.4 | AP10: =SUMIF(AGENCES!$B$4:$B$256,TERRITOIRES!$B10,AGENCES!AQ$4:AQ$257) -> 119.2 | AQ10: =SUMIF(AGENCES!$B$4:$B$256,TERRITOIRES!$B10,AGENCES!AR$4:AR$257) -> 629.6 | AR10: 1429.96 | AS10: 0.44029204 | AT10: 0
A11: MARNE ARDENNES | B11: CHALONS EN CHAMPAGNE | C11: 35.58 | D11: =ROUNDUP(G11-G11*E11,0) -> 110 | E11: =IF(F11<0.8,(0.05+0.8-F11),0) -> 0 | F11: 0.86170213 | G11: =I11+I11*H11 -> 110 | H11: 0.1 | I11: 100 | J11: 0 | K11: 2 | L11: 247 | M11: 193 | N11: 163 | O11: 603 | P11: 1067.4 | Q11: 0.56492411 | R11: 0 | S11: =SUMIF(AGENCES!$B$4:$B$256,TERRITOIRES!$B11,AGENCES!T$4:T$257) -> 187 | T11: =SUMIF(AGENCES!$B$4:$B$256,TERRITOIRES!$B11,AGENCES!U$4:U$257) -> 159 | U11: =SUMIF(AGENCES!$B$4:$B$256,TERRITOIRES!$B11,AGENCES!V$4:V$257) -> 130 | V11: =SUMIF(AGENCES!$B$4:$B$256,TERRITOIRES!$B11,AGENCES!W$4:W$257) -> 476 | W11: 533.7 | X11: =+V11/W11 -> 0.89188683 | Y11: 0 | Z11: =SUMIF(AGENCES!$B$4:$B$256,TERRITOIRES!$B11,AGENCES!AA$4:AA$257) -> 5619264.1 | AA11: =SUMIF(AGENCES!$B$4:$B$256,TERRITOIRES!$B11,AGENCES!AB$4:AB$257) -> 93826.838 | AB11: =SUMIF(AGENCES!$B$4:$B$256,TERRITOIRES!$B11,AGENCES!AC$4:AC$257) -> 57321.838 | AC11: =SUMIF(AGENCES!$B$4:$B$256,TERRITOIRES!$B11,AGENCES!AD$4:AD$257) -> 5770412.8 | AD11: 4803300 | AE11: 1.2013434 | AF11: 50 | AG11: =SUMIF(AGENCES!$B$4:$B$256,TERRITOIRES!$B11,AGENCES!AH$4:AH$257) -> 4189980 | AH11: =SUMIF(AGENCES!$B$4:$B$256,TERRITOIRES!$B11,AGENCES!AI$4:AI$257) -> 197794 | AI11: =SUMIF(AGENCES!$B$4:$B$256,TERRITOIRES!$B11,AGENCES!AJ$4:AJ$257) -> 125800 | AJ11: =SUMIF(AGENCES!$B$4:$B$256,TERRITOIRES!$B11,AGENCES!AK$4:AK$257) -> 4513574 | AK11: 3558000 | AL11: 1.2685705 | AM11: 50 | AN11: =SUMIF(AGENCES!$B$4:$B$256,TERRITOIRES!$B11,AGENCES!AO$4:AO$257) -> 338.6 | AO11: =SUMIF(AGENCES!$B$4:$B$256,TERRITOIRES!$B11,AGENCES!AP$4:AP$257) -> 165 | AP11: =SUMIF(AGENCES!$B$4:$B$256,TERRITOIRES!$B11,AGENCES!AQ$4:AQ$257) -> 126.9 | AQ11: =SUMIF(AGENCES!$B$4:$B$256,TERRITOIRES!$B11,AGENCES!AR$4:AR$257) -> 630.5 | AR11: 996.24 | AS11: 0.63287963 | AT11: 0
A12: MARNE ARDENNES | B12: CHARLEVILLE MEZIERES | C12: 49.71 | D12: =ROUNDUP(G12-G12*E12,0) -> 110 | E12: =IF(F12<0.8,(0.05+0.8-F12),0) -> 0 | F12: 0.88392857 | G12: =I12+I12*H12 -> 110 | H12: 0.1 | I12: 100 | J12: 0 | K12: 2 | L12: 355 | M12: 279 | N12: 233 | O12: 867 | P12: 1491.3 | Q12: 0.58137196 | R12: 0 | S12: =SUMIF(AGENCES!$B$4:$B$256,TERRITOIRES!$B12,AGENCES!T$4:T$257) -> 289 | T12: =SUMIF(AGENCES!$B$4:$B$256,TERRITOIRES!$B12,AGENCES!U$4:U$257) -> 263 | U12: =SUMIF(AGENCES!$B$4:$B$256,TERRITOIRES!$B12,AGENCES!V$4:V$257) -> 235 | V12: =SUMIF(AGENCES!$B$4:$B$256,TERRITOIRES!$B12,AGENCES!W$4:W$257) -> 787 | W12: 745.65 | X12: =+V12/W12 -> 1.055455 | Y12: 50 | Z12: =SUMIF(AGENCES!$B$4:$B$256,TERRITOIRES!$B12,AGENCES!AA$4:AA$257) -> 6212720 | AA12: =SUMIF(AGENCES!$B$4:$B$256,TERRITOIRES!$B12,AGENCES!AB$4:AB$257) -> 57359.332 | AB12: =SUMIF(AGENCES!$B$4:$B$256,TERRITOIRES!$B12,AGENCES!AC$4:AC$257) -> 29456.332 | AC12: =SUMIF(AGENCES!$B$4:$B$256,TERRITOIRES!$B12,AGENCES!AD$4:AD$257) -> 6299535.7 | AD12: 6710850 | AE12: 0.93870905 | AF12: 0 | AG12: =SUMIF(AGENCES!$B$4:$B$256,TERRITOIRES!$B12,AGENCES!AH$4:AH$257) -> 5397484 | AH12: =SUMIF(AGENCES!$B$4:$B$256,TERRITOIRES!$B12,AGENCES!AI$4:AI$257) -> 288461.8 | AI12: =SUMIF(AGENCES!$B$4:$B$256,TERRITOIRES!$B12,AGENCES!AJ$4:AJ$257) -> 174781.8 | AJ12: =SUMIF(AGENCES!$B$4:$B$256,TERRITOIRES!$B12,AGENCES!AK$4:AK$257) -> 5860727.6 | AK12: 4971000 | AL12: 1.1789836 | AM12: 50 | AN12: =SUMIF(AGENCES!$B$4:$B$256,TERRITOIRES!$B12,AGENCES!AO$4:AO$257) -> 491.3 | AO12: =SUMIF(AGENCES!$B$4:$B$256,TERRITOIRES!$B12,AGENCES!AP$4:AP$257) -> 228.5 | AP12: =SUMIF(AGENCES!$B$4:$B$256,TERRITOIRES!$B12,AGENCES!AQ$4:AQ$257) -> 191.3 | AQ12: =SUMIF(AGENCES!$B$4:$B$256,TERRITOIRES!$B12,AGENCES!AR$4:AR$257) -> 911.1 | AR12: 1391.88 | AS12: 0.65458229 | AT12: 0
A13: MARNE ARDENNES | B13: REIMS | C13: 68.59 | D13: =ROUNDUP(G13-G13*E13,0) -> 165 | E13: =IF(F13<0.8,(0.05+0.8-F13),0) -> 0 | F13: 0.83536585 | G13: =I13+I13*H13 -> 165 | H13: 0.1 | I13: 150 | J13: 0 | K13: 3 | L13: 636 | M13: 472 | N13: 414 | O13: 1522 | P13: 2057.7 | Q13: 0.73966079 | R13: 0 | S13: =SUMIF(AGENCES!$B$4:$B$256,TERRITOIRES!$B13,AGENCES!T$4:T$257) -> 360 | T13: =SUMIF(AGENCES!$B$4:$B$256,TERRITOIRES!$B13,AGENCES!U$4:U$257) -> 341 | U13: =SUMIF(AGENCES!$B$4:$B$256,TERRITOIRES!$B13,AGENCES!V$4:V$257) -> 286 | V13: =SUMIF(AGENCES!$B$4:$B$256,TERRITOIRES!$B13,AGENCES!W$4:W$257) -> 987 | W13: 1028.85 | X13: =+V13/W13 -> 0.95932352 | Y13: 50 | Z13: =SUMIF(AGENCES!$B$4:$B$256,TERRITOIRES!$B13,AGENCES!AA$4:AA$257) -> 10544459 | AA13: =SUMIF(AGENCES!$B$4:$B$256,TERRITOIRES!$B13,AGENCES!AB$4:AB$257) -> 219802.52 | AB13: =SUMIF(AGENCES!$B$4:$B$256,TERRITOIRES!$B13,AGENCES!AC$4:AC$257) -> 155757.61 | AC13: =SUMIF(AGENCES!$B$4:$B$256,TERRITOIRES!$B13,AGENCES!AD$4:AD$257) -> 10920019 | AD13: 9259650 | AE13: 1.1793123 | AF13: 50 | AG13: =SUMIF(AGENCES!$B$4:$B$256,TERRITOIRES!$B13,AGENCES!AH$4:AH$257) -> 7143520.4 | AH13: =SUMIF(AGENCES!$B$4:$B$256,TERRITOIRES!$B13,AGENCES!AI$4:AI$257) -> 444014.2 | AI13: =SUMIF(AGENCES!$B$4:$B$256,TERRITOIRES!$B13,AGENCES!AJ$4:AJ$257) -> 321117.2 | AJ13: =SUMIF(AGENCES!$B$4:$B$256,TERRITOIRES!$B13,AGENCES!AK$4:AK$257) -> 7908651.8 | AK13: 6859000 | AL13: 1.1530328 | AM13: 50 | AN13: =SUMIF(AGENCES!$B$4:$B$256,TERRITOIRES!$B13,AGENCES!AO$4:AO$257) -> 746.2 | AO13: =SUMIF(AGENCES!$B$4:$B$256,TERRITOIRES!$B13,AGENCES!AP$4:AP$257) -> 404.9 | AP13: =SUMIF(AGENCES!$B$4:$B$256,TERRITOIRES!$B13,AGENCES!AQ$4:AQ$257) -> 343 | AQ13: =SUMIF(AGENCES!$B$4:$B$256,TERRITOIRES!$B13,AGENCES!AR$4:AR$257) -> 1494.1 | AR13: 1920.52 | AS13: 0.77796638 | AT13: 0
A14: MEURTHE ET MOSELLE MEUSE | B14: NANCY | C14: 56.31 | D14: =ROUNDUP(G14-G14*E14,0) -> 110 | E14: =IF(F14<0.8,(0.05+0.8-F14),0) -> 0 | F14: 0.825 | G14: =I14+I14*H14 -> 110 | H14: 0.1 | I14: 100 | J14: 0 | K14: 2 | L14: 309 | M14: 268 | N14: 228 | O14: 805 | P14: 1689.3 | Q14: 0.47652874 | R14: 0 | S14: =SUMIF(AGENCES!$B$4:$B$256,TERRITOIRES!$B14,AGENCES!T$4:T$257) -> 264 | T14: =SUMIF(AGENCES!$B$4:$B$256,TERRITOIRES!$B14,AGENCES!U$4:U$257) -> 256 | U14: =SUMIF(AGENCES!$B$4:$B$256,TERRITOIRES!$B14,AGENCES!V$4:V$257) -> 220 | V14: =SUMIF(AGENCES!$B$4:$B$256,TERRITOIRES!$B14,AGENCES!W$4:W$257) -> 740 | W14: 844.65 | X14: =+V14/W14 -> 0.87610253 | Y14: 0 | Z14: =SUMIF(AGENCES!$B$4:$B$256,TERRITOIRES!$B14,AGENCES!AA$4:AA$257) -> 7633332.7 | AA14: =SUMIF(AGENCES!$B$4:$B$256,TERRITOIRES!$B14,AGENCES!AB$4:AB$257) -> 311991.15 | AB14: =SUMIF(AGENCES!$B$4:$B$256,TERRITOIRES!$B14,AGENCES!AC$4:AC$257) -> 241670 | AC14: =SUMIF(AGENCES!$B$4:$B$256,TERRITOIRES!$B14,AGENCES!AD$4:AD$257) -> 8186993.9 | AD14: 7601850 | AE14: 1.0769739 | AF14: 50 | AG14: =SUMIF(AGENCES!$B$4:$B$256,TERRITOIRES!$B14,AGENCES!AH$4:AH$257) -> 4914871 | AH14: =SUMIF(AGENCES!$B$4:$B$256,TERRITOIRES!$B14,AGENCES!AI$4:AI$257) -> 295983 | AI14: =SUMIF(AGENCES!$B$4:$B$256,TERRITOIRES!$B14,AGENCES!AJ$4:AJ$257) -> 191756 | AJ14: =SUMIF(AGENCES!$B$4:$B$256,TERRITOIRES!$B14,AGENCES!AK$4:AK$257) -> 5402610 | AK14: 5631000 | AL14: 0.9594406 | AM14: 50 | AN14: =SUMIF(AGENCES!$B$4:$B$256,TERRITOIRES!$B14,AGENCES!AO$4:AO$257) -> 546.5 | AO14: =SUMIF(AGENCES!$B$4:$B$256,TERRITOIRES!$B14,AGENCES!AP$4:AP$257) -> 254.5 | AP14: =SUMIF(AGENCES!$B$4:$B$256,TERRITOIRES!$B14,AGENCES!AQ$4:AQ$257) -> 212.8 | AQ14: =SUMIF(AGENCES!$B$4:$B$256,TERRITOIRES!$B14,AGENCES!AR$4:AR$257) -> 1013.8 | AR14: 1576.68 | AS14: 0.64299668 | AT14: 0
A15: MEURTHE ET MOSELLE MEUSE | B15: PONT A MOUSSON | C15: 62.84 | D15: =ROUNDUP(G15-G15*E15,0) -> 0 | E15: =IF(F15<0.8,(0.05+0.8-F15),0) -> 0 | F15: 0.81300813 | I15: 0 | J15: 0 | K15: 0 | L15: 323 | M15: 255 | N15: 222 | O15: 800 | P15: 1885.2 | Q15: 0.42435816 | R15: 0 | S15: =SUMIF(AGENCES!$B$4:$B$256,TERRITOIRES!$B15,AGENCES!T$4:T$257) -> 332 | T15: =SUMIF(AGENCES!$B$4:$B$256,TERRITOIRES!$B15,AGENCES!U$4:U$257) -> 307 | U15: =SUMIF(AGENCES!$B$4:$B$256,TERRITOIRES!$B15,AGENCES!V$4:V$257) -> 252 | V15: =SUMIF(AGENCES!$B$4:$B$256,TERRITOIRES!$B15,AGENCES!W$4:W$257) -> 891 | W15: 942.6 | X15: =+V15/W15 -> 0.9452578 | Y15: 0 | Z15: =SUMIF(AGENCES!$B$4:$B$256,TERRITOIRES!$B15,AGENCES!AA$4:AA$257) -> 7498790.8 | AA15: =SUMIF(AGENCES!$B$4:$B$256,TERRITOIRES!$B15,AGENCES!AB$4:AB$257) -> 156326 | AB15: =SUMIF(AGENCES!$B$4:$B$256,TERRITOIRES!$B15,AGENCES!AC$4:AC$257) -> 66036 | AC15: =SUMIF(AGENCES!$B$4:$B$256,TERRITOIRES!$B15,AGENCES!AD$4:AD$257) -> 7721152.8 | AD15: 8483400 | AE15: 0.91014839 | AF15: 0 | AG15: =SUMIF(AGENCES!$B$4:$B$256,TERRITOIRES!$B15,AGENCES!AH$4:AH$257) -> 4271004 | AH15: =SUMIF(AGENCES!$B$4:$B$256,TERRITOIRES!$B15,AGENCES!AI$4:AI$257) -> 203950.2 | AI15: =SUMIF(AGENCES!$B$4:$B$256,TERRITOIRES!$B15,AGENCES!AJ$4:AJ$257) -> 112370.2 | AJ15: =SUMIF(AGENCES!$B$4:$B$256,TERRITOIRES!$B15,AGENCES!AK$4:AK$257) -> 4587324.4 | AK15: 6284000 | AL15: 0.7300007 | AM15: 0 | AN15: =SUMIF(AGENCES!$B$4:$B$256,TERRITOIRES!$B15,AGENCES!AO$4:AO$257) -> 595.5 | AO15: =SUMIF(AGENCES!$B$4:$B$256,TERRITOIRES!$B15,AGENCES!AP$4:AP$257) -> 296.8 | AP15: =SUMIF(AGENCES!$B$4:$B$256,TERRITOIRES!$B15,AGENCES!AQ$4:AQ$257) -> 231.6 | AQ15: =SUMIF(AGENCES!$B$4:$B$256,TERRITOIRES!$B15,AGENCES!AR$4:AR$257) -> 1123.9 | AR15: 1759.52 | AS15: 0.63875375 | AT15: 0
A16: MEURTHE ET MOSELLE MEUSE | B16: VERDUN | C16: 46.52 | D16: =ROUNDUP(G16-G16*E16,0) -> 0 | E16: =IF(F16<0.8,(0.05+0.8-F16),0) -> 0 | F16: 0.85576923 | I16: 0 | J16: 0 | K16: 0 | L16: 255 | M16: 195 | N16: 170 | O16: 620 | P16: 1395.6 | Q16: 0.44425337 | R16: 0 | S16: =SUMIF(AGENCES!$B$4:$B$256,TERRITOIRES!$B16,AGENCES!T$4:T$257) -> 221 | T16: =SUMIF(AGENCES!$B$4:$B$256,TERRITOIRES!$B16,AGENCES!U$4:U$257) -> 193 | U16: =SUMIF(AGENCES!$B$4:$B$256,TERRITOIRES!$B16,AGENCES!V$4:V$257) -> 159 | V16: =SUMIF(AGENCES!$B$4:$B$256,TERRITOIRES!$B16,AGENCES!W$4:W$257) -> 573 | W16: 697.8 | X16: =+V16/W16 -> 0.82115219 | Y16: 0 | Z16: =SUMIF(AGENCES!$B$4:$B$256,TERRITOIRES!$B16,AGENCES!AA$4:AA$257) -> 5284978.1 | AA16: =SUMIF(AGENCES!$B$4:$B$256,TERRITOIRES!$B16,AGENCES!AB$4:AB$257) -> 90034.146 | AB16: =SUMIF(AGENCES!$B$4:$B$256,TERRITOIRES!$B16,AGENCES!AC$4:AC$257) -> 57746.146 | AC16: =SUMIF(AGENCES!$B$4:$B$256,TERRITOIRES!$B16,AGENCES!AD$4:AD$257) -> 5432758.4 | AD16: 6280200 | AE16: 0.83655909 | AF16: 0 | AG16: =SUMIF(AGENCES!$B$4:$B$256,TERRITOIRES!$B16,AGENCES!AH$4:AH$257) -> 4000072 | AH16: =SUMIF(AGENCES!$B$4:$B$256,TERRITOIRES!$B16,AGENCES!AI$4:AI$257) -> 243023.4 | AI16: =SUMIF(AGENCES!$B$4:$B$256,TERRITOIRES!$B16,AGENCES!AJ$4:AJ$257) -> 169394.2 | AJ16: =SUMIF(AGENCES!$B$4:$B$256,TERRITOIRES!$B16,AGENCES!AK$4:AK$257) -> 4412489.6 | AK16: 4652000 | AL16: 0.94851453 | AM16: 0 | AN16: =SUMIF(AGENCES!$B$4:$B$256,TERRITOIRES!$B16,AGENCES!AO$4:AO$257) -> 448.2 | AO16: =SUMIF(AGENCES!$B$4:$B$256,TERRITOIRES!$B16,AGENCES!AP$4:AP$257) -> 212.4 | AP16: =SUMIF(AGENCES!$B$4:$B$256,TERRITOIRES!$B16,AGENCES!AQ$4:AQ$257) -> 178 | AQ16: =SUMIF(AGENCES!$B$4:$B$256,TERRITOIRES!$B16,AGENCES!AR$4:AR$257) -> 838.6 | AR16: 1302.56 | AS16: 0.64380911 | AT16: 0
A17: MOSELLE | B17: METZ | C17: 73.27 | D17: =ROUNDUP(G17-G17*E17,0) -> 155 | E17: =IF(F17<0.8,(0.05+0.8-F17),0) -> 0.062121212 | F17: 0.78787879 | G17: =I17+I17*H17 -> 165 | H17: 0.1 | I17: 150 | J17: 0 | K17: 3 | L17: 448 | M17: 366 | N17: 307 | O17: 1121 | P17: 2198.1 | Q17: 0.5099859 | R17: 0 | S17: =SUMIF(AGENCES!$B$4:$B$256,TERRITOIRES!$B17,AGENCES!T$4:T$257) -> 422 | T17: =SUMIF(AGENCES!$B$4:$B$256,TERRITOIRES!$B17,AGENCES!U$4:U$257) -> 383 | U17: =SUMIF(AGENCES!$B$4:$B$256,TERRITOIRES!$B17,AGENCES!V$4:V$257) -> 319 | V17: =SUMIF(AGENCES!$B$4:$B$256,TERRITOIRES!$B17,AGENCES!W$4:W$257) -> 1124 | W17: 1099.05 | X17: =+V17/W17 -> 1.0227014 | Y17: 50 | Z17: =SUMIF(AGENCES!$B$4:$B$256,TERRITOIRES!$B17,AGENCES!AA$4:AA$257) -> 9913389.8 | AA17: =SUMIF(AGENCES!$B$4:$B$256,TERRITOIRES!$B17,AGENCES!AB$4:AB$257) -> 397286 | AB17: =SUMIF(AGENCES!$B$4:$B$256,TERRITOIRES!$B17,AGENCES!AC$4:AC$257) -> 281182 | AC17: =SUMIF(AGENCES!$B$4:$B$256,TERRITOIRES!$B17,AGENCES!AD$4:AD$257) -> 10591858 | AD17: 9891450 | AE17: 1.0404802 | AF17: 50 | AG17: =SUMIF(AGENCES!$B$4:$B$256,TERRITOIRES!$B17,AGENCES!AH$4:AH$257) -> 7406400 | AH17: =SUMIF(AGENCES!$B$4:$B$256,TERRITOIRES!$B17,AGENCES!AI$4:AI$257) -> 355020 | AI17: =SUMIF(AGENCES!$B$4:$B$256,TERRITOIRES!$B17,AGENCES!AJ$4:AJ$257) -> 192540 | AJ17: =SUMIF(AGENCES!$B$4:$B$256,TERRITOIRES!$B17,AGENCES!AK$4:AK$257) -> 7953960 | AK17: 7327000 | AL17: 1.0855684 | AM17: 50 | AN17: =SUMIF(AGENCES!$B$4:$B$256,TERRITOIRES!$B17,AGENCES!AO$4:AO$257) -> 543.6 | AO17: =SUMIF(AGENCES!$B$4:$B$256,TERRITOIRES!$B17,AGENCES!AP$4:AP$257) -> 268.3 | AP17: =SUMIF(AGENCES!$B$4:$B$256,TERRITOIRES!$B17,AGENCES!AQ$4:AQ$257) -> 196.3 | AQ17: =SUMIF(AGENCES!$B$4:$B$256,TERRITOIRES!$B17,AGENCES!AR$4:AR$257) -> 1008.2 | AR17: 2051.56 | AS17: 0.49143091 | AT17: 0
A18: MOSELLE | B18: MOSELLE EST | C18: 60.53 | D18: =ROUNDUP(G18-G18*E18,0) -> 110 | E18: =IF(F18<0.8,(0.05+0.8-F18),0) -> 0 | F18: 0.85620915 | G18: =I18+I18*H18 -> 110 | H18: 0.1 | I18: 100 | J18: 0 | K18: 2 | L18: 359 | M18: 277 | N18: 222 | O18: 858 | P18: 1815.9 | Q18: 0.47249298 | R18: 0 | S18: =SUMIF(AGENCES!$B$4:$B$256,TERRITOIRES!$B18,AGENCES!T$4:T$257) -> 413 | T18: =SUMIF(AGENCES!$B$4:$B$256,TERRITOIRES!$B18,AGENCES!U$4:U$257) -> 391 | U18: =SUMIF(AGENCES!$B$4:$B$256,TERRITOIRES!$B18,AGENCES!V$4:V$257) -> 310 | V18: =SUMIF(AGENCES!$B$4:$B$256,TERRITOIRES!$B18,AGENCES!W$4:W$257) -> 1114 | W18: 907.95 | X18: =+V18/W18 -> 1.2269398 | Y18: 50 | Z18: =SUMIF(AGENCES!$B$4:$B$256,TERRITOIRES!$B18,AGENCES!AA$4:AA$257) -> 5795008 | AA18: =SUMIF(AGENCES!$B$4:$B$256,TERRITOIRES!$B18,AGENCES!AB$4:AB$257) -> 129834.11 | AB18: =SUMIF(AGENCES!$B$4:$B$256,TERRITOIRES!$B18,AGENCES!AC$4:AC$257) -> 124972.11 | AC18: =SUMIF(AGENCES!$B$4:$B$256,TERRITOIRES!$B18,AGENCES!AD$4:AD$257) -> 6049814.2 | AD18: 8171550 | AE18: 0.74035087 | AF18: 0 | AG18: =SUMIF(AGENCES!$B$4:$B$256,TERRITOIRES!$B18,AGENCES!AH$4:AH$257) -> 6097970 | AH18: =SUMIF(AGENCES!$B$4:$B$256,TERRITOIRES!$B18,AGENCES!AI$4:AI$257) -> 328540 | AI18: =SUMIF(AGENCES!$B$4:$B$256,TERRITOIRES!$B18,AGENCES!AJ$4:AJ$257) -> 188200 | AJ18: =SUMIF(AGENCES!$B$4:$B$256,TERRITOIRES!$B18,AGENCES!AK$4:AK$257) -> 6614710 | AK18: 6053000 | AL18: 1.0927986 | AM18: 50 | AN18: =SUMIF(AGENCES!$B$4:$B$256,TERRITOIRES!$B18,AGENCES!AO$4:AO$257) -> 681.3 | AO18: =SUMIF(AGENCES!$B$4:$B$256,TERRITOIRES!$B18,AGENCES!AP$4:AP$257) -> 296 | AP18: =SUMIF(AGENCES!$B$4:$B$256,TERRITOIRES!$B18,AGENCES!AQ$4:AQ$257) -> 234.6 | AQ18: =SUMIF(AGENCES!$B$4:$B$256,TERRITOIRES!$B18,AGENCES!AR$4:AR$257) -> 1211.9 | AR18: 1694.84 | AS18: 0.71505275 | AT18: 0
A19: MOSELLE | B19: MOSELLE NORD | C19: 55.44 | D19: =ROUNDUP(G19-G19*E19,0) -> 55 | E19: =IF(F19<0.8,(0.05+0.8-F19),0) -> 0 | F19: 0.83076923 | G19: =I19+I19*H19 -> 55 | H19: 0.1 | I19: 50 | J19: 0 | K19: 1 | L19: 388 | M19: 326 | N19: 280 | O19: 994 | P19: 1663.2 | Q19: 0.5976431 | R19: 0 | S19: =SUMIF(AGENCES!$B$4:$B$256,TERRITOIRES!$B19,AGENCES!T$4:T$257) -> 259 | T19: =SUMIF(AGENCES!$B$4:$B$256,TERRITOIRES!$B19,AGENCES!U$4:U$257) -> 236 | U19: =SUMIF(AGENCES!$B$4:$B$256,TERRITOIRES!$B19,AGENCES!V$4:V$257) -> 191 | V19: =SUMIF(AGENCES!$B$4:$B$256,TERRITOIRES!$B19,AGENCES!W$4:W$257) -> 686 | W19: 831.6 | X19: =+V19/W19 -> 0.82491582 | Y19: 0 | Z19: =SUMIF(AGENCES!$B$4:$B$256,TERRITOIRES!$B19,AGENCES!AA$4:AA$257) -> 6255309.4 | AA19: =SUMIF(AGENCES!$B$4:$B$256,TERRITOIRES!$B19,AGENCES!AB$4:AB$257) -> 135884 | AB19: =SUMIF(AGENCES!$B$4:$B$256,TERRITOIRES!$B19,AGENCES!AC$4:AC$257) -> 40014 | AC19: =SUMIF(AGENCES!$B$4:$B$256,TERRITOIRES!$B19,AGENCES!AD$4:AD$257) -> 6431207.4 | AD19: 7484400 | AE19: 0.85928163 | AF19: 0 | AG19: =SUMIF(AGENCES!$B$4:$B$256,TERRITOIRES!$B19,AGENCES!AH$4:AH$257) -> 6094670 | AH19: =SUMIF(AGENCES!$B$4:$B$256,TERRITOIRES!$B19,AGENCES!AI$4:AI$257) -> 301490 | AI19: =SUMIF(AGENCES!$B$4:$B$256,TERRITOIRES!$B19,AGENCES!AJ$4:AJ$257) -> 192970 | AJ19: =SUMIF(AGENCES!$B$4:$B$256,TERRITOIRES!$B19,AGENCES!AK$4:AK$257) -> 6589130 | AK19: 5544000 | AL19: 1.1885155 | AM19: 50 | AN19: =SUMIF(AGENCES!$B$4:$B$256,TERRITOIRES!$B19,AGENCES!AO$4:AO$257) -> 738 | AO19: =SUMIF(AGENCES!$B$4:$B$256,TERRITOIRES!$B19,AGENCES!AP$4:AP$257) -> 370.8 | AP19: =SUMIF(AGENCES!$B$4:$B$256,TERRITOIRES!$B19,AGENCES!AQ$4:AQ$257) -> 305.1 | AQ19: =SUMIF(AGENCES!$B$4:$B$256,TERRITOIRES!$B19,AGENCES!AR$4:AR$257) -> 1413.9 | AR19: 1552.32 | AS19: 0.91083024 | AT19: 0
A20: VOSGES | B20: EPINAL | C20: 53.84 | D20: =ROUNDUP(G20-G20*E20,0) -> 165 | E20: =IF(F20<0.8,(0.05+0.8-F20),0) -> 0 | F20: 0.93939394 | G20: =I20+I20*H20 -> 165 | H20: 0.1 | I20: 150 | J20: 0 | K20: 3 | L20: 425 | M20: 279 | N20: 236 | O20: 940 | P20: 1615.2 | Q20: 0.58197127 | R20: 0 | S20: =SUMIF(AGENCES!$B$4:$B$256,TERRITOIRES!$B20,AGENCES!T$4:T$257) -> 417 | T20: =SUMIF(AGENCES!$B$4:$B$256,TERRITOIRES!$B20,AGENCES!U$4:U$257) -> 376 | U20: =SUMIF(AGENCES!$B$4:$B$256,TERRITOIRES!$B20,AGENCES!V$4:V$257) -> 308 | V20: =SUMIF(AGENCES!$B$4:$B$256,TERRITOIRES!$B20,AGENCES!W$4:W$257) -> 1101 | W20: 807.6 | X20: =+V20/W20 -> 1.3632987 | Y20: 50 | Z20: =SUMIF(AGENCES!$B$4:$B$256,TERRITOIRES!$B20,AGENCES!AA$4:AA$257) -> 9003978 | AA20: =SUMIF(AGENCES!$B$4:$B$256,TERRITOIRES!$B20,AGENCES!AB$4:AB$257) -> 226694.6 | AB20: =SUMIF(AGENCES!$B$4:$B$256,TERRITOIRES!$B20,AGENCES!AC$4:AC$257) -> 183482.2 | AC20: =SUMIF(AGENCES!$B$4:$B$256,TERRITOIRES!$B20,AGENCES!AD$4:AD$257) -> 9414154.8 | AD20: 7268400 | AE20: 1.2952169 | AF20: 50 | AG20: =SUMIF(AGENCES!$B$4:$B$256,TERRITOIRES!$B20,AGENCES!AH$4:AH$257) -> 5104882 | AH20: =SUMIF(AGENCES!$B$4:$B$256,TERRITOIRES!$B20,AGENCES!AI$4:AI$257) -> 321345 | AI20: =SUMIF(AGENCES!$B$4:$B$256,TERRITOIRES!$B20,AGENCES!AJ$4:AJ$257) -> 179245 | AJ20: =SUMIF(AGENCES!$B$4:$B$256,TERRITOIRES!$B20,AGENCES!AK$4:AK$257) -> 5605472 | AK20: 5384000 | AL20: 1.0411352 | AM20: 50 | AN20: =SUMIF(AGENCES!$B$4:$B$256,TERRITOIRES!$B20,AGENCES!AO$4:AO$257) -> 553 | AO20: =SUMIF(AGENCES!$B$4:$B$256,TERRITOIRES!$B20,AGENCES!AP$4:AP$257) -> 237.3 | AP20: =SUMIF(AGENCES!$B$4:$B$256,TERRITOIRES!$B20,AGENCES!AQ$4:AQ$257) -> 168.9 | AQ20: =SUMIF(AGENCES!$B$4:$B$256,TERRITOIRES!$B20,AGENCES!AR$4:AR$257) -> 959.2 | AR20: 1507.52 | AS20: 0.6362768 | AT20: 0
A21: VOSGES | B21: SAINT DIE | C21: 38.98 | D21: =ROUNDUP(G21-G21*E21,0) -> 152 | E21: =IF(F21<0.8,(0.05+0.8-F21),0) -> 0.08364486 | F21: 0.76635514 | G21: =I21+I21*H21 -> 165 | H21: 0.1 | I21: 150 | J21: 0 | K21: 3 | L21: 253 | M21: 193 | N21: 152 | O21: 598 | P21: 1169.4 | Q21: 0.51137335 | R21: 0 | S21: =SUMIF(AGENCES!$B$4:$B$256,TERRITOIRES!$B21,AGENCES!T$4:T$257) -> 243 | T21: =SUMIF(AGENCES!$B$4:$B$256,TERRITOIRES!$B21,AGENCES!U$4:U$257) -> 203 | U21: =SUMIF(AGENCES!$B$4:$B$256,TERRITOIRES!$B21,AGENCES!V$4:V$257) -> 166 | V21: =SUMIF(AGENCES!$B$4:$B$256,TERRITOIRES!$B21,AGENCES!W$4:W$257) -> 612 | W21: 584.7 | X21: =+V21/W21 -> 1.0466906 | Y21: 50 | Z21: =SUMIF(AGENCES!$B$4:$B$256,TERRITOIRES!$B21,AGENCES!AA$4:AA$257) -> 6576832.7 | AA21: =SUMIF(AGENCES!$B$4:$B$256,TERRITOIRES!$B21,AGENCES!AB$4:AB$257) -> 185961.92 | AB21: =SUMIF(AGENCES!$B$4:$B$256,TERRITOIRES!$B21,AGENCES!AC$4:AC$257) -> 166239.92 | AC21: =SUMIF(AGENCES!$B$4:$B$256,TERRITOIRES!$B21,AGENCES!AD$4:AD$257) -> 6929034.5 | AD21: 5262300 | AE21: 1.3167312 | AF21: 50 | AG21: =SUMIF(AGENCES!$B$4:$B$256,TERRITOIRES!$B21,AGENCES!AH$4:AH$257) -> 3637272 | AH21: =SUMIF(AGENCES!$B$4:$B$256,TERRITOIRES!$B21,AGENCES!AI$4:AI$257) -> 199728.8 | AI21: =SUMIF(AGENCES!$B$4:$B$256,TERRITOIRES!$B21,AGENCES!AJ$4:AJ$257) -> 103128.8 | AJ21: =SUMIF(AGENCES!$B$4:$B$256,TERRITOIRES!$B21,AGENCES!AK$4:AK$257) -> 3940129.6 | AK21: 3898000 | AL21: 1.010808 | AM21: 50 | AN21: =SUMIF(AGENCES!$B$4:$B$256,TERRITOIRES!$B21,AGENCES!AO$4:AO$257) -> 330.2 | AO21: =SUMIF(AGENCES!$B$4:$B$256,TERRITOIRES!$B21,AGENCES!AP$4:AP$257) -> 129.3 | AP21: =SUMIF(AGENCES!$B$4:$B$256,TERRITOIRES!$B21,AGENCES!AQ$4:AQ$257) -> 91 | AQ21: =SUMIF(AGENCES!$B$4:$B$256,TERRITOIRES!$B21,AGENCES!AR$4:AR$257) -> 550.5 | AR21: 1091.44 | AS21: 0.50437954 | AT21: 0
C22: 967.8 | L22: =SUM(L4:L21) -> 6261 | M22: =SUM(M4:M21) -> 4835 | N22: =SUM(N4:N21) -> 3998 | O22: =SUM(O4:O21) -> 15094 | P22: =SUM(P4:P21) -> 29034 | Q22: =O22/P22 -> 0.51987325 | S22: =SUM(S4:S21) -> 5998 | T22: =SUM(T4:T21) -> 5486 | U22: =SUM(U4:U21) -> 4550 | V22: =SUM(V4:V21) -> 16034 | W22: =SUM(W4:W21) -> 14517 | X22: =V22/W22 -> 1.1044982 | Z22: =SUM(Z4:Z21) -> 1.3721892e+08 | AA22: =SUM(AA4:AA21) -> 3254041.3 | AB22: =SUM(AB4:AB21) -> 2317442.7 | AC22: =SUM(AC4:AC21) -> 1.427904e+08 | AD22: =SUM(AD4:AD21) -> 130653000 | AE22: =AC22/AD22 -> 1.092898 | AG22: =SUM(AG4:AG21) -> 99446482 | AH22: =SUM(AH4:AH21) -> 5206656.8 | AI22: =SUM(AI4:AI21) -> 3151438.4 | AJ22: =SUM(AJ4:AJ21) -> 1.0780458e+08 | AK22: =SUM(AK4:AK21) -> 96780000 | AL22: =AJ22/AK22 -> 1.1139138 | AN22: =SUM(AN4:AN21) -> 9991.4 | AO22: =SUM(AO4:AO21) -> 4534.5 | AP22: =SUM(AP4:AP21) -> 3501.9 | AQ22: =SUM(AQ4:AQ21) -> 18027.8 | AR22: =SUM(AR4:AR21) -> 27098.4 | AS22: =AQ22/AR22 -> 0.66527175

Sheet REGIONS
A1: REGION | B1: ETP | C1: Gains après réfactions Risques et Conformité | F1: Gains potentiels avant résultats contrôles Risques et Conformité | K1: BANCARISATION | R1: CONQUETE 0-16 ANS | Y1: EPARGNE PLACEMENT | AF1: CREDITS | AM1: ASSURANCE & PREVOYANCE
K2: Formules hors transformation | R2: VB de Livrets, assurance vie et PEL sur 0-15 ans | Y2: Chiffre d'Affaires Assurance Vie | AF2: Engagements Conso (hors crédit projet) | AM2: VB Auto, 2 roues, MRH, Santé, GAV, Sécur Famille (0.8) & PJ (0.3)
C3: Gains après réfactions Risques et Conformité | D3: Taux réfactions | E3: Taux de conformité | F3: Gains potentiels par ETP avec bonus synergie (avant réfactions Conformité) | G3: Bonus Synergie | H3: Gains pot. par ETP | I3: Bonus excellence | J3: Nb Objectifs atteints | K3: Ventes Brutes | L3: Bonus univers absent | M3: Bonus client "ne" | N3: Total VB + bonus | O3: Objectif | P3: Taux d'att. | Q3: Gains | R3: Ventes Brutes | S3: Bonus univers absent | T3: Bonus client "ne" | U3: Total VB + bonus | V3: Objectif | W3: Taux d'att. | X3: Gains | Y3: Chiffre d'Affaires | Z3: Bonus univers absent | AA3: Bonus client "ne" | AB3: Total CA + bonus | AC3: Objectif | AD3: Taux d'att. | AE3: Gains | AF3: Engagem. | AG3: Bonus univers absent | AH3: Bonus client "ne" | AI3: Total Engagem. + bonus | AJ3: Objectif | AK3: Taux d'att. | AL3: Gains | AM3: Ventes Brutes | AN3: Bonus univers absent | AO3: Bonus client "ne" | AP3: Total VB + bonus | AQ3: Objectif | AR3: Taux d'att. | AS3: Gains
A4: AUBE HAUTE MARNE | B4: 92.34 | C4: =ROUNDUP(F4-F4*D4,0) -> 180 | D4: =IF(E4<0.8,(0.05+0.8-E4),0) -> 0 | E4: 0.9124424 | F4: =H4+H4*G4 -> 180 | G4: 0.2 | H4: 150 | I4: 0 | J4: 3 | K4: 475 | L4: 377 | M4: 316 | N4: 1168 | O4: 2770.2 | P4: 0.42163021 | Q4: 0 | R4: =SUMIF(TERRITOIRES!$A$4:$A$21,REGIONS!$A4,TERRITOIRES!S$4:S$21) -> 621 | S4: =SUMIF(TERRITOIRES!$A$4:$A$21,REGIONS!$A4,TERRITOIRES!T$4:T$21) -> 592 | T4: =SUMIF(TERRITOIRES!$A$4:$A$21,REGIONS!$A4,TERRITOIRES!U$4:U$21) -> 531 | U4: =SUMIF(TERRITOIRES!$A$4:$A$21,REGIONS!$A4,TERRITOIRES!V$4:V$21) -> 1744 | V4: 1385.1 | W4: =U4/V4 -> 1.2591149 | X4: 50 | Y4: =SUMIF(TERRITOIRES!$A$4:$A$21,REGIONS!$A4,TERRITOIRES!Z$4:Z$21) -> 12517694 | Z4: =SUMIF(TERRITOIRES!$A$4:$A$21,REGIONS!$A4,TERRITOIRES!AA$4:AA$21) -> 195306 | AA4: =SUMIF(TERRITOIRES!$A$4:$A$21,REGIONS!$A4,TERRITOIRES!AB$4:AB$21) -> 112994 | AB4: =SUMIF(TERRITOIRES!$A$4:$A$21,REGIONS!$A4,TERRITOIRES!AC$4:AC$21) -> 12825994 | AC4: 12465900 | AD4: =AB4/AC4 -> 1.0288863 | AE4: 50 | AF4: =SUMIF(TERRITOIRES!$A$4:$A$21,REGIONS!$A4,TERRITOIRES!AG$4:AG$21) -> 11022799 | AG4: =SUMIF(TERRITOIRES!$A$4:$A$21,REGIONS!$A4,TERRITOIRES!AH$4:AH$21) -> 508971.2 | AH4: =SUMIF(TERRITOIRES!$A$4:$A$21,REGIONS!$A4,TERRITOIRES!AI$4:AI$21) -> 321291.2 | AI4: =SUMIF(TERRITOIRES!$A$4:$A$21,REGIONS!$A4,TERRITOIRES!AJ$4:AJ$21) -> 11853061 | AJ4: 9234000 | AK4: =AI4/AJ4 -> 1.2836324 | AL4: 50 | AM4: 1117.2 | AN4: 503.7 | AO4: 357.9 | AP4: 1978.8 | AQ4: 2585.52 | AR4: 0.76533927 | AS4: 0
A5: BAS RHIN | B5: 174.55 | C5: =ROUNDUP(F5-F5*D5,0) -> 165 | D5: =IF(E5<0.8,(0.05+0.8-E5),0) -> 0 | E5: 0.90909091 | F5: =H5+H5*G5 -> 165 | G5: 0.1 | H5: 150 | I5: 0 | J5: 3 | K5: 1120 | L5: 850 | M5: 671 | N5: 2641 | O5: 5236.5 | P5: 0.5043445 | Q5: 0 | R5: =SUMIF(TERRITOIRES!$A$4:$A$21,REGIONS!$A5,TERRITOIRES!S$4:S$21) -> 1226 | S5: =SUMIF(TERRITOIRES!$A$4:$A$21,REGIONS!$A5,TERRITOIRES!T$4:T$21) -> 1116 | T5: =SUMIF(TERRITOIRES!$A$4:$A$21,REGIONS!$A5,TERRITOIRES!U$4:U$21) -> 876 | U5: =SUMIF(TERRITOIRES!$A$4:$A$21,REGIONS!$A5,TERRITOIRES!V$4:V$21) -> 3218 | V5: 2618.25 | W5: =U5/V5 -> 1.2290652 | X5: 50 | Y5: =SUMIF(TERRITOIRES!$A$4:$A$21,REGIONS!$A5,TERRITOIRES!Z$4:Z$21) -> 29164973 | Z5: =SUMIF(TERRITOIRES!$A$4:$A$21,REGIONS!$A5,TERRITOIRES!AA$4:AA$21) -> 679135.71 | AA5: =SUMIF(TERRITOIRES!$A$4:$A$21,REGIONS!$A5,TERRITOIRES!AB$4:AB$21) -> 538003.59 | AB5: =SUMIF(TERRITOIRES!$A$4:$A$21,REGIONS!$A5,TERRITOIRES!AC$4:AC$21) -> 30382112 | AC5: 23564250 | AD5: =AB5/AC5 -> 1.2893308 | AE5: 50 | AF5: =SUMIF(TERRITOIRES!$A$4:$A$21,REGIONS!$A5,TERRITOIRES!AG$4:AG$21) -> 19165672 | AG5: =SUMIF(TERRITOIRES!$A$4:$A$21,REGIONS!$A5,TERRITOIRES!AH$4:AH$21) -> 966570.84 | AH5: =SUMIF(TERRITOIRES!$A$4:$A$21,REGIONS!$A5,TERRITOIRES!AI$4:AI$21) -> 499959.64 | AI5: =SUMIF(TERRITOIRES!$A$4:$A$21,REGIONS!$A5,TERRITOIRES!AJ$4:AJ$21) -> 20632203 | AJ5: 17455000 | AK5: =AI5/AJ5 -> 1.1820225 | AL5: 50 | AM5: 2042.9 | AN5: 813 | AO5: 615.4 | AP5: 3471.3 | AQ5: 4887.4 | AR5: 0.71025494 | AS5: 0
A6: HAUT RHIN | B6: 99.3 | C6: =ROUNDUP(F6-F6*D6,0) -> 165 | D6: =IF(E6<0.8,(0.05+0.8-E6),0) -> 0 | E6: 0.90825688 | F6: =H6+H6*G6 -> 165 | G6: 0.1 | H6: 150 | I6: 0 | J6: 3 | K6: 668 | L6: 505 | M6: 384 | N6: 1557 | O6: 2979 | P6: 0.52265861 | Q6: 0 | R6: =SUMIF(TERRITOIRES!$A$4:$A$21,REGIONS!$A6,TERRITOIRES!S$4:S$21) -> 744 | S6: =SUMIF(TERRITOIRES!$A$4:$A$21,REGIONS!$A6,TERRITOIRES!T$4:T$21) -> 670 | T6: =SUMIF(TERRITOIRES!$A$4:$A$21,REGIONS!$A6,TERRITOIRES!U$4:U$21) -> 567 | U6: =SUMIF(TERRITOIRES!$A$4:$A$21,REGIONS!$A6,TERRITOIRES!V$4:V$21) -> 1981 | V6: 1489.5 | W6: =U6/V6 -> 1.3299765 | X6: 50 | Y6: =SUMIF(TERRITOIRES!$A$4:$A$21,REGIONS!$A6,TERRITOIRES!Z$4:Z$21) -> 15198187 | Z6: =SUMIF(TERRITOIRES!$A$4:$A$21,REGIONS!$A6,TERRITOIRES!AA$4:AA$21) -> 374599.01 | AA6: =SUMIF(TERRITOIRES!$A$4:$A$21,REGIONS!$A6,TERRITOIRES!AB$4:AB$21) -> 262567 | AB6: =SUMIF(TERRITOIRES!$A$4:$A$21,REGIONS!$A6,TERRITOIRES!AC$4:AC$21) -> 15835353 | AC6: 13405500 | AD6: =AB6/AC6 -> 1.1812579 | AE6: 50 | AF6: =SUMIF(TERRITOIRES!$A$4:$A$21,REGIONS!$A6,TERRITOIRES!AG$4:AG$21) -> 10999885 | AG6: =SUMIF(TERRITOIRES!$A$4:$A$21,REGIONS!$A6,TERRITOIRES!AH$4:AH$21) -> 551764.35 | AH6: =SUMIF(TERRITOIRES!$A$4:$A$21,REGIONS!$A6,TERRITOIRES!AI$4:AI$21) -> 378884.35 | AI6: =SUMIF(TERRITOIRES!$A$4:$A$21,REGIONS!$A6,TERRITOIRES!AJ$4:AJ$21) -> 11930534 | AJ6: 9930000 | AK6: =AI6/AJ6 -> 1.2014637 | AL6: 50 | AM6: 818.9 | AN6: 354 | AO6: 249.1 | AP6: 1422 | AQ6: 2780.4 | AR6: 0.5114372 | AS6: 0
A7: MARNE ARDENNES | B7: 153.88 | C7: =ROUNDUP(F7-F7*D7,0) -> 165 | D7: =IF(E7<0.8,(0.05+0.8-E7),0) -> 0 | E7: 0.85675676 | F7: =H7+H7*G7 -> 165 | G7: 0.1 | H7: 150 | I7: 0 | J7: 3 | K7: 1238 | L7: 944 | M7: 810 | N7: 2992 | O7: 4616.4 | P7: 0.64812408 | Q7: 0 | R7: =SUMIF(TERRITOIRES!$A$4:$A$21,REGIONS!$A7,TERRITOIRES!S$4:S$21) -> 836 | S7: =SUMIF(TERRITOIRES!$A$4:$A$21,REGIONS!$A7,TERRITOIRES!T$4:T$21) -> 763 | T7: =SUMIF(TERRITOIRES!$A$4:$A$21,REGIONS!$A7,TERRITOIRES!U$4:U$21) -> 651 | U7: =SUMIF(TERRITOIRES!$A$4:$A$21,REGIONS!$A7,TERRITOIRES!V$4:V$21) -> 2250 | V7: 2308.2 | W7: =U7/V7 -> 0.97478555 | X7: 50 | Y7: =SUMIF(TERRITOIRES!$A$4:$A$21,REGIONS!$A7,TERRITOIRES!Z$4:Z$21) -> 22376443 | Z7: =SUMIF(TERRITOIRES!$A$4:$A$21,REGIONS!$A7,TERRITOIRES!AA$4:AA$21) -> 370988.69 | AA7: =SUMIF(TERRITOIRES!$A$4:$A$21,REGIONS!$A7,TERRITOIRES!AB$4:AB$21) -> 242535.78 | AB7: =SUMIF(TERRITOIRES!$A$4:$A$21,REGIONS!$A7,TERRITOIRES!AC$4:AC$21) -> 22989968 | AC7: 20773800 | AD7: =AB7/AC7 -> 1.1066809 | AE7: 50 | AF7: =SUMIF(TERRITOIRES!$A$4:$A$21,REGIONS!$A7,TERRITOIRES!AG$4:AG$21) -> 16730984 | AG7: =SUMIF(TERRITOIRES!$A$4:$A$21,REGIONS!$A7,TERRITOIRES!AH$4:AH$21) -> 930270 | AH7: =SUMIF(TERRITOIRES!$A$4:$A$21,REGIONS!$A7,TERRITOIRES!AI$4:AI$21) -> 621699 | AI7: =SUMIF(TERRITOIRES!$A$4:$A$21,REGIONS!$A7,TERRITOIRES!AJ$4:AJ$21) -> 18282953 | AJ7: 15388000 | AK7: =AI7/AJ7 -> 1.1881306 | AL7: 50 | AM7: 1576.1 | AN7: 798.4 | AO7: 661.2 | AP7: 3035.7 | AQ7: 4308.64 | AR7: 0.70456107 | AS7: 0
A8: MEURTHE ET MOSELLE MEUSE | B8: 165.67 | C8: =ROUNDUP(F8-F8*D8,0) -> 0 | D8: =IF(E8<0.8,(0.05+0.8-E8),0) -> 0 | E8: 0.82997118 | H8: 0 | I8: 0 | J8: 0 | K8: 887 | L8: 718 | M8: 620 | N8: 2225 | O8: 4970.1 | P8: 0.44767711 | Q8: 0 | R8: =SUMIF(TERRITOIRES!$A$4:$A$21,REGIONS!$A8,TERRITOIRES!S$4:S$21) -> 817 | S8: =SUMIF(TERRITOIRES!$A$4:$A$21,REGIONS!$A8,TERRITOIRES!T$4:T$21) -> 756 | T8: =SUMIF(TERRITOIRES!$A$4:$A$21,REGIONS!$A8,TERRITOIRES!U$4:U$21) -> 631 | U8: =SUMIF(TERRITOIRES!$A$4:$A$21,REGIONS!$A8,TERRITOIRES!V$4:V$21) -> 2204 | V8: 2485.05 | W8: =U8/V8 -> 0.88690368 | X8: 0 | Y8: =SUMIF(TERRITOIRES!$A$4:$A$21,REGIONS!$A8,TERRITOIRES!Z$4:Z$21) -> 20417102 | Z8: =SUMIF(TERRITOIRES!$A$4:$A$21,REGIONS!$A8,TERRITOIRES!AA$4:AA$21) -> 558351.29 | AA8: =SUMIF(TERRITOIRES!$A$4:$A$21,REGIONS!$A8,TERRITOIRES!AB$4:AB$21) -> 365452.15 | AB8: =SUMIF(TERRITOIRES!$A$4:$A$21,REGIONS!$A8,TERRITOIRES!AC$4:AC$21) -> 21340905 | AC8: 22365450 | AD8: =AB8/AC8 -> 0.95419073 | AE8: 0 | AF8: =SUMIF(TERRITOIRES!$A$4:$A$21,REGIONS!$A8,TERRITOIRES!AG$4:AG$21) -> 13185947 | AG8: =SUMIF(TERRITOIRES!$A$4:$A$21,REGIONS!$A8,TERRITOIRES!AH$4:AH$21) -> 742956.6 | AH8: =SUMIF(TERRITOIRES!$A$4:$A$21,REGIONS!$A8,TERRITOIRES!AI$4:AI$21) -> 473520.4 | AI8: =SUMIF(TERRITOIRES!$A$4:$A$21,REGIONS!$A8,TERRITOIRES!AJ$4:AJ$21) -> 14402424 | AJ8: 16567000 | AK8: =AI8/AJ8 -> 0.86934412 | AL8: 0 | AM8: 1590.2 | AN8: 763.7 | AO8: 622.4 | AP8: 2976.3 | AQ8: 4638.76 | AR8: 0.64161543 | AS8: 0
A9: MOSELLE | B9: 189.24 | C9: =ROUNDUP(F9-F9*D9,0) -> 110 | D9: =IF(E9<0.8,(0.05+0.8-E9),0) -> 0 | E9: 0.82366071 | F9: =H9+H9*G9 -> 110 | G9: 0.1 | H9: 100 | I9: 0 | J9: 2 | K9: 1195 | L9: 969 | M9: 809 | N9: 2973 | O9: 5677.2 | P9: 0.52367364 | Q9: 0 | R9: =SUMIF(TERRITOIRES!$A$4:$A$21,REGIONS!$A9,TERRITOIRES!S$4:S$21) -> 1094 | S9: =SUMIF(TERRITOIRES!$A$4:$A$21,REGIONS!$A9,TERRITOIRES!T$4:T$21) -> 1010 | T9: =SUMIF(TERRITOIRES!$A$4:$A$21,REGIONS!$A9,TERRITOIRES!U$4:U$21) -> 820 | U9: =SUMIF(TERRITOIRES!$A$4:$A$21,REGIONS!$A9,TERRITOIRES!V$4:V$21) -> 2924 | V9: 2838.6 | W9: =U9/V9 -> 1.0300853 | X9: 50 | Y9: =SUMIF(TERRITOIRES!$A$4:$A$21,REGIONS!$A9,TERRITOIRES!Z$4:Z$21) -> 21963707 | Z9: =SUMIF(TERRITOIRES!$A$4:$A$21,REGIONS!$A9,TERRITOIRES!AA$4:AA$21) -> 663004.11 | AA9: =SUMIF(TERRITOIRES!$A$4:$A$21,REGIONS!$A9,TERRITOIRES!AB$4:AB$21) -> 446168.11 | AB9: =SUMIF(TERRITOIRES!$A$4:$A$21,REGIONS!$A9,TERRITOIRES!AC$4:AC$21) -> 23072879 | AC9: 25547400 | AD9: =AB9/AC9 -> 0.90314002 | AE9: 0 | AF9: =SUMIF(TERRITOIRES!$A$4:$A$21,REGIONS!$A9,TERRITOIRES!AG$4:AG$21) -> 19599040 | AG9: =SUMIF(TERRITOIRES!$A$4:$A$21,REGIONS!$A9,TERRITOIRES!AH$4:AH$21) -> 985050 | AH9: =SUMIF(TERRITOIRES!$A$4:$A$21,REGIONS!$A9,TERRITOIRES!AI$4:AI$21) -> 573710 | AI9: =SUMIF(TERRITOIRES!$A$4:$A$21,REGIONS!$A9,TERRITOIRES!AJ$4:AJ$21) -> 21157800 | AJ9: 18924000 | AK9: =AI9/AJ9 -> 1.1180406 | AL9: 50 | AM9: 1962.9 | AN9: 935.1 | AO9: 736 | AP9: 3634 | AQ9: 5298.72 | AR9: 0.68582601 | AS9: 0
A10: VOSGES | B10: 92.82 | C10: =ROUNDUP(F10-F10*D10,0) -> 165 | D10: =IF(E10<0.8,(0.05+0.8-E10),0) -> 0 | E10: 0.86192469 | F10: =H10+H10*G10 -> 165 | G10: 0.1 | H10: 150 | I10: 0 | J10: 3 | K10: 678 | L10: 472 | M10: 388 | N10: 1538 | O10: 2784.6 | P10: 0.55232349 | Q10: 0 | R10: =SUMIF(TERRITOIRES!$A$4:$A$21,REGIONS!$A10,TERRITOIRES!S$4:S$21) -> 660 | S10: =SUMIF(TERRITOIRES!$A$4:$A$21,REGIONS!$A10,TERRITOIRES!T$4:T$21) -> 579 | T10: =SUMIF(TERRITOIRES!$A$4:$A$21,REGIONS!$A10,TERRITOIRES!U$4:U$21) -> 474 | U10: =SUMIF(TERRITOIRES!$A$4:$A$21,REGIONS!$A10,TERRITOIRES!V$4:V$21) -> 1713 | V10: 1392.3 | W10: =U10/V10 -> 1.2303383 | X10: 50 | Y10: =SUMIF(TERRITOIRES!$A$4:$A$21,REGIONS!$A10,TERRITOIRES!Z$4:Z$21) -> 15580811 | Z10: =SUMIF(TERRITOIRES!$A$4:$A$21,REGIONS!$A10,TERRITOIRES!AA$4:AA$21) -> 412656.52 | AA10: =SUMIF(TERRITOIRES!$A$4:$A$21,REGIONS!$A10,TERRITOIRES!AB$4:AB$21) -> 349722.12 | AB10: =SUMIF(TERRITOIRES!$A$4:$A$21,REGIONS!$A10,TERRITOIRES!AC$4:AC$21) -> 16343189 | AC10: 12530700 | AD10: =AB10/AC10 -> 1.3042519 | AE10: 50 | AF10: =SUMIF(TERRITOIRES!$A$4:$A$21,REGIONS!$A10,TERRITOIRES!AG$4:AG$21) -> 8742154 | AG10: =SUMIF(TERRITOIRES!$A$4:$A$21,REGIONS!$A10,TERRITOIRES!AH$4:AH$21) -> 521073.8 | AH10: =SUMIF(TERRITOIRES!$A$4:$A$21,REGIONS!$A10,TERRITOIRES!AI$4:AI$21) -> 282373.8 | AI10: =SUMIF(TERRITOIRES!$A$4:$A$21,REGIONS!$A10,TERRITOIRES!AJ$4:AJ$21) -> 9545601.6 | AJ10: 9282000 | AK10: =AI10/AJ10 -> 1.0283992 | AL10: 50 | AM10: 883.2 | AN10: 366.6 | AO10: 259.9 | AP10: 1509.7 | AQ10: 2598.96 | AR10: 0.5808862 | AS10: 0
B11: 967.8 | K11: 6261 | L11: 4835 | M11: 3998 | N11: 15094 | O11: 29034 | P11: 0.51987325 | R11: =SUM(R4:R10) -> 5998 | S11: =SUM(S4:S10) -> 5486 | T11: =SUM(T4:T10) -> 4550 | U11: =SUM(U4:U10) -> 16034 | V11: 14517 | W11: =U11/V11 -> 1.1044982 | Y11: =SUM(Y4:Y10) -> 1.3721892e+08 | Z11: =SUM(Z4:Z10) -> 3254041.3 | AA11: =SUM(AA4:AA10) -> 2317442.7 | AB11: =SUM(AB4:AB10) -> 1.427904e+08 | AC11: 130653000 | AD11: =AB11/AC11 -> 1.092898 | AF11: =SUM(AF4:AF10) -> 99446482 | AG11: =SUM(AG4:AG10) -> 5206656.8 | AH11: =SUM(AH4:AH10) -> 3151438.4 | AI11: =SUM(AI4:AI10) -> 1.0780458e+08 | AJ11: 96780000 | AK11: =AI11/AJ11 -> 1.1139138 | AM11: 9991.4 | AN11: 4534.5 | AO11: 3501.9 | AP11: 18027.8 | AQ11: 27098.4 | AR11: 0.66527175
