Workbook

Sheet AGENCES
A1: REGION | B1: TERRITOIRE | C1: AGENCE | D1: ETP | E1: Gains après réfactions Risques et Conformité | H1: Gains potentiels avant résultats contrôles Risques et Conformité | M1: BANCARISATION | T1: CONQUETE 0-16 ANS | AA1: EPARGNE PLACEMENT | AH1: CREDITS | AO1: ASSURANCE & PREVOYANCE
M2: Formules hors transformation | T2: VB de Livrets, assurance vie et PEL sur 0-15 ans | AA2: Chiffre d'Affaires Assurance Vie | AH2: Engagements Conso (hors crédit projet) | AO2: VB Auto, 2 roues, MRH, Santé, GAV, Sécur Famille (0.8) & PJ (0.3)
E3: Gains après réfactions Risques et Conformité | F3: Taux réfactions | G3: Taux de conformité | H3: Gains potentiels par ETP avec bonus synergie (avant réfactions Conformité) | I3: Bonus Synergie | J3: Gains pot. par ETP | K3: Bonus excellence | L3: Nb Objectifs atteints | M3: Ventes Brutes | N3: Bonus univers absent | O3: Bonus client "ne" | P3: Total VB + bonus | Q3: Objectif | R3: Taux d'att. | S3: Gains | T3: Ventes Brutes | U3: Bonus univers absent | V3: Bonus client "ne" | W3: Total VB + bonus | X3: Objectif | Y3: Taux d'att. | Z3: Gains | AA3: Chiffre d'Affaires | AB3: Bonus univers absent | AC3: Bonus client "ne" | AD3: Total CA + bonus | AE3: Objectif | AF3: Taux d'att. | AG3: Gains | AH3: Engagem. | AI3: Bonus univers absent | AJ3: Bonus client "ne" | AK3: Total Engagem. + bonus | AL3: Objectif | AM3: Taux d'att. | AN3: Gains | AO3: Ventes Brutes | AP3: Bonus univers absent | AQ3: Bonus client "ne" | AR3: Total VB + bonus | AS3: Objectif | AT3: Taux d'att. | AU3: Gains
A4: AUBE HAUTE MARNE | B4: CHAUMONT | C4: CHAUMONT HOTEL DE VILLE | D4: 7.78 | E4: =ROUNDUP(H4-H4*F4,0) -> 120 | F4: =IF(G4<0.8,(0.05+0.8-G4),0) -> 0 | G4: 0.95238095 | H4: =J4+J4*I4 -> 120 | I4: 0.2 | J4: 100 | K4: 0 | L4: 2 | M4: 27 | N4: 19 | O4: 9 | P4: 55 | Q4: 233.4 | R4: 0.23564696 | S4: 0 | T4: 58 | U4: 55 | V4: 44 | W4: =T4+U4+V4 -> 157 | X4: 116.7 | Y4: =W4/X4 -> 1.3453299 | Z4: 50 | AA4: 703581.93 | AB4: 2152 | AC4: 46 | AD4: 705779.93 | AE4: 1050300 | AF4: 0.67197937 | AG4: 0 | AH4: 980081 | AI4: 20680.2 | AJ4: 13300.2 | AK4: 1014061.4 | AL4: 778000 | AM4: 1.3034208 | AN4: 50 | AO4: 111 | AP4: 31.4 | AQ4: 23.9 | AR4: 166.3 | AS4: 217.84 | AT4: 0.76340433 | AU4: 0
A5: AUBE HAUTE MARNE | B5: CHAUMONT | C5: CHAUMONT REPUBLIQUE | D5: 5.03 | E5: =ROUNDUP(H5-H5*F5,0) -> 300 | F5: =IF(G5<0.8,(0.05+0.8-G5),0) -> 0 | G5: 1 | H5: =J5+J5*I5 -> 300 | I5: 0.2 | J5: 250 | K5: 50 | L5: 4 | M5: 25 | N5: 20 | O5: 19 | P5: 64 | Q5: 150.9 | R5: 0.42412194 | S5: 0 | T5: 29 | U5: 27 | V5: 27 | W5: =T5+U5+V5 -> 83 | X5: 75.45 | Y5: =W5/X5 -> 1.1000663 | Z5: 50 | AA5: 819368.49 | AB5: 5244 | AC5: 24 | AD5: 824636.49 | AE5: 679050 | AF5: 1.2143973 | AG5: 50 | AH5: 621500 | AI5: 27000 | AJ5: 18800 | AK5: 667300 | AL5: 503000 | AM5: 1.3266402 | AN5: 50 | AO5: 86.3 | AP5: 43 | AQ5: 31 | AR5: 160.3 | AS5: 140.84 | AT5: 1.138171 | AU5: 50
A6: AUBE HAUTE MARNE | B6: CHAUMONT | C6: JOINVILLE | D6: 1.8 | E6: =ROUNDUP(H6-H6*F6,0) -> 432 | F6: =IF(G6<0.8,(0.05+0.8-G6),0) -> 0.1 | G6: 0.75 | H6: =J6+J6*I6 -> 480 | I6: 0.2 | J6: 400 | K6: 150 | L6: 5 | M6: 22 | N6: 19 | O6: 19 | P6: 60 | Q6: 54 | R6: 1.1111111 | S6: 50 | T6: 11 | U6: 11 | V6: 11 | W6: =T6+U6+V6 -> 33 | X6: 27 | Y6: =W6/X6 -> 1.2222222 | Z6: 50 | AA6: 289438.67 | AB6: 300 | AC6: 300 | AD6: 290038.67 | AE6: 243000 | AF6: 1.1935748 | AG6: 50 | AH6: 213700 | AI6: 7000 | AJ6: 2800 | AK6: 223500 | AL6: 180000 | AM6: 1.2416667 | AN6: 50 | AO6: 35.7 | AP6: 10.4 | AQ6: 7.6 | AR6: 53.7 | AS6: 50.4 | AT6: 1.0654762 | AU6: 50
A7: AUBE HAUTE MARNE | B7: CHAUMONT | C7: LANGRES | D7: 8.81 | E7: =ROUNDUP(H7-H7*F7,0) -> 300 | F7: =IF(G7<0.8,(0.05+0.8-G7),0) -> 0 | G7: 0.95652174 | H7: =J7+J7*I7 -> 300 | I7: 0.2 | J7: 250 | K7: 50 | L7: 4 | M7: 77 | N7: 49 | O7: 40 | P7: 166 | Q7: 264.3 | R7: 0.62807416 | S7: 0 | T7: 66 | U7: 60 | V7: 47 | W7: =T7+U7+V7 -> 173 | X7: 132.15 | Y7: =W7/X7 -> 1.3091184 | Z7: 50 | AA7: 1285102.8 | AB7: 34106 | AC7: 27700 | AD7: 1346908.8 | AE7: 1189350 | AF7: 1.1324747 | AG7: 50 | AH7: 1039350 | AI7: 72800 | AJ7: 27800 | AK7: 1139950 | AL7: 881000 | AM7: 1.2939274 | AN7: 50 | AO7: 158.2 | AP7: 80 | AQ7: 51.7 | AR7: 289.9 | AS7: 246.68 | AT7: 1.1752067 | AU7: 50
A8: AUBE HAUTE MARNE | B8: CHAUMONT | C8: SAINT DIZIER CENTRE | D8: 8.19 | E8: =ROUNDUP(H8-H8*F8,0) -> 180 | F8: =IF(G8<0.8,(0.05+0.8-G8),0) -> 0 | G8: 0.875 | H8: =J8+J8*I8 -> 180 | I8: 0.2 | J8: 150 | K8: 0 | L8: 3 | M8: 39 | N8: 32 | O8: 29 | P8: 100 | Q8: 245.7 | R8: 0.40700041 | S8: 0 | T8: 51 | U8: 47 | V8: 45 | W8: =T8+U8+V8 -> 143 | X8: 122.85 | Y8: =W8/X8 -> 1.1640212 | Z8: 50 | AA8: 1954786.2 | AB8: 15140 | AC8: 4740 | AD8: 1974666.2 | AE8: 1105650 | AF8: 1.7859776 | AG8: 50 | AH8: 784150 | AI8: 43590 | AJ8: 21440 | AK8: 849180 | AL8: 819000 | AM8: 1.0368498 | AN8: 50 | AO8: 96.6 | AP8: 52.1 | AQ8: 42.6 | AR8: 191.3 | AS8: 229.32 | AT8: 0.83420548 | AU8: 0
A9: AUBE HAUTE MARNE | B9: CHAUMONT | C9: WASSY | D9: 1.89 | E9: =ROUNDUP(H9-H9*F9,0) -> 432 | F9: =IF(G9<0.8,(0.05+0.8-G9),0) -> 0.1 | G9: 0.75 | H9: =J9+J9*I9 -> 480 | I9: 0.2 | J9: 400 | K9: 150 | L9: 5 | M9: 27 | N9: 23 | O9: 13 | P9: 63 | Q9: 56.7 | R9: 1.1111111 | S9: 50 | T9: 14 | U9: 13 | V9: 10 | W9: =T9+U9+V9 -> 37 | X9: 28.35 | Y9: =W9/X9 -> 1.3051146 | Z9: 50 | AA9: 345748.73 | AB9: 2125 | AC9: 1105 | AD9: 348978.73 | AE9: 255150 | AF9: 1.3677395 | AG9: 50 | AH9: 235830 | AI9: 13620 | AJ9: 6020 | AK9: 255470 | AL9: 189000 | AM9: 1.3516931 | AN9: 50 | AO9: 42.1 | AP9: 11.8 | AQ9: 8.7 | AR9: 62.6 | AS9: 52.92 | AT9: 1.1829176 | AU9: 50
A10: AUBE HAUTE MARNE | B10: TROYES | C10: ARCIS SUR AUBE | D10: 3.15 | E10: =ROUNDUP(H10-H10*F10,0) -> 300 | F10: =IF(G10<0.8,(0.05+0.8-G10),0) -> 0 | G10: 1 | H10: =J10+J10*I10 -> 300 | I10: 0.2 | J10: 250 | K10: 50 | L10: 4 | M10: 7 | N10: 7 | O10: 6 | P10: 20 | Q10: 94.5 | R10: 0.21164021 | S10: 0 | T10: 24 | U10: 24 | V10: 19 | W10: =T10+U10+V10 -> 67 | X10: 47.25 | Y10: =W10/X10 -> 1.4179894 | Z10: 50 | AA10: 467164.44 | AB10: 3074 | AC10: 3026 | AD10: 473264.44 | AE10: 425250 | AF10: 1.1129087 | AG10: 50 | AH10: 375101 | AI10: 32300 | AJ10: 22500 | AK10: 429901 | AL10: 315000 | AM10: 1.3647651 | AN10: 50 | AO10: 59.5 | AP10: 27.3 | AQ10: 15.7 | AR10: 102.5 | AS10: 88.2 | AT10: 1.1621315 | AU10: 50
A11: AUBE HAUTE MARNE | B11: TROYES | C11: BAR SUR AUBE | D11: 5.08 | E11: =ROUNDUP(H11-H11*F11,0) -> 120 | F11: =IF(G11<0.8,(0.05+0.8-G11),0) -> 0 | G11: 0.85714286 | H11: =J11+J11*I11 -> 120 | I11: 0.2 | J11: 100 | K11: 0 | L11: 2 | M11: 23 | N11: 19 | O11: 15 | P11: 57 | Q11: 152.4 | R11: 0.37401575 | S11: 0 | T11: 39 | U11: 37 | V11: 33 | W11: =T11+U11+V11 -> 109 | X11: 76.2 | Y11: =W11/X11 -> 1.4304462 | Z11: 50 | AA11: 369915.98 | AB11: 249 | AC11: 229 | AD11: 370393.98 | AE11: 685800 | AF11: 0.54009038 | AG11: 0 | AH11: 715080 | AI11: 13196 | AJ11: 2796 | AK11: 731072 | AL11: 508000 | AM11: 1.4391181 | AN11: 50 | AO11: 76 | AP11: 32 | AQ11: 21.6 | AR11: 129.6 | AS11: 142.24 | AT11: 0.91113611 | AU11: 0
A12: AUBE HAUTE MARNE | B12: TROYES | C12: BAR SUR SEINE | D12: 3.38 | E12: =ROUNDUP(H12-H12*F12,0) -> 180 | F12: =IF(G12<0.8,(0.05+0.8-G12),0) -> 0 | G12: 0.875 | H12: =J12+J12*I12 -> 180 | I12: 0.2 | J12: 150 | K12: 0 | L12: 3 | M12: 19 | N12: 16 | O12: 14 | P12: 49 | Q12: 101.4 | R12: 0.48323471 | S12: 0 | T12: 21 | U12: 20 | V12: 19 | W12: =T12+U12+V12 -> 60 | X12: 50.7 | Y12: =W12/X12 -> 1.183432 | Z12: 50 | AA12: 237469.73 | AB12: 2 | AC12: 2 | AD12: 237473.73 | AE12: 456300 | AF12: 0.52043333 | AG12: 0 | AH12: 369401 | AI12: 13460 | AJ12: 8660 | AK12: 391521 | AL12: 338000 | AM12: 1.1583462 | AN12: 50 | AO12: 54.3 | AP12: 27.1 | AQ12: 24.6 | AR12: 106 | AS12: 94.64 | AT12: 1.1200338 | AU12: 50
A13: AUBE HAUTE MARNE | B13: TROYES | C13: LA CHAPELLE ST LUC | D13: 5.06 | E13: =ROUNDUP(H13-H13*F13,0) -> 180 | F13: =IF(G13<0.8,(0.05+0.8-G13),0) -> 0 | G13: 0.9 | H13: =J13+J13*I13 -> 180 | I13: 0.2 | J13: 150 | K13: 0 | L13: 3 | M13: 27 | N13: 23 | O13: 23 | P13: 73 | Q13: 151.8 | R13: 0.48089592 | S13: 0 | T13: 37 | U13: 34 | V13: 33 | W13: =T13+U13+V13 -> 104 | X13: 75.9 | Y13: =W13/X13 -> 1.370224 | Z13: 50 | AA13: 216879.68 | AB13: 29346 | AC13: 29200 | AD13: 275425.68 | AE13: 683100 | AF13: 0.40319965 | AG13: 0 | AH13: 758600 | AI13: 38300 | AJ13: 28800 | AK13: 825700 | AL13: 506000 | AM13: 1.6318182 | AN13: 50 | AO13: 92.9 | AP13: 52.1 | AQ13: 36 | AR13: 181 | AS13: 141.68 | AT13: 1.2775268 | AU13: 50
A14: AUBE HAUTE MARNE | B14: TROYES | C14: NOGENT SUR SEINE | D14: 4.26 | E14: =ROUNDUP(H14-H14*F14,0) -> 60 | F14: =IF(G14<0.8,(0.05+0.8-G14),0) -> 0 | G14: 1 | H14: =J14+J14*I14 -> 60 | I14: 0.2 | J14: 50 | K14: 0 | L14: 1 | M14: 10 | N14: 8 | O14: 7 | P14: 25 | Q14: 127.8 | R14: 0.19561815 | S14: 0 | T14: 20 | U14: 20 | V14: 20 | W14: =T14+U14+V14 -> 60 | X14: 63.9 | Y14: =W14/X14 -> 0.93896714 | Z14: 0 | AA14: 191121.66 | AB14: 15300 | AC14: 300 | AD14: 206721.66 | AE14: 575100 | AF14: 0.35945342 | AG14: 0 | AH14: 447050 | AI14: 28920 | AJ14: 25920 | AK14: 501890 | AL14: 426000 | AM14: 1.1781455 | AN14: 50 | AO14: 23.9 | AP14: 8.6 | AQ14: 6.7 | AR14: 39.2 | AS14: 119.28 | AT14: 0.3286385 | AU14: 0
A15: AUBE HAUTE MARNE | B15: TROYES | C15: ROMILLY SUR SEINE | D15: 6.44 | E15: =ROUNDUP(H15-H15*F15,0) -> 120 | F15: =IF(G15<0.8,(0.05+0.8-G15),0) -> 0 | G15: 0.92857143 | H15: =J15+J15*I15 -> 120 | I15: 0.2 | J15: 100 | K15: 0 | L15: 2 | M15: 23 | N15: 21 | O15: 19 | P15: 63 | Q15: 193.2 | R15: 0.32608696 | S15: 0 | T15: 46 | U15: 44 | V15: 44 | W15: =T15+U15+V15 -> 134 | X15: 96.6 | Y15: =W15/X15 -> 1.3871636 | Z15: 50 | AA15: 570428.7 | AB15: 6030 | AC15: 5410 | AD15: 581868.7 | AE15: 869400 | AF15: 0.66927617 | AG15: 0 | AH15: 726300 | AI15: 32200 | AJ15: 30400 | AK15: 788900 | AL15: 644000 | AM15: 1.225 | AN15: 50 | AO15: 45.3 | AP15: 21.6 | AQ15: 17.1 | AR15: 84 | AS15: 180.32 | AT15: 0.46583851 | AU15: 0
... A29: BAS RHIN | B29: HAGUENAU | C29: INGWILLER | D29: 3.35 | E29: =ROUNDUP(H29-H29*F29,0) -> 275 | F29: =IF(G29<0.8,(0.05+0.8-G29),0) -> 0 | G29: 0.857 | H29: =J29+J29*I29 -> 275 | I29: 0.1 | J29: 250 | K29: 50 | L29: 4 | M29: 22 | N29: 11 | O29: 11 | P29: 44 | Q29: 100.5 | R29: 0.43781095 | S29: 0 | T29: 21 | U29: 21 | V29: 21 | W29: =T29+U29+V29 -> 63 | X29: 50.25 | Y29: =W29/X29 -> 1.2537313 | Z29: 50 | AA29: 887755.6 | AB29: 10580 | AC29: 6480 | AD29: 904815.6 | AE29: 452250 | AF29: 2.0006978 | AG29: 50 | AH29: 361000 | AI29: 16200 | AJ29: 13000 | AK29: 390200 | AL29: 335000 | AM29: 1.1647761 | AN29: 50 | AO29: 54.6 | AP29: 27.9 | AQ29: 18.4 | AR29: 100.9 | AS29: 93.8 | AT29: 1.075693 | AU29: 50
A30: BAS RHIN | B30: HAGUENAU | C30: NIEDERBRONN LES BAINS | D30: 5.3 | E30: =ROUNDUP(H30-H30*F30,0) -> 0 | F30: =IF(G30<0.8,(0.05+0.8-G30),0) -> 0 | G30: 0.94444444 | J30: 0 | K30: 0 | L30: 0 | M30: 18 | N30: 11 | O30: 9 | P30: 38 | Q30: 159 | R30: 0.23899371 | S30: 0 | T30: 22 | U30: 20 | V30: 17 | W30: =T30+U30+V30 -> 59 | X30: 79.5 | Y30: =W30/X30 -> 0.74213836 | Z30: 0 | AA30: 496449.75 | AB30: 110 | AC30: 106 | AD30: 496665.75 | AE30: 715500 | AF30: 0.69415199 | AG30: 0 | AH30: 453700 | AI30: 19400 | AJ30: 18000 | AK30: 491100 | AL30: 530000 | AM30: 0.92660377 | AN30: 0 | AO30: 42.1 | AP30: 11.4 | AQ30: 8.6 | AR30: 62.1 | AS30: 148.4 | AT30: 0.41846361 | AU30: 0
A31: BAS RHIN | B31: HAGUENAU | C31: PFAFFENHOFFEN | D31: 1.6 | E31: =ROUNDUP(H31-H31*F31,0) -> 110 | F31: =IF(G31<0.8,(0.05+0.8-G31),0) -> 0 | G31: 1 | H31: =J31+J31*I31 -> 110 | I31: 0.1 | J31: 100 | K31: 0 | L31: 2 | M31: 8 | N31: 3 | O31: 3 | P31: 14 | Q31: 48 | R31: 0.29166667 | S31: 0 | T31: 14 | U31: 11 | V31: 10 | W31: =T31+U31+V31 -> 35 | X31: 24 | Y31: =W31/X31 -> 1.4583333 | Z31: 50 | AA31: 139593.83 | AB31: 0 | AC31: 0 | AD31: 139593.83 | AE31: 216000 | AF31: 0.64626773 | AG31: 0 | AH31: 150800 | AI31: 0 | AJ31: 0 | AK31: 150800 | AL31: 160000 | AM31: 0.9425 | AN31: 0 | AO31: 29.8 | AP31: 8 | AQ31: 5 | AR31: 42.8 | AS31: 44.8 | AT31: 0.95535714 | AU31: 50
A32: BAS RHIN | B32: HAGUENAU | C32: SARRE UNION | D32: 3.52 | E32: =ROUNDUP(H32-H32*F32,0) -> 165 | F32: =IF(G32<0.8,(0.05+0.8-G32),0) -> 0 | G32: 1 | H32: =J32+J32*I32 -> 165 | I32: 0.1 | J32: 150 | K32: 0 | L32: 3 | M32: 12 | N32: 11 | O32: 7 | P32: 30 | Q32: 105.6 | R32: 0.28409091 | S32: 0 | T32: 30 | U32: 28 | V32: 16 | W32: =T32+U32+V32 -> 74 | X32: 52.8 | Y32: =W32/X32 -> 1.4015152 | Z32: 50 | AA32: 725709.77 | AB32: 20006 | AC32: 20000 | AD32: 765715.77 | AE32: 475200 | AF32: 1.6113547 | AG32: 50 | AH32: 519700 | AI32: 15000 | AJ32: 13000 | AK32: 547700 | AL32: 352000 | AM32: 1.5559659 | AN32: 50 | AO32: 24.2 | AP32: 7.2 | AQ32: 4.6 | AR32: 36 | AS32: 98.56 | AT32: 0.36525974 | AU32: 0
A33: BAS RHIN | B33: HAGUENAU | C33: SAVERNE | D33: 5.97 | E33: =ROUNDUP(H33-H33*F33,0) -> 165 | F33: =IF(G33<0.8,(0.05+0.8-G33),0) -> 0 | G33: 0.85 | H33: =J33+J33*I33 -> 165 | I33: 0.1 | J33: 150 | K33: 0 | L33: 3 | M33: 49 | N33: 35 | O33: 33 | P33: 117 | Q33: 179.1 | R33: 0.65326633 | S33: 0 | T33: 54 | U33: 46 | V33: 35 | W33: =T33+U33+V33 -> 135 | X33: 89.55 | Y33: =W33/X33 -> 1.5075377 | Z33: 50 | AA33: 964724.54 | AB33: 12262 | AC33: 6240 | AD33: 983226.54 | AE33: 805950 | AF33: 1.2199597 | AG33: 50 | AH33: 983320 | AI33: 6800 | AJ33: 4400 | AK33: 994520 | AL33: 597000 | AM33: 1.6658626 | AN33: 50 | AO33: 57.4 | AP33: 8.9 | AQ33: 6.1 | AR33: 72.4 | AS33: 167.16 | AT33: 0.43311797 | AU33: 0
A34: BAS RHIN | B34: HAGUENAU | C34: SOULTZ SOUS FORETS | D34: 1.68 | E34: =ROUNDUP(H34-H34*F34,0) -> 165 | F34: =IF(G34<0.8,(0.05+0.8-G34),0) -> 0 | G34: 0.83333333 | H34: =J34+J34*I34 -> 165 | I34: 0.1 | J34: 150 | K34: 0 | L34: 3 | M34: 18 | N34: 9 | O34: 9 | P34: 36 | Q34: 50.4 | R34: 0.71428571 | S34: 0 | T34: 11 | U34: 10 | V34: 10 | W34: =T34+U34+V34 -> 31 | X34: 25.2 | Y34: =W34/X34 -> 1.2301587 | Z34: 50 | AA34: 291634.02 | AB34: 404 | AC34: 402 | AD34: 292440.02 | AE34: 226800 | AF34: 1.2894181 | AG34: 50 | AH34: 189400 | AI34: 10000 | AJ34: 0 | AK34: 199400 | AL34: 168000 | AM34: 1.1869048 | AN34: 50 | AO34: 13.2 | AP34: 4.3 | AQ34: 4.3 | AR34: 21.8 | AS34: 47.04 | AT34: 0.46343537 | AU34: 0
A35: BAS RHIN | B35: HAGUENAU | C35: TRUCHTERSHEIM | D35: 2.36 | E35: =ROUNDUP(H35-H35*F35,0) -> 110 | F35: =IF(G35<0.8,(0.05+0.8-G35),0) -> 0 | G35: 1 | H35: =J35+J35*I35 -> 110 | I35: 0.1 | J35: 100 | K35: 0 | L35: 2 | M35: 13 | N35: 9 | O35: 5 | P35: 27 | Q35: 70.8 | R35: 0.38135593 | S35: 0 | T35: 22 | U35: 21 | V35: 8 | W35: =T35+U35+V35 -> 51 | X35: 35.4 | Y35: =W35/X35 -> 1.440678 | Z35: 50 | AA35: 1195975.4 | AB35: 44040 | AC35: 44000 | AD35: 1284015.4 | AE35: 318600 | AF35: 4.0301803 | AG35: 50 | AH35: 85500 | AI35: 3200 | AJ35: 3200 | AK35: 91900 | AL35: 236000 | AM35: 0.38940678 | AN35: 0 | AO35: 21.5 | AP35: 7.4 | AQ35: 5 | AR35: 33.9 | AS35: 66.08 | AT35: 0.51301453 | AU35: 0
A36: BAS RHIN | B36: HAGUENAU | C36: WISSEMBOURG | D36: 7.46 | E36: =ROUNDUP(H36-H36*F36,0) -> 165 | F36: =IF(G36<0.8,(0.05+0.8-G36),0) -> 0 | G36: 1 | H36: =J36+J36*I36 -> 165 | I36: 0.1 | J36: 150 | K36: 0 | L36: 3 | M36: 24 | N36: 20 | O36: 17 | P36: 61 | Q36: 223.8 | R36: 0.27256479 | S36: 0 | T36: 56 | U36: 54 | V36: 32 | W36: =T36+U36+V36 -> 142 | X36: 111.9 | Y36: =W36/X36 -> 1.2689902 | Z36: 50 | AA36: 1329569.7 | AB36: 5240 | AC36: 1210 | AD36: 1336019.7 | AE36: 1007100 | AF36: 1.3266008 | AG36: 50 | AH36: 851600 | AI36: 71260 | AJ36: 41760 | AK36: 964620 | AL36: 746000 | AM36: 1.2930563 | AN36: 50 | AO36: 114.5 | AP36: 40 | AQ36: 29.1 | AR36: 183.6 | AS36: 208.88 | AT36: 0.87897357 | AU36: 0
A37: BAS RHIN | B37: SELESTAT | C37: BARR | D37: 2.58 | E37: =ROUNDUP(H37-H37*F37,0) -> 90 | F37: =IF(G37<0.8,(0.05+0.8-G37),0) -> 0.183 | G37: 0.667 | H37: =J37+J37*I37 -> 110 | I37: 0.1 | J37: 100 | K37: 0 | L37: 2 | M37: 16 | N37: 15 | O37: 12 | P37: 43 | Q37: 77.4 | R37: 0.55555556 | S37: 0 | T37: 19 | U37: 15 | V37: 12 | W37: =T37+U37+V37 -> 46 | X37: 38.7 | Y37: =W37/X37 -> 1.1886305 | Z37: 50 | AA37: 222836.4 | AB37: 9100 | AC37: 9000 | AD37: 240936.4 | AE37: 348300 | AF37: 0.69174964 | AG37: 0 | AH37: 255100 | AI37: 25620 | AJ37: 11220 | AK37: 291940 | AL37: 258000 | AM37: 1.1315504 | AN37: 50 | AO37: 29.8 | AP37: 13.2 | AQ37: 11.4 | AR37: 54.4 | AS37: 72.24 | AT37: 0.7530454 | AU37: 0
A38: BAS RHIN | B38: SELESTAT | C38: BENFELD | D38: 3.86 | E38: =ROUNDUP(H38-H38*F38,0) -> 165 | F38: =IF(G38<0.8,(0.05+0.8-G38),0) -> 0 | G38: 1 | H38: =J38+J38*I38 -> 165 | I38: 0.1 | J38: 150 | K38: 0 | L38: 3 | M38: 11 | N38: 5 | O38: 3 | P38: 19 | Q38: 115.8 | R38: 0.16407599 | S38: 0 | T38: 20 | U38: 20 | V38: 20 | W38: =T38+U38+V38 -> 60 | X38: 57.9 | Y38: =W38/X38 -> 1.0362694 | Z38: 50 | AA38: 574322.13 | AB38: 106.494 | AC38: 6.494 | AD38: 574435.12 | AE38: 521100 | AF38: 1.102351 | AG38: 50 | AH38: 418500 | AI38: 16400 | AJ38: 1400 | AK38: 436300 | AL38: 386000 | AM38: 1.1303109 | AN38: 50 | AO38: 41.1 | AP38: 6.9 | AQ38: 2.8 | AR38: 50.8 | AS38: 108.08 | AT38: 0.47002221 | AU38: 0
A39: BAS RHIN | B39: SELESTAT | C39: ERSTEIN | D39: 3.71 | E39: =ROUNDUP(H39-H39*F39,0) -> 55 | F39: =IF(G39<0.8,(0.05+0.8-G39),0) -> 0 | G39: 1 | H39: =J39+J39*I39 -> 55 | I39: 0.1 | J39: 50 | K39: 0 | L39: 1 | M39: 11 | N39: 9 | O39: 6 | P39: 26 | Q39: 111.3 | R39: 0.23360288 | S39: 0 | T39: 13 | U39: 10 | V39: 6 | W39: =T39+U39+V39 -> 29 | X39: 55.65 | Y39: =W39/X39 -> 0.52111411 | Z39: 0 | AA39: 234656.82 | AB39: 20 | AC39: 20 | AD39: 234696.82 | AE39: 500850 | AF39: 0.46859703 | AG39: 0 | AH39: 466810 | AI39: 14408 | AJ39: 6408 | AK39: 487626 | AL39: 371000 | AM39: 1.3143558 | AN39: 50 | AO39: 29.1 | AP39: 9.1 | AQ39: 6.8 | AR39: 45 | AS39: 103.88 | AT39: 0.43319214 | AU39: 0
A40: BAS RHIN | B40: SELESTAT | C40: FEGERSHEIM | D40: 2.56 | E40: =ROUNDUP(H40-H40*F40,0) -> 110 | F40: =IF(G40<0.8,(0.05+0.8-G40),0) -> 0 | G40: 0.83333333 | H40: =J40+J40*I40 -> 110 | I40: 0.1 | J40: 100 | K40: 0 | L40: 2 | M40: 16 | N40: 14 | O40: 5 | P40: 35 | Q40: 76.8 | R40: 0.45572917 | S40: 0 | T40: 16 | U40: 16 | V40: 11 | W40: =T40+U40+V40 -> 43 | X40: 38.4 | Y40: =W40/X40 -> 1.1197917 | Z40: 50 | AA40: 279608.28 | AB40: 0 | AC40: 0 | AD40: 279608.28 | AE40: 345600 | AF40: 0.80905174 | AG40: 0 | AH40: 267500 | AI40: 16000 | AJ40: 200 | AK40: 283700 | AL40: 256000 | AM40: 1.1082031 | AN40: 50 | AO40: 21.2 | AP40: 5.5 | AQ40: 4.7 | AR40: 31.4 | AS40: 71.68 | AT40: 0.43805804 | AU40: 0
A41: BAS RHIN | B41: SELESTAT | C41: ILLKIRCH CENTRE | D41: 6.33 | E41: =ROUNDUP(H41-H41*F41,0) -> 110 | F41: =IF(G41<0.8,(0.05+0.8-G41),0) -> 0 | G41: 0.92307692 | H41: =J41+J41*I41 -> 110 | I41: 0.1 | J41: 100 | K41: 0 | L41: 2 | M41: 25 | N41: 15 | O41: 14 | P41: 54 | Q41: 189.9 | R41: 0.28436019 | S41: 0 | T41: 18 | U41: 13 | V41: 12 | W41: =T41+U41+V41 -> 43 | X41: 94.95 | Y41: =W41/X41 -> 0.45286993 | Z41: 0 | AA41: 1818418.8 | AB41: 7110 | AC41: 8 | AD41: 1825536.8 | AE41: 854550 | AF41: 2.1362551 | AG41: 50 | AH41: 689436 | AI41: 44427.2 | AJ41: 15500 | AK41: 749363.2 | AL41: 633000 | AM41: 1.1838281 | AN41: 50 | AO41: 68.6 | AP41: 22.8 | AQ41: 13.4 | AR41: 104.8 | AS41: 177.24 | AT41: 0.59128865 | AU41: 0
A42: BAS RHIN | B42: SELESTAT | C42: LINGOLSHEIM | D42: 3.75 | E42: =ROUNDUP(H42-H42*F42,0) -> 110 | F42: =IF(G42<0.8,(0.05+0.8-G42),0) -> 0 | G42: 1 | H42: =J42+J42*I42 -> 110 | I42: 0.1 | J42: 100 | K42: 0 | L42: 2 | M42: 9 | N42: 8 | O42: 7 | P42: 24 | Q42: 112.5 | R42: 0.21333333 | S42: 0 | T42: 17 | U42: 15 | V42: 14 | W42: =T42+U42+V42 -> 46 | X42: 56.25 | Y42: =W42/X42 -> 0.81777778 | Z42: 0 | AA42: 779835.6 | AB42: 202 | AC42: 0 | AD42: 780037.6 | AE42: 506250 | AF42: 1.540815 | AG42: 50 | AH42: 385450 | AI42: 14200 | AJ42: 2600 | AK42: 402250 | AL42: 375000 | AM42: 1.0726667 | AN42: 50 | AO42: 22.3 | AP42: 5.9 | AQ42: 4.9 | AR42: 33.1 | AS42: 105 | AT42: 0.3152381 | AU42: 0
... A53: BAS RHIN | B53: STRASBOURG | C53: MUNDOLSHEIM | D53: 3.54 | E53: =ROUNDUP(H53-H53*F53,0) -> 440 | F53: =IF(G53<0.8,(0.05+0.8-G53),0) -> 0 | G53: 1 | H53: =J53+J53*I53 -> 440 | I53: 0.1 | J53: 400 | K53: 150 | L53: 5 | M53: 55 | N53: 41 | O53: 34 | P53: 130 | Q53: 106.2 | R53: 1.2241055 | S53: 50 | T53: 28 | U53: 26 | V53: 23 | W53: =T53+U53+V53 -> 77 | X53: 53.1 | Y53: =W53/X53 -> 1.4500942 | Z53: 50 | AA53: 867363.76 | AB53: 21824 | AC53: 21802 | AD53: 910989.76 | AE53: 477900 | AF53: 1.9062351 | AG53: 50 | AH53: 422600 | AI53: 39200 | AJ53: 19600 | AK53: 481400 | AL53: 354000 | AM53: 1.359887 | AN53: 50 | AO53: 58.3 | AP53: 33.8 | AQ53: 27 | AR53: 119.1 | AS53: 99.12 | AT53: 1.2015738 | AU53: 50
A54: BAS RHIN | B54: STRASBOURG | C54: OBERHAUSBERGEN | D54: 3.95 | E54: =ROUNDUP(H54-H54*F54,0) -> 154 | F54: =IF(G54<0.8,(0.05+0.8-G54),0) -> 0.072222222 | G54: 0.77777778 | H54: =J54+J54*I54 -> 165 | I54: 0.1 | J54: 150 | K54: 0 | L54: 3 | M54: 32 | N54: 23 | O54: 17 | P54: 72 | Q54: 118.5 | R54: 0.60759494 | S54: 0 | T54: 26 | U54: 21 | V54: 19 | W54: =T54+U54+V54 -> 66 | X54: 59.25 | Y54: =W54/X54 -> 1.1139241 | Z54: 50 | AA54: =505623.58+300000 -> 805623.58 | AB54: 5912 | AC54: 810 | AD54: =SUM(AA54:AC54) -> 812345.58 | AE54: 533250 | AF54: =AD54/AE54 -> 1.523386 | AG54: 50 | AH54: =304500+60936 -> 365436 | AI54: 15300 | AJ54: 13700 | AK54: =SUM(AH54:AJ54) -> 394436 | AL54: 395000 | AM54: =AK54/AL54 -> 0.99857215 | AN54: 50 | AO54: 58 | AP54: 24.4 | AQ54: 16.4 | AR54: 98.8 | AS54: 110.6 | AT54: 0.89330922 | AU54: 0
A55: BAS RHIN | B55: STRASBOURG | C55: REICHSTETT | D55: 1.6 | E55: =ROUNDUP(H55-H55*F55,0) -> 165 | F55: =IF(G55<0.8,(0.05+0.8-G55),0) -> 0 | G55: 1 | H55: =J55+J55*I55 -> 165 | I55: 0.1 | J55: 150 | K55: 0 | L55: 3 | M55: 8 | N55: 7 | O55: 5 | P55: 20 | Q55: 48 | R55: 0.41666667 | S55: 0 | T55: 11 | U55: 11 | V55: 7 | W55: =T55+U55+V55 -> 29 | X55: 24 | Y55: =W55/X55 -> 1.2083333 | Z55: 50 | AA55: 567413.51 | AB55: 52038.12 | AC55: 12028 | AD55: 631479.63 | AE55: 216000 | AF55: 2.9235168 | AG55: 50 | AH55: 126500 | AI55: 3200 | AJ55: 0 | AK55: 129700 | AL55: 160000 | AM55: 0.810625 | AN55: 0 | AO55: 26.1 | AP55: 14.3 | AQ55: 8.8 | AR55: 49.2 | AS55: 44.8 | AT55: 1.0982143 | AU55: 50
A56: BAS RHIN | B56: STRASBOURG | C56: SCHILTIGHEIM CENTRE | D56: 2.95 | E56: =ROUNDUP(H56-H56*F56,0) -> 440 | F56: =IF(G56<0.8,(0.05+0.8-G56),0) -> 0 | G56: 1 | H56: =J56+J56*I56 -> 440 | I56: 0.1 | J56: 400 | K56: 150 | L56: 5 | M56: 51 | N56: 36 | O56: 34 | P56: 121 | Q56: 88.5 | R56: 1.3672316 | S56: 50 | T56: 26 | U56: 25 | V56: 24 | W56: =T56+U56+V56 -> 75 | X56: 44.25 | Y56: =W56/X56 -> 1.6949153 | Z56: 50 | AA56: 555288.46 | AB56: 17334 | AC56: 2426 | AD56: 575048.46 | AE56: 398250 | AF56: 1.4439384 | AG56: 50 | AH56: 420500 | AI56: 12200 | AJ56: 6400 | AK56: 439100 | AL56: 295000 | AM56: 1.4884746 | AN56: 50 | AO56: 53.8 | AP56: 30.8 | AQ56: 28.8 | AR56: 113.4 | AS56: 82.6 | AT56: 1.3728814 | AU56: 50
A57: BAS RHIN | B57: STRASBOURG | C57: SCHILTIGHEIM KLEBER | D57: 1.78 | E57: =ROUNDUP(H57-H57*F57,0) -> 330 | F57: =IF(G57<0.8,(0.05+0.8-G57),0) -> 0.25 | G57: 0.6 | H57: =J57+J57*I57 -> 440 | I57: 0.1 | J57: 400 | K57: 150 | L57: 5 | M57: 22 | N57: 20 | O57: 18 | P57: 60 | Q57: 53.4 | R57: 1.1235955 | S57: 50 | T57: 15 | U57: 14 | V57: 14 | W57: =T57+U57+V57 -> 43 | X57: 26.7 | Y57: =W57/X57 -> 1.6104869 | Z57: 50 | AA57: 352531.76 | AB57: 0 | AC57: 0 | AD57: 352531.76 | AE57: 240300 | AF57: 1.4670485 | AG57: 50 | AH57: 193400 | AI57: 14660 | AJ57: 12260 | AK57: 220320 | AL57: 178000 | AM57: 1.2377528 | AN57: 50 | AO57: 28 | AP57: 21.4 | AQ57: 19.8 | AR57: 69.2 | AS57: 49.84 | AT57: 1.388443 | AU57: 50
A58: BAS RHIN | B58: STRASBOURG | C58: STRASBOURG ANVERS | D58: 4.83 | E58: =ROUNDUP(H58-H58*F58,0) -> 275 | F58: =IF(G58<0.8,(0.05+0.8-G58),0) -> 0 | G58: 1 | H58: =J58+J58*I58 -> 275 | I58: 0.1 | J58: 250 | K58: 50 | L58: 4 | M58: 39 | N58: 32 | O58: 31 | P58: 102 | Q58: 144.9 | R58: 0.70393375 | S58: 0 | T58: 29 | U58: 28 | V58: 27 | W58: =T58+U58+V58 -> 84 | X58: 72.45 | Y58: =W58/X58 -> 1.1594203 | Z58: 50 | AA58: 1387732.9 | AB58: 208000 | AC58: 198000 | AD58: 1793732.9 | AE58: 652050 | AF58: 2.7509131 | AG58: 50 | AH58: 510378.21 | AI58: 60725.642 | AJ58: 46725.642 | AK58: 617829.49 | AL58: 483000 | AM58: 1.2791501 | AN58: 50 | AO58: 72.2 | AP58: 34.8 | AQ58: 28.6 | AR58: 135.6 | AS58: 135.24 | AT58: 1.0026619 | AU58: 50
A59: BAS RHIN | B59: STRASBOURG | C59: STRASBOURG AUSTERLITZ | D59: 2.28 | E59: =ROUNDUP(H59-H59*F59,0) -> 110 | F59: =IF(G59<0.8,(0.05+0.8-G59),0) -> 0 | G59: 0.8 | H59: =J59+J59*I59 -> 110 | I59: 0.1 | J59: 100 | K59: 0 | L59: 2 | M59: 30 | N59: 30 | O59: 12 | P59: 72 | Q59: 68.4 | R59: 1.0526316 | S59: 50 | T59: 14 | U59: 13 | V59: 12 | W59: =T59+U59+V59 -> 39 | X59: 34.2 | Y59: =W59/X59 -> 1.1403509 | Z59: 50 | AA59: 145479.17 | AB59: 1000 | AC59: 0 | AD59: 146479.17 | AE59: 307800 | AF59: 0.47589074 | AG59: 0 | AH59: 82000 | AI59: 2800 | AJ59: 400 | AK59: 85200 | AL59: 228000 | AM59: 0.37368421 | AN59: 0 | AO59: 29.6 | AP59: 13.7 | AQ59: 9.1 | AR59: 52.4 | AS59: 63.84 | AT59: 0.82080201 | AU59: 0
A60: BAS RHIN | B60: STRASBOURG | C60: STRASBOURG CRONENBOURG | D60: 3.48 | E60: =ROUNDUP(H60-H60*F60,0) -> 275 | F60: =IF(G60<0.8,(0.05+0.8-G60),0) -> 0 | G60: 1 | H60: =J60+J60*I60 -> 275 | I60: 0.1 | J60: 250 | K60: 50 | L60: 4 | M60: 51 | N60: 43 | O60: 30 | P60: 124 | Q60: 104.4 | R60: 1.1877395 | S60: 50 | T60: 46 | U60: 37 | V60: 26 | W60: =T60+U60+V60 -> 109 | X60: 52.2 | Y60: =W60/X60 -> 2.0881226 | Z60: 50 | AA60: 701331.29 | AB60: 520 | AC60: 512 | AD60: 702363.29 | AE60: 469800 | AF60: 1.4950262 | AG60: 50 | AH60: 370480 | AI60: 15196 | AJ60: 11796 | AK60: 397472 | AL60: 348000 | AM60: 1.1421609 | AN60: 50 | AO60: 42.9 | AP60: 19.1 | AQ60: 13.9 | AR60: 75.9 | AS60: 97.44 | AT60: 0.77894089 | AU60: 0
A61: BAS RHIN | B61: STRASBOURG | C61: STRASBOURG DANUBE | D61: 3.73 | E61: =ROUNDUP(H61-H61*F61,0) -> 275 | F61: =IF(G61<0.8,(0.05+0.8-G61),0) -> 0 | G61: 0.8 | H61: =J61+J61*I61 -> 275 | I61: 0.1 | J61: 250 | K61: 50 | L61: 4 | M61: 16 | N61: 15 | O61: 13 | P61: 44 | Q61: 111.9 | R61: 0.39320822 | S61: 0 | T61: 28 | U61: 25 | V61: 21 | W61: =T61+U61+V61 -> 74 | X61: 55.95 | Y61: =W61/X61 -> 1.3226095 | Z61: 50 | AA61: 535148.73 | AB61: 224 | AC61: 104 | AD61: 535476.73 | AE61: 503550 | AF61: 1.0634033 | AG61: 50 | AH61: 395200 | AI61: 18440 | AJ61: 12400 | AK61: 426040 | AL61: 373000 | AM61: 1.1421984 | AN61: 50 | AO61: 60.9 | AP61: 29.2 | AQ61: 24.2 | AR61: 114.3 | AS61: 104.44 | AT61: 1.0944083 | AU61: 50
A62: BAS RHIN | B62: STRASBOURG | C62: STRASBOURG FRANCS BOURGEOIS | D62: 3.94 | E62: =ROUNDUP(H62-H62*F62,0) -> 165 | F62: =IF(G62<0.8,(0.05+0.8-G62),0) -> 0 | G62: 1 | H62: =J62+J62*I62 -> 165 | I62: 0.1 | J62: 150 | K62: 0 | L62: 3 | M62: 18 | N62: 15 | O62: 15 | P62: 48 | Q62: 118.2 | R62: 0.40609137 | S62: 0 | T62: 27 | U62: 27 | V62: 26 | W62: =T62+U62+V62 -> 80 | X62: 59.1 | Y62: =W62/X62 -> 1.3536379 | Z62: 50 | AA62: 959634.16 | AB62: 9120 | AC62: 9120 | AD62: 977874.16 | AE62: 531900 | AF62: 1.8384549 | AG62: 50 | AH62: 452246 | AI62: 29200 | AJ62: 19000 | AK62: 500446 | AL62: 394000 | AM62: 1.2701675 | AN62: 50 | AO62: 36.9 | AP62: 19 | AQ62: 14.2 | AR62: 70.1 | AS62: 110.32 | AT62: 0.63542422 | AU62: 0
A63: BAS RHIN | B63: STRASBOURG | C63: STRASBOURG HALLES | D63: 7.41 | E63: =ROUNDUP(H63-H63*F63,0) -> 396 | F63: =IF(G63<0.8,(0.05+0.8-G63),0) -> 0.1 | G63: 0.75 | H63: =J63+J63*I63 -> 440 | I63: 0.1 | J63: 400 | K63: 150 | L63: 5 | M63: 94 | N63: 77 | O63: 73 | P63: 244 | Q63: 222.3 | R63: 1.0976158 | S63: 50 | T63: 55 | U63: 50 | V63: 44 | W63: =T63+U63+V63 -> 149 | X63: 111.15 | Y63: =W63/X63 -> 1.3405308 | Z63: 50 | AA63: 958680.14 | AB63: 67747 | AC63: 47345 | AD63: 1073772.1 | AE63: 1000350 | AF63: 1.0733965 | AG63: 50 | AH63: 710200 | AI63: 41200 | AJ63: 29400 | AK63: 780800 | AL63: 741000 | AM63: 1.0537112 | AN63: 50 | AO63: 100.7 | AP63: 68.1 | AQ63: 64.9 | AR63: 233.7 | AS63: 207.48 | AT63: 1.1263736 | AU63: 50
...

Sheet TERRITOIRES
A1: REGION | B1: TERRITOIRE | C1: ETP | D1: Gains après réfactions Risques et Conformité | G1: Gains potentiels avant résultats contrôles Risques et Conformité | L1: BANCARISATION | S1: CONQUETE 0-16 ANS | Z1: EPARGNE PLACEMENT | AG1: CREDITS | AN1: ASSURANCE & PREVOYANCE
L2: Formules hors transformation | S2: VB de Livrets, assurance vie et PEL sur 0-15 ans | Z2: Chiffre d'Affaires Assurance Vie | AG2: Engagements Conso (hors crédit projet) | AN2: VB Auto, 2 roues, MRH, Santé, GAV, Sécur Famille (0.8) & PJ (0.3)
D3: Gains après réfactions Risques et Conformité | E3: Taux réfactions | F3: Taux de conformité | G3: Gains potentiels par ETP avec bonus synergie (avant réfactions Conformité) | H3: Bonus Synergie | I3: Gains pot. par ETP | J3: Bonus excellence | K3: Nb Objectifs atteints | L3: Ventes Brutes | M3: Bonus univers absent | N3: Bonus client "ne" | O3: Total VB + bonus | P3: Objectif | Q3: Taux d'att. | R3: Gains | S3: Ventes Brutes | T3: Bonus univers absent | U3: Bonus client "ne" | V3: Total VB + bonus | W3: Objectif | X3: Taux d'att. | Y3: Gains | Z3: Chiffre d'Affaires | AA3: Bonus univers absent | AB3: Bonus client "ne" | AC3: Total CA + bonus | AD3: Objectif | AE3: Taux d'att. | AF3: Gains | AG3: Engagem. | AH3: Bonus univers absent | AI3: Bonus client "ne" | AJ3: Total Engagem. + bonus | AK3: Objectif | AL3: Taux d'att. | AM3: Gains | AN3: Ventes Brutes | AO3: Bonus univers absent | AP3: Bonus client "ne" | AQ3: Total VB + bonus | AR3: Objectif | AS3: Taux d'att. | AT3: Gains
A4: AUBE HAUTE MARNE | B4: CHAUMONT | C4: 33.5 | D4: =ROUNDUP(G4-G4*E4,0) -> 300 | E4: =IF(F4<0.8,(0.05+0.8-F4),0) -> 0 | F4: 0.92682927 | G4: =I4+I4*H4 -> 300 | H4: 0.2 | I4: 250 | J4: 50 | K4: 4 | L4: 217 | M4: 162 | N4: 129 | O4: 508 | P4: 1005 | Q4: 0.50547264 | R4: 0 | S4: =SUMIF(AGENCES!$B$4:$B$256,TERRITOIRES!$B4,AGENCES!T$4:T$257) -> 229 | T4: =SUMIF(AGENCES!$B$4:$B$256,TERRITOIRES!$B4,AGENCES!U$4:U$257) -> 213 | U4: =SUMIF(AGENCES!$B$4:$B$256,TERRITOIRES!$B4,AGENCES!V$4:V$257) -> 184 | V4: =SUMIF(AGENCES!$B$4:$B$256,TERRITOIRES!$B4,AGENCES!W$4:W$257) -> 626 | W4: 502.5 | X4: =+V4/W4 -> 1.2457711 | Y4: 50 | Z4: =SUMIF(AGENCES!$B$4:$B$256,TERRITOIRES!$B4,AGENCES!AA$4:AA$257) -> 5398026.8 | AA4: =SUMIF(AGENCES!$B$4:$B$256,TERRITOIRES!$B4,AGENCES!AB$4:AB$257) -> 59067 | AB4: =SUMIF(AGENCES!$B$4:$B$256,TERRITOIRES!$B4,AGENCES!AC$4:AC$257) -> 33915 | AC4: =SUMIF(AGENCES!$B$4:$B$256,TERRITOIRES!$B4,AGENCES!AD$4:AD$257) -> 5491008.8 | AD4: 4522500 | AE4: 1.2141534 | AF4: 50 | AG4: =SUMIF(AGENCES!$B$4:$B$256,TERRITOIRES!$B4,AGENCES!AH$4:AH$257) -> 3874611 | AH4: =SUMIF(AGENCES!$B$4:$B$256,TERRITOIRES!$B4,AGENCES!AI$4:AI$257) -> 184690.2 | AI4: =SUMIF(AGENCES!$B$4:$B$256,TERRITOIRES!$B4,AGENCES!AJ$4:AJ$257) -> 90160.2 | AJ4: =SUMIF(AGENCES!$B$4:$B$256,TERRITOIRES!$B4,AGENCES!AK$4:AK$257) -> 4149461.4 | AK4: 3350000 | AL4: 1.2386452 | AM4: 50 | AN4: =SUMIF(AGENCES!$B$4:$B$256,TERRITOIRES!$B4,AGENCES!AO$4:AO$257) -> 529.9 | AO4: =SUMIF(AGENCES!$B$4:$B$256,TERRITOIRES!$B4,AGENCES!AP$4:AP$257) -> 228.7 | AP4: =SUMIF(AGENCES!$B$4:$B$256,TERRITOIRES!$B4,AGENCES!AQ$4:AQ$257) -> 165.5 | AQ4: =SUMIF(AGENCES!$B$4:$B$256,TERRITOIRES!$B4,AGENCES!AR$4:AR$257) -> 924.1 | AR4: 938 | AS4: 0.98518124 | AT4: 50
A5: AUBE HAUTE MARNE | B5: TROYES | C5: 58.84 | D5: =ROUNDUP(G5-G5*E5,0) -> 120 | E5: =IF(F5<0.8,(0.05+0.8-F5),0) -> 0 | F5: 0.9037037 | G5: =I5+I5*H5 -> 120 | H5: 0.2 | I5: 100 | J5: 0 | K5: 2 | L5: 258 | M5: 215 | N5: 187 | O5: 660 | P5: 1765.2 | Q5: 0.37389531 | R5: 0 | S5: =SUMIF(AGENCES!$B$4:$B$256,TERRITOIRES!$B5,AGENCES!T$4:T$257) -> 392 | T5: =SUMIF(AGENCES!$B$4:$B$256,TERRITOIRES!$B5,AGENCES!U$4:U$257) -> 379 | U5: =SUMIF(AGENCES!$B$4:$B$256,TERRITOIRES!$B5,AGENCES!V$4:V$257) -> 347 | V5: =SUMIF(AGENCES!$B$4:$B$256,TERRITOIRES!$B5,AGENCES!W$4:W$257) -> 1118 | W5: 882.6 | X5: =+V5/W5 -> 1.266712 | Y5: 50 | Z5: =SUMIF(AGENCES!$B$4:$B$256,TERRITOIRES!$B5,AGENCES!AA$4:AA$257) -> 7119666.7 | AA5: =SUMIF(AGENCES!$B$4:$B$256,TERRITOIRES!$B5,AGENCES!AB$4:AB$257) -> 136239 | AB5: =SUMIF(AGENCES!$B$4:$B$256,TERRITOIRES!$B5,AGENCES!AC$4:AC$257) -> 79079 | AC5: =SUMIF(AGENCES!$B$4:$B$256,TERRITOIRES!$B5,AGENCES!AD$4:AD$257) -> 7334984.7 | AD5: 7943400 | AE5: 0.92340619 | AF5: 0 | AG5: =SUMIF(AGENCES!$B$4:$B$256,TERRITOIRES!$B5,AGENCES!AH$4:AH$257) -> 7148188 | AH5: =SUMIF(AGENCES!$B$4:$B$256,TERRITOIRES!$B5,AGENCES!AI$4:AI$257) -> 324281 | AI5: =SUMIF(AGENCES!$B$4:$B$256,TERRITOIRES!$B5,AGENCES!AJ$4:AJ$257) -> 231131 | AJ5: =SUMIF(AGENCES!$B$4:$B$256,TERRITOIRES!$B5,AGENCES!AK$4:AK$257) -> 7703600 | AK5: 5884000 | AL5: 1.3092454 | AM5: 50 | AN5: =SUMIF(AGENCES!$B$4:$B$256,TERRITOIRES!$B5,AGENCES!AO$4:AO$257) -> 587.3 | AO5: =SUMIF(AGENCES!$B$4:$B$256,TERRITOIRES!$B5,AGENCES!AP$4:AP$257) -> 275 | AP5: =SUMIF(AGENCES!$B$4:$B$256,TERRITOIRES!$B5,AGENCES!AQ$4:AQ$257) -> 192.4 | AQ5: =SUMIF(AGENCES!$B$4:$B$256,TERRITOIRES!$B5,AGENCES!AR$4:AR$257) -> 1054.7 | AR5: 1647.52 | AS5: 0.64017432 | AT5: 0
A6: BAS RHIN | B6: HAGUENAU | C6: 56.57 | D6: =ROUNDUP(G6-G6*E6,0) -> 165 | E6: =IF(F6<0.8,(0.05+0.8-F6),0) -> 0 | F6: 0.92253521 | G6: =I6+I6*H6 -> 165 | H6: 0.1 | I6: 150 | J6: 0 | K6: 3 | L6: 290 | M6: 197 | N6: 159 | O6: 646 | P6: 1697.1 | Q6: 0.38064934 | R6: 0 | S6: =SUMIF(AGENCES!$B$4:$B$256,TERRITOIRES!$B6,AGENCES!T$4:T$257) -> 406 | T6: =SUMIF(AGENCES!$B$4:$B$256,TERRITOIRES!$B6,AGENCES!U$4:U$257) -> 375 | U6: =SUMIF(AGENCES!$B$4:$B$256,TERRITOIRES!$B6,AGENCES!V$4:V$257) -> 276 | V6: =SUMIF(AGENCES!$B$4:$B$256,TERRITOIRES!$B6,AGENCES!W$4:W$257) -> 1057 | W6: 848.55 | X6: =+V6/W6 -> 1.2456544 | Y6: 50 | Z6: =SUMIF(AGENCES!$B$4:$B$256,TERRITOIRES!$B6,AGENCES!AA$4:AA$257) -> 8627403.6 | AA6: =SUMIF(AGENCES!$B$4:$B$256,TERRITOIRES!$B6,AGENCES!AB$4:AB$257) -> 169069 | AB6: =SUMIF(AGENCES!$B$4:$B$256,TERRITOIRES!$B6,AGENCES!AC$4:AC$257) -> 145787 | AC6: =SUMIF(AGENCES!$B$4:$B$256,TERRITOIRES!$B6,AGENCES!AD$4:AD$257) -> 8942259.6 | AD6: 7636950 | AE6: 1.1709203 | AF6: 50 | AG6: =SUMIF(AGENCES!$B$4:$B$256,TERRITOIRES!$B6,AGENCES!AH$4:AH$257) -> 6150237 | AH6: =SUMIF(AGENCES!$B$4:$B$256,TERRITOIRES!$B6,AGENCES!AI$4:AI$257) -> 267560 | AI6: =SUMIF(AGENCES!$B$4:$B$256,TERRITOIRES!$B6,AGENCES!AJ$4:AJ$257) -> 163660 | AJ6: =SUMIF(AGENCES!$B$4:$B$256,TERRITOIRES!$B6,AGENCES!AK$4:AK$257) -> 6581457 | AK6: 5657000 | AL6: 1.1634182 | AM6: 50 | AN6: =SUMIF(AGENCES!$B$4:$B$256,TERRITOIRES!$B6,AGENCES!AO$4:AO$257) -> 602.2 | AO6: =SUMIF(AGENCES!$B$4:$B$256,TERRITOIRES!$B6,AGENCES!AP$4:AP$257) -> 207.1 | AP6: =SUMIF(AGENCES!$B$4:$B$256,TERRITOIRES!$B6,AGENCES!AQ$4:AQ$257) -> 153.9 | AQ6: =SUMIF(AGENCES!$B$4:$B$256,TERRITOIRES!$B6,AGENCES!AR$4:AR$257) -> 963.2 | AR6: 1583.96 | AS6: 0.60809616 | AT6: 0
A7: BAS RHIN | B7: SELESTAT | C7: 52.12 | D7: =ROUNDUP(G7-G7*E7,0) -> 165 | E7: =IF(F7<0.8,(0.05+0.8-F7),0) -> 0 | F7: 0.8803 | G7: =I7+I7*H7 -> 165 | H7: 0.1 | I7: 150 | J7: 0 | K7: 3 | L7: 208 | M7: 146 | N7: 102 | O7: 456 | P7: 1563.6 | Q7: 0.29163469 | R7: 0 | S7: =SUMIF(AGENCES!$B$4:$B$256,TERRITOIRES!$B7,AGENCES!T$4:T$257) -> 308 | T7: =SUMIF(AGENCES!$B$4:$B$256,TERRITOIRES!$B7,AGENCES!U$4:U$257) -> 270 | U7: =SUMIF(AGENCES!$B$4:$B$256,TERRITOIRES!$B7,AGENCES!V$4:V$257) -> 220 | V7: =SUMIF(AGENCES!$B$4:$B$256,TERRITOIRES!$B7,AGENCES!W$4:W$257) -> 798 | W7: 781.8 | X7: =+V7/W7 -> 1.0207214 | Y7: 50 | Z7: =SUMIF(AGENCES!$B$4:$B$256,TERRITOIRES!$B7,AGENCES!AA$4:AA$257) -> 7586747.3 | AA7: =SUMIF(AGENCES!$B$4:$B$256,TERRITOIRES!$B7,AGENCES!AB$4:AB$257) -> 72944.588 | AB7: =SUMIF(AGENCES!$B$4:$B$256,TERRITOIRES!$B7,AGENCES!AC$4:AC$257) -> 53816.588 | AC7: =SUMIF(AGENCES!$B$4:$B$256,TERRITOIRES!$B7,AGENCES!AD$4:AD$257) -> 7713508.5 | AD7: 7036200 | AE7: 1.0962606 | AF7: 50 | AG7: =SUMIF(AGENCES!$B$4:$B$256,TERRITOIRES!$B7,AGENCES!AH$4:AH$257) -> 5858817 | AH7: =SUMIF(AGENCES!$B$4:$B$256,TERRITOIRES!$B7,AGENCES!AI$4:AI$257) -> 288939.2 | AI7: =SUMIF(AGENCES!$B$4:$B$256,TERRITOIRES!$B7,AGENCES!AJ$4:AJ$257) -> 87768 | AJ7: =SUMIF(AGENCES!$B$4:$B$256,TERRITOIRES!$B7,AGENCES!AK$4:AK$257) -> 6235524.2 | AK7: 5212000 | AL7: 1.1963784 | AM7: 50 | AN7: =SUMIF(AGENCES!$B$4:$B$256,TERRITOIRES!$B7,AGENCES!AO$4:AO$257) -> 597 | AO7: =SUMIF(AGENCES!$B$4:$B$256,TERRITOIRES!$B7,AGENCES!AP$4:AP$257) -> 179 | AP7: =SUMIF(AGENCES!$B$4:$B$256,TERRITOIRES!$B7,AGENCES!AQ$4:AQ$257) -> 117.8 | AQ7: =SUMIF(AGENCES!$B$4:$B$256,TERRITOIRES!$B7,AGENCES!AR$4:AR$257) -> 893.8 | AR7: 1459.36 | AS7: 0.61246026 | AT7: 0
A8: BAS RHIN | B8: STRASBOURG | C8: 65.86 | D8: =ROUNDUP(G8-G8*E8,0) -> 165 | E8: =IF(F8<0.8,(0.05+0.8-F8),0) -> 0 | F8: 0.91891892 | G8: =I8+I8*H8 -> 165 | H8: 0.1 | I8: 150 | J8: 0 | K8: 3 | L8: 622 | M8: 507 | N8: 410 | O8: 1539 | P8: 1975.8 | Q8: 0.77892499 | R8: 0 | S8: =SUMIF(AGENCES!$B$4:$B$256,TERRITOIRES!$B8,AGENCES!T$4:T$257) -> 512 | T8: =SUMIF(AGENCES!$B$4:$B$256,TERRITOIRES!$B8,AGENCES!U$4:U$257) -> 471 | U8: =SUMIF(AGENCES!$B$4:$B$256,TERRITOIRES!$B8,AGENCES!V$4:V$257) -> 380 | V8: =SUMIF(AGENCES!$B$4:$B$256,TERRITOIRES!$B8,AGENCES!W$4:W$257) -> 1363 | W8: 987.9 | X8: =+V8/W8 -> 1.3796943 | Y8: 50 | Z8: =SUMIF(AGENCES!$B$4:$B$256,TERRITOIRES!$B8,AGENCES!AA$4:AA$257) -> 12950822 | AA8: =SUMIF(AGENCES!$B$4:$B$256,TERRITOIRES!$B8,AGENCES!AB$4:AB$257) -> 437122.12 | AB8: =SUMIF(AGENCES!$B$4:$B$256,TERRITOIRES!$B8,AGENCES!AC$4:AC$257) -> 338400 | AC8: =SUMIF(AGENCES!$B$4:$B$256,TERRITOIRES!$B8,AGENCES!AD$4:AD$257) -> 13726344 | AD8: 8891100 | AE8: 1.4918295 | AF8: 50 | AG8: =SUMIF(AGENCES!$B$4:$B$256,TERRITOIRES!$B8,AGENCES!AH$4:AH$257) -> 7156618.3 | AH8: =SUMIF(AGENCES!$B$4:$B$256,TERRITOIRES!$B8,AGENCES!AI$4:AI$257) -> 410071.64 | AI8: =SUMIF(AGENCES!$B$4:$B$256,TERRITOIRES!$B8,AGENCES!AJ$4:AJ$257) -> 248531.64 | AJ8: =SUMIF(AGENCES!$B$4:$B$256,TERRITOIRES!$B8,AGENCES!AK$4:AK$257) -> 7815221.5 | AK8: 6586000 | AL8: 1.1773892 | AM8: 50 | AN8: =SUMIF(AGENCES!$B$4:$B$256,TERRITOIRES!$B8,AGENCES!AO$4:AO$257) -> 843.7 | AO8: =SUMIF(AGENCES!$B$4:$B$256,TERRITOIRES!$B8,AGENCES!AP$4:AP$257) -> 426.9 | AP8: =SUMIF(AGENCES!$B$4:$B$256,TERRITOIRES!$B8,AGENCES!AQ$4:AQ$257) -> 343.7 | AQ8: =SUMIF(AGENCES!$B$4:$B$256,TERRITOIRES!$B8,AGENCES!AR$4:AR$257) -> 1614.3 | AR8: 1844.08 | AS8: 0.87539586 | AT8: 0
A9: HAUT RHIN | B9: COLMAR | C9: 48.23 | D9: =ROUNDUP(G9-G9*E9,0) -> 165 | E9: =IF(F9<0.8,(0.05+0.8-F9),0) -> 0 | F9: 0.92 | G9: =I9+I9*H9 -> 165 | H9: 0.1 | I9: 150 | J9: 0 | K9: 3 | L9: 295 | M9: 212 | N9: 162 | O9: 669 | P9: 1446.9 | Q9: 0.46236782 | R9: 0 | S9: =SUMIF(AGENCES!$B$4:$B$256,TERRITOIRES!$B9,AGENCES!T$4:T$257) -> 341 | T9: =SUMIF(AGENCES!$B$4:$B$256,TERRITOIRES!$B9,AGENCES!U$4:U$257) -> 318 | U9: =SUMIF(AGENCES!$B$4:$B$256,TERRITOIRES!$B9,AGENCES!V$4:V$257) -> 267 | V9: =SUMIF(AGENCES!$B$4:$B$256,TERRITOIRES!$B9,AGENCES!W$4:W$257) -> 926 | W9: 723.45 | X9: =+V9/W9 -> 1.2799779 | Y9: 50 | Z9: =SUMIF(AGENCES!$B$4:$B$256,TERRITOIRES!$B9,AGENCES!AA$4:AA$257) -> 7798926.1 | AA9: =SUMIF(AGENCES!$B$4:$B$256,TERRITOIRES!$B9,AGENCES!AB$4:AB$257) -> 144803.01 | AB9: =SUMIF(AGENCES!$B$4:$B$256,TERRITOIRES!$B9,AGENCES!AC$4:AC$257) -> 117269 | AC9: =SUMIF(AGENCES!$B$4:$B$256,TERRITOIRES!$B9,AGENCES!AD$4:AD$257) -> 8060998.2 | AD9: 6511050 | AE9: 1.2380489 | AF9: 50 | AG9: =SUMIF(AGENCES!$B$4:$B$256,TERRITOIRES!$B9,AGENCES!AH$4:AH$257) -> 5050187 | AH9: =SUMIF(AGENCES!$B$4:$B$256,TERRITOIRES!$B9,AGENCES!AI$4:AI$257) -> 296900 | AI9: =SUMIF(AGENCES!$B$4:$B$256,TERRITOIRES!$B9,AGENCES!AJ$4:AJ$257) -> 178620 | AJ9: =SUMIF(AGENCES!$B$4:$B$256,TERRITOIRES!$B9,AGENCES!AK$4:AK$257) -> 5525707 | AK9: 4823000 | AL9: 1.1456991 | AM9: 50 | AN9: =SUMIF(AGENCES!$B$4:$B$256,TERRITOIRES!$B9,AGENCES!AO$4:AO$257) -> 461.9 | AO9: =SUMIF(AGENCES!$B$4:$B$256,TERRITOIRES!$B9,AGENCES!AP$4:AP$257) -> 200.6 | AP9: =SUMIF(AGENCES!$B$4:$B$256,TERRITOIRES!$B9,AGENCES!AQ$4:AQ$257) -> 129.9 | AQ9: =SUMIF(AGENCES!$B$4:$B$256,TERRITOIRES!$B9,AGENCES!AR$4:AR$257) -> 792.4 | AR9: 1350.44 | AS9: 0.58677172 | AT9: 0
A10: HAUT RHIN | B10: MULHOUSE | C10: 51.07 | D10: =ROUNDUP(G10-G10*E10,0) -> 165 | E10: =IF(F10<0.8,(0.05+0.8-F10),0) -> 0 | F10: 0.89830508 | G10: =I10+I10*H10 -> 165 | H10: 0.1 | I10: 150 | J10: 0 | K10: 3 | L10: 373 | M10: 293 | N10: 222 | O10: 888 | P10: 1532.1 | Q10: 0.57959663 | R10: 0 | S10: =SUMIF(AGENCES!$B$4:$B$256,TERRITOIRES!$B10,AGENCES!T$4:T$257) -> 403 | T10: =SUMIF(AGENCES!$B$4:$B$256,TERRITOIRES!$B10,AGENCES!U$4:U$257) -> 352 | U10: =SUMIF(AGENCES!$B$4:$B$256,TERRITOIRES!$B10,AGENCES!V$4:V$257) -> 300 | V10: =SUMIF(AGENCES!$B$4:$B$256,TERRITOIRES!$B10,AGENCES!W$4:W$257) -> 1055 | W10: 766.05 | X10: =+V10/W10 -> 1.3771947 | Y10: 50 | Z10: =SUMIF(AGENCES!$B$4:$B$256,TERRITOIRES!$B10,AGENCES!AA$4:AA$257) -> 7399261 | AA10: =SUMIF(AGENCES!$B$4:$B$256,TERRITOIRES!$B10,AGENCES!AB$4:AB$257) -> 229796 | AB10: =SUMIF(AGENCES!$B$4:$B$256,TERRITOIRES!$B10,AGENCES!AC$4:AC$257) -> 145298 | AC10: =SUMIF(AGENCES!$B$4:$B$256,TERRITOIRES!$B10,AGENCES!AD$4:AD$257) -> 7774355 | AD10: 6894450 | AE10: 1.1276251 | AF10: 50 | AG10: =SUMIF(AGENCES!$B$4:$B$256,TERRITOIRES!$B10,AGENCES!AH$4:AH$257) -> 5949698.3 | AH10: =SUMIF(AGENCES!$B$4:$B$256,TERRITOIRES!$B10,AGENCES!AI$4:AI$257) -> 254864.35 | AI10: =SUMIF(AGENCES!$B$4:$B$256,TERRITOIRES!$B10,AGENCES!AJ$4:AJ$257) -> 200264.35 | AJ10: =SUMIF(AGENCES!$B$4:$B$256,TERRITOIRES!$B10,AGENCES!AK$4:AK$257) -> 6404827.1 | AK10: 5107000 | AL10: 1.2541271 | AM10: 50 | AN10: =SUMIF(AGENCES!$B$4:$B$256,TERRITOIRES!$B10,AGENCES!AO$4:AO$257) -> 357 | AO10: =SUMIF(AGENCES!$B$4:$B$256,TERRITOIRES!$B10,AGENCES!AP$4:AP$257) -> 153.4 | AP10: =SUMIF(AGENCES!$B$4:$B$256,TERRITOIRES!$B10,AGENCES!AQ$4:AQ$257) -> 119.2 | AQ10: =SUMIF(AGENCES!$B$4:$B$256,TERRITOIRES!$B10,AGENCES!AR$4:AR$257) -> 629.6 | AR10: 1429.96 | AS10: 0.44029204 | AT10: 0
A11: MARNE ARDENNES | B11: CHALONS EN CHAMPAGNE | C11: 35.58 | D11: =ROUNDUP(G11-G11*E11,0) -> 110 | E11: =IF(F11<0.8,(0.05+0.8-F11),0) -> 0 | F11: 0.86170213 | G11: =I11+I11*H11 -> 110 | H11: 0.1 | I11: 100 | J11: 0 | K11: 2 | L11: 247 | M11: 193 | N11: 163 | O11: 603 | P11: 1067.4 | Q11: 0.56492411 | R11: 0 | S11: =SUMIF(AGENCES!$B$4:$B$256,TERRITOIRES!$B11,AGENCES!T$4:T$257) -> 187 | T11: =SUMIF(AGENCES!$B$4:$B$256,TERRITOIRES!$B11,AGENCES!U$4:U$257) -> 159 | U11: =SUMIF(AGENCES!$B$4:$B$256,TERRITOIRES!$B11,AGENCES!V$4:V$257) -> 130 | V11: =SUMIF(AGENCES!$B$4:$B$256,TERRITOIRES!$B11,AGENCES!W$4:W$257) -> 476 | W11: 533.7 | X11: =+V11/W11 -> 0.89188683 | Y11: 0 | Z11: =SUMIF(AGENCES!$B$4:$B$256,TERRITOIRES!$B11,AGENCES!AA$4:AA$257) -> 5619264.1 | AA11: =SUMIF(AGENCES!$B$4:$B$256,TERRITOIRES!$B11,AGENCES!AB$4:AB$257) -> 93826.838 | AB11: =SUMIF(AGENCES!$B$4:$B$256,TERRITOIRES!$B11,AGENCES!AC$4:AC$257) -> 57321.838 | AC11: =SUMIF(AGENCES!$B$4:$B$256,TERRITOIRES!$B11,AGENCES!AD$4:AD$257) -> 5770412.8 | AD11: 4803300 | AE11: 1.2013434 | AF11: 50 | AG11: =SUMIF(AGENCES!$B$4:$B$256,TERRITOIRES!$B11,AGENCES!AH$4:AH$257) -> 4189980 | AH11: =SUMIF(AGENCES!$B$4:$B$256,TERRITOIRES!$B11,AGENCES!AI$4:AI$257) -> 197794 | AI11: =SUMIF(AGENCES!$B$4:$B$256,TERRITOIRES!$B11,AGENCES!AJ$4:AJ$257) -> 125800 | AJ11: =SUMIF(AGENCES!$B$4:$B$256,TERRITOIRES!$B11,AGENCES!AK$4:AK$257) -> 4513574 | AK11: 3558000 | AL11: 1.2685705 | AM11: 50 | AN11: =SUMIF(AGENCES!$B$4:$B$256,TERRITOIRES!$B11,AGENCES!AO$4:AO$257) -> 338.6 | AO11: =SUMIF(AGENCES!$B$4:$B$256,TERRITOIRES!$B11,AGENCES!AP$4:AP$257) -> 165 | AP11: =SUMIF(AGENCES!$B$4:$B$256,TERRITOIRES!$B11,AGENCES!AQ$4:AQ$257) -> 126.9 | AQ11: =SUMIF(AGENCES!$B$4:$B$256,TERRITOIRES!$B11,AGENCES!AR$4:AR$257) -> 630.5 | AR11: 996.24 | AS11: 0.63287963 | AT11: 0
A12: MARNE ARDENNES | B12: CHARLEVILLE MEZIERES | C12: 49.71 | D12: =ROUNDUP(G12-G12*E12,0) -> 110 | E12: =IF(F12<0.8,(0.05+0.8-F12),0) -> 0 | F12: 0.88392857 | G12: =I12+I12*H12 -> 110 | H12: 0.1 | I12: 100 | J12: 0 | K12: 2 | L12: 355 | M12: 279 | N12: 233 | O12: 867 | P12: 1491.3 | Q12: 0.58137196 | R12: 0 | S12: =SUMIF(AGENCES!$B$4:$B$256,TERRITOIRES!$B12,AGENCES!T$4:T$257) -> 289 | T12: =SUMIF(AGENCES!$B$4:$B$256,TERRITOIRES!$B12,AGENCES!U$4:U$257) -> 263 | U12: =SUMIF(AGENCES!$B$4:$B$256,TERRITOIRES!$B12,AGENCES!V$4:V$257) -> 235 | V12: =SUMIF(AGENCES!$B$4:$B$256,TERRITOIRES!$B12,AGENCES!W$4:W$257) -> 787 | W12: 745.65 | X12: =+V12/W12 -> 1.055455 | Y12: 50 | Z12: =SUMIF(AGENCES!$B$4:$B$256,TERRITOIRES!$B12,AGENCES!AA$4:AA$257) -> 6212720 | AA12: =SUMIF(AGENCES!$B$4:$B$256,TERRITOIRES!$B12,AGENCES!AB$4:AB$257) -> 57359.332 | AB12: =SUMIF(AGENCES!$B$4:$B$256,TERRITOIRES!$B12,AGENCES!AC$4:AC$257) -> 29456.332 | AC12: =SUMIF(AGENCES!$B$4:$B$256,TERRITOIRES!$B12,AGENCES!AD$4:AD$257) -> 6299535.7 | AD12: 6710850 | AE12: 0.93870905 | AF12: 0 | AG12: =SUMIF(AGENCES!$B$4:$B$256,TERRITOIRES!$B12,AGENCES!AH$4:AH$257) -> 5397484 | AH12: =SUMIF(AGENCES!$B$4:$B$256,TERRITOIRES!$B12,AGENCES!AI$4:AI$257) -> 288461.8 | AI12: =SUMIF(AGENCES!$B$4:$B$256,TERRITOIRES!$B12,AGENCES!AJ$4:AJ$257) -> 174781.8 | AJ12: =SUMIF(AGENCES!$B$4:$B$256,TERRITOIRES!$B12,AGENCES!AK$4:AK$257) -> 5860727.6 | AK12: 4971000 | AL12: 1.1789836 | AM12: 50 | AN12: =SUMIF(AGENCES!$B$4:$B$256,TERRITOIRES!$B12,AGENCES!AO$4:AO$257) -> 491.3 | AO12: =SUMIF(AGENCES!$B$4:$B$256,TERRITOIRES!$B12,AGENCES!AP$4:AP$257) -> 228.5 | AP12: =SUMIF(AGENCES!$B$4:$B$256,TERRITOIRES!$B12,AGENCES!AQ$4:AQ$257) -> 191.3 | AQ12: =SUMIF(AGENCES!$B$4:$B$256,TERRITOIRES!$B12,AGENCES!AR$4:AR$257) -> 911.1 | AR12: 1391.88 | AS12: 0.65458229 | AT12: 0
A13: MARNE ARDENNES | B13: REIMS | C13: 68.59 | D13: =ROUNDUP(G13-G13*E13,0) -> 165 | E13: =IF(F13<0.8,(0.05+0.8-F13),0) -> 0 | F13: 0.83536585 | G13: =I13+I13*H13 -> 165 | H13: 0.1 | I13: 150 | J13: 0 | K13: 3 | L13: 636 | M13: 472 | N13: 414 | O13: 1522 | P13: 2057.7 | Q13: 0.73966079 | R13: 0 | S13: =SUMIF(AGENCES!$B$4:$B$256,TERRITOIRES!$B13,AGENCES!T$4:T$257) -> 360 | T13: =SUMIF(AGENCES!$B$4:$B$256,TERRITOIRES!$B13,AGENCES!U$4:U$257) -> 341 | U13: =SUMIF(AGENCES!$B$4:$B$256,TERRITOIRES!$B13,AGENCES!V$4:V$257) -> 286 | V13: =SUMIF(AGENCES!$B$4:$B$256,TERRITOIRES!$B13,AGENCES!W$4:W$257) -> 987 | W13: 1028.85 | X13: =+V13/W13 -> 0.95932352 | Y13: 50 | Z13: =SUMIF(AGENCES!$B$4:$B$256,TERRITOIRES!$B13,AGENCES!AA$4:AA$257) -> 10544459 | AA13: =SUMIF(AGENCES!$B$4:$B$256,TERRITOIRES!$B13,AGENCES!AB$4:AB$257) -> 219802.52 | AB13: =SUMIF(AGENCES!$B$4:$B$256,TERRITOIRES!$B13,AGENCES!AC$4:AC$257) -> 155757.61 | AC13: =SUMIF(AGENCES!$B$4:$B$256,TERRITOIRES!$B13,AGENCES!AD$4:AD$257) -> 10920019 | AD13: 9259650 | AE13: 1.1793123 | AF13: 50 | AG13: =SUMIF(AGENCES!$B$4:$B$256,TERRITOIRES!$B13,AGENCES!AH$4:AH$257) -> 7143520.4 | AH13: =SUMIF(AGENCES!$B$4:$B$256,TERRITOIRES!$B13,AGENCES!AI$4:AI$257) -> 444014.2 | AI13: =SUMIF(AGENCES!$B$4:$B$256,TERRITOIRES!$B13,AGENCES!AJ$4:AJ$257) -> 321117.2 | AJ13: =SUMIF(AGENCES!$B$4:$B$256,TERRITOIRES!$B13,AGENCES!AK$4:AK$257) -> 7908651.8 | AK13: 6859000 | AL13: 1.1530328 | AM13: 50 | AN13: =SUMIF(AGENCES!$B$4:$B$256,TERRITOIRES!$B13,AGENCES!AO$4:AO$257) -> 746.2 | AO13: =SUMIF(AGENCES!$B$4:$B$256,TERRITOIRES!$B13,AGENCES!AP$4:AP$257) -> 404.9 | AP13: =SUMIF(AGENCES!$B$4:$B$256,TERRITOIRES!$B13,AGENCES!AQ$4:AQ$257) -> 343 | AQ13: =SUMIF(AGENCES!$B$4:$B$256,TERRITOIRES!$B13,AGENCES!AR$4:AR$257) -> 1494.1 | AR13: 1920.52 | AS13: 0.77796638 | AT13: 0
A14: MEURTHE ET MOSELLE MEUSE | B14: NANCY | C14: 56.31 | D14: =ROUNDUP(G14-G14*E14,0) -> 110 | E14: =IF(F14<0.8,(0.05+0.8-F14),0) -> 0 | F14: 0.825 | G14: =I14+I14*H14 -> 110 | H14: 0.1 | I14: 100 | J14: 0 | K14: 2 | L14: 309 | M14: 268 | N14: 228 | O14: 805 | P14: 1689.3 | Q14: 0.47652874 | R14: 0 | S14: =SUMIF(AGENCES!$B$4:$B$256,TERRITOIRES!$B14,AGENCES!T$4:T$257) -> 264 | T14: =SUMIF(AGENCES!$B$4:$B$256,TERRITOIRES!$B14,AGENCES!U$4:U$257) -> 256 | U14: =SUMIF(AGENCES!$B$4:$B$256,TERRITOIRES!$B14,AGENCES!V$4:V$257) -> 220 | V14: =SUMIF(AGENCES!$B$4:$B$256,TERRITOIRES!$B14,AGENCES!W$4:W$257) -> 740 | W14: 844.65 | X14: =+V14/W14 -> 0.87610253 | Y14: 0 | Z14: =SUMIF(AGENCES!$B$4:$B$256,TERRITOIRES!$B14,AGENCES!AA$4:AA$257) -> 7633332.7 | AA14: =SUMIF(AGENCES!$B$4:$B$256,TERRITOIRES!$B14,AGENCES!AB$4:AB$257) -> 311991.15 | AB14: =SUMIF(AGENCES!$B$4:$B$256,TERRITOIRES!$B14,AGENCES!AC$4:AC$257) -> 241670 | AC14: =SUMIF(AGENCES!$B$4:$B$256,TERRITOIRES!$B14,AGENCES!AD$4:AD$257) -> 8186993.9 | AD14: 7601850 | AE14: 1.0769739 | AF14: 50 | AG14: =SUMIF(AGENCES!$B$4:$B$256,TERRITOIRES!$B14,AGENCES!AH$4:AH$257) -> 4914871 | AH14: =SUMIF(AGENCES!$B$4:$B$256,TERRITOIRES!$B14,AGENCES!AI$4:AI$257) -> 295983 | AI14: =SUMIF(AGENCES!$B$4:$B$256,TERRITOIRES!$B14,AGENCES!AJ$4:AJ$257) -> 191756 | AJ14: =SUMIF(AGENCES!$B$4:$B$256,TERRITOIRES!$B14,AGENCES!AK$4:AK$257) -> 5402610 | AK14: 5631000 | AL14: 0.9594406 | AM14: 50 | AN14: =SUMIF(AGENCES!$B$4:$B$256,TERRITOIRES!$B14,AGENCES!AO$4:AO$257) -> 546.5 | AO14: =SUMIF(AGENCES!$B$4:$B$256,TERRITOIRES!$B14,AGENCES!AP$4:AP$257) -> 254.5 | AP14: =SUMIF(AGENCES!$B$4:$B$256,TERRITOIRES!$B14,AGENCES!AQ$4:AQ$257) -> 212.8 | AQ14: =SUMIF(AGENCES!$B$4:$B$256,TERRITOIRES!$B14,AGENCES!AR$4:AR$257) -> 1013.8 | AR14: 1576.68 | AS14: 0.64299668 | AT14: 0
A15: MEURTHE ET MOSELLE MEUSE | B15: PONT A MOUSSON | C15: 62.84 | D15: =ROUNDUP(G15-G15*E15,0) -> 0 | E15: =IF(F15<0.8,(0.05+0.8-F15),0) -> 0 | F15: 0.81300813 | I15: 0 | J15: 0 | K15: 0 | L15: 323 | M15: 255 | N15: 222 | O15: 800 | P15: 1885.2 | Q15: 0.42435816 | R15: 0 | S15: =SUMIF(AGENCES!$B$4:$B$256,TERRITOIRES!$B15,AGENCES!T$4:T$257) -> 332 | T15: =SUMIF(AGENCES!$B$4:$B$256,TERRITOIRES!$B15,AGENCES!U$4:U$257) -> 307 | U15: =SUMIF(AGENCES!$B$4:$B$256,TERRITOIRES!$B15,AGENCES!V$4:V$257) -> 252 | V15: =SUMIF(AGENCES!$B$4:$B$256,TERRITOIRES!$B15,AGENCES!W$4:W$257) -> 891 | W15: 942.6 | X15: =+V15/W15 -> 0.9452578 | Y15: 0 | Z15: =SUMIF(AGENCES!$B$4:$B$256,TERRITOIRES!$B15,AGENCES!AA$4:AA$257) -> 7498790.8 | AA15: =SUMIF(AGENCES!$B$4:$B$256,TERRITOIRES!$B15,AGENCES!AB$4:AB$257) -> 156326 | AB15: =SUMIF(AGENCES!$B$4:$B$256,TERRITOIRES!$B15,AGENCES!AC$4:AC$257) -> 66036 | AC15: =SUMIF(AGENCES!$B$4:$B$256,TERRITOIRES!$B15,AGENCES!AD$4:AD$257) -> 7721152.8 | AD15: 8483400 | AE15: 0.91014839 | AF15: 0 | AG15: =SUMIF(AGENCES!$B$4:$B$256,TERRITOIRES!$B15,AGENCES!AH$4:AH$257) -> 4271004 | AH15: =SUMIF(AGENCES!$B$4:$B$256,TERRITOIRES!$B15,AGENCES!AI$4:AI$257) -> 203950.2 | AI15: =SUMIF(AGENCES!$B$4:$B$256,TERRITOIRES!$B15,AGENCES!AJ$4:AJ$257) -> 112370.2 | AJ15: =SUMIF(AGENCES!$B$4:$B$256,TERRITOIRES!$B15,AGENCES!AK$4:AK$257) -> 4587324.4 | AK15: 6284000 | AL15: 0.7300007 | AM15: 0 | AN15: =SUMIF(AGENCES!$B$4:$B$256,TERRITOIRES!$B15,AGENCES!AO$4:AO$257) -> 595.5 | AO15: =SUMIF(AGENCES!$B$4:$B$256,TERRITOIRES!$B15,AGENCES!AP$4:AP$257) -> 296.8 | AP15: =SUMIF(AGENCES!$B$4:$B$256,TERRITOIRES!$B15,AGENCES!AQ$4:AQ$257) -> 231.6 | AQ15: =SUMIF(AGENCES!$B$4:$B$256,TERRITOIRES!$B15,AGENCES!AR$4:AR$257) -> 1123.9 | AR15: 1759.52 | AS15: 0.63875375 | AT15: 0
A16: MEURTHE ET MOSELLE MEUSE | B16: VERDUN | C16: 46.52 | D16: =ROUNDUP(G16-G16*E16,0) -> 0 | E16: =IF(F16<0.8,(0.05+0.8-F16),0) -> 0 | F16: 0.85576923 | I16: 0 | J16: 0 | K16: 0 | L16: 255 | M16: 195 | N16: 170 | O16: 620 | P16: 1395.6 | Q16: 0.44425337 | R16: 0 | S16: =SUMIF(AGENCES!$B$4:$B$256,TERRITOIRES!$B16,AGENCES!T$4:T$257) -> 221 | T16: =SUMIF(AGENCES!$B$4:$B$256,TERRITOIRES!$B16,AGENCES!U$4:U$257) -> 193 | U16: =SUMIF(AGENCES!$B$4:$B$256,TERRITOIRES!$B16,AGENCES!V$4:V$257) -> 159 | V16: =SUMIF(AGENCES!$B$4:$B$256,TERRITOIRES!$B16,AGENCES!W$4:W$257) -> 573 | W16: 697.8 | X16: =+V16/W16 -> 0.82115219 | Y16: 0 | Z16: =SUMIF(AGENCES!$B$4:$B$256,TERRITOIRES!$B16,AGENCES!AA$4:AA$257) -> 5284978.1 | AA16: =SUMIF(AGENCES!$B$4:$B$256,TERRITOIRES!$B16,AGENCES!AB$4:AB$257) -> 90034.146 | AB16: =SUMIF(AGENCES!$B$4:$B$256,TERRITOIRES!$B16,AGENCES!AC$4:AC$257) -> 57746.146 | AC16: =SUMIF(AGENCES!$B$4:$B$256,TERRITOIRES!$B16,AGENCES!AD$4:AD$257) -> 5432758.4 | AD16: 6280200 | AE16: 0.83655909 | AF16: 0 | AG16: =SUMIF(AGENCES!$B$4:$B$256,TERRITOIRES!$B16,AGENCES!AH$4:AH$257) -> 4000072 | AH16: =SUMIF(AGENCES!$B$4:$B$256,TERRITOIRES!$B16,AGENCES!AI$4:AI$257) -> 243023.4 | AI16: =SUMIF(AGENCES!$B$4:$B$256,TERRITOIRES!$B16,AGENCES!AJ$4:AJ$257) -> 169394.2 | AJ16: =SUMIF(AGENCES!$B$4:$B$256,TERRITOIRES!$B16,AGENCES!AK$4:AK$257) -> 4412489.6 | AK16: 4652000 | AL16: 0.94851453 | AM16: 0 | AN16: =SUMIF(AGENCES!$B$4:$B$256,TERRITOIRES!$B16,AGENCES!AO$4:AO$257) -> 448.2 | AO16: =SUMIF(AGENCES!$B$4:$B$256,TERRITOIRES!$B16,AGENCES!AP$4:AP$257) -> 212.4 | AP16: =SUMIF(AGENCES!$B$4:$B$256,TERRITOIRES!$B16,AGENCES!AQ$4:AQ$257) -> 178 | AQ16: =SUMIF(AGENCES!$B$4:$B$256,TERRITOIRES!$B16,AGENCES!AR$4:AR$257) -> 838.6 | AR16: 1302.56 | AS16: 0.64380911 | AT16: 0
A17: MOSELLE | B17: METZ | C17: 73.27 | D17: =ROUNDUP(G17-G17*E17,0) -> 155 | E17: =IF(F17<0.8,(0.05+0.8-F17),0) -> 0.062121212 | F17: 0.78787879 | G17: =I17+I17*H17 -> 165 | H17: 0.1 | I17: 150 | J17: 0 | K17: 3 | L17: 448 | M17: 366 | N17: 307 | O17: 1121 | P17: 2198.1 | Q17: 0.5099859 | R17: 0 | S17: =SUMIF(AGENCES!$B$4:$B$256,TERRITOIRES!$B17,AGENCES!T$4:T$257) -> 422 | T17: =SUMIF(AGENCES!$B$4:$B$256,TERRITOIRES!$B17,AGENCES!U$4:U$257) -> 383 | U17: =SUMIF(AGENCES!$B$4:$B$256,TERRITOIRES!$B17,AGENCES!V$4:V$257) -> 319 | V17: =SUMIF(AGENCES!$B$4:$B$256,TERRITOIRES!$B17,AGENCES!W$4:W$257) -> 1124 | W17: 1099.05 | X17: =+V17/W17 -> 1.0227014 | Y17: 50 | Z17: =SUMIF(AGENCES!$B$4:$B$256,TERRITOIRES!$B17,AGENCES!AA$4:AA$257) -> 9913389.8 | AA17: =SUMIF(AGENCES!$B$4:$B$256,TERRITOIRES!$B17,AGENCES!AB$4:AB$257) -> 397286 | AB17: =SUMIF(AGENCES!$B$4:$B$256,TERRITOIRES!$B17,AGENCES!AC$4:AC$257) -> 281182 | AC17: =SUMIF(AGENCES!$B$4:$B$256,TERRITOIRES!$B17,AGENCES!AD$4:AD$257) -> 10591858 | AD17: 9891450 | AE17: 1.0404802 | AF17: 50 | AG17: =SUMIF(AGENCES!$B$4:$B$256,TERRITOIRES!$B17,AGENCES!AH$4:AH$257) -> 7406400 | AH17: =SUMIF(AGENCES!$B$4:$B$256,TERRITOIRES!$B17,AGENCES!AI$4:AI$257) -> 355020 | AI17: =SUMIF(AGENCES!$B$4:$B$256,TERRITOIRES!$B17,AGENCES!AJ$4:AJ$257) -> 192540 | AJ17: =SUMIF(AGENCES!$B$4:$B$256,TERRITOIRES!$B17,AGENCES!AK$4:AK$257) -> 7953960 | AK17: 7327000 | AL17: 1.0855684 | AM17: 50 | AN17: =SUMIF(AGENCES!$B$4:$B$256,TERRITOIRES!$B17,AGENCES!AO$4:AO$257) -> 543.6 | AO17: =SUMIF(AGENCES!$B$4:$B$256,TERRITOIRES!$B17,AGENCES!AP$4:AP$257) -> 268.3 | AP17: =SUMIF(AGENCES!$B$4:$B$256,TERRITOIRES!$B17,AGENCES!AQ$4:AQ$257) -> 196.3 | AQ17: =SUMIF(AGENCES!$B$4:$B$256,TERRITOIRES!$B17,AGENCES!AR$4:AR$257) -> 1008.2 | AR17: 2051.56 | AS17: 0.49143091 | AT17: 0
A18: MOSELLE | B18: MOSELLE EST | C18: 60.53 | D18: =ROUNDUP(G18-G18*E18,0) -> 110 | E18: =IF(F18<0.8,(0.05+0.8-F18),0) -> 0 | F18: 0.85620915 | G18: =I18+I18*H18 -> 110 | H18: 0.1 | I18: 100 | J18: 0 | K18: 2 | L18: 359 | M18: 277 | N18: 222 | O18: 858 | P18: 1815.9 | Q18: 0.47249298 | R18: 0 | S18: =SUMIF(AGENCES!$B$4:$B$256,TERRITOIRES!$B18,AGENCES!T$4:T$257) -> 413 | T18: =SUMIF(AGENCES!$B$4:$B$256,TERRITOIRES!$B18,AGENCES!U$4:U$257) -> 391 | U18: =SUMIF(AGENCES!$B$4:$B$256,TERRITOIRES!$B18,AGENCES!V$4:V$257) -> 310 | V18: =SUMIF(AGENCES!$B$4:$B$256,TERRITOIRES!$B18,AGENCES!W$4:W$257) -> 1114 | W18: 907.95 | X18: =+V18/W18 -> 1.2269398 | Y18: 50 | Z18: =SUMIF(AGENCES!$B$4:$B$256,TERRITOIRES!$B18,AGENCES!AA$4:AA$257) -> 5795008 | AA18: =SUMIF(AGENCES!$B$4:$B$256,TERRITOIRES!$B18,AGENCES!AB$4:AB$257) -> 129834.11 | AB18: =SUMIF(AGENCES!$B$4:$B$256,TERRITOIRES!$B18,AGENCES!AC$4:AC$257) -> 124972.11 | AC18: =SUMIF(AGENCES!$B$4:$B$256,TERRITOIRES!$B18,AGENCES!AD$4:AD$257) -> 6049814.2 | AD18: 8171550 | AE18: 0.74035087 | AF18: 0 | AG18: =SUMIF(AGENCES!$B$4:$B$256,TERRITOIRES!$B18,AGENCES!AH$4:AH$257) -> 6097970 | AH18: =SUMIF(AGENCES!$B$4:$B$256,TERRITOIRES!$B18,AGENCES!AI$4:AI$257) -> 328540 | AI18: =SUMIF(AGENCES!$B$4:$B$256,TERRITOIRES!$B18,AGENCES!AJ$4:AJ$257) -> 188200 | AJ18: =SUMIF(AGENCES!$B$4:$B$256,TERRITOIRES!$B18,AGENCES!AK$4:AK$257) -> 6614710 | AK18: 6053000 | AL18: 1.0927986 | AM18: 50 | AN18: =SUMIF(AGENCES!$B$4:$B$256,TERRITOIRES!$B18,AGENCES!AO$4:AO$257) -> 681.3 | AO18: =SUMIF(AGENCES!$B$4:$B$256,TERRITOIRES!$B18,AGENCES!AP$4:AP$257) -> 296 | AP18: =SUMIF(AGENCES!$B$4:$B$256,TERRITOIRES!$B18,AGENCES!AQ$4:AQ$257) -> 234.6 | AQ18: =SUMIF(AGENCES!$B$4:$B$256,TERRITOIRES!$B18,AGENCES!AR$4:AR$257) -> 1211.9 | AR18: 1694.84 | AS18: 0.71505275 | AT18: 0
A19: MOSELLE | B19: MOSELLE NORD | C19: 55.44 | D19: =ROUNDUP(G19-G19*E19,0) -> 55 | E19: =IF(F19<0.8,(0.05+0.8-F19),0) -> 0 | F19: 0.83076923 | G19: =I19+I19*H19 -> 55 | H19: 0.1 | I19: 50 | J19: 0 | K19: 1 | L19: 388 | M19: 326 | N19: 280 | O19: 994 | P19: 1663.2 | Q19: 0.5976431 | R19: 0 | S19: =SUMIF(AGENCES!$B$4:$B$256,TERRITOIRES!$B19,AGENCES!T$4:T$257) -> 259 | T19: =SUMIF(AGENCES!$B$4:$B$256,TERRITOIRES!$B19,AGENCES!U$4:U$257) -> 236 | U19: =SUMIF(AGENCES!$B$4:$B$256,TERRITOIRES!$B19,AGENCES!V$4:V$257) -> 191 | V19: =SUMIF(AGENCES!$B$4:$B$256,TERRITOIRES!$B19,AGENCES!W$4:W$257) -> 686 | W19: 831.6 | X19: =+V19/W19 -> 0.82491582 | Y19: 0 | Z19: =SUMIF(AGENCES!$B$4:$B$256,TERRITOIRES!$B19,AGENCES!AA$4:AA$257) -> 6255309.4 | AA19: =SUMIF(AGENCES!$B$4:$B$256,TERRITOIRES!$B19,AGENCES!AB$4:AB$257) -> 135884 | AB19: =SUMIF(AGENCES!$B$4:$B$256,TERRITOIRES!$B19,AGENCES!AC$4:AC$257) -> 40014 | AC19: =SUMIF(AGENCES!$B$4:$B$256,TERRITOIRES!$B19,AGENCES!AD$4:AD$257) -> 6431207.4 | AD19: 7484400 | AE19: 0.85928163 | AF19: 0 | AG19: =SUMIF(AGENCES!$B$4:$B$256,TERRITOIRES!$B19,AGENCES!AH$4:AH$257) -> 6094670 | AH19: =SUMIF(AGENCES!$B$4:$B$256,TERRITOIRES!$B19,AGENCES!AI$4:AI$257) -> 301490 | AI19: =SUMIF(AGENCES!$B$4:$B$256,TERRITOIRES!$B19,AGENCES!AJ$4:AJ$257) -> 192970 | AJ19: =SUMIF(AGENCES!$B$4:$B$256,TERRITOIRES!$B19,AGENCES!AK$4:AK$257) -> 6589130 | AK19: 5544000 | AL19: 1.1885155 | AM19: 50 | AN19: =SUMIF(AGENCES!$B$4:$B$256,TERRITOIRES!$B19,AGENCES!AO$4:AO$257) -> 738 | AO19: =SUMIF(AGENCES!$B$4:$B$256,TERRITOIRES!$B19,AGENCES!AP$4:AP$257) -> 370.8 | AP19: =SUMIF(AGENCES!$B$4:$B$256,TERRITOIRES!$B19,AGENCES!AQ$4:AQ$257) -> 305.1 | AQ19: =SUMIF(AGENCES!$B$4:$B$256,TERRITOIRES!$B19,AGENCES!AR$4:AR$257) -> 1413.9 | AR19: 1552.32 | AS19: 0.91083024 | AT19: 0
A20: VOSGES | B20: EPINAL | C20: 53.84 | D20: =ROUNDUP(G20-G20*E20,0) -> 165 | E20: =IF(F20<0.8,(0.05+0.8-F20),0) -> 0 | F20: 0.93939394 | G20: =I20+I20*H20 -> 165 | H20: 0.1 | I20: 150 | J20: 0 | K20: 3 | L20: 425 | M20: 279 | N20: 236 | O20: 940 | P20: 1615.2 | Q20: 0.58197127 | R20: 0 | S20: =SUMIF(AGENCES!$B$4:$B$256,TERRITOIRES!$B20,AGENCES!T$4:T$257) -> 417 | T20: =SUMIF(AGENCES!$B$4:$B$256,TERRITOIRES!$B20,AGENCES!U$4:U$257) -> 376 | U20: =SUMIF(AGENCES!$B$4:$B$256,TERRITOIRES!$B20,AGENCES!V$4:V$257) -> 308 | V20: =SUMIF(AGENCES!$B$4:$B$256,TERRITOIRES!$B20,AGENCES!W$4:W$257) -> 1101 | W20: 807.6 | X20: =+V20/W20 -> 1.3632987 | Y20: 50 | Z20: =SUMIF(AGENCES!$B$4:$B$256,TERRITOIRES!$B20,AGENCES!AA$4:AA$257) -> 9003978 | AA20: =SUMIF(AGENCES!$B$4:$B$256,TERRITOIRES!$B20,AGENCES!AB$4:AB$257) -> 226694.6 | AB20: =SUMIF(AGENCES!$B$4:$B$256,TERRITOIRES!$B20,AGENCES!AC$4:AC$257) -> 183482.2 | AC20: =SUMIF(AGENCES!$B$4:$B$256,TERRITOIRES!$B20,AGENCES!AD$4:AD$257) -> 9414154.8 | AD20: 7268400 | AE20: 1.2952169 | AF20: 50 | AG20: =SUMIF(AGENCES!$B$4:$B$256,TERRITOIRES!$B20,AGENCES!AH$4:AH$257) -> 5104882 | AH20: =SUMIF(AGENCES!$B$4:$B$256,TERRITOIRES!$B20,AGENCES!AI$4:AI$257) -> 321345 | AI20: =SUMIF(AGENCES!$B$4:$B$256,TERRITOIRES!$B20,AGENCES!AJ$4:AJ$257) -> 179245 | AJ20: =SUMIF(AGENCES!$B$4:$B$256,TERRITOIRES!$B20,AGENCES!AK$4:AK$257) -> 5605472 | AK20: 5384000 | AL20: 1.0411352 | AM20: 50 | AN20: =SUMIF(AGENCES!$B$4:$B$256,TERRITOIRES!$B20,AGENCES!AO$4:AO$257) -> 553 | AO20: =SUMIF(AGENCES!$B$4:$B$256,TERRITOIRES!$B20,AGENCES!AP$4:AP$257) -> 237.3 | AP20: =SUMIF(AGENCES!$B$4:$B$256,TERRITOIRES!$B20,AGENCES!AQ$4:AQ$257) -> 168.9 | AQ20: =SUMIF(AGENCES!$B$4:$B$256,TERRITOIRES!$B20,AGENCES!AR$4:AR$257) -> 959.2 | AR20: 1507.52 | AS20: 0.6362768 | AT20: 0
