Workbook
Name AUBE_HAUTE_MARNE: 'Structures EDS'!$C$3:$C$4
Name BAS_RHIN: 'Structures EDS'!$D$3:$D$5
Name CHALONS_EN_CHAMPAGNE: 'Structures EDS'!$T$3:$T$12
Name CHARLEVILLE_MEZIERES: 'Structures EDS'!$U$3:$U$16
Name CHAUMONT: 'Structures EDS'!$M$3:$M$11
Name COLMAR: 'Structures EDS'!$R$3:$R$17
Name EPINAL: 'Structures EDS'!$AC$3:$AC$18
Name HAGUENAU: 'Structures EDS'!$O$3:$O$20
Name HAUT_RHIN: 'Structures EDS'!$E$3:$E$4
Name MARNE_ARDENNES: 'Structures EDS'!$F$3:$F$5
Name METZ: 'Structures EDS'!$Z$3:$Z$24
Name MEURTHE_ET_MOSELLE_MEUSE: 'Structures EDS'!$G$3:$G$5
Name MOSELLE: 'Structures EDS'!$H$3:$H$5
Name MOSELLE_EST: 'Structures EDS'!$AA$3:$AA$19
Name MOSELLE_NORD: 'Structures EDS'!$AB$3:$AB$21
Name MULHOUSE: 'Structures EDS'!$S$3:$S$17
Name NANCY: 'Structures EDS'!$W$3:$W$19
Name PONT_A_MOUSSON: 'Structures EDS'!$X$3:$X$21
Name REIMS: 'Structures EDS'!$V$3:$V$20
Name SAINT_DIE: 'Structures EDS'!$AD$3:$AD$14
Name SELESTAT: 'Structures EDS'!$P$3:$P$19
Name STRASBOURG: 'Structures EDS'!$Q$3:$Q$22
Name TROYES: 'Structures EDS'!$N$3:$N$17
Name VERDUN: 'Structures EDS'!$Y$3:$Y$16
Name VOSGES: 'Structures EDS'!$I$3:$I$4

Sheet Lexique
B1: LEXIQUE FICHE AGENCE "VERS LA PV 2020"
C5: Le rôle de la fiche Agence "Vers la Part Variable 2020" est de vous aider à piloter les principaux items de la Part Variable 2020 sur les 2 derniers mois de l'année. Les indicateurs vous permettent d'avoir une vision hebdomadaire et par ETP des performances à réaliser pour atteindre vos objectifs.
C7: Elle sera mise à jour chaque lundi et mardi matin pour vous offrir la vision la plus complète de la production de la semaine précédente et du reste à faire.
C9: Ce suivi n'a pas vocation à figer vos résultats et les taux de Part Variable, ces derniers le seront lors de la réalisation des arrêtés définitifs début 2021.
C11: Pour piloter vos objectifs Part Variable en quotidien : | I11: Pour piloter vos performances au Baromètre tous les lundis :
C12: Suivi Quotidien Part Variable sur Objectifs | I12: Suivi Baromètre
C17: ● Taux d'atteinte de l'objectif : réalisation cumulée à fin de semaine précédente / objectif annuel 2020
C19: ● Meilleure performance hebdo : meilleure production hebdomadaire en 2020 (avant S44) rapportée à l'ETP moyen annuel
F20: à fin septembre
C22: ● Reste à faire pour atteindre l'objectif de 100% ou 120% : il s'agit d'une estimation du reste à faire pour atteindre l'objectif
C23: annuel. Ce dernier s'adapte en fonction de :
C24: - la réalisation sur la semaine précédente
C25: - la mise à jour mensuelle de l'objectif en fonction de l'ETP annuel moyen (ETP d'octobre disponible autour du 20/11)
C27: ● ETP utilisé dans le calcul du reste à faire et de la production des semaines 45 à 50 : il s'agit de l'ETP remonté par vos DR/DT pour
C28: le pilotage du Challenge "A la Conquête des Univers".
C30: ● Rang Baromètre : rang de l'entité dans le Baromètre BDD le plus récent publié sur la rubrique des commerciaux
C32: ● Ecart au 1er : écart au 1er de l'entité dans le Baromètre BDD le plus récent publié sur la rubrique des commerciaux
C34: ● Reste à faire pour atteindre le TOP : il s'agit de la performance à réaliser sur les semaines restantes pour atteindre le
C35: classement précisé. Cette performance intègre pour chaque entité le trend constaté depuis le début de l'année et ce dernier
C36: est appliqué aux semaines restantes (jusqu'à la semaine 50).
C38: Exemple :
... C61: Non, les Responsabilités Civiles ne sont pas prises en compte dans cet indicateur.

Sheet Fiche Agence
C1: REGION | H1: TERRITOIRE | N1: AGENCE
C2: AUBE_HAUTE_MARNE | H2: CHAUMONT | N2: BOURBONNE LES BAINS | X2: Semaine en cours : | Y2: 45 | Z2: =WEEKNUM(TODAY()) -> 44 | AA2: forcé pour 1er envoi, mettre Z en Y ensuite
X3: Nb semaines restantes : | Y3: =50-Y2+1 -> 6 | Z3: Bien vérifier
B4: VERS LA PART VARIABLE 2020 - SEMAINE 44 | X4: Code EDS | Y4: =VLOOKUP(N2,'ETP Challenge'!D:F,3,0) -> 410560
X6: Jauge
X7: 0 - 79% | Z7: 80
G8: MEILLEURE PERFORMANCE HEBDO EN 2020 : | X8: 80% - 100% | Z8: 20
K9: ATTENDU : | N9: ="2 MRH4 par ETP par semaine, soit "&ROUND(2*SUMIF('ETP Challenge'!$D:$D,$N$2,'ETP Challenge'!$E:$E),0)*6 & " contrats pour mon agence entre le 4 novembre et le 15 décembre" -> 2 MRH4 par ETP par semaine, soit 24 contrats pour mon agence entre le 4 novembre et le 15 décembre | X9: 101% - 120% | Z9: 20
Z10: =SUM(Z7:Z9) -> 120
G11: =ROUND(VLOOKUP(N2,'Meilleures perf'!C:G,3,0),1) & " contrats par ETP" -> 5,3 contrats par ETP
X12: aiguille IARD | Y12: =ROUND(VLOOKUP(N2,'Coller ici dernier suivi PV'!C:BR,35,0)*100,1) -> 97 | Z12: =IF(Y12>=120,120,Y12) -> 97
C13: =Y12 & "%" -> 97% | X13: largeur | Z13: 1
X14: part invisible | Z14: =SUM($Z$7:$Z$10)-(Z13+Z12) -> 142
X15: aiguille CONSO | Y15: =ROUND(VLOOKUP(N2,'Coller ici dernier suivi PV'!C:BR,25,0)*100,1) -> 140.5 | Z15: =IF(Y15>=120,120,Y15) -> 120
D16: Reste à faire hebdo par ETP pour atteindre l'objectif | K16: REALISATION DEPUIS LE 04/11 | N16: TAUX D'ATT. SAIS. | P16: RESTE A FAIRE HEBDO | X16: largeur | Z16: 1
D17: S45 | E17: S46 | F17: S47 | G17: S48 | H17: S49 | I17: S50 | X17: part invisible | Z17: =SUM($Z$7:$Z$10)-(Z16+Z15) -> 119
C18: Obj 100% | D18: =(VLOOKUP($N$2,'CUMUL résultats semaine'!$A:$BL,3,0)/SUMIF('ETP Challenge'!$D:$D,$N$2,'ETP Challenge'!$E:$E))/6 -> 0.33333333 | E18: =IF(ISNUMBER(D$20),(VLOOKUP($N$2,'CUMUL résultats semaine'!$A:$BL,12,0)/SUMIF('ETP Challenge'!$D:$D,$N$2,'ETP Challenge'!$E:$E))/5,D18) -> 0.33333333 | F18: =IF(ISNUMBER(E$20),(VLOOKUP($N$2,'CUMUL résultats semaine'!$A:$BL,21,0)/SUMIF('ETP Challenge'!$D:$D,$N$2,'ETP Challenge'!$E:$E))/4,E18) -> 0.33333333 | G18: =IF(ISNUMBER(F$20),(VLOOKUP($N$2,'CUMUL résultats semaine'!$A:$BL,30,0)/SUMIF('ETP Challenge'!$D:$D,$N$2,'ETP Challenge'!$E:$E))/3,F18) -> 0.33333333 | H18: =IF(ISNUMBER(G$20),(VLOOKUP($N$2,'CUMUL résultats semaine'!$A:$BL,39,0)/SUMIF('ETP Challenge'!$D:$D,$N$2,'ETP Challenge'!$E:$E))/2,G18) -> 0.33333333 | I18: =IF(ISNUMBER(H$20),(VLOOKUP($N$2,'CUMUL résultats semaine'!$A:$BL,48,0)/SUMIF('ETP Challenge'!$D:$D,$N$2,'ETP Challenge'!$E:$E)),H18) -> 0.33333333 | K18: AGENCE | L18: PAR ETP | P18: AGENCE | Q18: PAR ETP | X18: aiguille BANCA | Y18: =ROUND(VLOOKUP(N2,'Coller ici dernier suivi PV'!C:BR,55,0)*100,1) -> 104.3 | Z18: =IF(Y18>=120,120,Y18) -> 104.3
C19: Obj 120% | D19: =(VLOOKUP($N$2,'CUMUL résultats semaine'!$A:$BL,4,0)/SUMIF('ETP Challenge'!$D:$D,$N$2,'ETP Challenge'!$E:$E))/6 -> 2.3333333 | E19: =IF(ISNUMBER(D$20),(VLOOKUP($N$2,'CUMUL résultats semaine'!$A:$BL,13,0)/SUMIF('ETP Challenge'!$D:$D,$N$2,'ETP Challenge'!$E:$E))/5,D19) -> 2.3333333 | F19: =IF(ISNUMBER(E$20),(VLOOKUP($N$2,'CUMUL résultats semaine'!$A:$BL,22,0)/SUMIF('ETP Challenge'!$D:$D,$N$2,'ETP Challenge'!$E:$E))/4,E19) -> 2.3333333 | G19: =IF(ISNUMBER(F$20),(VLOOKUP($N$2,'CUMUL résultats semaine'!$A:$BL,31,0)/SUMIF('ETP Challenge'!$D:$D,$N$2,'ETP Challenge'!$E:$E))/3,F19) -> 2.3333333 | H19: =IF(ISNUMBER(G$20),(VLOOKUP($N$2,'CUMUL résultats semaine'!$A:$BL,40,0)/SUMIF('ETP Challenge'!$D:$D,$N$2,'ETP Challenge'!$E:$E))/2,G19) -> 2.3333333 | I19: =IF(ISNUMBER(H$20),(VLOOKUP($N$2,'CUMUL résultats semaine'!$A:$BL,49,0)/SUMIF('ETP Challenge'!$D:$D,$N$2,'ETP Challenge'!$E:$E)),H19) -> 2.3333333 | K19: =IF(ISNUMBER(VLOOKUP(N2,'PROD MRH4'!D:E,2,0)),VLOOKUP(N2,'PROD MRH4'!D:E,2,0),0) -> 0 | L19: =K19/SUMIF('ETP Challenge'!$D:$D,$N$2,'ETP Challenge'!$E:$E) -> 0 | N19: =IF(Y3=6,0,L19/(2*(6-Y3))) -> 0 | P19: =(ROUND(2*SUMIF('ETP Challenge'!$D:$D,$N$2,'ETP Challenge'!$E:$E),1)*6 - K19)/Y3 -> 4 | Q19: =P19/SUMIF('ETP Challenge'!$D:$D,$N$2,'ETP Challenge'!$E:$E) -> 2 | X19: largeur | Z19: 1
C20: Réalis. / ETP | D20: =IF(ISNUMBER(VLOOKUP($N$2,'CUMUL résultats semaine'!A:BL,11,0)),(VLOOKUP($N$2,'CUMUL résultats semaine'!A:BL,11,0)-VLOOKUP($N$2,'CUMUL résultats semaine'!A:BL,2,0))/SUMIF('ETP Challenge'!$D:$D,$N$2,'ETP Challenge'!$E:$E),"-") -> - | E20: =IF(ISNUMBER(VLOOKUP($N$2,'CUMUL résultats semaine'!A:BL,20,0)),(VLOOKUP($N$2,'CUMUL résultats semaine'!A:BL,20,0)-VLOOKUP($N$2,'CUMUL résultats semaine'!A:BL,11,0))/SUMIF('ETP Challenge'!$D:$D,$N$2,'ETP Challenge'!$E:$E),"-") -> - | F20: =IF(ISNUMBER(VLOOKUP($N$2,'CUMUL résultats semaine'!A:BL,29,0)),(VLOOKUP($N$2,'CUMUL résultats semaine'!A:BL,29,0)-VLOOKUP($N$2,'CUMUL résultats semaine'!A:BL,20,0))/SUMIF('ETP Challenge'!$D:$D,$N$2,'ETP Challenge'!$E:$E),"-") -> - | G20: =IF(ISNUMBER(VLOOKUP($N$2,'CUMUL résultats semaine'!A:BL,38,0)),(VLOOKUP($N$2,'CUMUL résultats semaine'!A:BL,38,0)-VLOOKUP($N$2,'CUMUL résultats semaine'!A:BL,29,0))/SUMIF('ETP Challenge'!$D:$D,$N$2,'ETP Challenge'!$E:$E),"-") -> - | H20: =IF(ISNUMBER(VLOOKUP($N$2,'CUMUL résultats semaine'!A:BL,47,0)),(VLOOKUP($N$2,'CUMUL résultats semaine'!A:BL,47,0)-VLOOKUP($N$2,'CUMUL résultats semaine'!A:BL,38,0))/SUMIF('ETP Challenge'!$D:$D,$N$2,'ETP Challenge'!$E:$E),"-") -> - | I20: =IF(ISNUMBER(VLOOKUP($N$2,'CUMUL résultats semaine'!A:BL,56,0)),(VLOOKUP($N$2,'CUMUL résultats semaine'!A:BL,56,0)-VLOOKUP($N$2,'CUMUL résultats semaine'!A:BL,47,0))/SUMIF('ETP Challenge'!$D:$D,$N$2,'ETP Challenge'!$E:$E),"-") -> - | X20: part invisible | Z20: =SUM($Z$7:$Z$10)-(Z19+Z18) -> 134.7
X23: CA UC BAROM | Y23: RàF | Z23: RàF par ETP par semaine
X24: =IF($N$27>100,"TOP 100","TOP 50") -> TOP 100 | Y24: =IF(X24="TOP 100",VLOOKUP($Y$4,'BAROM CA UC'!$E:$Z,21,0),VLOOKUP($Y$4,'BAROM CA UC'!$E:$Z,20,0)) -> 312024.63 | Z24: =IF(Y24<=0,0,Y24/SUMIF('ETP Challenge'!$D:$D,$N$2,'ETP Challenge'!$E:$E)/1000)/$Y$3 -> 26.002053
X25: =IF($N$27>100,"TOP 50","TOP 30") -> TOP 50 | Y25: =IF(X25="TOP 50",VLOOKUP($Y$4,'BAROM CA UC'!$E:$Z,20,0),VLOOKUP($Y$4,'BAROM CA UC'!$E:$Z,19,0)) -> 630782.3 | Z25: =IF(Y25<=0,0,Y25/SUMIF('ETP Challenge'!$D:$D,$N$2,'ETP Challenge'!$E:$E)/1000)/$Y$3 -> 52.565192
G26: MEILLEURE PERFORMANCE HEBDO EN 2020 : | X26: =IF(N27<10,"TOP 1",IF($N$27>100,"TOP 30","TOP 10")) -> TOP 30 | Y26: =IF(X26="TOP 1",VLOOKUP($Y$4,'BAROM CA UC'!$E:$Z,17,0),IF(X26="TOP 10",VLOOKUP($Y$4,'BAROM CA UC'!$E:$Z,18,0),VLOOKUP($Y$4,'BAROM CA UC'!$E:$Z,19,0))) -> 815085.97 | Z26: =IF(Y26<=0,0,Y26/SUMIF('ETP Challenge'!$D:$D,$N$2,'ETP Challenge'!$E:$E)/1000)/$Y$3 -> 67.923831
K27: RANG BAROMETRE : | N27: =VLOOKUP($Y$4,'BAROM CA UC'!$E:$Z,7,0) -> 179 | O27: ECART AU 1ER : | R27: =VLOOKUP($Y$4,'BAROM CA UC'!$E:$Z,6,0) -> 0.93939726
X28: IZICARTES BAROM | Y28: RàF | Z28: RàF par ETP par semaine
G29: =ROUND(VLOOKUP(N2,'Meilleures perf'!C:G,4,0)/1000,1) & "K€ d'engagements par ETP" -> 42,5K€ d'engagements par ETP | X29: =IF($M$45>100,"TOP 100","TOP 50") -> TOP 50 | Y29: =IF(X29="TOP 100",VLOOKUP($Y$4,'BAROM IZICARTES'!$E:$Z,22,0),VLOOKUP($Y$4,'BAROM IZICARTES'!$E:$Z,21,0)) -> 2.5079932 | Z29: =IF(Y29<=0,0,Y29/SUMIF('ETP Challenge'!$D:$D,$N$2,'ETP Challenge'!$E:$E))/$Y$3 -> 0.20899943
X30: =IF($M$45>100,"TOP 50","TOP 30") -> TOP 30 | Y30: =IF(X30="TOP 50",VLOOKUP($Y$4,'BAROM IZICARTES'!$E:$Z,21,0),VLOOKUP($Y$4,'BAROM IZICARTES'!$E:$Z,20,0)) -> 7.2006327 | Z30: =IF(Y30<=0,0,Y30/SUMIF('ETP Challenge'!$D:$D,$N$2,'ETP Challenge'!$E:$E))/$Y$3 -> 0.60005273
C31: =Y15& "%" -> 140,5% | X31: =IF($M$45<10,"TOP1",IF($M$45>100,"TOP 30","TOP 10")) -> TOP 10 | Y31: =IF(X31="TOP 1",VLOOKUP($Y$4,'BAROM IZICARTES'!$E:$Z,18,0),IF(X31="TOP 10",VLOOKUP($Y$4,'BAROM IZICARTES'!$E:$Z,19,0),VLOOKUP($Y$4,'BAROM IZICARTES'!$E:$Z,20,0))) -> 23.405922 | Z31: =IF(Y31<=0,0,Y31/SUMIF('ETP Challenge'!$D:$D,$N$2,'ETP Challenge'!$E:$E))/$Y$3 -> 1.9504935
X33: HDG DD BAROM | Y33: RàF | Z33: RàF par ETP par semaine
D34: Reste à faire hebdo par ETP pour atteindre l'objectif (en K€) | X34: =IF($R$45>100,"TOP 100","TOP 50") -> TOP 50 | Y34: =IF(X34="TOP 100",VLOOKUP($Y$4,'BAROM CARTES HDG'!$E:$Z,22,0),VLOOKUP($Y$4,'BAROM CARTES HDG'!$E:$Z,21,0)) -> 10.347266 | Z34: =IF(Y34<=0,0,Y34/SUMIF('ETP Challenge'!$D:$D,$N$2,'ETP Challenge'!$E:$E))/$Y$3 -> 0.86227219
D35: S45 | E35: S46 | F35: S47 | G35: S48 | H35: S49 | I35: S50 | X35: =IF($R$45>100,"TOP 50","TOP 30") -> TOP 30 | Y35: =IF(X35="TOP 50",VLOOKUP($Y$4,'BAROM CARTES HDG'!$E:$Z,21,0),VLOOKUP($Y$4,'BAROM CARTES HDG'!$E:$Z,20,0)) -> 18.776341 | Z35: =IF(Y35<=0,0,Y35/SUMIF('ETP Challenge'!$D:$D,$N$2,'ETP Challenge'!$E:$E))/$Y$3 -> 1.5646951
C36: Obj 100% | D36: =(VLOOKUP($N$2,'CUMUL résultats semaine'!$A:$BL,6,0)/SUMIF('ETP Challenge'!$D:$D,$N$2,'ETP Challenge'!$E:$E))/6 -> 0 | E36: =IF(ISNUMBER(D$38),(VLOOKUP($N$2,'CUMUL résultats semaine'!$A:$BL,15,0)/SUMIF('ETP Challenge'!$D:$D,$N$2,'ETP Challenge'!$E:$E))/5,D36) -> 0 | F36: =IF(ISNUMBER(E$20),(VLOOKUP($N$2,'CUMUL résultats semaine'!$A:$BL,24,0)/SUMIF('ETP Challenge'!$D:$D,$N$2,'ETP Challenge'!$E:$E))/4,E36) -> 0 | G36: =IF(ISNUMBER(F$20),(VLOOKUP($N$2,'CUMUL résultats semaine'!$A:$BL,33,0)/SUMIF('ETP Challenge'!$D:$D,$N$2,'ETP Challenge'!$E:$E))/3,F36) -> 0 | H36: =IF(ISNUMBER(G$20),(VLOOKUP($N$2,'CUMUL résultats semaine'!$A:$BL,42,0)/SUMIF('ETP Challenge'!$D:$D,$N$2,'ETP Challenge'!$E:$E))/2,G36) -> 0 | I36: =IF(ISNUMBER(H$20),(VLOOKUP($N$2,'CUMUL résultats semaine'!$A:$BL,51,0)/SUMIF('ETP Challenge'!$D:$D,$N$2,'ETP Challenge'!$E:$E)),H36) -> 0 | X36: =IF($R$45<10,"TOP1",IF($R$45>100,"TOP 30","TOP 10")) -> TOP 10 | Y36: =IF(X36="TOP 1",VLOOKUP($Y$4,'BAROM CARTES HDG'!$E:$Z,18,0),IF(X36="TOP 10",VLOOKUP($Y$4,'BAROM CARTES HDG'!$E:$Z,19,0),VLOOKUP($Y$4,'BAROM CARTES HDG'!$E:$Z,20,0))) -> 33.741298 | Z36: =IF(Y36<=0,0,Y36/SUMIF('ETP Challenge'!$D:$D,$N$2,'ETP Challenge'!$E:$E))/$Y$3 -> 2.8117749
C37: Obj 120% | D37: =(VLOOKUP($N$2,'CUMUL résultats semaine'!$A:$BL,7,0)/SUMIF('ETP Challenge'!$D:$D,$N$2,'ETP Challenge'!$E:$E))/6 -> 0 | E37: =IF(ISNUMBER(D$38),(VLOOKUP($N$2,'CUMUL résultats semaine'!$A:$BL,16,0)/SUMIF('ETP Challenge'!$D:$D,$N$2,'ETP Challenge'!$E:$E))/5,D37) -> 0 | F37: =IF(ISNUMBER(E$20),(VLOOKUP($N$2,'CUMUL résultats semaine'!$A:$BL,25,0)/SUMIF('ETP Challenge'!$D:$D,$N$2,'ETP Challenge'!$E:$E))/4,E37) -> 0 | G37: =IF(ISNUMBER(F$20),(VLOOKUP($N$2,'CUMUL résultats semaine'!$A:$BL,34,0)/SUMIF('ETP Challenge'!$D:$D,$N$2,'ETP Challenge'!$E:$E))/3,F37) -> 0 | H37: =IF(ISNUMBER(G$20),(VLOOKUP($N$2,'CUMUL résultats semaine'!$A:$BL,43,0)/SUMIF('ETP Challenge'!$D:$D,$N$2,'ETP Challenge'!$E:$E))/2,G37) -> 0 | I37: =IF(ISNUMBER(H$20),(VLOOKUP($N$2,'CUMUL résultats semaine'!$A:$BL,52,0)/SUMIF('ETP Challenge'!$D:$D,$N$2,'ETP Challenge'!$E:$E)),H37) -> 0
C38: Réalis. / ETP | D38: =IF(ISNUMBER(VLOOKUP($N$2,'CUMUL résultats semaine'!A:BL,14,0)),(VLOOKUP($N$2,'CUMUL résultats semaine'!A:BL,14,0)-VLOOKUP($N$2,'CUMUL résultats semaine'!A:BL,5,0))/SUMIF('ETP Challenge'!$D:$D,$N$2,'ETP Challenge'!$E:$E),"-") -> - | E38: =IF(ISNUMBER(VLOOKUP($N$2,'CUMUL résultats semaine'!A:BL,23,0)),(VLOOKUP($N$2,'CUMUL résultats semaine'!A:BL,23,0)-VLOOKUP($N$2,'CUMUL résultats semaine'!A:BL,14,0))/SUMIF('ETP Challenge'!$D:$D,$N$2,'ETP Challenge'!$E:$E),"-") -> - | F38: =IF(ISNUMBER(VLOOKUP($N$2,'CUMUL résultats semaine'!A:BL,32,0)),(VLOOKUP($N$2,'CUMUL résultats semaine'!A:BL,32,0)-VLOOKUP($N$2,'CUMUL résultats semaine'!A:BL,23,0))/SUMIF('ETP Challenge'!$D:$D,$N$2,'ETP Challenge'!$E:$E),"-") -> - | G38: =IF(ISNUMBER(VLOOKUP($N$2,'CUMUL résultats semaine'!A:BL,41,0)),(VLOOKUP($N$2,'CUMUL résultats semaine'!A:BL,41,0)-VLOOKUP($N$2,'CUMUL résultats semaine'!A:BL,32,0))/SUMIF('ETP Challenge'!$D:$D,$N$2,'ETP Challenge'!$E:$E),"-") -> - | H38: =IF(ISNUMBER(VLOOKUP($N$2,'CUMUL résultats semaine'!A:BL,50,0)),(VLOOKUP($N$2,'CUMUL résultats semaine'!A:BL,50,0)-VLOOKUP($N$2,'CUMUL résultats semaine'!A:BL,41,0))/SUMIF('ETP Challenge'!$D:$D,$N$2,'ETP Challenge'!$E:$E),"-") -> - | I38: =IF(ISNUMBER(VLOOKUP($N$2,'CUMUL résultats semaine'!A:BL,59,0)),(VLOOKUP($N$2,'CUMUL résultats semaine'!A:BL,59,0)-VLOOKUP($N$2,'CUMUL résultats semaine'!A:BL,50,0))/SUMIF('ETP Challenge'!$D:$D,$N$2,'ETP Challenge'!$E:$E),"-") -> -
G44: MEILLEURE PERFORMANCE HEBDO EN 2020 :
K45: RANG BAROMETRE : | M45: =VLOOKUP($Y$4,'BAROM IZICARTES'!$E:$Z,7,0) -> 62 | P45: RANG BAROMETRE : | R45: =VLOOKUP($Y$4,'BAROM CARTES HDG'!$E:$Z,7,0) -> 99
K46: ECART AU 1ER : | M46: =VLOOKUP($Y$4,'BAROM IZICARTES'!$E:$Z,6,0) -> 0.78864427 | P46: ECART AU 1ER : | R46: =VLOOKUP($Y$4,'BAROM CARTES HDG'!$E:$Z,6,0) -> 0.76835463
G47: =ROUND(VLOOKUP(N2,'Meilleures perf'!C:G,5,0),1) & " contrats par ETP" -> 2,6 contrats par ETP
C49: =Y18& "%" -> 104,3%
D52: Reste à faire hebdo par ETP pour atteindre l'objectif
D53: S45 | E53: S46 | F53: S47 | G53: S48 | H53: S49 | I53: S50
C54: Obj 100% | D54: =(VLOOKUP($N$2,'CUMUL résultats semaine'!$A:$BL,9,0)/SUMIF('ETP Challenge'!$D:$D,$N$2,'ETP Challenge'!$E:$E))/6 -> 0 | E54: =IF(ISNUMBER(D$56),(VLOOKUP($N$2,'CUMUL résultats semaine'!$A:$BL,18,0)/SUMIF('ETP Challenge'!$D:$D,$N$2,'ETP Challenge'!$E:$E))/5,D54) -> 0 | F54: =IF(ISNUMBER(E$56),(VLOOKUP($N$2,'CUMUL résultats semaine'!$A:$BL,27,0)/SUMIF('ETP Challenge'!$D:$D,$N$2,'ETP Challenge'!$E:$E))/4,E54) -> 0 | G54: =IF(ISNUMBER(F$56),(VLOOKUP($N$2,'CUMUL résultats semaine'!$A:$BL,36,0)/SUMIF('ETP Challenge'!$D:$D,$N$2,'ETP Challenge'!$E:$E))/3,F54) -> 0 | H54: =IF(ISNUMBER(G$56),(VLOOKUP($N$2,'CUMUL résultats semaine'!$A:$BL,45,0)/SUMIF('ETP Challenge'!$D:$D,$N$2,'ETP Challenge'!$E:$E))/2,G54) -> 0 | I54: =IF(ISNUMBER(H$56),(VLOOKUP($N$2,'CUMUL résultats semaine'!$A:$BL,54,0)/SUMIF('ETP Challenge'!$D:$D,$N$2,'ETP Challenge'!$E:$E)),H54) -> 0
C55: Obj 120% | D55: =(VLOOKUP($N$2,'CUMUL résultats semaine'!$A:$BL,10,0)/SUMIF('ETP Challenge'!$D:$D,$N$2,'ETP Challenge'!$E:$E))/6 -> 0.83333333 | E55: =IF(ISNUMBER(D$56),(VLOOKUP($N$2,'CUMUL résultats semaine'!$A:$BL,19,0)/SUMIF('ETP Challenge'!$D:$D,$N$2,'ETP Challenge'!$E:$E))/5,D55) -> 0.83333333 | F55: =IF(ISNUMBER(E$56),(VLOOKUP($N$2,'CUMUL résultats semaine'!$A:$BL,28,0)/SUMIF('ETP Challenge'!$D:$D,$N$2,'ETP Challenge'!$E:$E))/4,E55) -> 0.83333333 | G55: =IF(ISNUMBER(F$56),(VLOOKUP($N$2,'CUMUL résultats semaine'!$A:$BL,37,0)/SUMIF('ETP Challenge'!$D:$D,$N$2,'ETP Challenge'!$E:$E))/3,F55) -> 0.83333333 | H55: =IF(ISNUMBER(G$56),(VLOOKUP($N$2,'CUMUL résultats semaine'!$A:$BL,46,0)/SUMIF('ETP Challenge'!$D:$D,$N$2,'ETP Challenge'!$E:$E))/2,G55) -> 0.83333333 | I55: =IF(ISNUMBER(H$56),(VLOOKUP($N$2,'CUMUL résultats semaine'!$A:$BL,55,0)/SUMIF('ETP Challenge'!$D:$D,$N$2,'ETP Challenge'!$E:$E)),H55) -> 0.83333333
C56: Réalis. / ETP | D56: =IF(ISNUMBER(VLOOKUP($N$2,'CUMUL résultats semaine'!A:BL,17,0)),(VLOOKUP($N$2,'CUMUL résultats semaine'!A:BL,17,0)-VLOOKUP($N$2,'CUMUL résultats semaine'!A:BL,8,0))/SUMIF('ETP Challenge'!$D:$D,$N$2,'ETP Challenge'!$E:$E),"-") -> - | E56: =IF(ISNUMBER(VLOOKUP($N$2,'CUMUL résultats semaine'!A:BL,26,0)),(VLOOKUP($N$2,'CUMUL résultats semaine'!A:BL,26,0)-VLOOKUP($N$2,'CUMUL résultats semaine'!A:BL,17,0))/SUMIF('ETP Challenge'!$D:$D,$N$2,'ETP Challenge'!$E:$E),"-") -> - | F56: =IF(ISNUMBER(VLOOKUP($N$2,'CUMUL résultats semaine'!A:BL,35,0)),(VLOOKUP($N$2,'CUMUL résultats semaine'!A:BL,35,0)-VLOOKUP($N$2,'CUMUL résultats semaine'!A:BL,26,0))/SUMIF('ETP Challenge'!$D:$D,$N$2,'ETP Challenge'!$E:$E),"-") -> - | G56: =IF(ISNUMBER(VLOOKUP($N$2,'CUMUL résultats semaine'!A:BL,44,0)),(VLOOKUP($N$2,'CUMUL résultats semaine'!A:BL,44,0)-VLOOKUP($N$2,'CUMUL résultats semaine'!A:BL,35,0))/SUMIF('ETP Challenge'!$D:$D,$N$2,'ETP Challenge'!$E:$E),"-") -> - | H56: =IF(ISNUMBER(VLOOKUP($N$2,'CUMUL résultats semaine'!A:BL,53,0)),(VLOOKUP($N$2,'CUMUL résultats semaine'!A:BL,53,0)-VLOOKUP($N$2,'CUMUL résultats semaine'!A:BL,44,0))/SUMIF('ETP Challenge'!$D:$D,$N$2,'ETP Challenge'!$E:$E),"-") -> - | I56: =IF(ISNUMBER(VLOOKUP($N$2,'CUMUL résultats semaine'!A:BL,62,0)),(VLOOKUP($N$2,'CUMUL résultats semaine'!A:BL,62,0)-VLOOKUP($N$2,'CUMUL résultats semaine'!A:BL,53,0))/SUMIF('ETP Challenge'!$D:$D,$N$2,'ETP Challenge'!$E:$E),"-") -> -

Sheet CUMUL résultats semaine
A1: 1 | B1: 2 | C1: 3 | D1: 4 | E1: 5 | F1: 6 | G1: 7 | H1: 8 | I1: 9 | J1: 10 | K1: 11 | L1: 12 | M1: 13 | N1: 14 | O1: 15 | P1: 16 | Q1: 17 | R1: 18 | S1: 19 | T1: 20 | U1: 21 | V1: 22 | W1: 23 | X1: 24 | Y1: 25 | Z1: 26 | AA1: 27 | AB1: 28 | AC1: 29 | AD1: 30 | AE1: 31 | AF1: 32 | AG1: 33 | AH1: 34 | AI1: 35 | AJ1: 36 | AK1: 37 | AL1: 38 | AM1: 39 | AN1: 40 | AO1: 41 | AP1: 42 | AQ1: 43 | AR1: 44 | AS1: 45 | AT1: 46 | AU1: 47 | AV1: 48 | AW1: 49 | AX1: 50 | AY1: 51 | AZ1: 52 | BA1: 53 | BB1: 54 | BC1: 55 | BD1: 56 | BE1: 57 | BF1: 58 | BG1: 59 | BH1: 60 | BI1: 61 | BJ1: 62 | BK1: 63 | BL1: 64
A2: AGENCES | B2: S0 PROD IARD | C2: S0 RAF IARD 100% | D2: S0 RAF IARD 120% | E2: S0 PROD CONSO | F2: S0 RAF CONSO 100% | G2: S0 RAF CONSO 120% | H2: S0 PROD FORF | I2: S0 RAF FORF 100% | J2: S0 RAF FORF 120% | K2: S45 PROD IARD | L2: S45 RAF IARD 100% | M2: S45 RAF IARD 120% | N2: S45 PROD CONSO | O2: S45 RAF CONSO 100% | P2: S45 RAF CONSO 120% | Q2: S45 PROD FORF | R2: S45 RAF FORF 100% | S2: S45 RAF FORF 120% | T2: S46 PROD IARD | U2: S46 RAF IARD 100% | V2: S46 RAF IARD 120% | W2: S46 PROD CONSO | X2: S46 RAF CONSO 100% | Y2: S46 RAF CONSO 120% | Z2: S46 PROD FORF | AA2: S46 RAF FORF 100% | AB2: S46 RAF FORF 120% | AC2: S47 PROD IARD | AD2: S47 RAF IARD 100% | AE2: S47 RAF IARD 120% | AF2: S47 PROD CONSO | AG2: S47 RAF CONSO 100% | AH2: S47 RAF CONSO 120% | AI2: S47 PROD FORF | AJ2: S47 RAF FORF 100% | AK2: S47 RAF FORF 120% | AL2: S48 PROD IARD | AM2: S48 RAF IARD 100% | AN2: S48 RAF IARD 120% | AO2: S48 PROD CONSO | AP2: S48 RAF CONSO 100% | AQ2: S48 RAF CONSO 120% | AR2: S48 PROD FORF | AS2: S48 RAF FORF 100% | AT2: S48 RAF FORF 120% | AU2: S49 PROD IARD | AV2: S49 RAF IARD 100% | AW2: S49 RAF IARD 120% | AX2: S49 PROD CONSO | AY2: S49 RAF CONSO 100% | AZ2: S49 RAF CONSO 120% | BA2: S49 PROD FORF | BB2: S49 RAF FORF 100% | BC2: S49 RAF FORF 120% | BD2: S50 PROD IARD | BE2: S50 RAF IARD 100% | BF2: S50 RAF IARD 120% | BG2: S50 PROD CONSO | BH2: S50 RAF CONSO 100% | BI2: S50 RAF CONSO 120% | BJ2: S50 PROD FORF | BK2: S50 RAF FORF 100% | BL2: S50 RAF FORF 120%
A3: BOURBONNE LES BAINS | B3: =VLOOKUP($A3,'S0 remplacer avec S44'!$C:$BQ,32,0) -> 116.1 | C3: =VLOOKUP($A3,'S0 remplacer avec S44'!$C:$BQ,39,0) -> 4 | D3: =VLOOKUP($A3,'S0 remplacer avec S44'!$C:$BQ,40,0) -> 28 | E3: =VLOOKUP($A3,'S0 remplacer avec S44'!$C:$BQ,22,0) -> 1529.2224 | F3: =VLOOKUP($A3,'S0 remplacer avec S44'!$C:$BQ,29,0) -> 0 | G3: =VLOOKUP($A3,'S0 remplacer avec S44'!$C:$BQ,30,0) -> 0 | H3: =VLOOKUP($A3,'S0 remplacer avec S44'!$C:$BQ,52,0) -> 63.4 | I3: =VLOOKUP($A3,'S0 remplacer avec S44'!$C:$BQ,59,0) -> 0 | J3: =VLOOKUP($A3,'S0 remplacer avec S44'!$C:$BQ,60,0) -> 10 | K3: =VLOOKUP($A3,'S45'!$C:$BQ,32,0) -> #N/A | L3: =VLOOKUP($A3,'S45'!$C:$BQ,39,0) -> #N/A | M3: =VLOOKUP($A3,'S45'!$C:$BQ,40,0) -> #N/A | N3: =VLOOKUP($A3,'S45'!$C:$BQ,22,0) -> #N/A | O3: =VLOOKUP($A3,'S45'!$C:$BQ,29,0) -> #N/A | P3: =VLOOKUP($A3,'S45'!$C:$BQ,30,0) -> #N/A | Q3: =VLOOKUP($A3,'S45'!$C:$BQ,52,0) -> #N/A | R3: =VLOOKUP($A3,'S45'!$C:$BQ,59,0) -> #N/A | S3: =VLOOKUP($A3,'S45'!$C:$BQ,60,0) -> #N/A | T3: =VLOOKUP($A3,'S46'!$C:$BQ,32,0) -> #N/A | U3: =VLOOKUP($A3,'S46'!$C:$BQ,39,0) -> #N/A | V3: =VLOOKUP($A3,'S46'!$C:$BQ,40,0) -> #N/A | W3: =VLOOKUP($A3,'S46'!$C:$BQ,22,0) -> #N/A | X3: =VLOOKUP($A3,'S46'!$C:$BQ,29,0) -> #N/A | Y3: =VLOOKUP($A3,'S46'!$C:$BQ,30,0) -> #N/A | Z3: =VLOOKUP($A3,'S46'!$C:$BQ,52,0) -> #N/A | AA3: =VLOOKUP($A3,'S46'!$C:$BQ,59,0) -> #N/A | AB3: =VLOOKUP($A3,'S46'!$C:$BQ,60,0) -> #N/A | AC3: =VLOOKUP($A3,'S47'!$C:$BQ,32,0) -> #N/A | AD3: =VLOOKUP($A3,'S47'!$C:$BQ,39,0) -> #N/A | AE3: =VLOOKUP($A3,'S47'!$C:$BQ,40,0) -> #N/A | AF3: =VLOOKUP($A3,'S47'!$C:$BQ,22,0) -> #N/A | AG3: =VLOOKUP($A3,'S47'!$C:$BQ,29,0) -> #N/A | AH3: =VLOOKUP($A3,'S47'!$C:$BQ,30,0) -> #N/A | AI3: =VLOOKUP($A3,'S47'!$C:$BQ,52,0) -> #N/A | AJ3: =VLOOKUP($A3,'S47'!$C:$BQ,59,0) -> #N/A | AK3: =VLOOKUP($A3,'S47'!$C:$BQ,60,0) -> #N/A | AL3: =VLOOKUP($A3,'S48'!$C:$BQ,32,0) -> #N/A | AM3: =VLOOKUP($A3,'S48'!$C:$BQ,39,0) -> #N/A | AN3: =VLOOKUP($A3,'S48'!$C:$BQ,40,0) -> #N/A | AO3: =VLOOKUP($A3,'S48'!$C:$BQ,22,0) -> #N/A | AP3: =VLOOKUP($A3,'S48'!$C:$BQ,29,0) -> #N/A | AQ3: =VLOOKUP($A3,'S48'!$C:$BQ,30,0) -> #N/A | AR3: =VLOOKUP($A3,'S48'!$C:$BQ,52,0) -> #N/A | AS3: =VLOOKUP($A3,'S48'!$C:$BQ,59,0) -> #N/A | AT3: =VLOOKUP($A3,'S48'!$C:$BQ,60,0) -> #N/A | AU3: =VLOOKUP($A3,'S49'!$C:$BQ,32,0) -> #N/A | AV3: =VLOOKUP($A3,'S49'!$C:$BQ,39,0) -> #N/A | AW3: =VLOOKUP($A3,'S49'!$C:$BQ,40,0) -> #N/A | AX3: =VLOOKUP($A3,'S49'!$C:$BQ,22,0) -> #N/A | AY3: =VLOOKUP($A3,'S49'!$C:$BQ,29,0) -> #N/A | AZ3: =VLOOKUP($A3,'S49'!$C:$BQ,30,0) -> #N/A | BA3: =VLOOKUP($A3,'S49'!$C:$BQ,52,0) -> #N/A | BB3: =VLOOKUP($A3,'S49'!$C:$BQ,59,0) -> #N/A | BC3: =VLOOKUP($A3,'S49'!$C:$BQ,60,0) -> #N/A | BD3: =VLOOKUP($A3,'S50'!$C:$BQ,32,0) -> #N/A | BE3: =VLOOKUP($A3,'S50'!$C:$BQ,39,0) -> #N/A | BF3: =VLOOKUP($A3,'S50'!$C:$BQ,40,0) -> #N/A | BG3: =VLOOKUP($A3,'S50'!$C:$BQ,22,0) -> #N/A | BH3: =VLOOKUP($A3,'S50'!$C:$BQ,29,0) -> #N/A | BI3: =VLOOKUP($A3,'S50'!$C:$BQ,30,0) -> #N/A | BJ3: =VLOOKUP($A3,'S50'!$C:$BQ,52,0) -> #N/A | BK3: =VLOOKUP($A3,'S50'!$C:$BQ,59,0) -> #N/A | BL3: =VLOOKUP($A3,'S50'!$C:$BQ,60,0) -> #N/A
A4: CHAUMONT HOTEL DE VILLE | B4: =VLOOKUP($A4,'S0 remplacer avec S44'!$C:$BQ,32,0) -> 460.15 | C4: =VLOOKUP($A4,'S0 remplacer avec S44'!$C:$BQ,39,0) -> 119 | D4: =VLOOKUP($A4,'S0 remplacer avec S44'!$C:$BQ,40,0) -> 235 | E4: =VLOOKUP($A4,'S0 remplacer avec S44'!$C:$BQ,22,0) -> 5839.9163 | F4: =VLOOKUP($A4,'S0 remplacer avec S44'!$C:$BQ,29,0) -> 0 | G4: =VLOOKUP($A4,'S0 remplacer avec S44'!$C:$BQ,30,0) -> 481 | H4: =VLOOKUP($A4,'S0 remplacer avec S44'!$C:$BQ,52,0) -> 369 | I4: =VLOOKUP($A4,'S0 remplacer avec S44'!$C:$BQ,59,0) -> 0 | J4: =VLOOKUP($A4,'S0 remplacer avec S44'!$C:$BQ,60,0) -> 0 | K4: =VLOOKUP($A4,'S45'!$C:$BQ,32,0) -> #N/A | L4: =VLOOKUP($A4,'S45'!$C:$BQ,39,0) -> #N/A | M4: =VLOOKUP($A4,'S45'!$C:$BQ,40,0) -> #N/A | N4: =VLOOKUP($A4,'S45'!$C:$BQ,22,0) -> #N/A | O4: =VLOOKUP($A4,'S45'!$C:$BQ,29,0) -> #N/A | P4: =VLOOKUP($A4,'S45'!$C:$BQ,30,0) -> #N/A | Q4: =VLOOKUP($A4,'S45'!$C:$BQ,52,0) -> #N/A | R4: =VLOOKUP($A4,'S45'!$C:$BQ,59,0) -> #N/A | S4: =VLOOKUP($A4,'S45'!$C:$BQ,60,0) -> #N/A | T4: =VLOOKUP($A4,'S46'!$C:$BQ,32,0) -> #N/A | U4: =VLOOKUP($A4,'S46'!$C:$BQ,39,0) -> #N/A | V4: =VLOOKUP($A4,'S46'!$C:$BQ,40,0) -> #N/A | W4: =VLOOKUP($A4,'S46'!$C:$BQ,22,0) -> #N/A | X4: =VLOOKUP($A4,'S46'!$C:$BQ,29,0) -> #N/A | Y4: =VLOOKUP($A4,'S46'!$C:$BQ,30,0) -> #N/A | Z4: =VLOOKUP($A4,'S46'!$C:$BQ,52,0) -> #N/A | AA4: =VLOOKUP($A4,'S46'!$C:$BQ,59,0) -> #N/A | AB4: =VLOOKUP($A4,'S46'!$C:$BQ,60,0) -> #N/A | AC4: =VLOOKUP($A4,'S47'!$C:$BQ,32,0) -> #N/A | AD4: =VLOOKUP($A4,'S47'!$C:$BQ,39,0) -> #N/A | AE4: =VLOOKUP($A4,'S47'!$C:$BQ,40,0) -> #N/A | AF4: =VLOOKUP($A4,'S47'!$C:$BQ,22,0) -> #N/A | AG4: =VLOOKUP($A4,'S47'!$C:$BQ,29,0) -> #N/A | AH4: =VLOOKUP($A4,'S47'!$C:$BQ,30,0) -> #N/A | AI4: =VLOOKUP($A4,'S47'!$C:$BQ,52,0) -> #N/A | AJ4: =VLOOKUP($A4,'S47'!$C:$BQ,59,0) -> #N/A | AK4: =VLOOKUP($A4,'S47'!$C:$BQ,60,0) -> #N/A | AL4: =VLOOKUP($A4,'S48'!$C:$BQ,32,0) -> #N/A | AM4: =VLOOKUP($A4,'S48'!$C:$BQ,39,0) -> #N/A | AN4: =VLOOKUP($A4,'S48'!$C:$BQ,40,0) -> #N/A | AO4: =VLOOKUP($A4,'S48'!$C:$BQ,22,0) -> #N/A | AP4: =VLOOKUP($A4,'S48'!$C:$BQ,29,0) -> #N/A | AQ4: =VLOOKUP($A4,'S48'!$C:$BQ,30,0) -> #N/A | AR4: =VLOOKUP($A4,'S48'!$C:$BQ,52,0) -> #N/A | AS4: =VLOOKUP($A4,'S48'!$C:$BQ,59,0) -> #N/A | AT4: =VLOOKUP($A4,'S48'!$C:$BQ,60,0) -> #N/A | AU4: =VLOOKUP($A4,'S49'!$C:$BQ,32,0) -> #N/A | AV4: =VLOOKUP($A4,'S49'!$C:$BQ,39,0) -> #N/A | AW4: =VLOOKUP($A4,'S49'!$C:$BQ,40,0) -> #N/A | AX4: =VLOOKUP($A4,'S49'!$C:$BQ,22,0) -> #N/A | AY4: =VLOOKUP($A4,'S49'!$C:$BQ,29,0) -> #N/A | AZ4: =VLOOKUP($A4,'S49'!$C:$BQ,30,0) -> #N/A | BA4: =VLOOKUP($A4,'S49'!$C:$BQ,52,0) -> #N/A | BB4: =VLOOKUP($A4,'S49'!$C:$BQ,59,0) -> #N/A | BC4: =VLOOKUP($A4,'S49'!$C:$BQ,60,0) -> #N/A | BD4: =VLOOKUP($A4,'S50'!$C:$BQ,32,0) -> #N/A | BE4: =VLOOKUP($A4,'S50'!$C:$BQ,39,0) -> #N/A | BF4: =VLOOKUP($A4,'S50'!$C:$BQ,40,0) -> #N/A | BG4: =VLOOKUP($A4,'S50'!$C:$BQ,22,0) -> #N/A | BH4: =VLOOKUP($A4,'S50'!$C:$BQ,29,0) -> #N/A | BI4: =VLOOKUP($A4,'S50'!$C:$BQ,30,0) -> #N/A | BJ4: =VLOOKUP($A4,'S50'!$C:$BQ,52,0) -> #N/A | BK4: =VLOOKUP($A4,'S50'!$C:$BQ,59,0) -> #N/A | BL4: =VLOOKUP($A4,'S50'!$C:$BQ,60,0) -> #N/A
A5: CHAUMONT REPUBLIQUE | B5: =VLOOKUP($A5,'S0 remplacer avec S44'!$C:$BQ,32,0) -> 102.85 | C5: =VLOOKUP($A5,'S0 remplacer avec S44'!$C:$BQ,39,0) -> 50 | D5: =VLOOKUP($A5,'S0 remplacer avec S44'!$C:$BQ,40,0) -> 80 | E5: =VLOOKUP($A5,'S0 remplacer avec S44'!$C:$BQ,22,0) -> 2162.5623 | F5: =VLOOKUP($A5,'S0 remplacer avec S44'!$C:$BQ,29,0) -> 0 | G5: =VLOOKUP($A5,'S0 remplacer avec S44'!$C:$BQ,30,0) -> 0 | H5: =VLOOKUP($A5,'S0 remplacer avec S44'!$C:$BQ,52,0) -> 104.8 | I5: =VLOOKUP($A5,'S0 remplacer avec S44'!$C:$BQ,59,0) -> 0 | J5: =VLOOKUP($A5,'S0 remplacer avec S44'!$C:$BQ,60,0) -> 0 | K5: =VLOOKUP($A5,'S45'!$C:$BQ,32,0) -> #N/A | L5: =VLOOKUP($A5,'S45'!$C:$BQ,39,0) -> #N/A | M5: =VLOOKUP($A5,'S45'!$C:$BQ,40,0) -> #N/A | N5: =VLOOKUP($A5,'S45'!$C:$BQ,22,0) -> #N/A | O5: =VLOOKUP($A5,'S45'!$C:$BQ,29,0) -> #N/A | P5: =VLOOKUP($A5,'S45'!$C:$BQ,30,0) -> #N/A | Q5: =VLOOKUP($A5,'S45'!$C:$BQ,52,0) -> #N/A | R5: =VLOOKUP($A5,'S45'!$C:$BQ,59,0) -> #N/A | S5: =VLOOKUP($A5,'S45'!$C:$BQ,60,0) -> #N/A | T5: =VLOOKUP($A5,'S46'!$C:$BQ,32,0) -> #N/A | U5: =VLOOKUP($A5,'S46'!$C:$BQ,39,0) -> #N/A | V5: =VLOOKUP($A5,'S46'!$C:$BQ,40,0) -> #N/A | W5: =VLOOKUP($A5,'S46'!$C:$BQ,22,0) -> #N/A | X5: =VLOOKUP($A5,'S46'!$C:$BQ,29,0) -> #N/A | Y5: =VLOOKUP($A5,'S46'!$C:$BQ,30,0) -> #N/A | Z5: =VLOOKUP($A5,'S46'!$C:$BQ,52,0) -> #N/A | AA5: =VLOOKUP($A5,'S46'!$C:$BQ,59,0) -> #N/A | AB5: =VLOOKUP($A5,'S46'!$C:$BQ,60,0) -> #N/A | AC5: =VLOOKUP($A5,'S47'!$C:$BQ,32,0) -> #N/A | AD5: =VLOOKUP($A5,'S47'!$C:$BQ,39,0) -> #N/A | AE5: =VLOOKUP($A5,'S47'!$C:$BQ,40,0) -> #N/A | AF5: =VLOOKUP($A5,'S47'!$C:$BQ,22,0) -> #N/A | AG5: =VLOOKUP($A5,'S47'!$C:$BQ,29,0) -> #N/A | AH5: =VLOOKUP($A5,'S47'!$C:$BQ,30,0) -> #N/A | AI5: =VLOOKUP($A5,'S47'!$C:$BQ,52,0) -> #N/A | AJ5: =VLOOKUP($A5,'S47'!$C:$BQ,59,0) -> #N/A | AK5: =VLOOKUP($A5,'S47'!$C:$BQ,60,0) -> #N/A | AL5: =VLOOKUP($A5,'S48'!$C:$BQ,32,0) -> #N/A | AM5: =VLOOKUP($A5,'S48'!$C:$BQ,39,0) -> #N/A | AN5: =VLOOKUP($A5,'S48'!$C:$BQ,40,0) -> #N/A | AO5: =VLOOKUP($A5,'S48'!$C:$BQ,22,0) -> #N/A | AP5: =VLOOKUP($A5,'S48'!$C:$BQ,29,0) -> #N/A | AQ5: =VLOOKUP($A5,'S48'!$C:$BQ,30,0) -> #N/A | AR5: =VLOOKUP($A5,'S48'!$C:$BQ,52,0) -> #N/A | AS5: =VLOOKUP($A5,'S48'!$C:$BQ,59,0) -> #N/A | AT5: =VLOOKUP($A5,'S48'!$C:$BQ,60,0) -> #N/A | AU5: =VLOOKUP($A5,'S49'!$C:$BQ,32,0) -> #N/A | AV5: =VLOOKUP($A5,'S49'!$C:$BQ,39,0) -> #N/A | AW5: =VLOOKUP($A5,'S49'!$C:$BQ,40,0) -> #N/A | AX5: =VLOOKUP($A5,'S49'!$C:$BQ,22,0) -> #N/A | AY5: =VLOOKUP($A5,'S49'!$C:$BQ,29,0) -> #N/A | AZ5: =VLOOKUP($A5,'S49'!$C:$BQ,30,0) -> #N/A | BA5: =VLOOKUP($A5,'S49'!$C:$BQ,52,0) -> #N/A | BB5: =VLOOKUP($A5,'S49'!$C:$BQ,59,0) -> #N/A | BC5: =VLOOKUP($A5,'S49'!$C:$BQ,60,0) -> #N/A | BD5: =VLOOKUP($A5,'S50'!$C:$BQ,32,0) -> #N/A | BE5: =VLOOKUP($A5,'S50'!$C:$BQ,39,0) -> #N/A | BF5: =VLOOKUP($A5,'S50'!$C:$BQ,40,0) -> #N/A | BG5: =VLOOKUP($A5,'S50'!$C:$BQ,22,0) -> #N/A | BH5: =VLOOKUP($A5,'S50'!$C:$BQ,29,0) -> #N/A | BI5: =VLOOKUP($A5,'S50'!$C:$BQ,30,0) -> #N/A | BJ5: =VLOOKUP($A5,'S50'!$C:$BQ,52,0) -> #N/A | BK5: =VLOOKUP($A5,'S50'!$C:$BQ,59,0) -> #N/A | BL5: =VLOOKUP($A5,'S50'!$C:$BQ,60,0) -> #N/A
A6: JOINVILLE | B6: =VLOOKUP($A6,'S0 remplacer avec S44'!$C:$BQ,32,0) -> 96 | C6: =VLOOKUP($A6,'S0 remplacer avec S44'!$C:$BQ,39,0) -> 82 | D6: =VLOOKUP($A6,'S0 remplacer avec S44'!$C:$BQ,40,0) -> 117 | E6: =VLOOKUP($A6,'S0 remplacer avec S44'!$C:$BQ,22,0) -> 1484.1061 | F6: =VLOOKUP($A6,'S0 remplacer avec S44'!$C:$BQ,29,0) -> 130 | G6: =VLOOKUP($A6,'S0 remplacer avec S44'!$C:$BQ,30,0) -> 452 | H6: =VLOOKUP($A6,'S0 remplacer avec S44'!$C:$BQ,52,0) -> 81 | I6: =VLOOKUP($A6,'S0 remplacer avec S44'!$C:$BQ,59,0) -> 10 | J6: =VLOOKUP($A6,'S0 remplacer avec S44'!$C:$BQ,60,0) -> 28 | K6: =VLOOKUP($A6,'S45'!$C:$BQ,32,0) -> #N/A | L6: =VLOOKUP($A6,'S45'!$C:$BQ,39,0) -> #N/A | M6: =VLOOKUP($A6,'S45'!$C:$BQ,40,0) -> #N/A | N6: =VLOOKUP($A6,'S45'!$C:$BQ,22,0) -> #N/A | O6: =VLOOKUP($A6,'S45'!$C:$BQ,29,0) -> #N/A | P6: =VLOOKUP($A6,'S45'!$C:$BQ,30,0) -> #N/A | Q6: =VLOOKUP($A6,'S45'!$C:$BQ,52,0) -> #N/A | R6: =VLOOKUP($A6,'S45'!$C:$BQ,59,0) -> #N/A | S6: =VLOOKUP($A6,'S45'!$C:$BQ,60,0) -> #N/A | T6: =VLOOKUP($A6,'S46'!$C:$BQ,32,0) -> #N/A | U6: =VLOOKUP($A6,'S46'!$C:$BQ,39,0) -> #N/A | V6: =VLOOKUP($A6,'S46'!$C:$BQ,40,0) -> #N/A | W6: =VLOOKUP($A6,'S46'!$C:$BQ,22,0) -> #N/A | X6: =VLOOKUP($A6,'S46'!$C:$BQ,29,0) -> #N/A | Y6: =VLOOKUP($A6,'S46'!$C:$BQ,30,0) -> #N/A | Z6: =VLOOKUP($A6,'S46'!$C:$BQ,52,0) -> #N/A | AA6: =VLOOKUP($A6,'S46'!$C:$BQ,59,0) -> #N/A | AB6: =VLOOKUP($A6,'S46'!$C:$BQ,60,0) -> #N/A | AC6: =VLOOKUP($A6,'S47'!$C:$BQ,32,0) -> #N/A | AD6: =VLOOKUP($A6,'S47'!$C:$BQ,39,0) -> #N/A | AE6: =VLOOKUP($A6,'S47'!$C:$BQ,40,0) -> #N/A | AF6: =VLOOKUP($A6,'S47'!$C:$BQ,22,0) -> #N/A | AG6: =VLOOKUP($A6,'S47'!$C:$BQ,29,0) -> #N/A | AH6: =VLOOKUP($A6,'S47'!$C:$BQ,30,0) -> #N/A | AI6: =VLOOKUP($A6,'S47'!$C:$BQ,52,0) -> #N/A | AJ6: =VLOOKUP($A6,'S47'!$C:$BQ,59,0) -> #N/A | AK6: =VLOOKUP($A6,'S47'!$C:$BQ,60,0) -> #N/A | AL6: =VLOOKUP($A6,'S48'!$C:$BQ,32,0) -> #N/A | AM6: =VLOOKUP($A6,'S48'!$C:$BQ,39,0) -> #N/A | AN6: =VLOOKUP($A6,'S48'!$C:$BQ,40,0) -> #N/A | AO6: =VLOOKUP($A6,'S48'!$C:$BQ,22,0) -> #N/A | AP6: =VLOOKUP($A6,'S48'!$C:$BQ,29,0) -> #N/A | AQ6: =VLOOKUP($A6,'S48'!$C:$BQ,30,0) -> #N/A | AR6: =VLOOKUP($A6,'S48'!$C:$BQ,52,0) -> #N/A | AS6: =VLOOKUP($A6,'S48'!$C:$BQ,59,0) -> #N/A | AT6: =VLOOKUP($A6,'S48'!$C:$BQ,60,0) -> #N/A | AU6: =VLOOKUP($A6,'S49'!$C:$BQ,32,0) -> #N/A | AV6: =VLOOKUP($A6,'S49'!$C:$BQ,39,0) -> #N/A | AW6: =VLOOKUP($A6,'S49'!$C:$BQ,40,0) -> #N/A | AX6: =VLOOKUP($A6,'S49'!$C:$BQ,22,0) -> #N/A | AY6: =VLOOKUP($A6,'S49'!$C:$BQ,29,0) -> #N/A | AZ6: =VLOOKUP($A6,'S49'!$C:$BQ,30,0) -> #N/A | BA6: =VLOOKUP($A6,'S49'!$C:$BQ,52,0) -> #N/A | BB6: =VLOOKUP($A6,'S49'!$C:$BQ,59,0) -> #N/A | BC6: =VLOOKUP($A6,'S49'!$C:$BQ,60,0) -> #N/A | BD6: =VLOOKUP($A6,'S50'!$C:$BQ,32,0) -> #N/A | BE6: =VLOOKUP($A6,'S50'!$C:$BQ,39,0) -> #N/A | BF6: =VLOOKUP($A6,'S50'!$C:$BQ,40,0) -> #N/A | BG6: =VLOOKUP($A6,'S50'!$C:$BQ,22,0) -> #N/A | BH6: =VLOOKUP($A6,'S50'!$C:$BQ,29,0) -> #N/A | BI6: =VLOOKUP($A6,'S50'!$C:$BQ,30,0) -> #N/A | BJ6: =VLOOKUP($A6,'S50'!$C:$BQ,52,0) -> #N/A | BK6: =VLOOKUP($A6,'S50'!$C:$BQ,59,0) -> #N/A | BL6: =VLOOKUP($A6,'S50'!$C:$BQ,60,0) -> #N/A
A7: LANGRES | B7: =VLOOKUP($A7,'S0 remplacer avec S44'!$C:$BQ,32,0) -> 409.2 | C7: =VLOOKUP($A7,'S0 remplacer avec S44'!$C:$BQ,39,0) -> 12 | D7: =VLOOKUP($A7,'S0 remplacer avec S44'!$C:$BQ,40,0) -> 96 | E7: =VLOOKUP($A7,'S0 remplacer avec S44'!$C:$BQ,22,0) -> 4894.3293 | F7: =VLOOKUP($A7,'S0 remplacer avec S44'!$C:$BQ,29,0) -> 0 | G7: =VLOOKUP($A7,'S0 remplacer avec S44'!$C:$BQ,30,0) -> 0 | H7: =VLOOKUP($A7,'S0 remplacer avec S44'!$C:$BQ,52,0) -> 235.8 | I7: =VLOOKUP($A7,'S0 remplacer avec S44'!$C:$BQ,59,0) -> 0 | J7: =VLOOKUP($A7,'S0 remplacer avec S44'!$C:$BQ,60,0) -> 21 | K7: =VLOOKUP($A7,'S45'!$C:$BQ,32,0) -> #N/A | L7: =VLOOKUP($A7,'S45'!$C:$BQ,39,0) -> #N/A | M7: =VLOOKUP($A7,'S45'!$C:$BQ,40,0) -> #N/A | N7: =VLOOKUP($A7,'S45'!$C:$BQ,22,0) -> #N/A | O7: =VLOOKUP($A7,'S45'!$C:$BQ,29,0) -> #N/A | P7: =VLOOKUP($A7,'S45'!$C:$BQ,30,0) -> #N/A | Q7: =VLOOKUP($A7,'S45'!$C:$BQ,52,0) -> #N/A | R7: =VLOOKUP($A7,'S45'!$C:$BQ,59,0) -> #N/A | S7: =VLOOKUP($A7,'S45'!$C:$BQ,60,0) -> #N/A | T7: =VLOOKUP($A7,'S46'!$C:$BQ,32,0) -> #N/A | U7: =VLOOKUP($A7,'S46'!$C:$BQ,39,0) -> #N/A | V7: =VLOOKUP($A7,'S46'!$C:$BQ,40,0) -> #N/A | W7: =VLOOKUP($A7,'S46'!$C:$BQ,22,0) -> #N/A | X7: =VLOOKUP($A7,'S46'!$C:$BQ,29,0) -> #N/A | Y7: =VLOOKUP($A7,'S46'!$C:$BQ,30,0) -> #N/A | Z7: =VLOOKUP($A7,'S46'!$C:$BQ,52,0) -> #N/A | AA7: =VLOOKUP($A7,'S46'!$C:$BQ,59,0) -> #N/A | AB7: =VLOOKUP($A7,'S46'!$C:$BQ,60,0) -> #N/A | AC7: =VLOOKUP($A7,'S47'!$C:$BQ,32,0) -> #N/A | AD7: =VLOOKUP($A7,'S47'!$C:$BQ,39,0) -> #N/A | AE7: =VLOOKUP($A7,'S47'!$C:$BQ,40,0) -> #N/A | AF7: =VLOOKUP($A7,'S47'!$C:$BQ,22,0) -> #N/A | AG7: =VLOOKUP($A7,'S47'!$C:$BQ,29,0) -> #N/A | AH7: =VLOOKUP($A7,'S47'!$C:$BQ,30,0) -> #N/A | AI7: =VLOOKUP($A7,'S47'!$C:$BQ,52,0) -> #N/A | AJ7: =VLOOKUP($A7,'S47'!$C:$BQ,59,0) -> #N/A | AK7: =VLOOKUP($A7,'S47'!$C:$BQ,60,0) -> #N/A | AL7: =VLOOKUP($A7,'S48'!$C:$BQ,32,0) -> #N/A | AM7: =VLOOKUP($A7,'S48'!$C:$BQ,39,0) -> #N/A | AN7: =VLOOKUP($A7,'S48'!$C:$BQ,40,0) -> #N/A | AO7: =VLOOKUP($A7,'S48'!$C:$BQ,22,0) -> #N/A | AP7: =VLOOKUP($A7,'S48'!$C:$BQ,29,0) -> #N/A | AQ7: =VLOOKUP($A7,'S48'!$C:$BQ,30,0) -> #N/A | AR7: =VLOOKUP($A7,'S48'!$C:$BQ,52,0) -> #N/A | AS7: =VLOOKUP($A7,'S48'!$C:$BQ,59,0) -> #N/A | AT7: =VLOOKUP($A7,'S48'!$C:$BQ,60,0) -> #N/A | AU7: =VLOOKUP($A7,'S49'!$C:$BQ,32,0) -> #N/A | AV7: =VLOOKUP($A7,'S49'!$C:$BQ,39,0) -> #N/A | AW7: =VLOOKUP($A7,'S49'!$C:$BQ,40,0) -> #N/A | AX7: =VLOOKUP($A7,'S49'!$C:$BQ,22,0) -> #N/A | AY7: =VLOOKUP($A7,'S49'!$C:$BQ,29,0) -> #N/A | AZ7: =VLOOKUP($A7,'S49'!$C:$BQ,30,0) -> #N/A | BA7: =VLOOKUP($A7,'S49'!$C:$BQ,52,0) -> #N/A | BB7: =VLOOKUP($A7,'S49'!$C:$BQ,59,0) -> #N/A | BC7: =VLOOKUP($A7,'S49'!$C:$BQ,60,0) -> #N/A | BD7: =VLOOKUP($A7,'S50'!$C:$BQ,32,0) -> #N/A | BE7: =VLOOKUP($A7,'S50'!$C:$BQ,39,0) -> #N/A | BF7: =VLOOKUP($A7,'S50'!$C:$BQ,40,0) -> #N/A | BG7: =VLOOKUP($A7,'S50'!$C:$BQ,22,0) -> #N/A | BH7: =VLOOKUP($A7,'S50'!$C:$BQ,29,0) -> #N/A | BI7: =VLOOKUP($A7,'S50'!$C:$BQ,30,0) -> #N/A | BJ7: =VLOOKUP($A7,'S50'!$C:$BQ,52,0) -> #N/A | BK7: =VLOOKUP($A7,'S50'!$C:$BQ,59,0) -> #N/A | BL7: =VLOOKUP($A7,'S50'!$C:$BQ,60,0) -> #N/A
A8: NOGENT | B8: =VLOOKUP($A8,'S0 remplacer avec S44'!$C:$BQ,32,0) -> 128.5 | C8: =VLOOKUP($A8,'S0 remplacer avec S44'!$C:$BQ,39,0) -> 3 | D8: =VLOOKUP($A8,'S0 remplacer avec S44'!$C:$BQ,40,0) -> 29 | E8: =VLOOKUP($A8,'S0 remplacer avec S44'!$C:$BQ,22,0) -> 1240.9585 | F8: =VLOOKUP($A8,'S0 remplacer avec S44'!$C:$BQ,29,0) -> 0 | G8: =VLOOKUP($A8,'S0 remplacer avec S44'!$C:$BQ,30,0) -> 189 | H8: =VLOOKUP($A8,'S0 remplacer avec S44'!$C:$BQ,52,0) -> 81.8 | I8: =VLOOKUP($A8,'S0 remplacer avec S44'!$C:$BQ,59,0) -> 0 | J8: =VLOOKUP($A8,'S0 remplacer avec S44'!$C:$BQ,60,0) -> 0 | K8: =VLOOKUP($A8,'S45'!$C:$BQ,32,0) -> #N/A | L8: =VLOOKUP($A8,'S45'!$C:$BQ,39,0) -> #N/A | M8: =VLOOKUP($A8,'S45'!$C:$BQ,40,0) -> #N/A | N8: =VLOOKUP($A8,'S45'!$C:$BQ,22,0) -> #N/A | O8: =VLOOKUP($A8,'S45'!$C:$BQ,29,0) -> #N/A | P8: =VLOOKUP($A8,'S45'!$C:$BQ,30,0) -> #N/A | Q8: =VLOOKUP($A8,'S45'!$C:$BQ,52,0) -> #N/A | R8: =VLOOKUP($A8,'S45'!$C:$BQ,59,0) -> #N/A | S8: =VLOOKUP($A8,'S45'!$C:$BQ,60,0) -> #N/A | T8: =VLOOKUP($A8,'S46'!$C:$BQ,32,0) -> #N/A | U8: =VLOOKUP($A8,'S46'!$C:$BQ,39,0) -> #N/A | V8: =VLOOKUP($A8,'S46'!$C:$BQ,40,0) -> #N/A | W8: =VLOOKUP($A8,'S46'!$C:$BQ,22,0) -> #N/A | X8: =VLOOKUP($A8,'S46'!$C:$BQ,29,0) -> #N/A | Y8: =VLOOKUP($A8,'S46'!$C:$BQ,30,0) -> #N/A | Z8: =VLOOKUP($A8,'S46'!$C:$BQ,52,0) -> #N/A | AA8: =VLOOKUP($A8,'S46'!$C:$BQ,59,0) -> #N/A | AB8: =VLOOKUP($A8,'S46'!$C:$BQ,60,0) -> #N/A | AC8: =VLOOKUP($A8,'S47'!$C:$BQ,32,0) -> #N/A | AD8: =VLOOKUP($A8,'S47'!$C:$BQ,39,0) -> #N/A | AE8: =VLOOKUP($A8,'S47'!$C:$BQ,40,0) -> #N/A | AF8: =VLOOKUP($A8,'S47'!$C:$BQ,22,0) -> #N/A | AG8: =VLOOKUP($A8,'S47'!$C:$BQ,29,0) -> #N/A | AH8: =VLOOKUP($A8,'S47'!$C:$BQ,30,0) -> #N/A | AI8: =VLOOKUP($A8,'S47'!$C:$BQ,52,0) -> #N/A | AJ8: =VLOOKUP($A8,'S47'!$C:$BQ,59,0) -> #N/A | AK8: =VLOOKUP($A8,'S47'!$C:$BQ,60,0) -> #N/A | AL8: =VLOOKUP($A8,'S48'!$C:$BQ,32,0) -> #N/A | AM8: =VLOOKUP($A8,'S48'!$C:$BQ,39,0) -> #N/A | AN8: =VLOOKUP($A8,'S48'!$C:$BQ,40,0) -> #N/A | AO8: =VLOOKUP($A8,'S48'!$C:$BQ,22,0) -> #N/A | AP8: =VLOOKUP($A8,'S48'!$C:$BQ,29,0) -> #N/A | AQ8: =VLOOKUP($A8,'S48'!$C:$BQ,30,0) -> #N/A | AR8: =VLOOKUP($A8,'S48'!$C:$BQ,52,0) -> #N/A | AS8: =VLOOKUP($A8,'S48'!$C:$BQ,59,0) -> #N/A | AT8: =VLOOKUP($A8,'S48'!$C:$BQ,60,0) -> #N/A | AU8: =VLOOKUP($A8,'S49'!$C:$BQ,32,0) -> #N/A | AV8: =VLOOKUP($A8,'S49'!$C:$BQ,39,0) -> #N/A | AW8: =VLOOKUP($A8,'S49'!$C:$BQ,40,0) -> #N/A | AX8: =VLOOKUP($A8,'S49'!$C:$BQ,22,0) -> #N/A | AY8: =VLOOKUP($A8,'S49'!$C:$BQ,29,0) -> #N/A | AZ8: =VLOOKUP($A8,'S49'!$C:$BQ,30,0) -> #N/A | BA8: =VLOOKUP($A8,'S49'!$C:$BQ,52,0) -> #N/A | BB8: =VLOOKUP($A8,'S49'!$C:$BQ,59,0) -> #N/A | BC8: =VLOOKUP($A8,'S49'!$C:$BQ,60,0) -> #N/A | BD8: =VLOOKUP($A8,'S50'!$C:$BQ,32,0) -> #N/A | BE8: =VLOOKUP($A8,'S50'!$C:$BQ,39,0) -> #N/A | BF8: =VLOOKUP($A8,'S50'!$C:$BQ,40,0) -> #N/A | BG8: =VLOOKUP($A8,'S50'!$C:$BQ,22,0) -> #N/A | BH8: =VLOOKUP($A8,'S50'!$C:$BQ,29,0) -> #N/A | BI8: =VLOOKUP($A8,'S50'!$C:$BQ,30,0) -> #N/A | BJ8: =VLOOKUP($A8,'S50'!$C:$BQ,52,0) -> #N/A | BK8: =VLOOKUP($A8,'S50'!$C:$BQ,59,0) -> #N/A | BL8: =VLOOKUP($A8,'S50'!$C:$BQ,60,0) -> #N/A
A9: SAINT DIZIER CENTRE | B9: =VLOOKUP($A9,'S0 remplacer avec S44'!$C:$BQ,32,0) -> 290.9 | C9: =VLOOKUP($A9,'S0 remplacer avec S44'!$C:$BQ,39,0) -> 51 | D9: =VLOOKUP($A9,'S0 remplacer avec S44'!$C:$BQ,40,0) -> 119 | E9: =VLOOKUP($A9,'S0 remplacer avec S44'!$C:$BQ,22,0) -> 3185.6838 | F9: =VLOOKUP($A9,'S0 remplacer avec S44'!$C:$BQ,29,0) -> 0 | G9: =VLOOKUP($A9,'S0 remplacer avec S44'!$C:$BQ,30,0) -> 539 | H9: =VLOOKUP($A9,'S0 remplacer avec S44'!$C:$BQ,52,0) -> 198.2 | I9: =VLOOKUP($A9,'S0 remplacer avec S44'!$C:$BQ,59,0) -> 0 | J9: =VLOOKUP($A9,'S0 remplacer avec S44'!$C:$BQ,60,0) -> 10 | K9: =VLOOKUP($A9,'S45'!$C:$BQ,32,0) -> #N/A | L9: =VLOOKUP($A9,'S45'!$C:$BQ,39,0) -> #N/A | M9: =VLOOKUP($A9,'S45'!$C:$BQ,40,0) -> #N/A | N9: =VLOOKUP($A9,'S45'!$C:$BQ,22,0) -> #N/A | O9: =VLOOKUP($A9,'S45'!$C:$BQ,29,0) -> #N/A | P9: =VLOOKUP($A9,'S45'!$C:$BQ,30,0) -> #N/A | Q9: =VLOOKUP($A9,'S45'!$C:$BQ,52,0) -> #N/A | R9: =VLOOKUP($A9,'S45'!$C:$BQ,59,0) -> #N/A | S9: =VLOOKUP($A9,'S45'!$C:$BQ,60,0) -> #N/A | T9: =VLOOKUP($A9,'S46'!$C:$BQ,32,0) -> #N/A | U9: =VLOOKUP($A9,'S46'!$C:$BQ,39,0) -> #N/A | V9: =VLOOKUP($A9,'S46'!$C:$BQ,40,0) -> #N/A | W9: =VLOOKUP($A9,'S46'!$C:$BQ,22,0) -> #N/A | X9: =VLOOKUP($A9,'S46'!$C:$BQ,29,0) -> #N/A | Y9: =VLOOKUP($A9,'S46'!$C:$BQ,30,0) -> #N/A | Z9: =VLOOKUP($A9,'S46'!$C:$BQ,52,0) -> #N/A | AA9: =VLOOKUP($A9,'S46'!$C:$BQ,59,0) -> #N/A | AB9: =VLOOKUP($A9,'S46'!$C:$BQ,60,0) -> #N/A | AC9: =VLOOKUP($A9,'S47'!$C:$BQ,32,0) -> #N/A | AD9: =VLOOKUP($A9,'S47'!$C:$BQ,39,0) -> #N/A | AE9: =VLOOKUP($A9,'S47'!$C:$BQ,40,0) -> #N/A | AF9: =VLOOKUP($A9,'S47'!$C:$BQ,22,0) -> #N/A | AG9: =VLOOKUP($A9,'S47'!$C:$BQ,29,0) -> #N/A | AH9: =VLOOKUP($A9,'S47'!$C:$BQ,30,0) -> #N/A | AI9: =VLOOKUP($A9,'S47'!$C:$BQ,52,0) -> #N/A | AJ9: =VLOOKUP($A9,'S47'!$C:$BQ,59,0) -> #N/A | AK9: =VLOOKUP($A9,'S47'!$C:$BQ,60,0) -> #N/A | AL9: =VLOOKUP($A9,'S48'!$C:$BQ,32,0) -> #N/A | AM9: =VLOOKUP($A9,'S48'!$C:$BQ,39,0) -> #N/A | AN9: =VLOOKUP($A9,'S48'!$C:$BQ,40,0) -> #N/A | AO9: =VLOOKUP($A9,'S48'!$C:$BQ,22,0) -> #N/A | AP9: =VLOOKUP($A9,'S48'!$C:$BQ,29,0) -> #N/A | AQ9: =VLOOKUP($A9,'S48'!$C:$BQ,30,0) -> #N/A | AR9: =VLOOKUP($A9,'S48'!$C:$BQ,52,0) -> #N/A | AS9: =VLOOKUP($A9,'S48'!$C:$BQ,59,0) -> #N/A | AT9: =VLOOKUP($A9,'S48'!$C:$BQ,60,0) -> #N/A | AU9: =VLOOKUP($A9,'S49'!$C:$BQ,32,0) -> #N/A | AV9: =VLOOKUP($A9,'S49'!$C:$BQ,39,0) -> #N/A | AW9: =VLOOKUP($A9,'S49'!$C:$BQ,40,0) -> #N/A | AX9: =VLOOKUP($A9,'S49'!$C:$BQ,22,0) -> #N/A | AY9: =VLOOKUP($A9,'S49'!$C:$BQ,29,0) -> #N/A | AZ9: =VLOOKUP($A9,'S49'!$C:$BQ,30,0) -> #N/A | BA9: =VLOOKUP($A9,'S49'!$C:$BQ,52,0) -> #N/A | BB9: =VLOOKUP($A9,'S49'!$C:$BQ,59,0) -> #N/A | BC9: =VLOOKUP($A9,'S49'!$C:$BQ,60,0) -> #N/A | BD9: =VLOOKUP($A9,'S50'!$C:$BQ,32,0) -> #N/A | BE9: =VLOOKUP($A9,'S50'!$C:$BQ,39,0) -> #N/A | BF9: =VLOOKUP($A9,'S50'!$C:$BQ,40,0) -> #N/A | BG9: =VLOOKUP($A9,'S50'!$C:$BQ,22,0) -> #N/A | BH9: =VLOOKUP($A9,'S50'!$C:$BQ,29,0) -> #N/A | BI9: =VLOOKUP($A9,'S50'!$C:$BQ,30,0) -> #N/A | BJ9: =VLOOKUP($A9,'S50'!$C:$BQ,52,0) -> #N/A | BK9: =VLOOKUP($A9,'S50'!$C:$BQ,59,0) -> #N/A | BL9: =VLOOKUP($A9,'S50'!$C:$BQ,60,0) -> #N/A
A10: SAINT DIZIER EUROPE | B10: =VLOOKUP($A10,'S0 remplacer avec S44'!$C:$BQ,32,0) -> 170.85 | C10: =VLOOKUP($A10,'S0 remplacer avec S44'!$C:$BQ,39,0) -> 0 | D10: =VLOOKUP($A10,'S0 remplacer avec S44'!$C:$BQ,40,0) -> 21 | E10: =VLOOKUP($A10,'S0 remplacer avec S44'!$C:$BQ,22,0) -> 2257.7161 | F10: =VLOOKUP($A10,'S0 remplacer avec S44'!$C:$BQ,29,0) -> 0 | G10: =VLOOKUP($A10,'S0 remplacer avec S44'!$C:$BQ,30,0) -> 0 | H10: =VLOOKUP($A10,'S0 remplacer avec S44'!$C:$BQ,52,0) -> 146.8 | I10: =VLOOKUP($A10,'S0 remplacer avec S44'!$C:$BQ,59,0) -> 0 | J10: =VLOOKUP($A10,'S0 remplacer avec S44'!$C:$BQ,60,0) -> 0 | K10: =VLOOKUP($A10,'S45'!$C:$BQ,32,0) -> #N/A | L10: =VLOOKUP($A10,'S45'!$C:$BQ,39,0) -> #N/A | M10: =VLOOKUP($A10,'S45'!$C:$BQ,40,0) -> #N/A | N10: =VLOOKUP($A10,'S45'!$C:$BQ,22,0) -> #N/A | O10: =VLOOKUP($A10,'S45'!$C:$BQ,29,0) -> #N/A | P10: =VLOOKUP($A10,'S45'!$C:$BQ,30,0) -> #N/A | Q10: =VLOOKUP($A10,'S45'!$C:$BQ,52,0) -> #N/A | R10: =VLOOKUP($A10,'S45'!$C:$BQ,59,0) -> #N/A | S10: =VLOOKUP($A10,'S45'!$C:$BQ,60,0) -> #N/A | T10: =VLOOKUP($A10,'S46'!$C:$BQ,32,0) -> #N/A | U10: =VLOOKUP($A10,'S46'!$C:$BQ,39,0) -> #N/A | V10: =VLOOKUP($A10,'S46'!$C:$BQ,40,0) -> #N/A | W10: =VLOOKUP($A10,'S46'!$C:$BQ,22,0) -> #N/A | X10: =VLOOKUP($A10,'S46'!$C:$BQ,29,0) -> #N/A | Y10: =VLOOKUP($A10,'S46'!$C:$BQ,30,0) -> #N/A | Z10: =VLOOKUP($A10,'S46'!$C:$BQ,52,0) -> #N/A | AA10: =VLOOKUP($A10,'S46'!$C:$BQ,59,0) -> #N/A | AB10: =VLOOKUP($A10,'S46'!$C:$BQ,60,0) -> #N/A | AC10: =VLOOKUP($A10,'S47'!$C:$BQ,32,0) -> #N/A | AD10: =VLOOKUP($A10,'S47'!$C:$BQ,39,0) -> #N/A | AE10: =VLOOKUP($A10,'S47'!$C:$BQ,40,0) -> #N/A | AF10: =VLOOKUP($A10,'S47'!$C:$BQ,22,0) -> #N/A | AG10: =VLOOKUP($A10,'S47'!$C:$BQ,29,0) -> #N/A | AH10: =VLOOKUP($A10,'S47'!$C:$BQ,30,0) -> #N/A | AI10: =VLOOKUP($A10,'S47'!$C:$BQ,52,0) -> #N/A | AJ10: =VLOOKUP($A10,'S47'!$C:$BQ,59,0) -> #N/A | AK10: =VLOOKUP($A10,'S47'!$C:$BQ,60,0) -> #N/A | AL10: =VLOOKUP($A10,'S48'!$C:$BQ,32,0) -> #N/A | AM10: =VLOOKUP($A10,'S48'!$C:$BQ,39,0) -> #N/A | AN10: =VLOOKUP($A10,'S48'!$C:$BQ,40,0) -> #N/A | AO10: =VLOOKUP($A10,'S48'!$C:$BQ,22,0) -> #N/A | AP10: =VLOOKUP($A10,'S48'!$C:$BQ,29,0) -> #N/A | AQ10: =VLOOKUP($A10,'S48'!$C:$BQ,30,0) -> #N/A | AR10: =VLOOKUP($A10,'S48'!$C:$BQ,52,0) -> #N/A | AS10: =VLOOKUP($A10,'S48'!$C:$BQ,59,0) -> #N/A | AT10: =VLOOKUP($A10,'S48'!$C:$BQ,60,0) -> #N/A | AU10: =VLOOKUP($A10,'S49'!$C:$BQ,32,0) -> #N/A | AV10: =VLOOKUP($A10,'S49'!$C:$BQ,39,0) -> #N/A | AW10: =VLOOKUP($A10,'S49'!$C:$BQ,40,0) -> #N/A | AX10: =VLOOKUP($A10,'S49'!$C:$BQ,22,0) -> #N/A | AY10: =VLOOKUP($A10,'S49'!$C:$BQ,29,0) -> #N/A | AZ10: =VLOOKUP($A10,'S49'!$C:$BQ,30,0) -> #N/A | BA10: =VLOOKUP($A10,'S49'!$C:$BQ,52,0) -> #N/A | BB10: =VLOOKUP($A10,'S49'!$C:$BQ,59,0) -> #N/A | BC10: =VLOOKUP($A10,'S49'!$C:$BQ,60,0) -> #N/A | BD10: =VLOOKUP($A10,'S50'!$C:$BQ,32,0) -> #N/A | BE10: =VLOOKUP($A10,'S50'!$C:$BQ,39,0) -> #N/A | BF10: =VLOOKUP($A10,'S50'!$C:$BQ,40,0) -> #N/A | BG10: =VLOOKUP($A10,'S50'!$C:$BQ,22,0) -> #N/A | BH10: =VLOOKUP($A10,'S50'!$C:$BQ,29,0) -> #N/A | BI10: =VLOOKUP($A10,'S50'!$C:$BQ,30,0) -> #N/A | BJ10: =VLOOKUP($A10,'S50'!$C:$BQ,52,0) -> #N/A | BK10: =VLOOKUP($A10,'S50'!$C:$BQ,59,0) -> #N/A | BL10: =VLOOKUP($A10,'S50'!$C:$BQ,60,0) -> #N/A
A11: WASSY | B11: =VLOOKUP($A11,'S0 remplacer avec S44'!$C:$BQ,32,0) -> 148.7 | C11: =VLOOKUP($A11,'S0 remplacer avec S44'!$C:$BQ,39,0) -> 29 | D11: =VLOOKUP($A11,'S0 remplacer avec S44'!$C:$BQ,40,0) -> 65 | E11: =VLOOKUP($A11,'S0 remplacer avec S44'!$C:$BQ,22,0) -> 1957.2545 | F11: =VLOOKUP($A11,'S0 remplacer avec S44'!$C:$BQ,29,0) -> 0 | G11: =VLOOKUP($A11,'S0 remplacer avec S44'!$C:$BQ,30,0) -> 0 | H11: =VLOOKUP($A11,'S0 remplacer avec S44'!$C:$BQ,52,0) -> 63.4 | I11: =VLOOKUP($A11,'S0 remplacer avec S44'!$C:$BQ,59,0) -> 27 | J11: =VLOOKUP($A11,'S0 remplacer avec S44'!$C:$BQ,60,0) -> 45 | K11: =VLOOKUP($A11,'S45'!$C:$BQ,32,0) -> #N/A | L11: =VLOOKUP($A11,'S45'!$C:$BQ,39,0) -> #N/A | M11: =VLOOKUP($A11,'S45'!$C:$BQ,40,0) -> #N/A | N11: =VLOOKUP($A11,'S45'!$C:$BQ,22,0) -> #N/A | O11: =VLOOKUP($A11,'S45'!$C:$BQ,29,0) -> #N/A | P11: =VLOOKUP($A11,'S45'!$C:$BQ,30,0) -> #N/A | Q11: =VLOOKUP($A11,'S45'!$C:$BQ,52,0) -> #N/A | R11: =VLOOKUP($A11,'S45'!$C:$BQ,59,0) -> #N/A | S11: =VLOOKUP($A11,'S45'!$C:$BQ,60,0) -> #N/A | T11: =VLOOKUP($A11,'S46'!$C:$BQ,32,0) -> #N/A | U11: =VLOOKUP($A11,'S46'!$C:$BQ,39,0) -> #N/A | V11: =VLOOKUP($A11,'S46'!$C:$BQ,40,0) -> #N/A | W11: =VLOOKUP($A11,'S46'!$C:$BQ,22,0) -> #N/A | X11: =VLOOKUP($A11,'S46'!$C:$BQ,29,0) -> #N/A | Y11: =VLOOKUP($A11,'S46'!$C:$BQ,30,0) -> #N/A | Z11: =VLOOKUP($A11,'S46'!$C:$BQ,52,0) -> #N/A | AA11: =VLOOKUP($A11,'S46'!$C:$BQ,59,0) -> #N/A | AB11: =VLOOKUP($A11,'S46'!$C:$BQ,60,0) -> #N/A | AC11: =VLOOKUP($A11,'S47'!$C:$BQ,32,0) -> #N/A | AD11: =VLOOKUP($A11,'S47'!$C:$BQ,39,0) -> #N/A | AE11: =VLOOKUP($A11,'S47'!$C:$BQ,40,0) -> #N/A | AF11: =VLOOKUP($A11,'S47'!$C:$BQ,22,0) -> #N/A | AG11: =VLOOKUP($A11,'S47'!$C:$BQ,29,0) -> #N/A | AH11: =VLOOKUP($A11,'S47'!$C:$BQ,30,0) -> #N/A | AI11: =VLOOKUP($A11,'S47'!$C:$BQ,52,0) -> #N/A | AJ11: =VLOOKUP($A11,'S47'!$C:$BQ,59,0) -> #N/A | AK11: =VLOOKUP($A11,'S47'!$C:$BQ,60,0) -> #N/A | AL11: =VLOOKUP($A11,'S48'!$C:$BQ,32,0) -> #N/A | AM11: =VLOOKUP($A11,'S48'!$C:$BQ,39,0) -> #N/A | AN11: =VLOOKUP($A11,'S48'!$C:$BQ,40,0) -> #N/A | AO11: =VLOOKUP($A11,'S48'!$C:$BQ,22,0) -> #N/A | AP11: =VLOOKUP($A11,'S48'!$C:$BQ,29,0) -> #N/A | AQ11: =VLOOKUP($A11,'S48'!$C:$BQ,30,0) -> #N/A | AR11: =VLOOKUP($A11,'S48'!$C:$BQ,52,0) -> #N/A | AS11: =VLOOKUP($A11,'S48'!$C:$BQ,59,0) -> #N/A | AT11: =VLOOKUP($A11,'S48'!$C:$BQ,60,0) -> #N/A | AU11: =VLOOKUP($A11,'S49'!$C:$BQ,32,0) -> #N/A | AV11: =VLOOKUP($A11,'S49'!$C:$BQ,39,0) -> #N/A | AW11: =VLOOKUP($A11,'S49'!$C:$BQ,40,0) -> #N/A | AX11: =VLOOKUP($A11,'S49'!$C:$BQ,22,0) -> #N/A | AY11: =VLOOKUP($A11,'S49'!$C:$BQ,29,0) -> #N/A | AZ11: =VLOOKUP($A11,'S49'!$C:$BQ,30,0) -> #N/A | BA11: =VLOOKUP($A11,'S49'!$C:$BQ,52,0) -> #N/A | BB11: =VLOOKUP($A11,'S49'!$C:$BQ,59,0) -> #N/A | BC11: =VLOOKUP($A11,'S49'!$C:$BQ,60,0) -> #N/A | BD11: =VLOOKUP($A11,'S50'!$C:$BQ,32,0) -> #N/A | BE11: =VLOOKUP($A11,'S50'!$C:$BQ,39,0) -> #N/A | BF11: =VLOOKUP($A11,'S50'!$C:$BQ,40,0) -> #N/A | BG11: =VLOOKUP($A11,'S50'!$C:$BQ,22,0) -> #N/A | BH11: =VLOOKUP($A11,'S50'!$C:$BQ,29,0) -> #N/A | BI11: =VLOOKUP($A11,'S50'!$C:$BQ,30,0) -> #N/A | BJ11: =VLOOKUP($A11,'S50'!$C:$BQ,52,0) -> #N/A | BK11: =VLOOKUP($A11,'S50'!$C:$BQ,59,0) -> #N/A | BL11: =VLOOKUP($A11,'S50'!$C:$BQ,60,0) -> #N/A
A12: ARCIS SUR AUBE | B12: =VLOOKUP($A12,'S0 remplacer avec S44'!$C:$BQ,32,0) -> 170 | C12: =VLOOKUP($A12,'S0 remplacer avec S44'!$C:$BQ,39,0) -> 63 | D12: =VLOOKUP($A12,'S0 remplacer avec S44'!$C:$BQ,40,0) -> 109 | E12: =VLOOKUP($A12,'S0 remplacer avec S44'!$C:$BQ,22,0) -> 2035.4282 | F12: =VLOOKUP($A12,'S0 remplacer avec S44'!$C:$BQ,29,0) -> 77 | G12: =VLOOKUP($A12,'S0 remplacer avec S44'!$C:$BQ,30,0) -> 499 | H12: =VLOOKUP($A12,'S0 remplacer avec S44'!$C:$BQ,52,0) -> 95.4 | I12: =VLOOKUP($A12,'S0 remplacer avec S44'!$C:$BQ,59,0) -> 23 | J12: =VLOOKUP($A12,'S0 remplacer avec S44'!$C:$BQ,60,0) -> 47 | K12: =VLOOKUP($A12,'S45'!$C:$BQ,32,0) -> #N/A | L12: =VLOOKUP($A12,'S45'!$C:$BQ,39,0) -> #N/A | M12: =VLOOKUP($A12,'S45'!$C:$BQ,40,0) -> #N/A | N12: =VLOOKUP($A12,'S45'!$C:$BQ,22,0) -> #N/A | O12: =VLOOKUP($A12,'S45'!$C:$BQ,29,0) -> #N/A | P12: =VLOOKUP($A12,'S45'!$C:$BQ,30,0) -> #N/A | Q12: =VLOOKUP($A12,'S45'!$C:$BQ,52,0) -> #N/A | R12: =VLOOKUP($A12,'S45'!$C:$BQ,59,0) -> #N/A | S12: =VLOOKUP($A12,'S45'!$C:$BQ,60,0) -> #N/A | T12: =VLOOKUP($A12,'S46'!$C:$BQ,32,0) -> #N/A | U12: =VLOOKUP($A12,'S46'!$C:$BQ,39,0) -> #N/A | V12: =VLOOKUP($A12,'S46'!$C:$BQ,40,0) -> #N/A | W12: =VLOOKUP($A12,'S46'!$C:$BQ,22,0) -> #N/A | X12: =VLOOKUP($A12,'S46'!$C:$BQ,29,0) -> #N/A | Y12: =VLOOKUP($A12,'S46'!$C:$BQ,30,0) -> #N/A | Z12: =VLOOKUP($A12,'S46'!$C:$BQ,52,0) -> #N/A | AA12: =VLOOKUP($A12,'S46'!$C:$BQ,59,0) -> #N/A | AB12: =VLOOKUP($A12,'S46'!$C:$BQ,60,0) -> #N/A | AC12: =VLOOKUP($A12,'S47'!$C:$BQ,32,0) -> #N/A | AD12: =VLOOKUP($A12,'S47'!$C:$BQ,39,0) -> #N/A | AE12: =VLOOKUP($A12,'S47'!$C:$BQ,40,0) -> #N/A | AF12: =VLOOKUP($A12,'S47'!$C:$BQ,22,0) -> #N/A | AG12: =VLOOKUP($A12,'S47'!$C:$BQ,29,0) -> #N/A | AH12: =VLOOKUP($A12,'S47'!$C:$BQ,30,0) -> #N/A | AI12: =VLOOKUP($A12,'S47'!$C:$BQ,52,0) -> #N/A | AJ12: =VLOOKUP($A12,'S47'!$C:$BQ,59,0) -> #N/A | AK12: =VLOOKUP($A12,'S47'!$C:$BQ,60,0) -> #N/A | AL12: =VLOOKUP($A12,'S48'!$C:$BQ,32,0) -> #N/A | AM12: =VLOOKUP($A12,'S48'!$C:$BQ,39,0) -> #N/A | AN12: =VLOOKUP($A12,'S48'!$C:$BQ,40,0) -> #N/A | AO12: =VLOOKUP($A12,'S48'!$C:$BQ,22,0) -> #N/A | AP12: =VLOOKUP($A12,'S48'!$C:$BQ,29,0) -> #N/A | AQ12: =VLOOKUP($A12,'S48'!$C:$BQ,30,0) -> #N/A | AR12: =VLOOKUP($A12,'S48'!$C:$BQ,52,0) -> #N/A | AS12: =VLOOKUP($A12,'S48'!$C:$BQ,59,0) -> #N/A | AT12: =VLOOKUP($A12,'S48'!$C:$BQ,60,0) -> #N/A | AU12: =VLOOKUP($A12,'S49'!$C:$BQ,32,0) -> #N/A | AV12: =VLOOKUP($A12,'S49'!$C:$BQ,39,0) -> #N/A | AW12: =VLOOKUP($A12,'S49'!$C:$BQ,40,0) -> #N/A | AX12: =VLOOKUP($A12,'S49'!$C:$BQ,22,0) -> #N/A | AY12: =VLOOKUP($A12,'S49'!$C:$BQ,29,0) -> #N/A | AZ12: =VLOOKUP($A12,'S49'!$C:$BQ,30,0) -> #N/A | BA12: =VLOOKUP($A12,'S49'!$C:$BQ,52,0) -> #N/A | BB12: =VLOOKUP($A12,'S49'!$C:$BQ,59,0) -> #N/A | BC12: =VLOOKUP($A12,'S49'!$C:$BQ,60,0) -> #N/A | BD12: =VLOOKUP($A12,'S50'!$C:$BQ,32,0) -> #N/A | BE12: =VLOOKUP($A12,'S50'!$C:$BQ,39,0) -> #N/A | BF12: =VLOOKUP($A12,'S50'!$C:$BQ,40,0) -> #N/A | BG12: =VLOOKUP($A12,'S50'!$C:$BQ,22,0) -> #N/A | BH12: =VLOOKUP($A12,'S50'!$C:$BQ,29,0) -> #N/A | BI12: =VLOOKUP($A12,'S50'!$C:$BQ,30,0) -> #N/A | BJ12: =VLOOKUP($A12,'S50'!$C:$BQ,52,0) -> #N/A | BK12: =VLOOKUP($A12,'S50'!$C:$BQ,59,0) -> #N/A | BL12: =VLOOKUP($A12,'S50'!$C:$BQ,60,0) -> #N/A
A13: BAR SUR AUBE | B13: =VLOOKUP($A13,'S0 remplacer avec S44'!$C:$BQ,32,0) -> 166.55 | C13: =VLOOKUP($A13,'S0 remplacer avec S44'!$C:$BQ,39,0) -> 22 | D13: =VLOOKUP($A13,'S0 remplacer avec S44'!$C:$BQ,40,0) -> 60 | E13: =VLOOKUP($A13,'S0 remplacer avec S44'!$C:$BQ,22,0) -> 2110.0642 | F13: =VLOOKUP($A13,'S0 remplacer avec S44'!$C:$BQ,29,0) -> 0 | G13: =VLOOKUP($A13,'S0 remplacer avec S44'!$C:$BQ,30,0) -> 0 | H13: =VLOOKUP($A13,'S0 remplacer avec S44'!$C:$BQ,52,0) -> 103.8 | I13: =VLOOKUP($A13,'S0 remplacer avec S44'!$C:$BQ,59,0) -> 0 | J13: =VLOOKUP($A13,'S0 remplacer avec S44'!$C:$BQ,60,0) -> 11 | K13: =VLOOKUP($A13,'S45'!$C:$BQ,32,0) -> #N/A | L13: =VLOOKUP($A13,'S45'!$C:$BQ,39,0) -> #N/A | M13: =VLOOKUP($A13,'S45'!$C:$BQ,40,0) -> #N/A | N13: =VLOOKUP($A13,'S45'!$C:$BQ,22,0) -> #N/A | O13: =VLOOKUP($A13,'S45'!$C:$BQ,29,0) -> #N/A | P13: =VLOOKUP($A13,'S45'!$C:$BQ,30,0) -> #N/A | Q13: =VLOOKUP($A13,'S45'!$C:$BQ,52,0) -> #N/A | R13: =VLOOKUP($A13,'S45'!$C:$BQ,59,0) -> #N/A | S13: =VLOOKUP($A13,'S45'!$C:$BQ,60,0) -> #N/A | T13: =VLOOKUP($A13,'S46'!$C:$BQ,32,0) -> #N/A | U13: =VLOOKUP($A13,'S46'!$C:$BQ,39,0) -> #N/A | V13: =VLOOKUP($A13,'S46'!$C:$BQ,40,0) -> #N/A | W13: =VLOOKUP($A13,'S46'!$C:$BQ,22,0) -> #N/A | X13: =VLOOKUP($A13,'S46'!$C:$BQ,29,0) -> #N/A | Y13: =VLOOKUP($A13,'S46'!$C:$BQ,30,0) -> #N/A | Z13: =VLOOKUP($A13,'S46'!$C:$BQ,52,0) -> #N/A | AA13: =VLOOKUP($A13,'S46'!$C:$BQ,59,0) -> #N/A | AB13: =VLOOKUP($A13,'S46'!$C:$BQ,60,0) -> #N/A | AC13: =VLOOKUP($A13,'S47'!$C:$BQ,32,0) -> #N/A | AD13: =VLOOKUP($A13,'S47'!$C:$BQ,39,0) -> #N/A | AE13: =VLOOKUP($A13,'S47'!$C:$BQ,40,0) -> #N/A | AF13: =VLOOKUP($A13,'S47'!$C:$BQ,22,0) -> #N/A | AG13: =VLOOKUP($A13,'S47'!$C:$BQ,29,0) -> #N/A | AH13: =VLOOKUP($A13,'S47'!$C:$BQ,30,0) -> #N/A | AI13: =VLOOKUP($A13,'S47'!$C:$BQ,52,0) -> #N/A | AJ13: =VLOOKUP($A13,'S47'!$C:$BQ,59,0) -> #N/A | AK13: =VLOOKUP($A13,'S47'!$C:$BQ,60,0) -> #N/A | AL13: =VLOOKUP($A13,'S48'!$C:$BQ,32,0) -> #N/A | AM13: =VLOOKUP($A13,'S48'!$C:$BQ,39,0) -> #N/A | AN13: =VLOOKUP($A13,'S48'!$C:$BQ,40,0) -> #N/A | AO13: =VLOOKUP($A13,'S48'!$C:$BQ,22,0) -> #N/A | AP13: =VLOOKUP($A13,'S48'!$C:$BQ,29,0) -> #N/A | AQ13: =VLOOKUP($A13,'S48'!$C:$BQ,30,0) -> #N/A | AR13: =VLOOKUP($A13,'S48'!$C:$BQ,52,0) -> #N/A | AS13: =VLOOKUP($A13,'S48'!$C:$BQ,59,0) -> #N/A | AT13: =VLOOKUP($A13,'S48'!$C:$BQ,60,0) -> #N/A | AU13: =VLOOKUP($A13,'S49'!$C:$BQ,32,0) -> #N/A | AV13: =VLOOKUP($A13,'S49'!$C:$BQ,39,0) -> #N/A | AW13: =VLOOKUP($A13,'S49'!$C:$BQ,40,0) -> #N/A | AX13: =VLOOKUP($A13,'S49'!$C:$BQ,22,0) -> #N/A | AY13: =VLOOKUP($A13,'S49'!$C:$BQ,29,0) -> #N/A | AZ13: =VLOOKUP($A13,'S49'!$C:$BQ,30,0) -> #N/A | BA13: =VLOOKUP($A13,'S49'!$C:$BQ,52,0) -> #N/A | BB13: =VLOOKUP($A13,'S49'!$C:$BQ,59,0) -> #N/A | BC13: =VLOOKUP($A13,'S49'!$C:$BQ,60,0) -> #N/A | BD13: =VLOOKUP($A13,'S50'!$C:$BQ,32,0) -> #N/A | BE13: =VLOOKUP($A13,'S50'!$C:$BQ,39,0) -> #N/A | BF13: =VLOOKUP($A13,'S50'!$C:$BQ,40,0) -> #N/A | BG13: =VLOOKUP($A13,'S50'!$C:$BQ,22,0) -> #N/A | BH13: =VLOOKUP($A13,'S50'!$C:$BQ,29,0) -> #N/A | BI13: =VLOOKUP($A13,'S50'!$C:$BQ,30,0) -> #N/A | BJ13: =VLOOKUP($A13,'S50'!$C:$BQ,52,0) -> #N/A | BK13: =VLOOKUP($A13,'S50'!$C:$BQ,59,0) -> #N/A | BL13: =VLOOKUP($A13,'S50'!$C:$BQ,60,0) -> #N/A
A14: BAR SUR SEINE | B14: =VLOOKUP($A14,'S0 remplacer avec S44'!$C:$BQ,32,0) -> 146.6 | C14: =VLOOKUP($A14,'S0 remplacer avec S44'!$C:$BQ,39,0) -> 89 | D14: =VLOOKUP($A14,'S0 remplacer avec S44'!$C:$BQ,40,0) -> 136 | E14: =VLOOKUP($A14,'S0 remplacer avec S44'!$C:$BQ,22,0) -> 2687.843 | F14: =VLOOKUP($A14,'S0 remplacer avec S44'!$C:$BQ,29,0) -> 0 | G14: =VLOOKUP($A14,'S0 remplacer avec S44'!$C:$BQ,30,0) -> 0 | H14: =VLOOKUP($A14,'S0 remplacer avec S44'!$C:$BQ,52,0) -> 131.2 | I14: =VLOOKUP($A14,'S0 remplacer avec S44'!$C:$BQ,59,0) -> 0 | J14: =VLOOKUP($A14,'S0 remplacer avec S44'!$C:$BQ,60,0) -> 13 | K14: =VLOOKUP($A14,'S45'!$C:$BQ,32,0) -> #N/A | L14: =VLOOKUP($A14,'S45'!$C:$BQ,39,0) -> #N/A | M14: =VLOOKUP($A14,'S45'!$C:$BQ,40,0) -> #N/A | N14: =VLOOKUP($A14,'S45'!$C:$BQ,22,0) -> #N/A | O14: =VLOOKUP($A14,'S45'!$C:$BQ,29,0) -> #N/A | P14: =VLOOKUP($A14,'S45'!$C:$BQ,30,0) -> #N/A | Q14: =VLOOKUP($A14,'S45'!$C:$BQ,52,0) -> #N/A | R14: =VLOOKUP($A14,'S45'!$C:$BQ,59,0) -> #N/A | S14: =VLOOKUP($A14,'S45'!$C:$BQ,60,0) -> #N/A | T14: =VLOOKUP($A14,'S46'!$C:$BQ,32,0) -> #N/A | U14: =VLOOKUP($A14,'S46'!$C:$BQ,39,0) -> #N/A | V14: =VLOOKUP($A14,'S46'!$C:$BQ,40,0) -> #N/A | W14: =VLOOKUP($A14,'S46'!$C:$BQ,22,0) -> #N/A | X14: =VLOOKUP($A14,'S46'!$C:$BQ,29,0) -> #N/A | Y14: =VLOOKUP($A14,'S46'!$C:$BQ,30,0) -> #N/A | Z14: =VLOOKUP($A14,'S46'!$C:$BQ,52,0) -> #N/A | AA14: =VLOOKUP($A14,'S46'!$C:$BQ,59,0) -> #N/A | AB14: =VLOOKUP($A14,'S46'!$C:$BQ,60,0) -> #N/A | AC14: =VLOOKUP($A14,'S47'!$C:$BQ,32,0) -> #N/A | AD14: =VLOOKUP($A14,'S47'!$C:$BQ,39,0) -> #N/A | AE14: =VLOOKUP($A14,'S47'!$C:$BQ,40,0) -> #N/A | AF14: =VLOOKUP($A14,'S47'!$C:$BQ,22,0) -> #N/A | AG14: =VLOOKUP($A14,'S47'!$C:$BQ,29,0) -> #N/A | AH14: =VLOOKUP($A14,'S47'!$C:$BQ,30,0) -> #N/A | AI14: =VLOOKUP($A14,'S47'!$C:$BQ,52,0) -> #N/A | AJ14: =VLOOKUP($A14,'S47'!$C:$BQ,59,0) -> #N/A | AK14: =VLOOKUP($A14,'S47'!$C:$BQ,60,0) -> #N/A | AL14: =VLOOKUP($A14,'S48'!$C:$BQ,32,0) -> #N/A | AM14: =VLOOKUP($A14,'S48'!$C:$BQ,39,0) -> #N/A | AN14: =VLOOKUP($A14,'S48'!$C:$BQ,40,0) -> #N/A | AO14: =VLOOKUP($A14,'S48'!$C:$BQ,22,0) -> #N/A | AP14: =VLOOKUP($A14,'S48'!$C:$BQ,29,0) -> #N/A | AQ14: =VLOOKUP($A14,'S48'!$C:$BQ,30,0) -> #N/A | AR14: =VLOOKUP($A14,'S48'!$C:$BQ,52,0) -> #N/A | AS14: =VLOOKUP($A14,'S48'!$C:$BQ,59,0) -> #N/A | AT14: =VLOOKUP($A14,'S48'!$C:$BQ,60,0) -> #N/A | AU14: =VLOOKUP($A14,'S49'!$C:$BQ,32,0) -> #N/A | AV14: =VLOOKUP($A14,'S49'!$C:$BQ,39,0) -> #N/A | AW14: =VLOOKUP($A14,'S49'!$C:$BQ,40,0) -> #N/A | AX14: =VLOOKUP($A14,'S49'!$C:$BQ,22,0) -> #N/A | AY14: =VLOOKUP($A14,'S49'!$C:$BQ,29,0) -> #N/A | AZ14: =VLOOKUP($A14,'S49'!$C:$BQ,30,0) -> #N/A | BA14: =VLOOKUP($A14,'S49'!$C:$BQ,52,0) -> #N/A | BB14: =VLOOKUP($A14,'S49'!$C:$BQ,59,0) -> #N/A | BC14: =VLOOKUP($A14,'S49'!$C:$BQ,60,0) -> #N/A | BD14: =VLOOKUP($A14,'S50'!$C:$BQ,32,0) -> #N/A | BE14: =VLOOKUP($A14,'S50'!$C:$BQ,39,0) -> #N/A | BF14: =VLOOKUP($A14,'S50'!$C:$BQ,40,0) -> #N/A | BG14: =VLOOKUP($A14,'S50'!$C:$BQ,22,0) -> #N/A | BH14: =VLOOKUP($A14,'S50'!$C:$BQ,29,0) -> #N/A | BI14: =VLOOKUP($A14,'S50'!$C:$BQ,30,0) -> #N/A | BJ14: =VLOOKUP($A14,'S50'!$C:$BQ,52,0) -> #N/A | BK14: =VLOOKUP($A14,'S50'!$C:$BQ,59,0) -> #N/A | BL14: =VLOOKUP($A14,'S50'!$C:$BQ,60,0) -> #N/A
... A295: VAGNEY | B295: =VLOOKUP($A295,'S0 remplacer avec S44'!$C:$BQ,32,0) -> 115.75 | C295: =VLOOKUP($A295,'S0 remplacer avec S44'!$C:$BQ,39,0) -> 87 | D295: =VLOOKUP($A295,'S0 remplacer avec S44'!$C:$BQ,40,0) -> 127 | E295: =VLOOKUP($A295,'S0 remplacer avec S44'!$C:$BQ,22,0) -> 1754.3235 | F295: =VLOOKUP($A295,'S0 remplacer avec S44'!$C:$BQ,29,0) -> 84 | G295: =VLOOKUP($A295,'S0 remplacer avec S44'!$C:$BQ,30,0) -> 452 | H295: =VLOOKUP($A295,'S0 remplacer avec S44'!$C:$BQ,52,0) -> 115.2 | I295: =VLOOKUP($A295,'S0 remplacer avec S44'!$C:$BQ,59,0) -> 0 | J295: =VLOOKUP($A295,'S0 remplacer avec S44'!$C:$BQ,60,0) -> 8 | K295: =VLOOKUP($A295,'S45'!$C:$BQ,32,0) -> #N/A | L295: =VLOOKUP($A295,'S45'!$C:$BQ,39,0) -> #N/A | M295: =VLOOKUP($A295,'S45'!$C:$BQ,40,0) -> #N/A | N295: =VLOOKUP($A295,'S45'!$C:$BQ,22,0) -> #N/A | O295: =VLOOKUP($A295,'S45'!$C:$BQ,29,0) -> #N/A | P295: =VLOOKUP($A295,'S45'!$C:$BQ,30,0) -> #N/A | Q295: =VLOOKUP($A295,'S45'!$C:$BQ,52,0) -> #N/A | R295: =VLOOKUP($A295,'S45'!$C:$BQ,59,0) -> #N/A | S295: =VLOOKUP($A295,'S45'!$C:$BQ,60,0) -> #N/A | T295: =VLOOKUP($A295,'S46'!$C:$BQ,32,0) -> #N/A | U295: =VLOOKUP($A295,'S46'!$C:$BQ,39,0) -> #N/A | V295: =VLOOKUP($A295,'S46'!$C:$BQ,40,0) -> #N/A | W295: =VLOOKUP($A295,'S46'!$C:$BQ,22,0) -> #N/A | X295: =VLOOKUP($A295,'S46'!$C:$BQ,29,0) -> #N/A | Y295: =VLOOKUP($A295,'S46'!$C:$BQ,30,0) -> #N/A | Z295: =VLOOKUP($A295,'S46'!$C:$BQ,52,0) -> #N/A | AA295: =VLOOKUP($A295,'S46'!$C:$BQ,59,0) -> #N/A | AB295: =VLOOKUP($A295,'S46'!$C:$BQ,60,0) -> #N/A | AC295: =VLOOKUP($A295,'S47'!$C:$BQ,32,0) -> #N/A | AD295: =VLOOKUP($A295,'S47'!$C:$BQ,39,0) -> #N/A | AE295: =VLOOKUP($A295,'S47'!$C:$BQ,40,0) -> #N/A | AF295: =VLOOKUP($A295,'S47'!$C:$BQ,22,0) -> #N/A | AG295: =VLOOKUP($A295,'S47'!$C:$BQ,29,0) -> #N/A | AH295: =VLOOKUP($A295,'S47'!$C:$BQ,30,0) -> #N/A | AI295: =VLOOKUP($A295,'S47'!$C:$BQ,52,0) -> #N/A | AJ295: =VLOOKUP($A295,'S47'!$C:$BQ,59,0) -> #N/A | AK295: =VLOOKUP($A295,'S47'!$C:$BQ,60,0) -> #N/A | AL295: =VLOOKUP($A295,'S48'!$C:$BQ,32,0) -> #N/A | AM295: =VLOOKUP($A295,'S48'!$C:$BQ,39,0) -> #N/A | AN295: =VLOOKUP($A295,'S48'!$C:$BQ,40,0) -> #N/A | AO295: =VLOOKUP($A295,'S48'!$C:$BQ,22,0) -> #N/A | AP295: =VLOOKUP($A295,'S48'!$C:$BQ,29,0) -> #N/A | AQ295: =VLOOKUP($A295,'S48'!$C:$BQ,30,0) -> #N/A | AR295: =VLOOKUP($A295,'S48'!$C:$BQ,52,0) -> #N/A | AS295: =VLOOKUP($A295,'S48'!$C:$BQ,59,0) -> #N/A | AT295: =VLOOKUP($A295,'S48'!$C:$BQ,60,0) -> #N/A | AU295: =VLOOKUP($A295,'S49'!$C:$BQ,32,0) -> #N/A | AV295: =VLOOKUP($A295,'S49'!$C:$BQ,39,0) -> #N/A | AW295: =VLOOKUP($A295,'S49'!$C:$BQ,40,0) -> #N/A | AX295: =VLOOKUP($A295,'S49'!$C:$BQ,22,0) -> #N/A | AY295: =VLOOKUP($A295,'S49'!$C:$BQ,29,0) -> #N/A | AZ295: =VLOOKUP($A295,'S49'!$C:$BQ,30,0) -> #N/A | BA295: =VLOOKUP($A295,'S49'!$C:$BQ,52,0) -> #N/A | BB295: =VLOOKUP($A295,'S49'!$C:$BQ,59,0) -> #N/A | BC295: =VLOOKUP($A295,'S49'!$C:$BQ,60,0) -> #N/A | BD295: =VLOOKUP($A295,'S50'!$C:$BQ,32,0) -> #N/A | BE295: =VLOOKUP($A295,'S50'!$C:$BQ,39,0) -> #N/A | BF295: =VLOOKUP($A295,'S50'!$C:$BQ,40,0) -> #N/A | BG295: =VLOOKUP($A295,'S50'!$C:$BQ,22,0) -> #N/A | BH295: =VLOOKUP($A295,'S50'!$C:$BQ,29,0) -> #N/A | BI295: =VLOOKUP($A295,'S50'!$C:$BQ,30,0) -> #N/A | BJ295: =VLOOKUP($A295,'S50'!$C:$BQ,52,0) -> #N/A | BK295: =VLOOKUP($A295,'S50'!$C:$BQ,59,0) -> #N/A | BL295: =VLOOKUP($A295,'S50'!$C:$BQ,60,0) -> #N/A

Sheet PROD MRH4
A1: DOM Desg Cour Eds Niv7 | B1: DOM Desg Cour Eds Niv6 | C1: DOM Idnt Extr Eds Niv5 | D1: DOM Desg Cour Eds Niv5 | E1: Nombre D Ouvertures De Services
A2: AUBE HAUTE MARNE | B2: CHAUMONT | C2: 410541 | D2: LANGRES
A3: AUBE HAUTE MARNE | B3: TROYES | C3: 410510 | D3: TROYES GAMBETTA
A4: AUBE HAUTE MARNE | B4: TROYES | C4: 410512 | D4: TROYES ZOLA
A5: AUBE HAUTE MARNE | B5: TROYES | C5: 510511 | D5: TROYES BROSSOLETTE
A6: BAS RHIN | B6: SELESTAT | C6: 4007 | D6: ILLKIRCH CENTRE
A7: HAUT RHIN | B7: COLMAR | C7: 4135 | D7: COLMAR SAINTE MARIE
A8: MARNE ARDENNES | B8: REIMS | C8: 451350 | D8: REIMS CENTRE VILLE
A9: MEURTHE ET MOSELLE MEUSE | B9: NANCY | C9: 554266 | D9: DOMBASLE SUR MEURTHE
A10: MEURTHE ET MOSELLE MEUSE | B10: PONT A MOUSSON | C10: 454535 | D10: PONT A MOUSSON CENTRALE
A11: MEURTHE ET MOSELLE MEUSE | B11: PONT A MOUSSON | C11: 554506 | D11: CHALIGNY NEUVES MAISONS
A12: MEURTHE ET MOSELLE MEUSE | B12: VERDUN | C12: 455456 | D12: MONTMEDY
A13: MOSELLE | B13: MOSELLE NORD | C13: 457632 | D13: THIONVILLE CENTRALE
... A17: VOSGES | B17: SAINT DIE | C17: 588386 | D17: LE THILLOT

Sheet BAROM CA UC
A1: DONNEES DE BASES | M1: CALCULS | U1: CA UC RESTE A FAIRE
M2: NB SEMAINES PASSEES | O2: 44
M3: NB SEMAINES RESTANTES | O3: =50-O2 -> 6 | U3: 17 | V3: 18 | W3: 19 | X3: 20 | Y3: 21
B4: Direction | C4: eds | D4: Territoire | E4: eds | F4: Agence | G4: ETP perf au 30/09 | H4: Réal / ETP | I4: PNB / ETP | J4: % Ecart au 1er | K4: Rang | M4: PNB / ETP | N4: Top 1 | O4: Top 10 | P4: Top 30 | Q4: Top 50 | R4: Top 100 | S4: Moyenne | U4: Atteinte Top1 | V4: Atteinte Top10 | W4: Atteinte Top30 | X4: Atteinte Top50 | Y4: Atteinte Top100 | Z4: Atteinte Moyenne
A5: 50 | B5: AUBE HAUTE MARNE | C5: 21 | D5: CHAUMONT | E5: 410560 | F5: BOURBONNE LES BAINS | G5: 1.8999519 | H5: 157.41914 | I5: 0.76949903 | J5: 0.93939726 | K5: 179 | M5: =I5 -> 0.76949903 | N5: =VLOOKUP(1,$K$5:$M$297,3,0) -> 12.69743 | O5: =VLOOKUP(10,$K$5:$M$297,3,0) -> 2.5847021 | P5: =VLOOKUP(30,$K$5:$M$297,3,0) -> 1.9020682 | Q5: =VLOOKUP(50,$K$5:$M$297,3,0) -> 1.6459766 | R5: =VLOOKUP(100,$K$5:$M$297,3,0) -> 1.20306 | S5: =VLOOKUP(150,$K$5:$M$297,3,0) -> 0.93744591 | U5: =((((($N$5-$M5)))/0.003)*G5*1000)+(((((($N$5/$O$2)-($M5/$O$2))))/0.003)*G5*1000)*$O$3 -> 8584278.2 | V5: =((((($O$5-$M5)))/0.003)*G5*1000)+(((((($O$5/$O$2)-($M5/$O$2))))/0.003)*G5*1000)*$O$3 -> 1306363.1 | W5: =((((($P$5-$M5)))/0.003)*G5*1000)+(((((($P$5/$O$2)-($M5/$O$2))))/0.003)*G5*1000)*$O$3 -> 815085.97 | X5: =((((($Q$5-$M5)))/0.003)*G5*1000)+(((((($Q$5/$O$2)-($M5/$O$2))))/0.003)*G5*1000)*$O$3 -> 630782.3 | Y5: =((((($R$5-$M5)))/0.003)*G5*1000)+(((((($R$5/$O$2)-($M5/$O$2))))/0.003)*G5*1000)*$O$3 -> 312024.63 | Z5: =((((($S$5-$M5)))/0.003)*G5*1000)+(((((($S$5/$O$2)-($M5/$O$2))))/0.003)*G5*1000)*$O$3 -> 120867.8
A6: 50 | B6: AUBE HAUTE MARNE | C6: 21 | D6: CHAUMONT | E6: 410566 | F6: CHAUMONT HOTEL DE VILLE | G6: 9.1914925 | H6: 184.05363 | I6: 1.127608 | J6: 0.911194 | K6: 113 | M6: =I6 -> 1.127608 | U6: =((((($N$5-$M6)))/0.003)*G6*1000)+(((((($N$5/$O$2)-($M6/$O$2))))/0.003)*G6*1000)*$O$3 -> 40281791 | V6: =((((($O$5-$M6)))/0.003)*G6*1000)+(((((($O$5/$O$2)-($M6/$O$2))))/0.003)*G6*1000)*$O$3 -> 5073056.9 | W6: =((((($P$5-$M6)))/0.003)*G6*1000)+(((((($P$5/$O$2)-($M6/$O$2))))/0.003)*G6*1000)*$O$3 -> 2696380.9 | X6: =((((($Q$5-$M6)))/0.003)*G6*1000)+(((((($Q$5/$O$2)-($M6/$O$2))))/0.003)*G6*1000)*$O$3 -> 1804765.8 | Y6: =((((($R$5-$M6)))/0.003)*G6*1000)+(((((($R$5/$O$2)-($M6/$O$2))))/0.003)*G6*1000)*$O$3 -> 262695.86 | Z6: =((((($S$5-$M6)))/0.003)*G6*1000)+(((((($S$5/$O$2)-($M6/$O$2))))/0.003)*G6*1000)*$O$3 -> -662073.11
A7: 50 | B7: AUBE HAUTE MARNE | C7: 21 | D7: CHAUMONT | E7: 510590 | F7: CHAUMONT REPUBLIQUE | G7: 2.4137029 | H7: 130.60122 | I7: 0.88658054 | J7: 0.93017638 | K7: 159 | M7: =I7 -> 0.88658054 | U7: =((((($N$5-$M7)))/0.003)*G7*1000)+(((((($N$5/$O$2)-($M7/$O$2))))/0.003)*G7*1000)*$O$3 -> 10798440 | V7: =((((($O$5-$M7)))/0.003)*G7*1000)+(((((($O$5/$O$2)-($M7/$O$2))))/0.003)*G7*1000)*$O$3 -> 1552561 | W7: =((((($P$5-$M7)))/0.003)*G7*1000)+(((((($P$5/$O$2)-($M7/$O$2))))/0.003)*G7*1000)*$O$3 -> 928441.49 | X7: =((((($Q$5-$M7)))/0.003)*G7*1000)+(((((($Q$5/$O$2)-($M7/$O$2))))/0.003)*G7*1000)*$O$3 -> 694301.72 | Y7: =((((($R$5-$M7)))/0.003)*G7*1000)+(((((($R$5/$O$2)-($M7/$O$2))))/0.003)*G7*1000)*$O$3 -> 289351.31 | Z7: =((((($S$5-$M7)))/0.003)*G7*1000)+(((((($S$5/$O$2)-($M7/$O$2))))/0.003)*G7*1000)*$O$3 -> 46505.265
A8: 50 | B8: AUBE HAUTE MARNE | C8: 21 | D8: CHAUMONT | E8: 451154 | F8: JOINVILLE | G8: 2.8152338 | H8: 37.951717 | I8: 0.11892466 | J8: 0.99063396 | K8: 293 | M8: =I8 -> 0.11892466 | U8: =((((($N$5-$M8)))/0.003)*G8*1000)+(((((($N$5/$O$2)-($M8/$O$2))))/0.003)*G8*1000)*$O$3 -> 13413421 | V8: =((((($O$5-$M8)))/0.003)*G8*1000)+(((((($O$5/$O$2)-($M8/$O$2))))/0.003)*G8*1000)*$O$3 -> 2629447 | W8: =((((($P$5-$M8)))/0.003)*G8*1000)+(((((($P$5/$O$2)-($M8/$O$2))))/0.003)*G8*1000)*$O$3 -> 1901502.2 | X8: =((((($Q$5-$M8)))/0.003)*G8*1000)+(((((($Q$5/$O$2)-($M8/$O$2))))/0.003)*G8*1000)*$O$3 -> 1628412.2 | Y8: =((((($R$5-$M8)))/0.003)*G8*1000)+(((((($R$5/$O$2)-($M8/$O$2))))/0.003)*G8*1000)*$O$3 -> 1156096.4 | Z8: =((((($S$5-$M8)))/0.003)*G8*1000)+(((((($S$5/$O$2)-($M8/$O$2))))/0.003)*G8*1000)*$O$3 -> 872851.77
A9: 50 | B9: AUBE HAUTE MARNE | C9: 21 | D9: CHAUMONT | E9: 410541 | F9: LANGRES | G9: 6.6773488 | H9: 170.66187 | I9: 0.87408146 | J9: 0.93116076 | K9: 160 | M9: =I9 -> 0.87408146 | U9: =((((($N$5-$M9)))/0.003)*G9*1000)+(((((($N$5/$O$2)-($M9/$O$2))))/0.003)*G9*1000)*$O$3 -> 29904780 | V9: =((((($O$5-$M9)))/0.003)*G9*1000)+(((((($O$5/$O$2)-($M9/$O$2))))/0.003)*G9*1000)*$O$3 -> 4326670.8 | W9: =((((($P$5-$M9)))/0.003)*G9*1000)+(((((($P$5/$O$2)-($M9/$O$2))))/0.003)*G9*1000)*$O$3 -> 2600085.6 | X9: =((((($Q$5-$M9)))/0.003)*G9*1000)+(((((($Q$5/$O$2)-($M9/$O$2))))/0.003)*G9*1000)*$O$3 -> 1952353.5 | Y9: =((((($R$5-$M9)))/0.003)*G9*1000)+(((((($R$5/$O$2)-($M9/$O$2))))/0.003)*G9*1000)*$O$3 -> 832085.06 | Z9: =((((($S$5-$M9)))/0.003)*G9*1000)+(((((($S$5/$O$2)-($M9/$O$2))))/0.003)*G9*1000)*$O$3 -> 160267.62
A10: 50 | B10: AUBE HAUTE MARNE | C10: 21 | D10: CHAUMONT | E10: 410582 | F10: NOGENT EN BASSIGNY | G10: 2.0789474 | H10: 62.312395 | I10: 0.40760441 | J10: 0.96789867 | K10: 249 | M10: =I10 -> 0.40760441 | U10: =((((($N$5-$M10)))/0.003)*G10*1000)+(((((($N$5/$O$2)-($M10/$O$2))))/0.003)*G10*1000)*$O$3 -> 9677992.3 | V10: =((((($O$5-$M10)))/0.003)*G10*1000)+(((((($O$5/$O$2)-($M10/$O$2))))/0.003)*G10*1000)*$O$3 -> 1714421.1 | W10: =((((($P$5-$M10)))/0.003)*G10*1000)+(((((($P$5/$O$2)-($M10/$O$2))))/0.003)*G10*1000)*$O$3 -> 1176860.4 | X10: =((((($Q$5-$M10)))/0.003)*G10*1000)+(((((($Q$5/$O$2)-($M10/$O$2))))/0.003)*G10*1000)*$O$3 -> 975193.44 | Y10: =((((($R$5-$M10)))/0.003)*G10*1000)+(((((($R$5/$O$2)-($M10/$O$2))))/0.003)*G10*1000)*$O$3 -> 626405.44 | Z10: =((((($S$5-$M10)))/0.003)*G10*1000)+(((((($S$5/$O$2)-($M10/$O$2))))/0.003)*G10*1000)*$O$3 -> 417239.62
A11: 50 | B11: AUBE HAUTE MARNE | C11: 21 | D11: CHAUMONT | E11: 451156 | F11: SAINT DIZIER CENTRE | G11: 5.4163614 | H11: 156.37513 | I11: 0.97370002 | J11: 0.92331519 | K11: 138 | M11: =I11 -> 0.97370002 | U11: =((((($N$5-$M11)))/0.003)*G11*1000)+(((((($N$5/$O$2)-($M11/$O$2))))/0.003)*G11*1000)*$O$3 -> 24053014 | V11: =((((($O$5-$M11)))/0.003)*G11*1000)+(((((($O$5/$O$2)-($M11/$O$2))))/0.003)*G11*1000)*$O$3 -> 3305215.8 | W11: =((((($P$5-$M11)))/0.003)*G11*1000)+(((((($P$5/$O$2)-($M11/$O$2))))/0.003)*G11*1000)*$O$3 -> 1904688.5 | X11: =((((($Q$5-$M11)))/0.003)*G11*1000)+(((((($Q$5/$O$2)-($M11/$O$2))))/0.003)*G11*1000)*$O$3 -> 1379277.7 | Y11: =((((($R$5-$M11)))/0.003)*G11*1000)+(((((($R$5/$O$2)-($M11/$O$2))))/0.003)*G11*1000)*$O$3 -> 470566.92 | Z11: =((((($S$5-$M11)))/0.003)*G11*1000)+(((((($S$5/$O$2)-($M11/$O$2))))/0.003)*G11*1000)*$O$3 -> -74380.805
A12: 50 | B12: AUBE HAUTE MARNE | C12: 21 | D12: CHAUMONT | E12: 551157 | F12: SAINT DIZIER EUROPE | G12: 2.5347178 | H12: 152.24971 | I12: 1.0941746 | J12: 0.91382708 | K12: 117 | M12: =I12 -> 1.0941746 | U12: =((((($N$5-$M12)))/0.003)*G12*1000)+(((((($N$5/$O$2)-($M12/$O$2))))/0.003)*G12*1000)*$O$3 -> 11140522 | V12: =((((($O$5-$M12)))/0.003)*G12*1000)+(((((($O$5/$O$2)-($M12/$O$2))))/0.003)*G12*1000)*$O$3 -> 1431085.9 | W12: =((((($P$5-$M12)))/0.003)*G12*1000)+(((((($P$5/$O$2)-($M12/$O$2))))/0.003)*G12*1000)*$O$3 -> 775675.09 | X12: =((((($Q$5-$M12)))/0.003)*G12*1000)+(((((($Q$5/$O$2)-($M12/$O$2))))/0.003)*G12*1000)*$O$3 -> 529796.35 | Y12: =((((($R$5-$M12)))/0.003)*G12*1000)+(((((($R$5/$O$2)-($M12/$O$2))))/0.003)*G12*1000)*$O$3 -> 104543.08 | Z12: =((((($S$5-$M12)))/0.003)*G12*1000)+(((((($S$5/$O$2)-($M12/$O$2))))/0.003)*G12*1000)*$O$3 -> -150478.44
A13: 50 | B13: AUBE HAUTE MARNE | C13: 21 | D13: CHAUMONT | E13: 451151 | F13: WASSY | G13: 2.8184252 | H13: 131.63807 | I13: 1.0328577 | J13: 0.91865616 | K13: 129 | M13: =I13 -> 1.0328577 | U13: =((((($N$5-$M13)))/0.003)*G13*1000)+(((((($N$5/$O$2)-($M13/$O$2))))/0.003)*G13*1000)*$O$3 -> 12452925 | V13: =((((($O$5-$M13)))/0.003)*G13*1000)+(((((($O$5/$O$2)-($M13/$O$2))))/0.003)*G13*1000)*$O$3 -> 1656726.3 | W13: =((((($P$5-$M13)))/0.003)*G13*1000)+(((((($P$5/$O$2)-($M13/$O$2))))/0.003)*G13*1000)*$O$3 -> 927956.36 | X13: =((((($Q$5-$M13)))/0.003)*G13*1000)+(((((($Q$5/$O$2)-($M13/$O$2))))/0.003)*G13*1000)*$O$3 -> 654556.76 | Y13: =((((($R$5-$M13)))/0.003)*G13*1000)+(((((($R$5/$O$2)-($M13/$O$2))))/0.003)*G13*1000)*$O$3 -> 181705.51 | Z13: =((((($S$5-$M13)))/0.003)*G13*1000)+(((((($S$5/$O$2)-($M13/$O$2))))/0.003)*G13*1000)*$O$3 -> -101860.21
A14: 50 | B14: AUBE HAUTE MARNE | C14: 14 | D14: TROYES | E14: 510530 | F14: ARCIS SUR AUBE | G14: 3.6851069 | H14: 198.58028 | I14: 2.1037997 | J14: 0.83431295 | K14: 24 | M14: =I14 -> 2.1037997 | U14: =((((($N$5-$M14)))/0.003)*G14*1000)+(((((($N$5/$O$2)-($M14/$O$2))))/0.003)*G14*1000)*$O$3 -> 14787371 | V14: =((((($O$5-$M14)))/0.003)*G14*1000)+(((((($O$5/$O$2)-($M14/$O$2))))/0.003)*G14*1000)*$O$3 -> 671279.21 | W14: =((((($P$5-$M14)))/0.003)*G14*1000)+(((((($P$5/$O$2)-($M14/$O$2))))/0.003)*G14*1000)*$O$3 -> -281591.65 | X14: =((((($Q$5-$M14)))/0.003)*G14*1000)+(((((($Q$5/$O$2)-($M14/$O$2))))/0.003)*G14*1000)*$O$3 -> -639063.18 | Y14: =((((($R$5-$M14)))/0.003)*G14*1000)+(((((($R$5/$O$2)-($M14/$O$2))))/0.003)*G14*1000)*$O$3 -> -1257318.9 | Z14: =((((($S$5-$M14)))/0.003)*G14*1000)+(((((($S$5/$O$2)-($M14/$O$2))))/0.003)*G14*1000)*$O$3 -> -1628082.7
A15: 50 | B15: AUBE HAUTE MARNE | C15: 14 | D15: TROYES | E15: 410550 | F15: BAR SUR AUBE | G15: 2.988084 | H15: 212.71913 | I15: 1.480376 | J15: 0.88341136 | K15: 66 | M15: =I15 -> 1.480376 | U15: =((((($N$5-$M15)))/0.003)*G15*1000)+(((((($N$5/$O$2)-($M15/$O$2))))/0.003)*G15*1000)*$O$3 -> 12696022 | V15: =((((($O$5-$M15)))/0.003)*G15*1000)+(((((($O$5/$O$2)-($M15/$O$2))))/0.003)*G15*1000)*$O$3 -> 1249931.5 | W15: =((((($P$5-$M15)))/0.003)*G15*1000)+(((((($P$5/$O$2)-($M15/$O$2))))/0.003)*G15*1000)*$O$3 -> 477292.3 | X15: =((((($Q$5-$M15)))/0.003)*G15*1000)+(((((($Q$5/$O$2)-($M15/$O$2))))/0.003)*G15*1000)*$O$3 -> 187435.05 | Y15: =((((($R$5-$M15)))/0.003)*G15*1000)+(((((($R$5/$O$2)-($M15/$O$2))))/0.003)*G15*1000)*$O$3 -> -313880.12 | Z15: =((((($S$5-$M15)))/0.003)*G15*1000)+(((((($S$5/$O$2)-($M15/$O$2))))/0.003)*G15*1000)*$O$3 -> -614515.45
A16: 50 | B16: AUBE HAUTE MARNE | C16: 14 | D16: TROYES | E16: 510556 | F16: BAR SUR SEINE | G16: 3.7318809 | H16: 187.44251 | I16: 2.1547028 | J16: 0.83030402 | K16: 23 | M16: =I16 -> 2.1547028 | U16: =((((($N$5-$M16)))/0.003)*G16*1000)+(((((($N$5/$O$2)-($M16/$O$2))))/0.003)*G16*1000)*$O$3 -> 14903107 | V16: =((((($O$5-$M16)))/0.003)*G16*1000)+(((((($O$5/$O$2)-($M16/$O$2))))/0.003)*G16*1000)*$O$3 -> 607843.36 | W16: =((((($P$5-$M16)))/0.003)*G16*1000)+(((((($P$5/$O$2)-($M16/$O$2))))/0.003)*G16*1000)*$O$3 -> -357122.02 | X16: =((((($Q$5-$M16)))/0.003)*G16*1000)+(((((($Q$5/$O$2)-($M16/$O$2))))/0.003)*G16*1000)*$O$3 -> -719130.83 | Y16: =((((($R$5-$M16)))/0.003)*G16*1000)+(((((($R$5/$O$2)-($M16/$O$2))))/0.003)*G16*1000)*$O$3 -> -1345233.9 | Z16: =((((($S$5-$M16)))/0.003)*G16*1000)+(((((($S$5/$O$2)-($M16/$O$2))))/0.003)*G16*1000)*$O$3 -> -1720703.7
A17: 50 | B17: AUBE HAUTE MARNE | C17: 14 | D17: TROYES | E17: 410551 | F17: BRIENNE LE CHÂTEAU | G17: 2.4135234 | H17: 105.27729 | I17: 0.6555247 | J17: 0.94837343 | K17: 205 | M17: =I17 -> 0.6555247 | U17: =((((($N$5-$M17)))/0.003)*G17*1000)+(((((($N$5/$O$2)-($M17/$O$2))))/0.003)*G17*1000)*$O$3 -> 11008871 | V17: =((((($O$5-$M17)))/0.003)*G17*1000)+(((((($O$5/$O$2)-($M17/$O$2))))/0.003)*G17*1000)*$O$3 -> 1763679.9 | W17: =((((($P$5-$M17)))/0.003)*G17*1000)+(((((($P$5/$O$2)-($M17/$O$2))))/0.003)*G17*1000)*$O$3 -> 1139606.8 | X17: =((((($Q$5-$M17)))/0.003)*G17*1000)+(((((($Q$5/$O$2)-($M17/$O$2))))/0.003)*G17*1000)*$O$3 -> 905484.45 | Y17: =((((($R$5-$M17)))/0.003)*G17*1000)+(((((($R$5/$O$2)-($M17/$O$2))))/0.003)*G17*1000)*$O$3 -> 500564.14 | Z17: =((((($S$5-$M17)))/0.003)*G17*1000)+(((((($S$5/$O$2)-($M17/$O$2))))/0.003)*G17*1000)*$O$3 -> 257736.15
... A297: 80 | B297: VOSGES | C297: 55 | D297: SAINT DIE | E297: 588666 | F297: VAGNEY | G297: 3.2073911 | H297: 204.46982 | I297: 1.3382459 | J297: 0.89460497 | K297: 83 | M297: =I297 -> 1.3382459 | U297: =((((($N$5-$M297)))/0.003)*G297*1000)+(((((($N$5/$O$2)-($M297/$O$2))))/0.003)*G297*1000)*$O$3 -> 13800510 | V297: =((((($O$5-$M297)))/0.003)*G297*1000)+(((((($O$5/$O$2)-($M297/$O$2))))/0.003)*G297*1000)*$O$3 -> 1514345.7 | W297: =((((($P$5-$M297)))/0.003)*G297*1000)+(((((($P$5/$O$2)-($M297/$O$2))))/0.003)*G297*1000)*$O$3 -> 684999.44 | X297: =((((($Q$5-$M297)))/0.003)*G297*1000)+(((((($Q$5/$O$2)-($M297/$O$2))))/0.003)*G297*1000)*$O$3 -> 373868.43 | Y297: =((((($R$5-$M297)))/0.003)*G297*1000)+(((((($R$5/$O$2)-($M297/$O$2))))/0.003)*G297*1000)*$O$3 -> -164240.2 | Z297: =((((($S$5-$M297)))/0.003)*G297*1000)+(((((($S$5/$O$2)-($M297/$O$2))))/0.003)*G297*1000)*$O$3 -> -486940.33

Sheet BAROM IZICARTES
A1: DONNEES DE BASES | M1: CALCULS | V1: NB VENTES NETTES DE CONTRATS PAR ENTITE
M2: NB CEGEE | N2: PNB CEGEE | O2: Taux Moyen | Q2: NB SEMAINES PASSEES | T2: ='[1]CA UC'!O2 -> 44
M3: =SUM(H5:H297) -> 2349.6129 | N3: =SUM(I5:I297) -> 1559.6786 | O3: =N3/M3 -> 0.66380237 | Q3: NB SEMAINES RESTANTES | T3: ='[1]CA UC'!O3 -> 6 | V3: 18 | W3: 19 | X3: 20 | Y3: 21 | Z3: 22 | AA3: 23
B4: Direction | C4: eds | D4: Territoire | E4: eds | F4: Agence | G4: ETP perf au 30/09 | H4: Nb / ETP | I4: PNB / ETP | J4: % Ecart au 1er | K4: Rang | M4: taux moyen de PNB | N4: PNB / ETP | O4: Top 1 | P4: Top 10 | Q4: Top 30 | R4: Top 50 | S4: Top 100 | T4: Moyenne | V4: Atteinte Top1 | W4: Atteinte Top10 | X4: Atteinte Top30 | Y4: Atteinte Top50 | Z4: Atteinte Top100 | AA4: Atteinte Moyenne
A5: 50 | B5: AUBE HAUTE MARNE | C5: 21 | D5: CHAUMONT | E5: 410560 | F5: BOURBONNE LES BAINS | G5: 1.8999519 | H5: 12.10557 | I5: 7.6396671 | J5: 0.78864427 | K5: 62 | M5: =IF(ISERROR(I5/H5),$O$3,(I5/H5)) -> 0.63108696 | N5: =I5 -> 7.6396671 | O5: =VLOOKUP(1,$K$5:$N$297,4,0) -> 36.146013 | P5: =VLOOKUP(10,$K$5:$N$297,4,0) -> 14.481225 | Q5: =VLOOKUP(30,$K$5:$N$297,4,0) -> 9.7444142 | R5: =VLOOKUP(50,$K$5:$N$297,4,0) -> 8.3727543 | S5: =VLOOKUP(100,$K$5:$N$297,4,0) -> 6.0316321 | T5: =VLOOKUP(150,$K$5:$N$297,4,0) -> 4.5181864 | V5: =(((($O$5-N5))/M5)*G5)+((((($O$5-N5)/$T$2))*$T$3/M5)*G5) -> 97.524175 | W5: =(((($P$5-N5))/M5)*G5)+((((($P$5-N5)/$T$2))*$T$3/M5)*G5) -> 23.405922 | X5: =(((($Q$5-N5))/M5)*G5)+((((($Q$5-N5)/$T$2))*$T$3/M5)*G5) -> 7.2006327 | Y5: =(((($R$5-N5))/M5)*G5)+((((($R$5-N5)/$T$2))*$T$3/M5)*G5) -> 2.5079932 | Z5: =(((($S$5-N5))/M5)*G5)+((((($S$5-N5)/$T$2))*$T$3/M5)*G5) -> -5.5013112 | AA5: =(((($T$5-N5))/M5)*G5)+((((($T$5-N5)/$T$2))*$T$3/M5)*G5) -> -10.67902
A6: 50 | B6: AUBE HAUTE MARNE | C6: 21 | D6: CHAUMONT | E6: 410566 | F6: CHAUMONT HOTEL DE VILLE | G6: 9.1914925 | H6: 5.9837943 | I6: 3.8628112 | J6: 0.89313313 | K6: 189 | M6: =IF(ISERROR(I6/H6),$O$3,(I6/H6)) -> 0.64554545 | N6: =I6 -> 3.8628112 | V6: =(((($O$5-N6))/M6)*G6)+((((($O$5-N6)/$T$2))*$T$3/M6)*G6) -> 522.33983 | W6: =(((($P$5-N6))/M6)*G6)+((((($P$5-N6)/$T$2))*$T$3/M6)*G6) -> 171.80515 | X6: =(((($Q$5-N6))/M6)*G6)+((((($Q$5-N6)/$T$2))*$T$3/M6)*G6) -> 95.163904 | Y6: =(((($R$5-N6))/M6)*G6)+((((($R$5-N6)/$T$2))*$T$3/M6)*G6) -> 72.970546 | Z6: =(((($S$5-N6))/M6)*G6)+((((($S$5-N6)/$T$2))*$T$3/M6)*G6) -> 35.091363 | AA6: =(((($T$5-N6))/M6)*G6)+((((($T$5-N6)/$T$2))*$T$3/M6)*G6) -> 10.603923
A7: 50 | B7: AUBE HAUTE MARNE | C7: 21 | D7: CHAUMONT | E7: 510590 | F7: CHAUMONT REPUBLIQUE | G7: 2.4137029 | H7: -1.2429036 | I7: -1.1683294 | J7: 1.0323225 | K7: 290 | M7: =IF(ISERROR(I7/H7),$O$3,(I7/H7)) -> 0.94 | N7: =I7 -> -1.1683294 | V7: =(((($O$5-N7))/M7)*G7)+((((($O$5-N7)/$T$2))*$T$3/M7)*G7) -> 108.88024 | W7: =(((($P$5-N7))/M7)*G7)+((((($P$5-N7)/$T$2))*$T$3/M7)*G7) -> 45.664138 | X7: =(((($Q$5-N7))/M7)*G7)+((((($Q$5-N7)/$T$2))*$T$3/M7)*G7) -> 31.842506 | Y7: =(((($R$5-N7))/M7)*G7)+((((($R$5-N7)/$T$2))*$T$3/M7)*G7) -> 27.840113 | Z7: =(((($S$5-N7))/M7)*G7)+((((($S$5-N7)/$T$2))*$T$3/M7)*G7) -> 21.008907 | AA7: =(((($T$5-N7))/M7)*G7)+((((($T$5-N7)/$T$2))*$T$3/M7)*G7) -> 16.592795
A8: 50 | B8: AUBE HAUTE MARNE | C8: 21 | D8: CHAUMONT | E8: 451154 | F8: JOINVILLE | G8: 2.8152338 | H8: 0.35521029 | I8: 0.046177337 | J8: 0.99872248 | K8: 284 | M8: =IF(ISERROR(I8/H8),$O$3,(I8/H8)) -> 0.13 | N8: =I8 -> 0.046177337 | V8: =(((($O$5-N8))/M8)*G8)+((((($O$5-N8)/$T$2))*$T$3/M8)*G8) -> 888.36956 | W8: =(((($P$5-N8))/M8)*G8)+((((($P$5-N8)/$T$2))*$T$3/M8)*G8) -> 355.22757 | X8: =(((($Q$5-N8))/M8)*G8)+((((($Q$5-N8)/$T$2))*$T$3/M8)*G8) -> 238.66087 | Y8: =(((($R$5-N8))/M8)*G8)+((((($R$5-N8)/$T$2))*$T$3/M8)*G8) -> 204.90612 | Z8: =(((($S$5-N8))/M8)*G8)+((((($S$5-N8)/$T$2))*$T$3/M8)*G8) -> 147.29418 | AA8: =(((($T$5-N8))/M8)*G8)+((((($T$5-N8)/$T$2))*$T$3/M8)*G8) -> 110.05027
A9: 50 | B9: AUBE HAUTE MARNE | C9: 21 | D9: CHAUMONT | E9: 410541 | F9: LANGRES | G9: 6.6773488 | H9: 8.5363221 | I9: 4.871694 | J9: 0.86522182 | K9: 135 | M9: =IF(ISERROR(I9/H9),$O$3,(I9/H9)) -> 0.57070175 | N9: =I9 -> 4.871694 | V9: =(((($O$5-N9))/M9)*G9)+((((($O$5-N9)/$T$2))*$T$3/M9)*G9) -> 415.8149 | W9: =(((($P$5-N9))/M9)*G9)+((((($P$5-N9)/$T$2))*$T$3/M9)*G9) -> 127.76573 | X9: =(((($Q$5-N9))/M9)*G9)+((((($Q$5-N9)/$T$2))*$T$3/M9)*G9) -> 64.786372 | Y9: =(((($R$5-N9))/M9)*G9)+((((($R$5-N9)/$T$2))*$T$3/M9)*G9) -> 46.549152 | Z9: =(((($S$5-N9))/M9)*G9)+((((($S$5-N9)/$T$2))*$T$3/M9)*G9) -> 15.422224 | AA9: =(((($T$5-N9))/M9)*G9)+((((($T$5-N9)/$T$2))*$T$3/M9)*G9) -> -4.7001415
A10: 50 | B10: AUBE HAUTE MARNE | C10: 21 | D10: CHAUMONT | E10: 410582 | F10: NOGENT EN BASSIGNY | G10: 2.0789474 | H10: 9.1392405 | I10: 6.3589873 | J10: 0.824075 | K10: 91 | M10: =IF(ISERROR(I10/H10),$O$3,(I10/H10)) -> 0.69578947 | N10: =I10 -> 6.3589873 | V10: =(((($O$5-N10))/M10)*G10)+((((($O$5-N10)/$T$2))*$T$3/M10)*G10) -> 101.13701 | W10: =(((($P$5-N10))/M10)*G10)+((((($P$5-N10)/$T$2))*$T$3/M10)*G10) -> 27.57774 | X10: =(((($Q$5-N10))/M10)*G10)+((((($Q$5-N10)/$T$2))*$T$3/M10)*G10) -> 11.494667 | Y10: =(((($R$5-N10))/M10)*G10)+((((($R$5-N10)/$T$2))*$T$3/M10)*G10) -> 6.8374186 | Z10: =(((($S$5-N10))/M10)*G10)+((((($S$5-N10)/$T$2))*$T$3/M10)*G10) -> -1.1114814 | AA10: =(((($T$5-N10))/M10)*G10)+((((($T$5-N10)/$T$2))*$T$3/M10)*G10) -> -6.2501407
A11: 50 | B11: AUBE HAUTE MARNE | C11: 21 | D11: CHAUMONT | E11: 451156 | F11: SAINT DIZIER CENTRE | G11: 5.4163614 | H11: 8.6774122 | I11: 5.0781324 | J11: 0.85951058 | K11: 130 | M11: =IF(ISERROR(I11/H11),$O$3,(I11/H11)) -> 0.58521277 | N11: =I11 -> 5.0781324 | V11: =(((($O$5-N11))/M11)*G11)+((((($O$5-N11)/$T$2))*$T$3/M11)*G11) -> 326.75542 | W11: =(((($P$5-N11))/M11)*G11)+((((($P$5-N11)/$T$2))*$T$3/M11)*G11) -> 98.89672 | X11: =(((($Q$5-N11))/M11)*G11)+((((($Q$5-N11)/$T$2))*$T$3/M11)*G11) -> 49.077467 | Y11: =(((($R$5-N11))/M11)*G11)+((((($R$5-N11)/$T$2))*$T$3/M11)*G11) -> 34.651078 | Z11: =(((($S$5-N11))/M11)*G11)+((((($S$5-N11)/$T$2))*$T$3/M11)*G11) -> 10.028403 | AA11: =(((($T$5-N11))/M11)*G11)+((((($T$5-N11)/$T$2))*$T$3/M11)*G11) -> -5.8892134
A12: 50 | B12: AUBE HAUTE MARNE | C12: 21 | D12: CHAUMONT | E12: 551157 | F12: SAINT DIZIER EUROPE | G12: 2.5347178 | H12: 9.4685096 | I12: 5.0912965 | J12: 0.85914639 | K12: 127 | M12: =IF(ISERROR(I12/H12),$O$3,(I12/H12)) -> 0.53770833 | N12: =I12 -> 5.0912965 | V12: =(((($O$5-N12))/M12)*G12)+((((($O$5-N12)/$T$2))*$T$3/M12)*G12) -> 166.35189 | W12: =(((($P$5-N12))/M12)*G12)+((((($P$5-N12)/$T$2))*$T$3/M12)*G12) -> 50.299361 | X12: =(((($Q$5-N12))/M12)*G12)+((((($Q$5-N12)/$T$2))*$T$3/M12)*G12) -> 24.92552 | Y12: =(((($R$5-N12))/M12)*G12)+((((($R$5-N12)/$T$2))*$T$3/M12)*G12) -> 17.5779 | Z12: =(((($S$5-N12))/M12)*G12)+((((($S$5-N12)/$T$2))*$T$3/M12)*G12) -> 5.037129 | AA12: =(((($T$5-N12))/M12)*G12)+((((($T$5-N12)/$T$2))*$T$3/M12)*G12) -> -3.0699991
A13: 50 | B13: AUBE HAUTE MARNE | C13: 21 | D13: CHAUMONT | E13: 451151 | F13: WASSY | G13: 2.8184252 | H13: 7.8057776 | I13: 5.5066213 | J13: 0.84765619 | K13: 114 | M13: =IF(ISERROR(I13/H13),$O$3,(I13/H13)) -> 0.70545455 | N13: =I13 -> 5.5066213 | V13: =(((($O$5-N13))/M13)*G13)+((((($O$5-N13)/$T$2))*$T$3/M13)*G13) -> 139.1025 | W13: =(((($P$5-N13))/M13)*G13)+((((($P$5-N13)/$T$2))*$T$3/M13)*G13) -> 40.744603 | X13: =(((($Q$5-N13))/M13)*G13)+((((($Q$5-N13)/$T$2))*$T$3/M13)*G13) -> 19.239533 | Y13: =(((($R$5-N13))/M13)*G13)+((((($R$5-N13)/$T$2))*$T$3/M13)*G13) -> 13.012212 | Z13: =(((($S$5-N13))/M13)*G13)+((((($S$5-N13)/$T$2))*$T$3/M13)*G13) -> 2.3835435 | AA13: =(((($T$5-N13))/M13)*G13)+((((($T$5-N13)/$T$2))*$T$3/M13)*G13) -> -4.4874835
A14: 50 | B14: AUBE HAUTE MARNE | C14: 14 | D14: TROYES | E14: 510530 | F14: ARCIS SUR AUBE | G14: 3.6851069 | H14: 6.5127011 | I14: 4.5181864 | J14: 0.87500181 | K14: 150 | M14: =IF(ISERROR(I14/H14),$O$3,(I14/H14)) -> 0.69375 | N14: =I14 -> 4.5181864 | V14: =(((($O$5-N14))/M14)*G14)+((((($O$5-N14)/$T$2))*$T$3/M14)*G14) -> 190.91224 | W14: =(((($P$5-N14))/M14)*G14)+((((($P$5-N14)/$T$2))*$T$3/M14)*G14) -> 60.139006 | X14: =(((($Q$5-N14))/M14)*G14)+((((($Q$5-N14)/$T$2))*$T$3/M14)*G14) -> 31.546615 | Y14: =(((($R$5-N14))/M14)*G14)+((((($R$5-N14)/$T$2))*$T$3/M14)*G14) -> 23.266986 | Z14: =(((($S$5-N14))/M14)*G14)+((((($S$5-N14)/$T$2))*$T$3/M14)*G14) -> 9.1354781 | AA14: =(((($T$5-N14))/M14)*G14)+((((($T$5-N14)/$T$2))*$T$3/M14)*G14) -> 0
A15: 50 | B15: AUBE HAUTE MARNE | C15: 14 | D15: TROYES | E15: 410550 | F15: BAR SUR AUBE | G15: 2.988084 | H15: 2.6773009 | I15: 1.8573775 | J15: 0.9486146 | K15: 243 | M15: =IF(ISERROR(I15/H15),$O$3,(I15/H15)) -> 0.69375 | N15: =I15 -> 1.8573775 | V15: =(((($O$5-N15))/M15)*G15)+((((($O$5-N15)/$T$2))*$T$3/M15)*G15) -> 167.82527 | W15: =(((($P$5-N15))/M15)*G15)+((((($P$5-N15)/$T$2))*$T$3/M15)*G15) -> 61.787253 | X15: =(((($Q$5-N15))/M15)*G15)+((((($Q$5-N15)/$T$2))*$T$3/M15)*G15) -> 38.602995 | Y15: =(((($R$5-N15))/M15)*G15)+((((($R$5-N15)/$T$2))*$T$3/M15)*G15) -> 31.889424 | Z15: =(((($S$5-N15))/M15)*G15)+((((($S$5-N15)/$T$2))*$T$3/M15)*G15) -> 20.430833 | AA15: =(((($T$5-N15))/M15)*G15)+((((($T$5-N15)/$T$2))*$T$3/M15)*G15) -> 13.023293
A16: 50 | B16: AUBE HAUTE MARNE | C16: 14 | D16: TROYES | E16: 510556 | F16: BAR SUR SEINE | G16: 3.7318809 | H16: 4.5553436 | I16: 3.0092064 | J16: 0.91674859 | K16: 215 | M16: =IF(ISERROR(I16/H16),$O$3,(I16/H16)) -> 0.66058824 | N16: =I16 -> 3.0092064 | V16: =(((($O$5-N16))/M16)*G16)+((((($O$5-N16)/$T$2))*$T$3/M16)*G16) -> 212.72813 | W16: =(((($P$5-N16))/M16)*G16)+((((($P$5-N16)/$T$2))*$T$3/M16)*G16) -> 73.64684 | X16: =(((($Q$5-N16))/M16)*G16)+((((($Q$5-N16)/$T$2))*$T$3/M16)*G16) -> 43.237968 | Y16: =(((($R$5-N16))/M16)*G16)+((((($R$5-N16)/$T$2))*$T$3/M16)*G16) -> 34.432332 | Z16: =(((($S$5-N16))/M16)*G16)+((((($S$5-N16)/$T$2))*$T$3/M16)*G16) -> 19.403046 | AA16: =(((($T$5-N16))/M16)*G16)+((((($T$5-N16)/$T$2))*$T$3/M16)*G16) -> 9.6871885
A17: 50 | B17: AUBE HAUTE MARNE | C17: 14 | D17: TROYES | E17: 410551 | F17: BRIENNE LE CHÂTEAU | G17: 2.4135234 | H17: 7.872308 | I17: 4.576297 | J17: 0.87339414 | K17: 148 | M17: =IF(ISERROR(I17/H17),$O$3,(I17/H17)) -> 0.58131579 | N17: =I17 -> 4.576297 | V17: =(((($O$5-N17))/M17)*G17)+((((($O$5-N17)/$T$2))*$T$3/M17)*G17) -> 148.94551 | W17: =(((($P$5-N17))/M17)*G17)+((((($P$5-N17)/$T$2))*$T$3/M17)*G17) -> 46.731321 | X17: =(((($Q$5-N17))/M17)*G17)+((((($Q$5-N17)/$T$2))*$T$3/M17)*G17) -> 24.38311 | Y17: =(((($R$5-N17))/M17)*G17)+((((($R$5-N17)/$T$2))*$T$3/M17)*G17) -> 17.911636 | Z17: =(((($S$5-N17))/M17)*G17)+((((($S$5-N17)/$T$2))*$T$3/M17)*G17) -> 6.8662523 | AA17: =(((($T$5-N17))/M17)*G17)+((((($T$5-N17)/$T$2))*$T$3/M17)*G17) -> -0.27416488
... A297: 80 | B297: VOSGES | C297: 55 | D297: SAINT DIE | E297: 588666 | F297: VAGNEY | G297: 3.2073911 | H297: 17.147893 | I297: 11.202251 | J297: 0.69008337 | K297: 22 | M297: =IF(ISERROR(I297/H297),$O$3,(I297/H297)) -> 0.65327273 | N297: =I297 -> 11.202251 | V297: =(((($O$5-N297))/M297)*G297)+((((($O$5-N297)/$T$2))*$T$3/M297)*G297) -> 139.16714 | W297: =(((($P$5-N297))/M297)*G297)+((((($P$5-N297)/$T$2))*$T$3/M297)*G297) -> 18.294171 | X297: =(((($Q$5-N297))/M297)*G297)+((((($Q$5-N297)/$T$2))*$T$3/M297)*G297) -> -8.133614 | Y297: =(((($R$5-N297))/M297)*G297)+((((($R$5-N297)/$T$2))*$T$3/M297)*G297) -> -15.786429 | Z297: =(((($S$5-N297))/M297)*G297)+((((($S$5-N297)/$T$2))*$T$3/M297)*G297) -> -28.848101 | AA297: =(((($T$5-N297))/M297)*G297)+((((($T$5-N297)/$T$2))*$T$3/M297)*G297) -> -37.291972

Sheet BAROM CARTES HDG
A1: DONNEES DE BASES | M1: CALCULS | V1: NB VENTES NETTES DE CONTRATS PAR ENTITE
M2: NB CEGEE | N2: PNB CEGEE | O2: Taux Moyen | Q2: NB SEMAINES PASSEES | T2: ='[1]CA UC'!O2 -> 44
M3: =SUM(H5:H297) -> 3821.8249 | N3: =SUM(I5:I297) -> 2572.7264 | O3: =N3/M3 -> 0.67316699 | Q3: NB SEMAINES RESTANTES | T3: ='[1]CA UC'!O3 -> 6 | V3: 18 | W3: 19 | X3: 20 | Y3: 21 | Z3: 22 | AA3: 23
B4: Direction | C4: eds | D4: Territoire | E4: eds | F4: Agence | G4: ETP perf au 30/09 | H4: Nb / ETP | I4: PNB / ETP | J4: % Ecart au 1er | K4: Rang | M4: taux moyen de PNB | N4: PNB / ETP | O4: Top 1 | P4: Top 10 | Q4: Top 30 | R4: Top 50 | S4: Top 100 | T4: Moyenne | V4: Atteinte Top1 | W4: Atteinte Top10 | X4: Atteinte Top30 | Y4: Atteinte Top50 | Z4: Atteinte Top100 | AA4: Atteinte Moyenne
A5: 50 | B5: AUBE HAUTE MARNE | C5: 21 | D5: CHAUMONT | E5: 410560 | F5: BOURBONNE LES BAINS | G5: 1.8999519 | H5: 15.789873 | I5: 10.263418 | J5: 0.76835463 | K5: 99 | M5: =IF(ISERROR(I5/H5),$O$3,(I5/H5)) -> 0.65 | N5: =I5 -> 10.263418 | O5: =VLOOKUP(1,$K$5:$N$297,4,0) -> 44.306595 | P5: =VLOOKUP(10,$K$5:$N$297,4,0) -> 20.421582 | Q5: =VLOOKUP(30,$K$5:$N$297,4,0) -> 15.916228 | R5: =VLOOKUP(50,$K$5:$N$297,4,0) -> 13.378568 | S5: =VLOOKUP(100,$K$5:$N$297,4,0) -> 10.227718 | T5: =VLOOKUP(150,$K$5:$N$297,4,0) -> 7.8747089 | V5: =(((($O$5-N5))/M5)*G5)+((((($O$5-N5)/$T$2))*$T$3/M5)*G5) -> 113.07762 | W5: =(((($P$5-N5))/M5)*G5)+((((($P$5-N5)/$T$2))*$T$3/M5)*G5) -> 33.741298 | X5: =(((($Q$5-N5))/M5)*G5)+((((($Q$5-N5)/$T$2))*$T$3/M5)*G5) -> 18.776341 | Y5: =(((($R$5-N5))/M5)*G5)+((((($R$5-N5)/$T$2))*$T$3/M5)*G5) -> 10.347266 | Z5: =(((($S$5-N5))/M5)*G5)+((((($S$5-N5)/$T$2))*$T$3/M5)*G5) -> -0.11858021 | AA5: =(((($T$5-N5))/M5)*G5)+((((($T$5-N5)/$T$2))*$T$3/M5)*G5) -> -7.9343213
A6: 50 | B6: AUBE HAUTE MARNE | C6: 21 | D6: CHAUMONT | E6: 410566 | F6: CHAUMONT HOTEL DE VILLE | G6: 9.1914925 | H6: 15.12268 | I6: 10.46348 | J6: 0.76383922 | K6: 94 | M6: =IF(ISERROR(I6/H6),$O$3,(I6/H6)) -> 0.69190647 | N6: =I6 -> 10.46348 | V6: =(((($O$5-N6))/M6)*G6)+((((($O$5-N6)/$T$2))*$T$3/M6)*G6) -> 510.8887 | W6: =(((($P$5-N6))/M6)*G6)+((((($P$5-N6)/$T$2))*$T$3/M6)*G6) -> 150.32545 | X6: =(((($Q$5-N6))/M6)*G6)+((((($Q$5-N6)/$T$2))*$T$3/M6)*G6) -> 82.313555 | Y6: =(((($R$5-N6))/M6)*G6)+((((($R$5-N6)/$T$2))*$T$3/M6)*G6) -> 44.005571 | Z6: =(((($S$5-N6))/M6)*G6)+((((($S$5-N6)/$T$2))*$T$3/M6)*G6) -> -3.5590191 | AA6: =(((($T$5-N6))/M6)*G6)+((((($T$5-N6)/$T$2))*$T$3/M6)*G6) -> -39.079559
A7: 50 | B7: AUBE HAUTE MARNE | C7: 21 | D7: CHAUMONT | E7: 510590 | F7: CHAUMONT REPUBLIQUE | G7: 2.4137029 | H7: -5.8002167 | I7: -3.7701409 | J7: 1.0850921 | K7: 293 | M7: =IF(ISERROR(I7/H7),$O$3,(I7/H7)) -> 0.65 | N7: =I7 -> -3.7701409 | V7: =(((($O$5-N7))/M7)*G7)+((((($O$5-N7)/$T$2))*$T$3/M7)*G7) -> 202.8723 | W7: =(((($P$5-N7))/M7)*G7)+((((($P$5-N7)/$T$2))*$T$3/M7)*G7) -> 102.08327 | X7: =(((($Q$5-N7))/M7)*G7)+((((($Q$5-N7)/$T$2))*$T$3/M7)*G7) -> 83.071757 | Y7: =(((($R$5-N7))/M7)*G7)+((((($R$5-N7)/$T$2))*$T$3/M7)*G7) -> 72.363443 | Z7: =(((($S$5-N7))/M7)*G7)+((((($S$5-N7)/$T$2))*$T$3/M7)*G7) -> 59.067609 | AA7: =(((($T$5-N7))/M7)*G7)+((((($T$5-N7)/$T$2))*$T$3/M7)*G7) -> 49.138475
A8: 50 | B8: AUBE HAUTE MARNE | C8: 21 | D8: CHAUMONT | E8: 451154 | F8: JOINVILLE | G8: 2.8152338 | H8: -1.0656309 | I8: -0.44401286 | J8: 1.0100214 | K8: 290 | M8: =IF(ISERROR(I8/H8),$O$3,(I8/H8)) -> 0.41666667 | N8: =I8 -> -0.44401286 | V8: =(((($O$5-N8))/M8)*G8)+((((($O$5-N8)/$T$2))*$T$3/M8)*G8) -> 343.59115 | W8: =(((($P$5-N8))/M8)*G8)+((((($P$5-N8)/$T$2))*$T$3/M8)*G8) -> 160.20416 | X8: =(((($Q$5-N8))/M8)*G8)+((((($Q$5-N8)/$T$2))*$T$3/M8)*G8) -> 125.61246 | Y8: =(((($R$5-N8))/M8)*G8)+((((($R$5-N8)/$T$2))*$T$3/M8)*G8) -> 106.12854 | Z8: =(((($S$5-N8))/M8)*G8)+((((($S$5-N8)/$T$2))*$T$3/M8)*G8) -> 81.936592 | AA8: =(((($T$5-N8))/M8)*G8)+((((($T$5-N8)/$T$2))*$T$3/M8)*G8) -> 63.8704
A9: 50 | B9: AUBE HAUTE MARNE | C9: 21 | D9: CHAUMONT | E9: 410541 | F9: LANGRES | G9: 6.6773488 | H9: 5.6908814 | I9: 3.8039049 | J9: 0.91414585 | K9: 242 | M9: =IF(ISERROR(I9/H9),$O$3,(I9/H9)) -> 0.66842105 | N9: =I9 -> 3.8039049 | V9: =(((($O$5-N9))/M9)*G9)+((((($O$5-N9)/$T$2))*$T$3/M9)*G9) -> 459.78536 | W9: =(((($P$5-N9))/M9)*G9)+((((($P$5-N9)/$T$2))*$T$3/M9)*G9) -> 188.64338 | X9: =(((($Q$5-N9))/M9)*G9)+((((($Q$5-N9)/$T$2))*$T$3/M9)*G9) -> 137.49874 | Y9: =(((($R$5-N9))/M9)*G9)+((((($R$5-N9)/$T$2))*$T$3/M9)*G9) -> 108.6913 | Z9: =(((($S$5-N9))/M9)*G9)+((((($S$5-N9)/$T$2))*$T$3/M9)*G9) -> 72.922938 | AA9: =(((($T$5-N9))/M9)*G9)+((((($T$5-N9)/$T$2))*$T$3/M9)*G9) -> 46.211649
A10: 50 | B10: AUBE HAUTE MARNE | C10: 21 | D10: CHAUMONT | E10: 410582 | F10: NOGENT EN BASSIGNY | G10: 2.0789474 | H10: 12.506329 | I10: 8.1291139 | J10: 0.81652587 | K10: 145 | M10: =IF(ISERROR(I10/H10),$O$3,(I10/H10)) -> 0.65 | N10: =I10 -> 8.1291139 | V10: =(((($O$5-N10))/M10)*G10)+((((($O$5-N10)/$T$2))*$T$3/M10)*G10) -> 131.4879 | W10: =(((($P$5-N10))/M10)*G10)+((((($P$5-N10)/$T$2))*$T$3/M10)*G10) -> 44.677261 | X10: =(((($Q$5-N10))/M10)*G10)+((((($Q$5-N10)/$T$2))*$T$3/M10)*G10) -> 28.302447 | Y10: =(((($R$5-N10))/M10)*G10)+((((($R$5-N10)/$T$2))*$T$3/M10)*G10) -> 19.079265 | Z10: =(((($S$5-N10))/M10)*G10)+((((($S$5-N10)/$T$2))*$T$3/M10)*G10) -> 7.6274253 | AA10: =(((($T$5-N10))/M10)*G10)+((((($T$5-N10)/$T$2))*$T$3/M10)*G10) -> -0.92464084
A11: 50 | B11: AUBE HAUTE MARNE | C11: 21 | D11: CHAUMONT | E11: 451156 | F11: SAINT DIZIER CENTRE | G11: 5.4163614 | H11: 12.000676 | I11: 7.8004397 | J11: 0.82394405 | K11: 154 | M11: =IF(ISERROR(I11/H11),$O$3,(I11/H11)) -> 0.65 | N11: =I11 -> 7.8004397 | V11: =(((($O$5-N11))/M11)*G11)+((((($O$5-N11)/$T$2))*$T$3/M11)*G11) -> 345.68275 | W11: =(((($P$5-N11))/M11)*G11)+((((($P$5-N11)/$T$2))*$T$3/M11)*G11) -> 119.51165 | X11: =(((($Q$5-N11))/M11)*G11)+((((($Q$5-N11)/$T$2))*$T$3/M11)*G11) -> 76.849722 | Y11: =(((($R$5-N11))/M11)*G11)+((((($R$5-N11)/$T$2))*$T$3/M11)*G11) -> 52.820211 | Z11: =(((($S$5-N11))/M11)*G11)+((((($S$5-N11)/$T$2))*$T$3/M11)*G11) -> 22.984294 | AA11: =(((($T$5-N11))/M11)*G11)+((((($T$5-N11)/$T$2))*$T$3/M11)*G11) -> 0.70326806
A12: 50 | B12: AUBE HAUTE MARNE | C12: 21 | D12: CHAUMONT | E12: 551157 | F12: SAINT DIZIER EUROPE | G12: 2.5347178 | H12: 13.019201 | I12: 8.965495 | J12: 0.79764875 | K12: 119 | M12: =IF(ISERROR(I12/H12),$O$3,(I12/H12)) -> 0.68863636 | N12: =I12 -> 8.965495 | V12: =(((($O$5-N12))/M12)*G12)+((((($O$5-N12)/$T$2))*$T$3/M12)*G12) -> 147.82131 | W12: =(((($P$5-N12))/M12)*G12)+((((($P$5-N12)/$T$2))*$T$3/M12)*G12) -> 47.917404 | X12: =(((($Q$5-N12))/M12)*G12)+((((($Q$5-N12)/$T$2))*$T$3/M12)*G12) -> 29.072848 | Y12: =(((($R$5-N12))/M12)*G12)+((((($R$5-N12)/$T$2))*$T$3/M12)*G12) -> 18.458574 | Z12: =(((($S$5-N12))/M12)*G12)+((((($S$5-N12)/$T$2))*$T$3/M12)*G12) -> 5.2795032 | AA12: =(((($T$5-N12))/M12)*G12)+((((($T$5-N12)/$T$2))*$T$3/M12)*G12) -> -4.5624338
A13: 50 | B13: AUBE HAUTE MARNE | C13: 21 | D13: CHAUMONT | E13: 451151 | F13: WASSY | G13: 2.8184252 | H13: 13.127899 | I13: 8.7814998 | J13: 0.80180152 | K13: 125 | M13: =IF(ISERROR(I13/H13),$O$3,(I13/H13)) -> 0.66891892 | N13: =I13 -> 8.7814998 | V13: =(((($O$5-N13))/M13)*G13)+((((($O$5-N13)/$T$2))*$T$3/M13)*G13) -> 170.09267 | W13: =(((($P$5-N13))/M13)*G13)+((((($P$5-N13)/$T$2))*$T$3/M13)*G13) -> 55.732226 | X13: =(((($Q$5-N13))/M13)*G13)+((((($Q$5-N13)/$T$2))*$T$3/M13)*G13) -> 34.16078 | Y13: =(((($R$5-N13))/M13)*G13)+((((($R$5-N13)/$T$2))*$T$3/M13)*G13) -> 22.010572 | Z13: =(((($S$5-N13))/M13)*G13)+((((($S$5-N13)/$T$2))*$T$3/M13)*G13) -> 6.9244322 | AA13: =(((($T$5-N13))/M13)*G13)+((((($T$5-N13)/$T$2))*$T$3/M13)*G13) -> -4.3416767
A14: 50 | B14: AUBE HAUTE MARNE | C14: 14 | D14: TROYES | E14: 510530 | F14: ARCIS SUR AUBE | G14: 3.6851069 | H14: 13.296765 | I14: 8.9278278 | J14: 0.7984989 | K14: 121 | M14: =IF(ISERROR(I14/H14),$O$3,(I14/H14)) -> 0.67142857 | N14: =I14 -> 8.9278278 | V14: =(((($O$5-N14))/M14)*G14)+((((($O$5-N14)/$T$2))*$T$3/M14)*G14) -> 220.65324 | W14: =(((($P$5-N14))/M14)*G14)+((((($P$5-N14)/$T$2))*$T$3/M14)*G14) -> 71.685199 | X14: =(((($Q$5-N14))/M14)*G14)+((((($Q$5-N14)/$T$2))*$T$3/M14)*G14) -> 43.585834 | Y14: =(((($R$5-N14))/M14)*G14)+((((($R$5-N14)/$T$2))*$T$3/M14)*G14) -> 27.758749 | Z14: =(((($S$5-N14))/M14)*G14)+((((($S$5-N14)/$T$2))*$T$3/M14)*G14) -> 8.107263 | AA14: =(((($T$5-N14))/M14)*G14)+((((($T$5-N14)/$T$2))*$T$3/M14)*G14) -> -6.568179
A15: 50 | B15: AUBE HAUTE MARNE | C15: 14 | D15: TROYES | E15: 410550 | F15: BAR SUR AUBE | G15: 2.988084 | H15: 9.7052156 | I15: 6.4255221 | J15: 0.85497595 | K15: 188 | M15: =IF(ISERROR(I15/H15),$O$3,(I15/H15)) -> 0.66206897 | N15: =I15 -> 6.4255221 | V15: =(((($O$5-N15))/M15)*G15)+((((($O$5-N15)/$T$2))*$T$3/M15)*G15) -> 194.28048 | W15: =(((($P$5-N15))/M15)*G15)+((((($P$5-N15)/$T$2))*$T$3/M15)*G15) -> 71.781526 | X15: =(((($Q$5-N15))/M15)*G15)+((((($Q$5-N15)/$T$2))*$T$3/M15)*G15) -> 48.674938 | Y15: =(((($R$5-N15))/M15)*G15)+((((($R$5-N15)/$T$2))*$T$3/M15)*G15) -> 35.660056 | Z15: =(((($S$5-N15))/M15)*G15)+((((($S$5-N15)/$T$2))*$T$3/M15)*G15) -> 19.500304 | AA15: =(((($T$5-N15))/M15)*G15)+((((($T$5-N15)/$T$2))*$T$3/M15)*G15) -> 7.432438
A16: 50 | B16: AUBE HAUTE MARNE | C16: 14 | D16: TROYES | E16: 510556 | F16: BAR SUR SEINE | G16: 3.7318809 | H16: 7.5029189 | I16: 5.406121 | J16: 0.87798383 | K16: 209 | M16: =IF(ISERROR(I16/H16),$O$3,(I16/H16)) -> 0.72053571 | N16: =I16 -> 5.406121 | V16: =(((($O$5-N16))/M16)*G16)+((((($O$5-N16)/$T$2))*$T$3/M16)*G16) -> 228.95202 | W16: =(((($P$5-N16))/M16)*G16)+((((($P$5-N16)/$T$2))*$T$3/M16)*G16) -> 88.374761 | X16: =(((($Q$5-N16))/M16)*G16)+((((($Q$5-N16)/$T$2))*$T$3/M16)*G16) -> 61.85812 | Y16: =(((($R$5-N16))/M16)*G16)+((((($R$5-N16)/$T$2))*$T$3/M16)*G16) -> 46.922512 | Z16: =(((($S$5-N16))/M16)*G16)+((((($S$5-N16)/$T$2))*$T$3/M16)*G16) -> 28.377916 | AA16: =(((($T$5-N16))/M16)*G16)+((((($T$5-N16)/$T$2))*$T$3/M16)*G16) -> 14.529083
A17: 50 | B17: AUBE HAUTE MARNE | C17: 14 | D17: TROYES | E17: 410551 | F17: BRIENNE LE CHÂTEAU | G17: 2.4135234 | H17: 12.015628 | I17: 7.8101582 | J17: 0.8237247 | K17: 153 | M17: =IF(ISERROR(I17/H17),$O$3,(I17/H17)) -> 0.65 | N17: =I17 -> 7.8101582 | V17: =(((($O$5-N17))/M17)*G17)+((((($O$5-N17)/$T$2))*$T$3/M17)*G17) -> 153.99477 | W17: =(((($P$5-N17))/M17)*G17)+((((($P$5-N17)/$T$2))*$T$3/M17)*G17) -> 53.213227 | X17: =(((($Q$5-N17))/M17)*G17)+((((($Q$5-N17)/$T$2))*$T$3/M17)*G17) -> 34.203127 | Y17: =(((($R$5-N17))/M17)*G17)+((((($R$5-N17)/$T$2))*$T$3/M17)*G17) -> 23.495609 | Z17: =(((($S$5-N17))/M17)*G17)+((((($S$5-N17)/$T$2))*$T$3/M17)*G17) -> 10.200764 | AA17: =(((($T$5-N17))/M17)*G17)+((((($T$5-N17)/$T$2))*$T$3/M17)*G17) -> 0.27236827
... A297: 80 | B297: VOSGES | C297: 55 | D297: SAINT DIE | E297: 588666 | F297: VAGNEY | G297: 3.2073911 | H297: 30.242648 | I297: 20.421582 | J297: 0.53908484 | K297: 10 | M297: =IF(ISERROR(I297/H297),$O$3,(I297/H297)) -> 0.67525773 | N297: =I297 -> 20.421582 | V297: =(((($O$5-N297))/M297)*G297)+((((($O$5-N297)/$T$2))*$T$3/M297)*G297) -> 128.92145 | W297: =(((($P$5-N297))/M297)*G297)+((((($P$5-N297)/$T$2))*$T$3/M297)*G297) -> 0 | X297: =(((($Q$5-N297))/M297)*G297)+((((($Q$5-N297)/$T$2))*$T$3/M297)*G297) -> -24.318041 | Y297: =(((($R$5-N297))/M297)*G297)+((((($R$5-N297)/$T$2))*$T$3/M297)*G297) -> -38.01528 | Z297: =(((($S$5-N297))/M297)*G297)+((((($S$5-N297)/$T$2))*$T$3/M297)*G297) -> -55.022271 | AA297: =(((($T$5-N297))/M297)*G297)+((((($T$5-N297)/$T$2))*$T$3/M297)*G297) -> -67.722842

Sheet S45

Sheet S46

Sheet S47

Sheet S48

Sheet S49

Sheet S50

Sheet Coller ici dernier suivi PV
A2: REGIONS | B2: TERRITOIRES | C2: AGENCES | D2: ETP Perf moyen annuel | F2: Taux PV sais. (max 9%) | G2: Taux PV annuel (max 9%) | I2: Nb items > 100% de l'objectif sais. | J2: Nb items > 100% de l'objectif annuel | L2: Excédents de collecte yc DAV depuis le 01/01 (en K€) | X2: Engagements nets Crédit Conso depuis le 01/01 (en K€) avec coefficients | AH2: Ventes brutes IARD / Prévoyance depuis le 01/01 avec coefficients | AR2: Nombre brut Mandats Mobilité depuis le 01/01 avec coefficients | BB2: Ventes brutes Forfaits depuis le 01/01 avec coefficients | BL2: Complétude DRC Stock et Traitement RPM Risques majeurs
L3: EMJ au 09/20 & Exc. hors DAV au 30/10/20 - Saisonnalité attendue : 91% - Tx PV max : 1% | X3: Au 27/10/20 - Saisonnalité attendue : 91% - Tx PV max : 2% | AH3: Au 28/10/20 - Saisonnalité attendue : 91% - Tx PV max : 2% | AR3: Au 25/10/20 - Saisonnalité attendue : 91% - Tx PV max : 1% | BB3: Au 28/10/20 - Saisonnalité attendue : 91% - Tx PV max : 2% | BL3: DRC arretés à fin 09/2020 - RPM arrêtés à fin 08/2020
L4: EMJ DAV / M-12 | M4: Exc. hors DAV J-1 | N4: Exc. yc DAV (M-12) | O4: Réal. / ETP | P4: Obj / ETP | Q4: % Réal. | R4: Ecart / 120% de l'attendu | S4: Taux PV sais. | T4: Taux PV | U4: RàF pour 100% | V4: RàF pour 120% | X4: Engag. nets Conso | Y4: Réal. / ETP | Z4: Obj / ETP | AA4: % Réal. | AB4: Ecart / 120% de l'attendu | AC4: Taux PV sais. | AD4: Taux PV | AE4: RàF pour 100% | AF4: RàF pour 120% | AH4: VB Iard Prev | AI4: Réal. / ETP | AJ4: Obj / ETP | AK4: % Réal. | AL4: Ecart / 120% de l'attendu | AM4: Taux PV sais. | AN4: Taux PV | AO4: RàF pour 100% | AP4: RàF pour 120% | AR4: Nb Mob | AS4: Réal. / ETP | AT4: Obj / ETP | AU4: % Réal. | AV4: Ecart / 120% de l'attendu | AW4: Taux PV sais. | AX4: Taux PV | AY4: RàF pour 100% | AZ4: RàF pour 120% | BB4: VB Forf | BC4: Réal. / ETP | BD4: Obj / ETP | BE4: % Réal. | BF4: Ecart / 120% de l'attendu | BG4: Taux PV sais. | BH4: Taux PV | BI4: RàF pour 100% | BJ4: RàF pour 120% | BL4: Obj DRC | BM4: Taux compl. DRC | BN4: Taux PV | BO4: Obj RPM | BP4: Taux trait. RPM | BQ4: Taux PV
D5: Au 09/20 | F5: info | G5: info | I5: info | J5: info
A6: AUBE HAUTE MARNE | B6: CHAUMONT | C6: BOURBONNE LES BAINS | D6: 1.8999519 | F6: 0.042 | G6: 0.024 | I6: 5 | J6: 4 | L6: 60.83846 | M6: 260.94431 | N6: 321.78277 | O6: 169.36364 | P6: 234.656 | Q6: 0.72175286 | R6: -165.06917 | U6: 125 | V6: 214 | X6: 1529.2224 | Y6: 804.87429 | Z6: 573 | AA6: 1.4046672 | AB6: 340.39213 | AC6: 0.02 | AD6: 0.02 | AE6: 0 | AF6: 0 | AH6: 116.1 | AI6: 61.10681 | AJ6: 63 | AK6: 0.96994937 | AL6: -14.609091 | AM6: 0.007 | AO6: 4 | AP6: 28 | AR6: 20.2 | AS6: 10.631848 | AT6: 16 | AU6: 0.66449051 | AV6: -12.99596 | AY6: 11 | AZ6: 17 | BB6: 63.4 | BC6: 33.369266 | BD6: 32 | BE6: 1.0427896 | BF6: -2.9919192 | BG6: 0.015 | BH6: 0.004 | BI6: 0 | BJ6: 10 | BL6: 0.8 | BM6: 0.84 | BN6: 0.0015 | BO6: 0.95 | BP6: 1 | BQ6: 0.0025
A7: AUBE HAUTE MARNE | B7: CHAUMONT | C7: CHAUMONT HOTEL DE VILLE | D7: 9.1914925 | F7: 0.05 | G7: 0.041 | I7: 5 | J7: 5 | L7: 3383.2582 | M7: 5954.9999 | N7: 9338.2581 | O7: 1015.9676 | P7: 244.074 | Q7: 4.162539 | R7: 6888.4606 | S7: 0.01 | T7: 0.01 | U7: 0 | V7: 0 | X7: 5839.9163 | Y7: 635.36105 | Z7: 573 | AA7: 1.1088325 | AB7: 88.652375 | AC7: 0.02 | AD7: 0.011 | AE7: 0 | AF7: 481 | AH7: 460.15 | AI7: 50.062599 | AJ7: 63 | AK7: 0.79464442 | AL7: -172.18792 | AO7: 119 | AP7: 235 | AR7: 71.7 | AS7: 7.8006918 | AT7: 16 | AU7: 0.48754324 | AV7: -88.893757 | AY7: 76 | AZ7: 105 | BB7: 369 | BC7: 40.14582 | BD7: 32 | BE7: 1.2545569 | BF7: 47.812486 | BG7: 0.02 | BH7: 0.02 | BI7: 0 | BJ7: 0 | BL7: 0.8 | BM7: 0.82 | BN7: 0.00075 | BO7: 0.95 | BP7: 1 | BQ7: 0.0025
A8: AUBE HAUTE MARNE | B8: CHAUMONT | C8: CHAUMONT REPUBLIQUE | D8: 2.4137029 | F8: 0.053 | G8: 0.05 | I8: 6 | J8: 5 | L8: 963.30572 | M8: 715.49804 | N8: 1678.8038 | O8: 695.5304 | P8: 214.665 | Q8: 3.2400736 | R8: 1112.9976 | S8: 0.01 | T8: 0.01 | U8: 0 | V8: 0 | X8: 2162.5623 | Y8: 895.95216 | Z8: 573 | AA8: 1.5636163 | AB8: 652.26981 | AC8: 0.02 | AD8: 0.02 | AE8: 0 | AF8: 0 | AH8: 102.85 | AI8: 42.610878 | AJ8: 63 | AK8: 0.67636314 | AL8: -63.203106 | AO8: 50 | AP8: 80 | AR8: 37.1 | AS8: 15.370574 | AT8: 16 | AU8: 0.96066089 | AV8: -5.0722173 | AW8: 0.003 | AY8: 2 | AZ8: 10 | BB8: 104.8 | BC8: 43.418765 | BD8: 32 | BE8: 1.3568364 | BF8: 20.455565 | BG8: 0.02 | BH8: 0.02 | BI8: 0 | BJ8: 0 | BL8: 0.8 | BM8: 0.88 | BN8: 0.003 | BO8: 0.95 | BP8: 1 | BQ8: 0.0025
A9: AUBE HAUTE MARNE | B9: CHAUMONT | C9: JOINVILLE | D9: 2.8152338 | F9: 0.001 | I9: 3 | J9: 2 | L9: 853.57285 | M9: -737.29097 | N9: 116.28188 | O9: 41.30452 | P9: 212.5 | Q9: 0.19437421 | R9: -536.99312 | U9: 482 | V9: 602 | X9: 1484.1061 | Y9: 527.16977 | Z9: 573 | AA9: 0.92001705 | AB9: -277.43068 | AC9: 0.001 | AE9: 130 | AF9: 452 | AH9: 96 | AI9: 34.100188 | AJ9: 63 | AK9: 0.54127282 | AL9: -97.676823 | AO9: 82 | AP9: 117 | AR9: 7 | AS9: 2.486472 | AT9: 16 | AU9: 0.1554045 | AV9: -42.187764 | AY9: 39 | AZ9: 48 | BB9: 81 | BC9: 28.772033 | BD9: 32 | BE9: 0.89912604 | BF9: -17.375529 | BI9: 10 | BJ9: 28 | BL9: 0.8 | BM9: 0.82 | BN9: 0.00075 | BO9: 0.95 | BP9: 1 | BQ9: 0.0025
A10: AUBE HAUTE MARNE | B10: CHAUMONT | C10: LANGRES | D10: 6.6773488 | F10: 0.057 | G10: 0.04 | I10: 6 | J10: 5 | L10: 2698.1465 | M10: 3041.2944 | N10: 5739.4409 | O10: 859.53888 | P10: 234.656 | Q10: 3.6629742 | R10: 4028.408 | S10: 0.01 | T10: 0.01 | U10: 0 | V10: 0 | X10: 4894.3293 | Y10: 732.97493 | Z10: 573 | AA10: 1.2791884 | AB10: 716.2053 | AC10: 0.02 | AD10: 0.02 | AE10: 0 | AF10: 0 | AH10: 409.2 | AI10: 61.281807 | AJ10: 63 | AK10: 0.9727271 | AL10: -50.174888 | AM10: 0.007 | AO10: 12 | AP10: 96 | AR10: 52.7 | AS10: 7.8923539 | AT10: 16 | AU10: 0.49327212 | AV10: -63.966638 | AY10: 55 | AZ10: 76 | BB10: 235.8 | BC10: 35.313417 | BD10: 32 | BE10: 1.1035443 | BF10: 2.4667238 | BG10: 0.02 | BH10: 0.01 | BI10: 0 | BJ10: 21 | BL10: 0.8 | BM10: 0.85 | BN10: 0.001875 | BO10: 0.95 | BP10: 1 | BQ10: 0.0025
A11: AUBE HAUTE MARNE | B11: CHAUMONT | C11: NOGENT | D11: 2.0789474 | F11: 0.052 | G11: 0.034 | I11: 6 | J11: 5 | L11: 339.20532 | M11: 269.89755 | N11: 609.10287 | O11: 292.98619 | P11: 214.665 | Q11: 1.3648531 | R11: 121.76813 | S11: 0.01 | T11: 0.01 | U11: 0 | V11: 0 | X11: 1240.9585 | Y11: 596.91672 | Z11: 573 | AA11: 1.0417395 | AB11: -59.872182 | AC11: 0.014 | AD11: 0.004 | AE11: 0 | AF11: 189 | AH11: 128.5 | AI11: 61.810127 | AJ11: 63 | AK11: 0.98111312 | AL11: -14.523263 | AM11: 0.008 | AO11: 3 | AP11: 29 | AR11: 23.4 | AS11: 11.255696 | AT11: 16 | AU11: 0.70348101 | AV11: -12.923368 | AY11: 10 | AZ11: 17 | BB11: 81.8 | BC11: 39.346835 | BD11: 32 | BE11: 1.2295886 | BF11: 9.1532632 | BG11: 0.02 | BH11: 0.02 | BI11: 0 | BJ11: 0 | BL11: 0.8 | BM11: 0.85 | BN11: 0.001875 | BO11: 0.95 | BP11: 1 | BQ11: 0.0025
A12: AUBE HAUTE MARNE | B12: CHAUMONT | C12: SAINT DIZIER CENTRE | D12: 5.4163614 | F12: 0.043 | G12: 0.027 | I12: 4 | J12: 4 | L12: 1780.8916 | M12: 1983.6555 | N12: 3764.5471 | O12: 695.03248 | P12: 216.447 | Q12: 3.2110978 | R12: 2484.3353 | S12: 0.01 | T12: 0.01 | U12: 0 | V12: 0 | X12: 3185.6838 | Y12: 588.15939 | Z12: 573 | AA12: 1.0264562 | AB12: -203.42017 | AC12: 0.013 | AD12: 0.003 | AE12: 0 | AF12: 539 | AH12: 290.9 | AI12: 53.707642 | AJ12: 63 | AK12: 0.85250226 | AL12: -81.723997 | AO12: 51 | AP12: 119 | AR12: 43.2 | AS12: 7.9758342 | AT12: 16 | AU12: 0.49848963 | AV12: -51.434666 | AY12: 44 | AZ12: 61 | BB12: 198.2 | BC12: 36.592832 | BD12: 32 | BE12: 1.143526 | BF12: 8.9306683 | BG12: 0.02 | BH12: 0.014 | BI12: 0 | BJ12: 10 | BL12: 0.8 | BM12: 0.78 | BO12: 0.95 | BP12: 1 | BQ12: 0.0025
A13: AUBE HAUTE MARNE | B13: CHAUMONT | C13: SAINT DIZIER EUROPE | D13: 2.5347178 | F13: 0.068 | G13: 0.057 | I13: 6 | J13: 6 | L13: 2032.6743 | M13: 1569.2027 | N13: 3601.877 | O13: 1421.017 | P13: 223.197 | Q13: 6.366649 | R13: 2984.0874 | S13: 0.01 | T13: 0.01 | U13: 0 | V13: 0 | X13: 2257.7161 | Y13: 890.71692 | Z13: 573 | AA13: 1.5544798 | AB13: 671.70256 | AC13: 0.02 | AD13: 0.02 | AE13: 0 | AF13: 0 | AH13: 170.85 | AI13: 67.403953 | AJ13: 63 | AK13: 1.069904 | AL13: -3.5284475 | AM13: 0.018 | AN13: 0.007 | AO13: 0 | AP13: 21 | AR13: 34.4 | AS13: 13.57153 | AT13: 16 | AU13: 0.84822065 | AV13: -9.8865898 | AY13: 7 | AZ13: 15 | BB13: 146.8 | BC13: 57.915717 | BD13: 32 | BE13: 1.8098662 | BF13: 58.22682 | BG13: 0.02 | BH13: 0.02 | BI13: 0 | BJ13: 0 | BL13: 0.8 | BM13: 0.82 | BN13: 0.00075 | BO13: 0.95 | BP13: 1 | BQ13: 0.0025
A14: AUBE HAUTE MARNE | B14: CHAUMONT | C14: WASSY | D14: 2.8184252 | F14: 0.02 | G14: 0.02 | I14: 2 | J14: 2 | L14: 1403.9136 | M14: -1146.0719 | N14: 257.84162 | O14: 91.484288 | P14: 212.5 | Q14: 0.4305143 | R14: -396.17394 | U14: 342 | V14: 461 | X14: 1957.2545 | Y14: 694.44969 | Z14: 573 | AA14: 1.2119541 | AB14: 193.72076 | AC14: 0.02 | AD14: 0.02 | AE14: 0 | AF14: 0 | AH14: 148.7 | AI14: 52.75996 | AJ14: 63 | AK14: 0.83745969 | AL14: -45.196378 | AO14: 29 | AP14: 65 | AR14: 15.3 | AS14: 5.4285635 | AT14: 16 | AU14: 0.33928522 | AV14: -33.943525 | AY14: 30 | AZ14: 39 | BB14: 63.4 | BC14: 22.494832 | BD14: 32 | BE14: 0.70296349 | BF14: -35.087049 | BI14: 27 | BJ14: 45 | BL14: 0.8 | BM14: 0.79 | BO14: 0.95 | BP14: 1 | BQ14: 0.0025
A15: AUBE HAUTE MARNE | B15: TROYES | C15: ARCIS SUR AUBE | D15: 3.6851069 | F15: 0.016 | G15: 0.01 | I15: 4 | J15: 3 | L15: 2777.9722 | M15: -1574.4409 | N15: 1203.5312 | O15: 326.59329 | P15: 231.526 | Q15: 1.4106117 | R15: 271.83891 | S15: 0.01 | T15: 0.01 | U15: 0 | V15: 0 | X15: 2035.4282 | Y15: 552.33899 | Z15: 573 | AA15: 0.96394239 | AB15: -270.40212 | AC15: 0.006 | AE15: 77 | AF15: 499 | AH15: 170 | AI15: 46.131633 | AJ15: 63 | AK15: 0.73224814 | AL15: -83.520616 | AO15: 63 | AP15: 109 | AR15: 16.6 | AS15: 4.5046183 | AT15: 16 | AU15: 0.28153864 | AV15: -47.786188 | AY15: 43 | AZ15: 55 | BB15: 95.4 | BC15: 25.887987 | BD15: 32 | BE15: 0.80899959 | BF15: -33.372377 | BI15: 23 | BJ15: 47 | BL15: 0.8 | BM15: 0.81 | BN15: 0.000375 | BO15: 0.95 | BP15: 1 | BQ15: 0.0025
A16: AUBE HAUTE MARNE | B16: TROYES | C16: BAR SUR AUBE | D16: 2.988084 | F16: 0.049 | G16: 0.039 | I16: 5 | J16: 5 | L16: 1685.7742 | M16: 252.28302 | N16: 1938.0572 | O16: 648.59527 | P16: 233.144 | Q16: 2.7819514 | R16: 1177.3112 | S16: 0.01 | T16: 0.01 | U16: 0 | V16: 0 | X16: 2110.0642 | Y16: 706.1596 | Z16: 573 | AA16: 1.2323902 | AB16: 240.37225 | AC16: 0.02 | AD16: 0.02 | AE16: 0 | AF16: 0 | AH16: 166.55 | AI16: 55.738057 | AJ16: 63 | AK16: 0.88473107 | AL16: -39.01823 | AO16: 22 | AP16: 60 | AR16: 19.8 | AS16: 6.6263196 | AT16: 16 | AU16: 0.41414498 | AV16: -32.407804 | AY16: 29 | AZ16: 38 | BB16: 103.8 | BC16: 34.737979 | BD16: 32 | BE16: 1.0855618 | BF16: -0.6156088 | BG16: 0.019 | BH16: 0.009 | BI16: 0 | BJ16: 11 | BL16: 0.8 | BM16: 0.81 | BN16: 0.000375 | BO16: 0.95 | BP16: 1 | BQ16: 0.0025
A17: AUBE HAUTE MARNE | B17: TROYES | C17: BAR SUR SEINE | D17: 3.7318809 | F17: 0.05 | G17: 0.04 | I17: 4 | J17: 4 | L17: 1147.0999 | M17: 1168.4035 | N17: 2315.5034 | O17: 620.4655 | P17: 246.295 | Q17: 2.5191965 | R17: 1311.7985 | S17: 0.01 | T17: 0.01 | U17: 0 | V17: 0 | X17: 2687.843 | Y17: 720.23814 | Z17: 573 | AA17: 1.2569601 | AB17: 352.74538 | AC17: 0.02 | AD17: 0.02 | AE17: 0 | AF17: 0 | AH17: 146.6 | AI17: 39.28314 | AJ17: 63 | AK17: 0.6235419 | AL17: -110.13848 | AO17: 89 | AP17: 136 | AR17: 17.1 | AS17: 4.5821398 | AT17: 16 | AU17: 0.28638374 | AV17: -48.103424 | AY17: 43 | AZ17: 55 | BB17: 131.2 | BC17: 35.156534 | BD17: 32 | BE17: 1.0986417 | BF17: 0.79315281 | BG17: 0.02 | BH17: 0.01 | BI17: 0 | BJ17: 13 | BL17: 0.8 | BM17: 0.77 | BO17: 0.95 | BP17: 1 | BQ17: 0.0025
A18: AUBE HAUTE MARNE | B18: TROYES | C18: BRIENNE LE CHATEAU | D18: 2.4135234 | F18: 0.06 | G18: 0.057 | I18: 5 | J18: 5 | L18: 265.68634 | M18: -940.11495 | N18: -674.42861 | O18: -279.43736 | P18: 233.144 | Q18: -1.1985612 | R18: -1288.8954 | U18: 1238 | V18: 1350 | X18: 1684.9811 | Y18: 698.14159 | Z18: 573 | AA18: 1.2183972 | AB18: 174.80086 | AC18: 0.02 | AD18: 0.02 | AE18: 0 | AF18: 0 | AH18: 183.6 | AI18: 76.071356 | AJ18: 63 | AK18: 1.2074818 | AL18: 17.559241 | AM18: 0.02 | AN18: 0.02 | AO18: 0 | AP18: 0 | AR18: 17.3 | AS18: 7.1679436 | AT18: 16 | AU18: 0.44799648 | AV18: -24.869082 | AY18: 22 | AZ18: 30 | BB18: 90 | BC18: 37.28988 | BD18: 32 | BE18: 1.1653088 | BF18: 5.6618368 | BG18: 0.02 | BH18: 0.017 | BI18: 0 | BJ18: 3 | BL18: 0.8 | BM18: 0.86 | BN18: 0.00225 | BO18: 0.95 | BP18: 1 | BQ18: 0.0025
A19: AUBE HAUTE MARNE | B19: TROYES | C19: LA CHAPELLE ST LUC | D19: 5.752038 | F19: 0.01 | G19: 0.01 | I19: 2 | J19: 2 | L19: 2369.9637 | M19: 1893.2947 | N19: 4263.2583 | O19: 741.17353 | P19: 212.5 | Q19: 3.4878754 | R19: 2928.4979 | S19: 0.01 | T19: 0.01 | U19: 0 | V19: 0 | X19: 2689.7867 | Y19: 467.62325 | Z19: 573 | AA19: 0.81609643 | AB19: -909.3555 | AE19: 607 | AF19: 1266 | AH19: 284.9 | AI19: 49.53027 | AJ19: 63 | AK19: 0.78619477 | AL19: -110.81721 | AO19: 78 | AP19: 150 | AR19: 27.8 | AS19: 4.8330696 | AT19: 16 | AU19: 0.30206685 | AV19: -72.699609 | AY19: 65 | AZ19: 83 | BB19: 147.4 | BC19: 25.6257 | BD19: 32 | BE19: 0.80080312 | BF19: -53.599217 | BI19: 37 | BJ19: 74 | BL19: 0.8 | BM19: 0.79 | BO19: 0.95 | BP19: 1 | BQ19: 0.0025
A20: AUBE HAUTE MARNE | B20: TROYES | C20: NOGENT SUR SEINE | D20: 3.714413 | F20: 0.038 | G20: 0.03 | I20: 4 | J20: 3 | L20: 1504.442 | M20: 1147.641 | N20: 2652.083 | O20: 713.99789 | P20: 231.902 | Q20: 3.0788777 | R20: 1711.4563 | S20: 0.01 | T20: 0.01 | U20: 0 | V20: 0 | X20: 2093.0891 | Y20: 563.50468 | Z20: 573 | AA20: 0.98342876 | AB20: -231.07853 | AC20: 0.008 | AE20: 36 | AF20: 461 | AH20: 127.2 | AI20: 34.24498 | AJ20: 63 | AK20: 0.54357112 | AL20: -128.33676 | AO20: 107 | AP20: 154 | AR20: 51 | AS20: 13.730299 | AT20: 16 | AU20: 0.85814367 | AV20: -13.898224 | AY20: 9 | AZ20: 21 | BB20: 153.2 | BC20: 41.244741 | BD20: 32 | BE20: 1.2888981 | BF20: 23.403553 | BG20: 0.02 | BH20: 0.02 | BI20: 0 | BJ20: 0 | BL20: 0.8 | BM20: 0.8 | BN20: 0 | BO20: 0.95 | BP20: 1 | BQ20: 0.0025
A21: AUBE HAUTE MARNE | B21: TROYES | C21: ROMILLY SUR SEINE | D21: 6.6311696 | F21: 0.043 | G21: 0.032 | I21: 5 | J21: 5 | L21: 3001.7654 | M21: -899.92913 | N21: 2101.8363 | O21: 316.96313 | P21: 218.771 | Q21: 1.4488352 | R21: 517.66357 | S21: 0.01 | T21: 0.01 | U21: 0 | V21: 0 | X21: 3909.6068 | Y21: 589.58027 | Z21: 573 | AA21: 1.0289359 | AB21: -239.62214 | AC21: 0.013 | AD21: 0.003 | AE21: 0 | AF21: 650 | AH21: 219.4 | AI21: 33.086169 | AJ21: 63 | AK21: 0.52517729 | AL21: -236.79795 | AO21: 199 | AP21: 282 | AR21: 40 | AS21: 6.0321183 | AT21: 16 | AU21: 0.3770074 | AV21: -75.859796 | AY21: 67 | AZ21: 88 | BB21: 252.8 | BC21: 38.122988 | BD21: 32 | BE21: 1.1913434 | BF21: 21.080408 | BG21: 0.02 | BH21: 0.019 | BI21: 0 | BJ21: 2 | BL21: 0.8 | BM21: 0.81 | BN21: 0.000375 | BO21: 0.95 | BP21: 1 | BQ21: 0.0025
A22: AUBE HAUTE MARNE | B22: TROYES | C22: SAINT ANDRE LES VERGERS | D22: 4.3170067 | F22: 0.034 | G22: 0.02 | I22: 5 | J22: 4 | L22: 3333.9955 | M22: -863.20045 | N22: 2470.7951 | O22: 572.33988 | P22: 242.997 | Q22: 2.3553372 | R22: 1325.2656 | S22: 0.01 | T22: 0.01 | U22: 0 | V22: 0 | X22: 2346.3134 | Y22: 543.5047 | Z22: 573 | AA22: 0.94852479 | AB22: -354.90672 | AC22: 0.004 | AE22: 128 | AF22: 623 | AH22: 129.5 | AI22: 29.997637 | AJ22: 63 | AK22: 0.47615297 | AL22: -167.49279 | AO22: 143 | AP22: 197 | AR22: 35.1 | AS22: 8.1306337 | AT22: 16 | AU22: 0.50816461 | AV22: -40.32674 | AY22: 34 | AZ22: 48 | BB22: 152.4 | BC22: 35.302239 | BD22: 32 | BE22: 1.103195 | BF22: 1.5465192 | BG22: 0.02 | BH22: 0.01 | BI22: 0 | BJ22: 14 | BL22: 0.8 | BM22: 0.81 | BN22: 0.000375 | BO22: 0.95 | BP22: 1 | BQ22: 0.0025
A23: AUBE HAUTE MARNE | B23: TROYES | C23: SAINTE SAVINE | D23: 4.4760896 | F23: 0.01 | G23: 0.01 | I23: 3 | J23: 3 | L23: 4837.9179 | M23: 2124.8075 | N23: 6962.7254 | O23: 1555.5375 | P23: 251.204 | Q23: 6.1923279 | R23: 5734.868 | S23: 0.01 | T23: 0.01 | U23: 0 | V23: 0 | X23: 2122.238 | Y23: 474.12769 | Z23: 573 | AA23: 0.82744798 | AB23: -678.52286 | AE23: 443 | AF23: 956 | AH23: 89.5 | AI23: 19.995131 | AJ23: 63 | AK23: 0.31738304 | AL23: -218.43706 | AO23: 193 | AP23: 249 | AR23: 17.8 | AS23: 3.9766853 | AT23: 16 | AU23: 0.24854283 | AV23: -60.406238 | AY23: 54 | AZ23: 69 | BB23: 115.6 | BC23: 25.826114 | BD23: 32 | BE23: 0.80706606 | BF23: -40.812476 | BI23: 28 | BJ23: 57 | BL23: 0.8 | BM23: 0.81 | BN23: 0.000375 | BO23: 0.95 | BP23: 1 | BQ23: 0.0025
A24: AUBE HAUTE MARNE | B24: TROYES | C24: SAINT JULIEN LES VILLAS | D24: 5.2411436 | F24: 0.039 | G24: 0.018 | I24: 5 | J24: 5 | L24: 4593.0862 | M24: 3862.2052 | N24: 8455.2913 | O24: 1613.2531 | P24: 248.623 | Q24: 6.4887526 | R24: 7032.3402 | S24: 0.01 | T24: 0.01 | U24: 0 | V24: 0 | X24: 3186.3464 | Y24: 607.94869 | Z24: 573 | AA24: 1.0609925 | AB24: -93.121004 | AC24: 0.017 | AD24: 0.006 | AE24: 0 | AF24: 418 | AH24: 240.3 | AI24: 45.848772 | AJ24: 63 | AK24: 0.72775829 | AL24: -120.26972 | AO24: 90 | AP24: 156 | AR24: 49.1 | AS24: 9.3681844 | AT24: 16 | AU24: 0.58551152 | AV24: -42.473262 | AY24: 35 | AZ24: 52 | BB24: 171.6 | BC24: 32.740946 | BD24: 32 | BE24: 1.0231546 | BF24: -11.546523 | BG24: 0.012 | BH24: 0.002 | BI24: 0 | BJ24: 30 | BL24: 0.8 | BM24: 0.84 | BN24: 0.0015 | BO24: 0.95 | BP24: 1 | BQ24: 0.0025
A25: AUBE HAUTE MARNE | B25: TROYES | C25: TROYES 1ER MAI | D25: 4.2224399 | F25: 0.03 | G25: 0.023 | I25: 4 | J25: 4 | L25: 780.26698 | M25: 509.74956 | N25: 1290.0165 | O25: 305.51448 | P25: 212.5 | Q25: 1.4377152 | R25: 310.19937 | S25: 0.01 | T25: 0.01 | U25: 0 | V25: 0 | X25: 1774.6279 | Y25: 420.28494 | Z25: 573 | AA25: 0.73348158 | AB25: -867.42028 | AE25: 645 | AF25: 1129 | AH25: 127.35 | AI25: 30.160287 | AJ25: 63 | AK25: 0.47873472 | AL25: -163.13697 | AO25: 139 | AP25: 192 | AR25: 34.4 | AS25: 8.1469485 | AT25: 16 | AU25: 0.50918428 | AV25: -39.374469 | AY25: 34 | AZ25: 47 | BB25: 152.4 | BC25: 36.092876 | BD25: 32 | BE25: 1.1279024 | BF25: 4.8510613 | BG25: 0.02 | BH25: 0.013 | BI25: 0 | BJ25: 10 | BL25: 0.8 | BM25: 0.82 | BN25: 0.00075 | BO25: 0.95 | BP25: 1 | BQ25: 0.0025
A26: AUBE HAUTE MARNE | B26: TROYES | C26: TROYES BROSSOLETTE | D26: 3.2460809 | F26: 0.031 | G26: 0.03 | I26: 4 | J26: 3 | L26: 2890.888 | M26: 437.45784 | N26: 3328.3459 | O26: 1025.3429 | P26: 231.042 | Q26: 4.4379068 | R26: 2509.3666 | S26: 0.01 | T26: 0.01 | U26: 0 | V26: 0 | X26: 1706.4335 | Y26: 525.69036 | Z26: 573 | AA26: 0.91743519 | AB26: -324.69131 | AC26: 0.001 | AE26: 154 | AF26: 526 | AH26: 157.9 | AI26: 48.643273 | AJ26: 63 | AK26: 0.77211544 | AL26: -65.417383 | AO26: 47 | AP26: 88 | AR26: 35.6 | AS26: 10.967071 | AT26: 16 | AU26: 0.68544194 | AV26: -21.115526 | AY26: 17 | AZ26: 27 | BB26: 141.6 | BC26: 43.621833 | BD26: 32 | BE26: 1.3631823 | BF26: 28.168948 | BG26: 0.02 | BH26: 0.02 | BI26: 0 | BJ26: 0 | BL26: 0.8 | BM26: 0.78 | BO26: 0.95 | BP26: 1 | BQ26: 0.0025
A27: AUBE HAUTE MARNE | B27: TROYES | C27: TROYES CHARTREUX | D27: 2.5803142 | F27: 0.028 | G27: 0.017 | I27: 4 | J27: 4 | L27: 567.50428 | M27: 403.45866 | N27: 970.96294 | O27: 376.2964 | P27: 212.5 | Q27: 1.7708066 | R27: 372.20103 | S27: 0.01 | T27: 0.01 | U27: 0 | V27: 0 | X27: 1242.4685 | Y27: 481.51829 | Z27: 573 | AA27: 0.84034606 | AB27: -372.07539 | AE27: 237 | AF27: 532 | AH27: 138.55 | AI27: 53.695011 | AJ27: 63 | AK27: 0.85230177 | AL27: -38.965295 | AO27: 25 | AP27: 57 | AR27: 10.3 | AS27: 3.9917619 | AT27: 16 | AU27: 0.24948512 | AV27: -34.78325 | AY27: 31 | AZ27: 40 | BB27: 88.4 | BC27: 34.259394 | BD27: 32 | BE27: 1.0706061 | BF27: -1.7664992 | BG27: 0.018 | BH27: 0.007 | BI27: 0 | BJ27: 11 | BL27: 0.8 | BM27: 0.81 | BN27: 0.000375 | BO27: 0.95 | BP27: 1 | BQ27: 0.0025
A28: AUBE HAUTE MARNE | B28: TROYES | C28: TROYES GAMBETTA | D28: 9.6894159 | F28: 0.05 | G28: 0.05 | I28: 4 | J28: 4 | L28: 6569.8666 | M28: 5853.5382 | N28: 12423.405 | O28: 1282.1624 | P28: 268.108 | Q28: 4.7822609 | R28: 9586.5963 | S28: 0.01 | T28: 0.01 | U28: 0 | V28: 0 | X28: 6743.6315 | Y28: 695.97916 | Z28: 573 | AA28: 1.2146233 | AB28: 680.80894 | AC28: 0.02 | AD28: 0.02 | AE28: 0 | AF28: 0 | AH28: 389.2 | AI28: 40.16754 | AJ28: 63 | AK28: 0.63758 | AL28: -277.39306 | AO28: 222 | AP28: 344 | AR28: 92.1 | AS28: 9.5052169 | AT28: 16 | AU28: 0.59407606 | AV28: -77.193475 | AY28: 63 | AZ28: 94 | BB28: 430.8 | BC28: 44.460884 | BD28: 32 | BE28: 1.3894026 | BF28: 92.213049 | BG28: 0.02 | BH28: 0.02 | BI28: 0 | BJ28: 0 | BL28: 0.8 | BM28: 0.73 | BO28: 0.95 | BP28: 1 | BQ28: 0.0025
A29: AUBE HAUTE MARNE | B29: TROYES | C29: TROYES ZOLA | D29: 4.428186 | F29: 0.025 | G29: 0.011 | I29: 4 | J29: 3 | L29: 3535.846 | M29: 6.20091 | N29: 3542.0469 | O29: 799.88666 | P29: 241.767 | Q29: 3.3085022 | R29: 2372.9635 | S29: 0.01 | T29: 0.01 | U29: 0 | V29: 0 | X29: 2422.9585 | Y29: 547.16727 | Z29: 573 | AA29: 0.9549167 | AB29: -347.82838 | AC29: 0.005 | AE29: 115 | AF29: 622 | AH29: 168.9 | AI29: 38.142029 | AJ29: 63 | AK29: 0.60542903 | AL29: -135.74149 | AO29: 111 | AP29: 166 | AR29: 18.5 | AS29: 4.1777829 | AT29: 16 | AU29: 0.26111143 | AV29: -58.869266 | AY29: 53 | AZ29: 67 | BB29: 142.2 | BC29: 32.112472 | BD29: 32 | BE29: 1.0035147 | BF29: -12.538533 | BG29: 0.01 | BH29: 0.001 | BI29: 0 | BJ29: 28 | BL29: 0.8 | BM29: 0.78 | BO29: 0.95 | BP29: 1 | BQ29: 0.0025
A30: BAS RHIN | B30: HAGUENAU | C30: BISCHWILLER | D30: 6.2436248 | F30: 0.025 | G30: 0.014 | I30: 3 | J30: 3 | L30: 3248.8663 | M30: 1849.6138 | N30: 5098.4801 | O30: 816.58976 | P30: 244.696 | Q30: 3.3371602 | R30: 3430.1334 | S30: 0.01 | T30: 0.01 | U30: 0 | V30: 0 | X30: 2262.3164 | Y30: 362.34021 | Z30: 573 | AA30: 0.63235639 | AB30: -1644.4196 | AE30: 1316 | AF30: 2031 | AH30: 351.2 | AI30: 56.249376 | AJ30: 63 | AK30: 0.89284724 | AL30: -78.336414 | AO30: 43 | AP30: 121 | AR30: 37.7 | AS30: 6.0381591 | AT30: 16 | AU30: 0.37738494 | AV30: -71.388613 | AY30: 63 | AZ30: 83 | BB30: 208.4 | BC30: 33.378046 | BD30: 32 | BE30: 1.043064 | BF30: -9.7772262 | BG30: 0.015 | BH30: 0.004 | BI30: 0 | BJ30: 32 | BL30: 0.8 | BM30: 0.74 | BO30: 0.95 | BP30: 1 | BQ30: 0.0025
A31: BAS RHIN | B31: HAGUENAU | C31: BOUXWILLER | D31: 2.8402116 | F31: 0.042 | G31: 0.029 | I31: 5 | J31: 3 | L31: 1163.5512 | M31: 780.40334 | N31: 1943.9545 | O31: 684.44003 | P31: 255.976 | Q31: 2.6738445 | R31: 1150.0421 | S31: 0.01 | T31: 0.01 | U31: 0 | V31: 0 | X31: 1935.3321 | Y31: 681.40418 | Z31: 573 | AA31: 1.1891871 | AB31: 158.16622 | AC31: 0.02 | AD31: 0.019 | AE31: 0 | AF31: 18 | AH31: 171.55 | AI31: 60.400428 | AJ31: 63 | AK31: 0.95873696 | AL31: -23.8452 | AM31: 0.005 | AO31: 8 | AP31: 44 | AR31: 22.2 | AS31: 7.8163189 | AT31: 16 | AU31: 0.48851993 | AV31: -27.424178 | AY31: 24 | AZ31: 33 | BB31: 88.8 | BC31: 31.265276 | BD31: 32 | BE31: 0.97703987 | BF31: -10.448356 | BG31: 0.007 | BI31: 3 | BJ31: 21 | BL31: 0.8 | BM31: 0.67 | BO31: 0.95 | BP31: 1 | BQ31: 0.0025
A32: BAS RHIN | B32: HAGUENAU | C32: BRUMATH | D32: 7.4919696 | F32: 0.01 | G32: 0.01 | I32: 2 | J32: 2 | L32: 5504.2336 | M32: 1612.0106 | N32: 7116.2442 | O32: 949.84958 | P32: 282.022 | Q32: 3.3679982 | R32: 4808.9571 | S32: 0.01 | T32: 0.01 | U32: 0 | V32: 0 | X32: 3464.2277 | Y32: 462.39211 | Z32: 573 | AA32: 0.80696704 | AB32: -1223.6176 | AE32: 829 | AF32: 1688 | AH32: 231.8 | AI32: 30.939794 | AJ32: 63 | AK32: 0.49110785 | AL32: -283.61754 | AO32: 241 | AP32: 335 | AR32: 45.2 | AS32: 6.0331264 | AT32: 16 | AU32: 0.3770704 | AV32: -85.699693 | AY32: 75 | AZ32: 99 | BB32: 178 | BC32: 23.758772 | BD32: 32 | BE32: 0.74246163 | BF32: -83.799387 | BI32: 62 | BJ32: 110 | BL32: 0.8 | BM32: 0.69 | BO32: 0.95 | BP32: 1 | BQ32: 0.0025
A33: BAS RHIN | B33: HAGUENAU | C33: HAGUENAU HOUBLON | D33: 8.071232 | F33: 0.03 | G33: 0.02 | I33: 3 | J33: 3 | L33: 3706.5583 | M33: 4222.68 | N33: 7929.2383 | O33: 982.40743 | P33: 276.944 | Q33: 3.5473144 | R33: 5488.3133 | S33: 0.01 | T33: 0.01 | U33: 0 | V33: 0 | X33: 3939.0107 | Y33: 488.03091 | Z33: 573 | AA33: 0.85171188 | AB33: -1111.2883 | AE33: 686 | AF33: 1611 | AH33: 353.65 | AI33: 43.816111 | AJ33: 63 | AK33: 0.69549383 | AL33: -201.61848 | AO33: 155 | AP33: 257 | AR33: 61.6 | AS33: 7.6320443 | AT33: 16 | AU33: 0.47700277 | AV33: -79.420565 | AY33: 68 | AZ33: 94 | BB33: 283.8 | BC33: 35.161918 | BD33: 32 | BE33: 1.0988099 | BF33: 1.7588697 | BG33: 0.02 | BH33: 0.01 | BI33: 0 | BJ33: 27 | BL33: 0.8 | BM33: 0.65 | BO33: 0.95 | BP33: 1 | BQ33: 0.0025
A34: BAS RHIN | B34: HAGUENAU | C34: HAGUENAU MUSAU | D34: 1.4323658 | F34: 0.01 | G34: 0.01 | I34: 3 | J34: 3 | L34: 1280.3933 | M34: -22.66737 | N34: 1257.726 | O34: 878.07593 | P34: 276.944 | Q34: 3.1705902 | R34: 824.54581 | S34: 0.01 | T34: 0.01 | U34: 0 | V34: 0 | X34: 434.90064 | Y34: 303.624 | Z34: 573 | AA34: 0.52988482 | AB34: -461.35357 | AE34: 386 | AF34: 550 | AH34: 30.3 | AI34: 21.153814 | AJ34: 63 | AK34: 0.33577482 | AL34: -68.24104 | AO34: 60 | AP34: 78 | AR34: 4.8 | AS34: 3.3510992 | AT34: 16 | AU34: 0.2094437 | AV34: -20.226296 | AY34: 19 | AZ34: 23 | BB34: 27.4 | BC34: 19.129191 | BD34: 32 | BE34: 0.59778723 | BF34: -22.652592 | BI34: 19 | BJ34: 28 | BL34: 0.8 | BM34: 0.81 | BN34: 0.000375 | BO34: 0.95 | BP34: 1 | BQ34: 0.0025
A35: BAS RHIN | B35: HAGUENAU | C35: HOCHFELDEN | D35: 2.4192815 | F35: 0.038 | G35: 0.023 | I35: 4 | J35: 3 | L35: 1550.025 | M35: 639.32248 | N35: 2189.3475 | O35: 904.95773 | P35: 237.211 | Q35: 3.8149906 | R35: 1562.6703 | S35: 0.01 | T35: 0.01 | U35: 0 | V35: 0 | X35: 1570.89 | Y35: 649.32091 | Z35: 573 | AA35: 1.1331953 | AB35: 57.106912 | AC35: 0.02 | AD35: 0.013 | AE35: 0 | AF35: 93 | AH35: 149.7 | AI35: 61.877877 | AJ35: 63 | AK35: 0.98218852 | AL35: -16.736888 | AM35: 0.008 | AO35: 3 | AP35: 34 | AR35: 24.4 | AS35: 10.085639 | AT35: 16 | AU35: 0.63035245 | AV35: -17.869686 | AY35: 15 | AZ35: 23 | BB35: 68.2 | BC35: 28.190188 | BD35: 32 | BE35: 0.88094338 | BF35: -16.339372 | BI35: 10 | BJ35: 25 | BL35: 0.8 | BM35: 0.64 | BO35: 0.95 | BP35: 1 | BQ35: 0.0025
A36: BAS RHIN | B36: HAGUENAU | C36: HOERDT | D36: 2.4492785 | F36: 0.03 | G36: 0.029 | I36: 3 | J36: 3 | L36: 1200.0349 | M36: 2091.0634 | N36: 3291.0984 | O36: 1343.7012 | P36: 282.022 | Q36: 4.764526 | R36: 2536.7989 | S36: 0.01 | T36: 0.01 | U36: 0 | V36: 0 | X36: 1176.9449 | Y36: 480.52717 | Z36: 573 | AA36: 0.83861636 | AB36: -355.60787 | AE36: 227 | AF36: 508 | AH36: 139.4 | AI36: 56.91472 | AJ36: 63 | AK36: 0.90340826 | AL36: -29.100563 | AO36: 15 | AP36: 46 | AR36: 15.6 | AS36: 6.3692226 | AT36: 16 | AU36: 0.39807642 | AV36: -27.193794 | AY36: 24 | AZ36: 32 | BB36: 93.6 | BC36: 38.215336 | BD36: 32 | BE36: 1.1942292 | BF36: 8.0124126 | BG36: 0.02 | BH36: 0.019 | BI36: 0 | BJ36: 1 | BL36: 0.8 | BM36: 0.76 | BO36: 0.95 | BP36: 1 | BQ36: 0.0025
A37: BAS RHIN | B37: HAGUENAU | C37: INGWILLER | D37: 3.7485408 | F37: 0.028 | G37: 0.017 | I37: 2 | J37: 2 | L37: 1043.1998 | M37: 1898.2996 | N37: 2941.4994 | O37: 784.7052 | P37: 231.66 | Q37: 3.3873141 | R37: 1993.2209 | S37: 0.01 | T37: 0.01 | U37: 0 | V37: 0 | X37: 2297.4683 | Y37: 612.8967 | Z37: 573 | AA37: 1.0696277 | AB37: -48.05367 | AC37: 0.018 | AD37: 0.007 | AE37: 0 | AF37: 281 | AH37: 195.2 | AI37: 52.073597 | AJ37: 63 | AK37: 0.82656502 | AL37: -62.684611 | AO37: 41 | AP37: 89 | AR37: 18.1 | AS37: 4.8285456 | AT37: 16 | AU37: 0.3017841 | AV37: -47.394504 | AY37: 42 | AZ37: 54 | BB37: 95 | BC37: 25.343195 | BD37: 32 | BE37: 0.79197485 | BF37: -35.989009 | BI37: 25 | BJ37: 49 | BL37: 0.8 | BM37: 0.67 | BO37: 0.95 | BP37: 0.94
A38: BAS RHIN | B38: HAGUENAU | C38: NIEDERBRONN LES BAINS | D38: 5.803927 | F38: 0.021 | G38: 0.011 | I38: 2 | J38: 2 | L38: 788.31001 | M38: 1131.4118 | N38: 1919.7218 | O38: 330.76257 | P38: 236.598 | Q38: 1.397994 | R38: 420.19014 | S38: 0.01 | T38: 0.01 | U38: 0 | V38: 0 | X38: 3349.5493 | Y38: 577.11775 | Z38: 573 | AA38: 1.0071863 | AB38: -282.06067 | AC38: 0.011 | AD38: 0.001 | AE38: 0 | AF38: 642 | AH38: 267.25 | AI38: 46.04641 | AJ38: 63 | AK38: 0.73089539 | AL38: -132.03696 | AO38: 99 | AP38: 172 | AR38: 40.5 | AS38: 6.978034 | AT38: 16 | AU38: 0.43612713 | AV38: -60.906212 | AY38: 53 | AZ38: 71 | BB38: 163.2 | BC38: 28.118893 | BD38: 32 | BE38: 0.8787154 | BF38: -39.612424 | BI38: 23 | BJ38: 60 | BL38: 0.8 | BM38: 0.68 | BO38: 0.95 | BP38: 0.88
A39: BAS RHIN | B39: HAGUENAU | C39: PFAFFENHOFFEN | D39: 2.9206349 | F39: 0.023 | G39: 0.013 | I39: 3 | J39: 3 | L39: 1574.1693 | M39: 1694.0396 | N39: 3268.209 | O39: 1119.0063 | P39: 240.532 | Q39: 4.652214 | R39: 2501.0722 | S39: 0.01 | T39: 0.01 | U39: 0 | V39: 0 | X39: 1218.7596 | Y39: 417.2927 | Z39: 573 | AA39: 0.72825951 | AB39: -608.72837 | AE39: 455 | AF39: 790 | AH39: 136.75 | AI39: 46.822011 | AJ39: 63 | AK39: 0.74320652 | AL39: -64.178 | AO39: 48 | AP39: 85 | AR39: 21.1 | AS39: 7.2244565 | AT39: 16 | AU39: 0.45152853 | AV39: -29.929333 | AY39: 26 | AZ39: 35 | BB39: 96.2 | BC39: 32.938043 | BD39: 32 | BE39: 1.0293139 | BF39: -5.8586667 | BG39: 0.013 | BH39: 0.003 | BI39: 0 | BJ39: 16 | BL39: 0.8 | BM39: 0.69 | BO39: 0.95 | BP39: 1 | BQ39: 0.0025
A40: BAS RHIN | B40: HAGUENAU | C40: SARRE UNION | D40: 4.1371848 | F40: 0.037 | G40: 0.026 | I40: 4 | J40: 3 | L40: 1609.9491 | M40: 366.1704 | N40: 1976.1195 | O40: 477.64837 | P40: 228.25 | Q40: 2.0926544 | R40: 944.93039 | S40: 0.01 | T40: 0.01 | U40: 0 | V40: 0 | X40: 2754.0214 | Y40: 665.67522 | Z40: 573 | AA40: 1.1617369 | AB40: 165.31867 | AC40: 0.02 | AD40: 0.016 | AE40: 0 | AF40: 91 | AH40: 176.3 | AI40: 42.613519 | AJ40: 63 | AK40: 0.67640506 | AL40: -108.32176 | AO40: 85 | AP40: 137 | AR40: 28.8 | AS40: 6.9612555 | AT40: 16 | AU40: 0.43507847 | AV40: -43.484892 | AY40: 38 | AZ40: 51 | BB40: 129 | BC40: 31.180623 | BD40: 32 | BE40: 0.97439448 | BF40: -15.569784 | BG40: 0.007 | BI40: 4 | BJ40: 30 | BL40: 0.8 | BM40: 0.72 | BO40: 0.95 | BP40: 1 | BQ40: 0.0025
A41: BAS RHIN | B41: HAGUENAU | C41: SAVERNE | D41: 7.6785696 | F41: 0.039 | G41: 0.024 | I41: 4 | J41: 3 | L41: 5600.0352 | M41: 2271.6581 | N41: 7871.6932 | O41: 1025.151 | P41: 287.5 | Q41: 3.5657426 | R41: 5461.0063 | S41: 0.01 | T41: 0.01 | U41: 0 | V41: 0 | X41: 5036.8174 | Y41: 655.95778 | Z41: 573 | AA41: 1.144778 | AB41: 232.21358 | AC41: 0.02 | AD41: 0.014 | AE41: 0 | AF41: 243 | AH41: 321.55 | AI41: 41.876289 | AJ41: 63 | AK41: 0.664703 | AL41: -206.70487 | AO41: 163 | AP41: 259 | AR41: 72.4 | AS41: 9.4288395 | AT41: 16 | AU41: 0.58930247 | AV41: -61.759967 | AY41: 51 | AZ41: 76 | BB41: 244 | BC41: 31.776752 | BD41: 32 | BE41: 0.9930235 | BF41: -24.319935 | BG41: 0.009 | BI41: 2 | BJ41: 51 | BL41: 0.8 | BM41: 0.71 | BO41: 0.95 | BP41: 0.97 | BQ41: 0.001
A42: BAS RHIN | B42: HAGUENAU | C42: SCHWEIGHOUSE SUR MODER | D42: 2.4205746 | F42: 0.01 | G42: 0.01 | I42: 2 | J42: 2 | L42: 1286.5758 | M42: 1059.8682 | N42: 2346.4439 | O42: 969.37478 | P42: 276.944 | Q42: 3.5002556 | R42: 1614.4069 | S42: 0.01 | T42: 0.01 | U42: 0 | V42: 0 | X42: 1126.5674 | Y42: 465.41321 | Z42: 573 | AA42: 0.81223947 | AB42: -388.02485 | AE42: 261 | AF42: 538 | AH42: 97.35 | AI42: 40.217724 | AJ42: 63 | AK42: 0.63837657 | AL42: -69.17585 | AO42: 56 | AP42: 86 | AR42: 8.6 | AS42: 3.5528754 | AT42: 16 | AU42: 0.22205471 | AV42: -33.692279 | AY42: 31 | AZ42: 38 | BB42: 62.6 | BC42: 25.861628 | BD42: 32 | BE42: 0.80817588 | BF42: -21.984559 | BI42: 15 | BJ42: 31 | BL42: 0.8 | BM42: 0.75 | BO42: 0.95 | BP42: 1 | BQ42: 0.0025
A43: BAS RHIN | B43: HAGUENAU | C43: SOUFFLENHEIM | D43: 1.6157699 | F43: 0.01 | G43: 0.01 | I43: 2 | J43: 2 | L43: 478.08506 | M43: 740.70351 | N43: 1218.7886 | O43: 754.30827 | P43: 244.696 | Q43: 3.0826343 | R43: 787.04189 | S43: 0.01 | T43: 0.01 | U43: 0 | V43: 0 | X43: 744.47916 | Y43: 460.75817 | Z43: 573 | AA43: 0.80411548 | AB43: -266.53389 | AE43: 182 | AF43: 367 | AH43: 75.1 | AI43: 46.479392 | AJ43: 63 | AK43: 0.73776812 | AL43: -36.058503 | AO43: 27 | AP43: 48 | AR43: 7 | AS43: 4.3323002 | AT43: 16 | AU43: 0.27076876 | AV43: -21.230731 | AY43: 19 | AZ43: 25 | BB43: 42 | BC43: 25.993801 | BD43: 32 | BE43: 0.81230628 | BF43: -14.461462 | BI43: 10 | BJ43: 21 | BL43: 0.8 | BM43: 0.68 | BO43: 0.95 | BP43: 1 | BQ43: 0.0025
A44: BAS RHIN | B44: HAGUENAU | C44: SOULTZ SOUS FORETS | D44: 2.385226 | F44: 0.052 | G44: 0.043 | I44: 6 | J44: 5 | L44: 733.21161 | M44: 756.20521 | N44: 1489.4168 | O44: 624.43424 | P44: 239.304 | Q44: 2.6093765 | R44: 866.10963 | S44: 0.01 | T44: 0.01 | U44: 0 | V44: 0 | X44: 1267.737 | Y44: 531.49552 | Z44: 573 | AA44: 0.92756636 | AB44: -224.73714 | AC44: 0.002 | AE44: 99 | AF44: 373 | AH44: 170.1 | AI44: 71.313996 | AJ44: 63 | AK44: 1.1319682 | AL44: 6.0059893 | AM44: 0.02 | AN44: 0.013 | AO44: 0 | AP44: 11 | AR44: 31.4 | AS44: 13.164371 | AT44: 16 | AU44: 0.82277317 | AV44: -10.274669 | AY44: 7 | AZ44: 15 | BB44: 110.6 | BC44: 46.368771 | BD44: 32 | BE44: 1.4490241 | BF44: 27.250661 | BG44: 0.02 | BH44: 0.02 | BI44: 0 | BJ44: 0 | BL44: 0.8 | BM44: 0.82 | BN44: 0.00075 | BO44: 0.95 | BP44: 1 | BQ44: 0.0025
A45: BAS RHIN | B45: HAGUENAU | C45: TRUCHTERSHEIM | D45: 2.9406015 | F45: 0.047 | G45: 0.036 | I45: 5 | J45: 5 | L45: 3012.4401 | M45: 1848.675 | N45: 4861.1151 | O45: 1653.1023 | P45: 287.5 | Q45: 5.749921 | R45: 3937.9132 | S45: 0.01 | T45: 0.01 | U45: 0 | V45: 0 | X45: 1787.1492 | Y45: 607.74954 | Z45: 573 | AA45: 1.0606449 | AB45: -52.832191 | AC45: 0.017 | AD45: 0.006 | AE45: 0 | AF45: 235 | AH45: 102.85 | AI45: 34.975837 | AJ45: 63 | AK45: 0.55517202 | AL45: -99.451621 | AO45: 83 | AP45: 120 | AR45: 17.8 | AS45: 6.0531833 | AT45: 16 | AU45: 0.37832396 | AV45: -33.578189 | AY45: 30 | AZ45: 39 | BB45: 119 | BC45: 40.467911 | BD45: 32 | BE45: 1.2646222 | BF45: 16.243621 | BG45: 0.02 | BH45: 0.02 | BI45: 0 | BJ45: 0 | BL45: 0.8 | BM45: 0.81 | BN45: 0.000375 | BO45: 0.95 | BP45: 1 | BQ45: 0.0025
A46: BAS RHIN | B46: HAGUENAU | C46: WISSEMBOURG | D46: 8.6630214 | F46: 0.02 | G46: 0.011 | I46: 3 | J46: 3 | L46: 3919.2051 | M46: 4469.9479 | N46: 8389.153 | O46: 968.3865 | P46: 276.44 | Q46: 3.5030621 | R46: 5774.0252 | S46: 0.01 | T46: 0.01 | U46: 0 | V46: 0 | X46: 4243.0989 | Y46: 489.79435 | Z46: 573 | AA46: 0.85478944 | AB46: -1177.4922 | AE46: 721 | AF46: 1714 | AH46: 480.75 | AI46: 55.494495 | AJ46: 63 | AK46: 0.880865 | AL46: -115.23122 | AO46: 66 | AP46: 175 | AR46: 20 | AS46: 2.3086633 | AT46: 16 | AU46: 0.14429146 | AV46: -131.36031 | AY46: 119 | AZ46: 147 | BB46: 278 | BC46: 32.090421 | BD46: 32 | BE46: 1.0028256 | BF46: -24.72062 | BG46: 0.01 | BH46: 0.001 | BI46: 0 | BJ46: 55 | BL46: 0.8 | BM46: 0.7 | BO46: 0.95 | BP46: 1 | BQ46: 0.0025
A47: BAS RHIN | B47: HAGUENAU | C47: WOERTH | D47: 2.3098196 | F47: 0.01 | G47: 0.01 | I47: 2 | J47: 2 | L47: 245.21226 | M47: 1114.641 | N47: 1359.8532 | O47: 588.72703 | P47: 236.598 | Q47: 2.488301 | R47: 763.07665 | S47: 0.01 | T47: 0.01 | U47: 0 | V47: 0 | X47: 1076.2046 | Y47: 465.92583 | Z47: 573 | AA47: 0.81313408 | AB47: -369.08648 | AE47: 248 | AF47: 513 | AH47: 96.25 | AI47: 41.669921 | AJ47: 63 | AK47: 0.66142732 | AL47: -62.656349 | AO47: 50 | AP47: 79 | AR47: 1 | AS47: 0.43293424 | AT47: 16 | AU47: 0.02705839 | AV47: -39.357168 | AY47: 36 | AZ47: 44 | BB47: 63.2 | BC47: 27.361444 | BD47: 32 | BE47: 0.85504513 | BF47: -17.514336 | BI47: 11 | BJ47: 26 | BL47: 0.8 | BM47: 0.72 | BO47: 0.95 | BP47: 1 | BQ47: 0.0025
A48: BAS RHIN | B48: SELESTAT | C48: BARR | D48: 2.9631336 | F48: 0.04 | G48: 0.04 | I48: 4 | J48: 4 | L48: 1553.1059 | M48: 1460.2249 | N48: 3013.3307 | O48: 1016.9405 | P48: 287.5 | Q48: 3.5371845 | R48: 2083.0549 | S48: 0.01 | T48: 0.01 | U48: 0 | V48: 0 | X48: 1375.4146 | Y48: 464.17569 | Z48: 573 | AA48: 0.81007975 | AB48: -478.66551 | AE48: 323 | AF48: 663 | AH48: 155.5 | AI48: 52.478227 | AJ48: 63 | AK48: 0.83298773 | AL48: -48.351742 | AO48: 32 | AP48: 69 | AR48: 56.9 | AS48: 19.202644 | AT48: 16 | AU48: 1.2001652 | AV48: 5.128129 | AW48: 0.01 | AX48: 0.01 | AY48: 0 | AZ48: 0 | BB48: 118 | BC48: 39.822706 | BD48: 32 | BE48: 1.2444596 | BF48: 14.456258 | BG48: 0.02 | BH48: 0.02 | BI48: 0 | BJ48: 0 | BL48: 0.8 | BM48: 0.64 | BO48: 0.95 | BP48: 1 | BQ48: 0.0025
A49: BAS RHIN | B49: SELESTAT | C49: BENFELD | D49: 3.6627519 | F49: 0.01 | G49: 0.01 | I49: 2 | J49: 2 | L49: 3311.272 | M49: 305.02474 | N49: 3616.2967 | O49: 987.31687 | P49: 265.849 | Q49: 3.7138258 | R49: 2552.9738 | S49: 0.01 | T49: 0.01 | U49: 0 | V49: 0 | X49: 1623.6325 | Y49: 443.28213 | Z49: 573 | AA49: 0.77361629 | AB49: -668.20999 | AE49: 476 | AF49: 895 | AH49: 120.5 | AI49: 32.898761 | AJ49: 63 | AK49: 0.52220256 | AL49: -131.48268 | AO49: 111 | AP49: 157 | AR49: 3.8 | AS49: 1.0374713 | AT49: 16 | AU49: 0.064841957 | AV49: -60.195601 | AY49: 55 | AZ49: 67 | BB49: 90.6 | BC49: 24.7355 | BD49: 32 | BE49: 0.77298438 | BF49: -37.391202 | BI49: 27 | BJ49: 51 | BL49: 0.8 | BM49: 0.64 | BO49: 0.95 | BP49: 1 | BQ49: 0.0025
A50: BAS RHIN | B50: SELESTAT | C50: ERSTEIN | D50: 4.5139964 | F50: 0.01 | G50: 0.01 | I50: 2 | J50: 2 | L50: 3301.9455 | M50: 2189.7245 | N50: 5491.6699 | O50: 1216.5871 | P50: 287.5 | Q50: 4.2316074 | R50: 4074.5008 | S50: 0.01 | T50: 0.01 | U50: 0 | V50: 0 | X50: 1433.9956 | Y50: 317.67762 | Z50: 573 | AA50: 0.5544112 | AB50: -1390.4841 | AE50: 1153 | AF50: 1670 | AH50: 143.1 | AI50: 31.701399 | AJ50: 63 | AK50: 0.50319681 | AL50: -167.44489 | AO50: 142 | AP50: 199 | AR50: 17.1 | AS50: 3.7882175 | AT50: 16 | AU50: 0.23676359 | AV50: -61.768544 | AY50: 56 | AZ50: 70 | BB50: 102.6 | BC50: 22.729305 | BD50: 32 | BE50: 0.71029078 | BF50: -55.137089 | BI50: 42 | BJ50: 71 | BL50: 0.8 | BM50: 0.68 | BO50: 0.95 | BP50: 1 | BQ50: 0.0025
A51: BAS RHIN | B51: SELESTAT | C51: FEGERSHEIM | D51: 2.2098363 | F51: 0.043 | G51: 0.033 | I51: 4 | J51: 4 | L51: -422.94719 | M51: 2039.1452 | N51: 1616.198 | O51: 731.36549 | P51: 287.5 | Q51: 2.54388 | R51: 922.41989 | S51: 0.01 | T51: 0.01 | U51: 0 | V51: 0 | X51: 1098.5316 | Y51: 497.10993 | Z51: 573 | AA51: 0.8675566 | AB51: -284.19835 | AE51: 168 | AF51: 421 | AH51: 143.45 | AI51: 64.914312 | AJ51: 63 | AK51: 1.0303859 | AL51: -8.5778957 | AM51: 0.013 | AN51: 0.003 | AO51: 0 | AP51: 24 | AR51: 9.3 | AS51: 4.2084566 | AT51: 16 | AU51: 0.26302854 | AV51: -29.310259 | AY51: 27 | AZ51: 34 | BB51: 102.6 | BC51: 46.428779 | BD51: 32 | BE51: 1.4508994 | BF51: 25.379482 | BG51: 0.02 | BH51: 0.02 | BI51: 0 | BJ51: 0 | BL51: 0.8 | BM51: 0.73 | BO51: 0.95 | BP51: 1 | BQ51: 0.0025
A52: BAS RHIN | B52: SELESTAT | C52: ILLKIRCH CENTRE | D52: 7.7514399 | F52: 0.034 | G52: 0.014 | I52: 4 | J52: 3 | L52: 6012.0927 | M52: 3321.2386 | N52: 9333.3312 | O52: 1204.0771 | P52: 287.5 | Q52: 4.1880943 | R52: 6899.7667 | S52: 0.01 | T52: 0.01 | U52: 0 | V52: 0 | X52: 4627.238 | Y52: 596.95207 | Z52: 573 | AA52: 1.0418012 | AB52: -222.9619 | AC52: 0.014 | AD52: 0.004 | AE52: 0 | AF52: 703 | AH52: 415.7 | AI52: 53.628746 | AJ52: 63 | AK52: 0.85124994 | AL52: -117.56806 | AO52: 73 | AP52: 171 | AR52: 80.6 | AS52: 10.398068 | AT52: 16 | AU52: 0.64987926 | AV52: -54.833157 | AY52: 44 | AZ52: 69 | BB52: 247.6 | BC52: 31.942453 | BD52: 32 | BE52: 0.99820164 | BF52: -23.266314 | BG52: 0.01 | BH52: 0 | BI52: 1 | BJ52: 51 | BL52: 0.8 | BM52: 0.73 | BO52: 0.95 | BP52: 1 | BQ52: 0.0025
A53: BAS RHIN | B53: SELESTAT | C53: LINGOLSHEIM | D53: 4.7798891 | F53: 0.024 | G53: 0.014 | I53: 3 | J53: 3 | L53: 942.1509 | M53: 1482.2867 | N53: 2424.4376 | O53: 507.2163 | P53: 284.877 | Q53: 1.7804747 | R53: 937.48257 | S53: 0.01 | T53: 0.01 | U53: 0 | V53: 0 | X53: 2289.9461 | Y53: 479.07935 | Z53: 573 | AA53: 0.83608961 | AB53: -700.90694 | AE53: 449 | AF53: 997 | AH53: 163.15 | AI53: 34.132591 | AJ53: 63 | AK53: 0.54178716 | AL53: -165.68725 | AO53: 138 | AP53: 199 | AR53: 23.2 | AS53: 4.8536691 | AT53: 16 | AU53: 0.30335432 | AV53: -60.314222 | AY53: 54 | AZ53: 69 | BB53: 158.8 | BC53: 33.222528 | BD53: 32 | BE53: 1.038204 | BF53: -8.2284436 | BG53: 0.014 | BH53: 0.004 | BI53: 0 | BJ53: 25 | BL53: 0.8 | BM53: 0.7 | BO53: 0.95 | BP53: 1 | BQ53: 0.0025
A54: BAS RHIN | B54: SELESTAT | C54: MARCKOLSHEIM | D54: 2.5187938 | F54: 0.053 | G54: 0.035 | I54: 5 | J54: 4 | L54: 1242.9357 | M54: -56.16605 | N54: 1186.7696 | O54: 471.16584 | P54: 239.025 | Q54: 1.971199 | R54: 529.32589 | S54: 0.01 | T54: 0.01 | U54: 0 | V54: 0 | X54: 1750.8498 | Y54: 695.1144 | Z54: 573 | AA54: 1.2131141 | AB54: 174.80025 | AC54: 0.02 | AD54: 0.02 | AE54: 0 | AF54: 0 | AH54: 167.3 | AI54: 66.420681 | AJ54: 63 | AK54: 1.0542965 | AL54: -5.9829387 | AM54: 0.016 | AN54: 0.005 | AO54: 0 | AP54: 24 | AR54: 15.8 | AS54: 6.2728438 | AT54: 16 | AU54: 0.39205273 | AV54: -28.208365 | AY54: 25 | AZ54: 33 | BB54: 78.8 | BC54: 31.284816 | BD54: 32 | BE54: 0.97765049 | BF54: -9.2167308 | BG54: 0.007 | BI54: 2 | BJ54: 18 | BL54: 0.8 | BM54: 0.7 | BO54: 0.95 | BP54: 1 | BQ54: 0.0025
A55: BAS RHIN | B55: SELESTAT | C55: MARLENHEIM | D55: 2.5697044 | F55: 0.01 | G55: 0.01 | I55: 2 | J55: 2 | L55: 466.75185 | M55: 391.0387 | N55: 857.79055 | O55: 333.80904 | P55: 273.438 | Q55: 1.2207851 | R55: 90.491482 | S55: 0.01 | T55: 0.01 | U55: 0 | V55: 0 | X55: 1005.735 | Y55: 391.38158 | Z55: 573 | AA55: 0.68303941 | AB55: -602.17017 | AE55: 467 | AF55: 762 | AH55: 97.9 | AI55: 38.097768 | AJ55: 63 | AK55: 0.60472647 | AL55: -78.885382 | AO55: 64 | AP55: 97 | AR55: 7 | AS55: 2.7240488 | AT55: 16 | AU55: 0.17025305 | AV55: -37.897875 | AY55: 35 | AZ55: 43 | BB55: 59.4 | BC55: 23.115499 | BD55: 32 | BE55: 0.72235936 | BF55: -30.39575 | BI55: 23 | BJ55: 40 | BL55: 0.8 | BM55: 0.74 | BO55: 0.95 | BP55: 1 | BQ55: 0.0025
A56: BAS RHIN | B56: SELESTAT | C56: MOLSHEIM | D56: 5.2395012 | F56: 0.027 | G56: 0.017 | I56: 3 | J56: 3 | L56: 2040.5803 | M56: 1305.004 | N56: 3345.5843 | O56: 638.53107 | P56: 287.5 | Q56: 2.2209776 | R56: 1700.6429 | S56: 0.01 | T56: 0.01 | U56: 0 | V56: 0 | X56: 2171.848 | Y56: 414.51426 | Z56: 573 | AA56: 0.72341057 | AB56: -1106.5918 | AE56: 831 | AF56: 1431 | AH56: 145.8 | AI56: 27.827076 | AJ56: 63 | AK56: 0.44169962 | AL56: -214.65673 | AO56: 185 | AP56: 251 | AR56: 26.3 | AS56: 5.0195618 | AT56: 16 | AU56: 0.31372261 | AV56: -65.244565 | AY56: 58 | AZ56: 75 | BB56: 178.8 | BC56: 34.125386 | BD56: 32 | BE56: 1.0664183 | BF56: -4.2891308 | BG56: 0.017 | BH56: 0.007 | BI56: 0 | BJ56: 23 | BL56: 0.8 | BM56: 0.7 | BO56: 0.95 | BP56: 1 | BQ56: 0.0025
A57: BAS RHIN | B57: SELESTAT | C57: MUTZIG | D57: 2.635244 | F57: 0.06 | G57: 0.06 | I57: 5 | J57: 5 | L57: 1834.5984 | M57: 2826.4283 | N57: 4661.0267 | O57: 1768.7268 | P57: 269.755 | Q57: 6.5567897 | R57: 3884.7564 | S57: 0.01 | T57: 0.01 | U57: 0 | V57: 0 | X57: 1869.0136 | Y57: 709.23738 | Z57: 573 | AA57: 1.2377616 | AB57: 220.09922 | AC57: 0.02 | AD57: 0.02 | AE57: 0 | AF57: 0 | AH57: 148.95 | AI57: 56.52228 | AJ57: 63 | AK57: 0.89717904 | AL57: -32.344248 | AO57: 18 | AP57: 51 | AR57: 63.4 | AS57: 24.058493 | AT57: 16 | AU57: 1.5036558 | AV57: 17.357016 | AW57: 0.01 | AX57: 0.01 | AY57: 0 | AZ57: 0 | BB57: 134.8 | BC57: 51.152758 | BD57: 32 | BE57: 1.5985237 | BF57: 42.714033 | BG57: 0.02 | BH57: 0.02 | BI57: 0 | BJ57: 0 | BL57: 0.8 | BM57: 0.73 | BO57: 0.95 | BP57: 1 | BQ57: 0.0025
A58: BAS RHIN | B58: SELESTAT | C58: OBERNAI | D58: 5.3559301 | F58: 0.03 | G58: 0.02 | I58: 3 | J58: 3 | L58: 3012.151 | M58: 703.85756 | N58: 3716.0086 | O58: 693.81201 | P58: 280.085 | Q58: 2.477148 | R58: 2077.8823 | S58: 0.01 | T58: 0.01 | U58: 0 | V58: 0 | X58: 1907.5543 | Y58: 356.15743 | Z58: 573 | AA58: 0.6215662 | AB58: -1443.7368 | AE58: 1162 | AF58: 1776 | AH58: 237.7 | AI58: 44.380714 | AJ58: 63 | AK58: 0.70445578 | AL58: -130.76657 | AO58: 100 | AP58: 168 | AR58: 26.9 | AS58: 5.0224703 | AT58: 16 | AU58: 0.3139044 | AV58: -66.67881 | AY58: 59 | AZ58: 76 | BB58: 188.2 | BC58: 35.138622 | BD58: 32 | BE58: 1.0980819 | BF58: 1.0423794 | BG58: 0.02 | BH58: 0.01 | BI58: 0 | BJ58: 18 | BL58: 0.8 | BM58: 0.65 | BO58: 0.95 | BP58: 1 | BQ58: 0.0025
A59: BAS RHIN | B59: SELESTAT | C59: ROSHEIM | D59: 1.3827908 | F59: 0.01 | G59: 0.01 | I59: 2 | J59: 2 | L59: 155.45249 | M59: 1435.7973 | N59: 1591.2498 | O59: 1150.7524 | P59: 280.085 | Q59: 4.1085827 | R59: 1168.3194 | S59: 0.01 | T59: 0.01 | U59: 0 | V59: 0 | X59: 698.67079 | Y59: 505.26138 | Z59: 573 | AA59: 0.88178252 | AB59: -166.56354 | AE59: 94 | AF59: 253 | AH59: 61.3 | AI59: 44.330639 | AJ59: 63 | AK59: 0.70366094 | AL59: -33.830476 | AO59: 26 | AP59: 44 | AR59: 4 | AS59: 2.8927008 | AT59: 16 | AU59: 0.1807938 | AV59: -20.160121 | AY59: 19 | AZ59: 23 | BB59: 34 | BC59: 24.587956 | BD59: 32 | BE59: 0.76837364 | BF59: -14.320242 | BI59: 11 | BJ59: 20 | BL59: 0.8 | BM59: 0.75 | BO59: 0.95 | BP59: 1 | BQ59: 0.0025
A60: BAS RHIN | B60: SELESTAT | C60: SCHIRMECK | D60: 3.0026689 | F60: 0.05 | G60: 0.042 | I60: 4 | J60: 4 | L60: 1197.3514 | M60: 624.41645 | N60: 1821.7678 | O60: 606.71619 | P60: 239.264 | Q60: 2.5357605 | R60: 1037.2416 | S60: 0.01 | T60: 0.01 | U60: 0 | V60: 0 | X60: 1932.6159 | Y60: 643.63272 | Z60: 573 | AA60: 1.1232683 | AB60: 53.797983 | AC60: 0.02 | AD60: 0.012 | AE60: 0 | AF60: 133 | AH60: 168.3 | AI60: 56.050137 | AJ60: 63 | AK60: 0.88968471 | AL60: -38.271607 | AO60: 21 | AP60: 59 | AR60: 26.5 | AS60: 8.825482 | AT60: 16 | AU60: 0.55159263 | AV60: -25.96263 | AY60: 22 | AZ60: 32 | BB60: 129.8 | BC60: 43.22821 | BD60: 32 | BE60: 1.3508816 | BF60: 24.874739 | BG60: 0.02 | BH60: 0.02 | BI60: 0 | BJ60: 0 | BL60: 0.8 | BM60: 0.73 | BO60: 0.95 | BP60: 1 | BQ60: 0.0025
A61: BAS RHIN | B61: SELESTAT | C61: SELESTAT CENTRE | D61: 8.0969419 | F61: 0.045 | G61: 0.028 | I61: 4 | J61: 4 | L61: 4538.8215 | M61: 3328.8561 | N61: 7867.6776 | O61: 971.68507 | P61: 262.83 | Q61: 3.6970098 | R61: 5543.7714 | S61: 0.01 | T61: 0.01 | U61: 0 | V61: 0 | X61: 4849.3081 | Y61: 598.90612 | Z61: 573 | AA61: 1.0452114 | AB61: -217.07803 | AC61: 0.015 | AD61: 0.005 | AE61: 0 | AF61: 719 | AH61: 410.8 | AI61: 50.735204 | AJ61: 63 | AK61: 0.8053207 | AL61: -146.23722 | AO61: 100 | AP61: 202 | AR61: 35.9 | AS61: 4.4337727 | AT61: 16 | AU61: 0.27711079 | AV61: -105.56977 | AY61: 94 | AZ61: 120 | BB61: 292.6 | BC61: 36.1371 | BD61: 32 | BE61: 1.1292844 | BF61: 9.6604606 | BG61: 0.02 | BH61: 0.013 | BI61: 0 | BJ61: 19 | BL61: 0.8 | BM61: 0.68 | BO61: 0.95 | BP61: 1 | BQ61: 0.0025
A62: BAS RHIN | B62: SELESTAT | C62: SELESTAT OUEST | D62: 1.8954204 | F62: 0.054 | G62: 0.039 | I62: 5 | J62: 4 | L62: 2330.3994 | M62: 348.15464 | N62: 2678.554 | O62: 1413.1715 | P62: 248.272 | Q62: 5.6920292 | R62: 2164.6809 | S62: 0.01 | T62: 0.01 | U62: 0 | V62: 0 | X62: 1029.8436 | Y62: 543.33255 | Z62: 573 | AA62: 0.94822434 | AB62: -156.15127 | AC62: 0.004 | AE62: 57 | AF62: 274 | AH62: 130.4 | AI62: 68.797404 | AJ62: 63 | AK62: 1.0920223 | AL62: 0.0026602943 | AM62: 0.02 | AN62: 0.009 | AO62: 0 | AP62: 13 | AR62: 26.9 | AS62: 14.192102 | AT62: 16 | AU62: 0.8870064 | AV62: -6.2167847 | AY62: 4 | AZ62: 10 | BB62: 77 | BC62: 40.624234 | BD62: 32 | BE62: 1.2695073 | BF62: 10.766431 | BG62: 0.02 | BH62: 0.02 | BI62: 0 | BJ62: 0 | BL62: 0.8 | BM62: 0.8 | BN62: 0 | BO62: 0.95 | BP62: 1 | BQ62: 0.0025
A63: BAS RHIN | B63: SELESTAT | C63: VILLE | D63: 2.1204175 | F63: 0.053 | G63: 0.034 | I63: 4 | J63: 3 | L63: 230.20095 | M63: 650.33914 | N63: 880.54009 | O63: 415.26733 | P63: 256.271 | Q63: 1.6204226 | R63: 287.14565 | S63: 0.01 | T63: 0.01 | U63: 0 | V63: 0 | X63: 1198.4255 | Y63: 565.18375 | Z63: 573 | AA63: 0.98635908 | AB63: -128.35363 | AC63: 0.008 | AE63: 17 | AF63: 260 | AH63: 139.5 | AI63: 65.788932 | AJ63: 63 | AK63: 1.0442688 | AL63: -6.3762394 | AM63: 0.015 | AN63: 0.004 | AO63: 0 | AP63: 21 | AR63: 12.8 | AS63: 6.0365472 | AT63: 16 | AU63: 0.3772842 | AV63: -24.247934 | AY63: 22 | AZ63: 28 | BB63: 89.8 | BC63: 42.350151 | BD63: 32 | BE63: 1.3234422 | BF63: 15.704132 | BG63: 0.02 | BH63: 0.02 | BI63: 0 | BJ63: 0 | BL63: 0.8 | BM63: 0.73 | BO63: 0.95 | BP63: 0.71
A64: BAS RHIN | B64: SELESTAT | C64: WASSELONNE | D64: 2.5505438 | F64: 0.05 | G64: 0.05 | I64: 4 | J64: 4 | L64: 1358.1737 | M64: 2756.9409 | N64: 4115.1145 | O64: 1613.4264 | P64: 273.438 | Q64: 5.9005199 | R64: 3353.5367 | S64: 0.01 | T64: 0.01 | U64: 0 | V64: 0 | X64: 1774.8702 | Y64: 695.87915 | Z64: 573 | AA64: 1.2144488 | AB64: 178.95418 | AC64: 0.02 | AD64: 0.02 | AE64: 0 | AF64: 0 | AH64: 121.45 | AI64: 47.617297 | AJ64: 63 | AK64: 0.75583011 | AL64: -54.017208 | AO64: 40 | AP64: 72 | AR64: 10.6 | AS64: 4.1559765 | AT64: 16 | AU64: 0.25974853 | AV64: -33.963101 | AY64: 31 | AZ64: 39 | BB64: 100.8 | BC64: 39.520984 | BD64: 32 | BE64: 1.2350308 | BF64: 11.673799 | BG64: 0.02 | BH64: 0.02 | BI64: 0 | BJ64: 0 | BL64: 0.8 | BM64: 0.66 | BO64: 0.95 | BP64: 1 | BQ64: 0.0025
A65: BAS RHIN | B65: STRASBOURG | C65: BISCHHEIM | D65: 2.7952904 | F65: 0.03 | G65: 0.03 | I65: 2 | J65: 2 | L65: 2630.0652 | M65: 683.55391 | N65: 3313.6191 | O65: 1185.4293 | P65: 264.729 | Q65: 4.4778974 | R65: 2505.5452 | S65: 0.01 | T65: 0.01 | U65: 0 | V65: 0 | X65: 1382.0651 | Y65: 494.42632 | Z65: 573 | AA65: 0.86287316 | AB65: -366.99278 | AE65: 220 | AF65: 540 | AH65: 149.75 | AI65: 53.572252 | AJ65: 63 | AK65: 0.85035321 | AL65: -42.554795 | AO65: 27 | AP65: 62 | AR65: 14 | AS65: 5.0084242 | AT65: 16 | AU65: 0.31302652 | AV65: -34.839313 | AY65: 31 | AZ65: 40 | BB65: 124.2 | BC65: 44.431878 | BD65: 32 | BE65: 1.3884962 | BF65: 26.521374 | BG65: 0.02 | BH65: 0.02 | BI65: 0 | BJ65: 0 | BL65: 0.8 | BM65: 0.68 | BO65: 0.95 | BP65: 0.9
A66: BAS RHIN | B66: STRASBOURG | C66: LA WANTZENAU | D66: 1.4210881 | F66: 0.03 | G66: 0.03 | I66: 3 | J66: 3 | L66: 2098.7774 | M66: 1048.6189 | N66: 3147.3963 | O66: 2214.7792 | P66: 287.5 | Q66: 7.7035799 | R66: 2701.2457 | S66: 0.01 | T66: 0.01 | U66: 0 | V66: 0 | X66: 980.39894 | Y66: 689.89316 | Z66: 573 | AA66: 1.204002 | AB66: 91.201395 | AC66: 0.02 | AD66: 0.02 | AE66: 0 | AF66: 0 | AH66: 61.2 | AI66: 43.065593 | AJ66: 63 | AK66: 0.68358083 | AL66: -36.565175 | AO66: 29 | AP66: 47 | AR66: 10.6 | AS66: 7.4590732 | AT66: 16 | AU66: 0.46619208 | AV66: -14.229251 | AY66: 13 | AZ66: 17 | BB66: 40.6 | BC66: 28.569658 | BD66: 32 | BE66: 0.89280181 | BF66: -9.0585017 | BI66: 5 | BJ66: 14 | BL66: 0.8 | BM66: 0.75 | BO66: 0.95 | BP66: 1 | BQ66: 0.0025
A67: BAS RHIN | B67: STRASBOURG | C67: MUNDOLSHEIM | D67: 4.3565892 | F67: 0.03 | G67: 0.03 | I67: 3 | J67: 3 | L67: 3638.6355 | M67: 1926.1174 | N67: 5564.7529 | O67: 1277.3187 | P67: 287.5 | Q67: 4.4428477 | R67: 4197.0017 | S67: 0.01 | T67: 0.01 | U67: 0 | V67: 0 | X67: 1950.4331 | Y67: 447.69728 | Z67: 573 | AA67: 0.7813216 | AB67: -775.55444 | AE67: 546 | AF67: 1046 | AH67: 153.4 | AI67: 35.211032 | AJ67: 63 | AK67: 0.55890527 | AL67: -146.31591 | AO67: 122 | AP67: 176 | AR67: 44.4 | AS67: 10.191459 | AT67: 16 | AU67: 0.63696619 | AV67: -31.718326 | AY67: 26 | AZ67: 40 | BB67: 191.6 | BC67: 43.979359 | BD67: 32 | BE67: 1.374355 | BF67: 39.363348 | BG67: 0.02 | BH67: 0.02 | BI67: 0 | BJ67: 0 | BL67: 0.8 | BM67: 0.75 | BO67: 0.95 | BP67: 1 | BQ67: 0.0025
A68: BAS RHIN | B68: STRASBOURG | C68: OBERHAUSBERGEN | D68: 4.5469934 | F68: 0.052 | G68: 0.034 | I68: 5 | J68: 4 | L68: 4450.6453 | M68: 1519.2634 | N68: 5969.9088 | O68: 1312.9354 | P68: 287.5 | Q68: 4.5667319 | R68: 4542.3802 | S68: 0.01 | T68: 0.01 | U68: 0 | V68: 0 | X68: 2706.6021 | Y68: 595.25093 | Z68: 573 | AA68: 1.0388323 | AB68: -138.52446 | AC68: 0.014 | AD68: 0.004 | AE68: 0 | AF68: 420 | AH68: 280.55 | AI68: 61.700111 | AJ68: 63 | AK68: 0.97936684 | AL68: -32.26496 | AM68: 0.008 | AO68: 6 | AP68: 64 | AR68: 39.2 | AS68: 8.6210813 | AT68: 16 | AU68: 0.53881758 | AV68: -40.245069 | AY68: 34 | AZ68: 49 | BB68: 208.8 | BC68: 45.920453 | BD68: 32 | BE68: 1.4350142 | BF68: 49.909861 | BG68: 0.02 | BH68: 0.02 | BI68: 0 | BJ68: 0 | BL68: 0.8 | BM68: 0.77 | BO68: 0.95 | BP68: 1 | BQ68: 0.0025
A69: BAS RHIN | B69: STRASBOURG | C69: REICHSTETT | D69: 1.5103209 | F69: 0.031 | G69: 0.0125 | I69: 4 | J69: 3 | L69: 542.33698 | M69: -335.13474 | N69: 207.20224 | O69: 137.19087 | P69: 287.5 | Q69: 0.47718563 | R69: -266.96301 | U69: 228 | V69: 314 | X69: 617.26729 | Y69: 408.69943 | Z69: 573 | AA69: 0.71326252 | AB69: -327.76467 | AE69: 249 | AF69: 422 | AH69: 89.15 | AI69: 59.02719 | AJ69: 63 | AK69: 0.93693952 | AL69: -14.754038 | AM69: 0.003 | AO69: 7 | AP69: 26 | AR69: 25.4 | AS69: 16.817618 | AT69: 16 | AU69: 1.0511011 | AV69: -0.98832718 | AW69: 0.008 | AX69: 0.0025 | AY69: 0 | AZ69: 4 | BB69: 53.4 | BC69: 35.356724 | BD69: 32 | BE69: 1.1048976 | BF69: 0.62334565 | BG69: 0.02 | BH69: 0.01 | BI69: 0 | BJ69: 5 | BL69: 0.8 | BM69: 0.65 | BO69: 0.95 | BP69: 1 | BQ69: 0.0025
A70: BAS RHIN | B70: STRASBOURG | C70: SCHILTIGHEIM CENTRE | D70: 3.0536944 | F70: 0.0345 | G70: 0.03 | I70: 4 | J70: 3 | L70: 2768.2327 | M70: 650.34237 | N70: 3418.575 | O70: 1119.4883 | P70: 253.321 | Q70: 4.4192478 | R70: 2573.8422 | S70: 0.01 | T70: 0.01 | U70: 0 | V70: 0 | X70: 1448.0343 | Y70: 474.19098 | Z70: 573 | AA70: 0.82755842 | AB70: -462.71111 | AE70: 302 | AF70: 652 | AH70: 119.3 | AI70: 39.067433 | AJ70: 63 | AK70: 0.62011798 | AL70: -90.781958 | AO70: 74 | AP70: 112 | AR70: 48.6 | AS70: 15.915149 | AT70: 16 | AU70: 0.9946968 | AV70: -4.754148 | AW70: 0.0045 | AY70: 1 | AZ70: 11 | BB70: 164 | BC70: 53.70544 | BD70: 32 | BE70: 1.678295 | BF70: 57.291704 | BG70: 0.02 | BH70: 0.02 | BI70: 0 | BJ70: 0 | BL70: 0.8 | BM70: 0.62 | BO70: 0.95 | BP70: 1 | BQ70: 0.0025
A71: BAS RHIN | B71: STRASBOURG | C71: SCHILTIGHEIM KLEBER | D71: 2.1938048 | F71: 0.041 | G71: 0.031 | I71: 4 | J71: 4 | L71: 1984.3654 | M71: 188.55948 | N71: 2172.9249 | O71: 990.48235 | P71: 252.248 | Q71: 3.9266212 | R71: 1568.6308 | S71: 0.01 | T71: 0.01 | U71: 0 | V71: 0 | X71: 1267.2596 | Y71: 577.65375 | Z71: 573 | AA71: 1.0081217 | AB71: -105.4392 | AC71: 0.011 | AD71: 0.001 | AE71: 0 | AF71: 242 | AH71: 114.9 | AI71: 52.37476 | AJ71: 63 | AK71: 0.8313454 | AL71: -36.024994 | AO71: 24 | AP71: 51 | AR71: 24.8 | AS71: 11.304561 | AT71: 16 | AU71: 0.70653506 | AV71: -13.530157 | AY71: 11 | AZ71: 18 | BB71: 85.4 | BC71: 38.927803 | BD71: 32 | BE71: 1.2164938 | BF71: 8.7396856 | BG71: 0.02 | BH71: 0.02 | BI71: 0 | BJ71: 0 | BL71: 0.8 | BM71: 0.74 | BO71: 0.95 | BP71: 1 | BQ71: 0.0025
A72: BAS RHIN | B72: STRASBOURG | C72: STRASBOURG ANVERS | D72: 4.5919047 | F72: 0.08 | G72: 0.0655 | I72: 6 | J72: 6 | L72: 2959.4051 | M72: 1167.2518 | N72: 4126.6569 | O72: 898.68088 | P72: 287.5 | Q72: 3.1258465 | R72: 2685.0285 | S72: 0.01 | T72: 0.01 | U72: 0 | V72: 0 | X72: 2881.0345 | Y72: 627.41602 | Z72: 573 | AA72: 1.0949669 | AB72: 7.8063314 | AC72: 0.02 | AD72: 0.009 | AE72: 0 | AF72: 277 | AH72: 362.75 | AI72: 78.99772 | AJ72: 63 | AK72: 1.2539321 | AL72: 46.845327 | AM72: 0.02 | AN72: 0.02 | AO72: 0 | AP72: 0 | AR72: 83 | AS72: 18.075288 | AT72: 16 | AU72: 1.1297055 | AV72: 2.7702419 | AW72: 0.01 | AX72: 0.0065 | AY72: 0 | AZ72: 6 | BB72: 232.8 | BC72: 50.697917 | BD72: 32 | BE72: 1.5843099 | BF72: 72.340484 | BG72: 0.02 | BH72: 0.02 | BI72: 0 | BJ72: 0 | BL72: 0.8 | BM72: 0.62 | BO72: 0.95 | BP72: 0.96 | BQ72: 0.0005
A73: BAS RHIN | B73: STRASBOURG | C73: STRASBOURG AUSTERLITZ | D73: 2.7606706 | F73: 0.05 | G73: 0.039 | I73: 4 | J73: 4 | L73: 2026.9545 | M73: 1026.903 | N73: 3053.8575 | O73: 1106.2013 | P73: 276.398 | Q73: 4.0022046 | R73: 2220.6137 | S73: 0.01 | T73: 0.01 | U73: 0 | V73: 0 | X73: 1751.5229 | Y73: 634.45559 | Z73: 573 | AA73: 1.1072523 | AB73: 24.12713 | AC73: 0.02 | AD73: 0.011 | AE73: 0 | AF73: 147 | AH73: 157.9 | AI73: 57.196248 | AJ73: 63 | AK73: 0.90787695 | AL73: -32.023096 | AM73: 0 | AO73: 17 | AP73: 51 | AR73: 29.8 | AS73: 10.794479 | AT73: 16 | AU73: 0.67465492 | AV73: -18.434437 | AY73: 15 | AZ73: 24 | BB73: 104 | BC73: 37.672006 | BD73: 32 | BE73: 1.1772502 | BF73: 7.531126 | BG73: 0.02 | BH73: 0.018 | BI73: 0 | BJ73: 3 | BL73: 0.8 | BM73: 0.72 | BO73: 0.95 | BP73: 1 | BQ73: 0.0025
A74: BAS RHIN | B74: STRASBOURG | C74: STRASBOURG CRONENBOURG | D74: 5.5965996 | F74: 0.04 | G74: 0.035 | I74: 4 | J74: 4 | L74: 2613.0964 | M74: 1358.6611 | N74: 3971.7575 | O74: 709.67333 | P74: 242.338 | Q74: 2.9284443 | R74: 2490.712 | S74: 0.01 | T74: 0.01 | U74: 0 | V74: 0 | X74: 2060.1639 | Y74: 368.10993 | Z74: 573 | AA74: 0.64242571 | AB74: -1441.718 | AE74: 1147 | AF74: 1789 | AH74: 274.8 | AI74: 49.101243 | AJ74: 63 | AK74: 0.77938481 | AL74: -110.22367 | AO74: 78 | AP74: 149 | AR74: 98.5 | AS74: 17.599973 | AT74: 16 | AU74: 1.0999983 | AV74: 0.71621092 | AW74: 0.01 | AX74: 0.005 | AY74: 0 | AZ74: 9 | BB74: 261.6 | BC74: 46.742668 | BD74: 32 | BE74: 1.4607084 | BF74: 66.032422 | BG74: 0.02 | BH74: 0.02 | BI74: 0 | BJ74: 0 | BL74: 0.8 | BM74: 0.69 | BO74: 0.95 | BP74: 1 | BQ74: 0.0025
A75: BAS RHIN | B75: STRASBOURG | C75: STRASBOURG DANUBE | D75: 4.2868855 | F75: 0.003 | I75: 1 | J75: 0 | L75: 1191.4129 | M75: -1503.871 | N75: -312.45802 | O75: -72.886952 | P75: 275.595 | Q75: -0.26447124 | R75: -1602.5951 | U75: 1494 | V75: 1731 | X75: 2293.6746 | Y75: 535.04452 | Z75: 573 | AA75: 0.93376007 | AB75: -388.69827 | AC75: 0.003 | AE75: 163 | AF75: 654 | AH75: 165.4 | AI75: 38.582789 | AJ75: 63 | AK75: 0.61242522 | AL75: -129.52058 | AO75: 105 | AP75: 159 | AR75: 9 | AS75: 2.0994262 | AT75: 16 | AU75: 0.13121414 | AV75: -65.900464 | AY75: 60 | AZ75: 74 | BB75: 121.4 | BC75: 28.318927 | BD75: 32 | BE75: 0.88496648 | BF75: -28.400928 | BI75: 16 | BJ75: 44 | BL75: 0.8 | BM75: 0.72 | BO75: 0.95 | BP75: 0.89
A76: BAS RHIN | B76: STRASBOURG | C76: STRASBOURG FRANCS BOURGEOIS | D76: 5.9599043 | F76: 0.025 | G76: 0.012 | I76: 4 | J76: 3 | L76: 5538.9619 | M76: 4971.8768 | N76: 10510.839 | O76: 1763.5919 | P76: 283.694 | Q76: 6.2165286 | R76: 8664.497 | S76: 0.01 | T76: 0.01 | U76: 0 | V76: 0 | X76: 3209.5447 | Y76: 538.52285 | Z76: 573 | AA76: 0.93983046 | AB76: -519.66281 | AC76: 0.003 | AE76: 206 | AF76: 889 | AH76: 255.5 | AI76: 42.869816 | AJ76: 63 | AK76: 0.68047327 | AL76: -154.51758 | AO76: 120 | AP76: 196 | AR76: 31.8 | AS76: 5.3356561 | AT76: 16 | AU76: 0.33347851 | AV76: -72.331448 | AY76: 64 | AZ76: 83 | BB76: 195 | BC76: 32.718646 | BD76: 32 | BE76: 1.0224577 | BF76: -13.262896 | BG76: 0.012 | BH76: 0.002 | BI76: 0 | BJ76: 34 | BL76: 0.8 | BM76: 0.62 | BO76: 0.95 | BP76: 1 | BQ76: 0.0025
A77: BAS RHIN | B77: STRASBOURG | C77: STRASBOURG HALLES | D77: 8.4737408 | F77: 0.04 | G77: 0.03 | I77: 5 | J77: 3 | L77: 12506.708 | M77: 6327.1191 | N77: 18833.827 | O77: 2222.6107 | P77: 248.646 | Q77: 8.9388558 | R77: 16533.025 | S77: 0.01 | T77: 0.01 | U77: 0 | V77: 0 | X77: 3410.4607 | Y77: 402.47405 | Z77: 573 | AA77: 0.70239798 | AB77: -1891.6945 | AE77: 1445 | AF77: 2417 | AH77: 517.6 | AI77: 61.082822 | AJ77: 63 | AK77: 0.9695686 | AL77: -65.359471 | AM77: 0.007 | AO77: 17 | AP77: 124 | AR77: 130.8 | AS77: 15.435922 | AT77: 16 | AU77: 0.96474511 | AV77: -17.253199 | AW77: 0.003 | AY77: 5 | AZ77: 32 | BB77: 674.8 | BC77: 79.634251 | BD77: 32 | BE77: 2.4885703 | BF77: 378.6936 | BG77: 0.02 | BH77: 0.02 | BI77: 0 | BJ77: 0 | BL77: 0.8 | BM77: 0.58 | BO77: 0.95 | BP77: 1 | BQ77: 0.0025
A78: BAS RHIN | B78: STRASBOURG | C78: STRASBOURG KOENIGSHOFFEN | D78: 2.790258 | F78: 0.012 | G78: 0.002 | I78: 1 | J78: 1 | L78: 866.89889 | M78: -827.78739 | N78: 39.1115 | O78: 14.017163 | P78: 256.806 | Q78: 0.054582692 | R78: -743.36655 | U78: 678 | V78: 821 | X78: 628.49266 | Y78: 225.24536 | Z78: 573 | AA78: 0.39309836 | AB78: -1117.4164 | AE78: 971 | AF78: 1291 | AH78: 130.95 | AI78: 46.931145 | AJ78: 63 | AK78: 0.7449388 | AL78: -61.008587 | AO78: 45 | AP78: 80 | AR78: 10.3 | AS78: 3.691415 | AT78: 16 | AU78: 0.23071343 | AV78: -38.451387 | AY78: 35 | AZ78: 44 | BB78: 91.4 | BC78: 32.756828 | BD78: 32 | BE78: 1.0236509 | BF78: -6.1027744 | BG78: 0.012 | BH78: 0.002 | BI78: 0 | BJ78: 16 | BL78: 0.8 | BM78: 0.73 | BO78: 0.95 | BP78: 0.88
A79: BAS RHIN | B79: STRASBOURG | C79: STRASBOURG MEINAU | D79: 2.4499054 | F79: 0.06 | G79: 0.059 | I79: 4 | J79: 4 | L79: 1040.0248 | M79: -573.30325 | N79: 466.72153 | O79: 190.50594 | P79: 249.555 | Q79: 0.76338257 | R79: -200.91215 | U79: 145 | V79: 267 | X79: 1669.5596 | Y79: 681.47921 | Z79: 573 | AA79: 1.189318 | AB79: 136.61458 | AC79: 0.02 | AD79: 0.019 | AE79: 0 | AF79: 15 | AH79: 202.4 | AI79: 82.615434 | AJ79: 63 | AK79: 1.3113561 | AL79: 33.856306 | AM79: 0.02 | AN79: 0.02 | AO79: 0 | AP79: 0 | AR79: 17.8 | AS79: 7.2655866 | AT79: 16 | AU79: 0.45409916 | AV79: -25.004748 | AY79: 22 | AZ79: 30 | BB79: 137 | BC79: 55.920526 | BD79: 32 | BE79: 1.7475164 | BF79: 51.390505 | BG79: 0.02 | BH79: 0.02 | BI79: 0 | BJ79: 0 | BL79: 0.8 | BM79: 0.67 | BO79: 0.95 | BP79: 1 | BQ79: 0.0025
A80: BAS RHIN | B80: STRASBOURG | C80: STRASBOURG MONTAGNE VERTE | D80: 2.6774807 | F80: 0.055 | G80: 0.044 | I80: 5 | J80: 4 | L80: 1331.5433 | M80: 525.03215 | N80: 1856.5754 | O80: 693.40386 | P80: 236.183 | Q80: 2.9358754 | R80: 1166.0215 | S80: 0.01 | T80: 0.01 | U80: 0 | V80: 0 | X80: 1471.969 | Y80: 549.75897 | Z80: 573 | AA80: 0.95943974 | AB80: -203.37347 | AC80: 0.005 | AE80: 63 | AF80: 370 | AH80: 192.05 | AI80: 71.727876 | AJ80: 63 | AK80: 1.1385377 | AL80: 7.8500412 | AM80: 0.02 | AN80: 0.014 | AO80: 0 | AP80: 11 | AR80: 29.2 | AS80: 10.905774 | AT80: 16 | AU80: 0.6816109 | AV80: -17.580942 | AY80: 14 | AZ80: 23 | BB80: 132.6 | BC80: 49.524167 | BD80: 32 | BE80: 1.5476302 | BF80: 39.038116 | BG80: 0.02 | BH80: 0.02 | BI80: 0 | BJ80: 0 | BL80: 0.8 | BM80: 0.68 | BO80: 0.95 | BP80: 1 | BQ80: 0.0025
A81: BAS RHIN | B81: STRASBOURG | C81: STRASBOURG NEUDORF | D81: 5.5613446 | F81: 0.03 | G81: 0.03 | I81: 3 | J81: 3 | L81: 3887.8038 | M81: 322.66261 | N81: 4210.4664 | O81: 757.09504 | P81: 255.63 | Q81: 2.961683 | R81: 2658.0284 | S81: 0.01 | T81: 0.01 | U81: 0 | V81: 0 | X81: 2339.0345 | Y81: 420.58794 | Z81: 573 | AA81: 0.73401037 | AB81: -1140.7878 | AE81: 848 | AF81: 1485 | AH81: 252.5 | AI81: 45.402689 | AJ81: 63 | AK81: 0.72067761 | AL81: -130.09826 | AO81: 98 | AP81: 168 | AR81: 42.8 | AS81: 7.6959806 | AT81: 16 | AU81: 0.48099879 | AV81: -54.367812 | AY81: 47 | AZ81: 64 | BB81: 215.2 | BC81: 38.695678 | BD81: 32 | BE81: 1.2092399 | BF81: 20.864375 | BG81: 0.02 | BH81: 0.02 | BI81: 0 | BJ81: 0 | BL81: 0.8 | BM81: 0.62 | BO81: 0.95 | BP81: 1 | BQ81: 0.0025
A82: BAS RHIN | B82: STRASBOURG | C82: STRASBOURG ROBERTSAU | D82: 4.6816911 | F82: 0.03 | G82: 0.03 | I82: 3 | J82: 3 | L82: 5057.3916 | M82: 1754.2879 | N82: 6811.6795 | O82: 1454.9613 | P82: 287.5 | Q82: 5.0607351 | R82: 5341.8626 | S82: 0.01 | T82: 0.01 | U82: 0 | V82: 0 | X82: 2291.7196 | Y82: 489.50679 | Z82: 573 | AA82: 0.85428759 | AB82: -637.68945 | AE82: 391 | AF82: 928 | AH82: 184.2 | AI82: 39.344758 | AJ82: 63 | AK82: 0.62451996 | AL82: -137.88162 | AO82: 111 | AP82: 170 | AR82: 57 | AS82: 12.175088 | AT82: 16 | AU82: 0.76094299 | AV82: -24.798506 | AY82: 18 | AZ82: 33 | BB82: 206.2 | BC82: 44.043914 | BD82: 32 | BE82: 1.3763723 | BF82: 42.602987 | BG82: 0.02 | BH82: 0.02 | BI82: 0 | BJ82: 0 | BL82: 0.8 | BM82: 0.65 | BO82: 0.95 | BP82: 1 | BQ82: 0.0025
A83: BAS RHIN | B83: STRASBOURG | C83: STRASBOURG STOCKFELD | D83: 2.8572872 | F83: 0.03 | G83: 0.03 | I83: 3 | J83: 3 | L83: 572.47702 | M83: 707.64793 | N83: 1280.1249 | O83: 448.02111 | P83: 255.63 | Q83: 1.7526155 | R83: 482.51907 | S83: 0.01 | T83: 0.01 | U83: 0 | V83: 0 | X83: 598.53378 | Y83: 209.47624 | Z83: 573 | AA83: 0.36557809 | AB83: -1189.3165 | AE83: 1039 | AF83: 1367 | AH83: 141.1 | AI83: 49.382506 | AJ83: 63 | AK83: 0.7838493 | AL83: -55.469927 | AO83: 39 | AP83: 75 | AR83: 15.6 | AS83: 5.4597243 | AT83: 16 | AU83: 0.34123277 | AV83: -34.322521 | AY83: 31 | AZ83: 40 | BB83: 118.4 | BC83: 41.437907 | BD83: 32 | BE83: 1.2949346 | BF83: 18.554958 | BG83: 0.02 | BH83: 0.02 | BI83: 0 | BJ83: 0 | BL83: 0.8 | BM83: 0.66 | BO83: 0.95 | BP83: 1 | BQ83: 0.0025
A84: BAS RHIN | B84: STRASBOURG | C84: STRASBOURG VOSGES | D84: 3.2583337 | F84: 0.01 | G84: 0.01 | I84: 1 | J84: 1 | L84: 3569.116 | M84: 1180.9086 | N84: 4750.0246 | O84: 1457.8079 | P84: 287.5 | Q84: 5.0706362 | R84: 3727.0708 | S84: 0.01 | T84: 0.01 | U84: 0 | V84: 0 | X84: 1255.3791 | Y84: 385.28254 | Z84: 573 | AA84: 0.67239536 | AB84: -783.41243 | AE84: 612 | AF84: 986 | AH84: 62.05 | AI84: 19.043476 | AJ84: 63 | AK84: 0.3022774 | AL84: -162.11032 | AO84: 144 | AP84: 185 | AR84: 14.6 | AS84: 4.4808179 | AT84: 16 | AU84: 0.28005112 | AV84: -42.329606 | AY84: 38 | AZ84: 48 | BB84: 79.2 | BC84: 24.306903 | BD84: 32 | BE84: 0.75959071 | BF84: -34.659213 | BI84: 26 | BJ84: 46 | BL84: 0.8 | BM84: 0.64 | BO84: 0.95 | BP84: 0.79
A85: HAUT RHIN | B85: COLMAR | C85: COLMAR MARAICHERS | D85: 3.7189132 | F85: 0.023 | G85: 0.012 | I85: 3 | J85: 3 | L85: 10981.79 | M85: 2581.7433 | N85: 13563.533 | O85: 3647.1767 | P85: 287.5 | Q85: 12.685832 | R85: 12395.98 | S85: 0.01 | T85: 0.01 | U85: 0 | V85: 0 | X85: 2181.9896 | Y85: 586.72777 | Z85: 573 | AA85: 1.0239577 | AB85: -144.99385 | AC85: 0.013 | AD85: 0.002 | AE85: 0 | AF85: 376 | AH85: 157.9 | AI85: 42.458641 | AJ85: 63 | AK85: 0.67394669 | AL85: -97.946349 | AO85: 77 | AP85: 124 | AR85: 19.2 | AS85: 5.1627987 | AT85: 16 | AU85: 0.32267492 | AV85: -45.776851 | AY85: 41 | AZ85: 53 | BB85: 104.4 | BC85: 28.072718 | BD85: 32 | BE85: 0.87727244 | BF85: -25.553701 | BI85: 15 | BJ85: 39 | BL85: 0.8 | BM85: 0.73 | BO85: 0.95 | BP85: 1 | BQ85: 0.0025
A86: HAUT RHIN | B86: COLMAR | C86: COLMAR REPUBLIQUE | D86: 8.0608712 | F86: 0.03 | G86: 0.02 | I86: 3 | J86: 3 | L86: 3791.7838 | M86: 4305.2136 | N86: 8096.9974 | O86: 1004.4817 | P86: 287.5 | Q86: 3.4938493 | R86: 5566.2869 | S86: 0.01 | T86: 0.01 | U86: 0 | V86: 0 | X86: 2678.2146 | Y86: 332.24877 | Z86: 573 | AA86: 0.57984079 | AB86: -2365.6015 | AE86: 1941 | AF86: 2865 | AH86: 290.4 | AI86: 36.025883 | AJ86: 63 | AK86: 0.57183941 | AL86: -264.1557 | AO86: 218 | AP86: 320 | AR86: 51.6 | AS86: 6.4012932 | AT86: 16 | AU86: 0.40008082 | AV86: -89.239542 | AY86: 78 | AZ86: 104 | BB86: 283.4 | BC86: 35.15749 | BD86: 32 | BE86: 1.0986716 | BF86: 1.7209167 | BG86: 0.02 | BH86: 0.01 | BI86: 0 | BJ86: 27 | BL86: 0.8 | BM86: 0.6 | BO86: 0.95 | BP86: 1 | BQ86: 0.0025
A87: HAUT RHIN | B87: COLMAR | C87: COLMAR SAINTE MARIE | D87: 6.5973797 | F87: 0.03 | G87: 0.026 | I87: 3 | J87: 3 | L87: 12123.341 | M87: 1975.315 | N87: 14098.656 | O87: 2137.0084 | P87: 271.31 | Q87: 7.8766297 | R87: 12144.047 | S87: 0.01 | T87: 0.01 | U87: 0 | V87: 0 | X87: 2980.2935 | Y87: 451.73897 | Z87: 573 | AA87: 0.78837517 | AB87: -1147.7925 | AE87: 801 | AF87: 1557 | AH87: 301.3 | AI87: 45.669647 | AJ87: 63 | AK87: 0.72491502 | AL87: -152.57334 | AO87: 115 | AP87: 198 | AR87: 49.4 | AS87: 7.4878212 | AT87: 16 | AU87: 0.46798883 | AV87: -65.869418 | AY87: 57 | AZ87: 78 | BB87: 244.4 | BC87: 37.04501 | BD87: 32 | BE87: 1.1576566 | BF87: 13.861163 | BG87: 0.02 | BH87: 0.016 | BI87: 0 | BJ87: 9 | BL87: 0.8 | BM87: 0.74 | BO87: 0.95 | BP87: 1 | BQ87: 0.0025
A88: HAUT RHIN | B88: COLMAR | C88: COLMAR SAINT JOSEPH | D88: 1.0089105 | F88: 0.02 | G88: 0.02 | I88: 2 | J88: 2 | L88: -8790.1266 | M88: -1747.7088 | N88: -10537.835 | O88: -10444.767 | P88: 287.5 | Q88: -36.329624 | R88: -10854.583 | U88: 10828 | V88: 10886 | X88: 354.96262 | Y88: 351.82764 | Z88: 573 | AA88: 0.61400985 | AB88: -276.32885 | AE88: 224 | AF88: 339 | AH88: 23.6 | AI88: 23.391568 | AJ88: 63 | AK88: 0.37129474 | AL88: -45.80901 | AO88: 40 | AP88: 53 | AT88: 16 | AY88: 17 | AZ88: 20 | BB88: 60.4 | BC88: 59.866556 | BD88: 32 | BE88: 1.8708299 | BF88: 25.14463 | BG88: 0.02 | BH88: 0.02 | BI88: 0 | BJ88: 0 | BL88: 0.8 | BO88: 0.95 | BP88: 1 | BQ88: 0.0025
A89: HAUT RHIN | B89: COLMAR | C89: COLMAR VAUBAN | D89: 1.630227 | I89: 2 | J89: 2 | L89: -7930.2477 | M89: -1204.0251 | N89: -9134.2728 | O89: -5603.0681 | P89: 264.71 | Q89: -21.166817 | R89: -9605.5117 | U89: 9566 | V89: 9653 | X89: 368.50261 | Y89: 226.04374 | Z89: 573 | AA89: 0.39449169 | AB89: -651.55651 | AE89: 566 | AF89: 753 | AH89: 65.2 | AI89: 39.99443 | AJ89: 63 | AK89: 0.63483223 | AL89: -46.953097 | AO89: 38 | AP89: 59 | AR89: 1.8 | AS89: 1.1041407 | AT89: 16 | AU89: 0.069008794 | AV89: -26.683326 | AY89: 25 | AZ89: 30 | BB89: 26 | BC89: 15.948699 | BD89: 32 | BE89: 0.49839685 | BF89: -30.966652 | BI89: 27 | BJ89: 37 | BL89: 0.8 | BM89: 1 | BN89: 0.0075 | BO89: 0.95 | BP89: 1 | BQ89: 0.0025
A90: HAUT RHIN | B90: COLMAR | C90: ENSISHEIM | D90: 4.5991464 | F90: 0.03 | G90: 0.023 | I90: 3 | J90: 3 | L90: 1382.6416 | M90: 3797.6312 | N90: 5180.2728 | O90: 1126.3553 | P90: 265.835 | Q90: 4.2370466 | R90: 3845.1782 | S90: 0.01 | T90: 0.01 | U90: 0 | V90: 0 | X90: 2268.5605 | Y90: 493.25685 | Z90: 573 | AA90: 0.86083221 | AB90: -609.19901 | AE90: 367 | AF90: 894 | AH90: 262.4 | AI90: 57.054065 | AJ90: 63 | AK90: 0.90562008 | AL90: -54.002877 | AM90: 0 | AO90: 28 | AP90: 86 | AR90: 57 | AS90: 12.393604 | AT90: 16 | AU90: 0.77460026 | AV90: -23.356286 | AY90: 17 | AZ90: 32 | BB90: 166.4 | BC90: 36.180627 | BD90: 32 | BE90: 1.1306446 | BF90: 5.6874274 | BG90: 0.02 | BH90: 0.013 | BI90: 0 | BJ90: 11 | BL90: 0.8 | BM90: 0.74 | BO90: 0.95 | BP90: 1 | BQ90: 0.0025
A91: HAUT RHIN | B91: COLMAR | C91: GUEBWILLER | D91: 5.85877 | F91: 0.02 | G91: 0.02 | I91: 2 | J91: 2 | L91: -3443.7293 | M91: 3151.4464 | N91: -292.28297 | O91: -49.888111 | P91: 266.378 | Q91: -0.18728315 | R91: -1996.51 | U91: 1853 | V91: 2166 | X91: 2456.0586 | Y91: 419.21061 | Z91: 573 | AA91: 0.73160666 | AB91: -1209.8676 | AE91: 902 | AF91: 1573 | AH91: 291.2 | AI91: 49.703266 | AJ91: 63 | AK91: 0.78894072 | AL91: -111.85994 | AO91: 78 | AP91: 152 | AR91: 22.4 | AS91: 3.8233281 | AT91: 16 | AU91: 0.23895801 | AV91: -79.964429 | AY91: 72 | AZ91: 91 | BB91: 226 | BC91: 38.57465 | BD91: 32 | BE91: 1.2054578 | BF91: 21.271142 | BG91: 0.02 | BH91: 0.02 | BI91: 0 | BJ91: 0 | BL91: 0.8 | BM91: 0.72 | BO91: 0.95 | BP91: 1 | BQ91: 0.0025
A92: HAUT RHIN | B92: COLMAR | C92: HORBOURG WIHR | D92: 3.2458374 | F92: 0.039 | G92: 0.03 | I92: 5 | J92: 3 | L92: 1648.2811 | M92: 2219.8702 | N92: 3868.1513 | O92: 1191.7268 | P92: 247.025 | Q92: 4.8243165 | R92: 2992.5825 | S92: 0.01 | T92: 0.01 | U92: 0 | V92: 0 | X92: 1758.4251 | Y92: 541.74775 | Z92: 573 | AA92: 0.94545855 | AB92: -272.5473 | AC92: 0.004 | AE92: 102 | AF92: 474 | AH92: 195.3 | AI92: 60.169373 | AJ92: 63 | AK92: 0.95506941 | AL92: -28.000629 | AM92: 0.005 | AO92: 10 | AP92: 51 | AR92: 24.6 | AS92: 7.5789379 | AT92: 16 | AU92: 0.47368362 | AV92: -32.111271 | AY92: 28 | AZ92: 38 | BB92: 133.6 | BC92: 41.160411 | BD92: 32 | BE92: 1.2862628 | BF92: 20.177458 | BG92: 0.02 | BH92: 0.02 | BI92: 0 | BJ92: 0 | BL92: 0.8 | BM92: 0.72 | BO92: 0.95 | BP92: 1 | BQ92: 0.0025
A93: HAUT RHIN | B93: COLMAR | C93: INGERSHEIM | D93: 5.9735728 | F93: 0.01 | G93: 0.01 | I93: 2 | J93: 2 | L93: 3828.32 | M93: 2968.0698 | N93: 6796.3898 | O93: 1137.7428 | P93: 287.5 | Q93: 3.9573664 | R93: 4920.9866 | S93: 0.01 | T93: 0.01 | U93: 0 | V93: 0 | X93: 2159.1285 | Y93: 361.44675 | Z93: 573 | AA93: 0.63079712 | AB93: -1578.6316 | AE93: 1264 | AF93: 1949 | AH93: 319.6 | AI93: 53.502319 | AJ93: 63 | AK93: 0.84924316 | AL93: -91.357918 | AO93: 57 | AP93: 133 | AR93: 32.4 | AS93: 5.4238897 | AT93: 16 | AU93: 0.3389931 | AV93: -71.970265 | AY93: 64 | AZ93: 83 | BB93: 142.2 | BC93: 23.804849 | BD93: 32 | BE93: 0.74390153 | BF93: -66.54053 | BI93: 49 | BJ93: 88 | BL93: 0.8 | BM93: 0.76 | BO93: 0.95 | BP93: 1 | BQ93: 0.0025
A94: HAUT RHIN | B94: COLMAR | C94: MUNSTER | D94: 5.3472903 | F94: 0.009 | G94: 0.0035 | I94: 2 | J94: 2 | L94: 2720.6028 | M94: -1069.4541 | N94: 1651.1486 | O94: 308.78231 | P94: 287.5 | Q94: 1.0740254 | R94: -27.63314 | S94: 0.009 | T94: 0.0035 | U94: 0 | V94: 194 | X94: 2395.7059 | Y94: 448.02242 | Z94: 573 | AA94: 0.78188904 | AB94: -950.17916 | AE94: 669 | AF94: 1282 | AH94: 303.35 | AI94: 56.729668 | AJ94: 63 | AK94: 0.90047092 | AL94: -64.522181 | AO94: 34 | AP94: 101 | AR94: 15.1 | AS94: 2.8238602 | AT94: 16 | AU94: 0.17649126 | AV94: -78.327856 | AY94: 71 | AZ94: 88 | BB94: 138 | BC94: 25.807464 | BD94: 32 | BE94: 0.80648324 | BF94: -48.855711 | BI94: 34 | BJ94: 68 | BL94: 0.8 | BM94: 0.7 | BO94: 0.95 | BP94: 1 | BQ94: 0.0025
A95: HAUT RHIN | B95: COLMAR | C95: MUNTZENHEIM | D95: 1.8576732 | F95: 0.041 | G95: 0.031 | I95: 4 | J95: 4 | L95: 1523.6889 | M95: 719.93365 | N95: 2243.6225 | O95: 1207.7595 | P95: 247.025 | Q95: 4.8892198 | R95: 1742.5127 | S95: 0.01 | T95: 0.01 | U95: 0 | V95: 0 | X95: 1074.056 | Y95: 578.17273 | Z95: 573 | AA95: 1.0090275 | AB95: -88.319859 | AC95: 0.011 | AD95: 0.001 | AE95: 0 | AF95: 204 | AH95: 100.7 | AI95: 54.207596 | AJ95: 63 | AK95: 0.86043804 | AL95: -27.100487 | AO95: 17 | AP95: 40 | AR95: 22.9 | AS95: 12.327249 | AT95: 16 | AU95: 0.77045305 | AV95: -9.5572666 | AY95: 7 | AZ95: 13 | BB95: 93 | BC95: 50.062626 | BD95: 32 | BE95: 1.5644571 | BF95: 28.085467 | BG95: 0.02 | BH95: 0.02 | BI95: 0 | BJ95: 0 | BL95: 0.8 | BM95: 0.77 | BO95: 0.95 | BP95: 1 | BQ95: 0.0025
A96: HAUT RHIN | B96: COLMAR | C96: NEUF BRISACH | D96: 3.3075077 | F96: 0.058 | G96: 0.036 | I96: 5 | J96: 5 | L96: 1446.9459 | M96: 1015.4459 | N96: 2462.3918 | O96: 744.48557 | P96: 248.167 | Q96: 2.9999378 | R96: 1566.0626 | S96: 0.01 | T96: 0.01 | U96: 0 | V96: 0 | X96: 2021.4178 | Y96: 611.16043 | Z96: 573 | AA96: 1.0665976 | AB96: -48.14266 | AC96: 0.017 | AD96: 0.007 | AE96: 0 | AF96: 253 | AH96: 210.25 | AI96: 63.567501 | AJ96: 63 | AK96: 1.009008 | AL96: -17.293301 | AM96: 0.011 | AN96: 0.001 | AO96: 0 | AP96: 40 | AR96: 14.6 | AS96: 4.4141998 | AT96: 16 | AU96: 0.27588749 | AV96: -43.188775 | AY96: 39 | AZ96: 49 | BB96: 124.6 | BC96: 37.67187 | BD96: 32 | BE96: 1.1772459 | BF96: 9.0224503 | BG96: 0.02 | BH96: 0.018 | BI96: 0 | BJ96: 3 | BL96: 0.8 | BM96: 0.71 | BO96: 0.95 | BP96: 1 | BQ96: 0.0025
A97: HAUT RHIN | B97: COLMAR | C97: ORBEY | D97: 3.0547893 | F97: 0.013 | G97: 0.01 | I97: 3 | J97: 2 | L97: 1886.5209 | M97: 1341.4697 | N97: 3227.9906 | O97: 1056.6983 | P97: 285.539 | Q97: 3.7007144 | R97: 2275.4811 | S97: 0.01 | T97: 0.01 | U97: 0 | V97: 0 | X97: 1062.0941 | Y97: 347.68164 | Z97: 573 | AA97: 0.60677424 | AB97: -849.3364 | AE97: 689 | AF97: 1039 | AH97: 141 | AI97: 46.157029 | AJ97: 63 | AK97: 0.73265126 | AL97: -69.157286 | AO97: 52 | AP97: 90 | AR97: 17.4 | AS97: 5.6959738 | AT97: 16 | AU97: 0.35599836 | AV97: -35.973279 | AY97: 32 | AZ97: 42 | BB97: 91.6 | BC97: 29.985701 | BD97: 32 | BE97: 0.93705317 | BF97: -15.146558 | BG97: 0.003 | BI97: 7 | BJ97: 26 | BL97: 0.8 | BM97: 0.78 | BO97: 0.95 | BP97: 1 | BQ97: 0.0025
A98: HAUT RHIN | B98: COLMAR | C98: RIBEAUVILLE | D98: 2.7451909 | F98: 0.037 | G98: 0.028 | I98: 4 | J98: 3 | L98: 413.00597 | M98: 641.115 | N98: 1054.121 | O98: 383.98822 | P98: 287.5 | Q98: 1.3356112 | R98: 192.26829 | S98: 0.01 | T98: 0.01 | U98: 0 | V98: 0 | X98: 699.08526 | Y98: 254.65816 | Z98: 573 | AA98: 0.4444296 | AB98: -1018.6246 | AE98: 874 | AF98: 1189 | AH98: 168.4 | AI98: 61.34364 | AJ98: 63 | AK98: 0.97370856 | AL98: -20.458152 | AM98: 0.007 | AO98: 5 | AP98: 40 | AR98: 23.6 | AS98: 8.5968521 | AT98: 16 | AU98: 0.53730326 | AV98: -24.363975 | AY98: 21 | AZ98: 30 | BB98: 103.4 | BC98: 37.665869 | BD98: 32 | BE98: 1.1770584 | BF98: 7.4720499 | BG98: 0.02 | BH98: 0.018 | BI98: 0 | BJ98: 3 | BL98: 0.8 | BM98: 0.7 | BO98: 0.95 | BP98: 1 | BQ98: 0.0025
A99: HAUT RHIN | B99: COLMAR | C99: ROUFFACH | D99: 3.7565036 | F99: 0.041 | G99: 0.031 | I99: 5 | J99: 4 | L99: 1727.7213 | M99: -41.59642 | N99: 1686.1249 | O99: 448.85486 | P99: 261.891 | Q99: 1.7138995 | R99: 611.82131 | S99: 0.01 | T99: 0.01 | U99: 0 | V99: 0 | X99: 2157.8724 | Y99: 574.43639 | Z99: 573 | AA99: 1.0025068 | AB99: -192.63202 | AC99: 0.01 | AD99: 0.001 | AE99: 0 | AF99: 426 | AH99: 217.35 | AI99: 57.859654 | AJ99: 63 | AK99: 0.91840721 | AL99: -41.082422 | AM99: 0.001 | AO99: 20 | AP99: 67 | AR99: 24 | AS99: 6.3889197 | AT99: 16 | AU99: 0.39930748 | AV99: -41.633631 | AY99: 37 | AZ99: 49 | BB99: 153 | BC99: 40.729363 | BD99: 32 | BE99: 1.2727926 | BF99: 21.732738 | BG99: 0.02 | BH99: 0.02 | BI99: 0 | BJ99: 0 | BL99: 0.8 | BM99: 0.71 | BO99: 0.95 | BP99: 1 | BQ99: 0.0025
A100: HAUT RHIN | B100: COLMAR | C100: SAINTE MARIE AUX MINES | D100: 2.8448773 | F100: 0.01 | G100: 0.01 | I100: 2 | J100: 2 | L100: 1494.0301 | M100: -288.5992 | N100: 1205.4309 | O100: 423.71982 | P100: 228.562 | Q100: 1.8538507 | R100: 495.37882 | S100: 0.01 | T100: 0.01 | U100: 0 | V100: 0 | X100: 952.47429 | Y100: 334.80329 | Z100: 573 | AA100: 0.58429894 | AB100: -827.61098 | AE100: 678 | AF100: 1004 | AH100: 105.3 | AI100: 37.013898 | AJ100: 63 | AK100: 0.58752219 | AL100: -90.416182 | AO100: 74 | AP100: 110 | AR100: 1 | AS100: 0.351509 | AT100: 16 | AU100: 0.021969313 | AV100: -48.705697 | AY100: 45 | AZ100: 54 | BB100: 48.4 | BC100: 17.013036 | BD100: 32 | BE100: 0.53165737 | BF100: -51.011394 | BI100: 43 | BJ100: 61 | BL100: 0.8 | BM100: 0.75 | BO100: 0.95 | BP100: 1 | BQ100: 0.0025
A101: HAUT RHIN | B101: COLMAR | C101: WINTZENHEIM | D101: 2.4566605 | F101: 0.01 | G101: 0.01 | I101: 2 | J101: 2 | L101: 1398.389 | M101: 249.85265 | N101: 1648.2416 | O101: 670.92773 | P101: 287.5 | Q101: 2.3336617 | R101: 876.97307 | S101: 0.01 | T101: 0.01 | U101: 0 | V101: 0 | X101: 739.85118 | Y101: 301.16135 | Z101: 573 | AA101: 0.52558699 | AB101: -797.32059 | AE101: 668 | AF101: 950 | AH101: 87.3 | AI101: 35.536046 | AJ101: 63 | AK101: 0.56406422 | AL101: -81.708414 | AO101: 68 | AP101: 99 | AR101: 1.5 | AS101: 0.61058498 | AT101: 16 | AU101: 0.038161561 | AV101: -41.422772 | AY101: 38 | AZ101: 46 | BB101: 68.4 | BC101: 27.842675 | BD101: 32 | BE101: 0.8700836 | BF101: -17.445544 | BI101: 11 | BJ101: 26 | BL101: 0.8 | BM101: 0.77 | BO101: 0.95 | BP101: 1 | BQ101: 0.0025
...

Sheet Meilleures perf
A1: REGION | B1: TERRITOIRE | C1: AGENCE | D1: EDS | E1: Meilleure perf IARD | F1: Meilleure perf Conso | G1: Meilleure perf Banca
A2: AUBE HAUTE MARNE | B2: CHAUMONT | C2: BOURBONNE LES BAINS | D2: 410560 | E2: 5.2632911 | F2: 42527.392 | G2: 2.6316456
A3: AUBE HAUTE MARNE | B3: CHAUMONT | C3: CHAUMONT HOTEL DE VILLE | D3: 410566 | E3: 3.6446747 | F3: 23162.724 | G3: 2.1759252
A4: AUBE HAUTE MARNE | B4: CHAUMONT | C4: CHAUMONT REPUBLIQUE | D4: 510590 | E4: 4.7644637 | F4: 39772.915 | G4: 3.3144096
A5: AUBE HAUTE MARNE | B5: CHAUMONT | C5: JOINVILLE | D5: 451154 | E5: 2.1312617 | F5: 29660.059 | G5: 2.486472
A6: AUBE HAUTE MARNE | B6: CHAUMONT | C6: LANGRES | D6: 410541 | E6: 4.118401 | F6: 32378.12 | G6: 2.9952007
A7: AUBE HAUTE MARNE | B7: CHAUMONT | C7: NOGENT | D7: 410582 | E7: 4.8101266 | F7: 77443.038 | G7: 2.4050633
A8: AUBE HAUTE MARNE | B8: CHAUMONT | C8: SAINT DIZIER CENTRE | D8: 451156 | E8: 2.8616998 | F8: 34525.023 | G8: 4.431019
A9: AUBE HAUTE MARNE | B9: CHAUMONT | C9: SAINT DIZIER EUROPE | D9: 551157 | E9: 4.9315154 | F9: 62926.137 | G9: 3.9452123
A10: AUBE HAUTE MARNE | B10: CHAUMONT | C10: WASSY | D10: 451151 | E10: 5.6769292 | F10: 48431.302 | G10: 2.1288484
A11: AUBE HAUTE MARNE | B11: TROYES | C11: ARCIS SUR AUBE | D11: 510530 | E11: 4.2061195 | F11: 39038.216 | G11: 3.2563506
A12: AUBE HAUTE MARNE | B12: TROYES | C12: BAR SUR AUBE | D12: 410550 | E12: 3.5139574 | F12: 56675.113 | G12: 2.6773009
A13: AUBE HAUTE MARNE | B13: TROYES | C13: BAR SUR SEINE | D13: 510556 | E13: 4.0194208 | F13: 48045.477 | G13: 4.2873822
... A25: AUBE HAUTE MARNE | B25: TROYES | C25: TROYES ZOLA | D25: 410512 | E25: 3.3873916 | F25: 40422.873 | G25: 3.6132177
A26: BANQUE DIGITALE | B26: CRC METZ | C26: EXPERTS CREDIT IMMO | D26: 405705 | E26: #N/A | F26: #N/A | G26: 0
A27: BANQUE DIGITALE | B27: EXPERTS DIRECT | C27: EXPERTS DIRECT | D27: 405800 | E27: 0 | F27: 0 | G27: 0
A28: BANQUE DIGITALE | B28: MON AGENCE | C28: MON AGENCE | D28: 4017 | E28: 4.3992625 | F28: 23059.366 | G28: 2.4678789
A29: BANQUE DIGITALE | B29: MON BANQUIER EN LIGNE | C29: MON BANQUIER EN LIGNE | D29: 4022 | E29: 1.6520288 | F29: 23348.674 | G29: 3.0837871
A30: BAS RHIN | B30: HAGUENAU | C30: BISCHWILLER | D30: 4057 | E30: 4.324411 | F30: 33201.867 | G30: 1.9219605
A31: BAS RHIN | B31: HAGUENAU | C31: BOUXWILLER | D31: 4082 | E31: 3.5208644 | F31: 54925.484 | G31: 3.5208644
A32: BAS RHIN | B32: HAGUENAU | C32: BRUMATH | D32: 4030 | E32: 2.4025725 | F32: 51841.662 | G32: 2.13562
A33: BAS RHIN | B33: HAGUENAU | C33: HAGUENAU HOUBLON | D33: 4060 | E33: 3.0974206 | F33: 57612.023 | G33: 2.3540396
A34: BAS RHIN | B34: HAGUENAU | C34: HAGUENAU MUSAU | D34: 4064 | E34: 2.4435098 | F34: 60040.527 | G34: 2.7925827
A35: BAS RHIN | B35: HAGUENAU | C35: HOCHFELDEN | D35: 4092 | E35: 4.5468046 | F35: 57662.162 | G35: 2.8934211
A36: BAS RHIN | B36: HAGUENAU | C36: HOERDT | D36: 4041 | E36: 6.532536 | F36: 66958.494 | G36: 3.6745515
A37: BAS RHIN | B37: HAGUENAU | C37: INGWILLER | D37: 4085 | E37: 3.2012457 | F37: 43483.587 | G37: 2.1341638
A38: BAS RHIN | B38: HAGUENAU | C38: NIEDERBRONN LES BAINS | D38: 4066 | E38: 3.0151999 | F38: 41713.137 | G38: 1.3783771
... A298: VOSGES | B298: SAINT DIE | C298: VAGNEY | D298: 588666 | E298: 4.9884779 | F298: 43563.131 | G298: 2.1824591

Sheet Structures EDS
C1: TERRITOIRE | M1: AGENCE
A2: REGION | C2: AUBE_HAUTE_MARNE | D2: BAS_RHIN | E2: HAUT_RHIN | F2: MARNE_ARDENNES | G2: MEURTHE_ET_MOSELLE_MEUSE | H2: MOSELLE | I2: VOSGES | J2: MULTIMEDIA | K2: CEGEE | M2: CHAUMONT | N2: TROYES | O2: HAGUENAU | P2: SELESTAT | Q2: STRASBOURG | R2: COLMAR | S2: MULHOUSE | T2: CHALONS_EN_CHAMPAGNE | U2: CHARLEVILLE_MEZIERES | V2: REIMS | W2: NANCY | X2: PONT_A_MOUSSON | Y2: VERDUN | Z2: METZ | AA2: MOSELLE_EST | AB2: MOSELLE_NORD | AC2: EPINAL | AD2: SAINT_DIE
A3: AUBE_HAUTE_MARNE | C3: CHAUMONT | D3: HAGUENAU | E3: COLMAR | F3: CHALONS_EN_CHAMPAGNE | G3: NANCY | H3: METZ | I3: EPINAL | J3: MON_AGENCE | M3: BOURBONNE LES BAINS | N3: ARCIS SUR AUBE | O3: BISCHWILLER | P3: BARR | Q3: BISCHHEIM | R3: COLMAR MARAICHERS | S3: ALTKIRCH | T3: CHALONS ROOSEVELT | U3: CARIGNAN | V3: AY CHAMPAGNE | W3: BACCARAT | X3: BRIEY | Y3: BAR LE DUC | Z3: ARS SUR MOSELLE | AA3: BEHREN LES FORBACH | AB3: AUDUN LE TICHE | AC3: CHANTRAINE | AD3: BRUYERES
A4: BAS_RHIN | C4: TROYES | D4: SELESTAT | E4: MULHOUSE | F4: CHARLEVILLE_MEZIERES | G4: PONT_A_MOUSSON | H4: MOSELLE_EST | I4: SAINT_DIE | J4: MON_BANQUIER_EN_LIGNE | M4: CHAUMONT HOTEL DE VILLE | N4: BAR SUR AUBE | O4: BOUXWILLER | P4: BENFELD | Q4: LA WANTZENAU | R4: COLMAR REPUBLIQUE | S4: CERNAY | T4: CHALONS VIVIERS | U4: CHARLEVILLE JEAN JAURES | V4: BETHENY | W4: BAYON | X4: CHALIGNY NEUVES MAISONS | Y4: COMMERCY | Z4: BOULAY | AA4: BITCHE | AB4: BOUSSE | AC4: CHARMES | AD4: CORNIMONT LA BRESSE
A5: HAUT_RHIN | D5: STRASBOURG | F5: REIMS | G5: VERDUN | H5: MOSELLE_NORD | M5: CHAUMONT REPUBLIQUE | N5: BAR SUR SEINE | O5: BRUMATH | P5: ERSTEIN | Q5: MUNDOLSHEIM | R5: COLMAR SAINTE MARIE | S5: DANNEMARIE | T5: FAGNIERES LECLERC | U5: CHARLEVILLE MEZIERES | V5: DAMERY | W5: BLAINVILLE | X5: CHAMPIGNEULLES | Y5: ETAIN | Z5: CLOUANGE | AA5: CHATEAU SALINS | AB5: BOUZONVILLE | AC5: CHATENOIS VOSGES | AD5: FRAIZE
A6: MARNE_ARDENNES | M6: JOINVILLE | N6: BRIENNE LE CHATEAU | O6: HAGUENAU HOUBLON | P6: FEGERSHEIM | Q6: OBERHAUSBERGEN | R6: ENSISHEIM | S6: ILLZACH | T6: MONTMIRAIL | U6: CHARLEVILLE MOHON | V6: DORMANS | W6: BLAMONT | X6: DIEULOUARD | Y6: LIGNY EN BARROIS | Z6: MAIZIERES LES METZ | AA6: CREUTZWALD | AB6: CATTENOM | AC6: DARNEY | AD6: GERARDMER
A7: MEURTHE_ET_MOSELLE_MEUSE | M7: LANGRES | N7: LA CHAPELLE ST LUC | O7: HAGUENAU MUSAU | P7: ILLKIRCH CENTRE | Q7: REICHSTETT | R7: GUEBWILLER | S7: MASEVAUX | T7: MOURMELON LE GRAND | U7: CHARLEVILLE NEVERS | V7: EPERNAY | W7: DOMBASLE SUR MEURTHE | X7: FROUARD | Y7: LONGUYON | Z7: MARANGE SILVANGE | AA7: DIEUZE | AB7: FAMECK | AC7: ELOYES | AD7: LE THILLOT
A8: MOSELLE | M8: NOGENT | N8: NOGENT SUR SEINE | O8: HOCHFELDEN | P8: LINGOLSHEIM | Q8: SCHILTIGHEIM CENTRE | R8: HORBOURG WIHR | S8: MULHOUSE DORNACH | T8: SAINTE MENEHOULD | U8: GIVET | V8: FISMES | W8: ESSEY LES NANCY | X8: JARNY | Y8: LONGWY BAS | Z8: MARLY | AA8: FAULQUEMONT | AB8: FLORANGE | AC8: EPINAL ARISTIDE BRIAND | AD8: MOYENMOUTIER
A9: VOSGES | M9: SAINT DIZIER CENTRE | N9: ROMILLY SUR SEINE | O9: HOERDT | P9: MARCKOLSHEIM | Q9: SCHILTIGHEIM KLEBER | R9: INGERSHEIM | S9: MULHOUSE REUNION | T9: SARRY | U9: MOUZON | V9: PIERRY LECLERC | W9: JARVILLE LA MALGRANGE | X9: JOEUF | Y9: LONGWY HAUT | Z9: METZ CATHEDRALE | AA9: FORBACH CENTRALE | AB9: FONTOY | AC9: EPINAL AVRINSART | AD9: RAMBERVILLERS
A10: CEGEE | M10: SAINT DIZIER EUROPE | N10: SAINT ANDRE LES VERGERS | O10: INGWILLER | P10: MARLENHEIM | Q10: STRASBOURG ANVERS | R10: MUNSTER | S10: MULHOUSE ROOSEVELT | T10: SEZANNE | U10: RETHEL | V10: REIMS CENTRE VILLE | W10: LUNEVILLE CARNOT | X10: LAXOU ARISTIDE BRIAND | Y10: MONTMEDY | Z10: METZ MOZART | AA10: GROSBLIEDERSTROFF | AB10: GUENANGE | AC10: EPINAL LEOPOLD BOURG | AD10: RAON L ETAPE
M11: WASSY | N11: SAINTE SAVINE | O11: NIEDERBRONN LES BAINS | P11: MOLSHEIM | Q11: STRASBOURG AUSTERLITZ | R11: MUNTZENHEIM | S11: PFASTATT | T11: VERTUS | U11: REVIN | V11: REIMS CHATILLONS | W11: NANCY ARTEM | X11: LAXOU SAPINIERE | Y11: REVIGNY SUR ORNAIN | Z11: METZ PLAPPEVILLE | AA11: MERLEBACH | AB11: HAGONDANGE | AC11: GOLBEY | AD11: SAINT DIE
N12: SAINT JULIEN LES VILLAS | O12: PFAFFENHOFFEN | P12: MUTZIG | Q12: STRASBOURG CRONENBOURG | R12: NEUF BRISACH | S12: RIEDISHEIM | T12: VITRY LE FRANCOIS | U12: ROCROI | V12: REIMS EUROPE | W12: NANCY JEAN JAURES | X12: LUDRES | Y12: STENAY | Z12: METZ POMPIDOU | AA12: MORHANGE | AB12: HAYANGE | AC12: LE VAL D AJOL | AD12: SAINT DIE CATHEDRALE
N13: TROYES 1ER MAI | O13: SARRE UNION | P13: OBERNAI | Q13: STRASBOURG DANUBE | R13: ORBEY | S13: RIXHEIM | U13: SEDAN | V13: REIMS HIPPODROME | W13: NANCY PLACE DOMBASLE | X13: NANCY PLATEAU DE HAYE | Y13: VAUCOULEURS | Z13: METZ REPUBLIQUE | AA13: NEUNKIRCH | AB13: HETTANGE GRANDE | AC13: MIRECOURT | AD13: SENONES
N14: TROYES BROSSOLETTE | O14: SAVERNE | P14: ROSHEIM | Q14: STRASBOURG FRANCS BOURGEOIS | R14: RIBEAUVILLE | S14: SAINT LOUIS | U14: VILLERS SEMEUSE CORA | V14: REIMS HOTEL DE VILLE | W14: NANCY POINT CENTRAL | X14: NANCY TROIS MAISONS | Y14: VERDUN CENTRALE | Z14: METZ SAINT LIVIER | AA14: PHALSBOURG | AB14: METZERVISSE | AC14: NEUFCHATEAU | AD14: VAGNEY
N15: TROYES CHARTREUX | O15: SCHWEIGHOUSE SUR MODER | P15: SCHIRMECK | Q15: STRASBOURG HALLES | R15: ROUFFACH | S15: THANN | U15: VOUZIERS | V15: REIMS JEAN JAURES | W15: NANCY SAINT SEBASTIEN | X15: PAGNY SUR MOSELLE | Y15: VERDUN MAZEL | Z15: METZ SAINT LOUIS | AA15: PUTTELANGE AUX LACS | AB15: NILVANGE | AC15: REMIREMONT
N16: TROYES GAMBETTA | O16: SOUFFLENHEIM | P16: SELESTAT CENTRE | Q16: STRASBOURG KOENIGSHOFFEN | R16: SAINTE MARIE AUX MINES | S16: WITTELSHEIM | V16: REIMS SAINTE ANNE | W16: SAINT MAX | X16: POMPEY | Y16: VILLERUPT | Z16: METZ SAINT MAXIMIN | AA16: SAINT AVOLD | AB16: SIERCK LES BAINS | AC16: THAON LES VOSGES
N17: TROYES ZOLA | O17: SOULTZ SOUS FORETS | P17: SELESTAT OUEST | Q17: STRASBOURG MEINAU | R17: WINTZENHEIM | S17: WITTENHEIM | V17: REIMS SAINT MARCEAUX | W17: SAINT NICOLAS DE PORT | X17: PONT A MOUSSON BREUIL | Z17: METZ SARRE | AA17: SARREBOURG | AB17: TERVILLE | AC17: VITTEL
O18: TRUCHTERSHEIM | P18: VILLE | Q18: STRASBOURG MONTAGNE VERTE | V18: REIMS SAINT REMI | W18: TOMBLAINE | X18: PONT A MOUSSON CENTRALE | Z18: MONTIGNY LES METZ | AA18: SARREGUEMINES | AB18: THIONVILLE CENTRALE | AC18: XERTIGNY
O19: WISSEMBOURG | P19: WASSELONNE | Q19: STRASBOURG NEUDORF | V19: REIMS SAINT THOMAS | W19: VANDOEUVRE LES NANCY | X19: TOUL | Z19: MOULINS LES METZ | AA19: VALMONT | AB19: THIONVILLE COTE DES ROSES
O20: WOERTH | Q20: STRASBOURG ROBERTSAU | V20: TINQUEUX | X20: VEZELISE | Z20: REMILLY | AB20: UCKANGE
Q21: STRASBOURG STOCKFELD | X21: VILLERS GENERAL LECLERC | Z21: ROMBAS | AB21: YUTZ
Q22: STRASBOURG VOSGES | Z22: SAINTE MARIE AUX CHENES
Z23: SAINT JULIEN LES METZ
Z24: WOIPPY
M32: PDV
M33: CHAUMONT | N33: TROYES | O33: HAGUENAU | P33: SELESTAT | Q33: STRASBOURG | R33: COLMAR | S33: MULHOUSE | T33: CHALONS_EN_CHAMPAGNE | U33: CHARLEVILLE_MEZIERES | V33: REIMS | W33: NANCY | X33: PONT_A_MOUSSON | Y33: VERDUN | Z33: METZ | AA33: MOSELLE_EST | AB33: MOSELLE_NORD | AC33: EPINAL | AD33: SAINT _DIE
M34: BOURBONNE LES BAINS | N34: AIX EN OTHE | O34: BISCHWILLER | P34: BARR | Q34: BISCHHEIM | R34: COLMAR MARAICHERS | S34: ALTKIRCH | T34: CHALONS ROOSEVELT | U34: CARIGNAN | V34: AY CHAMPAGNE | W34: BACCARAT | X34: BRIEY | Y34: BAR LE DUC | Z34: ARS SUR MOSELLE | AA34: BEHREN LES FORBACH | AB34: AUDUN LE TICHE | AC34: CHANTRAINE | AD34: BRUYERES
M35: CHALINDREY | N35: ARCIS SUR AUBE | O35: DRUSENHEIM | P35: BENFELD | Q35: LA WANTZENAU | R35: COLMAR REPUBLIQUE | S35: FERRETTE | T35: CHALONS VIVIERS | U35: CHARLEVILLE JEAN JAURES | V35: BETHENY | W35: BAYON | X35: CHALIGNY NEUVES MAISONS | Y35: COMMERCY | Z35: BOULAY | AA35: BITCHE | AB35: BOUSSE | AC35: CHARMES | AD35: CORNIMONT LA BRESSE
M36: CHATEAUVILLAIN | N36: BAR SUR AUBE | O36: HERRLISHEIM | P36: ERSTEIN | Q36: VENDENHEIM | R36: COLMAR SAINT JOSEPH | S36: BRUNSTATT | T36: FAGNIERES LECLERC | U36: CHARLEVILLE MEZIERES | V36: DAMERY | W36: BLAINVILLE | X36: CHAMPIGNEULLES | Y36: ETAIN | Z36: CLOUANGE | AA36: CHATEAU SALINS | AB36: BOUZONVILLE | AC36: CHATENOIS VOSGES | AD36: FRAIZE
M37: CHAUMONT HOTEL DE VILLE | N37: BAR SUR SEINE | O37: BOUXWILLER | P37: FEGERSHEIM | Q37: MUNDOLSHEIM | R37: COLMAR SAINTE MARIE | S37: CERNAY | T37: MONTMIRAIL | U37: CHARLEVILLE MOHON | V37: DORMANS | W37: BLAMONT | X37: DIEULOUARD | Y37: LIGNY EN BARROIS | Z37: MAIZIERES LES METZ | AA37: CREUTZWALD | AB37: CATTENOM | AC37: DARNEY | AD37: GERARDMER
M38: CHAUMONT REPUBLIQUE | N38: BRIENNE LE CHATEAU | O38: BRUMATH | P38: ILLKIRCH CENTRE | Q38: OBERHAUSBERGEN | R38: COLMAR VAUBAN | S38: SEPPOIS LE BAS | T38: SUIPPES | U38: CHARLEVILLE NEVERS | V38: EPERNAY | W38: DOMBASLE SUR MEURTHE | X38: FROUARD | Y38: LONGUYON | Z38: MARANGE SILVANGE | AA38: DIEUZE | AB38: FAMECK | AC38: DOCELLES | AD38: GRANGES AUMONTZEY
M39: JOINVILLE | N39: LA CHAPELLE ST LUC | O39: WEITBRUCH | P39: ILLKIRCH NORD | Q39: REICHSTETT | R39: ENSISHEIM | S39: DANNEMARIE | T39: MOURMELON LE GRAND | U39: GIVET | V39: FISMES | W39: ESSEY LES NANCY | X39: JARNY | Y39: LONGWY BAS | Z39: MARLY | AA39: FAULQUEMONT | AB39: FLORANGE | AC39: ELOYES | AD39: LE THILLOT
M40: LANGRES | N40: NOGENT SUR SEINE | O40: HAGUENAU HOUBLON | P40: OSTWALD | Q40: SCHILTIGHEIM CENTRE | R40: PULVERSHEIM | S40: ILLZACH | T40: SAINTE MENEHOULD | U40: MOUZON | V40: PIERRY LECLERC | W40: JARVILLE LA MALGRANGE | X40: JOEUF | Y40: LONGWY HAUT | Z40: METZ CATHEDRALE | AA40: FORBACH CENTRALE | AB40: FONTOY | AC40: EPINAL ARISTIDE BRIAND | AD40: MOYENMOUTIER
M41: NOGENT | N41: ROMILLY SUR SEINE | O41: HAGUENAU MUSAU | P41: LINGOLSHEIM | Q41: SCHILTIGHEIM KLEBER | R41: GUEBWILLER | S41: MASEVAUX | T41: SARRY | U41: RETHEL | V41: REIMS CENTRE VILLE | W41: LUNEVILLE CARNOT | X41: LAXOU ARISTIDE BRIAND | Y41: MONTMEDY | Z41: METZ MOZART | AA41: GROSBLIEDERSTROFF | AB41: GUENANGE | AC41: EPINAL AVRINSART | AD41: RAMBERVILLERS
M42: SAINT DIZIER CENTRE | N42: SAINT ANDRE LES VERGERS | O42: HOCHFELDEN | P42: MARCKOLSHEIM | Q42: STRASBOURG ANVERS | R42: HORBOURG WIHR | S42: MULHOUSE DORNACH | T42: SEZANNE | U42: REVIN | V42: REIMS CHATILLONS | W42: LUNEVILLE CHATEAU | X42: LAXOU SAPINIERE | Y42: REVIGNY SUR ORNAIN | Z42: METZ PLAPPEVILLE | AA42: HOMBOURG HAUT | AB42: HAGONDANGE | AC42: EPINAL LEOPOLD BOURG | AD42: RAON L ETAPE
M43: SAINT DIZIER EUROPE | N43: SAINT JULIEN LES VILLAS | O43: HOERDT | P43: MARLENHEIM | Q43: STRASBOURG AUSTERLITZ | R43: INGERSHEIM | S43: MULHOUSE REUNION | T43: VERTUS | U43: ROCROI | V43: REIMS EUROPE | W43: NANCY ARTEM | X43: LUDRES | Y43: SAINT MIHIEL | Z43: METZ POMPIDOU | AA43: MERLEBACH | AB43: HAYANGE | AC43: GOLBEY | AD43: SAINT DIE
M44: WASSY | N44: SAINTE SAVINE | O44: INGWILLER | P44: MOLSHEIM | Q44: STRASBOURG CRONENBOURG | R44: KAYSERSBERG | S44: MULHOUSE ROOSEVELT | T44: VITRY LE FRANCOIS | U44: SEDAN | V44: REIMS HIPPODROME | W44: NANCY JEAN JAURES | X44: NANCY PLATEAU DE HAYE | Y44: STENAY | Z44: METZ REPUBLIQUE | AA44: MORHANGE | AB44: HETTANGE GRANDE | AC44: LE VAL D AJOL | AD44: SAINT DIE CATHEDRALE
N45: TROYES 1ER MAI | O45: WINGEN SUR MODER | P45: MUTZIG | Q45: STRASBOURG DANUBE | R45: MUNSTER | S45: PFASTATT | U45: VILLERS SEMEUSE CORA | V45: REIMS HOTEL DE VILLE | W45: NANCY PLACE DOMBASLE | X45: NANCY TROIS MAISONS | Y45: VAUCOULEURS | Z45: METZ SAINT LIVIER | AA45: NEUNKIRCH | AB45: METZERVISSE | AC45: MIRECOURT | AD45: SENONES
N46: TROYES BROSSOLETTE | O46: NIEDERBRONN LES BAINS | P46: OBERNAI | Q46: STRASBOURG ESPLANADE | R46: MUNTZENHEIM | S46: RIEDISHEIM | U46: VOUZIERS | V46: REIMS JEAN JAURES | W46: NANCY POINT CENTRAL | X46: PAGNY SUR MOSELLE | Y46: VERDUN CENTRALE | Z46: METZ SAINT LOUIS | AA46: PHALSBOURG | AB46: NILVANGE | AC46: NEUFCHATEAU | AD46: VAGNEY
N47: TROYES CHARTREUX | O47: REICHSHOFFEN | P47: ROSHEIM | Q47: STRASBOURG FRANCS BOURGEOIS | R47: NEUF BRISACH | S47: RIXHEIM | U47: VRIGNE AUX BOIS | V47: REIMS SAINT MARCEAUX | W47: NANCY SAINT SEBASTIEN | X47: PIENNES | Y47: VERDUN MAZEL | Z47: METZ SAINT MAXIMIN | AA47: PUTTELANGE AUX LACS | AB47: SIERCK LES BAINS | AC47: NOMEXY
N48: TROYES GAMBETTA | O48: GUNDERSHOFFEN | P48: SCHIRMECK | Q48: ESPACE MESANGE | R48: ORBEY | S48: SAINT LOUIS | V48: REIMS SAINT REMI | W48: SAINT MAX | X48: POMPEY | Y48: VILLERUPT | Z48: METZ SARRE | AA48: SAINT AVOLD | AB48: TERVILLE | AC48: REMIREMONT
N49: TROYES ZOLA | O49: PFAFFENHOFFEN | P49: SELESTAT CENTRE | Q49: STRASBOURG HALLES | R49: LAPOUTROIE | S49: HUNINGUE | V49: REIMS SAINT THOMAS | W49: SAINT NICOLAS DE PORT | X49: PONT A MOUSSON BREUIL | Z49: MONTIGNY LES METZ | AA49: SARREBOURG | AB49: THIONVILLE CENTRALE | AC49: THAON LES VOSGES
O50: DIEMERINGEN | P50: CHATENOIS | Q50: STRASBOURG GARE | R50: RIBEAUVILLE | S50: SIERENTZ | V50: REIMS SAINTE ANNE | W50: TOMBLAINE | X50: PONT A MOUSSON CENTRALE | Z50: MOULINS LES METZ | AA50: SARREGUEMINES | AB50: THIONVILLE COTE DES ROSES | AC50: VITTEL
O51: SARRE UNION | P51: SELESTAT OUEST | Q51: ECKBOLSHEIM | R51: ROUFFACH | S51: THANN | V51: TINQUEUX | W51: VANDOEUVRE LES NANCY | X51: TOUL | Z51: REMILLY | AA51: STIRING WENDEL | AB51: THIONVILLE LA MILLIAIRE | AC51: XERTIGNY
O52: SAVERNE | P52: VILLE | Q52: STRASBOURG KOENIGSHOFFEN | R52: SOULTZMATT | S52: SAINT AMARIN | V52: VERZY | X52: VEZELISE | Z52: ROMBAS | AA52: VALMONT | AB52: UCKANGE
O53: MARMOUTIER | P53: WASSELONNE | Q53: STRASBOURG MEINAU | R53: SAINTE MARIE AUX MINES | S53: WITTELSHEIM | X53: VILLERS GENERAL LECLERC | Z53: SAINT JULIEN LES METZ | AB53: YUTZ
O54: SCHWEIGHOUSE SUR MODER | Q54: STRASBOURG MONTAGNE VERTE | R54: LIEPVRE | S54: WITTENHEIM | Z54: SAINTE MARIE AUX CHENES
O55: SOUFFLENHEIM | Q55: STRASBOURG NEUDORF | R55: SOULTZ | Z55: WOIPPY
O56: SOULTZ SOUS FORETS | Q56: STRASBOURG ROBERTSAU | R56: WINTZENHEIM
O57: TRUCHTERSHEIM | Q57: STRASBOURG STOCKFELD
O58: WISSEMBOURG | Q58: STRASBOURG VOSGES
O59: BETSCHDORF
O60: SELTZ
O61: LAUTERBOURG
O62: WOERTH

Sheet S0 remplacer avec S44
A2: REGIONS | B2: TERRITOIRES | C2: AGENCES | D2: ETP Perf moyen annuel | F2: Taux PV sais. (max 9%) | G2: Taux PV annuel (max 9%) | I2: Nb items > 100% de l'objectif sais. | J2: Nb items > 100% de l'objectif annuel | L2: Excédents de collecte yc DAV depuis le 01/01 (en K€) | X2: Engagements nets Crédit Conso depuis le 01/01 (en K€) avec coefficients | AH2: Ventes brutes IARD / Prévoyance depuis le 01/01 avec coefficients | AR2: Nombre brut Mandats Mobilité depuis le 01/01 avec coefficients | BB2: Ventes brutes Forfaits depuis le 01/01 avec coefficients | BL2: Complétude DRC Stock et Traitement RPM Risques majeurs
L3: EMJ au 09/20 & Exc. hors DAV au 30/10/20 - Saisonnalité attendue : 91% - Tx PV max : 1% | X3: Au 27/10/20 - Saisonnalité attendue : 91% - Tx PV max : 2% | AH3: Au 28/10/20 - Saisonnalité attendue : 91% - Tx PV max : 2% | AR3: Au 25/10/20 - Saisonnalité attendue : 91% - Tx PV max : 1% | BB3: Au 28/10/20 - Saisonnalité attendue : 91% - Tx PV max : 2% | BL3: DRC arretés à fin 09/2020 - RPM arrêtés à fin 08/2020
L4: EMJ DAV / M-12 | M4: Exc. hors DAV J-1 | N4: Exc. yc DAV (M-12) | O4: Réal. / ETP | P4: Obj / ETP | Q4: % Réal. | R4: Ecart / 120% de l'attendu | S4: Taux PV sais. | T4: Taux PV | U4: RàF pour 100% | V4: RàF pour 120% | X4: Engag. nets Conso | Y4: Réal. / ETP | Z4: Obj / ETP | AA4: % Réal. | AB4: Ecart / 120% de l'attendu | AC4: Taux PV sais. | AD4: Taux PV | AE4: RàF pour 100% | AF4: RàF pour 120% | AH4: VB Iard Prev | AI4: Réal. / ETP | AJ4: Obj / ETP | AK4: % Réal. | AL4: Ecart / 120% de l'attendu | AM4: Taux PV sais. | AN4: Taux PV | AO4: RàF pour 100% | AP4: RàF pour 120% | AR4: Nb Mob | AS4: Réal. / ETP | AT4: Obj / ETP | AU4: % Réal. | AV4: Ecart / 120% de l'attendu | AW4: Taux PV sais. | AX4: Taux PV | AY4: RàF pour 100% | AZ4: RàF pour 120% | BB4: VB Forf | BC4: Réal. / ETP | BD4: Obj / ETP | BE4: % Réal. | BF4: Ecart / 120% de l'attendu | BG4: Taux PV sais. | BH4: Taux PV | BI4: RàF pour 100% | BJ4: RàF pour 120% | BL4: Obj DRC | BM4: Taux compl. DRC | BN4: Taux PV | BO4: Obj RPM | BP4: Taux trait. RPM | BQ4: Taux PV
D5: Au 09/20 | F5: info | G5: info | I5: info | J5: info
A6: AUBE HAUTE MARNE | B6: CHAUMONT | C6: BOURBONNE LES BAINS | D6: 1.8999519 | F6: 0.042 | G6: 0.024 | I6: 5 | J6: 4 | L6: 60.83846 | M6: 260.94431 | N6: 321.78277 | O6: 169.36364 | P6: 234.656 | Q6: 0.72175286 | R6: -165.06917 | U6: 125 | V6: 214 | X6: 1529.2224 | Y6: 804.87429 | Z6: 573 | AA6: 1.4046672 | AB6: 340.39213 | AC6: 0.02 | AD6: 0.02 | AE6: 0 | AF6: 0 | AH6: 116.1 | AI6: 61.10681 | AJ6: 63 | AK6: 0.96994937 | AL6: -14.609091 | AM6: 0.007 | AO6: 4 | AP6: 28 | AR6: 20.2 | AS6: 10.631848 | AT6: 16 | AU6: 0.66449051 | AV6: -12.99596 | AY6: 11 | AZ6: 17 | BB6: 63.4 | BC6: 33.369266 | BD6: 32 | BE6: 1.0427896 | BF6: -2.9919192 | BG6: 0.015 | BH6: 0.004 | BI6: 0 | BJ6: 10 | BL6: 0.8 | BM6: 0.84 | BN6: 0.0015 | BO6: 0.95 | BP6: 1 | BQ6: 0.0025
A7: AUBE HAUTE MARNE | B7: CHAUMONT | C7: CHAUMONT HOTEL DE VILLE | D7: 9.1914925 | F7: 0.05 | G7: 0.041 | I7: 5 | J7: 5 | L7: 3383.2582 | M7: 5954.9999 | N7: 9338.2581 | O7: 1015.9676 | P7: 244.074 | Q7: 4.162539 | R7: 6888.4606 | S7: 0.01 | T7: 0.01 | U7: 0 | V7: 0 | X7: 5839.9163 | Y7: 635.36105 | Z7: 573 | AA7: 1.1088325 | AB7: 88.652375 | AC7: 0.02 | AD7: 0.011 | AE7: 0 | AF7: 481 | AH7: 460.15 | AI7: 50.062599 | AJ7: 63 | AK7: 0.79464442 | AL7: -172.18792 | AO7: 119 | AP7: 235 | AR7: 71.7 | AS7: 7.8006918 | AT7: 16 | AU7: 0.48754324 | AV7: -88.893757 | AY7: 76 | AZ7: 105 | BB7: 369 | BC7: 40.14582 | BD7: 32 | BE7: 1.2545569 | BF7: 47.812486 | BG7: 0.02 | BH7: 0.02 | BI7: 0 | BJ7: 0 | BL7: 0.8 | BM7: 0.82 | BN7: 0.00075 | BO7: 0.95 | BP7: 1 | BQ7: 0.0025
A8: AUBE HAUTE MARNE | B8: CHAUMONT | C8: CHAUMONT REPUBLIQUE | D8: 2.4137029 | F8: 0.053 | G8: 0.05 | I8: 6 | J8: 5 | L8: 963.30572 | M8: 715.49804 | N8: 1678.8038 | O8: 695.5304 | P8: 214.665 | Q8: 3.2400736 | R8: 1112.9976 | S8: 0.01 | T8: 0.01 | U8: 0 | V8: 0 | X8: 2162.5623 | Y8: 895.95216 | Z8: 573 | AA8: 1.5636163 | AB8: 652.26981 | AC8: 0.02 | AD8: 0.02 | AE8: 0 | AF8: 0 | AH8: 102.85 | AI8: 42.610878 | AJ8: 63 | AK8: 0.67636314 | AL8: -63.203106 | AO8: 50 | AP8: 80 | AR8: 37.1 | AS8: 15.370574 | AT8: 16 | AU8: 0.96066089 | AV8: -5.0722173 | AW8: 0.003 | AY8: 2 | AZ8: 10 | BB8: 104.8 | BC8: 43.418765 | BD8: 32 | BE8: 1.3568364 | BF8: 20.455565 | BG8: 0.02 | BH8: 0.02 | BI8: 0 | BJ8: 0 | BL8: 0.8 | BM8: 0.88 | BN8: 0.003 | BO8: 0.95 | BP8: 1 | BQ8: 0.0025
A9: AUBE HAUTE MARNE | B9: CHAUMONT | C9: JOINVILLE | D9: 2.8152338 | F9: 0.001 | I9: 3 | J9: 2 | L9: 853.57285 | M9: -737.29097 | N9: 116.28188 | O9: 41.30452 | P9: 212.5 | Q9: 0.19437421 | R9: -536.99312 | U9: 482 | V9: 602 | X9: 1484.1061 | Y9: 527.16977 | Z9: 573 | AA9: 0.92001705 | AB9: -277.43068 | AC9: 0.001 | AE9: 130 | AF9: 452 | AH9: 96 | AI9: 34.100188 | AJ9: 63 | AK9: 0.54127282 | AL9: -97.676823 | AO9: 82 | AP9: 117 | AR9: 7 | AS9: 2.486472 | AT9: 16 | AU9: 0.1554045 | AV9: -42.187764 | AY9: 39 | AZ9: 48 | BB9: 81 | BC9: 28.772033 | BD9: 32 | BE9: 0.89912604 | BF9: -17.375529 | BI9: 10 | BJ9: 28 | BL9: 0.8 | BM9: 0.82 | BN9: 0.00075 | BO9: 0.95 | BP9: 1 | BQ9: 0.0025
A10: AUBE HAUTE MARNE | B10: CHAUMONT | C10: LANGRES | D10: 6.6773488 | F10: 0.057 | G10: 0.04 | I10: 6 | J10: 5 | L10: 2698.1465 | M10: 3041.2944 | N10: 5739.4409 | O10: 859.53888 | P10: 234.656 | Q10: 3.6629742 | R10: 4028.408 | S10: 0.01 | T10: 0.01 | U10: 0 | V10: 0 | X10: 4894.3293 | Y10: 732.97493 | Z10: 573 | AA10: 1.2791884 | AB10: 716.2053 | AC10: 0.02 | AD10: 0.02 | AE10: 0 | AF10: 0 | AH10: 409.2 | AI10: 61.281807 | AJ10: 63 | AK10: 0.9727271 | AL10: -50.174888 | AM10: 0.007 | AO10: 12 | AP10: 96 | AR10: 52.7 | AS10: 7.8923539 | AT10: 16 | AU10: 0.49327212 | AV10: -63.966638 | AY10: 55 | AZ10: 76 | BB10: 235.8 | BC10: 35.313417 | BD10: 32 | BE10: 1.1035443 | BF10: 2.4667238 | BG10: 0.02 | BH10: 0.01 | BI10: 0 | BJ10: 21 | BL10: 0.8 | BM10: 0.85 | BN10: 0.001875 | BO10: 0.95 | BP10: 1 | BQ10: 0.0025
