Workbook
Name AUBE_HAUTE_MARNE: 'Structures EDS'!$C$3:$C$4
Name BAS_RHIN: 'Structures EDS'!$D$3:$D$5
Name CHALONS_EN_CHAMPAGNE: 'Structures EDS'!$T$3:$T$12
Name CHARLEVILLE_MEZIERES: 'Structures EDS'!$U$3:$U$16
Name CHAUMONT: 'Structures EDS'!$M$3:$M$11
Name COLMAR: 'Structures EDS'!$R$3:$R$17
Name EPINAL: 'Structures EDS'!$AC$3:$AC$18
Name HAGUENAU: 'Structures EDS'!$O$3:$O$20
Name HAUT_RHIN: 'Structures EDS'!$E$3:$E$4
Name MARNE_ARDENNES: 'Structures EDS'!$F$3:$F$5
Name METZ: 'Structures EDS'!$Z$3:$Z$24
Name MEURTHE_ET_MOSELLE_MEUSE: 'Structures EDS'!$G$3:$G$5
Name MOSELLE: 'Structures EDS'!$H$3:$H$5
Name MOSELLE_EST: 'Structures EDS'!$AA$3:$AA$19
Name MOSELLE_NORD: 'Structures EDS'!$AB$3:$AB$21
Name MULHOUSE: 'Structures EDS'!$S$3:$S$17
Name NANCY: 'Structures EDS'!$W$3:$W$19
Name PONT_A_MOUSSON: 'Structures EDS'!$X$3:$X$21
Name REIMS: 'Structures EDS'!$V$3:$V$20
Name SAINT_DIE: 'Structures EDS'!$AD$3:$AD$14
Name SELESTAT: 'Structures EDS'!$P$3:$P$19
Name STRASBOURG: 'Structures EDS'!$Q$3:$Q$22
Name TROYES: 'Structures EDS'!$N$3:$N$17
Name VERDUN: 'Structures EDS'!$Y$3:$Y$16
Name VOSGES: 'Structures EDS'!$I$3:$I$4

Sheet Lexique
B1: LEXIQUE FICHE AGENCE "VERS LA PV 2020"
C5: Le rôle de la fiche Agence "Vers la Part Variable 2020" est de vous aider à piloter les principaux items de la Part Variable 2020 sur les 2 derniers mois de l'année. Les indicateurs vous permettent d'avoir une vision hebdomadaire et par ETP des performances à réaliser pour atteindre vos objectifs.
C7: Elle sera mise à jour chaque lundi et mardi matin pour vous offrir la vision la plus complète de la production de la semaine précédente et du reste à faire.
C9: Ce suivi n'a pas vocation à figer vos résultats et les taux de Part Variable, ces derniers le seront lors de la réalisation des arrêtés définitifs début 2021.
C11: Pour piloter vos objectifs Part Variable en quotidien : | I11: Pour piloter vos performances au Baromètre tous les lundis :
C12: Suivi Quotidien Part Variable sur Objectifs | I12: Suivi Baromètre
C17: ● Taux d'atteinte de l'objectif : réalisation cumulée à fin de semaine précédente / objectif annuel 2020
C19: ● Meilleure performance hebdo : meilleure production hebdomadaire en 2020 (avant S44) rapportée à l'ETP moyen annuel
F20: à fin septembre
C22: ● Reste à faire pour atteindre l'objectif de 100% ou 120% : il s'agit d'une estimation du reste à faire pour atteindre l'objectif
C23: annuel. Ce dernier s'adapte en fonction de :
C24: - la réalisation sur la semaine précédente
C25: - la mise à jour mensuelle de l'objectif en fonction de l'ETP annuel moyen (ETP d'octobre disponible autour du 20/11)
C27: ● ETP utilisé dans le calcul du reste à faire et de la production des semaines 45 à 50 : il s'agit de l'ETP remonté par vos DR/DT pour
C28: le pilotage du Challenge "A la Conquête des Univers".
C30: ● Rang Baromètre : rang de l'entité dans le Baromètre BDD le plus récent publié sur la rubrique des commerciaux
C32: ● Ecart au 1er : écart au 1er de l'entité dans le Baromètre BDD le plus récent publié sur la rubrique des commerciaux
C34: ● Reste à faire pour atteindre le TOP : il s'agit de la performance à réaliser sur les semaines restantes pour atteindre le
C35: classement précisé. Cette performance intègre pour chaque entité le trend constaté depuis le début de l'année et ce dernier
C36: est appliqué aux semaines restantes (jusqu'à la semaine 50).
C38: Exemple :
... C61: Non, les Responsabilités Civiles ne sont pas prises en compte dans cet indicateur.

Sheet Fiche Agence
C1: REGION | H1: TERRITOIRE | N1: AGENCE
C2: AUBE_HAUTE_MARNE | H2: CHAUMONT | N2: BOURBONNE LES BAINS | X2: Semaine en cours : | Y2: 45 | Z2: =WEEKNUM(TODAY()) -> 44 | AA2: forcé pour 1er envoi, mettre Z en Y ensuite
X3: Nb semaines restantes : | Y3: =50-Y2+1 -> 6 | Z3: Bien vérifier
B4: VERS LA PART VARIABLE 2020 - SEMAINE 44 | X4: Code EDS | Y4: =VLOOKUP(N2,'ETP Challenge'!D:F,3,0) -> 410560
X6: Jauge
X7: 0 - 79% | Z7: 80
G8: MEILLEURE PERFORMANCE HEBDO EN 2020 : | X8: 80% - 100% | Z8: 20
K9: ATTENDU : | N9: ="2 MRH4 par ETP par semaine, soit "&ROUND(2*SUMIF('ETP Challenge'!$D:$D,$N$2,'ETP Challenge'!$E:$E),0)*6 & " contrats pour mon agence entre le 4 novembre et le 15 décembre" -> 2 MRH4 par ETP par semaine, soit 24 contrats pour mon agence entre le 4 novembre et le 15 décembre | X9: 101% - 120% | Z9: 20
Z10: =SUM(Z7:Z9) -> 120
G11: =ROUND(VLOOKUP(N2,'Meilleures perf'!C:G,3,0),1) & " contrats par ETP" -> 5,3 contrats par ETP
X12: aiguille IARD | Y12: =ROUND(VLOOKUP(N2,'Coller ici dernier suivi PV'!C:BR,35,0)*100,1) -> 97 | Z12: =IF(Y12>=120,120,Y12) -> 97
C13: =Y12 & "%" -> 97% | X13: largeur | Z13: 1
X14: part invisible | Z14: =SUM($Z$7:$Z$10)-(Z13+Z12) -> 142
X15: aiguille CONSO | Y15: =ROUND(VLOOKUP(N2,'Coller ici dernier suivi PV'!C:BR,25,0)*100,1) -> 140.5 | Z15: =IF(Y15>=120,120,Y15) -> 120
D16: Reste à faire hebdo par ETP pour atteindre l'objectif | K16: REALISATION DEPUIS LE 04/11 | N16: TAUX D'ATT. SAIS. | P16: RESTE A FAIRE HEBDO | X16: largeur | Z16: 1
D17: S45 | E17: S46 | F17: S47 | G17: S48 | H17: S49 | I17: S50 | X17: part invisible | Z17: =SUM($Z$7:$Z$10)-(Z16+Z15) -> 119
C18: Obj 100% | D18: =(VLOOKUP($N$2,'CUMUL résultats semaine'!$A:$BL,3,0)/SUMIF('ETP Challenge'!$D:$D,$N$2,'ETP Challenge'!$E:$E))/6 -> 0.33333333 | E18: =IF(ISNUMBER(D$20),(VLOOKUP($N$2,'CUMUL résultats semaine'!$A:$BL,12,0)/SUMIF('ETP Challenge'!$D:$D,$N$2,'ETP Challenge'!$E:$E))/5,D18) -> 0.33333333 | F18: =IF(ISNUMBER(E$20),(VLOOKUP($N$2,'CUMUL résultats semaine'!$A:$BL,21,0)/SUMIF('ETP Challenge'!$D:$D,$N$2,'ETP Challenge'!$E:$E))/4,E18) -> 0.33333333 | G18: =IF(ISNUMBER(F$20),(VLOOKUP($N$2,'CUMUL résultats semaine'!$A:$BL,30,0)/SUMIF('ETP Challenge'!$D:$D,$N$2,'ETP Challenge'!$E:$E))/3,F18) -> 0.33333333 | H18: =IF(ISNUMBER(G$20),(VLOOKUP($N$2,'CUMUL résultats semaine'!$A:$BL,39,0)/SUMIF('ETP Challenge'!$D:$D,$N$2,'ETP Challenge'!$E:$E))/2,G18) -> 0.33333333 | I18: =IF(ISNUMBER(H$20),(VLOOKUP($N$2,'CUMUL résultats semaine'!$A:$BL,48,0)/SUMIF('ETP Challenge'!$D:$D,$N$2,'ETP Challenge'!$E:$E)),H18) -> 0.33333333 | K18: AGENCE | L18: PAR ETP | P18: AGENCE | Q18: PAR ETP | X18: aiguille BANCA | Y18: =ROUND(VLOOKUP(N2,'Coller ici dernier suivi PV'!C:BR,55,0)*100,1) -> 104.3 | Z18: =IF(Y18>=120,120,Y18) -> 104.3
C19: Obj 120% | D19: =(VLOOKUP($N$2,'CUMUL résultats semaine'!$A:$BL,4,0)/SUMIF('ETP Challenge'!$D:$D,$N$2,'ETP Challenge'!$E:$E))/6 -> 2.3333333 | E19: =IF(ISNUMBER(D$20),(VLOOKUP($N$2,'CUMUL résultats semaine'!$A:$BL,13,0)/SUMIF('ETP Challenge'!$D:$D,$N$2,'ETP Challenge'!$E:$E))/5,D19) -> 2.3333333 | F19: =IF(ISNUMBER(E$20),(VLOOKUP($N$2,'CUMUL résultats semaine'!$A:$BL,22,0)/SUMIF('ETP Challenge'!$D:$D,$N$2,'ETP Challenge'!$E:$E))/4,E19) -> 2.3333333 | G19: =IF(ISNUMBER(F$20),(VLOOKUP($N$2,'CUMUL résultats semaine'!$A:$BL,31,0)/SUMIF('ETP Challenge'!$D:$D,$N$2,'ETP Challenge'!$E:$E))/3,F19) -> 2.3333333 | H19: =IF(ISNUMBER(G$20),(VLOOKUP($N$2,'CUMUL résultats semaine'!$A:$BL,40,0)/SUMIF('ETP Challenge'!$D:$D,$N$2,'ETP Challenge'!$E:$E))/2,G19) -> 2.3333333 | I19: =IF(ISNUMBER(H$20),(VLOOKUP($N$2,'CUMUL résultats semaine'!$A:$BL,49,0)/SUMIF('ETP Challenge'!$D:$D,$N$2,'ETP Challenge'!$E:$E)),H19) -> 2.3333333 | K19: =IF(ISNUMBER(VLOOKUP(N2,'PROD MRH4'!D:E,2,0)),VLOOKUP(N2,'PROD MRH4'!D:E,2,0),0) -> 0 | L19: =K19/SUMIF('ETP Challenge'!$D:$D,$N$2,'ETP Challenge'!$E:$E) -> 0 | N19: =IF(Y3=6,0,L19/(2*(6-Y3))) -> 0 | P19: =(ROUND(2*SUMIF('ETP Challenge'!$D:$D,$N$2,'ETP Challenge'!$E:$E),1)*6 - K19)/Y3 -> 4 | Q19: =P19/SUMIF('ETP Challenge'!$D:$D,$N$2,'ETP Challenge'!$E:$E) -> 2 | X19: largeur | Z19: 1
C20: Réalis. / ETP | D20: =IF(ISNUMBER(VLOOKUP($N$2,'CUMUL résultats semaine'!A:BL,11,0)),(VLOOKUP($N$2,'CUMUL résultats semaine'!A:BL,11,0)-VLOOKUP($N$2,'CUMUL résultats semaine'!A:BL,2,0))/SUMIF('ETP Challenge'!$D:$D,$N$2,'ETP Challenge'!$E:$E),"-") -> - | E20: =IF(ISNUMBER(VLOOKUP($N$2,'CUMUL résultats semaine'!A:BL,20,0)),(VLOOKUP($N$2,'CUMUL résultats semaine'!A:BL,20,0)-VLOOKUP($N$2,'CUMUL résultats semaine'!A:BL,11,0))/SUMIF('ETP Challenge'!$D:$D,$N$2,'ETP Challenge'!$E:$E),"-") -> - | F20: =IF(ISNUMBER(VLOOKUP($N$2,'CUMUL résultats semaine'!A:BL,29,0)),(VLOOKUP($N$2,'CUMUL résultats semaine'!A:BL,29,0)-VLOOKUP($N$2,'CUMUL résultats semaine'!A:BL,20,0))/SUMIF('ETP Challenge'!$D:$D,$N$2,'ETP Challenge'!$E:$E),"-") -> - | G20: =IF(ISNUMBER(VLOOKUP($N$2,'CUMUL résultats semaine'!A:BL,38,0)),(VLOOKUP($N$2,'CUMUL résultats semaine'!A:BL,38,0)-VLOOKUP($N$2,'CUMUL résultats semaine'!A:BL,29,0))/SUMIF('ETP Challenge'!$D:$D,$N$2,'ETP Challenge'!$E:$E),"-") -> - | H20: =IF(ISNUMBER(VLOOKUP($N$2,'CUMUL résultats semaine'!A:BL,47,0)),(VLOOKUP($N$2,'CUMUL résultats semaine'!A:BL,47,0)-VLOOKUP($N$2,'CUMUL résultats semaine'!A:BL,38,0))/SUMIF('ETP Challenge'!$D:$D,$N$2,'ETP Challenge'!$E:$E),"-") -> - | I20: =IF(ISNUMBER(VLOOKUP($N$2,'CUMUL résultats semaine'!A:BL,56,0)),(VLOOKUP($N$2,'CUMUL résultats semaine'!A:BL,56,0)-VLOOKUP($N$2,'CUMUL résultats semaine'!A:BL,47,0))/SUMIF('ETP Challenge'!$D:$D,$N$2,'ETP Challenge'!$E:$E),"-") -> - | X20: part invisible | Z20: =SUM($Z$7:$Z$10)-(Z19+Z18) -> 134.7
X23: CA UC BAROM | Y23: RàF | Z23: RàF par ETP par semaine
X24: =IF($N$27>100,"TOP 100","TOP 50") -> TOP 100 | Y24: =IF(X24="TOP 100",VLOOKUP($Y$4,'BAROM CA UC'!$E:$Z,21,0),VLOOKUP($Y$4,'BAROM CA UC'!$E:$Z,20,0)) -> 312024.63 | Z24: =IF(Y24<=0,0,Y24/SUMIF('ETP Challenge'!$D:$D,$N$2,'ETP Challenge'!$E:$E)/1000)/$Y$3 -> 26.002053
X25: =IF($N$27>100,"TOP 50","TOP 30") -> TOP 50 | Y25: =IF(X25="TOP 50",VLOOKUP($Y$4,'BAROM CA UC'!$E:$Z,20,0),VLOOKUP($Y$4,'BAROM CA UC'!$E:$Z,19,0)) -> 630782.3 | Z25: =IF(Y25<=0,0,Y25/SUMIF('ETP Challenge'!$D:$D,$N$2,'ETP Challenge'!$E:$E)/1000)/$Y$3 -> 52.565192
G26: MEILLEURE PERFORMANCE HEBDO EN 2020 : | X26: =IF(N27<10,"TOP 1",IF($N$27>100,"TOP 30","TOP 10")) -> TOP 30 | Y26: =IF(X26="TOP 1",VLOOKUP($Y$4,'BAROM CA UC'!$E:$Z,17,0),IF(X26="TOP 10",VLOOKUP($Y$4,'BAROM CA UC'!$E:$Z,18,0),VLOOKUP($Y$4,'BAROM CA UC'!$E:$Z,19,0))) -> 815085.97 | Z26: =IF(Y26<=0,0,Y26/SUMIF('ETP Challenge'!$D:$D,$N$2,'ETP Challenge'!$E:$E)/1000)/$Y$3 -> 67.923831
K27: RANG BAROMETRE : | N27: =VLOOKUP($Y$4,'BAROM CA UC'!$E:$Z,7,0) -> 179 | O27: ECART AU 1ER : | R27: =VLOOKUP($Y$4,'BAROM CA UC'!$E:$Z,6,0) -> 0.93939726
X28: IZICARTES BAROM | Y28: RàF | Z28: RàF par ETP par semaine
G29: =ROUND(VLOOKUP(N2,'Meilleures perf'!C:G,4,0)/1000,1) & "K€ d'engagements par ETP" -> 42,5K€ d'engagements par ETP | X29: =IF($M$45>100,"TOP 100","TOP 50") -> TOP 50 | Y29: =IF(X29="TOP 100",VLOOKUP($Y$4,'BAROM IZICARTES'!$E:$Z,22,0),VLOOKUP($Y$4,'BAROM IZICARTES'!$E:$Z,21,0)) -> 2.5079932 | Z29: =IF(Y29<=0,0,Y29/SUMIF('ETP Challenge'!$D:$D,$N$2,'ETP Challenge'!$E:$E))/$Y$3 -> 0.20899943
X30: =IF($M$45>100,"TOP 50","TOP 30") -> TOP 30 | Y30: =IF(X30="TOP 50",VLOOKUP($Y$4,'BAROM IZICARTES'!$E:$Z,21,0),VLOOKUP($Y$4,'BAROM IZICARTES'!$E:$Z,20,0)) -> 7.2006327 | Z30: =IF(Y30<=0,0,Y30/SUMIF('ETP Challenge'!$D:$D,$N$2,'ETP Challenge'!$E:$E))/$Y$3 -> 0.60005273
C31: =Y15& "%" -> 140,5% | X31: =IF($M$45<10,"TOP1",IF($M$45>100,"TOP 30","TOP 10")) -> TOP 10 | Y31: =IF(X31="TOP 1",VLOOKUP($Y$4,'BAROM IZICARTES'!$E:$Z,18,0),IF(X31="TOP 10",VLOOKUP($Y$4,'BAROM IZICARTES'!$E:$Z,19,0),VLOOKUP($Y$4,'BAROM IZICARTES'!$E:$Z,20,0))) -> 23.405922 | Z31: =IF(Y31<=0,0,Y31/SUMIF('ETP Challenge'!$D:$D,$N$2,'ETP Challenge'!$E:$E))/$Y$3 -> 1.9504935
X33: HDG DD BAROM | Y33: RàF | Z33: RàF par ETP par semaine
D34: Reste à faire hebdo par ETP pour atteindre l'objectif (en K€) | X34: =IF($R$45>100,"TOP 100","TOP 50") -> TOP 50 | Y34: =IF(X34="TOP 100",VLOOKUP($Y$4,'BAROM CARTES HDG'!$E:$Z,22,0),VLOOKUP($Y$4,'BAROM CARTES HDG'!$E:$Z,21,0)) -> 10.347266 | Z34: =IF(Y34<=0,0,Y34/SUMIF('ETP Challenge'!$D:$D,$N$2,'ETP Challenge'!$E:$E))/$Y$3 -> 0.86227219
D35: S45 | E35: S46 | F35: S47 | G35: S48 | H35: S49 | I35: S50 | X35: =IF($R$45>100,"TOP 50","TOP 30") -> TOP 30 | Y35: =IF(X35="TOP 50",VLOOKUP($Y$4,'BAROM CARTES HDG'!$E:$Z,21,0),VLOOKUP($Y$4,'BAROM CARTES HDG'!$E:$Z,20,0)) -> 18.776341 | Z35: =IF(Y35<=0,0,Y35/SUMIF('ETP Challenge'!$D:$D,$N$2,'ETP Challenge'!$E:$E))/$Y$3 -> 1.5646951
C36: Obj 100% | D36: =(VLOOKUP($N$2,'CUMUL résultats semaine'!$A:$BL,6,0)/SUMIF('ETP Challenge'!$D:$D,$N$2,'ETP Challenge'!$E:$E))/6 -> 0 | E36: =IF(ISNUMBER(D$38),(VLOOKUP($N$2,'CUMUL résultats semaine'!$A:$BL,15,0)/SUMIF('ETP Challenge'!$D:$D,$N$2,'ETP Challenge'!$E:$E))/5,D36) -> 0 | F36: =IF(ISNUMBER(E$20),(VLOOKUP($N$2,'CUMUL résultats semaine'!$A:$BL,24,0)/SUMIF('ETP Challenge'!$D:$D,$N$2,'ETP Challenge'!$E:$E))/4,E36) -> 0 | G36: =IF(ISNUMBER(F$20),(VLOOKUP($N$2,'CUMUL résultats semaine'!$A:$BL,33,0)/SUMIF('ETP Challenge'!$D:$D,$N$2,'ETP Challenge'!$E:$E))/3,F36) -> 0 | H36: =IF(ISNUMBER(G$20),(VLOOKUP($N$2,'CUMUL résultats semaine'!$A:$BL,42,0)/SUMIF('ETP Challenge'!$D:$D,$N$2,'ETP Challenge'!$E:$E))/2,G36) -> 0 | I36: =IF(ISNUMBER(H$20),(VLOOKUP($N$2,'CUMUL résultats semaine'!$A:$BL,51,0)/SUMIF('ETP Challenge'!$D:$D,$N$2,'ETP Challenge'!$E:$E)),H36) -> 0 | X36: =IF($R$45<10,"TOP1",IF($R$45>100,"TOP 30","TOP 10")) -> TOP 10 | Y36: =IF(X36="TOP 1",VLOOKUP($Y$4,'BAROM CARTES HDG'!$E:$Z,18,0),IF(X36="TOP 10",VLOOKUP($Y$4,'BAROM CARTES HDG'!$E:$Z,19,0),VLOOKUP($Y$4,'BAROM CARTES HDG'!$E:$Z,20,0))) -> 33.741298 | Z36: =IF(Y36<=0,0,Y36/SUMIF('ETP Challenge'!$D:$D,$N$2,'ETP Challenge'!$E:$E))/$Y$3 -> 2.8117749
C37: Obj 120% | D37: =(VLOOKUP($N$2,'CUMUL résultats semaine'!$A:$BL,7,0)/SUMIF('ETP Challenge'!$D:$D,$N$2,'ETP Challenge'!$E:$E))/6 -> 0 | E37: =IF(ISNUMBER(D$38),(VLOOKUP($N$2,'CUMUL résultats semaine'!$A:$BL,16,0)/SUMIF('ETP Challenge'!$D:$D,$N$2,'ETP Challenge'!$E:$E))/5,D37) -> 0 | F37: =IF(ISNUMBER(E$20),(VLOOKUP($N$2,'CUMUL résultats semaine'!$A:$BL,25,0)/SUMIF('ETP Challenge'!$D:$D,$N$2,'ETP Challenge'!$E:$E))/4,E37) -> 0 | G37: =IF(ISNUMBER(F$20),(VLOOKUP($N$2,'CUMUL résultats semaine'!$A:$BL,34,0)/SUMIF('ETP Challenge'!$D:$D,$N$2,'ETP Challenge'!$E:$E))/3,F37) -> 0 | H37: =IF(ISNUMBER(G$20),(VLOOKUP($N$2,'CUMUL résultats semaine'!$A:$BL,43,0)/SUMIF('ETP Challenge'!$D:$D,$N$2,'ETP Challenge'!$E:$E))/2,G37) -> 0 | I37: =IF(ISNUMBER(H$20),(VLOOKUP($N$2,'CUMUL résultats semaine'!$A:$BL,52,0)/SUMIF('ETP Challenge'!$D:$D,$N$2,'ETP Challenge'!$E:$E)),H37) -> 0
C38: Réalis. / ETP | D38: =IF(ISNUMBER(VLOOKUP($N$2,'CUMUL résultats semaine'!A:BL,14,0)),(VLOOKUP($N$2,'CUMUL résultats semaine'!A:BL,14,0)-VLOOKUP($N$2,'CUMUL résultats semaine'!A:BL,5,0))/SUMIF('ETP Challenge'!$D:$D,$N$2,'ETP Challenge'!$E:$E),"-") -> - | E38: =IF(ISNUMBER(VLOOKUP($N$2,'CUMUL résultats semaine'!A:BL,23,0)),(VLOOKUP($N$2,'CUMUL résultats semaine'!A:BL,23,0)-VLOOKUP($N$2,'CUMUL résultats semaine'!A:BL,14,0))/SUMIF('ETP Challenge'!$D:$D,$N$2,'ETP Challenge'!$E:$E),"-") -> - | F38: =IF(ISNUMBER(VLOOKUP($N$2,'CUMUL résultats semaine'!A:BL,32,0)),(VLOOKUP($N$2,'CUMUL résultats semaine'!A:BL,32,0)-VLOOKUP($N$2,'CUMUL résultats semaine'!A:BL,23,0))/SUMIF('ETP Challenge'!$D:$D,$N$2,'ETP Challenge'!$E:$E),"-") -> - | G38: =IF(ISNUMBER(VLOOKUP($N$2,'CUMUL résultats semaine'!A:BL,41,0)),(VLOOKUP($N$2,'CUMUL résultats semaine'!A:BL,41,0)-VLOOKUP($N$2,'CUMUL résultats semaine'!A:BL,32,0))/SUMIF('ETP Challenge'!$D:$D,$N$2,'ETP Challenge'!$E:$E),"-") -> - | H38: =IF(ISNUMBER(VLOOKUP($N$2,'CUMUL résultats semaine'!A:BL,50,0)),(VLOOKUP($N$2,'CUMUL résultats semaine'!A:BL,50,0)-VLOOKUP($N$2,'CUMUL résultats semaine'!A:BL,41,0))/SUMIF('ETP Challenge'!$D:$D,$N$2,'ETP Challenge'!$E:$E),"-") -> - | I38: =IF(ISNUMBER(VLOOKUP($N$2,'CUMUL résultats semaine'!A:BL,59,0)),(VLOOKUP($N$2,'CUMUL résultats semaine'!A:BL,59,0)-VLOOKUP($N$2,'CUMUL résultats semaine'!A:BL,50,0))/SUMIF('ETP Challenge'!$D:$D,$N$2,'ETP Challenge'!$E:$E),"-") -> -
G44: MEILLEURE PERFORMANCE HEBDO EN 2020 :
K45: RANG BAROMETRE : | M45: =VLOOKUP($Y$4,'BAROM IZICARTES'!$E:$Z,7,0) -> 62 | P45: RANG BAROMETRE : | R45: =VLOOKUP($Y$4,'BAROM CARTES HDG'!$E:$Z,7,0) -> 99
K46: ECART AU 1ER : | M46: =VLOOKUP($Y$4,'BAROM IZICARTES'!$E:$Z,6,0) -> 0.78864427 | P46: ECART AU 1ER : | R46: =VLOOKUP($Y$4,'BAROM CARTES HDG'!$E:$Z,6,0) -> 0.76835463
G47: =ROUND(VLOOKUP(N2,'Meilleures perf'!C:G,5,0),1) & " contrats par ETP" -> 2,6 contrats par ETP
C49: =Y18& "%" -> 104,3%
D52: Reste à faire hebdo par ETP pour atteindre l'objectif
...

Sheet CUMUL résultats semaine
A1: 1 | B1: 2 | C1: 3 | D1: 4 | E1: 5 | F1: 6 | G1: 7 | H1: 8 | I1: 9 | J1: 10 | K1: 11 | L1: 12 | M1: 13 | N1: 14 | O1: 15 | P1: 16 | Q1: 17 | R1: 18 | S1: 19 | T1: 20 | U1: 21 | V1: 22 | W1: 23 | X1: 24 | Y1: 25 | Z1: 26 | AA1: 27 | AB1: 28 | AC1: 29 | AD1: 30 | AE1: 31 | AF1: 32 | AG1: 33 | AH1: 34 | AI1: 35 | AJ1: 36 | AK1: 37 | AL1: 38 | AM1: 39 | AN1: 40 | AO1: 41 | AP1: 42 | AQ1: 43 | AR1: 44 | AS1: 45 | AT1: 46 | AU1: 47 | AV1: 48 | AW1: 49 | AX1: 50 | AY1: 51 | AZ1: 52 | BA1: 53 | BB1: 54 | BC1: 55 | BD1: 56 | BE1: 57 | BF1: 58 | BG1: 59 | BH1: 60 | BI1: 61 | BJ1: 62 | BK1: 63 | BL1: 64
A2: AGENCES | B2: S0 PROD IARD | C2: S0 RAF IARD 100% | D2: S0 RAF IARD 120% | E2: S0 PROD CONSO | F2: S0 RAF CONSO 100% | G2: S0 RAF CONSO 120% | H2: S0 PROD FORF | I2: S0 RAF FORF 100% | J2: S0 RAF FORF 120% | K2: S45 PROD IARD | L2: S45 RAF IARD 100% | M2: S45 RAF IARD 120% | N2: S45 PROD CONSO | O2: S45 RAF CONSO 100% | P2: S45 RAF CONSO 120% | Q2: S45 PROD FORF | R2: S45 RAF FORF 100% | S2: S45 RAF FORF 120% | T2: S46 PROD IARD | U2: S46 RAF IARD 100% | V2: S46 RAF IARD 120% | W2: S46 PROD CONSO | X2: S46 RAF CONSO 100% | Y2: S46 RAF CONSO 120% | Z2: S46 PROD FORF | AA2: S46 RAF FORF 100% | AB2: S46 RAF FORF 120% | AC2: S47 PROD IARD | AD2: S47 RAF IARD 100% | AE2: S47 RAF IARD 120% | AF2: S47 PROD CONSO | AG2: S47 RAF CONSO 100% | AH2: S47 RAF CONSO 120% | AI2: S47 PROD FORF | AJ2: S47 RAF FORF 100% | AK2: S47 RAF FORF 120% | AL2: S48 PROD IARD | AM2: S48 RAF IARD 100% | AN2: S48 RAF IARD 120% | AO2: S48 PROD CONSO | AP2: S48 RAF CONSO 100% | AQ2: S48 RAF CONSO 120% | AR2: S48 PROD FORF | AS2: S48 RAF FORF 100% | AT2: S48 RAF FORF 120% | AU2: S49 PROD IARD | AV2: S49 RAF IARD 100% | AW2: S49 RAF IARD 120% | AX2: S49 PROD CONSO | AY2: S49 RAF CONSO 100% | AZ2: S49 RAF CONSO 120% | BA2: S49 PROD FORF | BB2: S49 RAF FORF 100% | BC2: S49 RAF FORF 120% | BD2: S50 PROD IARD | BE2: S50 RAF IARD 100% | BF2: S50 RAF IARD 120% | BG2: S50 PROD CONSO | BH2: S50 RAF CONSO 100% | BI2: S50 RAF CONSO 120% | BJ2: S50 PROD FORF | BK2: S50 RAF FORF 100% | BL2: S50 RAF FORF 120%
A3: BOURBONNE LES BAINS | B3: =VLOOKUP($A3,'S0 remplacer avec S44'!$C:$BQ,32,0) -> 116.1 | C3: =VLOOKUP($A3,'S0 remplacer avec S44'!$C:$BQ,39,0) -> 4 | D3: =VLOOKUP($A3,'S0 remplacer avec S44'!$C:$BQ,40,0) -> 28 | E3: =VLOOKUP($A3,'S0 remplacer avec S44'!$C:$BQ,22,0) -> 1529.2224 | F3: =VLOOKUP($A3,'S0 remplacer avec S44'!$C:$BQ,29,0) -> 0 | G3: =VLOOKUP($A3,'S0 remplacer avec S44'!$C:$BQ,30,0) -> 0 | H3: =VLOOKUP($A3,'S0 remplacer avec S44'!$C:$BQ,52,0) -> 63.4 | I3: =VLOOKUP($A3,'S0 remplacer avec S44'!$C:$BQ,59,0) -> 0 | J3: =VLOOKUP($A3,'S0 remplacer avec S44'!$C:$BQ,60,0) -> 10 | K3: =VLOOKUP($A3,'S45'!$C:$BQ,32,0) -> #N/A | L3: =VLOOKUP($A3,'S45'!$C:$BQ,39,0) -> #N/A | M3: =VLOOKUP($A3,'S45'!$C:$BQ,40,0) -> #N/A | N3: =VLOOKUP($A3,'S45'!$C:$BQ,22,0) -> #N/A | O3: =VLOOKUP($A3,'S45'!$C:$BQ,29,0) -> #N/A | P3: =VLOOKUP($A3,'S45'!$C:$BQ,30,0) -> #N/A | Q3: =VLOOKUP($A3,'S45'!$C:$BQ,52,0) -> #N/A | R3: =VLOOKUP($A3,'S45'!$C:$BQ,59,0) -> #N/A | S3: =VLOOKUP($A3,'S45'!$C:$BQ,60,0) -> #N/A | T3: =VLOOKUP($A3,'S46'!$C:$BQ,32,0) -> #N/A | U3: =VLOOKUP($A3,'S46'!$C:$BQ,39,0) -> #N/A | V3: =VLOOKUP($A3,'S46'!$C:$BQ,40,0) -> #N/A | W3: =VLOOKUP($A3,'S46'!$C:$BQ,22,0) -> #N/A | X3: =VLOOKUP($A3,'S46'!$C:$BQ,29,0) -> #N/A | Y3: =VLOOKUP($A3,'S46'!$C:$BQ,30,0) -> #N/A | Z3: =VLOOKUP($A3,'S46'!$C:$BQ,52,0) -> #N/A | AA3: =VLOOKUP($A3,'S46'!$C:$BQ,59,0) -> #N/A | AB3: =VLOOKUP($A3,'S46'!$C:$BQ,60,0) -> #N/A | AC3: =VLOOKUP($A3,'S47'!$C:$BQ,32,0) -> #N/A | AD3: =VLOOKUP($A3,'S47'!$C:$BQ,39,0) -> #N/A | AE3: =VLOOKUP($A3,'S47'!$C:$BQ,40,0) -> #N/A | AF3: =VLOOKUP($A3,'S47'!$C:$BQ,22,0) -> #N/A | AG3: =VLOOKUP($A3,'S47'!$C:$BQ,29,0) -> #N/A | AH3: =VLOOKUP($A3,'S47'!$C:$BQ,30,0) -> #N/A | AI3: =VLOOKUP($A3,'S47'!$C:$BQ,52,0) -> #N/A | AJ3: =VLOOKUP($A3,'S47'!$C:$BQ,59,0) -> #N/A | AK3: =VLOOKUP($A3,'S47'!$C:$BQ,60,0) -> #N/A | AL3: =VLOOKUP($A3,'S48'!$C:$BQ,32,0) -> #N/A | AM3: =VLOOKUP($A3,'S48'!$C:$BQ,39,0) -> #N/A | AN3: =VLOOKUP($A3,'S48'!$C:$BQ,40,0) -> #N/A | AO3: =VLOOKUP($A3,'S48'!$C:$BQ,22,0) -> #N/A | AP3: =VLOOKUP($A3,'S48'!$C:$BQ,29,0) -> #N/A | AQ3: =VLOOKUP($A3,'S48'!$C:$BQ,30,0) -> #N/A | AR3: =VLOOKUP($A3,'S48'!$C:$BQ,52,0) -> #N/A | AS3: =VLOOKUP($A3,'S48'!$C:$BQ,59,0) -> #N/A | AT3: =VLOOKUP($A3,'S48'!$C:$BQ,60,0) -> #N/A | AU3: =VLOOKUP($A3,'S49'!$C:$BQ,32,0) -> #N/A | AV3: =VLOOKUP($A3,'S49'!$C:$BQ,39,0) -> #N/A | AW3: =VLOOKUP($A3,'S49'!$C:$BQ,40,0) -> #N/A | AX3: =VLOOKUP($A3,'S49'!$C:$BQ,22,0) -> #N/A | AY3: =VLOOKUP($A3,'S49'!$C:$BQ,29,0) -> #N/A | AZ3: =VLOOKUP($A3,'S49'!$C:$BQ,30,0) -> #N/A | BA3: =VLOOKUP($A3,'S49'!$C:$BQ,52,0) -> #N/A | BB3: =VLOOKUP($A3,'S49'!$C:$BQ,59,0) -> #N/A | BC3: =VLOOKUP($A3,'S49'!$C:$BQ,60,0) -> #N/A | BD3: =VLOOKUP($A3,'S50'!$C:$BQ,32,0) -> #N/A | BE3: =VLOOKUP($A3,'S50'!$C:$BQ,39,0) -> #N/A | BF3: =VLOOKUP($A3,'S50'!$C:$BQ,40,0) -> #N/A | BG3: =VLOOKUP($A3,'S50'!$C:$BQ,22,0) -> #N/A | BH3: =VLOOKUP($A3,'S50'!$C:$BQ,29,0) -> #N/A | BI3: =VLOOKUP($A3,'S50'!$C:$BQ,30,0) -> #N/A | BJ3: =VLOOKUP($A3,'S50'!$C:$BQ,52,0) -> #N/A | BK3: =VLOOKUP($A3,'S50'!$C:$BQ,59,0) -> #N/A | BL3: =VLOOKUP($A3,'S50'!$C:$BQ,60,0) -> #N/A
A4: CHAUMONT HOTEL DE VILLE | B4: =VLOOKUP($A4,'S0 remplacer avec S44'!$C:$BQ,32,0) -> 460.15 | C4: =VLOOKUP($A4,'S0 remplacer avec S44'!$C:$BQ,39,0) -> 119 | D4: =VLOOKUP($A4,'S0 remplacer avec S44'!$C:$BQ,40,0) -> 235 | E4: =VLOOKUP($A4,'S0 remplacer avec S44'!$C:$BQ,22,0) -> 5839.9163 | F4: =VLOOKUP($A4,'S0 remplacer avec S44'!$C:$BQ,29,0) -> 0 | G4: =VLOOKUP($A4,'S0 remplacer avec S44'!$C:$BQ,30,0) -> 481 | H4: =VLOOKUP($A4,'S0 remplacer avec S44'!$C:$BQ,52,0) -> 369 | I4: =VLOOKUP($A4,'S0 remplacer avec S44'!$C:$BQ,59,0) -> 0 | J4: =VLOOKUP($A4,'S0 remplacer avec S44'!$C:$BQ,60,0) -> 0 | K4: =VLOOKUP($A4,'S45'!$C:$BQ,32,0) -> #N/A | L4: =VLOOKUP($A4,'S45'!$C:$BQ,39,0) -> #N/A | M4: =VLOOKUP($A4,'S45'!$C:$BQ,40,0) -> #N/A | N4: =VLOOKUP($A4,'S45'!$C:$BQ,22,0) -> #N/A | O4: =VLOOKUP($A4,'S45'!$C:$BQ,29,0) -> #N/A | P4: =VLOOKUP($A4,'S45'!$C:$BQ,30,0) -> #N/A | Q4: =VLOOKUP($A4,'S45'!$C:$BQ,52,0) -> #N/A | R4: =VLOOKUP($A4,'S45'!$C:$BQ,59,0) -> #N/A | S4: =VLOOKUP($A4,'S45'!$C:$BQ,60,0) -> #N/A | T4: =VLOOKUP($A4,'S46'!$C:$BQ,32,0) -> #N/A | U4: =VLOOKUP($A4,'S46'!$C:$BQ,39,0) -> #N/A | V4: =VLOOKUP($A4,'S46'!$C:$BQ,40,0) -> #N/A | W4: =VLOOKUP($A4,'S46'!$C:$BQ,22,0) -> #N/A | X4: =VLOOKUP($A4,'S46'!$C:$BQ,29,0) -> #N/A | Y4: =VLOOKUP($A4,'S46'!$C:$BQ,30,0) -> #N/A | Z4: =VLOOKUP($A4,'S46'!$C:$BQ,52,0) -> #N/A | AA4: =VLOOKUP($A4,'S46'!$C:$BQ,59,0) -> #N/A | AB4: =VLOOKUP($A4,'S46'!$C:$BQ,60,0) -> #N/A | AC4: =VLOOKUP($A4,'S47'!$C:$BQ,32,0) -> #N/A | AD4: =VLOOKUP($A4,'S47'!$C:$BQ,39,0) -> #N/A | AE4: =VLOOKUP($A4,'S47'!$C:$BQ,40,0) -> #N/A | AF4: =VLOOKUP($A4,'S47'!$C:$BQ,22,0) -> #N/A | AG4: =VLOOKUP($A4,'S47'!$C:$BQ,29,0) -> #N/A | AH4: =VLOOKUP($A4,'S47'!$C:$BQ,30,0) -> #N/A | AI4: =VLOOKUP($A4,'S47'!$C:$BQ,52,0) -> #N/A | AJ4: =VLOOKUP($A4,'S47'!$C:$BQ,59,0) -> #N/A | AK4: =VLOOKUP($A4,'S47'!$C:$BQ,60,0) -> #N/A | AL4: =VLOOKUP($A4,'S48'!$C:$BQ,32,0) -> #N/A | AM4: =VLOOKUP($A4,'S48'!$C:$BQ,39,0) -> #N/A | AN4: =VLOOKUP($A4,'S48'!$C:$BQ,40,0) -> #N/A | AO4: =VLOOKUP($A4,'S48'!$C:$BQ,22,0) -> #N/A | AP4: =VLOOKUP($A4,'S48'!$C:$BQ,29,0) -> #N/A | AQ4: =VLOOKUP($A4,'S48'!$C:$BQ,30,0) -> #N/A | AR4: =VLOOKUP($A4,'S48'!$C:$BQ,52,0) -> #N/A | AS4: =VLOOKUP($A4,'S48'!$C:$BQ,59,0) -> #N/A | AT4: =VLOOKUP($A4,'S48'!$C:$BQ,60,0) -> #N/A | AU4: =VLOOKUP($A4,'S49'!$C:$BQ,32,0) -> #N/A | AV4: =VLOOKUP($A4,'S49'!$C:$BQ,39,0) -> #N/A | AW4: =VLOOKUP($A4,'S49'!$C:$BQ,40,0) -> #N/A | AX4: =VLOOKUP($A4,'S49'!$C:$BQ,22,0) -> #N/A | AY4: =VLOOKUP($A4,'S49'!$C:$BQ,29,0) -> #N/A | AZ4: =VLOOKUP($A4,'S49'!$C:$BQ,30,0) -> #N/A | BA4: =VLOOKUP($A4,'S49'!$C:$BQ,52,0) -> #N/A | BB4: =VLOOKUP($A4,'S49'!$C:$BQ,59,0) -> #N/A | BC4: =VLOOKUP($A4,'S49'!$C:$BQ,60,0) -> #N/A | BD4: =VLOOKUP($A4,'S50'!$C:$BQ,32,0) -> #N/A | BE4: =VLOOKUP($A4,'S50'!$C:$BQ,39,0) -> #N/A | BF4: =VLOOKUP($A4,'S50'!$C:$BQ,40,0) -> #N/A | BG4: =VLOOKUP($A4,'S50'!$C:$BQ,22,0) -> #N/A | BH4: =VLOOKUP($A4,'S50'!$C:$BQ,29,0) -> #N/A | BI4: =VLOOKUP($A4,'S50'!$C:$BQ,30,0) -> #N/A | BJ4: =VLOOKUP($A4,'S50'!$C:$BQ,52,0) -> #N/A | BK4: =VLOOKUP($A4,'S50'!$C:$BQ,59,0) -> #N/A | BL4: =VLOOKUP($A4,'S50'!$C:$BQ,60,0) -> #N/A
A5: CHAUMONT REPUBLIQUE | B5: =VLOOKUP($A5,'S0 remplacer avec S44'!$C:$BQ,32,0) -> 102.85 | C5: =VLOOKUP($A5,'S0 remplacer avec S44'!$C:$BQ,39,0) -> 50 | D5: =VLOOKUP($A5,'S0 remplacer avec S44'!$C:$BQ,40,0) -> 80 | E5: =VLOOKUP($A5,'S0 remplacer avec S44'!$C:$BQ,22,0) -> 2162.5623 | F5: =VLOOKUP($A5,'S0 remplacer avec S44'!$C:$BQ,29,0) -> 0 | G5: =VLOOKUP($A5,'S0 remplacer avec S44'!$C:$BQ,30,0) -> 0 | H5: =VLOOKUP($A5,'S0 remplacer avec S44'!$C:$BQ,52,0) -> 104.8 | I5: =VLOOKUP($A5,'S0 remplacer avec S44'!$C:$BQ,59,0) -> 0 | J5: =VLOOKUP($A5,'S0 remplacer avec S44'!$C:$BQ,60,0) -> 0 | K5: =VLOOKUP($A5,'S45'!$C:$BQ,32,0) -> #N/A | L5: =VLOOKUP($A5,'S45'!$C:$BQ,39,0) -> #N/A | M5: =VLOOKUP($A5,'S45'!$C:$BQ,40,0) -> #N/A | N5: =VLOOKUP($A5,'S45'!$C:$BQ,22,0) -> #N/A | O5: =VLOOKUP($A5,'S45'!$C:$BQ,29,0) -> #N/A | P5: =VLOOKUP($A5,'S45'!$C:$BQ,30,0) -> #N/A | Q5: =VLOOKUP($A5,'S45'!$C:$BQ,52,0) -> #N/A | R5: =VLOOKUP($A5,'S45'!$C:$BQ,59,0) -> #N/A | S5: =VLOOKUP($A5,'S45'!$C:$BQ,60,0) -> #N/A | T5: =VLOOKUP($A5,'S46'!$C:$BQ,32,0) -> #N/A | U5: =VLOOKUP($A5,'S46'!$C:$BQ,39,0) -> #N/A | V5: =VLOOKUP($A5,'S46'!$C:$BQ,40,0) -> #N/A | W5: =VLOOKUP($A5,'S46'!$C:$BQ,22,0) -> #N/A | X5: =VLOOKUP($A5,'S46'!$C:$BQ,29,0) -> #N/A | Y5: =VLOOKUP($A5,'S46'!$C:$BQ,30,0) -> #N/A | Z5: =VLOOKUP($A5,'S46'!$C:$BQ,52,0) -> #N/A | AA5: =VLOOKUP($A5,'S46'!$C:$BQ,59,0) -> #N/A | AB5: =VLOOKUP($A5,'S46'!$C:$BQ,60,0) -> #N/A | AC5: =VLOOKUP($A5,'S47'!$C:$BQ,32,0) -> #N/A | AD5: =VLOOKUP($A5,'S47'!$C:$BQ,39,0) -> #N/A | AE5: =VLOOKUP($A5,'S47'!$C:$BQ,40,0) -> #N/A | AF5: =VLOOKUP($A5,'S47'!$C:$BQ,22,0) -> #N/A | AG5: =VLOOKUP($A5,'S47'!$C:$BQ,29,0) -> #N/A | AH5: =VLOOKUP($A5,'S47'!$C:$BQ,30,0) -> #N/A | AI5: =VLOOKUP($A5,'S47'!$C:$BQ,52,0) -> #N/A | AJ5: =VLOOKUP($A5,'S47'!$C:$BQ,59,0) -> #N/A | AK5: =VLOOKUP($A5,'S47'!$C:$BQ,60,0) -> #N/A | AL5: =VLOOKUP($A5,'S48'!$C:$BQ,32,0) -> #N/A | AM5: =VLOOKUP($A5,'S48'!$C:$BQ,39,0) -> #N/A | AN5: =VLOOKUP($A5,'S48'!$C:$BQ,40,0) -> #N/A | AO5: =VLOOKUP($A5,'S48'!$C:$BQ,22,0) -> #N/A | AP5: =VLOOKUP($A5,'S48'!$C:$BQ,29,0) -> #N/A | AQ5: =VLOOKUP($A5,'S48'!$C:$BQ,30,0) -> #N/A | AR5: =VLOOKUP($A5,'S48'!$C:$BQ,52,0) -> #N/A | AS5: =VLOOKUP($A5,'S48'!$C:$BQ,59,0) -> #N/A | AT5: =VLOOKUP($A5,'S48'!$C:$BQ,60,0) -> #N/A | AU5: =VLOOKUP($A5,'S49'!$C:$BQ,32,0) -> #N/A | AV5: =VLOOKUP($A5,'S49'!$C:$BQ,39,0) -> #N/A | AW5: =VLOOKUP($A5,'S49'!$C:$BQ,40,0) -> #N/A | AX5: =VLOOKUP($A5,'S49'!$C:$BQ,22,0) -> #N/A | AY5: =VLOOKUP($A5,'S49'!$C:$BQ,29,0) -> #N/A | AZ5: =VLOOKUP($A5,'S49'!$C:$BQ,30,0) -> #N/A | BA5: =VLOOKUP($A5,'S49'!$C:$BQ,52,0) -> #N/A | BB5: =VLOOKUP($A5,'S49'!$C:$BQ,59,0) -> #N/A | BC5: =VLOOKUP($A5,'S49'!$C:$BQ,60,0) -> #N/A | BD5: =VLOOKUP($A5,'S50'!$C:$BQ,32,0) -> #N/A | BE5: =VLOOKUP($A5,'S50'!$C:$BQ,39,0) -> #N/A | BF5: =VLOOKUP($A5,'S50'!$C:$BQ,40,0) -> #N/A | BG5: =VLOOKUP($A5,'S50'!$C:$BQ,22,0) -> #N/A | BH5: =VLOOKUP($A5,'S50'!$C:$BQ,29,0) -> #N/A | BI5: =VLOOKUP($A5,'S50'!$C:$BQ,30,0) -> #N/A | BJ5: =VLOOKUP($A5,'S50'!$C:$BQ,52,0) -> #N/A | BK5: =VLOOKUP($A5,'S50'!$C:$BQ,59,0) -> #N/A | BL5: =VLOOKUP($A5,'S50'!$C:$BQ,60,0) -> #N/A
A6: JOINVILLE | B6: =VLOOKUP($A6,'S0 remplacer avec S44'!$C:$BQ,32,0) -> 96 | C6: =VLOOKUP($A6,'S0 remplacer avec S44'!$C:$BQ,39,0) -> 82 | D6: =VLOOKUP($A6,'S0 remplacer avec S44'!$C:$BQ,40,0) -> 117 | E6: =VLOOKUP($A6,'S0 remplacer avec S44'!$C:$BQ,22,0) -> 1484.1061 | F6: =VLOOKUP($A6,'S0 remplacer avec S44'!$C:$BQ,29,0) -> 130 | G6: =VLOOKUP($A6,'S0 remplacer avec S44'!$C:$BQ,30,0) -> 452 | H6: =VLOOKUP($A6,'S0 remplacer avec S44'!$C:$BQ,52,0) -> 81 | I6: =VLOOKUP($A6,'S0 remplacer avec S44'!$C:$BQ,59,0) -> 10 | J6: =VLOOKUP($A6,'S0 remplacer avec S44'!$C:$BQ,60,0) -> 28 | K6: =VLOOKUP($A6,'S45'!$C:$BQ,32,0) -> #N/A | L6: =VLOOKUP($A6,'S45'!$C:$BQ,39,0) -> #N/A | M6: =VLOOKUP($A6,'S45'!$C:$BQ,40,0) -> #N/A | N6: =VLOOKUP($A6,'S45'!$C:$BQ,22,0) -> #N/A | O6: =VLOOKUP($A6,'S45'!$C:$BQ,29,0) -> #N/A | P6: =VLOOKUP($A6,'S45'!$C:$BQ,30,0) -> #N/A | Q6: =VLOOKUP($A6,'S45'!$C:$BQ,52,0) -> #N/A | R6: =VLOOKUP($A6,'S45'!$C:$BQ,59,0) -> #N/A | S6: =VLOOKUP($A6,'S45'!$C:$BQ,60,0) -> #N/A | T6: =VLOOKUP($A6,'S46'!$C:$BQ,32,0) -> #N/A | U6: =VLOOKUP($A6,'S46'!$C:$BQ,39,0) -> #N/A | V6: =VLOOKUP($A6,'S46'!$C:$BQ,40,0) -> #N/A | W6: =VLOOKUP($A6,'S46'!$C:$BQ,22,0) -> #N/A | X6: =VLOOKUP($A6,'S46'!$C:$BQ,29,0) -> #N/A | Y6: =VLOOKUP($A6,'S46'!$C:$BQ,30,0) -> #N/A | Z6: =VLOOKUP($A6,'S46'!$C:$BQ,52,0) -> #N/A | AA6: =VLOOKUP($A6,'S46'!$C:$BQ,59,0) -> #N/A | AB6: =VLOOKUP($A6,'S46'!$C:$BQ,60,0) -> #N/A | AC6: =VLOOKUP($A6,'S47'!$C:$BQ,32,0) -> #N/A | AD6: =VLOOKUP($A6,'S47'!$C:$BQ,39,0) -> #N/A | AE6: =VLOOKUP($A6,'S47'!$C:$BQ,40,0) -> #N/A | AF6: =VLOOKUP($A6,'S47'!$C:$BQ,22,0) -> #N/A | AG6: =VLOOKUP($A6,'S47'!$C:$BQ,29,0) -> #N/A | AH6: =VLOOKUP($A6,'S47'!$C:$BQ,30,0) -> #N/A | AI6: =VLOOKUP($A6,'S47'!$C:$BQ,52,0) -> #N/A | AJ6: =VLOOKUP($A6,'S47'!$C:$BQ,59,0) -> #N/A | AK6: =VLOOKUP($A6,'S47'!$C:$BQ,60,0) -> #N/A | AL6: =VLOOKUP($A6,'S48'!$C:$BQ,32,0) -> #N/A | AM6: =VLOOKUP($A6,'S48'!$C:$BQ,39,0) -> #N/A | AN6: =VLOOKUP($A6,'S48'!$C:$BQ,40,0) -> #N/A | AO6: =VLOOKUP($A6,'S48'!$C:$BQ,22,0) -> #N/A | AP6: =VLOOKUP($A6,'S48'!$C:$BQ,29,0) -> #N/A | AQ6: =VLOOKUP($A6,'S48'!$C:$BQ,30,0) -> #N/A | AR6: =VLOOKUP($A6,'S48'!$C:$BQ,52,0) -> #N/A | AS6: =VLOOKUP($A6,'S48'!$C:$BQ,59,0) -> #N/A | AT6: =VLOOKUP($A6,'S48'!$C:$BQ,60,0) -> #N/A | AU6: =VLOOKUP($A6,'S49'!$C:$BQ,32,0) -> #N/A | AV6: =VLOOKUP($A6,'S49'!$C:$BQ,39,0) -> #N/A | AW6: =VLOOKUP($A6,'S49'!$C:$BQ,40,0) -> #N/A | AX6: =VLOOKUP($A6,'S49'!$C:$BQ,22,0) -> #N/A | AY6: =VLOOKUP($A6,'S49'!$C:$BQ,29,0) -> #N/A | AZ6: =VLOOKUP($A6,'S49'!$C:$BQ,30,0) -> #N/A | BA6: =VLOOKUP($A6,'S49'!$C:$BQ,52,0) -> #N/A | BB6: =VLOOKUP($A6,'S49'!$C:$BQ,59,0) -> #N/A | BC6: =VLOOKUP($A6,'S49'!$C:$BQ,60,0) -> #N/A | BD6: =VLOOKUP($A6,'S50'!$C:$BQ,32,0) -> #N/A | BE6: =VLOOKUP($A6,'S50'!$C:$BQ,39,0) -> #N/A | BF6: =VLOOKUP($A6,'S50'!$C:$BQ,40,0) -> #N/A | BG6: =VLOOKUP($A6,'S50'!$C:$BQ,22,0) -> #N/A | BH6: =VLOOKUP($A6,'S50'!$C:$BQ,29,0) -> #N/A | BI6: =VLOOKUP($A6,'S50'!$C:$BQ,30,0) -> #N/A | BJ6: =VLOOKUP($A6,'S50'!$C:$BQ,52,0) -> #N/A | BK6: =VLOOKUP($A6,'S50'!$C:$BQ,59,0) -> #N/A | BL6: =VLOOKUP($A6,'S50'!$C:$BQ,60,0) -> #N/A
A7: LANGRES | B7: =VLOOKUP($A7,'S0 remplacer avec S44'!$C:$BQ,32,0) -> 409.2 | C7: =VLOOKUP($A7,'S0 remplacer avec S44'!$C:$BQ,39,0) -> 12 | D7: =VLOOKUP($A7,'S0 remplacer avec S44'!$C:$BQ,40,0) -> 96 | E7: =VLOOKUP($A7,'S0 remplacer avec S44'!$C:$BQ,22,0) -> 4894.3293 | F7: =VLOOKUP($A7,'S0 remplacer avec S44'!$C:$BQ,29,0) -> 0 | G7: =VLOOKUP($A7,'S0 remplacer avec S44'!$C:$BQ,30,0) -> 0 | H7: =VLOOKUP($A7,'S0 remplacer avec S44'!$C:$BQ,52,0) -> 235.8 | I7: =VLOOKUP($A7,'S0 remplacer avec S44'!$C:$BQ,59,0) -> 0 | J7: =VLOOKUP($A7,'S0 remplacer avec S44'!$C:$BQ,60,0) -> 21 | K7: =VLOOKUP($A7,'S45'!$C:$BQ,32,0) -> #N/A | L7: =VLOOKUP($A7,'S45'!$C:$BQ,39,0) -> #N/A | M7: =VLOOKUP($A7,'S45'!$C:$BQ,40,0) -> #N/A | N7: =VLOOKUP($A7,'S45'!$C:$BQ,22,0) -> #N/A | O7: =VLOOKUP($A7,'S45'!$C:$BQ,29,0) -> #N/A | P7: =VLOOKUP($A7,'S45'!$C:$BQ,30,0) -> #N/A | Q7: =VLOOKUP($A7,'S45'!$C:$BQ,52,0) -> #N/A | R7: =VLOOKUP($A7,'S45'!$C:$BQ,59,0) -> #N/A | S7: =VLOOKUP($A7,'S45'!$C:$BQ,60,0) -> #N/A | T7: =VLOOKUP($A7,'S46'!$C:$BQ,32,0) -> #N/A | U7: =VLOOKUP($A7,'S46'!$C:$BQ,39,0) -> #N/A | V7: =VLOOKUP($A7,'S46'!$C:$BQ,40,0) -> #N/A | W7: =VLOOKUP($A7,'S46'!$C:$BQ,22,0) -> #N/A | X7: =VLOOKUP($A7,'S46'!$C:$BQ,29,0) -> #N/A | Y7: =VLOOKUP($A7,'S46'!$C:$BQ,30,0) -> #N/A | Z7: =VLOOKUP($A7,'S46'!$C:$BQ,52,0) -> #N/A | AA7: =VLOOKUP($A7,'S46'!$C:$BQ,59,0) -> #N/A | AB7: =VLOOKUP($A7,'S46'!$C:$BQ,60,0) -> #N/A | AC7: =VLOOKUP($A7,'S47'!$C:$BQ,32,0) -> #N/A | AD7: =VLOOKUP($A7,'S47'!$C:$BQ,39,0) -> #N/A | AE7: =VLOOKUP($A7,'S47'!$C:$BQ,40,0) -> #N/A | AF7: =VLOOKUP($A7,'S47'!$C:$BQ,22,0) -> #N/A | AG7: =VLOOKUP($A7,'S47'!$C:$BQ,29,0) -> #N/A | AH7: =VLOOKUP($A7,'S47'!$C:$BQ,30,0) -> #N/A | AI7: =VLOOKUP($A7,'S47'!$C:$BQ,52,0) -> #N/A | AJ7: =VLOOKUP($A7,'S47'!$C:$BQ,59,0) -> #N/A | AK7: =VLOOKUP($A7,'S47'!$C:$BQ,60,0) -> #N/A | AL7: =VLOOKUP($A7,'S48'!$C:$BQ,32,0) -> #N/A | AM7: =VLOOKUP($A7,'S48'!$C:$BQ,39,0) -> #N/A | AN7: =VLOOKUP($A7,'S48'!$C:$BQ,40,0) -> #N/A | AO7: =VLOOKUP($A7,'S48'!$C:$BQ,22,0) -> #N/A | AP7: =VLOOKUP($A7,'S48'!$C:$BQ,29,0) -> #N/A | AQ7: =VLOOKUP($A7,'S48'!$C:$BQ,30,0) -> #N/A | AR7: =VLOOKUP($A7,'S48'!$C:$BQ,52,0) -> #N/A | AS7: =VLOOKUP($A7,'S48'!$C:$BQ,59,0) -> #N/A | AT7: =VLOOKUP($A7,'S48'!$C:$BQ,60,0) -> #N/A | AU7: =VLOOKUP($A7,'S49'!$C:$BQ,32,0) -> #N/A | AV7: =VLOOKUP($A7,'S49'!$C:$BQ,39,0) -> #N/A | AW7: =VLOOKUP($A7,'S49'!$C:$BQ,40,0) -> #N/A | AX7: =VLOOKUP($A7,'S49'!$C:$BQ,22,0) -> #N/A | AY7: =VLOOKUP($A7,'S49'!$C:$BQ,29,0) -> #N/A | AZ7: =VLOOKUP($A7,'S49'!$C:$BQ,30,0) -> #N/A | BA7: =VLOOKUP($A7,'S49'!$C:$BQ,52,0) -> #N/A | BB7: =VLOOKUP($A7,'S49'!$C:$BQ,59,0) -> #N/A | BC7: =VLOOKUP($A7,'S49'!$C:$BQ,60,0) -> #N/A | BD7: =VLOOKUP($A7,'S50'!$C:$BQ,32,0) -> #N/A | BE7: =VLOOKUP($A7,'S50'!$C:$BQ,39,0) -> #N/A | BF7: =VLOOKUP($A7,'S50'!$C:$BQ,40,0) -> #N/A | BG7: =VLOOKUP($A7,'S50'!$C:$BQ,22,0) -> #N/A | BH7: =VLOOKUP($A7,'S50'!$C:$BQ,29,0) -> #N/A | BI7: =VLOOKUP($A7,'S50'!$C:$BQ,30,0) -> #N/A | BJ7: =VLOOKUP($A7,'S50'!$C:$BQ,52,0) -> #N/A | BK7: =VLOOKUP($A7,'S50'!$C:$BQ,59,0) -> #N/A | BL7: =VLOOKUP($A7,'S50'!$C:$BQ,60,0) -> #N/A
A8: NOGENT | B8: =VLOOKUP($A8,'S0 remplacer avec S44'!$C:$BQ,32,0) -> 128.5 | C8: =VLOOKUP($A8,'S0 remplacer avec S44'!$C:$BQ,39,0) -> 3 | D8: =VLOOKUP($A8,'S0 remplacer avec S44'!$C:$BQ,40,0) -> 29 | E8: =VLOOKUP($A8,'S0 remplacer avec S44'!$C:$BQ,22,0) -> 1240.9585 | F8: =VLOOKUP($A8,'S0 remplacer avec S44'!$C:$BQ,29,0) -> 0 | G8: =VLOOKUP($A8,'S0 remplacer avec S44'!$C:$BQ,30,0) -> 189 | H8: =VLOOKUP($A8,'S0 remplacer avec S44'!$C:$BQ,52,0) -> 81.8 | I8: =VLOOKUP($A8,'S0 remplacer avec S44'!$C:$BQ,59,0) -> 0 | J8: =VLOOKUP($A8,'S0 remplacer avec S44'!$C:$BQ,60,0) -> 0 | K8: =VLOOKUP($A8,'S45'!$C:$BQ,32,0) -> #N/A | L8: =VLOOKUP($A8,'S45'!$C:$BQ,39,0) -> #N/A | M8: =VLOOKUP($A8,'S45'!$C:$BQ,40,0) -> #N/A | N8: =VLOOKUP($A8,'S45'!$C:$BQ,22,0) -> #N/A | O8: =VLOOKUP($A8,'S45'!$C:$BQ,29,0) -> #N/A | P8: =VLOOKUP($A8,'S45'!$C:$BQ,30,0) -> #N/A | Q8: =VLOOKUP($A8,'S45'!$C:$BQ,52,0) -> #N/A | R8: =VLOOKUP($A8,'S45'!$C:$BQ,59,0) -> #N/A | S8: =VLOOKUP($A8,'S45'!$C:$BQ,60,0) -> #N/A | T8: =VLOOKUP($A8,'S46'!$C:$BQ,32,0) -> #N/A | U8: =VLOOKUP($A8,'S46'!$C:$BQ,39,0) -> #N/A | V8: =VLOOKUP($A8,'S46'!$C:$BQ,40,0) -> #N/A | W8: =VLOOKUP($A8,'S46'!$C:$BQ,22,0) -> #N/A | X8: =VLOOKUP($A8,'S46'!$C:$BQ,29,0) -> #N/A | Y8: =VLOOKUP($A8,'S46'!$C:$BQ,30,0) -> #N/A | Z8: =VLOOKUP($A8,'S46'!$C:$BQ,52,0) -> #N/A | AA8: =VLOOKUP($A8,'S46'!$C:$BQ,59,0) -> #N/A | AB8: =VLOOKUP($A8,'S46'!$C:$BQ,60,0) -> #N/A | AC8: =VLOOKUP($A8,'S47'!$C:$BQ,32,0) -> #N/A | AD8: =VLOOKUP($A8,'S47'!$C:$BQ,39,0) -> #N/A | AE8: =VLOOKUP($A8,'S47'!$C:$BQ,40,0) -> #N/A | AF8: =VLOOKUP($A8,'S47'!$C:$BQ,22,0) -> #N/A | AG8: =VLOOKUP($A8,'S47'!$C:$BQ,29,0) -> #N/A | AH8: =VLOOKUP($A8,'S47'!$C:$BQ,30,0) -> #N/A | AI8: =VLOOKUP($A8,'S47'!$C:$BQ,52,0) -> #N/A | AJ8: =VLOOKUP($A8,'S47'!$C:$BQ,59,0) -> #N/A | AK8: =VLOOKUP($A8,'S47'!$C:$BQ,60,0) -> #N/A | AL8: =VLOOKUP($A8,'S48'!$C:$BQ,32,0) -> #N/A | AM8: =VLOOKUP($A8,'S48'!$C:$BQ,39,0) -> #N/A | AN8: =VLOOKUP($A8,'S48'!$C:$BQ,40,0) -> #N/A | AO8: =VLOOKUP($A8,'S48'!$C:$BQ,22,0) -> #N/A | AP8: =VLOOKUP($A8,'S48'!$C:$BQ,29,0) -> #N/A | AQ8: =VLOOKUP($A8,'S48'!$C:$BQ,30,0) -> #N/A | AR8: =VLOOKUP($A8,'S48'!$C:$BQ,52,0) -> #N/A | AS8: =VLOOKUP($A8,'S48'!$C:$BQ,59,0) -> #N/A | AT8: =VLOOKUP($A8,'S48'!$C:$BQ,60,0) -> #N/A | AU8: =VLOOKUP($A8,'S49'!$C:$BQ,32,0) -> #N/A | AV8: =VLOOKUP($A8,'S49'!$C:$BQ,39,0) -> #N/A | AW8: =VLOOKUP($A8,'S49'!$C:$BQ,40,0) -> #N/A | AX8: =VLOOKUP($A8,'S49'!$C:$BQ,22,0) -> #N/A | AY8: =VLOOKUP($A8,'S49'!$C:$BQ,29,0) -> #N/A | AZ8: =VLOOKUP($A8,'S49'!$C:$BQ,30,0) -> #N/A | BA8: =VLOOKUP($A8,'S49'!$C:$BQ,52,0) -> #N/A | BB8: =VLOOKUP($A8,'S49'!$C:$BQ,59,0) -> #N/A | BC8: =VLOOKUP($A8,'S49'!$C:$BQ,60,0) -> #N/A | BD8: =VLOOKUP($A8,'S50'!$C:$BQ,32,0) -> #N/A | BE8: =VLOOKUP($A8,'S50'!$C:$BQ,39,0) -> #N/A | BF8: =VLOOKUP($A8,'S50'!$C:$BQ,40,0) -> #N/A | BG8: =VLOOKUP($A8,'S50'!$C:$BQ,22,0) -> #N/A | BH8: =VLOOKUP($A8,'S50'!$C:$BQ,29,0) -> #N/A | BI8: =VLOOKUP($A8,'S50'!$C:$BQ,30,0) -> #N/A | BJ8: =VLOOKUP($A8,'S50'!$C:$BQ,52,0) -> #N/A | BK8: =VLOOKUP($A8,'S50'!$C:$BQ,59,0) -> #N/A | BL8: =VLOOKUP($A8,'S50'!$C:$BQ,60,0) -> #N/A
A9: SAINT DIZIER CENTRE | B9: =VLOOKUP($A9,'S0 remplacer avec S44'!$C:$BQ,32,0) -> 290.9 | C9: =VLOOKUP($A9,'S0 remplacer avec S44'!$C:$BQ,39,0) -> 51 | D9: =VLOOKUP($A9,'S0 remplacer avec S44'!$C:$BQ,40,0) -> 119 | E9: =VLOOKUP($A9,'S0 remplacer avec S44'!$C:$BQ,22,0) -> 3185.6838 | F9: =VLOOKUP($A9,'S0 remplacer avec S44'!$C:$BQ,29,0) -> 0 | G9: =VLOOKUP($A9,'S0 remplacer avec S44'!$C:$BQ,30,0) -> 539 | H9: =VLOOKUP($A9,'S0 remplacer avec S44'!$C:$BQ,52,0) -> 198.2 | I9: =VLOOKUP($A9,'S0 remplacer avec S44'!$C:$BQ,59,0) -> 0 | J9: =VLOOKUP($A9,'S0 remplacer avec S44'!$C:$BQ,60,0) -> 10 | K9: =VLOOKUP($A9,'S45'!$C:$BQ,32,0) -> #N/A | L9: =VLOOKUP($A9,'S45'!$C:$BQ,39,0) -> #N/A | M9: =VLOOKUP($A9,'S45'!$C:$BQ,40,0) -> #N/A | N9: =VLOOKUP($A9,'S45'!$C:$BQ,22,0) -> #N/A | O9: =VLOOKUP($A9,'S45'!$C:$BQ,29,0) -> #N/A | P9: =VLOOKUP($A9,'S45'!$C:$BQ,30,0) -> #N/A | Q9: =VLOOKUP($A9,'S45'!$C:$BQ,52,0) -> #N/A | R9: =VLOOKUP($A9,'S45'!$C:$BQ,59,0) -> #N/A | S9: =VLOOKUP($A9,'S45'!$C:$BQ,60,0) -> #N/A | T9: =VLOOKUP($A9,'S46'!$C:$BQ,32,0) -> #N/A | U9: =VLOOKUP($A9,'S46'!$C:$BQ,39,0) -> #N/A | V9: =VLOOKUP($A9,'S46'!$C:$BQ,40,0) -> #N/A | W9: =VLOOKUP($A9,'S46'!$C:$BQ,22,0) -> #N/A | X9: =VLOOKUP($A9,'S46'!$C:$BQ,29,0) -> #N/A | Y9: =VLOOKUP($A9,'S46'!$C:$BQ,30,0) -> #N/A | Z9: =VLOOKUP($A9,'S46'!$C:$BQ,52,0) -> #N/A | AA9: =VLOOKUP($A9,'S46'!$C:$BQ,59,0) -> #N/A | AB9: =VLOOKUP($A9,'S46'!$C:$BQ,60,0) -> #N/A | AC9: =VLOOKUP($A9,'S47'!$C:$BQ,32,0) -> #N/A | AD9: =VLOOKUP($A9,'S47'!$C:$BQ,39,0) -> #N/A | AE9: =VLOOKUP($A9,'S47'!$C:$BQ,40,0) -> #N/A | AF9: =VLOOKUP($A9,'S47'!$C:$BQ,22,0) -> #N/A | AG9: =VLOOKUP($A9,'S47'!$C:$BQ,29,0) -> #N/A | AH9: =VLOOKUP($A9,'S47'!$C:$BQ,30,0) -> #N/A | AI9: =VLOOKUP($A9,'S47'!$C:$BQ,52,0) -> #N/A | AJ9: =VLOOKUP($A9,'S47'!$C:$BQ,59,0) -> #N/A | AK9: =VLOOKUP($A9,'S47'!$C:$BQ,60,0) -> #N/A | AL9: =VLOOKUP($A9,'S48'!$C:$BQ,32,0) -> #N/A | AM9: =VLOOKUP($A9,'S48'!$C:$BQ,39,0) -> #N/A | AN9: =VLOOKUP($A9,'S48'!$C:$BQ,40,0) -> #N/A | AO9: =VLOOKUP($A9,'S48'!$C:$BQ,22,0) -> #N/A | AP9: =VLOOKUP($A9,'S48'!$C:$BQ,29,0) -> #N/A | AQ9: =VLOOKUP($A9,'S48'!$C:$BQ,30,0) -> #N/A | AR9: =VLOOKUP($A9,'S48'!$C:$BQ,52,0) -> #N/A | AS9: =VLOOKUP($A9,'S48'!$C:$BQ,59,0) -> #N/A | AT9: =VLOOKUP($A9,'S48'!$C:$BQ,60,0) -> #N/A | AU9: =VLOOKUP($A9,'S49'!$C:$BQ,32,0) -> #N/A | AV9: =VLOOKUP($A9,'S49'!$C:$BQ,39,0) -> #N/A | AW9: =VLOOKUP($A9,'S49'!$C:$BQ,40,0) -> #N/A | AX9: =VLOOKUP($A9,'S49'!$C:$BQ,22,0) -> #N/A | AY9: =VLOOKUP($A9,'S49'!$C:$BQ,29,0) -> #N/A | AZ9: =VLOOKUP($A9,'S49'!$C:$BQ,30,0) -> #N/A | BA9: =VLOOKUP($A9,'S49'!$C:$BQ,52,0) -> #N/A | BB9: =VLOOKUP($A9,'S49'!$C:$BQ,59,0) -> #N/A | BC9: =VLOOKUP($A9,'S49'!$C:$BQ,60,0) -> #N/A | BD9: =VLOOKUP($A9,'S50'!$C:$BQ,32,0) -> #N/A | BE9: =VLOOKUP($A9,'S50'!$C:$BQ,39,0) -> #N/A | BF9: =VLOOKUP($A9,'S50'!$C:$BQ,40,0) -> #N/A | BG9: =VLOOKUP($A9,'S50'!$C:$BQ,22,0) -> #N/A | BH9: =VLOOKUP($A9,'S50'!$C:$BQ,29,0) -> #N/A | BI9: =VLOOKUP($A9,'S50'!$C:$BQ,30,0) -> #N/A | BJ9: =VLOOKUP($A9,'S50'!$C:$BQ,52,0) -> #N/A | BK9: =VLOOKUP($A9,'S50'!$C:$BQ,59,0) -> #N/A | BL9: =VLOOKUP($A9,'S50'!$C:$BQ,60,0) -> #N/A
A10: SAINT DIZIER EUROPE | B10: =VLOOKUP($A10,'S0 remplacer avec S44'!$C:$BQ,32,0) -> 170.85 | C10: =VLOOKUP($A10,'S0 remplacer avec S44'!$C:$BQ,39,0) -> 0 | D10: =VLOOKUP($A10,'S0 remplacer avec S44'!$C:$BQ,40,0) -> 21 | E10: =VLOOKUP($A10,'S0 remplacer avec S44'!$C:$BQ,22,0) -> 2257.7161 | F10: =VLOOKUP($A10,'S0 remplacer avec S44'!$C:$BQ,29,0) -> 0 | G10: =VLOOKUP($A10,'S0 remplacer avec S44'!$C:$BQ,30,0) -> 0 | H10: =VLOOKUP($A10,'S0 remplacer avec S44'!$C:$BQ,52,0) -> 146.8 | I10: =VLOOKUP($A10,'S0 remplacer avec S44'!$C:$BQ,59,0) -> 0 | J10: =VLOOKUP($A10,'S0 remplacer avec S44'!$C:$BQ,60,0) -> 0 | K10: =VLOOKUP($A10,'S45'!$C:$BQ,32,0) -> #N/A | L10: =VLOOKUP($A10,'S45'!$C:$BQ,39,0) -> #N/A | M10: =VLOOKUP($A10,'S45'!$C:$BQ,40,0) -> #N/A | N10: =VLOOKUP($A10,'S45'!$C:$BQ,22,0) -> #N/A | O10: =VLOOKUP($A10,'S45'!$C:$BQ,29,0) -> #N/A | P10: =VLOOKUP($A10,'S45'!$C:$BQ,30,0) -> #N/A | Q10: =VLOOKUP($A10,'S45'!$C:$BQ,52,0) -> #N/A | R10: =VLOOKUP($A10,'S45'!$C:$BQ,59,0) -> #N/A | S10: =VLOOKUP($A10,'S45'!$C:$BQ,60,0) -> #N/A | T10: =VLOOKUP($A10,'S46'!$C:$BQ,32,0) -> #N/A | U10: =VLOOKUP($A10,'S46'!$C:$BQ,39,0) -> #N/A | V10: =VLOOKUP($A10,'S46'!$C:$BQ,40,0) -> #N/A | W10: =VLOOKUP($A10,'S46'!$C:$BQ,22,0) -> #N/A | X10: =VLOOKUP($A10,'S46'!$C:$BQ,29,0) -> #N/A | Y10: =VLOOKUP($A10,'S46'!$C:$BQ,30,0) -> #N/A | Z10: =VLOOKUP($A10,'S46'!$C:$BQ,52,0) -> #N/A | AA10: =VLOOKUP($A10,'S46'!$C:$BQ,59,0) -> #N/A | AB10: =VLOOKUP($A10,'S46'!$C:$BQ,60,0) -> #N/A | AC10: =VLOOKUP($A10,'S47'!$C:$BQ,32,0) -> #N/A | AD10: =VLOOKUP($A10,'S47'!$C:$BQ,39,0) -> #N/A | AE10: =VLOOKUP($A10,'S47'!$C:$BQ,40,0) -> #N/A | AF10: =VLOOKUP($A10,'S47'!$C:$BQ,22,0) -> #N/A | AG10: =VLOOKUP($A10,'S47'!$C:$BQ,29,0) -> #N/A | AH10: =VLOOKUP($A10,'S47'!$C:$BQ,30,0) -> #N/A | AI10: =VLOOKUP($A10,'S47'!$C:$BQ,52,0) -> #N/A | AJ10: =VLOOKUP($A10,'S47'!$C:$BQ,59,0) -> #N/A | AK10: =VLOOKUP($A10,'S47'!$C:$BQ,60,0) -> #N/A | AL10: =VLOOKUP($A10,'S48'!$C:$BQ,32,0) -> #N/A | AM10: =VLOOKUP($A10,'S48'!$C:$BQ,39,0) -> #N/A | AN10: =VLOOKUP($A10,'S48'!$C:$BQ,40,0) -> #N/A | AO10: =VLOOKUP($A10,'S48'!$C:$BQ,22,0) -> #N/A | AP10: =VLOOKUP($A10,'S48'!$C:$BQ,29,0) -> #N/A | AQ10: =VLOOKUP($A10,'S48'!$C:$BQ,30,0) -> #N/A | AR10: =VLOOKUP($A10,'S48'!$C:$BQ,52,0) -> #N/A | AS10: =VLOOKUP($A10,'S48'!$C:$BQ,59,0) -> #N/A | AT10: =VLOOKUP($A10,'S48'!$C:$BQ,60,0) -> #N/A | AU10: =VLOOKUP($A10,'S49'!$C:$BQ,32,0) -> #N/A | AV10: =VLOOKUP($A10,'S49'!$C:$BQ,39,0) -> #N/A | AW10: =VLOOKUP($A10,'S49'!$C:$BQ,40,0) -> #N/A | AX10: =VLOOKUP($A10,'S49'!$C:$BQ,22,0) -> #N/A | AY10: =VLOOKUP($A10,'S49'!$C:$BQ,29,0) -> #N/A | AZ10: =VLOOKUP($A10,'S49'!$C:$BQ,30,0) -> #N/A | BA10: =VLOOKUP($A10,'S49'!$C:$BQ,52,0) -> #N/A | BB10: =VLOOKUP($A10,'S49'!$C:$BQ,59,0) -> #N/A | BC10: =VLOOKUP($A10,'S49'!$C:$BQ,60,0) -> #N/A | BD10: =VLOOKUP($A10,'S50'!$C:$BQ,32,0) -> #N/A | BE10: =VLOOKUP($A10,'S50'!$C:$BQ,39,0) -> #N/A | BF10: =VLOOKUP($A10,'S50'!$C:$BQ,40,0) -> #N/A | BG10: =VLOOKUP($A10,'S50'!$C:$BQ,22,0) -> #N/A | BH10: =VLOOKUP($A10,'S50'!$C:$BQ,29,0) -> #N/A | BI10: =VLOOKUP($A10,'S50'!$C:$BQ,30,0) -> #N/A | BJ10: =VLOOKUP($A10,'S50'!$C:$BQ,52,0) -> #N/A | BK10: =VLOOKUP($A10,'S50'!$C:$BQ,59,0) -> #N/A | BL10: =VLOOKUP($A10,'S50'!$C:$BQ,60,0) -> #N/A
A11: WASSY | B11: =VLOOKUP($A11,'S0 remplacer avec S44'!$C:$BQ,32,0) -> 148.7 | C11: =VLOOKUP($A11,'S0 remplacer avec S44'!$C:$BQ,39,0) -> 29 | D11: =VLOOKUP($A11,'S0 remplacer avec S44'!$C:$BQ,40,0) -> 65 | E11: =VLOOKUP($A11,'S0 remplacer avec S44'!$C:$BQ,22,0) -> 1957.2545 | F11: =VLOOKUP($A11,'S0 remplacer avec S44'!$C:$BQ,29,0) -> 0 | G11: =VLOOKUP($A11,'S0 remplacer avec S44'!$C:$BQ,30,0) -> 0 | H11: =VLOOKUP($A11,'S0 remplacer avec S44'!$C:$BQ,52,0) -> 63.4 | I11: =VLOOKUP($A11,'S0 remplacer avec S44'!$C:$BQ,59,0) -> 27 | J11: =VLOOKUP($A11,'S0 remplacer avec S44'!$C:$BQ,60,0) -> 45 | K11: =VLOOKUP($A11,'S45'!$C:$BQ,32,0) -> #N/A | L11: =VLOOKUP($A11,'S45'!$C:$BQ,39,0) -> #N/A | M11: =VLOOKUP($A11,'S45'!$C:$BQ,40,0) -> #N/A | N11: =VLOOKUP($A11,'S45'!$C:$BQ,22,0) -> #N/A | O11: =VLOOKUP($A11,'S45'!$C:$BQ,29,0) -> #N/A | P11: =VLOOKUP($A11,'S45'!$C:$BQ,30,0) -> #N/A | Q11: =VLOOKUP($A11,'S45'!$C:$BQ,52,0) -> #N/A | R11: =VLOOKUP($A11,'S45'!$C:$BQ,59,0) -> #N/A | S11: =VLOOKUP($A11,'S45'!$C:$BQ,60,0) -> #N/A | T11: =VLOOKUP($A11,'S46'!$C:$BQ,32,0) -> #N/A | U11: =VLOOKUP($A11,'S46'!$C:$BQ,39,0) -> #N/A | V11: =VLOOKUP($A11,'S46'!$C:$BQ,40,0) -> #N/A | W11: =VLOOKUP($A11,'S46'!$C:$BQ,22,0) -> #N/A | X11: =VLOOKUP($A11,'S46'!$C:$BQ,29,0) -> #N/A | Y11: =VLOOKUP($A11,'S46'!$C:$BQ,30,0) -> #N/A | Z11: =VLOOKUP($A11,'S46'!$C:$BQ,52,0) -> #N/A | AA11: =VLOOKUP($A11,'S46'!$C:$BQ,59,0) -> #N/A | AB11: =VLOOKUP($A11,'S46'!$C:$BQ,60,0) -> #N/A | AC11: =VLOOKUP($A11,'S47'!$C:$BQ,32,0) -> #N/A | AD11: =VLOOKUP($A11,'S47'!$C:$BQ,39,0) -> #N/A | AE11: =VLOOKUP($A11,'S47'!$C:$BQ,40,0) -> #N/A | AF11: =VLOOKUP($A11,'S47'!$C:$BQ,22,0) -> #N/A | AG11: =VLOOKUP($A11,'S47'!$C:$BQ,29,0) -> #N/A | AH11: =VLOOKUP($A11,'S47'!$C:$BQ,30,0) -> #N/A | AI11: =VLOOKUP($A11,'S47'!$C:$BQ,52,0) -> #N/A | AJ11: =VLOOKUP($A11,'S47'!$C:$BQ,59,0) -> #N/A | AK11: =VLOOKUP($A11,'S47'!$C:$BQ,60,0) -> #N/A | AL11: =VLOOKUP($A11,'S48'!$C:$BQ,32,0) -> #N/A | AM11: =VLOOKUP($A11,'S48'!$C:$BQ,39,0) -> #N/A | AN11: =VLOOKUP($A11,'S48'!$C:$BQ,40,0) -> #N/A | AO11: =VLOOKUP($A11,'S48'!$C:$BQ,22,0) -> #N/A | AP11: =VLOOKUP($A11,'S48'!$C:$BQ,29,0) -> #N/A | AQ11: =VLOOKUP($A11,'S48'!$C:$BQ,30,0) -> #N/A | AR11: =VLOOKUP($A11,'S48'!$C:$BQ,52,0) -> #N/A | AS11: =VLOOKUP($A11,'S48'!$C:$BQ,59,0) -> #N/A | AT11: =VLOOKUP($A11,'S48'!$C:$BQ,60,0) -> #N/A | AU11: =VLOOKUP($A11,'S49'!$C:$BQ,32,0) -> #N/A | AV11: =VLOOKUP($A11,'S49'!$C:$BQ,39,0) -> #N/A | AW11: =VLOOKUP($A11,'S49'!$C:$BQ,40,0) -> #N/A | AX11: =VLOOKUP($A11,'S49'!$C:$BQ,22,0) -> #N/A | AY11: =VLOOKUP($A11,'S49'!$C:$BQ,29,0) -> #N/A | AZ11: =VLOOKUP($A11,'S49'!$C:$BQ,30,0) -> #N/A | BA11: =VLOOKUP($A11,'S49'!$C:$BQ,52,0) -> #N/A | BB11: =VLOOKUP($A11,'S49'!$C:$BQ,59,0) -> #N/A | BC11: =VLOOKUP($A11,'S49'!$C:$BQ,60,0) -> #N/A | BD11: =VLOOKUP($A11,'S50'!$C:$BQ,32,0) -> #N/A | BE11: =VLOOKUP($A11,'S50'!$C:$BQ,39,0) -> #N/A | BF11: =VLOOKUP($A11,'S50'!$C:$BQ,40,0) -> #N/A | BG11: =VLOOKUP($A11,'S50'!$C:$BQ,22,0) -> #N/A | BH11: =VLOOKUP($A11,'S50'!$C:$BQ,29,0) -> #N/A | BI11: =VLOOKUP($A11,'S50'!$C:$BQ,30,0) -> #N/A | BJ11: =VLOOKUP($A11,'S50'!$C:$BQ,52,0) -> #N/A | BK11: =VLOOKUP($A11,'S50'!$C:$BQ,59,0) -> #N/A | BL11: =VLOOKUP($A11,'S50'!$C:$BQ,60,0) -> #N/A
A12: ARCIS SUR AUBE | B12: =VLOOKUP($A12,'S0 remplacer avec S44'!$C:$BQ,32,0) -> 170 | C12: =VLOOKUP($A12,'S0 remplacer avec S44'!$C:$BQ,39,0) -> 63 | D12: =VLOOKUP($A12,'S0 remplacer avec S44'!$C:$BQ,40,0) -> 109 | E12: =VLOOKUP($A12,'S0 remplacer avec S44'!$C:$BQ,22,0) -> 2035.4282 | F12: =VLOOKUP($A12,'S0 remplacer avec S44'!$C:$BQ,29,0) -> 77 | G12: =VLOOKUP($A12,'S0 remplacer avec S44'!$C:$BQ,30,0) -> 499 | H12: =VLOOKUP($A12,'S0 remplacer avec S44'!$C:$BQ,52,0) -> 95.4 | I12: =VLOOKUP($A12,'S0 remplacer avec S44'!$C:$BQ,59,0) -> 23 | J12: =VLOOKUP($A12,'S0 remplacer avec S44'!$C:$BQ,60,0) -> 47 | K12: =VLOOKUP($A12,'S45'!$C:$BQ,32,0) -> #N/A | L12: =VLOOKUP($A12,'S45'!$C:$BQ,39,0) -> #N/A | M12: =VLOOKUP($A12,'S45'!$C:$BQ,40,0) -> #N/A | N12: =VLOOKUP($A12,'S45'!$C:$BQ,22,0) -> #N/A | O12: =VLOOKUP($A12,'S45'!$C:$BQ,29,0) -> #N/A | P12: =VLOOKUP($A12,'S45'!$C:$BQ,30,0) -> #N/A | Q12: =VLOOKUP($A12,'S45'!$C:$BQ,52,0) -> #N/A | R12: =VLOOKUP($A12,'S45'!$C:$BQ,59,0) -> #N/A | S12: =VLOOKUP($A12,'S45'!$C:$BQ,60,0) -> #N/A | T12: =VLOOKUP($A12,'S46'!$C:$BQ,32,0) -> #N/A | U12: =VLOOKUP($A12,'S46'!$C:$BQ,39,0) -> #N/A | V12: =VLOOKUP($A12,'S46'!$C:$BQ,40,0) -> #N/A | W12: =VLOOKUP($A12,'S46'!$C:$BQ,22,0) -> #N/A | X12: =VLOOKUP($A12,'S46'!$C:$BQ,29,0) -> #N/A | Y12: =VLOOKUP($A12,'S46'!$C:$BQ,30,0) -> #N/A | Z12: =VLOOKUP($A12,'S46'!$C:$BQ,52,0) -> #N/A | AA12: =VLOOKUP($A12,'S46'!$C:$BQ,59,0) -> #N/A | AB12: =VLOOKUP($A12,'S46'!$C:$BQ,60,0) -> #N/A | AC12: =VLOOKUP($A12,'S47'!$C:$BQ,32,0) -> #N/A | AD12: =VLOOKUP($A12,'S47'!$C:$BQ,39,0) -> #N/A | AE12: =VLOOKUP($A12,'S47'!$C:$BQ,40,0) -> #N/A | AF12: =VLOOKUP($A12,'S47'!$C:$BQ,22,0) -> #N/A | AG12: =VLOOKUP($A12,'S47'!$C:$BQ,29,0) -> #N/A | AH12: =VLOOKUP($A12,'S47'!$C:$BQ,30,0) -> #N/A | AI12: =VLOOKUP($A12,'S47'!$C:$BQ,52,0) -> #N/A | AJ12: =VLOOKUP($A12,'S47'!$C:$BQ,59,0) -> #N/A | AK12: =VLOOKUP($A12,'S47'!$C:$BQ,60,0) -> #N/A | AL12: =VLOOKUP($A12,'S48'!$C:$BQ,32,0) -> #N/A | AM12: =VLOOKUP($A12,'S48'!$C:$BQ,39,0) -> #N/A | AN12: =VLOOKUP($A12,'S48'!$C:$BQ,40,0) -> #N/A | AO12: =VLOOKUP($A12,'S48'!$C:$BQ,22,0) -> #N/A | AP12: =VLOOKUP($A12,'S48'!$C:$BQ,29,0) -> #N/A | AQ12: =VLOOKUP($A12,'S48'!$C:$BQ,30,0) -> #N/A | AR12: =VLOOKUP($A12,'S48'!$C:$BQ,52,0) -> #N/A | AS12: =VLOOKUP($A12,'S48'!$C:$BQ,59,0) -> #N/A | AT12: =VLOOKUP($A12,'S48'!$C:$BQ,60,0) -> #N/A | AU12: =VLOOKUP($A12,'S49'!$C:$BQ,32,0) -> #N/A | AV12: =VLOOKUP($A12,'S49'!$C:$BQ,39,0) -> #N/A | AW12: =VLOOKUP($A12,'S49'!$C:$BQ,40,0) -> #N/A | AX12: =VLOOKUP($A12,'S49'!$C:$BQ,22,0) -> #N/A | AY12: =VLOOKUP($A12,'S49'!$C:$BQ,29,0) -> #N/A | AZ12: =VLOOKUP($A12,'S49'!$C:$BQ,30,0) -> #N/A | BA12: =VLOOKUP($A12,'S49'!$C:$BQ,52,0) -> #N/A | BB12: =VLOOKUP($A12,'S49'!$C:$BQ,59,0) -> #N/A | BC12: =VLOOKUP($A12,'S49'!$C:$BQ,60,0) -> #N/A | BD12: =VLOOKUP($A12,'S50'!$C:$BQ,32,0) -> #N/A | BE12: =VLOOKUP($A12,'S50'!$C:$BQ,39,0) -> #N/A | BF12: =VLOOKUP($A12,'S50'!$C:$BQ,40,0) -> #N/A | BG12: =VLOOKUP($A12,'S50'!$C:$BQ,22,0) -> #N/A | BH12: =VLOOKUP($A12,'S50'!$C:$BQ,29,0) -> #N/A | BI12: =VLOOKUP($A12,'S50'!$C:$BQ,30,0) -> #N/A | BJ12: =VLOOKUP($A12,'S50'!$C:$BQ,52,0) -> #N/A | BK12: =VLOOKUP($A12,'S50'!$C:$BQ,59,0) -> #N/A | BL12: =VLOOKUP($A12,'S50'!$C:$BQ,60,0) -> #N/A
A13: BAR SUR AUBE | B13: =VLOOKUP($A13,'S0 remplacer avec S44'!$C:$BQ,32,0) -> 166.55 | C13: =VLOOKUP($A13,'S0 remplacer avec S44'!$C:$BQ,39,0) -> 22 | D13: =VLOOKUP($A13,'S0 remplacer avec S44'!$C:$BQ,40,0) -> 60 | E13: =VLOOKUP($A13,'S0 remplacer avec S44'!$C:$BQ,22,0) -> 2110.0642 | F13: =VLOOKUP($A13,'S0 remplacer avec S44'!$C:$BQ,29,0) -> 0 | G13: =VLOOKUP($A13,'S0 remplacer avec S44'!$C:$BQ,30,0) -> 0 | H13: =VLOOKUP($A13,'S0 remplacer avec S44'!$C:$BQ,52,0) -> 103.8 | I13: =VLOOKUP($A13,'S0 remplacer avec S44'!$C:$BQ,59,0) -> 0 | J13: =VLOOKUP($A13,'S0 remplacer avec S44'!$C:$BQ,60,0) -> 11 | K13: =VLOOKUP($A13,'S45'!$C:$BQ,32,0) -> #N/A | L13: =VLOOKUP($A13,'S45'!$C:$BQ,39,0) -> #N/A | M13: =VLOOKUP($A13,'S45'!$C:$BQ,40,0) -> #N/A | N13: =VLOOKUP($A13,'S45'!$C:$BQ,22,0) -> #N/A | O13: =VLOOKUP($A13,'S45'!$C:$BQ,29,0) -> #N/A | P13: =VLOOKUP($A13,'S45'!$C:$BQ,30,0) -> #N/A | Q13: =VLOOKUP($A13,'S45'!$C:$BQ,52,0) -> #N/A | R13: =VLOOKUP($A13,'S45'!$C:$BQ,59,0) -> #N/A | S13: =VLOOKUP($A13,'S45'!$C:$BQ,60,0) -> #N/A | T13: =VLOOKUP($A13,'S46'!$C:$BQ,32,0) -> #N/A | U13: =VLOOKUP($A13,'S46'!$C:$BQ,39,0) -> #N/A | V13: =VLOOKUP($A13,'S46'!$C:$BQ,40,0) -> #N/A | W13: =VLOOKUP($A13,'S46'!$C:$BQ,22,0) -> #N/A | X13: =VLOOKUP($A13,'S46'!$C:$BQ,29,0) -> #N/A | Y13: =VLOOKUP($A13,'S46'!$C:$BQ,30,0) -> #N/A | Z13: =VLOOKUP($A13,'S46'!$C:$BQ,52,0) -> #N/A | AA13: =VLOOKUP($A13,'S46'!$C:$BQ,59,0) -> #N/A | AB13: =VLOOKUP($A13,'S46'!$C:$BQ,60,0) -> #N/A | AC13: =VLOOKUP($A13,'S47'!$C:$BQ,32,0) -> #N/A | AD13: =VLOOKUP($A13,'S47'!$C:$BQ,39,0) -> #N/A | AE13: =VLOOKUP($A13,'S47'!$C:$BQ,40,0) -> #N/A | AF13: =VLOOKUP($A13,'S47'!$C:$BQ,22,0) -> #N/A | AG13: =VLOOKUP($A13,'S47'!$C:$BQ,29,0) -> #N/A | AH13: =VLOOKUP($A13,'S47'!$C:$BQ,30,0) -> #N/A | AI13: =VLOOKUP($A13,'S47'!$C:$BQ,52,0) -> #N/A | AJ13: =VLOOKUP($A13,'S47'!$C:$BQ,59,0) -> #N/A | AK13: =VLOOKUP($A13,'S47'!$C:$BQ,60,0) -> #N/A | AL13: =VLOOKUP($A13,'S48'!$C:$BQ,32,0) -> #N/A | AM13: =VLOOKUP($A13,'S48'!$C:$BQ,39,0) -> #N/A | AN13: =VLOOKUP($A13,'S48'!$C:$BQ,40,0) -> #N/A | AO13: =VLOOKUP($A13,'S48'!$C:$BQ,22,0) -> #N/A | AP13: =VLOOKUP($A13,'S48'!$C:$BQ,29,0) -> #N/A | AQ13: =VLOOKUP($A13,'S48'!$C:$BQ,30,0) -> #N/A | AR13: =VLOOKUP($A13,'S48'!$C:$BQ,52,0) -> #N/A | AS13: =VLOOKUP($A13,'S48'!$C:$BQ,59,0) -> #N/A | AT13: =VLOOKUP($A13,'S48'!$C:$BQ,60,0) -> #N/A | AU13: =VLOOKUP($A13,'S49'!$C:$BQ,32,0) -> #N/A | AV13: =VLOOKUP($A13,'S49'!$C:$BQ,39,0) -> #N/A | AW13: =VLOOKUP($A13,'S49'!$C:$BQ,40,0) -> #N/A | AX13: =VLOOKUP($A13,'S49'!$C:$BQ,22,0) -> #N/A | AY13: =VLOOKUP($A13,'S49'!$C:$BQ,29,0) -> #N/A | AZ13: =VLOOKUP($A13,'S49'!$C:$BQ,30,0) -> #N/A | BA13: =VLOOKUP($A13,'S49'!$C:$BQ,52,0) -> #N/A | BB13: =VLOOKUP($A13,'S49'!$C:$BQ,59,0) -> #N/A | BC13: =VLOOKUP($A13,'S49'!$C:$BQ,60,0) -> #N/A | BD13: =VLOOKUP($A13,'S50'!$C:$BQ,32,0) -> #N/A | BE13: =VLOOKUP($A13,'S50'!$C:$BQ,39,0) -> #N/A | BF13: =VLOOKUP($A13,'S50'!$C:$BQ,40,0) -> #N/A | BG13: =VLOOKUP($A13,'S50'!$C:$BQ,22,0) -> #N/A | BH13: =VLOOKUP($A13,'S50'!$C:$BQ,29,0) -> #N/A | BI13: =VLOOKUP($A13,'S50'!$C:$BQ,30,0) -> #N/A | BJ13: =VLOOKUP($A13,'S50'!$C:$BQ,52,0) -> #N/A | BK13: =VLOOKUP($A13,'S50'!$C:$BQ,59,0) -> #N/A | BL13: =VLOOKUP($A13,'S50'!$C:$BQ,60,0) -> #N/A
A14: BAR SUR SEINE | B14: =VLOOKUP($A14,'S0 remplacer avec S44'!$C:$BQ,32,0) -> 146.6 | C14: =VLOOKUP($A14,'S0 remplacer avec S44'!$C:$BQ,39,0) -> 89 | D14: =VLOOKUP($A14,'S0 remplacer avec S44'!$C:$BQ,40,0) -> 136 | E14: =VLOOKUP($A14,'S0 remplacer avec S44'!$C:$BQ,22,0) -> 2687.843 | F14: =VLOOKUP($A14,'S0 remplacer avec S44'!$C:$BQ,29,0) -> 0 | G14: =VLOOKUP($A14,'S0 remplacer avec S44'!$C:$BQ,30,0) -> 0 | H14: =VLOOKUP($A14,'S0 remplacer avec S44'!$C:$BQ,52,0) -> 131.2 | I14: =VLOOKUP($A14,'S0 remplacer avec S44'!$C:$BQ,59,0) -> 0 | J14: =VLOOKUP($A14,'S0 remplacer avec S44'!$C:$BQ,60,0) -> 13 | K14: =VLOOKUP($A14,'S45'!$C:$BQ,32,0) -> #N/A | L14: =VLOOKUP($A14,'S45'!$C:$BQ,39,0) -> #N/A | M14: =VLOOKUP($A14,'S45'!$C:$BQ,40,0) -> #N/A | N14: =VLOOKUP($A14,'S45'!$C:$BQ,22,0) -> #N/A | O14: =VLOOKUP($A14,'S45'!$C:$BQ,29,0) -> #N/A | P14: =VLOOKUP($A14,'S45'!$C:$BQ,30,0) -> #N/A | Q14: =VLOOKUP($A14,'S45'!$C:$BQ,52,0) -> #N/A | R14: =VLOOKUP($A14,'S45'!$C:$BQ,59,0) -> #N/A | S14: =VLOOKUP($A14,'S45'!$C:$BQ,60,0) -> #N/A | T14: =VLOOKUP($A14,'S46'!$C:$BQ,32,0) -> #N/A | U14: =VLOOKUP($A14,'S46'!$C:$BQ,39,0) -> #N/A | V14: =VLOOKUP($A14,'S46'!$C:$BQ,40,0) -> #N/A | W14: =VLOOKUP($A14,'S46'!$C:$BQ,22,0) -> #N/A | X14: =VLOOKUP($A14,'S46'!$C:$BQ,29,0) -> #N/A | Y14: =VLOOKUP($A14,'S46'!$C:$BQ,30,0) -> #N/A | Z14: =VLOOKUP($A14,'S46'!$C:$BQ,52,0) -> #N/A | AA14: =VLOOKUP($A14,'S46'!$C:$BQ,59,0) -> #N/A | AB14: =VLOOKUP($A14,'S46'!$C:$BQ,60,0) -> #N/A | AC14: =VLOOKUP($A14,'S47'!$C:$BQ,32,0) -> #N/A | AD14: =VLOOKUP($A14,'S47'!$C:$BQ,39,0) -> #N/A | AE14: =VLOOKUP($A14,'S47'!$C:$BQ,40,0) -> #N/A | AF14: =VLOOKUP($A14,'S47'!$C:$BQ,22,0) -> #N/A | AG14: =VLOOKUP($A14,'S47'!$C:$BQ,29,0) -> #N/A | AH14: =VLOOKUP($A14,'S47'!$C:$BQ,30,0) -> #N/A | AI14: =VLOOKUP($A14,'S47'!$C:$BQ,52,0) -> #N/A | AJ14: =VLOOKUP($A14,'S47'!$C:$BQ,59,0) -> #N/A | AK14: =VLOOKUP($A14,'S47'!$C:$BQ,60,0) -> #N/A | AL14: =VLOOKUP($A14,'S48'!$C:$BQ,32,0) -> #N/A | AM14: =VLOOKUP($A14,'S48'!$C:$BQ,39,0) -> #N/A | AN14: =VLOOKUP($A14,'S48'!$C:$BQ,40,0) -> #N/A | AO14: =VLOOKUP($A14,'S48'!$C:$BQ,22,0) -> #N/A | AP14: =VLOOKUP($A14,'S48'!$C:$BQ,29,0) -> #N/A | AQ14: =VLOOKUP($A14,'S48'!$C:$BQ,30,0) -> #N/A | AR14: =VLOOKUP($A14,'S48'!$C:$BQ,52,0) -> #N/A | AS14: =VLOOKUP($A14,'S48'!$C:$BQ,59,0) -> #N/A | AT14: =VLOOKUP($A14,'S48'!$C:$BQ,60,0) -> #N/A | AU14: =VLOOKUP($A14,'S49'!$C:$BQ,32,0) -> #N/A | AV14: =VLOOKUP($A14,'S49'!$C:$BQ,39,0) -> #N/A | AW14: =VLOOKUP($A14,'S49'!$C:$BQ,40,0) -> #N/A | AX14: =VLOOKUP($A14,'S49'!$C:$BQ,22,0) -> #N/A | AY14: =VLOOKUP($A14,'S49'!$C:$BQ,29,0) -> #N/A | AZ14: =VLOOKUP($A14,'S49'!$C:$BQ,30,0) -> #N/A | BA14: =VLOOKUP($A14,'S49'!$C:$BQ,52,0) -> #N/A | BB14: =VLOOKUP($A14,'S49'!$C:$BQ,59,0) -> #N/A | BC14: =VLOOKUP($A14,'S49'!$C:$BQ,60,0) -> #N/A | BD14: =VLOOKUP($A14,'S50'!$C:$BQ,32,0) -> #N/A | BE14: =VLOOKUP($A14,'S50'!$C:$BQ,39,0) -> #N/A | BF14: =VLOOKUP($A14,'S50'!$C:$BQ,40,0) -> #N/A | BG14: =VLOOKUP($A14,'S50'!$C:$BQ,22,0) -> #N/A | BH14: =VLOOKUP($A14,'S50'!$C:$BQ,29,0) -> #N/A | BI14: =VLOOKUP($A14,'S50'!$C:$BQ,30,0) -> #N/A | BJ14: =VLOOKUP($A14,'S50'!$C:$BQ,52,0) -> #N/A | BK14: =VLOOKUP($A14,'S50'!$C:$BQ,59,0) -> #N/A | BL14: =VLOOKUP($A14,'S50'!$C:$BQ,60,0) -> #N/A
... A295: VAGNEY | B295: =VLOOKUP($A295,'S0 remplacer avec S44'!$C:$BQ,32,0) -> 115.75 | C295: =VLOOKUP($A295,'S0 remplacer avec S44'!$C:$BQ,39,0) -> 87 | D295: =VLOOKUP($A295,'S0 remplacer avec S44'!$C:$BQ,40,0) -> 127 | E295: =VLOOKUP($A295,'S0 remplacer avec S44'!$C:$BQ,22,0) -> 1754.3235 | F295: =VLOOKUP($A295,'S0 remplacer avec S44'!$C:$BQ,29,0) -> 84 | G295: =VLOOKUP($A295,'S0 remplacer avec S44'!$C:$BQ,30,0) -> 452 | H295: =VLOOKUP($A295,'S0 remplacer avec S44'!$C:$BQ,52,0) -> 115.2 | I295: =VLOOKUP($A295,'S0 remplacer avec S44'!$C:$BQ,59,0) -> 0 | J295: =VLOOKUP($A295,'S0 remplacer avec S44'!$C:$BQ,60,0) -> 8 | K295: =VLOOKUP($A295,'S45'!$C:$BQ,32,0) -> #N/A | L295: =VLOOKUP($A295,'S45'!$C:$BQ,39,0) -> #N/A | M295: =VLOOKUP($A295,'S45'!$C:$BQ,40,0) -> #N/A | N295: =VLOOKUP($A295,'S45'!$C:$BQ,22,0) -> #N/A | O295: =VLOOKUP($A295,'S45'!$C:$BQ,29,0) -> #N/A | P295: =VLOOKUP($A295,'S45'!$C:$BQ,30,0) -> #N/A | Q295: =VLOOKUP($A295,'S45'!$C:$BQ,52,0) -> #N/A | R295: =VLOOKUP($A295,'S45'!$C:$BQ,59,0) -> #N/A | S295: =VLOOKUP($A295,'S45'!$C:$BQ,60,0) -> #N/A | T295: =VLOOKUP($A295,'S46'!$C:$BQ,32,0) -> #N/A | U295: =VLOOKUP($A295,'S46'!$C:$BQ,39,0) -> #N/A | V295: =VLOOKUP($A295,'S46'!$C:$BQ,40,0) -> #N/A | W295: =VLOOKUP($A295,'S46'!$C:$BQ,22,0) -> #N/A | X295: =VLOOKUP($A295,'S46'!$C:$BQ,29,0) -> #N/A | Y295: =VLOOKUP($A295,'S46'!$C:$BQ,30,0) -> #N/A | Z295: =VLOOKUP($A295,'S46'!$C:$BQ,52,0) -> #N/A | AA295: =VLOOKUP($A295,'S46'!$C:$BQ,59,0) -> #N/A | AB295: =VLOOKUP($A295,'S46'!$C:$BQ,60,0) -> #N/A | AC295: =VLOOKUP($A295,'S47'!$C:$BQ,32,0) -> #N/A | AD295: =VLOOKUP($A295,'S47'!$C:$BQ,39,0) -> #N/A | AE295: =VLOOKUP($A295,'S47'!$C:$BQ,40,0) -> #N/A | AF295: =VLOOKUP($A295,'S47'!$C:$BQ,22,0) -> #N/A | AG295: =VLOOKUP($A295,'S47'!$C:$BQ,29,0) -> #N/A | AH295: =VLOOKUP($A295,'S47'!$C:$BQ,30,0) -> #N/A | AI295: =VLOOKUP($A295,'S47'!$C:$BQ,52,0) -> #N/A | AJ295: =VLOOKUP($A295,'S47'!$C:$BQ,59,0) -> #N/A | AK295: =VLOOKUP($A295,'S47'!$C:$BQ,60,0) -> #N/A | AL295: =VLOOKUP($A295,'S48'!$C:$BQ,32,0) -> #N/A | AM295: =VLOOKUP($A295,'S48'!$C:$BQ,39,0) -> #N/A | AN295: =VLOOKUP($A295,'S48'!$C:$BQ,40,0) -> #N/A | AO295: =VLOOKUP($A295,'S48'!$C:$BQ,22,0) -> #N/A | AP295: =VLOOKUP($A295,'S48'!$C:$BQ,29,0) -> #N/A | AQ295: =VLOOKUP($A295,'S48'!$C:$BQ,30,0) -> #N/A | AR295: =VLOOKUP($A295,'S48'!$C:$BQ,52,0) -> #N/A | AS295: =VLOOKUP($A295,'S48'!$C:$BQ,59,0) -> #N/A | AT295: =VLOOKUP($A295,'S48'!$C:$BQ,60,0) -> #N/A | AU295: =VLOOKUP($A295,'S49'!$C:$BQ,32,0) -> #N/A | AV295: =VLOOKUP($A295,'S49'!$C:$BQ,39,0) -> #N/A | AW295: =VLOOKUP($A295,'S49'!$C:$BQ,40,0) -> #N/A | AX295: =VLOOKUP($A295,'S49'!$C:$BQ,22,0) -> #N/A | AY295: =VLOOKUP($A295,'S49'!$C:$BQ,29,0) -> #N/A | AZ295: =VLOOKUP($A295,'S49'!$C:$BQ,30,0) -> #N/A | BA295: =VLOOKUP($A295,'S49'!$C:$BQ,52,0) -> #N/A | BB295: =VLOOKUP($A295,'S49'!$C:$BQ,59,0) -> #N/A | BC295: =VLOOKUP($A295,'S49'!$C:$BQ,60,0) -> #N/A | BD295: =VLOOKUP($A295,'S50'!$C:$BQ,32,0) -> #N/A | BE295: =VLOOKUP($A295,'S50'!$C:$BQ,39,0) -> #N/A | BF295: =VLOOKUP($A295,'S50'!$C:$BQ,40,0) -> #N/A | BG295: =VLOOKUP($A295,'S50'!$C:$BQ,22,0) -> #N/A | BH295: =VLOOKUP($A295,'S50'!$C:$BQ,29,0) -> #N/A | BI295: =VLOOKUP($A295,'S50'!$C:$BQ,30,0) -> #N/A | BJ295: =VLOOKUP($A295,'S50'!$C:$BQ,52,0) -> #N/A | BK295: =VLOOKUP($A295,'S50'!$C:$BQ,59,0) -> #N/A | BL295: =VLOOKUP($A295,'S50'!$C:$BQ,60,0) -> #N/A

Sheet PROD MRH4
A1: DOM Desg Cour Eds Niv7 | B1: DOM Desg Cour Eds Niv6 | C1: DOM Idnt Extr Eds Niv5 | D1: DOM Desg Cour Eds Niv5 | E1: Nombre D Ouvertures De Services
A2: AUBE HAUTE MARNE | B2: CHAUMONT | C2: 410541 | D2: LANGRES
A3: AUBE HAUTE MARNE | B3: TROYES | C3: 410510 | D3: TROYES GAMBETTA
