Workbook
Name AUBE_HAUTE_MARNE: 'Structures EDS'!$C$3:$C$4
Name BAS_RHIN: 'Structures EDS'!$D$3:$D$5
Name CHALONS_EN_CHAMPAGNE: 'Structures EDS'!$T$3:$T$12
Name CHARLEVILLE_MEZIERES: 'Structures EDS'!$U$3:$U$16
Name CHAUMONT: 'Structures EDS'!$M$3:$M$11
Name COLMAR: 'Structures EDS'!$R$3:$R$17
Name EPINAL: 'Structures EDS'!$AC$3:$AC$18
Name HAGUENAU: 'Structures EDS'!$O$3:$O$20
Name HAUT_RHIN: 'Structures EDS'!$E$3:$E$4
Name MARNE_ARDENNES: 'Structures EDS'!$F$3:$F$5
Name METZ: 'Structures EDS'!$Z$3:$Z$24
Name MEURTHE_ET_MOSELLE_MEUSE: 'Structures EDS'!$G$3:$G$5
Name MOSELLE: 'Structures EDS'!$H$3:$H$5
Name MOSELLE_EST: 'Structures EDS'!$AA$3:$AA$19
Name MOSELLE_NORD: 'Structures EDS'!$AB$3:$AB$21
Name MULHOUSE: 'Structures EDS'!$S$3:$S$17
Name NANCY: 'Structures EDS'!$W$3:$W$19
Name PONT_A_MOUSSON: 'Structures EDS'!$X$3:$X$21
Name REIMS: 'Structures EDS'!$V$3:$V$20
Name SAINT_DIE: 'Structures EDS'!$AD$3:$AD$14
Name SELESTAT: 'Structures EDS'!$P$3:$P$19
Name STRASBOURG: 'Structures EDS'!$Q$3:$Q$22
Name TROYES: 'Structures EDS'!$N$3:$N$17
Name VERDUN: 'Structures EDS'!$Y$3:$Y$16
Name VOSGES: 'Structures EDS'!$I$3:$I$4

Sheet Lexique
B1: LEXIQUE FICHE AGENCE "VERS LA PV 2020"
C5: Le rôle de la fiche Agence "Vers la Part Variable 2020" est de vous aider à piloter les principaux items de la Part Variable 2020 sur les 2 derniers mois de l'année. Les indicateurs vous permettent d'avoir une vision hebdomadaire et par ETP des performances à réaliser pour atteindre vos objectifs.
C7: Elle sera mise à jour chaque lundi et mardi matin pour vous offrir la vision la plus complète de la production de la semaine précédente et du reste à faire.
C9: Ce suivi n'a pas vocation à figer vos résultats et les taux de Part Variable, ces derniers le seront lors de la réalisation des arrêtés définitifs début 2021.
C11: Pour piloter vos objectifs Part Variable en quotidien : | I11: Pour piloter vos performances au Baromètre tous les lundis :
C12: Suivi Quotidien Part Variable sur Objectifs | I12: Suivi Baromètre
C17: ● Taux d'atteinte de l'objectif : réalisation cumulée à fin de semaine précédente / objectif annuel 2020
C19: ● Meilleure performance hebdo : meilleure production hebdomadaire en 2020 (avant S44) rapportée à l'ETP moyen annuel
F20: à fin septembre
C22: ● Reste à faire pour atteindre l'objectif de 100% ou 120% : il s'agit d'une estimation du reste à faire pour atteindre l'objectif
C23: annuel. Ce dernier s'adapte en fonction de :
C24: - la réalisation sur la semaine précédente
C25: - la mise à jour mensuelle de l'objectif en fonction de l'ETP annuel moyen (ETP d'octobre disponible autour du 20/11)
C27: ● ETP utilisé dans le calcul du reste à faire et de la production des semaines 45 à 50 : il s'agit de l'ETP remonté par vos DR/DT pour
C28: le pilotage du Challenge "A la Conquête des Univers".
C30: ● Rang Baromètre : rang de l'entité dans le Baromètre BDD le plus récent publié sur la rubrique des commerciaux
C32: ● Ecart au 1er : écart au 1er de l'entité dans le Baromètre BDD le plus récent publié sur la rubrique des commerciaux
C34: ● Reste à faire pour atteindre le TOP : il s'agit de la performance à réaliser sur les semaines restantes pour atteindre le
C35: classement précisé. Cette performance intègre pour chaque entité le trend constaté depuis le début de l'année et ce dernier
C36: est appliqué aux semaines restantes (jusqu'à la semaine 50).
C38: Exemple :
... C61: Non, les Responsabilités Civiles ne sont pas prises en compte dans cet indicateur.

Sheet Fiche Agence
C1: REGION | H1: TERRITOIRE | N1: AGENCE
C2: MARNE_ARDENNES | H2: REIMS | N2: FISMES | X2: Semaine en cours : | Y2: 47 | Z2: =WEEKNUM(TODAY()) -> 48 | AA2: forcé pour 1er envoi, mettre Z en Y ensuite
X3: Nb semaines restantes : | Y3: =50-Y2+1 -> 4 | Z3: Bien vérifier
B4: VERS LA PART VARIABLE 2020 - SEMAINE 47 | X4: Code EDS | Y4: =VLOOKUP(N2,'ETP Challenge'!D:F,3,0) -> 551314
X6: Jauge
X7: 0 - 79% | Z7: 80
G8: MEILLEURE PERFORMANCE HEBDO EN 2020 : | X8: 80% - 100% | Z8: 20
K9: ATTENDU : | N9: ="2 MRH4 par ETP par semaine, soit "&ROUND(2*SUMIF('ETP Challenge'!$D:$D,$N$2,'ETP Challenge'!$E:$E),0)*6 & " contrats pour mon agence entre le 4 novembre et le 15 décembre" -> 2 MRH4 par ETP par semaine, soit 36 contrats pour mon agence entre le 4 novembre et le 15 décembre | X9: 101% - 120% | Z9: 20
Z10: =SUM(Z7:Z9) -> 120
G11: =ROUND(VLOOKUP(N2,'Meilleures perf'!C:G,3,0),1) & " contrats par ETP" -> 5,7 contrats par ETP
X12: aiguille IARD | Y12: =ROUND(VLOOKUP(N2,'Coller ici dernier suivi PV'!C:BR,35,0)*100,1) -> 93 | Z12: =IF(Y12>=120,120,Y12) -> 93
C13: =Y12 & "%" -> 93% | X13: largeur | Z13: 1
X14: part invisible | Z14: =SUM($Z$7:$Z$10)-(Z13+Z12) -> 146
X15: aiguille CONSO | Y15: =ROUND(VLOOKUP(N2,'Coller ici dernier suivi PV'!C:BR,25,0)*100,1) -> 113.8 | Z15: =IF(Y15>=120,120,Y15) -> 113.8
D16: Reste à faire hebdo par ETP pour atteindre l'objectif | K16: REALISATION DEPUIS LE 04/11 | N16: TAUX D'ATT. SAIS. | P16: RESTE A FAIRE HEBDO | X16: largeur | Z16: 1
D17: S45 | E17: S46 | F17: S47 | G17: S48 | H17: S49 | I17: S50 | X17: part invisible | Z17: =SUM($Z$7:$Z$10)-(Z16+Z15) -> 125.2
C18: Obj 100% | D18: =(VLOOKUP($N$2,'CUMUL résultats semaine'!$A:$BL,3,0)/SUMIF('ETP Challenge'!$D:$D,$N$2,'ETP Challenge'!$E:$E))/6 -> 0.52264808 | E18: =IF(ISNUMBER(D$20),(VLOOKUP($N$2,'CUMUL résultats semaine'!$A:$BL,12,0)/SUMIF('ETP Challenge'!$D:$D,$N$2,'ETP Challenge'!$E:$E))/5,D18) -> 0.69686411 | F18: =IF(ISNUMBER(E$20),(VLOOKUP($N$2,'CUMUL résultats semaine'!$A:$BL,21,0)/SUMIF('ETP Challenge'!$D:$D,$N$2,'ETP Challenge'!$E:$E))/4,E18) -> 0.95818815 | G18: =IF(ISNUMBER(F$20),(VLOOKUP($N$2,'CUMUL résultats semaine'!$A:$BL,30,0)/SUMIF('ETP Challenge'!$D:$D,$N$2,'ETP Challenge'!$E:$E))/3,F18) -> 0.95818815 | H18: =IF(ISNUMBER(G$20),(VLOOKUP($N$2,'CUMUL résultats semaine'!$A:$BL,39,0)/SUMIF('ETP Challenge'!$D:$D,$N$2,'ETP Challenge'!$E:$E))/2,G18) -> 0.95818815 | I18: =IF(ISNUMBER(H$20),(VLOOKUP($N$2,'CUMUL résultats semaine'!$A:$BL,48,0)/SUMIF('ETP Challenge'!$D:$D,$N$2,'ETP Challenge'!$E:$E)),H18) -> 0.95818815 | K18: AGENCE | L18: PAR ETP | P18: AGENCE | Q18: PAR ETP | X18: aiguille BANCA | Y18: =ROUND(VLOOKUP(N2,'Coller ici dernier suivi PV'!C:BR,55,0)*100,1) -> 208.7 | Z18: =IF(Y18>=120,120,Y18) -> 120
C19: Obj 120% | D19: =(VLOOKUP($N$2,'CUMUL résultats semaine'!$A:$BL,4,0)/SUMIF('ETP Challenge'!$D:$D,$N$2,'ETP Challenge'!$E:$E))/6 -> 2.2648084 | E19: =IF(ISNUMBER(D$20),(VLOOKUP($N$2,'CUMUL résultats semaine'!$A:$BL,13,0)/SUMIF('ETP Challenge'!$D:$D,$N$2,'ETP Challenge'!$E:$E))/5,D19) -> 2.7874564 | F19: =IF(ISNUMBER(E$20),(VLOOKUP($N$2,'CUMUL résultats semaine'!$A:$BL,22,0)/SUMIF('ETP Challenge'!$D:$D,$N$2,'ETP Challenge'!$E:$E))/4,E19) -> 3.5714286 | G19: =IF(ISNUMBER(F$20),(VLOOKUP($N$2,'CUMUL résultats semaine'!$A:$BL,31,0)/SUMIF('ETP Challenge'!$D:$D,$N$2,'ETP Challenge'!$E:$E))/3,F19) -> 3.5714286 | H19: =IF(ISNUMBER(G$20),(VLOOKUP($N$2,'CUMUL résultats semaine'!$A:$BL,40,0)/SUMIF('ETP Challenge'!$D:$D,$N$2,'ETP Challenge'!$E:$E))/2,G19) -> 3.5714286 | I19: =IF(ISNUMBER(H$20),(VLOOKUP($N$2,'CUMUL résultats semaine'!$A:$BL,49,0)/SUMIF('ETP Challenge'!$D:$D,$N$2,'ETP Challenge'!$E:$E)),H19) -> 3.5714286 | K19: =IF(ISNUMBER(VLOOKUP(N2,'PROD MRH4'!D:E,2,0)),VLOOKUP(N2,'PROD MRH4'!D:E,2,0),0) -> 1 | L19: =K19/SUMIF('ETP Challenge'!$D:$D,$N$2,'ETP Challenge'!$E:$E) -> 0.34843206 | N19: =IF(Y3=6,0,L19/(2*(6-Y3))) -> 0.087108014 | P19: =(ROUND(2*SUMIF('ETP Challenge'!$D:$D,$N$2,'ETP Challenge'!$E:$E),1)*6 - K19)/Y3 -> 8.3 | Q19: =P19/SUMIF('ETP Challenge'!$D:$D,$N$2,'ETP Challenge'!$E:$E) -> 2.8919861 | X19: largeur | Z19: 1
C20: Réalis. / ETP | D20: =IF(ISNUMBER(VLOOKUP($N$2,'CUMUL résultats semaine'!A:BL,11,0)),(VLOOKUP($N$2,'CUMUL résultats semaine'!A:BL,11,0)-VLOOKUP($N$2,'CUMUL résultats semaine'!A:BL,2,0))/SUMIF('ETP Challenge'!$D:$D,$N$2,'ETP Challenge'!$E:$E),"-") -> -0.34843206 | E20: =IF(ISNUMBER(VLOOKUP($N$2,'CUMUL résultats semaine'!A:BL,20,0)),(VLOOKUP($N$2,'CUMUL résultats semaine'!A:BL,20,0)-VLOOKUP($N$2,'CUMUL résultats semaine'!A:BL,11,0))/SUMIF('ETP Challenge'!$D:$D,$N$2,'ETP Challenge'!$E:$E),"-") -> -0.34843206 | F20: =IF(ISNUMBER(VLOOKUP($N$2,'CUMUL résultats semaine'!A:BL,29,0)),(VLOOKUP($N$2,'CUMUL résultats semaine'!A:BL,29,0)-VLOOKUP($N$2,'CUMUL résultats semaine'!A:BL,20,0))/SUMIF('ETP Challenge'!$D:$D,$N$2,'ETP Challenge'!$E:$E),"-") -> - | G20: =IF(ISNUMBER(VLOOKUP($N$2,'CUMUL résultats semaine'!A:BL,38,0)),(VLOOKUP($N$2,'CUMUL résultats semaine'!A:BL,38,0)-VLOOKUP($N$2,'CUMUL résultats semaine'!A:BL,29,0))/SUMIF('ETP Challenge'!$D:$D,$N$2,'ETP Challenge'!$E:$E),"-") -> - | H20: =IF(ISNUMBER(VLOOKUP($N$2,'CUMUL résultats semaine'!A:BL,47,0)),(VLOOKUP($N$2,'CUMUL résultats semaine'!A:BL,47,0)-VLOOKUP($N$2,'CUMUL résultats semaine'!A:BL,38,0))/SUMIF('ETP Challenge'!$D:$D,$N$2,'ETP Challenge'!$E:$E),"-") -> - | I20: =IF(ISNUMBER(VLOOKUP($N$2,'CUMUL résultats semaine'!A:BL,56,0)),(VLOOKUP($N$2,'CUMUL résultats semaine'!A:BL,56,0)-VLOOKUP($N$2,'CUMUL résultats semaine'!A:BL,47,0))/SUMIF('ETP Challenge'!$D:$D,$N$2,'ETP Challenge'!$E:$E),"-") -> - | X20: part invisible | Z20: =SUM($Z$7:$Z$10)-(Z19+Z18) -> 119
X23: CA UC BAROM | Y23: RàF | Z23: RàF par ETP par semaine
X24: =IF($N$27>100,"TOP 100","TOP 50") -> TOP 100 | Y24: =IF(X24="TOP 100",VLOOKUP($Y$4,'BAROM CA UC'!$E:$Z,21,0),VLOOKUP($Y$4,'BAROM CA UC'!$E:$Z,20,0)) -> 948522.43 | Z24: =IF(Y24<=0,0,Y24/SUMIF('ETP Challenge'!$D:$D,$N$2,'ETP Challenge'!$E:$E)/1000)/$Y$3 -> 82.623905
X25: =IF($N$27>100,"TOP 50","TOP 30") -> TOP 50 | Y25: =IF(X25="TOP 50",VLOOKUP($Y$4,'BAROM CA UC'!$E:$Z,20,0),VLOOKUP($Y$4,'BAROM CA UC'!$E:$Z,19,0)) -> 1275815 | Z25: =IF(Y25<=0,0,Y25/SUMIF('ETP Challenge'!$D:$D,$N$2,'ETP Challenge'!$E:$E)/1000)/$Y$3 -> 111.13371
G26: MEILLEURE PERFORMANCE HEBDO EN 2020 : | X26: =IF(N27<10,"TOP 1",IF($N$27>100,"TOP 30","TOP 10")) -> TOP 30 | Y26: =IF(X26="TOP 1",VLOOKUP($Y$4,'BAROM CA UC'!$E:$Z,17,0),IF(X26="TOP 10",VLOOKUP($Y$4,'BAROM CA UC'!$E:$Z,18,0),VLOOKUP($Y$4,'BAROM CA UC'!$E:$Z,19,0))) -> 1532133.5 | Z26: =IF(Y26<=0,0,Y26/SUMIF('ETP Challenge'!$D:$D,$N$2,'ETP Challenge'!$E:$E)/1000)/$Y$3 -> 133.4611
K27: RANG BAROMETRE : | N27: =VLOOKUP($Y$4,'BAROM CA UC'!$E:$Z,7,0) -> 289 | O27: ECART AU 1ER : | R27: =VLOOKUP($Y$4,'BAROM CA UC'!$E:$Z,6,0) -> 0.9855444
X28: IZICARTES BAROM | Y28: RàF | Z28: RàF par ETP par semaine
G29: =ROUND(VLOOKUP(N2,'Meilleures perf'!C:G,4,0)/1000,1) & "K€ d'engagements par ETP" -> 34,7K€ d'engagements par ETP | X29: =IF($M$45>100,"TOP 100","TOP 50") -> TOP 100 | Y29: =IF(X29="TOP 100",VLOOKUP($Y$4,'BAROM IZICARTES'!$E:$Z,22,0),VLOOKUP($Y$4,'BAROM IZICARTES'!$E:$Z,21,0)) -> 14.151117 | Z29: =IF(Y29<=0,0,Y29/SUMIF('ETP Challenge'!$D:$D,$N$2,'ETP Challenge'!$E:$E))/$Y$3 -> 1.2326757
X30: =IF($M$45>100,"TOP 50","TOP 30") -> TOP 50 | Y30: =IF(X30="TOP 50",VLOOKUP($Y$4,'BAROM IZICARTES'!$E:$Z,21,0),VLOOKUP($Y$4,'BAROM IZICARTES'!$E:$Z,20,0)) -> 21.283251 | Z30: =IF(Y30<=0,0,Y30/SUMIF('ETP Challenge'!$D:$D,$N$2,'ETP Challenge'!$E:$E))/$Y$3 -> 1.8539417
C31: =Y15& "%" -> 113,8% | X31: =IF($M$45<10,"TOP1",IF($M$45>100,"TOP 30","TOP 10")) -> TOP 30 | Y31: =IF(X31="TOP 1",VLOOKUP($Y$4,'BAROM IZICARTES'!$E:$Z,18,0),IF(X31="TOP 10",VLOOKUP($Y$4,'BAROM IZICARTES'!$E:$Z,19,0),VLOOKUP($Y$4,'BAROM IZICARTES'!$E:$Z,20,0))) -> 24.707075 | Z31: =IF(Y31<=0,0,Y31/SUMIF('ETP Challenge'!$D:$D,$N$2,'ETP Challenge'!$E:$E))/$Y$3 -> 2.1521842
X33: HDG DD BAROM | Y33: RàF | Z33: RàF par ETP par semaine
D34: Reste à faire hebdo par ETP pour atteindre l'objectif (en K€) | X34: =IF($R$45>100,"TOP 100","TOP 50") -> TOP 100 | Y34: =IF(X34="TOP 100",VLOOKUP($Y$4,'BAROM CARTES HDG'!$E:$Z,22,0),VLOOKUP($Y$4,'BAROM CARTES HDG'!$E:$Z,21,0)) -> 10.41391 | Z34: =IF(Y34<=0,0,Y34/SUMIF('ETP Challenge'!$D:$D,$N$2,'ETP Challenge'!$E:$E))/$Y$3 -> 0.90713501
D35: S45 | E35: S46 | F35: S47 | G35: S48 | H35: S49 | I35: S50 | X35: =IF($R$45>100,"TOP 50","TOP 30") -> TOP 50 | Y35: =IF(X35="TOP 50",VLOOKUP($Y$4,'BAROM CARTES HDG'!$E:$Z,21,0),VLOOKUP($Y$4,'BAROM CARTES HDG'!$E:$Z,20,0)) -> 25.727171 | Z35: =IF(Y35<=0,0,Y35/SUMIF('ETP Challenge'!$D:$D,$N$2,'ETP Challenge'!$E:$E))/$Y$3 -> 2.2410428
C36: Obj 100% | D36: =(VLOOKUP($N$2,'CUMUL résultats semaine'!$A:$BL,6,0)/SUMIF('ETP Challenge'!$D:$D,$N$2,'ETP Challenge'!$E:$E))/6 -> 0 | E36: =IF(ISNUMBER(D$38),(VLOOKUP($N$2,'CUMUL résultats semaine'!$A:$BL,15,0)/SUMIF('ETP Challenge'!$D:$D,$N$2,'ETP Challenge'!$E:$E))/5,D36) -> 0 | F36: =IF(ISNUMBER(E$20),(VLOOKUP($N$2,'CUMUL résultats semaine'!$A:$BL,24,0)/SUMIF('ETP Challenge'!$D:$D,$N$2,'ETP Challenge'!$E:$E))/4,E36) -> 0 | G36: =IF(ISNUMBER(F$20),(VLOOKUP($N$2,'CUMUL résultats semaine'!$A:$BL,33,0)/SUMIF('ETP Challenge'!$D:$D,$N$2,'ETP Challenge'!$E:$E))/3,F36) -> 0 | H36: =IF(ISNUMBER(G$20),(VLOOKUP($N$2,'CUMUL résultats semaine'!$A:$BL,42,0)/SUMIF('ETP Challenge'!$D:$D,$N$2,'ETP Challenge'!$E:$E))/2,G36) -> 0 | I36: =IF(ISNUMBER(H$20),(VLOOKUP($N$2,'CUMUL résultats semaine'!$A:$BL,51,0)/SUMIF('ETP Challenge'!$D:$D,$N$2,'ETP Challenge'!$E:$E)),H36) -> 0 | X36: =IF($R$45<10,"TOP1",IF($R$45>100,"TOP 30","TOP 10")) -> TOP 30 | Y36: =IF(X36="TOP 1",VLOOKUP($Y$4,'BAROM CARTES HDG'!$E:$Z,18,0),IF(X36="TOP 10",VLOOKUP($Y$4,'BAROM CARTES HDG'!$E:$Z,19,0),VLOOKUP($Y$4,'BAROM CARTES HDG'!$E:$Z,20,0))) -> 33.526967 | Z36: =IF(Y36<=0,0,Y36/SUMIF('ETP Challenge'!$D:$D,$N$2,'ETP Challenge'!$E:$E))/$Y$3 -> 2.9204675
C37: Obj 120% | D37: =(VLOOKUP($N$2,'CUMUL résultats semaine'!$A:$BL,7,0)/SUMIF('ETP Challenge'!$D:$D,$N$2,'ETP Challenge'!$E:$E))/6 -> 6.213705 | E37: =IF(ISNUMBER(D$38),(VLOOKUP($N$2,'CUMUL résultats semaine'!$A:$BL,16,0)/SUMIF('ETP Challenge'!$D:$D,$N$2,'ETP Challenge'!$E:$E))/5,D37) -> 5.9233449 | F37: =IF(ISNUMBER(E$20),(VLOOKUP($N$2,'CUMUL résultats semaine'!$A:$BL,25,0)/SUMIF('ETP Challenge'!$D:$D,$N$2,'ETP Challenge'!$E:$E))/4,E37) -> 7.3170732 | G37: =IF(ISNUMBER(F$20),(VLOOKUP($N$2,'CUMUL résultats semaine'!$A:$BL,34,0)/SUMIF('ETP Challenge'!$D:$D,$N$2,'ETP Challenge'!$E:$E))/3,F37) -> 7.3170732 | H37: =IF(ISNUMBER(G$20),(VLOOKUP($N$2,'CUMUL résultats semaine'!$A:$BL,43,0)/SUMIF('ETP Challenge'!$D:$D,$N$2,'ETP Challenge'!$E:$E))/2,G37) -> 7.3170732 | I37: =IF(ISNUMBER(H$20),(VLOOKUP($N$2,'CUMUL résultats semaine'!$A:$BL,52,0)/SUMIF('ETP Challenge'!$D:$D,$N$2,'ETP Challenge'!$E:$E)),H37) -> 7.3170732
C38: Réalis. / ETP | D38: =IF(ISNUMBER(VLOOKUP($N$2,'CUMUL résultats semaine'!A:BL,14,0)),(VLOOKUP($N$2,'CUMUL résultats semaine'!A:BL,14,0)-VLOOKUP($N$2,'CUMUL résultats semaine'!A:BL,5,0))/SUMIF('ETP Challenge'!$D:$D,$N$2,'ETP Challenge'!$E:$E),"-") -> 7.4192265 | E38: =IF(ISNUMBER(VLOOKUP($N$2,'CUMUL résultats semaine'!A:BL,23,0)),(VLOOKUP($N$2,'CUMUL résultats semaine'!A:BL,23,0)-VLOOKUP($N$2,'CUMUL résultats semaine'!A:BL,14,0))/SUMIF('ETP Challenge'!$D:$D,$N$2,'ETP Challenge'!$E:$E),"-") -> 0.47003484 | F38: =IF(ISNUMBER(VLOOKUP($N$2,'CUMUL résultats semaine'!A:BL,32,0)),(VLOOKUP($N$2,'CUMUL résultats semaine'!A:BL,32,0)-VLOOKUP($N$2,'CUMUL résultats semaine'!A:BL,23,0))/SUMIF('ETP Challenge'!$D:$D,$N$2,'ETP Challenge'!$E:$E),"-") -> - | G38: =IF(ISNUMBER(VLOOKUP($N$2,'CUMUL résultats semaine'!A:BL,41,0)),(VLOOKUP($N$2,'CUMUL résultats semaine'!A:BL,41,0)-VLOOKUP($N$2,'CUMUL résultats semaine'!A:BL,32,0))/SUMIF('ETP Challenge'!$D:$D,$N$2,'ETP Challenge'!$E:$E),"-") -> - | H38: =IF(ISNUMBER(VLOOKUP($N$2,'CUMUL résultats semaine'!A:BL,50,0)),(VLOOKUP($N$2,'CUMUL résultats semaine'!A:BL,50,0)-VLOOKUP($N$2,'CUMUL résultats semaine'!A:BL,41,0))/SUMIF('ETP Challenge'!$D:$D,$N$2,'ETP Challenge'!$E:$E),"-") -> - | I38: =IF(ISNUMBER(VLOOKUP($N$2,'CUMUL résultats semaine'!A:BL,59,0)),(VLOOKUP($N$2,'CUMUL résultats semaine'!A:BL,59,0)-VLOOKUP($N$2,'CUMUL résultats semaine'!A:BL,50,0))/SUMIF('ETP Challenge'!$D:$D,$N$2,'ETP Challenge'!$E:$E),"-") -> -
G44: MEILLEURE PERFORMANCE HEBDO EN 2020 :
K45: RANG BAROMETRE : | M45: =VLOOKUP($Y$4,'BAROM IZICARTES'!$E:$Z,7,0) -> 254 | P45: RANG BAROMETRE : | R45: =VLOOKUP($Y$4,'BAROM CARTES HDG'!$E:$Z,7,0) -> 163
K46: ECART AU 1ER : | M46: =VLOOKUP($Y$4,'BAROM IZICARTES'!$E:$Z,6,0) -> 0.96071458 | P46: ECART AU 1ER : | R46: =VLOOKUP($Y$4,'BAROM CARTES HDG'!$E:$Z,6,0) -> 0.83156823
G47: =ROUND(VLOOKUP(N2,'Meilleures perf'!C:G,5,0),1) & " contrats par ETP" -> 5,1 contrats par ETP
C49: =Y18& "%" -> 208,7%
D52: Reste à faire hebdo par ETP pour atteindre l'objectif
D53: S45 | E53: S46 | F53: S47 | G53: S48 | H53: S49 | I53: S50
C54: Obj 100% | D54: =(VLOOKUP($N$2,'CUMUL résultats semaine'!$A:$BL,9,0)/SUMIF('ETP Challenge'!$D:$D,$N$2,'ETP Challenge'!$E:$E))/6 -> 0 | E54: =IF(ISNUMBER(D$56),(VLOOKUP($N$2,'CUMUL résultats semaine'!$A:$BL,18,0)/SUMIF('ETP Challenge'!$D:$D,$N$2,'ETP Challenge'!$E:$E))/5,D54) -> 0 | F54: =IF(ISNUMBER(E$56),(VLOOKUP($N$2,'CUMUL résultats semaine'!$A:$BL,27,0)/SUMIF('ETP Challenge'!$D:$D,$N$2,'ETP Challenge'!$E:$E))/4,E54) -> 0 | G54: =IF(ISNUMBER(F$56),(VLOOKUP($N$2,'CUMUL résultats semaine'!$A:$BL,36,0)/SUMIF('ETP Challenge'!$D:$D,$N$2,'ETP Challenge'!$E:$E))/3,F54) -> 0 | H54: =IF(ISNUMBER(G$56),(VLOOKUP($N$2,'CUMUL résultats semaine'!$A:$BL,45,0)/SUMIF('ETP Challenge'!$D:$D,$N$2,'ETP Challenge'!$E:$E))/2,G54) -> 0 | I54: =IF(ISNUMBER(H$56),(VLOOKUP($N$2,'CUMUL résultats semaine'!$A:$BL,54,0)/SUMIF('ETP Challenge'!$D:$D,$N$2,'ETP Challenge'!$E:$E)),H54) -> 0
C55: Obj 120% | D55: =(VLOOKUP($N$2,'CUMUL résultats semaine'!$A:$BL,10,0)/SUMIF('ETP Challenge'!$D:$D,$N$2,'ETP Challenge'!$E:$E))/6 -> 0 | E55: =IF(ISNUMBER(D$56),(VLOOKUP($N$2,'CUMUL résultats semaine'!$A:$BL,19,0)/SUMIF('ETP Challenge'!$D:$D,$N$2,'ETP Challenge'!$E:$E))/5,D55) -> 0 | F55: =IF(ISNUMBER(E$56),(VLOOKUP($N$2,'CUMUL résultats semaine'!$A:$BL,28,0)/SUMIF('ETP Challenge'!$D:$D,$N$2,'ETP Challenge'!$E:$E))/4,E55) -> 0 | G55: =IF(ISNUMBER(F$56),(VLOOKUP($N$2,'CUMUL résultats semaine'!$A:$BL,37,0)/SUMIF('ETP Challenge'!$D:$D,$N$2,'ETP Challenge'!$E:$E))/3,F55) -> 0 | H55: =IF(ISNUMBER(G$56),(VLOOKUP($N$2,'CUMUL résultats semaine'!$A:$BL,46,0)/SUMIF('ETP Challenge'!$D:$D,$N$2,'ETP Challenge'!$E:$E))/2,G55) -> 0 | I55: =IF(ISNUMBER(H$56),(VLOOKUP($N$2,'CUMUL résultats semaine'!$A:$BL,55,0)/SUMIF('ETP Challenge'!$D:$D,$N$2,'ETP Challenge'!$E:$E)),H55) -> 0
C56: Réalis. / ETP | D56: =IF(ISNUMBER(VLOOKUP($N$2,'CUMUL résultats semaine'!A:BL,17,0)),(VLOOKUP($N$2,'CUMUL résultats semaine'!A:BL,17,0)-VLOOKUP($N$2,'CUMUL résultats semaine'!A:BL,8,0))/SUMIF('ETP Challenge'!$D:$D,$N$2,'ETP Challenge'!$E:$E),"-") -> 1.0452962 | E56: =IF(ISNUMBER(VLOOKUP($N$2,'CUMUL résultats semaine'!A:BL,26,0)),(VLOOKUP($N$2,'CUMUL résultats semaine'!A:BL,26,0)-VLOOKUP($N$2,'CUMUL résultats semaine'!A:BL,17,0))/SUMIF('ETP Challenge'!$D:$D,$N$2,'ETP Challenge'!$E:$E),"-") -> 0 | F56: =IF(ISNUMBER(VLOOKUP($N$2,'CUMUL résultats semaine'!A:BL,35,0)),(VLOOKUP($N$2,'CUMUL résultats semaine'!A:BL,35,0)-VLOOKUP($N$2,'CUMUL résultats semaine'!A:BL,26,0))/SUMIF('ETP Challenge'!$D:$D,$N$2,'ETP Challenge'!$E:$E),"-") -> - | G56: =IF(ISNUMBER(VLOOKUP($N$2,'CUMUL résultats semaine'!A:BL,44,0)),(VLOOKUP($N$2,'CUMUL résultats semaine'!A:BL,44,0)-VLOOKUP($N$2,'CUMUL résultats semaine'!A:BL,35,0))/SUMIF('ETP Challenge'!$D:$D,$N$2,'ETP Challenge'!$E:$E),"-") -> - | H56: =IF(ISNUMBER(VLOOKUP($N$2,'CUMUL résultats semaine'!A:BL,53,0)),(VLOOKUP($N$2,'CUMUL résultats semaine'!A:BL,53,0)-VLOOKUP($N$2,'CUMUL résultats semaine'!A:BL,44,0))/SUMIF('ETP Challenge'!$D:$D,$N$2,'ETP Challenge'!$E:$E),"-") -> - | I56: =IF(ISNUMBER(VLOOKUP($N$2,'CUMUL résultats semaine'!A:BL,62,0)),(VLOOKUP($N$2,'CUMUL résultats semaine'!A:BL,62,0)-VLOOKUP($N$2,'CUMUL résultats semaine'!A:BL,53,0))/SUMIF('ETP Challenge'!$D:$D,$N$2,'ETP Challenge'!$E:$E),"-") -> -

Sheet CUMUL résultats semaine
A1: 1 | B1: 2 | C1: 3 | D1: 4 | E1: 5 | F1: 6 | G1: 7 | H1: 8 | I1: 9 | J1: 10 | K1: 11 | L1: 12 | M1: 13 | N1: 14 | O1: 15 | P1: 16 | Q1: 17 | R1: 18 | S1: 19 | T1: 20 | U1: 21 | V1: 22 | W1: 23 | X1: 24 | Y1: 25 | Z1: 26 | AA1: 27 | AB1: 28 | AC1: 29 | AD1: 30 | AE1: 31 | AF1: 32 | AG1: 33 | AH1: 34 | AI1: 35 | AJ1: 36 | AK1: 37 | AL1: 38 | AM1: 39 | AN1: 40 | AO1: 41 | AP1: 42 | AQ1: 43 | AR1: 44 | AS1: 45 | AT1: 46 | AU1: 47 | AV1: 48 | AW1: 49 | AX1: 50 | AY1: 51 | AZ1: 52 | BA1: 53 | BB1: 54 | BC1: 55 | BD1: 56 | BE1: 57 | BF1: 58 | BG1: 59 | BH1: 60 | BI1: 61 | BJ1: 62 | BK1: 63 | BL1: 64
A2: AGENCES | B2: S0 PROD IARD | C2: S0 RAF IARD 100% | D2: S0 RAF IARD 120% | E2: S0 PROD CONSO | F2: S0 RAF CONSO 100% | G2: S0 RAF CONSO 120% | H2: S0 PROD FORF | I2: S0 RAF FORF 100% | J2: S0 RAF FORF 120% | K2: S45 PROD IARD | L2: S45 RAF IARD 100% | M2: S45 RAF IARD 120% | N2: S45 PROD CONSO | O2: S45 RAF CONSO 100% | P2: S45 RAF CONSO 120% | Q2: S45 PROD FORF | R2: S45 RAF FORF 100% | S2: S45 RAF FORF 120% | T2: S46 PROD IARD | U2: S46 RAF IARD 100% | V2: S46 RAF IARD 120% | W2: S46 PROD CONSO | X2: S46 RAF CONSO 100% | Y2: S46 RAF CONSO 120% | Z2: S46 PROD FORF | AA2: S46 RAF FORF 100% | AB2: S46 RAF FORF 120% | AC2: S47 PROD IARD | AD2: S47 RAF IARD 100% | AE2: S47 RAF IARD 120% | AF2: S47 PROD CONSO | AG2: S47 RAF CONSO 100% | AH2: S47 RAF CONSO 120% | AI2: S47 PROD FORF | AJ2: S47 RAF FORF 100% | AK2: S47 RAF FORF 120% | AL2: S48 PROD IARD | AM2: S48 RAF IARD 100% | AN2: S48 RAF IARD 120% | AO2: S48 PROD CONSO | AP2: S48 RAF CONSO 100% | AQ2: S48 RAF CONSO 120% | AR2: S48 PROD FORF | AS2: S48 RAF FORF 100% | AT2: S48 RAF FORF 120% | AU2: S49 PROD IARD | AV2: S49 RAF IARD 100% | AW2: S49 RAF IARD 120% | AX2: S49 PROD CONSO | AY2: S49 RAF CONSO 100% | AZ2: S49 RAF CONSO 120% | BA2: S49 PROD FORF | BB2: S49 RAF FORF 100% | BC2: S49 RAF FORF 120% | BD2: S50 PROD IARD | BE2: S50 RAF IARD 100% | BF2: S50 RAF IARD 120% | BG2: S50 PROD CONSO | BH2: S50 RAF CONSO 100% | BI2: S50 RAF CONSO 120% | BJ2: S50 PROD FORF | BK2: S50 RAF FORF 100% | BL2: S50 RAF FORF 120%
A3: BOURBONNE LES BAINS | B3: =VLOOKUP($A3,'S0 remplacer avec S44'!$C:$BQ,32,0) -> 116.1 | C3: =VLOOKUP($A3,'S0 remplacer avec S44'!$C:$BQ,39,0) -> 4 | D3: =VLOOKUP($A3,'S0 remplacer avec S44'!$C:$BQ,40,0) -> 28 | E3: =VLOOKUP($A3,'S0 remplacer avec S44'!$C:$BQ,22,0) -> 1524.2224 | F3: =VLOOKUP($A3,'S0 remplacer avec S44'!$C:$BQ,29,0) -> 0 | G3: =VLOOKUP($A3,'S0 remplacer avec S44'!$C:$BQ,30,0) -> 0 | H3: =VLOOKUP($A3,'S0 remplacer avec S44'!$C:$BQ,52,0) -> 65.4 | I3: =VLOOKUP($A3,'S0 remplacer avec S44'!$C:$BQ,59,0) -> 0 | J3: =VLOOKUP($A3,'S0 remplacer avec S44'!$C:$BQ,60,0) -> 8 | K3: =VLOOKUP($A3,'S45'!$C:$BQ,32,0) -> 122.1 | L3: =VLOOKUP($A3,'S45'!$C:$BQ,39,0) -> 0 | M3: =VLOOKUP($A3,'S45'!$C:$BQ,40,0) -> 22 | N3: =VLOOKUP($A3,'S45'!$C:$BQ,22,0) -> 1525.3704 | O3: =VLOOKUP($A3,'S45'!$C:$BQ,29,0) -> 0 | P3: =VLOOKUP($A3,'S45'!$C:$BQ,30,0) -> 0 | Q3: =VLOOKUP($A3,'S45'!$C:$BQ,52,0) -> 67.4 | R3: =VLOOKUP($A3,'S45'!$C:$BQ,59,0) -> 0 | S3: =VLOOKUP($A3,'S45'!$C:$BQ,60,0) -> 6 | T3: =VLOOKUP($A3,'S46'!$C:$BQ,32,0) -> 123.1 | U3: =VLOOKUP($A3,'S46'!$C:$BQ,39,0) -> 0 | V3: =VLOOKUP($A3,'S46'!$C:$BQ,40,0) -> 21 | W3: =VLOOKUP($A3,'S46'!$C:$BQ,22,0) -> 1546.0445 | X3: =VLOOKUP($A3,'S46'!$C:$BQ,29,0) -> 0 | Y3: =VLOOKUP($A3,'S46'!$C:$BQ,30,0) -> 0 | Z3: =VLOOKUP($A3,'S46'!$C:$BQ,52,0) -> 67.4 | AA3: =VLOOKUP($A3,'S46'!$C:$BQ,59,0) -> 0 | AB3: =VLOOKUP($A3,'S46'!$C:$BQ,60,0) -> 6 | AC3: =VLOOKUP($A3,'S47'!$C:$BQ,32,0) -> #N/A | AD3: =VLOOKUP($A3,'S47'!$C:$BQ,39,0) -> #N/A | AE3: =VLOOKUP($A3,'S47'!$C:$BQ,40,0) -> #N/A | AF3: =VLOOKUP($A3,'S47'!$C:$BQ,22,0) -> #N/A | AG3: =VLOOKUP($A3,'S47'!$C:$BQ,29,0) -> #N/A | AH3: =VLOOKUP($A3,'S47'!$C:$BQ,30,0) -> #N/A | AI3: =VLOOKUP($A3,'S47'!$C:$BQ,52,0) -> #N/A | AJ3: =VLOOKUP($A3,'S47'!$C:$BQ,59,0) -> #N/A | AK3: =VLOOKUP($A3,'S47'!$C:$BQ,60,0) -> #N/A | AL3: =VLOOKUP($A3,'S48'!$C:$BQ,32,0) -> #N/A | AM3: =VLOOKUP($A3,'S48'!$C:$BQ,39,0) -> #N/A | AN3: =VLOOKUP($A3,'S48'!$C:$BQ,40,0) -> #N/A | AO3: =VLOOKUP($A3,'S48'!$C:$BQ,22,0) -> #N/A | AP3: =VLOOKUP($A3,'S48'!$C:$BQ,29,0) -> #N/A | AQ3: =VLOOKUP($A3,'S48'!$C:$BQ,30,0) -> #N/A | AR3: =VLOOKUP($A3,'S48'!$C:$BQ,52,0) -> #N/A | AS3: =VLOOKUP($A3,'S48'!$C:$BQ,59,0) -> #N/A | AT3: =VLOOKUP($A3,'S48'!$C:$BQ,60,0) -> #N/A | AU3: =VLOOKUP($A3,'S49'!$C:$BQ,32,0) -> #N/A | AV3: =VLOOKUP($A3,'S49'!$C:$BQ,39,0) -> #N/A | AW3: =VLOOKUP($A3,'S49'!$C:$BQ,40,0) -> #N/A | AX3: =VLOOKUP($A3,'S49'!$C:$BQ,22,0) -> #N/A | AY3: =VLOOKUP($A3,'S49'!$C:$BQ,29,0) -> #N/A | AZ3: =VLOOKUP($A3,'S49'!$C:$BQ,30,0) -> #N/A | BA3: =VLOOKUP($A3,'S49'!$C:$BQ,52,0) -> #N/A | BB3: =VLOOKUP($A3,'S49'!$C:$BQ,59,0) -> #N/A | BC3: =VLOOKUP($A3,'S49'!$C:$BQ,60,0) -> #N/A | BD3: =VLOOKUP($A3,'S50'!$C:$BQ,32,0) -> #N/A | BE3: =VLOOKUP($A3,'S50'!$C:$BQ,39,0) -> #N/A | BF3: =VLOOKUP($A3,'S50'!$C:$BQ,40,0) -> #N/A | BG3: =VLOOKUP($A3,'S50'!$C:$BQ,22,0) -> #N/A | BH3: =VLOOKUP($A3,'S50'!$C:$BQ,29,0) -> #N/A | BI3: =VLOOKUP($A3,'S50'!$C:$BQ,30,0) -> #N/A | BJ3: =VLOOKUP($A3,'S50'!$C:$BQ,52,0) -> #N/A | BK3: =VLOOKUP($A3,'S50'!$C:$BQ,59,0) -> #N/A | BL3: =VLOOKUP($A3,'S50'!$C:$BQ,60,0) -> #N/A
A4: CHAUMONT HOTEL DE VILLE | B4: =VLOOKUP($A4,'S0 remplacer avec S44'!$C:$BQ,32,0) -> 462.15 | C4: =VLOOKUP($A4,'S0 remplacer avec S44'!$C:$BQ,39,0) -> 117 | D4: =VLOOKUP($A4,'S0 remplacer avec S44'!$C:$BQ,40,0) -> 233 | E4: =VLOOKUP($A4,'S0 remplacer avec S44'!$C:$BQ,22,0) -> 5969.4964 | F4: =VLOOKUP($A4,'S0 remplacer avec S44'!$C:$BQ,29,0) -> 0 | G4: =VLOOKUP($A4,'S0 remplacer avec S44'!$C:$BQ,30,0) -> 351 | H4: =VLOOKUP($A4,'S0 remplacer avec S44'!$C:$BQ,52,0) -> 382 | I4: =VLOOKUP($A4,'S0 remplacer avec S44'!$C:$BQ,59,0) -> 0 | J4: =VLOOKUP($A4,'S0 remplacer avec S44'!$C:$BQ,60,0) -> 0 | K4: =VLOOKUP($A4,'S45'!$C:$BQ,32,0) -> 474.35 | L4: =VLOOKUP($A4,'S45'!$C:$BQ,39,0) -> 105 | M4: =VLOOKUP($A4,'S45'!$C:$BQ,40,0) -> 221 | N4: =VLOOKUP($A4,'S45'!$C:$BQ,22,0) -> 5974.2011 | O4: =VLOOKUP($A4,'S45'!$C:$BQ,29,0) -> 0 | P4: =VLOOKUP($A4,'S45'!$C:$BQ,30,0) -> 346 | Q4: =VLOOKUP($A4,'S45'!$C:$BQ,52,0) -> 383 | R4: =VLOOKUP($A4,'S45'!$C:$BQ,59,0) -> 0 | S4: =VLOOKUP($A4,'S45'!$C:$BQ,60,0) -> 0 | T4: =VLOOKUP($A4,'S46'!$C:$BQ,32,0) -> 477.35 | U4: =VLOOKUP($A4,'S46'!$C:$BQ,39,0) -> 102 | V4: =VLOOKUP($A4,'S46'!$C:$BQ,40,0) -> 218 | W4: =VLOOKUP($A4,'S46'!$C:$BQ,22,0) -> 5980.6179 | X4: =VLOOKUP($A4,'S46'!$C:$BQ,29,0) -> 0 | Y4: =VLOOKUP($A4,'S46'!$C:$BQ,30,0) -> 340 | Z4: =VLOOKUP($A4,'S46'!$C:$BQ,52,0) -> 385 | AA4: =VLOOKUP($A4,'S46'!$C:$BQ,59,0) -> 0 | AB4: =VLOOKUP($A4,'S46'!$C:$BQ,60,0) -> 0 | AC4: =VLOOKUP($A4,'S47'!$C:$BQ,32,0) -> #N/A | AD4: =VLOOKUP($A4,'S47'!$C:$BQ,39,0) -> #N/A | AE4: =VLOOKUP($A4,'S47'!$C:$BQ,40,0) -> #N/A | AF4: =VLOOKUP($A4,'S47'!$C:$BQ,22,0) -> #N/A | AG4: =VLOOKUP($A4,'S47'!$C:$BQ,29,0) -> #N/A | AH4: =VLOOKUP($A4,'S47'!$C:$BQ,30,0) -> #N/A | AI4: =VLOOKUP($A4,'S47'!$C:$BQ,52,0) -> #N/A | AJ4: =VLOOKUP($A4,'S47'!$C:$BQ,59,0) -> #N/A | AK4: =VLOOKUP($A4,'S47'!$C:$BQ,60,0) -> #N/A | AL4: =VLOOKUP($A4,'S48'!$C:$BQ,32,0) -> #N/A | AM4: =VLOOKUP($A4,'S48'!$C:$BQ,39,0) -> #N/A | AN4: =VLOOKUP($A4,'S48'!$C:$BQ,40,0) -> #N/A | AO4: =VLOOKUP($A4,'S48'!$C:$BQ,22,0) -> #N/A | AP4: =VLOOKUP($A4,'S48'!$C:$BQ,29,0) -> #N/A | AQ4: =VLOOKUP($A4,'S48'!$C:$BQ,30,0) -> #N/A | AR4: =VLOOKUP($A4,'S48'!$C:$BQ,52,0) -> #N/A | AS4: =VLOOKUP($A4,'S48'!$C:$BQ,59,0) -> #N/A | AT4: =VLOOKUP($A4,'S48'!$C:$BQ,60,0) -> #N/A | AU4: =VLOOKUP($A4,'S49'!$C:$BQ,32,0) -> #N/A | AV4: =VLOOKUP($A4,'S49'!$C:$BQ,39,0) -> #N/A | AW4: =VLOOKUP($A4,'S49'!$C:$BQ,40,0) -> #N/A | AX4: =VLOOKUP($A4,'S49'!$C:$BQ,22,0) -> #N/A | AY4: =VLOOKUP($A4,'S49'!$C:$BQ,29,0) -> #N/A | AZ4: =VLOOKUP($A4,'S49'!$C:$BQ,30,0) -> #N/A | BA4: =VLOOKUP($A4,'S49'!$C:$BQ,52,0) -> #N/A | BB4: =VLOOKUP($A4,'S49'!$C:$BQ,59,0) -> #N/A | BC4: =VLOOKUP($A4,'S49'!$C:$BQ,60,0) -> #N/A | BD4: =VLOOKUP($A4,'S50'!$C:$BQ,32,0) -> #N/A | BE4: =VLOOKUP($A4,'S50'!$C:$BQ,39,0) -> #N/A | BF4: =VLOOKUP($A4,'S50'!$C:$BQ,40,0) -> #N/A | BG4: =VLOOKUP($A4,'S50'!$C:$BQ,22,0) -> #N/A | BH4: =VLOOKUP($A4,'S50'!$C:$BQ,29,0) -> #N/A | BI4: =VLOOKUP($A4,'S50'!$C:$BQ,30,0) -> #N/A | BJ4: =VLOOKUP($A4,'S50'!$C:$BQ,52,0) -> #N/A | BK4: =VLOOKUP($A4,'S50'!$C:$BQ,59,0) -> #N/A | BL4: =VLOOKUP($A4,'S50'!$C:$BQ,60,0) -> #N/A
A5: CHAUMONT REPUBLIQUE | B5: =VLOOKUP($A5,'S0 remplacer avec S44'!$C:$BQ,32,0) -> 105.85 | C5: =VLOOKUP($A5,'S0 remplacer avec S44'!$C:$BQ,39,0) -> 47 | D5: =VLOOKUP($A5,'S0 remplacer avec S44'!$C:$BQ,40,0) -> 77 | E5: =VLOOKUP($A5,'S0 remplacer avec S44'!$C:$BQ,22,0) -> 2180.341 | F5: =VLOOKUP($A5,'S0 remplacer avec S44'!$C:$BQ,29,0) -> 0 | G5: =VLOOKUP($A5,'S0 remplacer avec S44'!$C:$BQ,30,0) -> 0 | H5: =VLOOKUP($A5,'S0 remplacer avec S44'!$C:$BQ,52,0) -> 105.8 | I5: =VLOOKUP($A5,'S0 remplacer avec S44'!$C:$BQ,59,0) -> 0 | J5: =VLOOKUP($A5,'S0 remplacer avec S44'!$C:$BQ,60,0) -> 0 | K5: =VLOOKUP($A5,'S45'!$C:$BQ,32,0) -> 112.85 | L5: =VLOOKUP($A5,'S45'!$C:$BQ,39,0) -> 40 | M5: =VLOOKUP($A5,'S45'!$C:$BQ,40,0) -> 70 | N5: =VLOOKUP($A5,'S45'!$C:$BQ,22,0) -> 2252.5861 | O5: =VLOOKUP($A5,'S45'!$C:$BQ,29,0) -> 0 | P5: =VLOOKUP($A5,'S45'!$C:$BQ,30,0) -> 0 | Q5: =VLOOKUP($A5,'S45'!$C:$BQ,52,0) -> 113.8 | R5: =VLOOKUP($A5,'S45'!$C:$BQ,59,0) -> 0 | S5: =VLOOKUP($A5,'S45'!$C:$BQ,60,0) -> 0 | T5: =VLOOKUP($A5,'S46'!$C:$BQ,32,0) -> 113.35 | U5: =VLOOKUP($A5,'S46'!$C:$BQ,39,0) -> 39 | V5: =VLOOKUP($A5,'S46'!$C:$BQ,40,0) -> 70 | W5: =VLOOKUP($A5,'S46'!$C:$BQ,22,0) -> 2253.0179 | X5: =VLOOKUP($A5,'S46'!$C:$BQ,29,0) -> 0 | Y5: =VLOOKUP($A5,'S46'!$C:$BQ,30,0) -> 0 | Z5: =VLOOKUP($A5,'S46'!$C:$BQ,52,0) -> 114.8 | AA5: =VLOOKUP($A5,'S46'!$C:$BQ,59,0) -> 0 | AB5: =VLOOKUP($A5,'S46'!$C:$BQ,60,0) -> 0 | AC5: =VLOOKUP($A5,'S47'!$C:$BQ,32,0) -> #N/A | AD5: =VLOOKUP($A5,'S47'!$C:$BQ,39,0) -> #N/A | AE5: =VLOOKUP($A5,'S47'!$C:$BQ,40,0) -> #N/A | AF5: =VLOOKUP($A5,'S47'!$C:$BQ,22,0) -> #N/A | AG5: =VLOOKUP($A5,'S47'!$C:$BQ,29,0) -> #N/A | AH5: =VLOOKUP($A5,'S47'!$C:$BQ,30,0) -> #N/A | AI5: =VLOOKUP($A5,'S47'!$C:$BQ,52,0) -> #N/A | AJ5: =VLOOKUP($A5,'S47'!$C:$BQ,59,0) -> #N/A | AK5: =VLOOKUP($A5,'S47'!$C:$BQ,60,0) -> #N/A | AL5: =VLOOKUP($A5,'S48'!$C:$BQ,32,0) -> #N/A | AM5: =VLOOKUP($A5,'S48'!$C:$BQ,39,0) -> #N/A | AN5: =VLOOKUP($A5,'S48'!$C:$BQ,40,0) -> #N/A | AO5: =VLOOKUP($A5,'S48'!$C:$BQ,22,0) -> #N/A | AP5: =VLOOKUP($A5,'S48'!$C:$BQ,29,0) -> #N/A | AQ5: =VLOOKUP($A5,'S48'!$C:$BQ,30,0) -> #N/A | AR5: =VLOOKUP($A5,'S48'!$C:$BQ,52,0) -> #N/A | AS5: =VLOOKUP($A5,'S48'!$C:$BQ,59,0) -> #N/A | AT5: =VLOOKUP($A5,'S48'!$C:$BQ,60,0) -> #N/A | AU5: =VLOOKUP($A5,'S49'!$C:$BQ,32,0) -> #N/A | AV5: =VLOOKUP($A5,'S49'!$C:$BQ,39,0) -> #N/A | AW5: =VLOOKUP($A5,'S49'!$C:$BQ,40,0) -> #N/A | AX5: =VLOOKUP($A5,'S49'!$C:$BQ,22,0) -> #N/A | AY5: =VLOOKUP($A5,'S49'!$C:$BQ,29,0) -> #N/A | AZ5: =VLOOKUP($A5,'S49'!$C:$BQ,30,0) -> #N/A | BA5: =VLOOKUP($A5,'S49'!$C:$BQ,52,0) -> #N/A | BB5: =VLOOKUP($A5,'S49'!$C:$BQ,59,0) -> #N/A | BC5: =VLOOKUP($A5,'S49'!$C:$BQ,60,0) -> #N/A | BD5: =VLOOKUP($A5,'S50'!$C:$BQ,32,0) -> #N/A | BE5: =VLOOKUP($A5,'S50'!$C:$BQ,39,0) -> #N/A | BF5: =VLOOKUP($A5,'S50'!$C:$BQ,40,0) -> #N/A | BG5: =VLOOKUP($A5,'S50'!$C:$BQ,22,0) -> #N/A | BH5: =VLOOKUP($A5,'S50'!$C:$BQ,29,0) -> #N/A | BI5: =VLOOKUP($A5,'S50'!$C:$BQ,30,0) -> #N/A | BJ5: =VLOOKUP($A5,'S50'!$C:$BQ,52,0) -> #N/A | BK5: =VLOOKUP($A5,'S50'!$C:$BQ,59,0) -> #N/A | BL5: =VLOOKUP($A5,'S50'!$C:$BQ,60,0) -> #N/A
A6: JOINVILLE | B6: =VLOOKUP($A6,'S0 remplacer avec S44'!$C:$BQ,32,0) -> 97 | C6: =VLOOKUP($A6,'S0 remplacer avec S44'!$C:$BQ,39,0) -> 81 | D6: =VLOOKUP($A6,'S0 remplacer avec S44'!$C:$BQ,40,0) -> 116 | E6: =VLOOKUP($A6,'S0 remplacer avec S44'!$C:$BQ,22,0) -> 1494.4234 | F6: =VLOOKUP($A6,'S0 remplacer avec S44'!$C:$BQ,29,0) -> 119 | G6: =VLOOKUP($A6,'S0 remplacer avec S44'!$C:$BQ,30,0) -> 442 | H6: =VLOOKUP($A6,'S0 remplacer avec S44'!$C:$BQ,52,0) -> 81 | I6: =VLOOKUP($A6,'S0 remplacer avec S44'!$C:$BQ,59,0) -> 10 | J6: =VLOOKUP($A6,'S0 remplacer avec S44'!$C:$BQ,60,0) -> 28 | K6: =VLOOKUP($A6,'S45'!$C:$BQ,32,0) -> 100 | L6: =VLOOKUP($A6,'S45'!$C:$BQ,39,0) -> 78 | M6: =VLOOKUP($A6,'S45'!$C:$BQ,40,0) -> 113 | N6: =VLOOKUP($A6,'S45'!$C:$BQ,22,0) -> 1515.4834 | O6: =VLOOKUP($A6,'S45'!$C:$BQ,29,0) -> 98 | P6: =VLOOKUP($A6,'S45'!$C:$BQ,30,0) -> 421 | Q6: =VLOOKUP($A6,'S45'!$C:$BQ,52,0) -> 83 | R6: =VLOOKUP($A6,'S45'!$C:$BQ,59,0) -> 8 | S6: =VLOOKUP($A6,'S45'!$C:$BQ,60,0) -> 26 | T6: =VLOOKUP($A6,'S46'!$C:$BQ,32,0) -> 100.5 | U6: =VLOOKUP($A6,'S46'!$C:$BQ,39,0) -> 77 | V6: =VLOOKUP($A6,'S46'!$C:$BQ,40,0) -> 113 | W6: =VLOOKUP($A6,'S46'!$C:$BQ,22,0) -> 1516.0709 | X6: =VLOOKUP($A6,'S46'!$C:$BQ,29,0) -> 98 | Y6: =VLOOKUP($A6,'S46'!$C:$BQ,30,0) -> 420 | Z6: =VLOOKUP($A6,'S46'!$C:$BQ,52,0) -> 83 | AA6: =VLOOKUP($A6,'S46'!$C:$BQ,59,0) -> 8 | AB6: =VLOOKUP($A6,'S46'!$C:$BQ,60,0) -> 26 | AC6: =VLOOKUP($A6,'S47'!$C:$BQ,32,0) -> #N/A | AD6: =VLOOKUP($A6,'S47'!$C:$BQ,39,0) -> #N/A | AE6: =VLOOKUP($A6,'S47'!$C:$BQ,40,0) -> #N/A | AF6: =VLOOKUP($A6,'S47'!$C:$BQ,22,0) -> #N/A | AG6: =VLOOKUP($A6,'S47'!$C:$BQ,29,0) -> #N/A | AH6: =VLOOKUP($A6,'S47'!$C:$BQ,30,0) -> #N/A | AI6: =VLOOKUP($A6,'S47'!$C:$BQ,52,0) -> #N/A | AJ6: =VLOOKUP($A6,'S47'!$C:$BQ,59,0) -> #N/A | AK6: =VLOOKUP($A6,'S47'!$C:$BQ,60,0) -> #N/A | AL6: =VLOOKUP($A6,'S48'!$C:$BQ,32,0) -> #N/A | AM6: =VLOOKUP($A6,'S48'!$C:$BQ,39,0) -> #N/A | AN6: =VLOOKUP($A6,'S48'!$C:$BQ,40,0) -> #N/A | AO6: =VLOOKUP($A6,'S48'!$C:$BQ,22,0) -> #N/A | AP6: =VLOOKUP($A6,'S48'!$C:$BQ,29,0) -> #N/A | AQ6: =VLOOKUP($A6,'S48'!$C:$BQ,30,0) -> #N/A | AR6: =VLOOKUP($A6,'S48'!$C:$BQ,52,0) -> #N/A | AS6: =VLOOKUP($A6,'S48'!$C:$BQ,59,0) -> #N/A | AT6: =VLOOKUP($A6,'S48'!$C:$BQ,60,0) -> #N/A | AU6: =VLOOKUP($A6,'S49'!$C:$BQ,32,0) -> #N/A | AV6: =VLOOKUP($A6,'S49'!$C:$BQ,39,0) -> #N/A | AW6: =VLOOKUP($A6,'S49'!$C:$BQ,40,0) -> #N/A | AX6: =VLOOKUP($A6,'S49'!$C:$BQ,22,0) -> #N/A | AY6: =VLOOKUP($A6,'S49'!$C:$BQ,29,0) -> #N/A | AZ6: =VLOOKUP($A6,'S49'!$C:$BQ,30,0) -> #N/A | BA6: =VLOOKUP($A6,'S49'!$C:$BQ,52,0) -> #N/A | BB6: =VLOOKUP($A6,'S49'!$C:$BQ,59,0) -> #N/A | BC6: =VLOOKUP($A6,'S49'!$C:$BQ,60,0) -> #N/A | BD6: =VLOOKUP($A6,'S50'!$C:$BQ,32,0) -> #N/A | BE6: =VLOOKUP($A6,'S50'!$C:$BQ,39,0) -> #N/A | BF6: =VLOOKUP($A6,'S50'!$C:$BQ,40,0) -> #N/A | BG6: =VLOOKUP($A6,'S50'!$C:$BQ,22,0) -> #N/A | BH6: =VLOOKUP($A6,'S50'!$C:$BQ,29,0) -> #N/A | BI6: =VLOOKUP($A6,'S50'!$C:$BQ,30,0) -> #N/A | BJ6: =VLOOKUP($A6,'S50'!$C:$BQ,52,0) -> #N/A | BK6: =VLOOKUP($A6,'S50'!$C:$BQ,59,0) -> #N/A | BL6: =VLOOKUP($A6,'S50'!$C:$BQ,60,0) -> #N/A
A7: LANGRES | B7: =VLOOKUP($A7,'S0 remplacer avec S44'!$C:$BQ,32,0) -> 409.2 | C7: =VLOOKUP($A7,'S0 remplacer avec S44'!$C:$BQ,39,0) -> 12 | D7: =VLOOKUP($A7,'S0 remplacer avec S44'!$C:$BQ,40,0) -> 96 | E7: =VLOOKUP($A7,'S0 remplacer avec S44'!$C:$BQ,22,0) -> 4900.5916 | F7: =VLOOKUP($A7,'S0 remplacer avec S44'!$C:$BQ,29,0) -> 0 | G7: =VLOOKUP($A7,'S0 remplacer avec S44'!$C:$BQ,30,0) -> 0 | H7: =VLOOKUP($A7,'S0 remplacer avec S44'!$C:$BQ,52,0) -> 235.8 | I7: =VLOOKUP($A7,'S0 remplacer avec S44'!$C:$BQ,59,0) -> 0 | J7: =VLOOKUP($A7,'S0 remplacer avec S44'!$C:$BQ,60,0) -> 21 | K7: =VLOOKUP($A7,'S45'!$C:$BQ,32,0) -> 421.3 | L7: =VLOOKUP($A7,'S45'!$C:$BQ,39,0) -> 0 | M7: =VLOOKUP($A7,'S45'!$C:$BQ,40,0) -> 84 | N7: =VLOOKUP($A7,'S45'!$C:$BQ,22,0) -> 4923.2164 | O7: =VLOOKUP($A7,'S45'!$C:$BQ,29,0) -> 0 | P7: =VLOOKUP($A7,'S45'!$C:$BQ,30,0) -> 0 | Q7: =VLOOKUP($A7,'S45'!$C:$BQ,52,0) -> 237.8 | R7: =VLOOKUP($A7,'S45'!$C:$BQ,59,0) -> 0 | S7: =VLOOKUP($A7,'S45'!$C:$BQ,60,0) -> 19 | T7: =VLOOKUP($A7,'S46'!$C:$BQ,32,0) -> 420.8 | U7: =VLOOKUP($A7,'S46'!$C:$BQ,39,0) -> 0 | V7: =VLOOKUP($A7,'S46'!$C:$BQ,40,0) -> 85 | W7: =VLOOKUP($A7,'S46'!$C:$BQ,22,0) -> 4929.0041 | X7: =VLOOKUP($A7,'S46'!$C:$BQ,29,0) -> 0 | Y7: =VLOOKUP($A7,'S46'!$C:$BQ,30,0) -> 0 | Z7: =VLOOKUP($A7,'S46'!$C:$BQ,52,0) -> 237.8 | AA7: =VLOOKUP($A7,'S46'!$C:$BQ,59,0) -> 0 | AB7: =VLOOKUP($A7,'S46'!$C:$BQ,60,0) -> 19 | AC7: =VLOOKUP($A7,'S47'!$C:$BQ,32,0) -> #N/A | AD7: =VLOOKUP($A7,'S47'!$C:$BQ,39,0) -> #N/A | AE7: =VLOOKUP($A7,'S47'!$C:$BQ,40,0) -> #N/A | AF7: =VLOOKUP($A7,'S47'!$C:$BQ,22,0) -> #N/A | AG7: =VLOOKUP($A7,'S47'!$C:$BQ,29,0) -> #N/A | AH7: =VLOOKUP($A7,'S47'!$C:$BQ,30,0) -> #N/A | AI7: =VLOOKUP($A7,'S47'!$C:$BQ,52,0) -> #N/A | AJ7: =VLOOKUP($A7,'S47'!$C:$BQ,59,0) -> #N/A | AK7: =VLOOKUP($A7,'S47'!$C:$BQ,60,0) -> #N/A | AL7: =VLOOKUP($A7,'S48'!$C:$BQ,32,0) -> #N/A | AM7: =VLOOKUP($A7,'S48'!$C:$BQ,39,0) -> #N/A | AN7: =VLOOKUP($A7,'S48'!$C:$BQ,40,0) -> #N/A | AO7: =VLOOKUP($A7,'S48'!$C:$BQ,22,0) -> #N/A | AP7: =VLOOKUP($A7,'S48'!$C:$BQ,29,0) -> #N/A | AQ7: =VLOOKUP($A7,'S48'!$C:$BQ,30,0) -> #N/A | AR7: =VLOOKUP($A7,'S48'!$C:$BQ,52,0) -> #N/A | AS7: =VLOOKUP($A7,'S48'!$C:$BQ,59,0) -> #N/A | AT7: =VLOOKUP($A7,'S48'!$C:$BQ,60,0) -> #N/A | AU7: =VLOOKUP($A7,'S49'!$C:$BQ,32,0) -> #N/A | AV7: =VLOOKUP($A7,'S49'!$C:$BQ,39,0) -> #N/A | AW7: =VLOOKUP($A7,'S49'!$C:$BQ,40,0) -> #N/A | AX7: =VLOOKUP($A7,'S49'!$C:$BQ,22,0) -> #N/A | AY7: =VLOOKUP($A7,'S49'!$C:$BQ,29,0) -> #N/A | AZ7: =VLOOKUP($A7,'S49'!$C:$BQ,30,0) -> #N/A | BA7: =VLOOKUP($A7,'S49'!$C:$BQ,52,0) -> #N/A | BB7: =VLOOKUP($A7,'S49'!$C:$BQ,59,0) -> #N/A | BC7: =VLOOKUP($A7,'S49'!$C:$BQ,60,0) -> #N/A | BD7: =VLOOKUP($A7,'S50'!$C:$BQ,32,0) -> #N/A | BE7: =VLOOKUP($A7,'S50'!$C:$BQ,39,0) -> #N/A | BF7: =VLOOKUP($A7,'S50'!$C:$BQ,40,0) -> #N/A | BG7: =VLOOKUP($A7,'S50'!$C:$BQ,22,0) -> #N/A | BH7: =VLOOKUP($A7,'S50'!$C:$BQ,29,0) -> #N/A | BI7: =VLOOKUP($A7,'S50'!$C:$BQ,30,0) -> #N/A | BJ7: =VLOOKUP($A7,'S50'!$C:$BQ,52,0) -> #N/A | BK7: =VLOOKUP($A7,'S50'!$C:$BQ,59,0) -> #N/A | BL7: =VLOOKUP($A7,'S50'!$C:$BQ,60,0) -> #N/A
A8: NOGENT | B8: =VLOOKUP($A8,'S0 remplacer avec S44'!$C:$BQ,32,0) -> 128.5 | C8: =VLOOKUP($A8,'S0 remplacer avec S44'!$C:$BQ,39,0) -> 3 | D8: =VLOOKUP($A8,'S0 remplacer avec S44'!$C:$BQ,40,0) -> 29 | E8: =VLOOKUP($A8,'S0 remplacer avec S44'!$C:$BQ,22,0) -> 1241.1084 | F8: =VLOOKUP($A8,'S0 remplacer avec S44'!$C:$BQ,29,0) -> 0 | G8: =VLOOKUP($A8,'S0 remplacer avec S44'!$C:$BQ,30,0) -> 189 | H8: =VLOOKUP($A8,'S0 remplacer avec S44'!$C:$BQ,52,0) -> 81.8 | I8: =VLOOKUP($A8,'S0 remplacer avec S44'!$C:$BQ,59,0) -> 0 | J8: =VLOOKUP($A8,'S0 remplacer avec S44'!$C:$BQ,60,0) -> 0 | K8: =VLOOKUP($A8,'S45'!$C:$BQ,32,0) -> 131.5 | L8: =VLOOKUP($A8,'S45'!$C:$BQ,39,0) -> 0 | M8: =VLOOKUP($A8,'S45'!$C:$BQ,40,0) -> 26 | N8: =VLOOKUP($A8,'S45'!$C:$BQ,22,0) -> 1242.1526 | O8: =VLOOKUP($A8,'S45'!$C:$BQ,29,0) -> 0 | P8: =VLOOKUP($A8,'S45'!$C:$BQ,30,0) -> 188 | Q8: =VLOOKUP($A8,'S45'!$C:$BQ,52,0) -> 81.8 | R8: =VLOOKUP($A8,'S45'!$C:$BQ,59,0) -> 0 | S8: =VLOOKUP($A8,'S45'!$C:$BQ,60,0) -> 0 | T8: =VLOOKUP($A8,'S46'!$C:$BQ,32,0) -> 131.5 | U8: =VLOOKUP($A8,'S46'!$C:$BQ,39,0) -> 0 | V8: =VLOOKUP($A8,'S46'!$C:$BQ,40,0) -> 26 | W8: =VLOOKUP($A8,'S46'!$C:$BQ,22,0) -> 1245.622 | X8: =VLOOKUP($A8,'S46'!$C:$BQ,29,0) -> 0 | Y8: =VLOOKUP($A8,'S46'!$C:$BQ,30,0) -> 184 | Z8: =VLOOKUP($A8,'S46'!$C:$BQ,52,0) -> 81.8 | AA8: =VLOOKUP($A8,'S46'!$C:$BQ,59,0) -> 0 | AB8: =VLOOKUP($A8,'S46'!$C:$BQ,60,0) -> 0 | AC8: =VLOOKUP($A8,'S47'!$C:$BQ,32,0) -> #N/A | AD8: =VLOOKUP($A8,'S47'!$C:$BQ,39,0) -> #N/A | AE8: =VLOOKUP($A8,'S47'!$C:$BQ,40,0) -> #N/A | AF8: =VLOOKUP($A8,'S47'!$C:$BQ,22,0) -> #N/A | AG8: =VLOOKUP($A8,'S47'!$C:$BQ,29,0) -> #N/A | AH8: =VLOOKUP($A8,'S47'!$C:$BQ,30,0) -> #N/A | AI8: =VLOOKUP($A8,'S47'!$C:$BQ,52,0) -> #N/A | AJ8: =VLOOKUP($A8,'S47'!$C:$BQ,59,0) -> #N/A | AK8: =VLOOKUP($A8,'S47'!$C:$BQ,60,0) -> #N/A | AL8: =VLOOKUP($A8,'S48'!$C:$BQ,32,0) -> #N/A | AM8: =VLOOKUP($A8,'S48'!$C:$BQ,39,0) -> #N/A | AN8: =VLOOKUP($A8,'S48'!$C:$BQ,40,0) -> #N/A | AO8: =VLOOKUP($A8,'S48'!$C:$BQ,22,0) -> #N/A | AP8: =VLOOKUP($A8,'S48'!$C:$BQ,29,0) -> #N/A | AQ8: =VLOOKUP($A8,'S48'!$C:$BQ,30,0) -> #N/A | AR8: =VLOOKUP($A8,'S48'!$C:$BQ,52,0) -> #N/A | AS8: =VLOOKUP($A8,'S48'!$C:$BQ,59,0) -> #N/A | AT8: =VLOOKUP($A8,'S48'!$C:$BQ,60,0) -> #N/A | AU8: =VLOOKUP($A8,'S49'!$C:$BQ,32,0) -> #N/A | AV8: =VLOOKUP($A8,'S49'!$C:$BQ,39,0) -> #N/A | AW8: =VLOOKUP($A8,'S49'!$C:$BQ,40,0) -> #N/A | AX8: =VLOOKUP($A8,'S49'!$C:$BQ,22,0) -> #N/A | AY8: =VLOOKUP($A8,'S49'!$C:$BQ,29,0) -> #N/A | AZ8: =VLOOKUP($A8,'S49'!$C:$BQ,30,0) -> #N/A | BA8: =VLOOKUP($A8,'S49'!$C:$BQ,52,0) -> #N/A | BB8: =VLOOKUP($A8,'S49'!$C:$BQ,59,0) -> #N/A | BC8: =VLOOKUP($A8,'S49'!$C:$BQ,60,0) -> #N/A | BD8: =VLOOKUP($A8,'S50'!$C:$BQ,32,0) -> #N/A | BE8: =VLOOKUP($A8,'S50'!$C:$BQ,39,0) -> #N/A | BF8: =VLOOKUP($A8,'S50'!$C:$BQ,40,0) -> #N/A | BG8: =VLOOKUP($A8,'S50'!$C:$BQ,22,0) -> #N/A | BH8: =VLOOKUP($A8,'S50'!$C:$BQ,29,0) -> #N/A | BI8: =VLOOKUP($A8,'S50'!$C:$BQ,30,0) -> #N/A | BJ8: =VLOOKUP($A8,'S50'!$C:$BQ,52,0) -> #N/A | BK8: =VLOOKUP($A8,'S50'!$C:$BQ,59,0) -> #N/A | BL8: =VLOOKUP($A8,'S50'!$C:$BQ,60,0) -> #N/A
A9: SAINT DIZIER CENTRE | B9: =VLOOKUP($A9,'S0 remplacer avec S44'!$C:$BQ,32,0) -> 307.4 | C9: =VLOOKUP($A9,'S0 remplacer avec S44'!$C:$BQ,39,0) -> 34 | D9: =VLOOKUP($A9,'S0 remplacer avec S44'!$C:$BQ,40,0) -> 103 | E9: =VLOOKUP($A9,'S0 remplacer avec S44'!$C:$BQ,22,0) -> 3204.6096 | F9: =VLOOKUP($A9,'S0 remplacer avec S44'!$C:$BQ,29,0) -> 0 | G9: =VLOOKUP($A9,'S0 remplacer avec S44'!$C:$BQ,30,0) -> 520 | H9: =VLOOKUP($A9,'S0 remplacer avec S44'!$C:$BQ,52,0) -> 202.2 | I9: =VLOOKUP($A9,'S0 remplacer avec S44'!$C:$BQ,59,0) -> 0 | J9: =VLOOKUP($A9,'S0 remplacer avec S44'!$C:$BQ,60,0) -> 6 | K9: =VLOOKUP($A9,'S45'!$C:$BQ,32,0) -> 326.9 | L9: =VLOOKUP($A9,'S45'!$C:$BQ,39,0) -> 15 | M9: =VLOOKUP($A9,'S45'!$C:$BQ,40,0) -> 83 | N9: =VLOOKUP($A9,'S45'!$C:$BQ,22,0) -> 3189.5225 | O9: =VLOOKUP($A9,'S45'!$C:$BQ,29,0) -> 0 | P9: =VLOOKUP($A9,'S45'!$C:$BQ,30,0) -> 535 | Q9: =VLOOKUP($A9,'S45'!$C:$BQ,52,0) -> 206.2 | R9: =VLOOKUP($A9,'S45'!$C:$BQ,59,0) -> 0 | S9: =VLOOKUP($A9,'S45'!$C:$BQ,60,0) -> 2 | T9: =VLOOKUP($A9,'S46'!$C:$BQ,32,0) -> 324.1 | U9: =VLOOKUP($A9,'S46'!$C:$BQ,39,0) -> 18 | V9: =VLOOKUP($A9,'S46'!$C:$BQ,40,0) -> 86 | W9: =VLOOKUP($A9,'S46'!$C:$BQ,22,0) -> 3205.5743 | X9: =VLOOKUP($A9,'S46'!$C:$BQ,29,0) -> 0 | Y9: =VLOOKUP($A9,'S46'!$C:$BQ,30,0) -> 519 | Z9: =VLOOKUP($A9,'S46'!$C:$BQ,52,0) -> 210.2 | AA9: =VLOOKUP($A9,'S46'!$C:$BQ,59,0) -> 0 | AB9: =VLOOKUP($A9,'S46'!$C:$BQ,60,0) -> 0 | AC9: =VLOOKUP($A9,'S47'!$C:$BQ,32,0) -> #N/A | AD9: =VLOOKUP($A9,'S47'!$C:$BQ,39,0) -> #N/A | AE9: =VLOOKUP($A9,'S47'!$C:$BQ,40,0) -> #N/A | AF9: =VLOOKUP($A9,'S47'!$C:$BQ,22,0) -> #N/A | AG9: =VLOOKUP($A9,'S47'!$C:$BQ,29,0) -> #N/A | AH9: =VLOOKUP($A9,'S47'!$C:$BQ,30,0) -> #N/A | AI9: =VLOOKUP($A9,'S47'!$C:$BQ,52,0) -> #N/A | AJ9: =VLOOKUP($A9,'S47'!$C:$BQ,59,0) -> #N/A | AK9: =VLOOKUP($A9,'S47'!$C:$BQ,60,0) -> #N/A | AL9: =VLOOKUP($A9,'S48'!$C:$BQ,32,0) -> #N/A | AM9: =VLOOKUP($A9,'S48'!$C:$BQ,39,0) -> #N/A | AN9: =VLOOKUP($A9,'S48'!$C:$BQ,40,0) -> #N/A | AO9: =VLOOKUP($A9,'S48'!$C:$BQ,22,0) -> #N/A | AP9: =VLOOKUP($A9,'S48'!$C:$BQ,29,0) -> #N/A | AQ9: =VLOOKUP($A9,'S48'!$C:$BQ,30,0) -> #N/A | AR9: =VLOOKUP($A9,'S48'!$C:$BQ,52,0) -> #N/A | AS9: =VLOOKUP($A9,'S48'!$C:$BQ,59,0) -> #N/A | AT9: =VLOOKUP($A9,'S48'!$C:$BQ,60,0) -> #N/A | AU9: =VLOOKUP($A9,'S49'!$C:$BQ,32,0) -> #N/A | AV9: =VLOOKUP($A9,'S49'!$C:$BQ,39,0) -> #N/A | AW9: =VLOOKUP($A9,'S49'!$C:$BQ,40,0) -> #N/A | AX9: =VLOOKUP($A9,'S49'!$C:$BQ,22,0) -> #N/A | AY9: =VLOOKUP($A9,'S49'!$C:$BQ,29,0) -> #N/A | AZ9: =VLOOKUP($A9,'S49'!$C:$BQ,30,0) -> #N/A | BA9: =VLOOKUP($A9,'S49'!$C:$BQ,52,0) -> #N/A | BB9: =VLOOKUP($A9,'S49'!$C:$BQ,59,0) -> #N/A | BC9: =VLOOKUP($A9,'S49'!$C:$BQ,60,0) -> #N/A | BD9: =VLOOKUP($A9,'S50'!$C:$BQ,32,0) -> #N/A | BE9: =VLOOKUP($A9,'S50'!$C:$BQ,39,0) -> #N/A | BF9: =VLOOKUP($A9,'S50'!$C:$BQ,40,0) -> #N/A | BG9: =VLOOKUP($A9,'S50'!$C:$BQ,22,0) -> #N/A | BH9: =VLOOKUP($A9,'S50'!$C:$BQ,29,0) -> #N/A | BI9: =VLOOKUP($A9,'S50'!$C:$BQ,30,0) -> #N/A | BJ9: =VLOOKUP($A9,'S50'!$C:$BQ,52,0) -> #N/A | BK9: =VLOOKUP($A9,'S50'!$C:$BQ,59,0) -> #N/A | BL9: =VLOOKUP($A9,'S50'!$C:$BQ,60,0) -> #N/A
A10: SAINT DIZIER EUROPE | B10: =VLOOKUP($A10,'S0 remplacer avec S44'!$C:$BQ,32,0) -> 171.85 | C10: =VLOOKUP($A10,'S0 remplacer avec S44'!$C:$BQ,39,0) -> 0 | D10: =VLOOKUP($A10,'S0 remplacer avec S44'!$C:$BQ,40,0) -> 20 | E10: =VLOOKUP($A10,'S0 remplacer avec S44'!$C:$BQ,22,0) -> 2263.8561 | F10: =VLOOKUP($A10,'S0 remplacer avec S44'!$C:$BQ,29,0) -> 0 | G10: =VLOOKUP($A10,'S0 remplacer avec S44'!$C:$BQ,30,0) -> 0 | H10: =VLOOKUP($A10,'S0 remplacer avec S44'!$C:$BQ,52,0) -> 146.8 | I10: =VLOOKUP($A10,'S0 remplacer avec S44'!$C:$BQ,59,0) -> 0 | J10: =VLOOKUP($A10,'S0 remplacer avec S44'!$C:$BQ,60,0) -> 0 | K10: =VLOOKUP($A10,'S45'!$C:$BQ,32,0) -> 173.45 | L10: =VLOOKUP($A10,'S45'!$C:$BQ,39,0) -> 0 | M10: =VLOOKUP($A10,'S45'!$C:$BQ,40,0) -> 19 | N10: =VLOOKUP($A10,'S45'!$C:$BQ,22,0) -> 2315.2052 | O10: =VLOOKUP($A10,'S45'!$C:$BQ,29,0) -> 0 | P10: =VLOOKUP($A10,'S45'!$C:$BQ,30,0) -> 0 | Q10: =VLOOKUP($A10,'S45'!$C:$BQ,52,0) -> 146.8 | R10: =VLOOKUP($A10,'S45'!$C:$BQ,59,0) -> 0 | S10: =VLOOKUP($A10,'S45'!$C:$BQ,60,0) -> 0 | T10: =VLOOKUP($A10,'S46'!$C:$BQ,32,0) -> 175.45 | U10: =VLOOKUP($A10,'S46'!$C:$BQ,39,0) -> 0 | V10: =VLOOKUP($A10,'S46'!$C:$BQ,40,0) -> 17 | W10: =VLOOKUP($A10,'S46'!$C:$BQ,22,0) -> 2256.3823 | X10: =VLOOKUP($A10,'S46'!$C:$BQ,29,0) -> 0 | Y10: =VLOOKUP($A10,'S46'!$C:$BQ,30,0) -> 0 | Z10: =VLOOKUP($A10,'S46'!$C:$BQ,52,0) -> 147.8 | AA10: =VLOOKUP($A10,'S46'!$C:$BQ,59,0) -> 0 | AB10: =VLOOKUP($A10,'S46'!$C:$BQ,60,0) -> 0 | AC10: =VLOOKUP($A10,'S47'!$C:$BQ,32,0) -> #N/A | AD10: =VLOOKUP($A10,'S47'!$C:$BQ,39,0) -> #N/A | AE10: =VLOOKUP($A10,'S47'!$C:$BQ,40,0) -> #N/A | AF10: =VLOOKUP($A10,'S47'!$C:$BQ,22,0) -> #N/A | AG10: =VLOOKUP($A10,'S47'!$C:$BQ,29,0) -> #N/A | AH10: =VLOOKUP($A10,'S47'!$C:$BQ,30,0) -> #N/A | AI10: =VLOOKUP($A10,'S47'!$C:$BQ,52,0) -> #N/A | AJ10: =VLOOKUP($A10,'S47'!$C:$BQ,59,0) -> #N/A | AK10: =VLOOKUP($A10,'S47'!$C:$BQ,60,0) -> #N/A | AL10: =VLOOKUP($A10,'S48'!$C:$BQ,32,0) -> #N/A | AM10: =VLOOKUP($A10,'S48'!$C:$BQ,39,0) -> #N/A | AN10: =VLOOKUP($A10,'S48'!$C:$BQ,40,0) -> #N/A | AO10: =VLOOKUP($A10,'S48'!$C:$BQ,22,0) -> #N/A | AP10: =VLOOKUP($A10,'S48'!$C:$BQ,29,0) -> #N/A | AQ10: =VLOOKUP($A10,'S48'!$C:$BQ,30,0) -> #N/A | AR10: =VLOOKUP($A10,'S48'!$C:$BQ,52,0) -> #N/A | AS10: =VLOOKUP($A10,'S48'!$C:$BQ,59,0) -> #N/A | AT10: =VLOOKUP($A10,'S48'!$C:$BQ,60,0) -> #N/A | AU10: =VLOOKUP($A10,'S49'!$C:$BQ,32,0) -> #N/A | AV10: =VLOOKUP($A10,'S49'!$C:$BQ,39,0) -> #N/A | AW10: =VLOOKUP($A10,'S49'!$C:$BQ,40,0) -> #N/A | AX10: =VLOOKUP($A10,'S49'!$C:$BQ,22,0) -> #N/A | AY10: =VLOOKUP($A10,'S49'!$C:$BQ,29,0) -> #N/A | AZ10: =VLOOKUP($A10,'S49'!$C:$BQ,30,0) -> #N/A | BA10: =VLOOKUP($A10,'S49'!$C:$BQ,52,0) -> #N/A | BB10: =VLOOKUP($A10,'S49'!$C:$BQ,59,0) -> #N/A | BC10: =VLOOKUP($A10,'S49'!$C:$BQ,60,0) -> #N/A | BD10: =VLOOKUP($A10,'S50'!$C:$BQ,32,0) -> #N/A | BE10: =VLOOKUP($A10,'S50'!$C:$BQ,39,0) -> #N/A | BF10: =VLOOKUP($A10,'S50'!$C:$BQ,40,0) -> #N/A | BG10: =VLOOKUP($A10,'S50'!$C:$BQ,22,0) -> #N/A | BH10: =VLOOKUP($A10,'S50'!$C:$BQ,29,0) -> #N/A | BI10: =VLOOKUP($A10,'S50'!$C:$BQ,30,0) -> #N/A | BJ10: =VLOOKUP($A10,'S50'!$C:$BQ,52,0) -> #N/A | BK10: =VLOOKUP($A10,'S50'!$C:$BQ,59,0) -> #N/A | BL10: =VLOOKUP($A10,'S50'!$C:$BQ,60,0) -> #N/A
A11: WASSY | B11: =VLOOKUP($A11,'S0 remplacer avec S44'!$C:$BQ,32,0) -> 147.2 | C11: =VLOOKUP($A11,'S0 remplacer avec S44'!$C:$BQ,39,0) -> 31 | D11: =VLOOKUP($A11,'S0 remplacer avec S44'!$C:$BQ,40,0) -> 66 | E11: =VLOOKUP($A11,'S0 remplacer avec S44'!$C:$BQ,22,0) -> 2082.6029 | F11: =VLOOKUP($A11,'S0 remplacer avec S44'!$C:$BQ,29,0) -> 0 | G11: =VLOOKUP($A11,'S0 remplacer avec S44'!$C:$BQ,30,0) -> 0 | H11: =VLOOKUP($A11,'S0 remplacer avec S44'!$C:$BQ,52,0) -> 64.4 | I11: =VLOOKUP($A11,'S0 remplacer avec S44'!$C:$BQ,59,0) -> 26 | J11: =VLOOKUP($A11,'S0 remplacer avec S44'!$C:$BQ,60,0) -> 44 | K11: =VLOOKUP($A11,'S45'!$C:$BQ,32,0) -> 150.2 | L11: =VLOOKUP($A11,'S45'!$C:$BQ,39,0) -> 28 | M11: =VLOOKUP($A11,'S45'!$C:$BQ,40,0) -> 63 | N11: =VLOOKUP($A11,'S45'!$C:$BQ,22,0) -> 2117.607 | O11: =VLOOKUP($A11,'S45'!$C:$BQ,29,0) -> 0 | P11: =VLOOKUP($A11,'S45'!$C:$BQ,30,0) -> 0 | Q11: =VLOOKUP($A11,'S45'!$C:$BQ,52,0) -> 67.4 | R11: =VLOOKUP($A11,'S45'!$C:$BQ,59,0) -> 23 | S11: =VLOOKUP($A11,'S45'!$C:$BQ,60,0) -> 41 | T11: =VLOOKUP($A11,'S46'!$C:$BQ,32,0) -> 152.7 | U11: =VLOOKUP($A11,'S46'!$C:$BQ,39,0) -> 25 | V11: =VLOOKUP($A11,'S46'!$C:$BQ,40,0) -> 61 | W11: =VLOOKUP($A11,'S46'!$C:$BQ,22,0) -> 2124.2643 | X11: =VLOOKUP($A11,'S46'!$C:$BQ,29,0) -> 0 | Y11: =VLOOKUP($A11,'S46'!$C:$BQ,30,0) -> 0 | Z11: =VLOOKUP($A11,'S46'!$C:$BQ,52,0) -> 67.4 | AA11: =VLOOKUP($A11,'S46'!$C:$BQ,59,0) -> 23 | AB11: =VLOOKUP($A11,'S46'!$C:$BQ,60,0) -> 41 | AC11: =VLOOKUP($A11,'S47'!$C:$BQ,32,0) -> #N/A | AD11: =VLOOKUP($A11,'S47'!$C:$BQ,39,0) -> #N/A | AE11: =VLOOKUP($A11,'S47'!$C:$BQ,40,0) -> #N/A | AF11: =VLOOKUP($A11,'S47'!$C:$BQ,22,0) -> #N/A | AG11: =VLOOKUP($A11,'S47'!$C:$BQ,29,0) -> #N/A | AH11: =VLOOKUP($A11,'S47'!$C:$BQ,30,0) -> #N/A | AI11: =VLOOKUP($A11,'S47'!$C:$BQ,52,0) -> #N/A | AJ11: =VLOOKUP($A11,'S47'!$C:$BQ,59,0) -> #N/A | AK11: =VLOOKUP($A11,'S47'!$C:$BQ,60,0) -> #N/A | AL11: =VLOOKUP($A11,'S48'!$C:$BQ,32,0) -> #N/A | AM11: =VLOOKUP($A11,'S48'!$C:$BQ,39,0) -> #N/A | AN11: =VLOOKUP($A11,'S48'!$C:$BQ,40,0) -> #N/A | AO11: =VLOOKUP($A11,'S48'!$C:$BQ,22,0) -> #N/A | AP11: =VLOOKUP($A11,'S48'!$C:$BQ,29,0) -> #N/A | AQ11: =VLOOKUP($A11,'S48'!$C:$BQ,30,0) -> #N/A | AR11: =VLOOKUP($A11,'S48'!$C:$BQ,52,0) -> #N/A | AS11: =VLOOKUP($A11,'S48'!$C:$BQ,59,0) -> #N/A | AT11: =VLOOKUP($A11,'S48'!$C:$BQ,60,0) -> #N/A | AU11: =VLOOKUP($A11,'S49'!$C:$BQ,32,0) -> #N/A | AV11: =VLOOKUP($A11,'S49'!$C:$BQ,39,0) -> #N/A | AW11: =VLOOKUP($A11,'S49'!$C:$BQ,40,0) -> #N/A | AX11: =VLOOKUP($A11,'S49'!$C:$BQ,22,0) -> #N/A | AY11: =VLOOKUP($A11,'S49'!$C:$BQ,29,0) -> #N/A | AZ11: =VLOOKUP($A11,'S49'!$C:$BQ,30,0) -> #N/A | BA11: =VLOOKUP($A11,'S49'!$C:$BQ,52,0) -> #N/A | BB11: =VLOOKUP($A11,'S49'!$C:$BQ,59,0) -> #N/A | BC11: =VLOOKUP($A11,'S49'!$C:$BQ,60,0) -> #N/A | BD11: =VLOOKUP($A11,'S50'!$C:$BQ,32,0) -> #N/A | BE11: =VLOOKUP($A11,'S50'!$C:$BQ,39,0) -> #N/A | BF11: =VLOOKUP($A11,'S50'!$C:$BQ,40,0) -> #N/A | BG11: =VLOOKUP($A11,'S50'!$C:$BQ,22,0) -> #N/A | BH11: =VLOOKUP($A11,'S50'!$C:$BQ,29,0) -> #N/A | BI11: =VLOOKUP($A11,'S50'!$C:$BQ,30,0) -> #N/A | BJ11: =VLOOKUP($A11,'S50'!$C:$BQ,52,0) -> #N/A | BK11: =VLOOKUP($A11,'S50'!$C:$BQ,59,0) -> #N/A | BL11: =VLOOKUP($A11,'S50'!$C:$BQ,60,0) -> #N/A
A12: ARCIS SUR AUBE | B12: =VLOOKUP($A12,'S0 remplacer avec S44'!$C:$BQ,32,0) -> 172.5 | C12: =VLOOKUP($A12,'S0 remplacer avec S44'!$C:$BQ,39,0) -> 60 | D12: =VLOOKUP($A12,'S0 remplacer avec S44'!$C:$BQ,40,0) -> 107 | E12: =VLOOKUP($A12,'S0 remplacer avec S44'!$C:$BQ,22,0) -> 1991.6132 | F12: =VLOOKUP($A12,'S0 remplacer avec S44'!$C:$BQ,29,0) -> 120 | G12: =VLOOKUP($A12,'S0 remplacer avec S44'!$C:$BQ,30,0) -> 543 | H12: =VLOOKUP($A12,'S0 remplacer avec S44'!$C:$BQ,52,0) -> 97.4 | I12: =VLOOKUP($A12,'S0 remplacer avec S44'!$C:$BQ,59,0) -> 21 | J12: =VLOOKUP($A12,'S0 remplacer avec S44'!$C:$BQ,60,0) -> 45 | K12: =VLOOKUP($A12,'S45'!$C:$BQ,32,0) -> 174.5 | L12: =VLOOKUP($A12,'S45'!$C:$BQ,39,0) -> 58 | M12: =VLOOKUP($A12,'S45'!$C:$BQ,40,0) -> 105 | N12: =VLOOKUP($A12,'S45'!$C:$BQ,22,0) -> 2022.3134 | O12: =VLOOKUP($A12,'S45'!$C:$BQ,29,0) -> 90 | P12: =VLOOKUP($A12,'S45'!$C:$BQ,30,0) -> 512 | Q12: =VLOOKUP($A12,'S45'!$C:$BQ,52,0) -> 98.4 | R12: =VLOOKUP($A12,'S45'!$C:$BQ,59,0) -> 20 | S12: =VLOOKUP($A12,'S45'!$C:$BQ,60,0) -> 44 | T12: =VLOOKUP($A12,'S46'!$C:$BQ,32,0) -> 175.5 | U12: =VLOOKUP($A12,'S46'!$C:$BQ,39,0) -> 57 | V12: =VLOOKUP($A12,'S46'!$C:$BQ,40,0) -> 104 | W12: =VLOOKUP($A12,'S46'!$C:$BQ,22,0) -> 2023.9563 | X12: =VLOOKUP($A12,'S46'!$C:$BQ,29,0) -> 88 | Y12: =VLOOKUP($A12,'S46'!$C:$BQ,30,0) -> 510 | Z12: =VLOOKUP($A12,'S46'!$C:$BQ,52,0) -> 99.4 | AA12: =VLOOKUP($A12,'S46'!$C:$BQ,59,0) -> 19 | AB12: =VLOOKUP($A12,'S46'!$C:$BQ,60,0) -> 43 | AC12: =VLOOKUP($A12,'S47'!$C:$BQ,32,0) -> #N/A | AD12: =VLOOKUP($A12,'S47'!$C:$BQ,39,0) -> #N/A | AE12: =VLOOKUP($A12,'S47'!$C:$BQ,40,0) -> #N/A | AF12: =VLOOKUP($A12,'S47'!$C:$BQ,22,0) -> #N/A | AG12: =VLOOKUP($A12,'S47'!$C:$BQ,29,0) -> #N/A | AH12: =VLOOKUP($A12,'S47'!$C:$BQ,30,0) -> #N/A | AI12: =VLOOKUP($A12,'S47'!$C:$BQ,52,0) -> #N/A | AJ12: =VLOOKUP($A12,'S47'!$C:$BQ,59,0) -> #N/A | AK12: =VLOOKUP($A12,'S47'!$C:$BQ,60,0) -> #N/A | AL12: =VLOOKUP($A12,'S48'!$C:$BQ,32,0) -> #N/A | AM12: =VLOOKUP($A12,'S48'!$C:$BQ,39,0) -> #N/A | AN12: =VLOOKUP($A12,'S48'!$C:$BQ,40,0) -> #N/A | AO12: =VLOOKUP($A12,'S48'!$C:$BQ,22,0) -> #N/A | AP12: =VLOOKUP($A12,'S48'!$C:$BQ,29,0) -> #N/A | AQ12: =VLOOKUP($A12,'S48'!$C:$BQ,30,0) -> #N/A | AR12: =VLOOKUP($A12,'S48'!$C:$BQ,52,0) -> #N/A | AS12: =VLOOKUP($A12,'S48'!$C:$BQ,59,0) -> #N/A | AT12: =VLOOKUP($A12,'S48'!$C:$BQ,60,0) -> #N/A | AU12: =VLOOKUP($A12,'S49'!$C:$BQ,32,0) -> #N/A | AV12: =VLOOKUP($A12,'S49'!$C:$BQ,39,0) -> #N/A | AW12: =VLOOKUP($A12,'S49'!$C:$BQ,40,0) -> #N/A | AX12: =VLOOKUP($A12,'S49'!$C:$BQ,22,0) -> #N/A | AY12: =VLOOKUP($A12,'S49'!$C:$BQ,29,0) -> #N/A | AZ12: =VLOOKUP($A12,'S49'!$C:$BQ,30,0) -> #N/A | BA12: =VLOOKUP($A12,'S49'!$C:$BQ,52,0) -> #N/A | BB12: =VLOOKUP($A12,'S49'!$C:$BQ,59,0) -> #N/A | BC12: =VLOOKUP($A12,'S49'!$C:$BQ,60,0) -> #N/A | BD12: =VLOOKUP($A12,'S50'!$C:$BQ,32,0) -> #N/A | BE12: =VLOOKUP($A12,'S50'!$C:$BQ,39,0) -> #N/A | BF12: =VLOOKUP($A12,'S50'!$C:$BQ,40,0) -> #N/A | BG12: =VLOOKUP($A12,'S50'!$C:$BQ,22,0) -> #N/A | BH12: =VLOOKUP($A12,'S50'!$C:$BQ,29,0) -> #N/A | BI12: =VLOOKUP($A12,'S50'!$C:$BQ,30,0) -> #N/A | BJ12: =VLOOKUP($A12,'S50'!$C:$BQ,52,0) -> #N/A | BK12: =VLOOKUP($A12,'S50'!$C:$BQ,59,0) -> #N/A | BL12: =VLOOKUP($A12,'S50'!$C:$BQ,60,0) -> #N/A
A13: BAR SUR AUBE | B13: =VLOOKUP($A13,'S0 remplacer avec S44'!$C:$BQ,32,0) -> 171.3 | C13: =VLOOKUP($A13,'S0 remplacer avec S44'!$C:$BQ,39,0) -> 17 | D13: =VLOOKUP($A13,'S0 remplacer avec S44'!$C:$BQ,40,0) -> 55 | E13: =VLOOKUP($A13,'S0 remplacer avec S44'!$C:$BQ,22,0) -> 2154.3145 | F13: =VLOOKUP($A13,'S0 remplacer avec S44'!$C:$BQ,29,0) -> 0 | G13: =VLOOKUP($A13,'S0 remplacer avec S44'!$C:$BQ,30,0) -> 0 | H13: =VLOOKUP($A13,'S0 remplacer avec S44'!$C:$BQ,52,0) -> 105.8 | I13: =VLOOKUP($A13,'S0 remplacer avec S44'!$C:$BQ,59,0) -> 0 | J13: =VLOOKUP($A13,'S0 remplacer avec S44'!$C:$BQ,60,0) -> 9 | K13: =VLOOKUP($A13,'S45'!$C:$BQ,32,0) -> 180.8 | L13: =VLOOKUP($A13,'S45'!$C:$BQ,39,0) -> 8 | M13: =VLOOKUP($A13,'S45'!$C:$BQ,40,0) -> 46 | N13: =VLOOKUP($A13,'S45'!$C:$BQ,22,0) -> 2154.5627 | O13: =VLOOKUP($A13,'S45'!$C:$BQ,29,0) -> 0 | P13: =VLOOKUP($A13,'S45'!$C:$BQ,30,0) -> 0 | Q13: =VLOOKUP($A13,'S45'!$C:$BQ,52,0) -> 109.8 | R13: =VLOOKUP($A13,'S45'!$C:$BQ,59,0) -> 0 | S13: =VLOOKUP($A13,'S45'!$C:$BQ,60,0) -> 5 | T13: =VLOOKUP($A13,'S46'!$C:$BQ,32,0) -> 181.3 | U13: =VLOOKUP($A13,'S46'!$C:$BQ,39,0) -> 7 | V13: =VLOOKUP($A13,'S46'!$C:$BQ,40,0) -> 45 | W13: =VLOOKUP($A13,'S46'!$C:$BQ,22,0) -> 2159.8958 | X13: =VLOOKUP($A13,'S46'!$C:$BQ,29,0) -> 0 | Y13: =VLOOKUP($A13,'S46'!$C:$BQ,30,0) -> 0 | Z13: =VLOOKUP($A13,'S46'!$C:$BQ,52,0) -> 110.8 | AA13: =VLOOKUP($A13,'S46'!$C:$BQ,59,0) -> 0 | AB13: =VLOOKUP($A13,'S46'!$C:$BQ,60,0) -> 4 | AC13: =VLOOKUP($A13,'S47'!$C:$BQ,32,0) -> #N/A | AD13: =VLOOKUP($A13,'S47'!$C:$BQ,39,0) -> #N/A | AE13: =VLOOKUP($A13,'S47'!$C:$BQ,40,0) -> #N/A | AF13: =VLOOKUP($A13,'S47'!$C:$BQ,22,0) -> #N/A | AG13: =VLOOKUP($A13,'S47'!$C:$BQ,29,0) -> #N/A | AH13: =VLOOKUP($A13,'S47'!$C:$BQ,30,0) -> #N/A | AI13: =VLOOKUP($A13,'S47'!$C:$BQ,52,0) -> #N/A | AJ13: =VLOOKUP($A13,'S47'!$C:$BQ,59,0) -> #N/A | AK13: =VLOOKUP($A13,'S47'!$C:$BQ,60,0) -> #N/A | AL13: =VLOOKUP($A13,'S48'!$C:$BQ,32,0) -> #N/A | AM13: =VLOOKUP($A13,'S48'!$C:$BQ,39,0) -> #N/A | AN13: =VLOOKUP($A13,'S48'!$C:$BQ,40,0) -> #N/A | AO13: =VLOOKUP($A13,'S48'!$C:$BQ,22,0) -> #N/A | AP13: =VLOOKUP($A13,'S48'!$C:$BQ,29,0) -> #N/A | AQ13: =VLOOKUP($A13,'S48'!$C:$BQ,30,0) -> #N/A | AR13: =VLOOKUP($A13,'S48'!$C:$BQ,52,0) -> #N/A | AS13: =VLOOKUP($A13,'S48'!$C:$BQ,59,0) -> #N/A | AT13: =VLOOKUP($A13,'S48'!$C:$BQ,60,0) -> #N/A | AU13: =VLOOKUP($A13,'S49'!$C:$BQ,32,0) -> #N/A | AV13: =VLOOKUP($A13,'S49'!$C:$BQ,39,0) -> #N/A | AW13: =VLOOKUP($A13,'S49'!$C:$BQ,40,0) -> #N/A | AX13: =VLOOKUP($A13,'S49'!$C:$BQ,22,0) -> #N/A | AY13: =VLOOKUP($A13,'S49'!$C:$BQ,29,0) -> #N/A | AZ13: =VLOOKUP($A13,'S49'!$C:$BQ,30,0) -> #N/A | BA13: =VLOOKUP($A13,'S49'!$C:$BQ,52,0) -> #N/A | BB13: =VLOOKUP($A13,'S49'!$C:$BQ,59,0) -> #N/A | BC13: =VLOOKUP($A13,'S49'!$C:$BQ,60,0) -> #N/A | BD13: =VLOOKUP($A13,'S50'!$C:$BQ,32,0) -> #N/A | BE13: =VLOOKUP($A13,'S50'!$C:$BQ,39,0) -> #N/A | BF13: =VLOOKUP($A13,'S50'!$C:$BQ,40,0) -> #N/A | BG13: =VLOOKUP($A13,'S50'!$C:$BQ,22,0) -> #N/A | BH13: =VLOOKUP($A13,'S50'!$C:$BQ,29,0) -> #N/A | BI13: =VLOOKUP($A13,'S50'!$C:$BQ,30,0) -> #N/A | BJ13: =VLOOKUP($A13,'S50'!$C:$BQ,52,0) -> #N/A | BK13: =VLOOKUP($A13,'S50'!$C:$BQ,59,0) -> #N/A | BL13: =VLOOKUP($A13,'S50'!$C:$BQ,60,0) -> #N/A
A14: BAR SUR SEINE | B14: =VLOOKUP($A14,'S0 remplacer avec S44'!$C:$BQ,32,0) -> 147.1 | C14: =VLOOKUP($A14,'S0 remplacer avec S44'!$C:$BQ,39,0) -> 89 | D14: =VLOOKUP($A14,'S0 remplacer avec S44'!$C:$BQ,40,0) -> 136 | E14: =VLOOKUP($A14,'S0 remplacer avec S44'!$C:$BQ,22,0) -> 2740.4547 | F14: =VLOOKUP($A14,'S0 remplacer avec S44'!$C:$BQ,29,0) -> 0 | G14: =VLOOKUP($A14,'S0 remplacer avec S44'!$C:$BQ,30,0) -> 0 | H14: =VLOOKUP($A14,'S0 remplacer avec S44'!$C:$BQ,52,0) -> 131.2 | I14: =VLOOKUP($A14,'S0 remplacer avec S44'!$C:$BQ,59,0) -> 0 | J14: =VLOOKUP($A14,'S0 remplacer avec S44'!$C:$BQ,60,0) -> 13 | K14: =VLOOKUP($A14,'S45'!$C:$BQ,32,0) -> 148.1 | L14: =VLOOKUP($A14,'S45'!$C:$BQ,39,0) -> 88 | M14: =VLOOKUP($A14,'S45'!$C:$BQ,40,0) -> 135 | N14: =VLOOKUP($A14,'S45'!$C:$BQ,22,0) -> 2753.3358 | O14: =VLOOKUP($A14,'S45'!$C:$BQ,29,0) -> 0 | P14: =VLOOKUP($A14,'S45'!$C:$BQ,30,0) -> 0 | Q14: =VLOOKUP($A14,'S45'!$C:$BQ,52,0) -> 132.2 | R14: =VLOOKUP($A14,'S45'!$C:$BQ,59,0) -> 0 | S14: =VLOOKUP($A14,'S45'!$C:$BQ,60,0) -> 12 | T14: =VLOOKUP($A14,'S46'!$C:$BQ,32,0) -> 146.6 | U14: =VLOOKUP($A14,'S46'!$C:$BQ,39,0) -> 89 | V14: =VLOOKUP($A14,'S46'!$C:$BQ,40,0) -> 136 | W14: =VLOOKUP($A14,'S46'!$C:$BQ,22,0) -> 2738.2055 | X14: =VLOOKUP($A14,'S46'!$C:$BQ,29,0) -> 0 | Y14: =VLOOKUP($A14,'S46'!$C:$BQ,30,0) -> 0 | Z14: =VLOOKUP($A14,'S46'!$C:$BQ,52,0) -> 132.2 | AA14: =VLOOKUP($A14,'S46'!$C:$BQ,59,0) -> 0 | AB14: =VLOOKUP($A14,'S46'!$C:$BQ,60,0) -> 12 | AC14: =VLOOKUP($A14,'S47'!$C:$BQ,32,0) -> #N/A | AD14: =VLOOKUP($A14,'S47'!$C:$BQ,39,0) -> #N/A | AE14: =VLOOKUP($A14,'S47'!$C:$BQ,40,0) -> #N/A | AF14: =VLOOKUP($A14,'S47'!$C:$BQ,22,0) -> #N/A | AG14: =VLOOKUP($A14,'S47'!$C:$BQ,29,0) -> #N/A | AH14: =VLOOKUP($A14,'S47'!$C:$BQ,30,0) -> #N/A | AI14: =VLOOKUP($A14,'S47'!$C:$BQ,52,0) -> #N/A | AJ14: =VLOOKUP($A14,'S47'!$C:$BQ,59,0) -> #N/A | AK14: =VLOOKUP($A14,'S47'!$C:$BQ,60,0) -> #N/A | AL14: =VLOOKUP($A14,'S48'!$C:$BQ,32,0) -> #N/A | AM14: =VLOOKUP($A14,'S48'!$C:$BQ,39,0) -> #N/A | AN14: =VLOOKUP($A14,'S48'!$C:$BQ,40,0) -> #N/A | AO14: =VLOOKUP($A14,'S48'!$C:$BQ,22,0) -> #N/A | AP14: =VLOOKUP($A14,'S48'!$C:$BQ,29,0) -> #N/A | AQ14: =VLOOKUP($A14,'S48'!$C:$BQ,30,0) -> #N/A | AR14: =VLOOKUP($A14,'S48'!$C:$BQ,52,0) -> #N/A | AS14: =VLOOKUP($A14,'S48'!$C:$BQ,59,0) -> #N/A | AT14: =VLOOKUP($A14,'S48'!$C:$BQ,60,0) -> #N/A | AU14: =VLOOKUP($A14,'S49'!$C:$BQ,32,0) -> #N/A | AV14: =VLOOKUP($A14,'S49'!$C:$BQ,39,0) -> #N/A | AW14: =VLOOKUP($A14,'S49'!$C:$BQ,40,0) -> #N/A | AX14: =VLOOKUP($A14,'S49'!$C:$BQ,22,0) -> #N/A | AY14: =VLOOKUP($A14,'S49'!$C:$BQ,29,0) -> #N/A | AZ14: =VLOOKUP($A14,'S49'!$C:$BQ,30,0) -> #N/A | BA14: =VLOOKUP($A14,'S49'!$C:$BQ,52,0) -> #N/A | BB14: =VLOOKUP($A14,'S49'!$C:$BQ,59,0) -> #N/A | BC14: =VLOOKUP($A14,'S49'!$C:$BQ,60,0) -> #N/A | BD14: =VLOOKUP($A14,'S50'!$C:$BQ,32,0) -> #N/A | BE14: =VLOOKUP($A14,'S50'!$C:$BQ,39,0) -> #N/A | BF14: =VLOOKUP($A14,'S50'!$C:$BQ,40,0) -> #N/A | BG14: =VLOOKUP($A14,'S50'!$C:$BQ,22,0) -> #N/A | BH14: =VLOOKUP($A14,'S50'!$C:$BQ,29,0) -> #N/A | BI14: =VLOOKUP($A14,'S50'!$C:$BQ,30,0) -> #N/A | BJ14: =VLOOKUP($A14,'S50'!$C:$BQ,52,0) -> #N/A | BK14: =VLOOKUP($A14,'S50'!$C:$BQ,59,0) -> #N/A | BL14: =VLOOKUP($A14,'S50'!$C:$BQ,60,0) -> #N/A
... A295: VAGNEY | B295: =VLOOKUP($A295,'S0 remplacer avec S44'!$C:$BQ,32,0) -> 118.75 | C295: =VLOOKUP($A295,'S0 remplacer avec S44'!$C:$BQ,39,0) -> 84 | D295: =VLOOKUP($A295,'S0 remplacer avec S44'!$C:$BQ,40,0) -> 124 | E295: =VLOOKUP($A295,'S0 remplacer avec S44'!$C:$BQ,22,0) -> 1752.9531 | F295: =VLOOKUP($A295,'S0 remplacer avec S44'!$C:$BQ,29,0) -> 85 | G295: =VLOOKUP($A295,'S0 remplacer avec S44'!$C:$BQ,30,0) -> 453 | H295: =VLOOKUP($A295,'S0 remplacer avec S44'!$C:$BQ,52,0) -> 115.2 | I295: =VLOOKUP($A295,'S0 remplacer avec S44'!$C:$BQ,59,0) -> 0 | J295: =VLOOKUP($A295,'S0 remplacer avec S44'!$C:$BQ,60,0) -> 8 | K295: =VLOOKUP($A295,'S45'!$C:$BQ,32,0) -> 116.75 | L295: =VLOOKUP($A295,'S45'!$C:$BQ,39,0) -> 86 | M295: =VLOOKUP($A295,'S45'!$C:$BQ,40,0) -> 126 | N295: =VLOOKUP($A295,'S45'!$C:$BQ,22,0) -> 1746.0231 | O295: =VLOOKUP($A295,'S45'!$C:$BQ,29,0) -> 92 | P295: =VLOOKUP($A295,'S45'!$C:$BQ,30,0) -> 460 | Q295: =VLOOKUP($A295,'S45'!$C:$BQ,52,0) -> 115.2 | R295: =VLOOKUP($A295,'S45'!$C:$BQ,59,0) -> 0 | S295: =VLOOKUP($A295,'S45'!$C:$BQ,60,0) -> 8 | T295: =VLOOKUP($A295,'S46'!$C:$BQ,32,0) -> 118.25 | U295: =VLOOKUP($A295,'S46'!$C:$BQ,39,0) -> 84 | V295: =VLOOKUP($A295,'S46'!$C:$BQ,40,0) -> 125 | W295: =VLOOKUP($A295,'S46'!$C:$BQ,22,0) -> 1784.2823 | X295: =VLOOKUP($A295,'S46'!$C:$BQ,29,0) -> 54 | Y295: =VLOOKUP($A295,'S46'!$C:$BQ,30,0) -> 422 | Z295: =VLOOKUP($A295,'S46'!$C:$BQ,52,0) -> 115.2 | AA295: =VLOOKUP($A295,'S46'!$C:$BQ,59,0) -> 0 | AB295: =VLOOKUP($A295,'S46'!$C:$BQ,60,0) -> 8 | AC295: =VLOOKUP($A295,'S47'!$C:$BQ,32,0) -> #N/A | AD295: =VLOOKUP($A295,'S47'!$C:$BQ,39,0) -> #N/A | AE295: =VLOOKUP($A295,'S47'!$C:$BQ,40,0) -> #N/A | AF295: =VLOOKUP($A295,'S47'!$C:$BQ,22,0) -> #N/A | AG295: =VLOOKUP($A295,'S47'!$C:$BQ,29,0) -> #N/A | AH295: =VLOOKUP($A295,'S47'!$C:$BQ,30,0) -> #N/A | AI295: =VLOOKUP($A295,'S47'!$C:$BQ,52,0) -> #N/A | AJ295: =VLOOKUP($A295,'S47'!$C:$BQ,59,0) -> #N/A | AK295: =VLOOKUP($A295,'S47'!$C:$BQ,60,0) -> #N/A | AL295: =VLOOKUP($A295,'S48'!$C:$BQ,32,0) -> #N/A | AM295: =VLOOKUP($A295,'S48'!$C:$BQ,39,0) -> #N/A | AN295: =VLOOKUP($A295,'S48'!$C:$BQ,40,0) -> #N/A | AO295: =VLOOKUP($A295,'S48'!$C:$BQ,22,0) -> #N/A | AP295: =VLOOKUP($A295,'S48'!$C:$BQ,29,0) -> #N/A | AQ295: =VLOOKUP($A295,'S48'!$C:$BQ,30,0) -> #N/A | AR295: =VLOOKUP($A295,'S48'!$C:$BQ,52,0) -> #N/A | AS295: =VLOOKUP($A295,'S48'!$C:$BQ,59,0) -> #N/A | AT295: =VLOOKUP($A295,'S48'!$C:$BQ,60,0) -> #N/A | AU295: =VLOOKUP($A295,'S49'!$C:$BQ,32,0) -> #N/A | AV295: =VLOOKUP($A295,'S49'!$C:$BQ,39,0) -> #N/A | AW295: =VLOOKUP($A295,'S49'!$C:$BQ,40,0) -> #N/A | AX295: =VLOOKUP($A295,'S49'!$C:$BQ,22,0) -> #N/A | AY295: =VLOOKUP($A295,'S49'!$C:$BQ,29,0) -> #N/A | AZ295: =VLOOKUP($A295,'S49'!$C:$BQ,30,0) -> #N/A | BA295: =VLOOKUP($A295,'S49'!$C:$BQ,52,0) -> #N/A | BB295: =VLOOKUP($A295,'S49'!$C:$BQ,59,0) -> #N/A | BC295: =VLOOKUP($A295,'S49'!$C:$BQ,60,0) -> #N/A | BD295: =VLOOKUP($A295,'S50'!$C:$BQ,32,0) -> #N/A | BE295: =VLOOKUP($A295,'S50'!$C:$BQ,39,0) -> #N/A | BF295: =VLOOKUP($A295,'S50'!$C:$BQ,40,0) -> #N/A | BG295: =VLOOKUP($A295,'S50'!$C:$BQ,22,0) -> #N/A | BH295: =VLOOKUP($A295,'S50'!$C:$BQ,29,0) -> #N/A | BI295: =VLOOKUP($A295,'S50'!$C:$BQ,30,0) -> #N/A | BJ295: =VLOOKUP($A295,'S50'!$C:$BQ,52,0) -> #N/A | BK295: =VLOOKUP($A295,'S50'!$C:$BQ,59,0) -> #N/A | BL295: =VLOOKUP($A295,'S50'!$C:$BQ,60,0) -> #N/A

Sheet PROD MRH4
A1: DOM Desg Cour Eds Niv7 | B1: DOM Desg Cour Eds Niv6 | C1: DOM Idnt Extr Eds Niv5 | D1: DOM Desg Cour Eds Niv5 | E1: Nombre D Ouvertures De Services
A2: AUBE HAUTE MARNE | B2: CHAUMONT | C2: 410541 | D2: LANGRES | E2: 20
A3: AUBE HAUTE MARNE | B3: CHAUMONT | C3: 410560 | D3: BOURBONNE LES BAINS | E3: 6
A4: AUBE HAUTE MARNE | B4: CHAUMONT | C4: 410566 | D4: CHAUMONT HOTEL DE VILLE | E4: 20
A5: AUBE HAUTE MARNE | B5: CHAUMONT | C5: 410582 | D5: NOGENT | E5: 2
A6: AUBE HAUTE MARNE | B6: CHAUMONT | C6: 451151 | D6: WASSY | E6: 11
A7: AUBE HAUTE MARNE | B7: CHAUMONT | C7: 451154 | D7: JOINVILLE | E7: 3
A8: AUBE HAUTE MARNE | B8: CHAUMONT | C8: 451156 | D8: SAINT DIZIER CENTRE | E8: 19
A9: AUBE HAUTE MARNE | B9: CHAUMONT | C9: 510590 | D9: CHAUMONT REPUBLIQUE | E9: 4
A10: AUBE HAUTE MARNE | B10: CHAUMONT | C10: 551157 | D10: SAINT DIZIER EUROPE | E10: 7
A11: AUBE HAUTE MARNE | B11: TROYES | C11: 410510 | D11: TROYES GAMBETTA | E11: 29
A12: AUBE HAUTE MARNE | B12: TROYES | C12: 410512 | D12: TROYES ZOLA | E12: 6
A13: AUBE HAUTE MARNE | B13: TROYES | C13: 410521 | D13: SAINTE SAVINE | E13: 3
... A286: VOSGES | B286: SAINT DIE | C286: 588666 | D286: VAGNEY | E286: 2

Sheet BAROM CA UC
A1: DONNEES DE BASES | M1: CALCULS | U1: CA UC RESTE A FAIRE
M2: NB SEMAINES PASSEES | O2: 46
M3: NB SEMAINES RESTANTES | O3: =50-O2 -> 4
B4: Direction | C4: eds | D4: Territoire | E4: eds | F4: Agence | G4: ETP perf au 30/09 | H4: Réal / ETP | I4: PNB / ETP | J4: % Ecart au 1er | K4: Rang | M4: PNB / ETP | N4: Top 1 | O4: Top 10 | P4: Top 30 | Q4: Top 50 | R4: Top 100 | S4: Moyenne | U4: Atteinte Top1 | V4: Atteinte Top10 | W4: Atteinte Top30 | X4: Atteinte Top50 | Y4: Atteinte Top100 | Z4: Atteinte Moyenne
A5: 50 | B5: AUBE HAUTE MARNE | C5: 21 | D5: CHAUMONT | E5: 410560 | F5: BOURBONNE LES BAINS | G5: 1.8999519 | H5: 161.04252 | I5: 0.78036918 | J5: 0.93888876 | K5: 183 | M5: =I5 -> 0.78036918 | N5: =VLOOKUP(1,$K$5:$M$297,3,0) -> 12.76965 | O5: =VLOOKUP(10,$K$5:$M$297,3,0) -> 2.9003627 | P5: =VLOOKUP(30,$K$5:$M$297,3,0) -> 1.9721999 | Q5: =VLOOKUP(50,$K$5:$M$297,3,0) -> 1.673142 | R5: =VLOOKUP(100,$K$5:$M$297,3,0) -> 1.2912755 | S5: =VLOOKUP(150,$K$5:$M$297,3,0) -> 0.95483041 | U5: =((((($N$5-$M5)))/0.003)*G5*1000)+(((((($N$5/$O$2)-($M5/$O$2))))/0.003)*G5*1000)*$O$3 -> 8253281.7 | V5: =((((($O$5-$M5)))/0.003)*G5*1000)+(((((($O$5/$O$2)-($M5/$O$2))))/0.003)*G5*1000)*$O$3 -> 1459378.9 | W5: =((((($P$5-$M5)))/0.003)*G5*1000)+(((((($P$5/$O$2)-($M5/$O$2))))/0.003)*G5*1000)*$O$3 -> 820442.43 | X5: =((((($Q$5-$M5)))/0.003)*G5*1000)+(((((($Q$5/$O$2)-($M5/$O$2))))/0.003)*G5*1000)*$O$3 -> 614574.41 | Y5: =((((($R$5-$M5)))/0.003)*G5*1000)+(((((($R$5/$O$2)-($M5/$O$2))))/0.003)*G5*1000)*$O$3 -> 351701.97 | Z5: =((((($S$5-$M5)))/0.003)*G5*1000)+(((((($S$5/$O$2)-($M5/$O$2))))/0.003)*G5*1000)*$O$3 -> 120097.08
A6: 50 | B6: AUBE HAUTE MARNE | C6: 21 | D6: CHAUMONT | E6: 410566 | F6: CHAUMONT HOTEL DE VILLE | G6: 9.1914925 | H6: 193.2841 | I6: 1.2036437 | J6: 0.90574184 | K6: 111 | M6: =I6 -> 1.2036437 | U6: =((((($N$5-$M6)))/0.003)*G6*1000)+(((((($N$5/$O$2)-($M6/$O$2))))/0.003)*G6*1000)*$O$3 -> 38517704 | V6: =((((($O$5-$M6)))/0.003)*G6*1000)+(((((($O$5/$O$2)-($M6/$O$2))))/0.003)*G6*1000)*$O$3 -> 5650500.1 | W6: =((((($P$5-$M6)))/0.003)*G6*1000)+(((((($P$5/$O$2)-($M6/$O$2))))/0.003)*G6*1000)*$O$3 -> 2559485.1 | X6: =((((($Q$5-$M6)))/0.003)*G6*1000)+(((((($Q$5/$O$2)-($M6/$O$2))))/0.003)*G6*1000)*$O$3 -> 1563547.1 | Y6: =((((($R$5-$M6)))/0.003)*G6*1000)+(((((($R$5/$O$2)-($M6/$O$2))))/0.003)*G6*1000)*$O$3 -> 291835.89 | Z6: =((((($S$5-$M6)))/0.003)*G6*1000)+(((((($S$5/$O$2)-($M6/$O$2))))/0.003)*G6*1000)*$O$3 -> -828610.66
A7: 50 | B7: AUBE HAUTE MARNE | C7: 21 | D7: CHAUMONT | E7: 510590 | F7: CHAUMONT REPUBLIQUE | G7: 2.4137029 | H7: 136.13644 | I7: 0.9031862 | J7: 0.92927087 | K7: 164 | M7: =I7 -> 0.9031862 | U7: =((((($N$5-$M7)))/0.003)*G7*1000)+(((((($N$5/$O$2)-($M7/$O$2))))/0.003)*G7*1000)*$O$3 -> 10377579 | V7: =((((($O$5-$M7)))/0.003)*G7*1000)+(((((($O$5/$O$2)-($M7/$O$2))))/0.003)*G7*1000)*$O$3 -> 1746590.9 | W7: =((((($P$5-$M7)))/0.003)*G7*1000)+(((((($P$5/$O$2)-($M7/$O$2))))/0.003)*G7*1000)*$O$3 -> 934884.63 | X7: =((((($Q$5-$M7)))/0.003)*G7*1000)+(((((($Q$5/$O$2)-($M7/$O$2))))/0.003)*G7*1000)*$O$3 -> 673349.45 | Y7: =((((($R$5-$M7)))/0.003)*G7*1000)+(((((($R$5/$O$2)-($M7/$O$2))))/0.003)*G7*1000)*$O$3 -> 339395.75 | Z7: =((((($S$5-$M7)))/0.003)*G7*1000)+(((((($S$5/$O$2)-($M7/$O$2))))/0.003)*G7*1000)*$O$3 -> 45164.413
A8: 50 | B8: AUBE HAUTE MARNE | C8: 21 | D8: CHAUMONT | E8: 451154 | F8: JOINVILLE | G8: 2.8152338 | H8: 39.505072 | I8: 0.12358473 | J8: 0.990322 | K8: 293 | M8: =I8 -> 0.12358473 | U8: =((((($N$5-$M8)))/0.003)*G8*1000)+(((((($N$5/$O$2)-($M8/$O$2))))/0.003)*G8*1000)*$O$3 -> 12899142 | V8: =((((($O$5-$M8)))/0.003)*G8*1000)+(((((($O$5/$O$2)-($M8/$O$2))))/0.003)*G8*1000)*$O$3 -> 2832347.5 | W8: =((((($P$5-$M8)))/0.003)*G8*1000)+(((((($P$5/$O$2)-($M8/$O$2))))/0.003)*G8*1000)*$O$3 -> 1885610.1 | X8: =((((($Q$5-$M8)))/0.003)*G8*1000)+(((((($Q$5/$O$2)-($M8/$O$2))))/0.003)*G8*1000)*$O$3 -> 1580567.4 | Y8: =((((($R$5-$M8)))/0.003)*G8*1000)+(((((($R$5/$O$2)-($M8/$O$2))))/0.003)*G8*1000)*$O$3 -> 1191058.9 | Z8: =((((($S$5-$M8)))/0.003)*G8*1000)+(((((($S$5/$O$2)-($M8/$O$2))))/0.003)*G8*1000)*$O$3 -> 847880.77
A9: 50 | B9: AUBE HAUTE MARNE | C9: 21 | D9: CHAUMONT | E9: 410541 | F9: LANGRES | G9: 6.6773488 | H9: 182.32164 | I9: 0.92059198 | J9: 0.92790782 | K9: 160 | M9: =I9 -> 0.92059198 | U9: =((((($N$5-$M9)))/0.003)*G9*1000)+(((((($N$5/$O$2)-($M9/$O$2))))/0.003)*G9*1000)*$O$3 -> 28666774 | V9: =((((($O$5-$M9)))/0.003)*G9*1000)+(((((($O$5/$O$2)-($M9/$O$2))))/0.003)*G9*1000)*$O$3 -> 4789717.3 | W9: =((((($P$5-$M9)))/0.003)*G9*1000)+(((((($P$5/$O$2)-($M9/$O$2))))/0.003)*G9*1000)*$O$3 -> 2544185.9 | X9: =((((($Q$5-$M9)))/0.003)*G9*1000)+(((((($Q$5/$O$2)-($M9/$O$2))))/0.003)*G9*1000)*$O$3 -> 1820666.2 | Y9: =((((($R$5-$M9)))/0.003)*G9*1000)+(((((($R$5/$O$2)-($M9/$O$2))))/0.003)*G9*1000)*$O$3 -> 896805.47 | Z9: =((((($S$5-$M9)))/0.003)*G9*1000)+(((((($S$5/$O$2)-($M9/$O$2))))/0.003)*G9*1000)*$O$3 -> 82834.025
A10: 50 | B10: AUBE HAUTE MARNE | C10: 21 | D10: CHAUMONT | E10: 410582 | F10: NOGENT EN BASSIGNY | G10: 2.0789474 | H10: 69.679996 | I10: 0.42970721 | J10: 0.96634934 | K10: 252 | M10: =I10 -> 0.42970721 | U10: =((((($N$5-$M10)))/0.003)*G10*1000)+(((((($N$5/$O$2)-($M10/$O$2))))/0.003)*G10*1000)*$O$3 -> 9294960.9 | V10: =((((($O$5-$M10)))/0.003)*G10*1000)+(((((($O$5/$O$2)-($M10/$O$2))))/0.003)*G10*1000)*$O$3 -> 1861001 | W10: =((((($P$5-$M10)))/0.003)*G10*1000)+(((((($P$5/$O$2)-($M10/$O$2))))/0.003)*G10*1000)*$O$3 -> 1161870 | X10: =((((($Q$5-$M10)))/0.003)*G10*1000)+(((((($Q$5/$O$2)-($M10/$O$2))))/0.003)*G10*1000)*$O$3 -> 936607.04 | Y10: =((((($R$5-$M10)))/0.003)*G10*1000)+(((((($R$5/$O$2)-($M10/$O$2))))/0.003)*G10*1000)*$O$3 -> 648969.24 | Z10: =((((($S$5-$M10)))/0.003)*G10*1000)+(((((($S$5/$O$2)-($M10/$O$2))))/0.003)*G10*1000)*$O$3 -> 395544.74
A11: 50 | B11: AUBE HAUTE MARNE | C11: 21 | D11: CHAUMONT | E11: 451156 | F11: SAINT DIZIER CENTRE | G11: 5.4163614 | H11: 169.11129 | I11: 1.0119085 | J11: 0.92075676 | K11: 141 | M11: =I11 -> 1.0119085 | U11: =((((($N$5-$M11)))/0.003)*G11*1000)+(((((($N$5/$O$2)-($M11/$O$2))))/0.003)*G11*1000)*$O$3 -> 23073978 | V11: =((((($O$5-$M11)))/0.003)*G11*1000)+(((((($O$5/$O$2)-($M11/$O$2))))/0.003)*G11*1000)*$O$3 -> 3705996.5 | W11: =((((($P$5-$M11)))/0.003)*G11*1000)+(((((($P$5/$O$2)-($M11/$O$2))))/0.003)*G11*1000)*$O$3 -> 1884523.7 | X11: =((((($Q$5-$M11)))/0.003)*G11*1000)+(((((($Q$5/$O$2)-($M11/$O$2))))/0.003)*G11*1000)*$O$3 -> 1297637.5 | Y11: =((((($R$5-$M11)))/0.003)*G11*1000)+(((((($R$5/$O$2)-($M11/$O$2))))/0.003)*G11*1000)*$O$3 -> 548243.67 | Z11: =((((($S$5-$M11)))/0.003)*G11*1000)+(((((($S$5/$O$2)-($M11/$O$2))))/0.003)*G11*1000)*$O$3 -> -112012.91
A12: 50 | B12: AUBE HAUTE MARNE | C12: 21 | D12: CHAUMONT | E12: 551157 | F12: SAINT DIZIER EUROPE | G12: 2.5347178 | H12: 377.11325 | I12: 5.4456318 | J12: 0.57354887 | K12: 3 | M12: =I12 -> 5.4456318 | U12: =((((($N$5-$M12)))/0.003)*G12*1000)+(((((($N$5/$O$2)-($M12/$O$2))))/0.003)*G12*1000)*$O$3 -> 6726203 | V12: =((((($O$5-$M12)))/0.003)*G12*1000)+(((((($O$5/$O$2)-($M12/$O$2))))/0.003)*G12*1000)*$O$3 -> -2337514.1 | W12: =((((($P$5-$M12)))/0.003)*G12*1000)+(((((($P$5/$O$2)-($M12/$O$2))))/0.003)*G12*1000)*$O$3 -> -3189916.5 | X12: =((((($Q$5-$M12)))/0.003)*G12*1000)+(((((($Q$5/$O$2)-($M12/$O$2))))/0.003)*G12*1000)*$O$3 -> -3464564.2 | Y12: =((((($R$5-$M12)))/0.003)*G12*1000)+(((((($R$5/$O$2)-($M12/$O$2))))/0.003)*G12*1000)*$O$3 -> -3815261.2 | Z12: =((((($S$5-$M12)))/0.003)*G12*1000)+(((((($S$5/$O$2)-($M12/$O$2))))/0.003)*G12*1000)*$O$3 -> -4124244.3
A13: 50 | B13: AUBE HAUTE MARNE | C13: 21 | D13: CHAUMONT | E13: 451151 | F13: WASSY | G13: 2.8184252 | H13: 134.36078 | I13: 1.054181 | J13: 0.91744637 | K13: 134 | M13: =I13 -> 1.054181 | U13: =((((($N$5-$M13)))/0.003)*G13*1000)+(((((($N$5/$O$2)-($M13/$O$2))))/0.003)*G13*1000)*$O$3 -> 11963469 | V13: =((((($O$5-$M13)))/0.003)*G13*1000)+(((((($O$5/$O$2)-($M13/$O$2))))/0.003)*G13*1000)*$O$3 -> 1885262.7 | W13: =((((($P$5-$M13)))/0.003)*G13*1000)+(((((($P$5/$O$2)-($M13/$O$2))))/0.003)*G13*1000)*$O$3 -> 937452.02 | X13: =((((($Q$5-$M13)))/0.003)*G13*1000)+(((((($Q$5/$O$2)-($M13/$O$2))))/0.003)*G13*1000)*$O$3 -> 632063.44 | Y13: =((((($R$5-$M13)))/0.003)*G13*1000)+(((((($R$5/$O$2)-($M13/$O$2))))/0.003)*G13*1000)*$O$3 -> 242113.4 | Z13: =((((($S$5-$M13)))/0.003)*G13*1000)+(((((($S$5/$O$2)-($M13/$O$2))))/0.003)*G13*1000)*$O$3 -> -101453.73
A14: 50 | B14: AUBE HAUTE MARNE | C14: 14 | D14: TROYES | E14: 510530 | F14: ARCIS SUR AUBE | G14: 3.6851069 | H14: 202.41614 | I14: 2.1386735 | J14: 0.83251903 | K14: 27 | M14: =I14 -> 2.1386735 | U14: =((((($N$5-$M14)))/0.003)*G14*1000)+(((((($N$5/$O$2)-($M14/$O$2))))/0.003)*G14*1000)*$O$3 -> 14194307 | V14: =((((($O$5-$M14)))/0.003)*G14*1000)+(((((($O$5/$O$2)-($M14/$O$2))))/0.003)*G14*1000)*$O$3 -> 1016995 | W14: =((((($P$5-$M14)))/0.003)*G14*1000)+(((((($P$5/$O$2)-($M14/$O$2))))/0.003)*G14*1000)*$O$3 -> -222272.76 | X14: =((((($Q$5-$M14)))/0.003)*G14*1000)+(((((($Q$5/$O$2)-($M14/$O$2))))/0.003)*G14*1000)*$O$3 -> -621570.06 | Y14: =((((($R$5-$M14)))/0.003)*G14*1000)+(((((($R$5/$O$2)-($M14/$O$2))))/0.003)*G14*1000)*$O$3 -> -1131432 | Z14: =((((($S$5-$M14)))/0.003)*G14*1000)+(((((($S$5/$O$2)-($M14/$O$2))))/0.003)*G14*1000)*$O$3 -> -1580647.9
A15: 50 | B15: AUBE HAUTE MARNE | C15: 14 | D15: TROYES | E15: 410550 | F15: BAR SUR AUBE | G15: 2.988084 | H15: 217.21221 | I15: 1.4938553 | J15: 0.88301518 | K15: 72 | M15: =I15 -> 1.4938553 | U15: =((((($N$5-$M15)))/0.003)*G15*1000)+(((((($N$5/$O$2)-($M15/$O$2))))/0.003)*G15*1000)*$O$3 -> 12207617 | V15: =((((($O$5-$M15)))/0.003)*G15*1000)+(((((($O$5/$O$2)-($M15/$O$2))))/0.003)*G15*1000)*$O$3 -> 1522740 | W15: =((((($P$5-$M15)))/0.003)*G15*1000)+(((((($P$5/$O$2)-($M15/$O$2))))/0.003)*G15*1000)*$O$3 -> 517874.67 | X15: =((((($Q$5-$M15)))/0.003)*G15*1000)+(((((($Q$5/$O$2)-($M15/$O$2))))/0.003)*G15*1000)*$O$3 -> 194102.81 | Y15: =((((($R$5-$M15)))/0.003)*G15*1000)+(((((($R$5/$O$2)-($M15/$O$2))))/0.003)*G15*1000)*$O$3 -> -219320.78 | Z15: =((((($S$5-$M15)))/0.003)*G15*1000)+(((((($S$5/$O$2)-($M15/$O$2))))/0.003)*G15*1000)*$O$3 -> -583569.4
A16: 50 | B16: AUBE HAUTE MARNE | C16: 14 | D16: TROYES | E16: 510556 | F16: BAR SUR SEINE | G16: 3.7318809 | H16: 188.2839 | I16: 2.1572269 | J16: 0.83106609 | K16: 26 | M16: =I16 -> 2.1572269 | U16: =((((($N$5-$M16)))/0.003)*G16*1000)+(((((($N$5/$O$2)-($M16/$O$2))))/0.003)*G16*1000)*$O$3 -> 14349384 | V16: =((((($O$5-$M16)))/0.003)*G16*1000)+(((((($O$5/$O$2)-($M16/$O$2))))/0.003)*G16*1000)*$O$3 -> 1004816.8 | W16: =((((($P$5-$M16)))/0.003)*G16*1000)+(((((($P$5/$O$2)-($M16/$O$2))))/0.003)*G16*1000)*$O$3 -> -250180.7 | X16: =((((($Q$5-$M16)))/0.003)*G16*1000)+(((((($Q$5/$O$2)-($M16/$O$2))))/0.003)*G16*1000)*$O$3 -> -654546.18 | Y16: =((((($R$5-$M16)))/0.003)*G16*1000)+(((((($R$5/$O$2)-($M16/$O$2))))/0.003)*G16*1000)*$O$3 -> -1170879.6 | Z16: =((((($S$5-$M16)))/0.003)*G16*1000)+(((((($S$5/$O$2)-($M16/$O$2))))/0.003)*G16*1000)*$O$3 -> -1625797.3
A17: 50 | B17: AUBE HAUTE MARNE | C17: 14 | D17: TROYES | E17: 410551 | F17: BRIENNE LE CHÂTEAU | G17: 2.4135234 | H17: 106.24097 | I17: 0.65841573 | J17: 0.94843902 | K17: 208 | M17: =I17 -> 0.65841573 | U17: =((((($N$5-$M17)))/0.003)*G17*1000)+(((((($N$5/$O$2)-($M17/$O$2))))/0.003)*G17*1000)*$O$3 -> 10590851 | V17: =((((($O$5-$M17)))/0.003)*G17*1000)+(((((($O$5/$O$2)-($M17/$O$2))))/0.003)*G17*1000)*$O$3 -> 1960504.2 | W17: =((((($P$5-$M17)))/0.003)*G17*1000)+(((((($P$5/$O$2)-($M17/$O$2))))/0.003)*G17*1000)*$O$3 -> 1148858.3 | X17: =((((($Q$5-$M17)))/0.003)*G17*1000)+(((((($Q$5/$O$2)-($M17/$O$2))))/0.003)*G17*1000)*$O$3 -> 887342.6 | Y17: =((((($R$5-$M17)))/0.003)*G17*1000)+(((((($R$5/$O$2)-($M17/$O$2))))/0.003)*G17*1000)*$O$3 -> 553413.72 | Z17: =((((($S$5-$M17)))/0.003)*G17*1000)+(((((($S$5/$O$2)-($M17/$O$2))))/0.003)*G17*1000)*$O$3 -> 259204.26
... A297: 80 | B297: VOSGES | C297: 55 | D297: SAINT DIE | E297: 588666 | F297: VAGNEY | G297: 3.2073911 | H297: 227.37305 | I297: 1.4069556 | J297: 0.88982035 | K297: 88 | M297: =I297 -> 1.4069556 | U297: =((((($N$5-$M297)))/0.003)*G297*1000)+(((((($N$5/$O$2)-($M297/$O$2))))/0.003)*G297*1000)*$O$3 -> 13204567 | V297: =((((($O$5-$M297)))/0.003)*G297*1000)+(((((($O$5/$O$2)-($M297/$O$2))))/0.003)*G297*1000)*$O$3 -> 1735485.7 | W297: =((((($P$5-$M297)))/0.003)*G297*1000)+(((((($P$5/$O$2)-($M297/$O$2))))/0.003)*G297*1000)*$O$3 -> 656869.41 | X297: =((((($Q$5-$M297)))/0.003)*G297*1000)+(((((($Q$5/$O$2)-($M297/$O$2))))/0.003)*G297*1000)*$O$3 -> 309334.68 | Y297: =((((($R$5-$M297)))/0.003)*G297*1000)+(((((($R$5/$O$2)-($M297/$O$2))))/0.003)*G297*1000)*$O$3 -> -134431.69 | Z297: =((((($S$5-$M297)))/0.003)*G297*1000)+(((((($S$5/$O$2)-($M297/$O$2))))/0.003)*G297*1000)*$O$3 -> -525413.93

Sheet BAROM IZICARTES
A1: DONNEES DE BASES | M1: CALCULS | V1: NB VENTES NETTES DE CONTRATS PAR ENTITE
M2: NB CEGEE | N2: PNB CEGEE | O2: Taux Moyen | Q2: NB SEMAINES PASSEES | T2: ='[1]CA UC'!O2 -> 46
M3: =SUM(H5:H297) -> 2404.5679 | N3: =SUM(I5:I297) -> 1592.8493 | O3: =N3/M3 -> 0.66242643 | Q3: NB SEMAINES RESTANTES | T3: ='[1]CA UC'!O3 -> 4
B4: Direction | C4: eds | D4: Territoire | E4: eds | F4: Agence | G4: ETP perf au 30/09 | H4: Nb / ETP | I4: PNB / ETP | J4: % Ecart au 1er | K4: Rang | M4: taux moyen de PNB | N4: PNB / ETP | O4: Top 1 | P4: Top 10 | Q4: Top 30 | R4: Top 50 | S4: Top 100 | T4: Moyenne | V4: Atteinte Top1 | W4: Atteinte Top10 | X4: Atteinte Top30 | Y4: Atteinte Top50 | Z4: Atteinte Top100 | AA4: Atteinte Moyenne
A5: 50 | B5: AUBE HAUTE MARNE | C5: 21 | D5: CHAUMONT | E5: 410560 | F5: BOURBONNE LES BAINS | G5: 1.8999519 | H5: 12.10557 | I5: 7.6396671 | J5: 0.79539793 | K5: 65 | M5: =IF(ISERROR(I5/H5),$O$3,(I5/H5)) -> 0.63108696 | N5: =I5 -> 7.6396671 | O5: =VLOOKUP(1,$K$5:$N$297,4,0) -> 37.339148 | P5: =VLOOKUP(10,$K$5:$N$297,4,0) -> 14.481225 | Q5: =VLOOKUP(30,$K$5:$N$297,4,0) -> 9.80264 | R5: =VLOOKUP(50,$K$5:$N$297,4,0) -> 8.647499 | S5: =VLOOKUP(100,$K$5:$N$297,4,0) -> 6.2412357 | T5: =VLOOKUP(150,$K$5:$N$297,4,0) -> 4.6140168 | V5: =(((($O$5-N5))/M5)*G5)+((((($O$5-N5)/$T$2))*$T$3/M5)*G5) -> 97.1884 | W5: =(((($P$5-N5))/M5)*G5)+((((($P$5-N5)/$T$2))*$T$3/M5)*G5) -> 22.388273 | X5: =(((($Q$5-N5))/M5)*G5)+((((($Q$5-N5)/$T$2))*$T$3/M5)*G5) -> 7.0780994 | Y5: =(((($R$5-N5))/M5)*G5)+((((($R$5-N5)/$T$2))*$T$3/M5)*G5) -> 3.2980228 | Z5: =(((($S$5-N5))/M5)*G5)+((((($S$5-N5)/$T$2))*$T$3/M5)*G5) -> -4.5762185 | AA5: =(((($T$5-N5))/M5)*G5)+((((($T$5-N5)/$T$2))*$T$3/M5)*G5) -> -9.9011197
A6: 50 | B6: AUBE HAUTE MARNE | C6: 21 | D6: CHAUMONT | E6: 410566 | F6: CHAUMONT HOTEL DE VILLE | G6: 9.1914925 | H6: 6.0925905 | I6: 3.9808551 | J6: 0.89338656 | K6: 187 | M6: =IF(ISERROR(I6/H6),$O$3,(I6/H6)) -> 0.65339286 | N6: =I6 -> 3.9808551 | V6: =(((($O$5-N6))/M6)*G6)+((((($O$5-N6)/$T$2))*$T$3/M6)*G6) -> 510.06749 | W6: =(((($P$5-N6))/M6)*G6)+((((($P$5-N6)/$T$2))*$T$3/M6)*G6) -> 160.5567 | X6: =(((($Q$5-N6))/M6)*G6)+((((($Q$5-N6)/$T$2))*$T$3/M6)*G6) -> 89.018441 | Y6: =(((($R$5-N6))/M6)*G6)+((((($R$5-N6)/$T$2))*$T$3/M6)*G6) -> 71.355669 | Z6: =(((($S$5-N6))/M6)*G6)+((((($S$5-N6)/$T$2))*$T$3/M6)*G6) -> 34.562519 | AA6: =(((($T$5-N6))/M6)*G6)+((((($T$5-N6)/$T$2))*$T$3/M6)*G6) -> 9.6814059
A7: 50 | B7: AUBE HAUTE MARNE | C7: 21 | D7: CHAUMONT | E7: 510590 | F7: CHAUMONT REPUBLIQUE | G7: 2.4137029 | H7: -1.2429036 | I7: -1.1683294 | J7: 1.0312897 | K7: 291 | M7: =IF(ISERROR(I7/H7),$O$3,(I7/H7)) -> 0.94 | N7: =I7 -> -1.1683294 | V7: =(((($O$5-N7))/M7)*G7)+((((($O$5-N7)/$T$2))*$T$3/M7)*G7) -> 107.47642 | W7: =(((($P$5-N7))/M7)*G7)+((((($P$5-N7)/$T$2))*$T$3/M7)*G7) -> 43.678741 | X7: =(((($Q$5-N7))/M7)*G7)+((((($Q$5-N7)/$T$2))*$T$3/M7)*G7) -> 30.620561 | Y7: =(((($R$5-N7))/M7)*G7)+((((($R$5-N7)/$T$2))*$T$3/M7)*G7) -> 27.3965 | Z7: =(((($S$5-N7))/M7)*G7)+((((($S$5-N7)/$T$2))*$T$3/M7)*G7) -> 20.680491 | AA7: =(((($T$5-N7))/M7)*G7)+((((($T$5-N7)/$T$2))*$T$3/M7)*G7) -> 16.138836
A8: 50 | B8: AUBE HAUTE MARNE | C8: 21 | D8: CHAUMONT | E8: 451154 | F8: JOINVILLE | G8: 2.8152338 | H8: 0.35521029 | I8: 0.046177337 | J8: 0.9987633 | K8: 282 | M8: =IF(ISERROR(I8/H8),$O$3,(I8/H8)) -> 0.13 | N8: =I8 -> 0.046177337 | V8: =(((($O$5-N8))/M8)*G8)+((((($O$5-N8)/$T$2))*$T$3/M8)*G8) -> 877.82968 | W8: =(((($P$5-N8))/M8)*G8)+((((($P$5-N8)/$T$2))*$T$3/M8)*G8) -> 339.78289 | X8: =(((($Q$5-N8))/M8)*G8)+((((($Q$5-N8)/$T$2))*$T$3/M8)*G8) -> 229.65488 | Y8: =(((($R$5-N8))/M8)*G8)+((((($R$5-N8)/$T$2))*$T$3/M8)*G8) -> 202.46431 | Z8: =(((($S$5-N8))/M8)*G8)+((((($S$5-N8)/$T$2))*$T$3/M8)*G8) -> 145.82389 | AA8: =(((($T$5-N8))/M8)*G8)+((((($T$5-N8)/$T$2))*$T$3/M8)*G8) -> 107.5212
A9: 50 | B9: AUBE HAUTE MARNE | C9: 21 | D9: CHAUMONT | E9: 410541 | F9: LANGRES | G9: 6.6773488 | H9: 10.483203 | I9: 6.2419983 | J9: 0.83282965 | K9: 99 | M9: =IF(ISERROR(I9/H9),$O$3,(I9/H9)) -> 0.59542857 | N9: =I9 -> 6.2419983 | V9: =(((($O$5-N9))/M9)*G9)+((((($O$5-N9)/$T$2))*$T$3/M9)*G9) -> 379.05929 | W9: =(((($P$5-N9))/M9)*G9)+((((($P$5-N9)/$T$2))*$T$3/M9)*G9) -> 100.43221 | X9: =(((($Q$5-N9))/M9)*G9)+((((($Q$5-N9)/$T$2))*$T$3/M9)*G9) -> 43.402509 | Y9: =(((($R$5-N9))/M9)*G9)+((((($R$5-N9)/$T$2))*$T$3/M9)*G9) -> 29.321895 | Z9: =(((($S$5-N9))/M9)*G9)+((((($S$5-N9)/$T$2))*$T$3/M9)*G9) -> -0.0092966649 | AA9: =(((($T$5-N9))/M9)*G9)+((((($T$5-N9)/$T$2))*$T$3/M9)*G9) -> -19.844312
A10: 50 | B10: AUBE HAUTE MARNE | C10: 21 | D10: CHAUMONT | E10: 410582 | F10: NOGENT EN BASSIGNY | G10: 2.0789474 | H10: 9.1392405 | I10: 6.3589873 | J10: 0.82969651 | K10: 95 | M10: =IF(ISERROR(I10/H10),$O$3,(I10/H10)) -> 0.69578947 | N10: =I10 -> 6.3589873 | V10: =(((($O$5-N10))/M10)*G10)+((((($O$5-N10)/$T$2))*$T$3/M10)*G10) -> 100.61471 | W10: =(((($P$5-N10))/M10)*G10)+((((($P$5-N10)/$T$2))*$T$3/M10)*G10) -> 26.378708 | X10: =(((($Q$5-N10))/M10)*G10)+((((($Q$5-N10)/$T$2))*$T$3/M10)*G10) -> 11.184 | Y10: =(((($R$5-N10))/M10)*G10)+((((($R$5-N10)/$T$2))*$T$3/M10)*G10) -> 7.4324318 | Z10: =(((($S$5-N10))/M10)*G10)+((((($S$5-N10)/$T$2))*$T$3/M10)*G10) -> -0.38242385 | AA10: =(((($T$5-N10))/M10)*G10)+((((($T$5-N10)/$T$2))*$T$3/M10)*G10) -> -5.6671658
A11: 50 | B11: AUBE HAUTE MARNE | C11: 21 | D11: CHAUMONT | E11: 451156 | F11: SAINT DIZIER CENTRE | G11: 5.4163614 | H11: 8.3081606 | I11: 4.8381188 | J11: 0.87042771 | K11: 138 | M11: =IF(ISERROR(I11/H11),$O$3,(I11/H11)) -> 0.58233333 | N11: =I11 -> 4.8381188 | V11: =(((($O$5-N11))/M11)*G11)+((((($O$5-N11)/$T$2))*$T$3/M11)*G11) -> 328.58313 | W11: =(((($P$5-N11))/M11)*G11)+((((($P$5-N11)/$T$2))*$T$3/M11)*G11) -> 97.491131 | X11: =(((($Q$5-N11))/M11)*G11)+((((($Q$5-N11)/$T$2))*$T$3/M11)*G11) -> 50.190962 | Y11: =(((($R$5-N11))/M11)*G11)+((((($R$5-N11)/$T$2))*$T$3/M11)*G11) -> 38.512567 | Z11: =(((($S$5-N11))/M11)*G11)+((((($S$5-N11)/$T$2))*$T$3/M11)*G11) -> 14.185413 | AA11: =(((($T$5-N11))/M11)*G11)+((((($T$5-N11)/$T$2))*$T$3/M11)*G11) -> -2.2656563
A12: 50 | B12: AUBE HAUTE MARNE | C12: 21 | D12: CHAUMONT | E12: 551157 | F12: SAINT DIZIER EUROPE | G12: 2.5347178 | H12: 9.0739883 | I12: 4.8348577 | J12: 0.87051505 | K12: 139 | M12: =IF(ISERROR(I12/H12),$O$3,(I12/H12)) -> 0.53282609 | N12: =I12 -> 4.8348577 | V12: =(((($O$5-N12))/M12)*G12)+((((($O$5-N12)/$T$2))*$T$3/M12)*G12) -> 168.07263 | W12: =(((($P$5-N12))/M12)*G12)+((((($P$5-N12)/$T$2))*$T$3/M12)*G12) -> 49.879273 | X12: =(((($Q$5-N12))/M12)*G12)+((((($Q$5-N12)/$T$2))*$T$3/M12)*G12) -> 25.687324 | Y12: =(((($R$5-N12))/M12)*G12)+((((($R$5-N12)/$T$2))*$T$3/M12)*G12) -> 19.714341 | Z12: =(((($S$5-N12))/M12)*G12)+((((($S$5-N12)/$T$2))*$T$3/M12)*G12) -> 7.2720752 | AA12: =(((($T$5-N12))/M12)*G12)+((((($T$5-N12)/$T$2))*$T$3/M12)*G12) -> -1.1419205
A13: 50 | B13: AUBE HAUTE MARNE | C13: 21 | D13: CHAUMONT | E13: 451151 | F13: WASSY | G13: 2.8184252 | H13: 8.8702018 | I13: 6.198497 | J13: 0.83399468 | K13: 106 | M13: =IF(ISERROR(I13/H13),$O$3,(I13/H13)) -> 0.6988 | N13: =I13 -> 6.198497 | V13: =(((($O$5-N13))/M13)*G13)+((((($O$5-N13)/$T$2))*$T$3/M13)*G13) -> 136.51912 | W13: =(((($P$5-N13))/M13)*G13)+((((($P$5-N13)/$T$2))*$T$3/M13)*G13) -> 36.311082 | X13: =(((($Q$5-N13))/M13)*G13)+((((($Q$5-N13)/$T$2))*$T$3/M13)*G13) -> 15.80039 | Y13: =(((($R$5-N13))/M13)*G13)+((((($R$5-N13)/$T$2))*$T$3/M13)*G13) -> 10.736307 | Z13: =(((($S$5-N13))/M13)*G13)+((((($S$5-N13)/$T$2))*$T$3/M13)*G13) -> 0.18736411 | AA13: =(((($T$5-N13))/M13)*G13)+((((($T$5-N13)/$T$2))*$T$3/M13)*G13) -> -6.9462853
A14: 50 | B14: AUBE HAUTE MARNE | C14: 14 | D14: TROYES | E14: 510530 | F14: ARCIS SUR AUBE | G14: 3.6851069 | H14: 6.7840637 | I14: 4.6945721 | J14: 0.87427212 | K14: 145 | M14: =IF(ISERROR(I14/H14),$O$3,(I14/H14)) -> 0.692 | N14: =I14 -> 4.6945721 | V14: =(((($O$5-N14))/M14)*G14)+((((($O$5-N14)/$T$2))*$T$3/M14)*G14) -> 188.95883 | W14: =(((($P$5-N14))/M14)*G14)+((((($P$5-N14)/$T$2))*$T$3/M14)*G14) -> 56.648755 | X14: =(((($Q$5-N14))/M14)*G14)+((((($Q$5-N14)/$T$2))*$T$3/M14)*G14) -> 29.56738 | Y14: =(((($R$5-N14))/M14)*G14)+((((($R$5-N14)/$T$2))*$T$3/M14)*G14) -> 22.880998 | Z14: =(((($S$5-N14))/M14)*G14)+((((($S$5-N14)/$T$2))*$T$3/M14)*G14) -> 8.9526589 | AA14: =(((($T$5-N14))/M14)*G14)+((((($T$5-N14)/$T$2))*$T$3/M14)*G14) -> -0.46628366
A15: 50 | B15: AUBE HAUTE MARNE | C15: 14 | D15: TROYES | E15: 410550 | F15: BAR SUR AUBE | G15: 2.988084 | H15: 2.6773009 | I15: 1.8573775 | J15: 0.95025656 | K15: 243 | M15: =IF(ISERROR(I15/H15),$O$3,(I15/H15)) -> 0.69375 | N15: =I15 -> 1.8573775 | V15: =(((($O$5-N15))/M15)*G15)+((((($O$5-N15)/$T$2))*$T$3/M15)*G15) -> 166.11439 | W15: =(((($P$5-N15))/M15)*G15)+((((($P$5-N15)/$T$2))*$T$3/M15)*G15) -> 59.10085 | X15: =(((($Q$5-N15))/M15)*G15)+((((($Q$5-N15)/$T$2))*$T$3/M15)*G15) -> 37.197199 | Y15: =(((($R$5-N15))/M15)*G15)+((((($R$5-N15)/$T$2))*$T$3/M15)*G15) -> 31.789195 | Z15: =(((($S$5-N15))/M15)*G15)+((((($S$5-N15)/$T$2))*$T$3/M15)*G15) -> 20.523833 | AA15: =(((($T$5-N15))/M15)*G15)+((((($T$5-N15)/$T$2))*$T$3/M15)*G15) -> 12.905711
A16: 50 | B16: AUBE HAUTE MARNE | C16: 14 | D16: TROYES | E16: 510556 | F16: BAR SUR SEINE | G16: 3.7318809 | H16: 4.5553436 | I16: 2.8926432 | J16: 0.92253055 | K16: 221 | M16: =IF(ISERROR(I16/H16),$O$3,(I16/H16)) -> 0.635 | N16: =I16 -> 2.8926432 | V16: =(((($O$5-N16))/M16)*G16)+((((($O$5-N16)/$T$2))*$T$3/M16)*G16) -> 220.04494 | W16: =(((($P$5-N16))/M16)*G16)+((((($P$5-N16)/$T$2))*$T$3/M16)*G16) -> 74.028086 | X16: =(((($Q$5-N16))/M16)*G16)+((((($Q$5-N16)/$T$2))*$T$3/M16)*G16) -> 44.141194 | Y16: =(((($R$5-N16))/M16)*G16)+((((($R$5-N16)/$T$2))*$T$3/M16)*G16) -> 36.76213 | Z16: =(((($S$5-N16))/M16)*G16)+((((($S$5-N16)/$T$2))*$T$3/M16)*G16) -> 21.390874 | AA16: =(((($T$5-N16))/M16)*G16)+((((($T$5-N16)/$T$2))*$T$3/M16)*G16) -> 10.996168
A17: 50 | B17: AUBE HAUTE MARNE | C17: 14 | D17: TROYES | E17: 410551 | F17: BRIENNE LE CHÂTEAU | G17: 2.4135234 | H17: 7.457976 | I17: 4.3069812 | J17: 0.8846524 | K17: 166 | M17: =IF(ISERROR(I17/H17),$O$3,(I17/H17)) -> 0.5775 | N17: =I17 -> 4.3069812 | V17: =(((($O$5-N17))/M17)*G17)+((((($O$5-N17)/$T$2))*$T$3/M17)*G17) -> 150.05441 | W17: =(((($P$5-N17))/M17)*G17)+((((($P$5-N17)/$T$2))*$T$3/M17)*G17) -> 46.218288 | X17: =(((($Q$5-N17))/M17)*G17)+((((($Q$5-N17)/$T$2))*$T$3/M17)*G17) -> 24.964994 | Y17: =(((($R$5-N17))/M17)*G17)+((((($R$5-N17)/$T$2))*$T$3/M17)*G17) -> 19.717563 | Z17: =(((($S$5-N17))/M17)*G17)+((((($S$5-N17)/$T$2))*$T$3/M17)*G17) -> 8.7866903 | AA17: =(((($T$5-N17))/M17)*G17)+((((($T$5-N17)/$T$2))*$T$3/M17)*G17) -> 1.3947631
... A297: 80 | B297: VOSGES | C297: 55 | D297: SAINT DIE | E297: 588666 | F297: VAGNEY | G297: 3.2073911 | H297: 17.771453 | I297: 11.716688 | J297: 0.68620903 | K297: 17 | M297: =IF(ISERROR(I297/H297),$O$3,(I297/H297)) -> 0.65929825 | N297: =I297 -> 11.716688 | V297: =(((($O$5-N297))/M297)*G297)+((((($O$5-N297)/$T$2))*$T$3/M297)*G297) -> 135.48868 | W297: =(((($P$5-N297))/M297)*G297)+((((($P$5-N297)/$T$2))*$T$3/M297)*G297) -> 14.618563 | X297: =(((($Q$5-N297))/M297)*G297)+((((($Q$5-N297)/$T$2))*$T$3/M297)*G297) -> -10.121267 | Y297: =(((($R$5-N297))/M297)*G297)+((((($R$5-N297)/$T$2))*$T$3/M297)*G297) -> -16.229523 | Z297: =(((($S$5-N297))/M297)*G297)+((((($S$5-N297)/$T$2))*$T$3/M297)*G297) -> -28.953572 | AA297: =(((($T$5-N297))/M297)*G297)+((((($T$5-N297)/$T$2))*$T$3/M297)*G297) -> -37.558122

Sheet BAROM CARTES HDG
A1: DONNEES DE BASES | M1: CALCULS | V1: NB VENTES NETTES DE CONTRATS PAR ENTITE
M2: NB CEGEE | N2: PNB CEGEE | O2: Taux Moyen | Q2: NB SEMAINES PASSEES | T2: ='[1]CA UC'!O2 -> 46
M3: =SUM(H5:H297) -> 3953.6777 | N3: =SUM(I5:I297) -> 2660.5627 | O3: =N3/M3 -> 0.67293363 | Q3: NB SEMAINES RESTANTES | T3: ='[1]CA UC'!O3 -> 4
B4: Direction | C4: eds | D4: Territoire | E4: eds | F4: Agence | G4: ETP perf au 30/09 | H4: Nb / ETP | I4: PNB / ETP | J4: % Ecart au 1er | K4: Rang | M4: taux moyen de PNB | N4: PNB / ETP | O4: Top 1 | P4: Top 10 | Q4: Top 30 | R4: Top 50 | S4: Top 100 | T4: Moyenne | V4: Atteinte Top1 | W4: Atteinte Top10 | X4: Atteinte Top30 | Y4: Atteinte Top50 | Z4: Atteinte Top100 | AA4: Atteinte Moyenne
A5: 50 | B5: AUBE HAUTE MARNE | C5: 21 | D5: CHAUMONT | E5: 410560 | F5: BOURBONNE LES BAINS | G5: 1.8999519 | H5: 15.789873 | I5: 10.263418 | J5: 0.77531283 | K5: 103 | M5: =IF(ISERROR(I5/H5),$O$3,(I5/H5)) -> 0.65 | N5: =I5 -> 10.263418 | O5: =VLOOKUP(1,$K$5:$N$297,4,0) -> 45.6787 | P5: =VLOOKUP(10,$K$5:$N$297,4,0) -> 21.612063 | Q5: =VLOOKUP(30,$K$5:$N$297,4,0) -> 16.169175 | R5: =VLOOKUP(50,$K$5:$N$297,4,0) -> 14.19743 | S5: =VLOOKUP(100,$K$5:$N$297,4,0) -> 10.326323 | T5: =VLOOKUP(150,$K$5:$N$297,4,0) -> 8.267976 | V5: =(((($O$5-N5))/M5)*G5)+((((($O$5-N5)/$T$2))*$T$3/M5)*G5) -> 112.52062 | W5: =(((($P$5-N5))/M5)*G5)+((((($P$5-N5)/$T$2))*$T$3/M5)*G5) -> 36.056657 | X5: =(((($Q$5-N5))/M5)*G5)+((((($Q$5-N5)/$T$2))*$T$3/M5)*G5) -> 18.763637 | Y5: =(((($R$5-N5))/M5)*G5)+((((($R$5-N5)/$T$2))*$T$3/M5)*G5) -> 12.499054 | Z5: =(((($S$5-N5))/M5)*G5)+((((($S$5-N5)/$T$2))*$T$3/M5)*G5) -> 0.1998603 | AA5: =(((($T$5-N5))/M5)*G5)+((((($T$5-N5)/$T$2))*$T$3/M5)*G5) -> -6.3398718
A6: 50 | B6: AUBE HAUTE MARNE | C6: 21 | D6: CHAUMONT | E6: 410566 | F6: CHAUMONT HOTEL DE VILLE | G6: 9.1914925 | H6: 15.99305 | I6: 11.029221 | J6: 0.75854784 | K6: 87 | M6: =IF(ISERROR(I6/H6),$O$3,(I6/H6)) -> 0.68962585 | N6: =I6 -> 11.029221 | V6: =(((($O$5-N6))/M6)*G6)+((((($O$5-N6)/$T$2))*$T$3/M6)*G6) -> 501.97419 | W6: =(((($P$5-N6))/M6)*G6)+((((($P$5-N6)/$T$2))*$T$3/M6)*G6) -> 153.31584 | X6: =(((($Q$5-N6))/M6)*G6)+((((($Q$5-N6)/$T$2))*$T$3/M6)*G6) -> 74.463584 | Y6: =(((($R$5-N6))/M6)*G6)+((((($R$5-N6)/$T$2))*$T$3/M6)*G6) -> 45.898506 | Z6: =(((($S$5-N6))/M6)*G6)+((((($S$5-N6)/$T$2))*$T$3/M6)*G6) -> -10.18303 | AA6: =(((($T$5-N6))/M6)*G6)+((((($T$5-N6)/$T$2))*$T$3/M6)*G6) -> -40.002726
A7: 50 | B7: AUBE HAUTE MARNE | C7: 21 | D7: CHAUMONT | E7: 510590 | F7: CHAUMONT REPUBLIQUE | G7: 2.4137029 | H7: -6.2145179 | I7: -4.0394366 | J7: 1.0884315 | K7: 293 | M7: =IF(ISERROR(I7/H7),$O$3,(I7/H7)) -> 0.65 | N7: =I7 -> -4.0394366 | V7: =(((($O$5-N7))/M7)*G7)+((((($O$5-N7)/$T$2))*$T$3/M7)*G7) -> 200.67694 | W7: =(((($P$5-N7))/M7)*G7)+((((($P$5-N7)/$T$2))*$T$3/M7)*G7) -> 103.53696 | X7: =(((($Q$5-N7))/M7)*G7)+((((($Q$5-N7)/$T$2))*$T$3/M7)*G7) -> 81.567868 | Y7: =(((($R$5-N7))/M7)*G7)+((((($R$5-N7)/$T$2))*$T$3/M7)*G7) -> 73.609329 | Z7: =(((($S$5-N7))/M7)*G7)+((((($S$5-N7)/$T$2))*$T$3/M7)*G7) -> 57.984407 | AA7: =(((($T$5-N7))/M7)*G7)+((((($T$5-N7)/$T$2))*$T$3/M7)*G7) -> 49.676317
A8: 50 | B8: AUBE HAUTE MARNE | C8: 21 | D8: CHAUMONT | E8: 451154 | F8: JOINVILLE | G8: 2.8152338 | H8: -1.4208412 | I8: -0.67489955 | J8: 1.0147749 | K8: 290 | M8: =IF(ISERROR(I8/H8),$O$3,(I8/H8)) -> 0.475 | N8: =I8 -> -0.67489955 | V8: =(((($O$5-N8))/M8)*G8)+((((($O$5-N8)/$T$2))*$T$3/M8)*G8) -> 298.61835 | W8: =(((($P$5-N8))/M8)*G8)+((((($P$5-N8)/$T$2))*$T$3/M8)*G8) -> 143.57668 | X8: =(((($Q$5-N8))/M8)*G8)+((((($Q$5-N8)/$T$2))*$T$3/M8)*G8) -> 108.5126 | Y8: =(((($R$5-N8))/M8)*G8)+((((($R$5-N8)/$T$2))*$T$3/M8)*G8) -> 95.810263 | Z8: =(((($S$5-N8))/M8)*G8)+((((($S$5-N8)/$T$2))*$T$3/M8)*G8) -> 70.871882 | AA8: =(((($T$5-N8))/M8)*G8)+((((($T$5-N8)/$T$2))*$T$3/M8)*G8) -> 57.611637
A9: 50 | B9: AUBE HAUTE MARNE | C9: 21 | D9: CHAUMONT | E9: 410541 | F9: LANGRES | G9: 6.6773488 | H9: 7.9372819 | I9: 5.4213133 | J9: 0.88131638 | K9: 215 | M9: =IF(ISERROR(I9/H9),$O$3,(I9/H9)) -> 0.68301887 | N9: =I9 -> 5.4213133 | V9: =(((($O$5-N9))/M9)*G9)+((((($O$5-N9)/$T$2))*$T$3/M9)*G9) -> 427.78851 | W9: =(((($P$5-N9))/M9)*G9)+((((($P$5-N9)/$T$2))*$T$3/M9)*G9) -> 172.04835 | X9: =(((($Q$5-N9))/M9)*G9)+((((($Q$5-N9)/$T$2))*$T$3/M9)*G9) -> 114.21039 | Y9: =(((($R$5-N9))/M9)*G9)+((((($R$5-N9)/$T$2))*$T$3/M9)*G9) -> 93.257964 | Z9: =(((($S$5-N9))/M9)*G9)+((((($S$5-N9)/$T$2))*$T$3/M9)*G9) -> 52.122277 | AA9: =(((($T$5-N9))/M9)*G9)+((((($T$5-N9)/$T$2))*$T$3/M9)*G9) -> 30.249593
A10: 50 | B10: AUBE HAUTE MARNE | C10: 21 | D10: CHAUMONT | E10: 410582 | F10: NOGENT EN BASSIGNY | G10: 2.0789474 | H10: 12.987342 | I10: 8.4417722 | J10: 0.81519237 | K10: 141 | M10: =IF(ISERROR(I10/H10),$O$3,(I10/H10)) -> 0.65 | N10: =I10 -> 8.4417722 | V10: =(((($O$5-N10))/M10)*G10)+((((($O$5-N10)/$T$2))*$T$3/M10)*G10) -> 129.4542 | W10: =(((($P$5-N10))/M10)*G10)+((((($P$5-N10)/$T$2))*$T$3/M10)*G10) -> 45.786526 | X10: =(((($Q$5-N10))/M10)*G10)+((((($Q$5-N10)/$T$2))*$T$3/M10)*G10) -> 26.864321 | Y10: =(((($R$5-N10))/M10)*G10)+((((($R$5-N10)/$T$2))*$T$3/M10)*G10) -> 20.009549 | Z10: =(((($S$5-N10))/M10)*G10)+((((($S$5-N10)/$T$2))*$T$3/M10)*G10) -> 6.5516412 | AA10: =(((($T$5-N10))/M10)*G10)+((((($T$5-N10)/$T$2))*$T$3/M10)*G10) -> -0.60420252
A11: 50 | B11: AUBE HAUTE MARNE | C11: 21 | D11: CHAUMONT | E11: 451156 | F11: SAINT DIZIER CENTRE | G11: 5.4163614 | H11: 11.816051 | I11: 7.6804329 | J11: 0.83185964 | K11: 164 | M11: =IF(ISERROR(I11/H11),$O$3,(I11/H11)) -> 0.65 | N11: =I11 -> 7.6804329 | V11: =(((($O$5-N11))/M11)*G11)+((((($O$5-N11)/$T$2))*$T$3/M11)*G11) -> 344.1678 | W11: =(((($P$5-N11))/M11)*G11)+((((($P$5-N11)/$T$2))*$T$3/M11)*G11) -> 126.18519 | X11: =(((($Q$5-N11))/M11)*G11)+((((($Q$5-N11)/$T$2))*$T$3/M11)*G11) -> 76.886447 | Y11: =(((($R$5-N11))/M11)*G11)+((((($R$5-N11)/$T$2))*$T$3/M11)*G11) -> 59.027445 | Z11: =(((($S$5-N11))/M11)*G11)+((((($S$5-N11)/$T$2))*$T$3/M11)*G11) -> 23.965043 | AA11: =(((($T$5-N11))/M11)*G11)+((((($T$5-N11)/$T$2))*$T$3/M11)*G11) -> 5.3216483
A12: 50 | B12: AUBE HAUTE MARNE | C12: 21 | D12: CHAUMONT | E12: 551157 | F12: SAINT DIZIER EUROPE | G12: 2.5347178 | H12: 11.835637 | I12: 8.1961786 | J12: 0.82056892 | K12: 152 | M12: =IF(ISERROR(I12/H12),$O$3,(I12/H12)) -> 0.6925 | N12: =I12 -> 8.1961786 | V12: =(((($O$5-N12))/M12)*G12)+((((($O$5-N12)/$T$2))*$T$3/M12)*G12) -> 149.12512 | W12: =(((($P$5-N12))/M12)*G12)+((((($P$5-N12)/$T$2))*$T$3/M12)*G12) -> 53.375424 | X12: =(((($Q$5-N12))/M12)*G12)+((((($Q$5-N12)/$T$2))*$T$3/M12)*G12) -> 31.72076 | Y12: =(((($R$5-N12))/M12)*G12)+((((($R$5-N12)/$T$2))*$T$3/M12)*G12) -> 23.876125 | Z12: =(((($S$5-N12))/M12)*G12)+((((($S$5-N12)/$T$2))*$T$3/M12)*G12) -> 8.4748301 | AA12: =(((($T$5-N12))/M12)*G12)+((((($T$5-N12)/$T$2))*$T$3/M12)*G12) -> 0.28564759
A13: 50 | B13: AUBE HAUTE MARNE | C13: 21 | D13: CHAUMONT | E13: 451151 | F13: WASSY | G13: 2.8184252 | H13: 15.256747 | I13: 10.165251 | J13: 0.7774619 | K13: 106 | M13: =IF(ISERROR(I13/H13),$O$3,(I13/H13)) -> 0.66627907 | N13: =I13 -> 10.165251 | V13: =(((($O$5-N13))/M13)*G13)+((((($O$5-N13)/$T$2))*$T$3/M13)*G13) -> 163.28841 | W13: =(((($P$5-N13))/M13)*G13)+((((($P$5-N13)/$T$2))*$T$3/M13)*G13) -> 52.63166 | X13: =(((($Q$5-N13))/M13)*G13)+((((($Q$5-N13)/$T$2))*$T$3/M13)*G13) -> 27.605631 | Y13: =(((($R$5-N13))/M13)*G13)+((((($R$5-N13)/$T$2))*$T$3/M13)*G13) -> 18.539683 | Z13: =(((($S$5-N13))/M13)*G13)+((((($S$5-N13)/$T$2))*$T$3/M13)*G13) -> 0.74059552 | AA13: =(((($T$5-N13))/M13)*G13)+((((($T$5-N13)/$T$2))*$T$3/M13)*G13) -> -8.7235421
A14: 50 | B14: AUBE HAUTE MARNE | C14: 14 | D14: TROYES | E14: 510530 | F14: ARCIS SUR AUBE | G14: 3.6851069 | H14: 13.83949 | I14: 9.2805991 | J14: 0.79682874 | K14: 122 | M14: =IF(ISERROR(I14/H14),$O$3,(I14/H14)) -> 0.67058824 | N14: =I14 -> 9.2805991 | V14: =(((($O$5-N14))/M14)*G14)+((((($O$5-N14)/$T$2))*$T$3/M14)*G14) -> 217.41278 | W14: =(((($P$5-N14))/M14)*G14)+((((($P$5-N14)/$T$2))*$T$3/M14)*G14) -> 73.658181 | X14: =(((($Q$5-N14))/M14)*G14)+((((($Q$5-N14)/$T$2))*$T$3/M14)*G14) -> 41.146774 | Y14: =(((($R$5-N14))/M14)*G14)+((((($R$5-N14)/$T$2))*$T$3/M14)*G14) -> 29.369167 | Z14: =(((($S$5-N14))/M14)*G14)+((((($S$5-N14)/$T$2))*$T$3/M14)*G14) -> 6.246306 | AA14: =(((($T$5-N14))/M14)*G14)+((((($T$5-N14)/$T$2))*$T$3/M14)*G14) -> -6.0485903
A15: 50 | B15: AUBE HAUTE MARNE | C15: 14 | D15: TROYES | E15: 410550 | F15: BAR SUR AUBE | G15: 2.988084 | H15: 9.370553 | I15: 6.2079914 | J15: 0.86409439 | K15: 195 | M15: =IF(ISERROR(I15/H15),$O$3,(I15/H15)) -> 0.6625 | N15: =I15 -> 6.2079914 | V15: =(((($O$5-N15))/M15)*G15)+((((($O$5-N15)/$T$2))*$T$3/M15)*G15) -> 193.50582 | W15: =(((($P$5-N15))/M15)*G15)+((((($P$5-N15)/$T$2))*$T$3/M15)*G15) -> 75.518723 | X15: =(((($Q$5-N15))/M15)*G15)+((((($Q$5-N15)/$T$2))*$T$3/M15)*G15) -> 48.834871 | Y15: =(((($R$5-N15))/M15)*G15)+((((($R$5-N15)/$T$2))*$T$3/M15)*G15) -> 39.168358 | Z15: =(((($S$5-N15))/M15)*G15)+((((($S$5-N15)/$T$2))*$T$3/M15)*G15) -> 20.190189 | AA15: =(((($T$5-N15))/M15)*G15)+((((($T$5-N15)/$T$2))*$T$3/M15)*G15) -> 10.099109
A16: 50 | B16: AUBE HAUTE MARNE | C16: 14 | D16: TROYES | E16: 510556 | F16: BAR SUR SEINE | G16: 3.7318809 | H16: 7.7708803 | I16: 6.0760245 | J16: 0.86698342 | K16: 202 | M16: =IF(ISERROR(I16/H16),$O$3,(I16/H16)) -> 0.78189655 | N16: =I16 -> 6.0760245 | V16: =(((($O$5-N16))/M16)*G16)+((((($O$5-N16)/$T$2))*$T$3/M16)*G16) -> 205.45427 | W16: =(((($P$5-N16))/M16)*G16)+((((($P$5-N16)/$T$2))*$T$3/M16)*G16) -> 80.599242 | X16: =(((($Q$5-N16))/M16)*G16)+((((($Q$5-N16)/$T$2))*$T$3/M16)*G16) -> 52.362142 | Y16: =(((($R$5-N16))/M16)*G16)+((((($R$5-N16)/$T$2))*$T$3/M16)*G16) -> 42.132949 | Z16: =(((($S$5-N16))/M16)*G16)+((((($S$5-N16)/$T$2))*$T$3/M16)*G16) -> 22.050074 | AA16: =(((($T$5-N16))/M16)*G16)+((((($T$5-N16)/$T$2))*$T$3/M16)*G16) -> 11.3716
A17: 50 | B17: AUBE HAUTE MARNE | C17: 14 | D17: TROYES | E17: 410551 | F17: BRIENNE LE CHÂTEAU | G17: 2.4135234 | H17: 12.844292 | I17: 8.3487898 | J17: 0.81722795 | K17: 145 | M17: =IF(ISERROR(I17/H17),$O$3,(I17/H17)) -> 0.65 | N17: =I17 -> 8.3487898 | V17: =(((($O$5-N17))/M17)*G17)+((((($O$5-N17)/$T$2))*$T$3/M17)*G17) -> 150.66323 | W17: =(((($P$5-N17))/M17)*G17)+((((($P$5-N17)/$T$2))*$T$3/M17)*G17) -> 53.530471 | X17: =(((($Q$5-N17))/M17)*G17)+((((($Q$5-N17)/$T$2))*$T$3/M17)*G17) -> 31.563015 | Y17: =(((($R$5-N17))/M17)*G17)+((((($R$5-N17)/$T$2))*$T$3/M17)*G17) -> 23.605068 | Z17: =(((($S$5-N17))/M17)*G17)+((((($S$5-N17)/$T$2))*$T$3/M17)*G17) -> 7.9813076 | AA17: =(((($T$5-N17))/M17)*G17)+((((($T$5-N17)/$T$2))*$T$3/M17)*G17) -> -0.32616414
... A297: 80 | B297: VOSGES | C297: 55 | D297: SAINT DIE | E297: 588666 | F297: VAGNEY | G297: 3.2073911 | H297: 30.866207 | I297: 20.936018 | J297: 0.54166781 | K297: 11 | M297: =IF(ISERROR(I297/H297),$O$3,(I297/H297)) -> 0.67828283 | N297: =I297 -> 20.936018 | V297: =(((($O$5-N297))/M297)*G297)+((((($O$5-N297)/$T$2))*$T$3/M297)*G297) -> 127.1745 | W297: =(((($P$5-N297))/M297)*G297)+((((($P$5-N297)/$T$2))*$T$3/M297)*G297) -> 3.4747931 | X297: =(((($Q$5-N297))/M297)*G297)+((((($Q$5-N297)/$T$2))*$T$3/M297)*G297) -> -24.501019 | Y297: =(((($R$5-N297))/M297)*G297)+((((($R$5-N297)/$T$2))*$T$3/M297)*G297) -> -34.635559 | Z297: =(((($S$5-N297))/M297)*G297)+((((($S$5-N297)/$T$2))*$T$3/M297)*G297) -> -54.5326 | AA297: =(((($T$5-N297))/M297)*G297)+((((($T$5-N297)/$T$2))*$T$3/M297)*G297) -> -65.112262

Sheet S45
A2: REGIONS | B2: TERRITOIRES | C2: AGENCES | D2: ETP Perf moyen annuel | F2: Taux PV sais. (max 9%) | G2: Taux PV annuel (max 9%) | I2: Nb items > 100% de l'objectif sais. | J2: Nb items > 100% de l'objectif annuel | L2: Excédents de collecte yc DAV depuis le 01/01 (en K€) | X2: Engagements nets Crédit Conso depuis le 01/01 (en K€) avec coefficients | AH2: Ventes brutes IARD / Prévoyance depuis le 01/01 avec coefficients | AR2: Nombre brut Mandats Mobilité depuis le 01/01 avec coefficients | BB2: Ventes brutes Forfaits depuis le 01/01 avec coefficients | BL2: Complétude DRC Stock et Traitement RPM Risques majeurs
L3: EMJ au 10/20 & Exc. hors DAV au 09/11/20 - Saisonnalité attendue : 94% - Tx PV max : 1% | X3: Au 07/11/20 - Saisonnalité attendue : 94% - Tx PV max : 2% | AH3: Au 07/11/20 - Saisonnalité attendue : 94% - Tx PV max : 2% | AR3: Au 01/11/20 - Saisonnalité attendue : 94% - Tx PV max : 1% | BB3: Au 09/11/20 - Saisonnalité attendue : 94% - Tx PV max : 2% | BL3: DRC arretés à fin 09/2020 - RPM arrêtés à fin 09/2020
L4: EMJ DAV / M-12 | M4: Exc. hors DAV J-1 | N4: Exc. yc DAV (M-12) | O4: Réal. / ETP | P4: Obj / ETP | Q4: % Réal. | R4: Ecart / 120% de l'attendu | S4: Taux PV sais. | T4: Taux PV | U4: RàF pour 100% | V4: RàF pour 120% | X4: Engag. nets Conso | Y4: Réal. / ETP | Z4: Obj / ETP | AA4: % Réal. | AB4: Ecart / 120% de l'attendu | AC4: Taux PV sais. | AD4: Taux PV | AE4: RàF pour 100% | AF4: RàF pour 120% | AH4: VB Iard Prev | AI4: Réal. / ETP | AJ4: Obj / ETP | AK4: % Réal. | AL4: Ecart / 120% de l'attendu | AM4: Taux PV sais. | AN4: Taux PV | AO4: RàF pour 100% | AP4: RàF pour 120% | AR4: Nb Mob | AS4: Réal. / ETP | AT4: Obj / ETP | AU4: % Réal. | AV4: Ecart / 120% de l'attendu | AW4: Taux PV sais. | AX4: Taux PV | AY4: RàF pour 100% | AZ4: RàF pour 120% | BB4: VB Forf | BC4: Réal. / ETP | BD4: Obj / ETP | BE4: % Réal. | BF4: Ecart / 120% de l'attendu | BG4: Taux PV sais. | BH4: Taux PV | BI4: RàF pour 100% | BJ4: RàF pour 120% | BL4: Obj DRC | BM4: Taux compl. DRC | BN4: Taux PV | BO4: Obj RPM | BP4: Taux trait. RPM | BQ4: Taux PV
D5: Au 09/20 | F5: info | G5: info | I5: info | J5: info
A6: AUBE HAUTE MARNE | B6: CHAUMONT | C6: BOURBONNE LES BAINS | D6: 1.8999519 | F6: 0.057 | G6: 0.0395 | I6: 6 | J6: 6 | L6: 265.52704 | M6: 237.11945 | N6: 502.64649 | O6: 264.55748 | P6: 234.656 | Q6: 1.1274269 | R6: -0.25551749 | S6: 0.01 | T6: 0.0065 | U6: 0 | V6: 33 | X6: 1525.3704 | Y6: 802.84687 | Z6: 573 | AA6: 1.4011289 | AB6: 297.34792 | AC6: 0.02 | AD6: 0.02 | AE6: 0 | AF6: 0 | AH6: 122.1 | AI6: 64.264785 | AJ6: 63 | AK6: 1.0200759 | AL6: -12.918182 | AM6: 0.009 | AN6: 0.002 | AO6: 0 | AP6: 22 | AR6: 20.2 | AS6: 10.631848 | AT6: 16 | AU6: 0.66449051 | AV6: -14.090332 | AY6: 11 | AZ6: 17 | BB6: 67.4 | BC6: 35.474582 | BD6: 32 | BE6: 1.1085807 | BF6: -1.1806638 | BG6: 0.018 | BH6: 0.011 | BI6: 0 | BJ6: 6 | BL6: 0.8 | BM6: 0.84 | BN6: 0.0015 | BO6: 0.95 | BP6: 1 | BQ6: 0.0025
A7: AUBE HAUTE MARNE | B7: CHAUMONT | C7: CHAUMONT HOTEL DE VILLE | D7: 9.1914925 | F7: 0.05 | G7: 0.043 | I7: 5 | J7: 5 | L7: 3150.5863 | M7: 6287.9668 | N7: 9438.5531 | O7: 1026.8793 | P7: 244.074 | Q7: 4.2072456 | R7: 6907.993 | S7: 0.01 | T7: 0.01 | U7: 0 | V7: 0 | X7: 5974.2011 | Y7: 649.97073 | Z7: 573 | AA7: 1.1343294 | AB7: 33.335098 | AC7: 0.02 | AD7: 0.013 | AE7: 0 | AF7: 346 | AH7: 474.35 | AI7: 51.607506 | AJ7: 63 | AK7: 0.81916675 | AL7: -178.83422 | AO7: 105 | AP7: 221 | AR7: 73.7 | AS7: 8.0182843 | AT7: 16 | AU7: 0.50114277 | AV7: -92.188057 | AY7: 74 | AZ7: 103 | BB7: 383 | BC7: 41.668967 | BD7: 32 | BE7: 1.3021552 | BF7: 51.223887 | BG7: 0.02 | BH7: 0.02 | BI7: 0 | BJ7: 0 | BL7: 0.8 | BM7: 0.82 | BN7: 0.00075 | BO7: 0.95 | BP7: 1 | BQ7: 0.0025
A8: AUBE HAUTE MARNE | B8: CHAUMONT | C8: CHAUMONT REPUBLIQUE | D8: 2.4137029 | F8: 0.0525 | G8: 0.05 | I8: 6 | J8: 5 | L8: 1159.2624 | M8: 837.72444 | N8: 1996.9869 | O8: 827.35404 | P8: 214.665 | Q8: 3.8541637 | R8: 1412.5277 | S8: 0.01 | T8: 0.01 | U8: 0 | V8: 0 | X8: 2252.5861 | Y8: 933.24912 | Z8: 573 | AA8: 1.628707 | AB8: 692.50373 | AC8: 0.02 | AD8: 0.02 | AE8: 0 | AF8: 0 | AH8: 112.85 | AI8: 46.75389 | AJ8: 63 | AK8: 0.74212523 | AL8: -58.677384 | AO8: 40 | AP8: 70 | AR8: 38.1 | AS8: 15.784876 | AT8: 16 | AU8: 0.98655472 | AV8: -5.4625102 | AW8: 0.0025 | AY8: 1 | AZ8: 9 | BB8: 113.8 | BC8: 47.147476 | BD8: 32 | BE8: 1.4733586 | BF8: 26.67498 | BG8: 0.02 | BH8: 0.02 | BI8: 0 | BJ8: 0 | BL8: 0.8 | BM8: 0.88 | BN8: 0.003 | BO8: 0.95 | BP8: 1 | BQ8: 0.0025
A9: AUBE HAUTE MARNE | B9: CHAUMONT | C9: JOINVILLE | D9: 2.8152338 | F9: 0 | I9: 2 | J9: 2 | L9: 997.7723 | M9: -565.5743 | N9: 432.198 | O9: 153.52118 | P9: 212.5 | Q9: 0.72245259 | R9: -242.61354 | U9: 167 | V9: 286 | X9: 1515.4834 | Y9: 538.31529 | Z9: 573 | AA9: 0.93946822 | AB9: -304.12607 | AC9: 0 | AE9: 98 | AF9: 421 | AH9: 100 | AI9: 35.521029 | AJ9: 63 | AK9: 0.56382585 | AL9: -100.06177 | AO9: 78 | AP9: 113 | AR9: 7 | AS9: 2.486472 | AT9: 16 | AU9: 0.1554045 | AV9: -43.809339 | AY9: 39 | AZ9: 48 | BB9: 83 | BC9: 29.482454 | BD9: 32 | BE9: 0.92132669 | BF9: -18.618678 | BI9: 8 | BJ9: 26 | BL9: 0.8 | BM9: 0.82 | BN9: 0.00075 | BO9: 0.95 | BP9: 1 | BQ9: 0.0025
A10: AUBE HAUTE MARNE | B10: CHAUMONT | C10: LANGRES | D10: 6.6773488 | F10: 0.055 | G10: 0.042 | I10: 6 | J10: 6 | L10: 2751.906 | M10: 3159.7347 | N10: 5911.6407 | O10: 885.32753 | P10: 234.656 | Q10: 3.772874 | R10: 4144.2001 | S10: 0.01 | T10: 0.01 | U10: 0 | V10: 0 | X10: 4923.2164 | Y10: 737.30107 | Z10: 573 | AA10: 1.2867383 | AB10: 607.3521 | AC10: 0.02 | AD10: 0.02 | AE10: 0 | AF10: 0 | AH10: 421.3 | AI10: 63.093903 | AJ10: 63 | AK10: 1.0014905 | AL10: -53.219115 | AM10: 0.007 | AN10: 0.001 | AO10: 0 | AP10: 84 | AR10: 53.7 | AS10: 8.042114 | AT10: 16 | AU10: 0.50263212 | AV10: -66.812791 | AY10: 54 | AZ10: 75 | BB10: 237.8 | BC10: 35.612937 | BD10: 32 | BE10: 1.1129043 | BF10: -3.225582 | BG10: 0.018 | BH10: 0.011 | BI10: 0 | BJ10: 19 | BL10: 0.8 | BM10: 0.85 | BN10: 0.001875 | BO10: 0.95 | BP10: 1 | BQ10: 0.0025
A11: AUBE HAUTE MARNE | B11: CHAUMONT | C11: NOGENT | D11: 2.0789474 | F11: 0.048 | G11: 0.035 | I11: 6 | J11: 6 | L11: 483.38406 | M11: 343.81863 | N11: 827.20269 | O11: 397.89496 | P11: 214.665 | Q11: 1.8535624 | R11: 323.80197 | S11: 0.01 | T11: 0.01 | U11: 0 | V11: 0 | X11: 1242.1526 | Y11: 597.49113 | Z11: 573 | AA11: 1.0427419 | AB11: -101.56255 | AC11: 0.011 | AD11: 0.004 | AE11: 0 | AF11: 188 | AH11: 131.5 | AI11: 63.253165 | AJ11: 63 | AK11: 1.0040185 | AL11: -16.238316 | AM11: 0.007 | AN11: 0.001 | AO11: 0 | AP11: 26 | AR11: 24.4 | AS11: 11.736709 | AT11: 16 | AU11: 0.7335443 | AV11: -13.120842 | AY11: 9 | AZ11: 16 | BB11: 81.8 | BC11: 39.346835 | BD11: 32 | BE11: 1.2295886 | BF11: 6.7583158 | BG11: 0.02 | BH11: 0.02 | BI11: 0 | BJ11: 0 | BL11: 0.8 | BM11: 0.85 | BN11: 0.001875 | BO11: 0.95 | BP11: 1 | BQ11: 0.0025
A12: AUBE HAUTE MARNE | B12: CHAUMONT | C12: SAINT DIZIER CENTRE | D12: 5.4163614 | F12: 0.041 | G12: 0.032 | I12: 5 | J12: 4 | L12: 2239.0366 | M12: 2205.0746 | N12: 4444.1112 | O12: 820.49755 | P12: 216.447 | Q12: 3.790755 | R12: 3121.6946 | S12: 0.01 | T12: 0.01 | U12: 0 | V12: 0 | X12: 3189.5225 | Y12: 588.86811 | Z12: 573 | AA12: 1.027693 | AB12: -311.3102 | AC12: 0.009 | AD12: 0.003 | AE12: 0 | AF12: 535 | AH12: 326.9 | AI12: 60.354171 | AJ12: 63 | AK12: 0.95800271 | AL12: -58.008304 | AM12: 0.002 | AO12: 15 | AP12: 83 | AR12: 46.2 | AS12: 8.5297115 | AT12: 16 | AU12: 0.53310697 | AV12: -51.55449 | AY12: 41 | AZ12: 58 | BB12: 206.2 | BC12: 38.069838 | BD12: 32 | BE12: 1.1896824 | BF12: 10.69102 | BG12: 0.02 | BH12: 0.019 | BI12: 0 | BJ12: 2 | BL12: 0.8 | BM12: 0.78 | BO12: 0.95 | BP12: 1 | BQ12: 0.0025
A13: AUBE HAUTE MARNE | B13: CHAUMONT | C13: SAINT DIZIER EUROPE | D13: 2.5347178 | F13: 0.066 | G13: 0.059 | I13: 6 | J13: 6 | L13: 1992.3854 | M13: 1527.8431 | N13: 3520.2285 | O13: 1388.8049 | P13: 223.197 | Q13: 6.2223278 | R13: 2882.0722 | S13: 0.01 | T13: 0.01 | U13: 0 | V13: 0 | X13: 2315.2052 | Y13: 913.39761 | Z13: 573 | AA13: 1.5940622 | AB13: 676.90555 | AC13: 0.02 | AD13: 0.02 | AE13: 0 | AF13: 0 | AH13: 173.45 | AI13: 68.429708 | AJ13: 63 | AK13: 1.0861858 | AL13: -6.6771875 | AM13: 0.016 | AN13: 0.009 | AO13: 0 | AP13: 19 | AR13: 37.4 | AS13: 14.755094 | AT13: 16 | AU13: 0.92219338 | AV13: -8.3465873 | AY13: 4 | AZ13: 12 | BB13: 146.8 | BC13: 57.915717 | BD13: 32 | BE13: 1.8098662 | BF13: 55.306825 | BG13: 0.02 | BH13: 0.02 | BI13: 0 | BJ13: 0 | BL13: 0.8 | BM13: 0.82 | BN13: 0.00075 | BO13: 0.95 | BP13: 1 | BQ13: 0.0025
A14: AUBE HAUTE MARNE | B14: CHAUMONT | C14: WASSY | D14: 2.8184252 | F14: 0.02 | G14: 0.02 | I14: 2 | J14: 2 | L14: 1009.7461 | M14: -1106.434 | N14: -96.68792 | O14: -34.305654 | P14: 212.5 | Q14: -0.16143837 | R14: -772.26443 | U14: 696 | V14: 816 | X14: 2117.607 | Y14: 751.34406 | Z14: 573 | AA14: 1.3112462 | AB14: 295.9348 | AC14: 0.02 | AD14: 0.02 | AE14: 0 | AF14: 0 | AH14: 150.2 | AI14: 53.292172 | AJ14: 63 | AK14: 0.8459075 | AL14: -50.088566 | AO14: 28 | AP14: 63 | AR14: 15.3 | AS14: 5.4285635 | AT14: 16 | AU14: 0.33928522 | AV14: -35.566937 | AY14: 30 | AZ14: 39 | BB14: 67.4 | BC14: 23.914064 | BD14: 32 | BE14: 0.7473145 | BF14: -34.333875 | BI14: 23 | BJ14: 41 | BL14: 0.8 | BM14: 0.79 | BO14: 0.95 | BP14: 1 | BQ14: 0.0025
A15: AUBE HAUTE MARNE | B15: TROYES | C15: ARCIS SUR AUBE | D15: 3.6851069 | F15: 0.011 | G15: 0.0055 | I15: 4 | J15: 3 | L15: 2879.9257 | M15: -1935.601 | N15: 944.32472 | O15: 256.25436 | P15: 231.526 | Q15: 1.106806 | R15: -18.0827 | S15: 0.009 | T15: 0.0055 | U15: 0 | V15: 80 | X15: 2022.3134 | Y15: 548.78012 | Z15: 573 | AA15: 0.95773144 | AB15: -359.53335 | AC15: 0.002 | AE15: 90 | AF15: 512 | AH15: 174.5 | AI15: 47.352764 | AJ15: 63 | AK15: 0.75163118 | AL15: -87.378439 | AO15: 58 | AP15: 105 | AR15: 16.6 | AS15: 4.5046183 | AT15: 16 | AU15: 0.28153864 | AV15: -49.90881 | AY15: 43 | AZ15: 55 | BB15: 98.4 | BC15: 26.702075 | BD15: 32 | BE15: 0.83443983 | BF15: -34.61762 | BI15: 20 | BJ15: 44 | BL15: 0.8 | BM15: 0.81 | BN15: 0.000375 | BO15: 0.95 | BP15: 1 | BQ15: 0.0025
A16: AUBE HAUTE MARNE | B16: TROYES | C16: BAR SUR AUBE | D16: 2.988084 | F16: 0.052 | G16: 0.045 | I16: 6 | J16: 5 | L16: 1465.193 | M16: 314.37701 | N16: 1779.57 | O16: 595.55554 | P16: 233.144 | Q16: 2.5544536 | R16: 993.74445 | S16: 0.01 | T16: 0.01 | U16: 0 | V16: 0 | X16: 2154.5627 | Y16: 721.05157 | Z16: 573 | AA16: 1.2583797 | AB16: 223.23251 | AC16: 0.02 | AD16: 0.02 | AE16: 0 | AF16: 0 | AH16: 180.8 | AI16: 60.507 | AJ16: 63 | AK16: 0.96042857 | AL16: -31.545204 | AM16: 0.002 | AO16: 8 | AP16: 46 | AR16: 19.8 | AS16: 6.6263196 | AT16: 16 | AU16: 0.41414498 | AV16: -34.128941 | AY16: 29 | AZ16: 38 | BB16: 109.8 | BC16: 36.745954 | BD16: 32 | BE16: 1.1483111 | BF16: 1.9421184 | BG16: 0.02 | BH16: 0.015 | BI16: 0 | BJ16: 5 | BL16: 0.8 | BM16: 0.81 | BN16: 0.000375 | BO16: 0.95 | BP16: 1 | BQ16: 0.0025
A17: AUBE HAUTE MARNE | B17: TROYES | C17: BAR SUR SEINE | D17: 3.7318809 | F17: 0.048 | G17: 0.041 | I17: 4 | J17: 4 | L17: 1272.6382 | M17: 1132.6726 | N17: 2405.3109 | O17: 644.53044 | P17: 246.295 | Q17: 2.6169043 | R17: 1368.5169 | S17: 0.01 | T17: 0.01 | U17: 0 | V17: 0 | X17: 2753.3358 | Y17: 737.78768 | Z17: 573 | AA17: 1.2875876 | AB17: 341.25691 | AC17: 0.02 | AD17: 0.02 | AE17: 0 | AF17: 0 | AH17: 148.1 | AI17: 39.685082 | AJ17: 63 | AK17: 0.62992193 | AL17: -117.10239 | AO17: 88 | AP17: 135 | AR17: 18.1 | AS17: 4.8501012 | AT17: 16 | AU17: 0.30313132 | AV17: -49.252987 | AY17: 42 | AZ17: 54 | BB17: 132.2 | BC17: 35.424496 | BD17: 32 | BE17: 1.1070155 | BF17: -2.505974 | BG17: 0.018 | BH17: 0.011 | BI17: 0 | BJ17: 12 | BL17: 0.8 | BM17: 0.77 | BO17: 0.95 | BP17: 1 | BQ17: 0.0025
A18: AUBE HAUTE MARNE | B18: TROYES | C18: BRIENNE LE CHATEAU | D18: 2.4135234 | F18: 0.06 | G18: 0.057 | I18: 5 | J18: 5 | L18: 394.63168 | M18: -829.84217 | N18: -435.21049 | O18: -180.32163 | P18: 233.144 | Q18: -0.77343459 | R18: -1069.9344 | U18: 998 | V18: 1111 | X18: 1722.8507 | Y18: 713.83217 | Z18: 573 | AA18: 1.2457804 | AB18: 162.88428 | AC18: 0.02 | AD18: 0.02 | AE18: 0 | AF18: 0 | AH18: 187.1 | AI18: 77.521518 | AJ18: 63 | AK18: 1.2305003 | AL18: 15.58537 | AM18: 0.02 | AN18: 0.02 | AO18: 0 | AP18: 0 | AR18: 17.3 | AS18: 7.1679436 | AT18: 16 | AU18: 0.44799648 | AV18: -26.259271 | AY18: 22 | AZ18: 30 | BB18: 90 | BC18: 37.28988 | BD18: 32 | BE18: 1.1653088 | BF18: 2.8814578 | BG18: 0.02 | BH18: 0.017 | BI18: 0 | BJ18: 3 | BL18: 0.8 | BM18: 0.86 | BN18: 0.00225 | BO18: 0.95 | BP18: 1 | BQ18: 0.0025
A19: AUBE HAUTE MARNE | B19: TROYES | C19: LA CHAPELLE ST LUC | D19: 5.752038 | F19: 0.01 | G19: 0.01 | I19: 2 | J19: 2 | L19: 2357.0675 | M19: 1887.4398 | N19: 4244.5073 | O19: 737.91364 | P19: 212.5 | Q19: 3.4725348 | R19: 2865.7438 | S19: 0.01 | T19: 0.01 | U19: 0 | V19: 0 | X19: 2747.0753 | Y19: 477.58295 | Z19: 573 | AA19: 0.8334781 | AB19: -970.71998 | AE19: 549 | AF19: 1209 | AH19: 299.9 | AI19: 52.138042 | AJ19: 63 | AK19: 0.82758796 | AL19: -108.86283 | AO19: 63 | AP19: 135 | AR19: 27.8 | AS19: 4.8330696 | AT19: 16 | AU19: 0.30206685 | AV19: -76.012783 | AY19: 65 | AZ19: 83 | BB19: 150.4 | BC19: 26.147254 | BD19: 32 | BE19: 0.81710169 | BF19: -57.225565 | BI19: 34 | BJ19: 71 | BL19: 0.8 | BM19: 0.79 | BO19: 0.95 | BP19: 1 | BQ19: 0.0025
A20: AUBE HAUTE MARNE | B20: TROYES | C20: NOGENT SUR SEINE | D20: 3.714413 | F20: 0.041 | G20: 0.034 | I20: 4 | J20: 4 | L20: 1757.7793 | M20: 1196.8021 | N20: 2954.5814 | O20: 795.43696 | P20: 231.902 | Q20: 3.4300565 | R20: 1982.945 | S20: 0.01 | T20: 0.01 | U20: 0 | V20: 0 | X20: 2215.9263 | Y20: 596.5751 | Z20: 573 | AA20: 1.0411433 | AB20: -184.86223 | AC20: 0.011 | AD20: 0.004 | AE20: 0 | AF20: 339 | AH20: 135.2 | AI20: 36.398753 | AJ20: 63 | AK20: 0.57775798 | AL20: -128.76104 | AO20: 99 | AP20: 146 | AR20: 52 | AS20: 13.99952 | AT20: 16 | AU20: 0.87497002 | AV20: -15.037726 | AY20: 8 | AZ20: 20 | BB20: 154.2 | BC20: 41.513962 | BD20: 32 | BE20: 1.2973113 | BF20: 20.124549 | BG20: 0.02 | BH20: 0.02 | BI20: 0 | BJ20: 0 | BL20: 0.8 | BM20: 0.8 | BN20: 0 | BO20: 0.95 | BP20: 1 | BQ20: 0.0025
A21: AUBE HAUTE MARNE | B21: TROYES | C21: ROMILLY SUR SEINE | D21: 6.6311696 | F21: 0.04 | G21: 0.034 | I21: 5 | J21: 5 | L21: 3095.9188 | M21: -749.1426 | N21: 2346.7762 | O21: 353.9008 | P21: 218.771 | Q21: 1.6176769 | R21: 710.37802 | S21: 0.01 | T21: 0.01 | U21: 0 | V21: 0 | X21: 3935.9056 | Y21: 593.54621 | Z21: 573 | AA21: 1.0358573 | AB21: -350.11109 | AC21: 0.01 | AD21: 0.004 | AE21: 0 | AF21: 624 | AH21: 231.4 | AI21: 34.895805 | AJ21: 63 | AK21: 0.55390166 | AL21: -239.83744 | AO21: 187 | AP21: 270 | AR21: 42 | AS21: 6.3337243 | AT21: 16 | AU21: 0.39585777 | AV21: -77.67935 | AY21: 65 | AZ21: 86 | BB21: 259.8 | BC21: 39.178609 | BD21: 32 | BE21: 1.2243315 | BF21: 20.441301 | BG21: 0.02 | BH21: 0.02 | BI21: 0 | BJ21: 0 | BL21: 0.8 | BM21: 0.81 | BN21: 0.000375 | BO21: 0.95 | BP21: 1 | BQ21: 0.0025
A22: AUBE HAUTE MARNE | B22: TROYES | C22: SAINT ANDRE LES VERGERS | D22: 4.3170067 | F22: 0.036 | G22: 0.024 | I22: 5 | J22: 4 | L22: 2469.7281 | M22: -471.82282 | N22: 1997.9052 | O22: 462.79874 | P22: 242.997 | Q22: 1.9045451 | R22: 814.61105 | S22: 0.01 | T22: 0.01 | U22: 0 | V22: 0 | X22: 2468.6036 | Y22: 571.83225 | Z22: 573 | AA22: 0.99796204 | AB22: -321.66771 | AC22: 0.006 | AD22: 0 | AE22: 6 | AF22: 500 | AH22: 139.5 | AI22: 32.314057 | AJ22: 63 | AK22: 0.51292154 | AL22: -167.28376 | AO22: 133 | AP22: 187 | AR22: 37.1 | AS22: 8.5939177 | AT22: 16 | AU22: 0.53711986 | AV22: -40.813336 | AY22: 32 | AZ22: 46 | BB22: 157.4 | BC22: 36.460449 | BD22: 32 | BE22: 1.139389 | BF22: 1.5733275 | BG22: 0.02 | BH22: 0.014 | BI22: 0 | BJ22: 9 | BL22: 0.8 | BM22: 0.81 | BN22: 0.000375 | BO22: 0.95 | BP22: 1 | BQ22: 0.0025
A23: AUBE HAUTE MARNE | B23: TROYES | C23: SAINTE SAVINE | D23: 4.4760896 | F23: 0.01 | G23: 0.01 | I23: 3 | J23: 3 | L23: 4373.0386 | M23: 2284.1196 | N23: 6657.1582 | O23: 1487.271 | P23: 251.204 | Q23: 5.9205704 | R23: 5388.8219 | S23: 0.01 | T23: 0.01 | U23: 0 | V23: 0 | X23: 2268.1727 | Y23: 506.73085 | Z23: 573 | AA23: 0.88434703 | AB23: -624.92098 | AE23: 297 | AF23: 810 | AH23: 92.5 | AI23: 20.665359 | AJ23: 63 | AK23: 0.32802158 | AL23: -225.58883 | AO23: 190 | AP23: 246 | AR23: 19.8 | AS23: 4.4235039 | AT23: 16 | AU23: 0.276469 | AV23: -60.984465 | AY23: 52 | AZ23: 67 | BB23: 120.6 | BC23: 26.94316 | BD23: 32 | BE23: 0.84197376 | BF23: -40.968931 | BI23: 23 | BJ23: 52 | BL23: 0.8 | BM23: 0.81 | BN23: 0.000375 | BO23: 0.95 | BP23: 1 | BQ23: 0.0025
A24: AUBE HAUTE MARNE | B24: TROYES | C24: SAINT JULIEN LES VILLAS | D24: 5.2411436 | F24: 0.038 | G24: 0.024 | I24: 5 | J24: 5 | L24: 4268.3462 | M24: 3902.641 | N24: 8170.9872 | O24: 1559.0085 | P24: 248.623 | Q24: 6.2705721 | R24: 6701.1256 | S24: 0.01 | T24: 0.01 | U24: 0 | V24: 0 | X24: 3254.8197 | Y24: 621.01327 | Z24: 573 | AA24: 1.0837928 | AB24: -132.762 | AC24: 0.015 | AD24: 0.008 | AE24: 0 | AF24: 349 | AH24: 254.3 | AI24: 48.519945 | AJ24: 63 | AK24: 0.77015785 | AL24: -118.15663 | AO24: 76 | AP24: 142 | AR24: 49.1 | AS24: 9.3681844 | AT24: 16 | AU24: 0.58551152 | AV24: -45.49216 | AY24: 35 | AZ24: 52 | BB24: 178.6 | BC24: 34.076532 | BD24: 32 | BE24: 1.0648916 | BF24: -10.584321 | BG24: 0.013 | BH24: 0.006 | BI24: 0 | BJ24: 23 | BL24: 0.8 | BM24: 0.84 | BN24: 0.0015 | BO24: 0.95 | BP24: 1 | BQ24: 0.0025
A25: AUBE HAUTE MARNE | B25: TROYES | C25: TROYES 1ER MAI | D25: 4.2224399 | F25: 0.03 | G25: 0.029 | I25: 4 | J25: 4 | L25: 1461.4355 | M25: 650.6486 | N25: 2112.0841 | O25: 500.20467 | P25: 212.5 | Q25: 2.3539043 | R25: 1099.9653 | S25: 0.01 | T25: 0.01 | U25: 0 | V25: 0 | X25: 1799.6705 | Y25: 426.21579 | Z25: 573 | AA25: 0.74383209 | AB25: -929.47814 | AE25: 620 | AF25: 1104 | AH25: 133.35 | AI25: 31.581267 | AJ25: 63 | AK25: 0.50128995 | AL25: -166.71347 | AO25: 133 | AP25: 186 | AR25: 34.4 | AS25: 8.1469485 | AT25: 16 | AU25: 0.50918428 | AV25: -41.806595 | AY25: 34 | AZ25: 47 | BB25: 160.4 | BC25: 37.987516 | BD25: 32 | BE25: 1.1871099 | BF25: 7.9868106 | BG25: 0.02 | BH25: 0.019 | BI25: 0 | BJ25: 2 | BL25: 0.8 | BM25: 0.82 | BN25: 0.00075 | BO25: 0.95 | BP25: 1 | BQ25: 0.0025
A26: AUBE HAUTE MARNE | B26: TROYES | C26: TROYES BROSSOLETTE | D26: 3.2460809 | F26: 0.03 | G26: 0.03 | I26: 3 | J26: 3 | L26: 2963.5109 | M26: 494.51613 | N26: 3458.027 | O26: 1065.2929 | P26: 231.042 | Q26: 4.6108194 | R26: 2612.0484 | S26: 0.01 | T26: 0.01 | U26: 0 | V26: 0 | X26: 1718.1174 | Y26: 529.28977 | Z26: 573 | AA26: 0.92371688 | AB26: -379.9675 | AE26: 142 | AF26: 514 | AH26: 162.4 | AI26: 50.02956 | AJ26: 63 | AK26: 0.79412 | AL26: -68.279494 | AO26: 43 | AP26: 84 | AR26: 36.6 | AS26: 11.275135 | AT26: 16 | AU26: 0.70469593 | AV26: -21.985268 | AY26: 16 | AZ26: 26 | BB26: 145.6 | BC26: 44.854088 | BD26: 32 | BE26: 1.4016903 | BF26: 28.429463 | BG26: 0.02 | BH26: 0.02 | BI26: 0 | BJ26: 0 | BL26: 0.8 | BM26: 0.78 | BO26: 0.95 | BP26: 1 | BQ26: 0.0025
A27: AUBE HAUTE MARNE | B27: TROYES | C27: TROYES CHARTREUX | D27: 2.5803142 | F27: 0.025 | G27: 0.018 | I27: 4 | J27: 4 | L27: 388.41682 | M27: 533.91239 | N27: 922.32921 | O27: 357.44841 | P27: 212.5 | Q27: 1.6821102 | R27: 303.8279 | S27: 0.01 | T27: 0.01 | U27: 0 | V27: 0 | X27: 1247.4139 | Y27: 483.43487 | Z27: 573 | AA27: 0.84369088 | AB27: -420.35673 | AE27: 232 | AF27: 527 | AH27: 144.55 | AI27: 56.02031 | AJ27: 63 | AK27: 0.88921126 | AL27: -38.817448 | AO27: 19 | AP27: 51 | AR27: 10.3 | AS27: 3.9917619 | AT27: 16 | AU27: 0.24948512 | AV27: -36.269511 | AY27: 31 | AZ27: 40 | BB27: 89.4 | BC27: 34.646943 | BD27: 32 | BE27: 1.082717 | BF27: -3.7390212 | BG27: 0.015 | BH27: 0.008 | BI27: 0 | BJ27: 10 | BL27: 0.8 | BM27: 0.81 | BN27: 0.000375 | BO27: 0.95 | BP27: 1 | BQ27: 0.0025
A28: AUBE HAUTE MARNE | B28: TROYES | C28: TROYES GAMBETTA | D28: 9.6894159 | F28: 0.05 | G28: 0.05 | I28: 4 | J28: 4 | L28: 9140.7861 | M28: 5890.0078 | N28: 15030.794 | O28: 1551.259 | P28: 268.108 | Q28: 5.7859483 | R28: 12100.464 | S28: 0.01 | T28: 0.01 | U28: 0 | V28: 0 | X28: 6889.4085 | Y28: 711.02413 | Z28: 573 | AA28: 1.2408798 | AB28: 626.71265 | AC28: 0.02 | AD28: 0.02 | AE28: 0 | AF28: 0 | AH28: 393.7 | AI28: 40.631964 | AJ28: 63 | AK28: 0.64495181 | AL28: -294.86865 | AO28: 217 | AP28: 339 | AR28: 92.1 | AS28: 9.5052169 | AT28: 16 | AU28: 0.59407606 | AV28: -82.774579 | AY28: 63 | AZ28: 94 | BB28: 431.8 | BC28: 44.56409 | BD28: 32 | BE28: 1.3926278 | BF28: 82.050842 | BG28: 0.02 | BH28: 0.02 | BI28: 0 | BJ28: 0 | BL28: 0.8 | BM28: 0.73 | BO28: 0.95 | BP28: 1 | BQ28: 0.0025
A29: AUBE HAUTE MARNE | B29: TROYES | C29: TROYES ZOLA | D29: 4.428186 | F29: 0.022 | G29: 0.011 | I29: 4 | J29: 3 | L29: 4031.9844 | M29: 20.24398 | N29: 4052.2283 | O29: 915.09894 | P29: 241.767 | Q29: 3.7850448 | R29: 2844.6037 | S29: 0.01 | T29: 0.01 | U29: 0 | V29: 0 | X29: 2472.6076 | Y29: 558.37935 | Z29: 573 | AA29: 0.97448403 | AB29: -389.52385 | AC29: 0.004 | AE29: 65 | AF29: 573 | AH29: 175.4 | AI29: 39.609899 | AJ29: 63 | AK29: 0.62872855 | AL29: -139.28461 | AO29: 104 | AP29: 160 | AR29: 19.5 | AS29: 4.403609 | AT29: 16 | AU29: 0.27522556 | AV29: -60.419902 | AY29: 52 | AZ29: 66 | BB29: 143.2 | BC29: 32.338298 | BD29: 32 | BE29: 1.0105718 | BF29: -16.639803 | BG29: 0.008 | BH29: 0.001 | BI29: 0 | BJ29: 27 | BL29: 0.8 | BM29: 0.78 | BO29: 0.95 | BP29: 1 | BQ29: 0.0025
A30: BAS RHIN | B30: HAGUENAU | C30: BISCHWILLER | D30: 6.2436248 | F30: 0.03 | G30: 0.026 | I30: 3 | J30: 3 | L30: 3124.1227 | M30: 2160.2113 | N30: 5284.334 | O30: 846.35674 | P30: 244.696 | Q30: 3.4588091 | R30: 3560.9868 | S30: 0.01 | T30: 0.01 | U30: 0 | V30: 0 | X30: 2310.7229 | Y30: 370.09317 | Z30: 573 | AA30: 0.64588686 | AB30: -1724.8065 | AE30: 1267 | AF30: 1983 | AH30: 355.9 | AI30: 57.002144 | AJ30: 63 | AK30: 0.90479593 | AL30: -87.796955 | AO30: 38 | AP30: 117 | AR30: 37.7 | AS30: 6.0381591 | AT30: 16 | AU30: 0.37738494 | AV30: -74.984941 | AY30: 63 | AZ30: 83 | BB30: 231.4 | BC30: 37.061804 | BD30: 32 | BE30: 1.1581814 | BF30: 6.030118 | BG30: 0.02 | BH30: 0.016 | BI30: 0 | BJ30: 9 | BL30: 0.8 | BM30: 0.74 | BO30: 0.95 | BP30: 1 | BQ30: 0.0025
A31: BAS RHIN | B31: HAGUENAU | C31: BOUXWILLER | D31: 2.8402116 | F31: 0.045 | G31: 0.033 | I31: 5 | J31: 4 | L31: 1112.0088 | M31: 852.99285 | N31: 1965.0017 | O31: 691.85044 | P31: 255.976 | Q31: 2.7027942 | R31: 1144.9163 | S31: 0.01 | T31: 0.01 | U31: 0 | V31: 0 | X31: 1973.1018 | Y31: 694.70237 | Z31: 573 | AA31: 1.2123951 | AB31: 137.348 | AC31: 0.02 | AD31: 0.02 | AE31: 0 | AF31: 0 | AH31: 176.05 | AI31: 61.984817 | AJ31: 63 | AK31: 0.98388599 | AL31: -25.7868 | AM31: 0.005 | AO31: 3 | AP31: 39 | AR31: 22.2 | AS31: 7.8163189 | AT31: 16 | AU31: 0.48851993 | AV31: -29.06014 | AY31: 24 | AZ31: 33 | BB31: 93.8 | BC31: 33.025708 | BD31: 32 | BE31: 1.0320534 | BF31: -8.7202794 | BG31: 0.01 | BH31: 0.003 | BI31: 0 | BJ31: 16 | BL31: 0.8 | BM31: 0.67 | BO31: 0.95 | BP31: 1 | BQ31: 0.0025
A32: BAS RHIN | B32: HAGUENAU | C32: BRUMATH | D32: 7.4919696 | F32: 0.01 | G32: 0.01 | I32: 2 | J32: 2 | L32: 5858.8981 | M32: 1813.1832 | N32: 7672.0813 | O32: 1024.0406 | P32: 282.022 | Q32: 3.6310665 | R32: 5288.7298 | S32: 0.01 | T32: 0.01 | U32: 0 | V32: 0 | X32: 3645.9479 | Y32: 486.64745 | Z32: 573 | AA32: 0.84929746 | AB32: -1196.4417 | AE32: 647 | AF32: 1506 | AH32: 235.8 | AI32: 31.473699 | AJ32: 63 | AK32: 0.49958253 | AL32: -296.60933 | AO32: 237 | AP32: 331 | AR32: 45.2 | AS32: 6.0331264 | AT32: 16 | AU32: 0.3770704 | AV32: -90.015068 | AY32: 75 | AZ32: 99 | BB32: 187 | BC32: 24.960058 | BD32: 32 | BE32: 0.78000183 | BF32: -83.430136 | BI32: 53 | BJ32: 101 | BL32: 0.8 | BM32: 0.69 | BO32: 0.95 | BP32: 1 | BQ32: 0.0025
A33: BAS RHIN | B33: HAGUENAU | C33: HAGUENAU HOUBLON | D33: 8.071232 | F33: 0.03 | G33: 0.025 | I33: 3 | J33: 3 | L33: 4696.3699 | M33: 4213.0002 | N33: 8909.3701 | O33: 1103.8426 | P33: 276.944 | Q33: 3.9857973 | R33: 6387.9751 | S33: 0.01 | T33: 0.01 | U33: 0 | V33: 0 | X33: 3929.9672 | Y33: 486.91045 | Z33: 573 | AA33: 0.84975646 | AB33: -1286.8251 | AE33: 695 | AF33: 1620 | AH33: 355.65 | AI33: 44.063905 | AJ33: 63 | AK33: 0.69942707 | AL33: -217.92403 | AO33: 153 | AP33: 255 | AR33: 61.6 | AS33: 7.6320443 | AT33: 16 | AU33: 0.47700277 | AV33: -84.069595 | AY33: 68 | AZ33: 94 | BB33: 297.8 | BC33: 36.896474 | BD33: 32 | BE33: 1.1530148 | BF33: 6.4608105 | BG33: 0.02 | BH33: 0.015 | BI33: 0 | BJ33: 13 | BL33: 0.8 | BM33: 0.65 | BO33: 0.95 | BP33: 1 | BQ33: 0.0025
A34: BAS RHIN | B34: HAGUENAU | C34: HAGUENAU MUSAU | D34: 1.4323658 | F34: 0.01 | G34: 0.01 | I34: 3 | J34: 3 | L34: 1360.4706 | M34: 246.13735 | N34: 1606.6079 | O34: 1121.6464 | P34: 276.944 | Q34: 4.0500836 | R34: 1159.1471 | S34: 0.01 | T34: 0.01 | U34: 0 | V34: 0 | X34: 435.30827 | Y34: 303.90859 | Z34: 573 | AA34: 0.53038148 | AB34: -490.49279 | AE34: 386 | AF34: 550 | AH34: 31.3 | AI34: 21.851959 | AJ34: 63 | AK34: 0.3468565 | AL34: -70.489646 | AO34: 59 | AP34: 77 | AR34: 4.8 | AS34: 3.3510992 | AT34: 16 | AU34: 0.2094437 | AV34: -21.051339 | AY34: 19 | AZ34: 23 | BB34: 27.4 | BC34: 19.129191 | BD34: 32 | BE34: 0.59778723 | BF34: -24.302677 | BI34: 19 | BJ34: 28 | BL34: 0.8 | BM34: 0.81 | BN34: 0.000375 | BO34: 0.95 | BP34: 1 | BQ34: 0.0025
A35: BAS RHIN | B35: HAGUENAU | C35: HOCHFELDEN | D35: 2.4192815 | F35: 0.044 | G35: 0.033 | I35: 4 | J35: 4 | L35: 1715.424 | M35: 684.55892 | N35: 2399.9829 | O35: 992.02303 | P35: 237.211 | Q35: 4.182028 | R35: 1752.6461 | S35: 0.01 | T35: 0.01 | U35: 0 | V35: 0 | X35: 1602.8316 | Y35: 662.52383 | Z35: 573 | AA35: 1.1562371 | AB35: 39.143574 | AC35: 0.02 | AD35: 0.016 | AE35: 0 | AF35: 61 | AH35: 162.7 | AI35: 67.251373 | AJ35: 63 | AK35: 1.0674821 | AL35: -9.2238182 | AM35: 0.014 | AN35: 0.007 | AO35: 0 | AP35: 21 | AR35: 24.4 | AS35: 10.085639 | AT35: 16 | AU35: 0.63035245 | AV35: -19.263192 | AY35: 15 | AZ35: 23 | BB35: 71.2 | BC35: 29.430226 | BD35: 32 | BE35: 0.91969456 | BF35: -16.126384 | BI35: 7 | BJ35: 22 | BL35: 0.8 | BM35: 0.64 | BO35: 0.95 | BP35: 1 | BQ35: 0.0025
A36: BAS RHIN | B36: HAGUENAU | C36: HOERDT | D36: 2.4492785 | F36: 0.03 | G36: 0.029 | I36: 3 | J36: 3 | L36: 1435.1617 | M36: 1968.1801 | N36: 3403.3418 | O36: 1389.5283 | P36: 282.022 | Q36: 4.9270209 | R36: 2624.1753 | S36: 0.01 | T36: 0.01 | U36: 0 | V36: 0 | X36: 1183.1835 | Y36: 483.07429 | Z36: 573 | AA36: 0.84306159 | AB36: -399.89298 | AE36: 221 | AF36: 501 | AH36: 139.1 | AI36: 56.792235 | AJ36: 63 | AK36: 0.90146405 | AL36: -34.955526 | AO36: 16 | AP36: 47 | AR36: 15.6 | AS36: 6.3692226 | AT36: 16 | AU36: 0.39807642 | AV36: -28.604578 | AY36: 24 | AZ36: 32 | BB36: 93.6 | BC36: 38.215336 | BD36: 32 | BE36: 1.1942292 | BF36: 5.1908438 | BG36: 0.02 | BH36: 0.019 | BI36: 0 | BJ36: 1 | BL36: 0.8 | BM36: 0.76 | BO36: 0.95 | BP36: 1 | BQ36: 0.0025
A37: BAS RHIN | B37: HAGUENAU | C37: INGWILLER | D37: 3.7485408 | F37: 0.026 | G37: 0.019 | I37: 2 | J37: 2 | L37: 1360.4227 | M37: 2028.0103 | N37: 3388.433 | O37: 903.93388 | P37: 231.66 | Q37: 3.9019851 | R37: 2408.8925 | S37: 0.01 | T37: 0.01 | U37: 0 | V37: 0 | X37: 2344.292 | Y37: 625.3879 | Z37: 573 | AA37: 1.0914274 | AB37: -78.554809 | AC37: 0.016 | AD37: 0.009 | AE37: 0 | AF37: 234 | AH37: 195.2 | AI37: 52.073597 | AJ37: 63 | AK37: 0.82656502 | AL37: -71.186302 | AO37: 41 | AP37: 89 | AR37: 18.1 | AS37: 4.8285456 | AT37: 16 | AU37: 0.3017841 | AV37: -49.553664 | AY37: 42 | AZ37: 54 | BB37: 95 | BC37: 25.343195 | BD37: 32 | BE37: 0.79197485 | BF37: -40.307328 | BI37: 25 | BJ37: 49 | BL37: 0.8 | BM37: 0.67 | BO37: 0.95 | BP37: 0.94
A38: BAS RHIN | B38: HAGUENAU | C38: NIEDERBRONN LES BAINS | D38: 5.803927 | F38: 0.019 | G38: 0.012 | I38: 2 | J38: 2 | L38: 1767.4279 | M38: 1404.6265 | N38: 3172.0544 | O38: 546.53589 | P38: 236.598 | Q38: 2.3099768 | R38: 1623.0876 | S38: 0.01 | T38: 0.01 | U38: 0 | V38: 0 | X38: 3398.4082 | Y38: 585.536 | Z38: 573 | AA38: 1.0218778 | AB38: -352.92519 | AC38: 0.009 | AD38: 0.002 | AE38: 0 | AF38: 593 | AH38: 272.75 | AI38: 46.994044 | AJ38: 63 | AK38: 0.74593721 | AL38: -139.70027 | AO38: 93 | AP38: 167 | AR38: 40.5 | AS38: 6.978034 | AT38: 16 | AU38: 0.43612713 | AV38: -64.249274 | AY38: 53 | AZ38: 71 | BB38: 168.2 | BC38: 28.980378 | BD38: 32 | BE38: 0.90563683 | BF38: -41.298548 | BI38: 18 | BJ38: 55 | BL38: 0.8 | BM38: 0.68 | BO38: 0.95 | BP38: 0.88
A39: BAS RHIN | B39: HAGUENAU | C39: PFAFFENHOFFEN | D39: 2.9206349 | F39: 0.025 | G39: 0.018 | I39: 3 | J39: 3 | L39: 2093.4497 | M39: 1826.5609 | N39: 3920.0106 | O39: 1342.1775 | P39: 240.532 | Q39: 5.5800373 | R39: 3127.5836 | S39: 0.01 | T39: 0.01 | U39: 0 | V39: 0 | X39: 1223.6255 | Y39: 418.95873 | Z39: 573 | AA39: 0.73116707 | AB39: -664.10935 | AE39: 450 | AF39: 785 | AH39: 138.95 | AI39: 47.575272 | AJ39: 63 | AK39: 0.75516304 | AL39: -68.602 | AO39: 46 | AP39: 82 | AR39: 21.1 | AS39: 7.2244565 | AT39: 16 | AU39: 0.45152853 | AV39: -31.611619 | AY39: 26 | AZ39: 35 | BB39: 101.2 | BC39: 34.65 | BD39: 32 | BE39: 1.0828125 | BF39: -4.2232381 | BG39: 0.015 | BH39: 0.008 | BI39: 0 | BJ39: 11 | BL39: 0.8 | BM39: 0.69 | BO39: 0.95 | BP39: 1 | BQ39: 0.0025
A40: BAS RHIN | B40: HAGUENAU | C40: SARRE UNION | D40: 4.1371848 | F40: 0.036 | G40: 0.03 | I40: 4 | J40: 3 | L40: 1506.3794 | M40: 846.68219 | N40: 2353.0616 | O40: 568.75912 | P40: 228.25 | Q40: 2.4918253 | R40: 1287.8772 | S40: 0.01 | T40: 0.01 | U40: 0 | V40: 0 | X40: 2891.8025 | Y40: 698.97832 | Z40: 573 | AA40: 1.2198575 | AB40: 217.75792 | AC40: 0.02 | AD40: 0.02 | AE40: 0 | AF40: 0 | AH40: 184.3 | AI40: 44.547201 | AJ40: 63 | AK40: 0.70709843 | AL40: -109.7049 | AO40: 77 | AP40: 129 | AR40: 28.8 | AS40: 6.9612555 | AT40: 16 | AU40: 0.43507847 | AV40: -45.86791 | AY40: 38 | AZ40: 51 | BB40: 132 | BC40: 31.905754 | BD40: 32 | BE40: 0.99705482 | BF40: -17.335821 | BG40: 0.006 | BH40: 0 | BI40: 1 | BJ40: 27 | BL40: 0.8 | BM40: 0.72 | BO40: 0.95 | BP40: 1 | BQ40: 0.0025
A41: BAS RHIN | B41: HAGUENAU | C41: SAVERNE | D41: 7.6785696 | F41: 0.041 | G41: 0.03 | I41: 4 | J41: 4 | L41: 5845.2822 | M41: 2210.355 | N41: 8055.6371 | O41: 1049.1065 | P41: 287.5 | Q41: 3.649066 | R41: 5565.477 | S41: 0.01 | T41: 0.01 | U41: 0 | V41: 0 | X41: 5123.0122 | Y41: 667.18314 | Z41: 573 | AA41: 1.1643685 | AB41: 160.01479 | AC41: 0.02 | AD41: 0.016 | AE41: 0 | AF41: 157 | AH41: 331.05 | AI41: 43.113499 | AJ41: 63 | AK41: 0.68434125 | AL41: -214.61987 | AO41: 153 | AP41: 250 | AR41: 73.4 | AS41: 9.5590721 | AT41: 16 | AU41: 0.59744201 | AV41: -65.182823 | AY41: 50 | AZ41: 75 | BB41: 256 | BC41: 33.339543 | BD41: 32 | BE41: 1.0418607 | BF41: -21.165647 | BG41: 0.011 | BH41: 0.004 | BI41: 0 | BJ41: 39 | BL41: 0.8 | BM41: 0.71 | BO41: 0.95 | BP41: 0.97 | BQ41: 0.001
A42: BAS RHIN | B42: HAGUENAU | C42: SCHWEIGHOUSE SUR MODER | D42: 2.4205746 | F42: 0.01 | G42: 0.01 | I42: 2 | J42: 2 | L42: 1746.0889 | M42: 1285.3189 | N42: 3031.4078 | O42: 1252.3505 | P42: 276.944 | Q42: 4.5220352 | R42: 2275.2377 | S42: 0.01 | T42: 0.01 | U42: 0 | V42: 0 | X42: 1201.325 | Y42: 496.29743 | Z42: 573 | AA42: 0.86613863 | AB42: -363.1989 | AE42: 186 | AF42: 464 | AH42: 100.35 | AI42: 41.457099 | AJ42: 63 | AK42: 0.65804919 | AL42: -71.665713 | AO42: 53 | AP42: 83 | AR42: 9.6 | AS42: 3.9660005 | AT42: 16 | AU42: 0.24787503 | AV42: -34.08653 | AY42: 30 | AZ42: 37 | BB42: 63.6 | BC42: 26.274753 | BD42: 32 | BE42: 0.82108604 | BF42: -23.77306 | BI42: 14 | BJ42: 30 | BL42: 0.8 | BM42: 0.75 | BO42: 0.95 | BP42: 1 | BQ42: 0.0025
A43: BAS RHIN | B43: HAGUENAU | C43: SOUFFLENHEIM | D43: 1.6157699 | F43: 0.01 | G43: 0.01 | I43: 2 | J43: 2 | L43: 191.56234 | M43: 957.29352 | N43: 1148.8559 | O43: 711.02692 | P43: 244.696 | Q43: 2.9057562 | R43: 702.87577 | S43: 0.01 | T43: 0.01 | U43: 0 | V43: 0 | X43: 753.19404 | Y43: 466.15181 | Z43: 573 | AA43: 0.81352846 | AB43: -291.14911 | AE43: 173 | AF43: 358 | AH43: 74.1 | AI43: 45.860492 | AJ43: 63 | AK43: 0.72794431 | AL43: -40.723069 | AO43: 28 | AP43: 49 | AR43: 7 | AS43: 4.3323002 | AT43: 16 | AU43: 0.27076876 | AV43: -22.161414 | AY43: 19 | AZ43: 25 | BB43: 42 | BC43: 25.993801 | BD43: 32 | BE43: 0.81230628 | BF43: -16.322829 | BI43: 10 | BJ43: 21 | BL43: 0.8 | BM43: 0.68 | BO43: 0.95 | BP43: 1 | BQ43: 0.0025
A44: BAS RHIN | B44: HAGUENAU | C44: SOULTZ SOUS FORETS | D44: 2.385226 | F44: 0.05 | G44: 0.049 | I44: 5 | J44: 5 | L44: 736.09851 | M44: 1357.8457 | N44: 2093.9443 | O44: 877.88085 | P44: 239.304 | Q44: 3.6684754 | R44: 1450.0885 | S44: 0.01 | T44: 0.01 | U44: 0 | V44: 0 | X44: 1275.378 | Y44: 534.699 | Z44: 573 | AA44: 0.93315707 | AB44: -266.29856 | AE44: 92 | AF44: 365 | AH44: 178.1 | AI44: 74.667976 | AJ44: 63 | AK44: 1.185206 | AL44: 8.5962966 | AM44: 0.02 | AN44: 0.019 | AO44: 0 | AP44: 3 | AR44: 31.4 | AS44: 13.164371 | AT44: 16 | AU44: 0.82277317 | AV44: -11.64856 | AY44: 7 | AZ44: 15 | BB44: 111.6 | BC44: 46.788018 | BD44: 32 | BE44: 1.4621256 | BF44: 25.502881 | BG44: 0.02 | BH44: 0.02 | BI44: 0 | BJ44: 0 | BL44: 0.8 | BM44: 0.82 | BN44: 0.00075 | BO44: 0.95 | BP44: 1 | BQ44: 0.0025
A45: BAS RHIN | B45: HAGUENAU | C45: TRUCHTERSHEIM | D45: 2.9406015 | F45: 0.05 | G45: 0.043 | I45: 5 | J45: 5 | L45: 3177.3971 | M45: 1915.6665 | N45: 5093.0636 | O45: 1731.9802 | P45: 287.5 | Q45: 6.024279 | R45: 4139.4265 | S45: 0.01 | T45: 0.01 | U45: 0 | V45: 0 | X45: 1903.4792 | Y45: 647.30948 | Z45: 573 | AA45: 1.129685 | AB45: 2.8390816 | AC45: 0.02 | AD45: 0.013 | AE45: 0 | AF45: 119 | AH45: 108.85 | AI45: 37.016236 | AJ45: 63 | AK45: 0.58755931 | AL45: -100.12091 | AO45: 77 | AP45: 114 | AR45: 17.8 | AS45: 6.0531833 | AT45: 16 | AU45: 0.37832396 | AV45: -35.271976 | AY45: 30 | AZ45: 39 | BB45: 121 | BC45: 41.148044 | BD45: 32 | BE45: 1.2858764 | BF45: 14.856048 | BG45: 0.02 | BH45: 0.02 | BI45: 0 | BJ45: 0 | BL45: 0.8 | BM45: 0.81 | BN45: 0.000375 | BO45: 0.95 | BP45: 1 | BQ45: 0.0025
A46: BAS RHIN | B46: HAGUENAU | C46: WISSEMBOURG | D46: 8.6630214 | F46: 0.021 | G46: 0.015 | I46: 3 | J46: 3 | L46: 3857.9787 | M46: 4763.6888 | N46: 8621.6675 | O46: 995.22639 | P46: 276.44 | Q46: 3.6001533 | R46: 5920.3267 | S46: 0.01 | T46: 0.01 | U46: 0 | V46: 0 | X46: 4325.3927 | Y46: 499.29378 | Z46: 573 | AA46: 0.87136786 | AB46: -1273.8992 | AE46: 639 | AF46: 1632 | AH46: 496.25 | AI46: 57.283709 | AJ46: 63 | AK46: 0.90926523 | AL46: -119.37895 | AO46: 50 | AP46: 159 | AR46: 22 | AS46: 2.5395297 | AT46: 16 | AU46: 0.15872061 | AV46: -134.35021 | AY46: 117 | AZ46: 145 | BB46: 290 | BC46: 33.475619 | BD46: 32 | BE46: 1.0461131 | BF46: -22.700421 | BG46: 0.011 | BH46: 0.005 | BI46: 0 | BJ46: 43 | BL46: 0.8 | BM46: 0.7 | BO46: 0.95 | BP46: 1 | BQ46: 0.0025
A47: BAS RHIN | B47: HAGUENAU | C47: WOERTH | D47: 2.3098196 | F47: 0.01 | G47: 0.01 | I47: 2 | J47: 2 | L47: 475.94411 | M47: 1173.2617 | N47: 1649.2058 | O47: 713.99768 | P47: 236.598 | Q47: 3.0177672 | R47: 1032.7553 | S47: 0.01 | T47: 0.01 | U47: 0 | V47: 0 | X47: 1091.138 | Y47: 472.39099 | Z47: 573 | AA47: 0.82441709 | AB47: -401.80006 | AE47: 233 | AF47: 498 | AH47: 99.25 | AI47: 42.968724 | AJ47: 63 | AK47: 0.68204323 | AL47: -64.895019 | AO47: 47 | AP47: 76 | AR47: 1 | AS47: 0.43293424 | AT47: 16 | AU47: 0.02705839 | AV47: -40.687624 | AY47: 36 | AZ47: 44 | BB47: 63.2 | BC47: 27.361444 | BD47: 32 | BE47: 0.85504513 | BF47: -20.175248 | BI47: 11 | BJ47: 26 | BL47: 0.8 | BM47: 0.72 | BO47: 0.95 | BP47: 1 | BQ47: 0.0025
A48: BAS RHIN | B48: SELESTAT | C48: BARR | D48: 2.9631336 | F48: 0.04 | G48: 0.04 | I48: 4 | J48: 4 | L48: 1650.8674 | M48: 1798.0959 | N48: 3448.9632 | O48: 1163.958 | P48: 287.5 | Q48: 4.0485497 | R48: 2488.019 | S48: 0.01 | T48: 0.01 | U48: 0 | V48: 0 | X48: 1526.6043 | Y48: 515.19927 | Z48: 573 | AA48: 0.89912612 | AB48: -388.59937 | AE48: 172 | AF48: 511 | AH48: 164.5 | AI48: 55.515552 | AJ48: 63 | AK48: 0.88119924 | AL48: -46.072129 | AO48: 23 | AP48: 60 | AR48: 57.9 | AS48: 19.540124 | AT48: 16 | AU48: 1.2212578 | AV48: 4.4213641 | AW48: 0.01 | AX48: 0.01 | AY48: 0 | AZ48: 0 | BB48: 120 | BC48: 40.497667 | BD48: 32 | BE48: 1.2655521 | BF48: 13.042728 | BG48: 0.02 | BH48: 0.02 | BI48: 0 | BJ48: 0 | BL48: 0.8 | BM48: 0.64 | BO48: 0.95 | BP48: 1 | BQ48: 0.0025
A49: BAS RHIN | B49: SELESTAT | C49: BENFELD | D49: 3.6627519 | F49: 0.01 | G49: 0.01 | I49: 2 | J49: 2 | L49: 3625.0295 | M49: 111.16392 | N49: 3736.1935 | O49: 1020.0509 | P49: 265.849 | Q49: 3.836956 | R49: 2637.8159 | S49: 0.01 | T49: 0.01 | U49: 0 | V49: 0 | X49: 1604.6488 | Y49: 438.09924 | Z49: 573 | AA49: 0.7645711 | AB49: -762.74888 | AE49: 495 | AF49: 914 | AH49: 124.6 | AI49: 34.018138 | AJ49: 63 | AK49: 0.53997045 | AL49: -135.6898 | AO49: 107 | AP49: 153 | AR49: 4.8 | AS49: 1.3104901 | AT49: 16 | AU49: 0.08190563 | AV49: -61.305346 | AY49: 54 | AZ49: 66 | BB49: 94.6 | BC49: 25.827575 | BD49: 32 | BE49: 0.80711173 | BF49: -37.610692 | BI49: 23 | BJ49: 47 | BL49: 0.8 | BM49: 0.64 | BO49: 0.95 | BP49: 1 | BQ49: 0.0025
A50: BAS RHIN | B50: SELESTAT | C50: ERSTEIN | D50: 4.5139964 | F50: 0.01 | G50: 0.01 | I50: 2 | J50: 2 | L50: 2450.5291 | M50: 2174.1181 | N50: 4624.6472 | O50: 1024.5128 | P50: 287.5 | Q50: 3.5635229 | R50: 3160.7581 | S50: 0.01 | T50: 0.01 | U50: 0 | V50: 0 | X50: 1456.1579 | Y50: 322.58731 | Z50: 573 | AA50: 0.5629796 | AB50: -1461.4365 | AE50: 1131 | AF50: 1648 | AH50: 147.1 | AI50: 32.587532 | AJ50: 63 | AK50: 0.51726241 | AL50: -173.68264 | AO50: 138 | AP50: 195 | AR50: 17.1 | AS50: 3.7882175 | AT50: 16 | AU50: 0.23676359 | AV50: -64.368606 | AY50: 56 | AZ50: 70 | BB50: 104.6 | BC50: 23.172371 | BD50: 32 | BE50: 0.7241366 | BF50: -58.337213 | BI50: 40 | BJ50: 69 | BL50: 0.8 | BM50: 0.68 | BO50: 0.95 | BP50: 1 | BQ50: 0.0025
A51: BAS RHIN | B51: SELESTAT | C51: FEGERSHEIM | D51: 2.2098363 | F51: 0.041 | G51: 0.035 | I51: 4 | J51: 4 | L51: 134.19263 | M51: 2217.591 | N51: 2351.7836 | O51: 1064.2343 | P51: 287.5 | Q51: 3.7016846 | R51: 1635.1337 | S51: 0.01 | T51: 0.01 | U51: 0 | V51: 0 | X51: 1123.0633 | Y51: 508.21109 | Z51: 573 | AA51: 0.88693035 | AB51: -305.25112 | AE51: 144 | AF51: 397 | AH51: 145.65 | AI51: 65.909861 | AJ51: 63 | AK51: 1.0461883 | AL51: -11.389804 | AM51: 0.011 | AN51: 0.005 | AO51: 0 | AP51: 22 | AR51: 9.3 | AS51: 4.2084566 | AT51: 16 | AU51: 0.26302854 | AV51: -30.583125 | AY51: 27 | AZ51: 34 | BB51: 104.6 | BC51: 47.333824 | BD51: 32 | BE51: 1.479182 | BF51: 24.83375 | BG51: 0.02 | BH51: 0.02 | BI51: 0 | BJ51: 0 | BL51: 0.8 | BM51: 0.73 | BO51: 0.95 | BP51: 1 | BQ51: 0.0025
A52: BAS RHIN | B52: SELESTAT | C52: ILLKIRCH CENTRE | D52: 7.7514399 | F52: 0.031 | G52: 0.017 | I52: 4 | J52: 4 | L52: 5702.8802 | M52: 4397.6396 | N52: 10100.52 | O52: 1303.0508 | P52: 287.5 | Q52: 4.5323506 | R52: 7586.7278 | S52: 0.01 | T52: 0.01 | U52: 0 | V52: 0 | X52: 4667.752 | Y52: 602.17871 | Z52: 573 | AA52: 1.0509227 | AB52: -342.34461 | AC52: 0.012 | AD52: 0.005 | AE52: 0 | AF52: 663 | AH52: 436.2 | AI52: 56.273416 | AJ52: 63 | AK52: 0.89322883 | AL52: -114.64832 | AO52: 53 | AP52: 150 | AR52: 80.6 | AS52: 10.398068 | AT52: 16 | AU52: 0.64987926 | AV52: -59.297987 | AY52: 44 | AZ52: 69 | BB52: 253.6 | BC52: 32.716502 | BD52: 32 | BE52: 1.0223907 | BF52: -26.195973 | BG52: 0.009 | BH52: 0.002 | BI52: 0 | BJ52: 45 | BL52: 0.8 | BM52: 0.73 | BO52: 0.95 | BP52: 1 | BQ52: 0.0025
A53: BAS RHIN | B53: SELESTAT | C53: LINGOLSHEIM | D53: 4.7798891 | F53: 0.025 | G53: 0.018 | I53: 3 | J53: 3 | L53: 1301.6352 | M53: 1527.8087 | N53: 2829.4439 | O53: 591.94762 | P53: 284.877 | Q53: 2.077906 | R53: 1293.4684 | S53: 0.01 | T53: 0.01 | U53: 0 | V53: 0 | X53: 2340.4916 | Y53: 489.65396 | Z53: 573 | AA53: 0.85454443 | AB53: -748.96102 | AE53: 399 | AF53: 947 | AH53: 168.75 | AI53: 35.304167 | AJ53: 63 | AK53: 0.5603836 | AL53: -170.92804 | AO53: 133 | AP53: 193 | AR53: 24.2 | AS53: 5.062879 | AT53: 16 | AU53: 0.31642994 | AV53: -62.067438 | AY53: 53 | AZ53: 68 | BB53: 164.8 | BC53: 34.477788 | BD53: 32 | BE53: 1.0774309 | BF53: -7.7348758 | BG53: 0.015 | BH53: 0.008 | BI53: 0 | BJ53: 19 | BL53: 0.8 | BM53: 0.7 | BO53: 0.95 | BP53: 1 | BQ53: 0.0025
A54: BAS RHIN | B54: SELESTAT | C54: MARCKOLSHEIM | D54: 2.5187938 | F54: 0.063 | G54: 0.052 | I54: 5 | J54: 5 | L54: 1282.325 | M54: -301.82296 | N54: 980.50204 | O54: 389.27444 | P54: 239.025 | Q54: 1.628593 | R54: 301.38435 | S54: 0.01 | T54: 0.01 | U54: 0 | V54: 0 | X54: 1736.0084 | Y54: 689.22213 | Z54: 573 | AA54: 1.2028309 | AB54: 108.00117 | AC54: 0.02 | AD54: 0.02 | AE54: 0 | AF54: 0 | AH54: 168.8 | AI54: 67.016204 | AJ54: 63 | AK54: 1.0637493 | AL54: -10.195563 | AM54: 0.013 | AN54: 0.006 | AO54: 0 | AP54: 22 | AR54: 15.8 | AS54: 6.2728438 | AT54: 16 | AU54: 0.39205273 | AV54: -29.659191 | AY54: 25 | AZ54: 33 | BB54: 93.8 | BC54: 37.240047 | BD54: 32 | BE54: 1.1637515 | BF54: 2.8816188 | BG54: 0.02 | BH54: 0.016 | BI54: 0 | BJ54: 3 | BL54: 0.8 | BM54: 0.7 | BO54: 0.95 | BP54: 1 | BQ54: 0.0025
A55: BAS RHIN | B55: SELESTAT | C55: MARLENHEIM | D55: 2.5697044 | I55: 1 | J55: 1 | L55: 145.56924 | M55: 361.9014 | N55: 507.47064 | O55: 197.48211 | P55: 273.438 | Q55: 0.72221896 | R55: -285.124 | U55: 196 | V55: 336 | X55: 1020.9076 | Y55: 397.28602 | Z55: 573 | AA55: 0.69334384 | AB55: -640.00538 | AE55: 452 | AF55: 747 | AH55: 100.1 | AI55: 38.953897 | AJ55: 63 | AK55: 0.61831583 | AL55: -82.513472 | AO55: 62 | AP55: 95 | AR55: 7 | AS55: 2.7240488 | AT55: 16 | AU55: 0.17025305 | AV55: -39.378025 | AY55: 35 | AZ55: 43 | BB55: 59.4 | BC55: 23.115499 | BD55: 32 | BE55: 0.72235936 | BF55: -33.356049 | BI55: 23 | BJ55: 40 | BL55: 0.8 | BM55: 0.74 | BO55: 0.95 | BP55: 1 | BQ55: 0.0025
A56: BAS RHIN | B56: SELESTAT | C56: MOLSHEIM | D56: 5.2395012 | F56: 0.027 | G56: 0.02 | I56: 3 | J56: 3 | L56: 2487.5551 | M56: 1153.2184 | N56: 3640.7734 | O56: 694.87023 | P56: 287.5 | Q56: 2.4169399 | R56: 1941.6032 | S56: 0.01 | T56: 0.01 | U56: 0 | V56: 0 | X56: 2364.9646 | Y56: 451.37209 | Z56: 573 | AA56: 0.78773489 | AB56: -1021.5555 | AE56: 638 | AF56: 1238 | AH56: 150.8 | AI56: 28.781366 | AJ56: 63 | AK56: 0.45684707 | AL56: -221.53992 | AO56: 180 | AP56: 246 | AR56: 26.3 | AS56: 5.0195618 | AT56: 16 | AU56: 0.31372261 | AV56: -68.262518 | AY56: 58 | AZ56: 75 | BB56: 183.8 | BC56: 35.079675 | BD56: 32 | BE56: 1.0962398 | BF56: -5.3250362 | BG56: 0.017 | BH56: 0.01 | BI56: 0 | BJ56: 18 | BL56: 0.8 | BM56: 0.7 | BO56: 0.95 | BP56: 1 | BQ56: 0.0025
A57: BAS RHIN | B57: SELESTAT | C57: MUTZIG | D57: 2.635244 | F57: 0.06 | G57: 0.06 | I57: 5 | J57: 5 | L57: 306.17004 | M57: 2639.6924 | N57: 2945.8625 | O57: 1117.8709 | P57: 269.755 | Q57: 4.1440227 | R57: 2144.0008 | S57: 0.01 | T57: 0.01 | U57: 0 | V57: 0 | X57: 1870.4784 | Y57: 709.79326 | Z57: 573 | AA57: 1.2387317 | AB57: 167.20428 | AC57: 0.02 | AD57: 0.02 | AE57: 0 | AF57: 0 | AH57: 146.95 | AI57: 55.763337 | AJ57: 63 | AK57: 0.88513233 | AL57: -40.320981 | AO57: 20 | AP57: 53 | AR57: 63.4 | AS57: 24.058493 | AT57: 16 | AU57: 1.5036558 | AV57: 15.839116 | AW57: 0.01 | AX57: 0.01 | AY57: 0 | AZ57: 0 | BB57: 137.8 | BC57: 52.291173 | BD57: 32 | BE57: 1.6340991 | BF57: 42.678232 | BG57: 0.02 | BH57: 0.02 | BI57: 0 | BJ57: 0 | BL57: 0.8 | BM57: 0.73 | BO57: 0.95 | BP57: 1 | BQ57: 0.0025
A58: BAS RHIN | B58: SELESTAT | C58: OBERNAI | D58: 5.3559301 | F58: 0.03 | G58: 0.027 | I58: 3 | J58: 3 | L58: 4186.8213 | M58: 1072.2323 | N58: 5259.0536 | O58: 981.91229 | P58: 280.085 | Q58: 3.5057654 | R58: 3566.9231 | S58: 0.01 | T58: 0.01 | U58: 0 | V58: 0 | X58: 1937.4233 | Y58: 361.73424 | Z58: 573 | AA58: 0.63129884 | AB58: -1524.35 | AE58: 1132 | AF58: 1746 | AH58: 239.2 | AI58: 44.660777 | AJ58: 63 | AK58: 0.70890123 | AL58: -141.41381 | AO58: 99 | AP58: 166 | AR58: 26.9 | AS58: 5.0224703 | AT58: 16 | AU58: 0.3139044 | AV58: -69.763826 | AY58: 59 | AZ58: 76 | BB58: 200.2 | BC58: 37.379129 | BD58: 32 | BE58: 1.1680978 | BF58: 6.872348 | BG58: 0.02 | BH58: 0.017 | BI58: 0 | BJ58: 6 | BL58: 0.8 | BM58: 0.65 | BO58: 0.95 | BP58: 1 | BQ58: 0.0025
A59: BAS RHIN | B59: SELESTAT | C59: ROSHEIM | D59: 1.3827908 | F59: 0.01 | G59: 0.01 | I59: 2 | J59: 2 | L59: 466.33019 | M59: 1424.7334 | N59: 1891.0636 | O59: 1367.5702 | P59: 280.085 | Q59: 4.8826972 | R59: 1454.1903 | S59: 0.01 | T59: 0.01 | U59: 0 | V59: 0 | X59: 699.74479 | Y59: 506.03807 | Z59: 573 | AA59: 0.883138 | AB59: -194.01375 | AE59: 93 | AF59: 252 | AH59: 63.3 | AI59: 45.77699 | AJ59: 63 | AK59: 0.72661888 | AL59: -34.966645 | AO59: 24 | AP59: 42 | AR59: 5 | AS59: 3.615876 | AT59: 16 | AU59: 0.22599225 | AV59: -19.956608 | AY59: 18 | AZ59: 22 | BB59: 34 | BC59: 24.587956 | BD59: 32 | BE59: 0.76837364 | BF59: -15.913217 | BI59: 11 | BJ59: 20 | BL59: 0.8 | BM59: 0.75 | BO59: 0.95 | BP59: 1 | BQ59: 0.0025
A60: BAS RHIN | B60: SELESTAT | C60: SCHIRMECK | D60: 3.0026689 | F60: 0.05 | G60: 0.049 | I60: 4 | J60: 4 | L60: 1541.4371 | M60: 732.29039 | N60: 2273.7275 | O60: 757.23553 | P60: 239.264 | Q60: 3.1648536 | R60: 1463.3379 | S60: 0.01 | T60: 0.01 | U60: 0 | V60: 0 | X60: 2052.0192 | Y60: 683.39843 | Z60: 573 | AA60: 1.1926674 | AB60: 111.26219 | AC60: 0.02 | AD60: 0.019 | AE60: 0 | AF60: 13 | AH60: 171.8 | AI60: 57.215766 | AJ60: 63 | AK60: 0.90818677 | AL60: -41.58166 | AO60: 18 | AP60: 56 | AR60: 31.5 | AS60: 10.490667 | AT60: 16 | AU60: 0.65566671 | AV60: -22.692168 | AY60: 17 | AZ60: 27 | BB60: 130.8 | BC60: 43.561247 | BD60: 32 | BE60: 1.361289 | BF60: 22.415665 | BG60: 0.02 | BH60: 0.02 | BI60: 0 | BJ60: 0 | BL60: 0.8 | BM60: 0.73 | BO60: 0.95 | BP60: 1 | BQ60: 0.0025
A61: BAS RHIN | B61: SELESTAT | C61: SELESTAT CENTRE | D61: 8.0969419 | F61: 0.043 | G61: 0.033 | I61: 4 | J61: 4 | L61: 5902.3992 | M61: 3730.2176 | N61: 9632.6169 | O61: 1189.6611 | P61: 262.83 | Q61: 4.526352 | R61: 7232.0983 | S61: 0.01 | T61: 0.01 | U61: 0 | V61: 0 | X61: 4924.077 | Y61: 608.14034 | Z61: 573 | AA61: 1.0613269 | AB61: -309.33286 | AC61: 0.013 | AD61: 0.006 | AE61: 0 | AF61: 644 | AH61: 425.8 | AI61: 52.587755 | AJ61: 63 | AK61: 0.83472627 | AL61: -149.60108 | AO61: 85 | AP61: 187 | AR61: 35.9 | AS61: 4.4337727 | AT61: 16 | AU61: 0.27711079 | AV61: -110.23361 | AY61: 94 | AZ61: 120 | BB61: 302.6 | BC61: 37.372134 | BD61: 32 | BE61: 1.1678792 | BF61: 10.332783 | BG61: 0.02 | BH61: 0.017 | BI61: 0 | BJ61: 9 | BL61: 0.8 | BM61: 0.68 | BO61: 0.95 | BP61: 1 | BQ61: 0.0025
A62: BAS RHIN | B62: SELESTAT | C62: SELESTAT OUEST | D62: 1.8954204 | F62: 0.056 | G62: 0.045 | I62: 5 | J62: 4 | L62: 2344.3088 | M62: 435.06283 | N62: 2779.3716 | O62: 1466.3616 | P62: 248.272 | Q62: 5.9062705 | R62: 2248.5576 | S62: 0.01 | T62: 0.01 | U62: 0 | V62: 0 | X62: 1085.8599 | Y62: 572.88606 | Z62: 573 | AA62: 0.99980115 | AB62: -139.23368 | AC62: 0.006 | AD62: 0 | AE62: 1 | AF62: 218 | AH62: 136.9 | AI62: 72.226722 | AJ62: 63 | AK62: 1.1464559 | AL62: 2.2038469 | AM62: 0.02 | AN62: 0.015 | AO62: 0 | AP62: 7 | AR62: 26.9 | AS62: 14.192102 | AT62: 16 | AU62: 0.8870064 | AV62: -7.3085468 | AY62: 4 | AZ62: 10 | BB62: 82 | BC62: 43.262171 | BD62: 32 | BE62: 1.3519428 | BF62: 13.582906 | BG62: 0.02 | BH62: 0.02 | BI62: 0 | BJ62: 0 | BL62: 0.8 | BM62: 0.8 | BN62: 0 | BO62: 0.95 | BP62: 1 | BQ62: 0.0025
A63: BAS RHIN | B63: SELESTAT | C63: VILLE | D63: 2.1204175 | F63: 0.048 | G63: 0.036 | I63: 4 | J63: 3 | L63: 894.0715 | M63: 709.01498 | N63: 1603.0865 | O63: 756.024 | P63: 256.271 | Q63: 2.9500958 | R63: 990.12959 | S63: 0.01 | T63: 0.01 | U63: 0 | V63: 0 | X63: 1199.8155 | Y63: 565.83928 | Z63: 573 | AA63: 0.98750311 | AB63: -170.70361 | AC63: 0.005 | AE63: 16 | AF63: 259 | AH63: 141.5 | AI63: 66.732143 | AJ63: 63 | AK63: 1.0592404 | AL63: -9.1853462 | AM63: 0.013 | AN63: 0.006 | AO63: 0 | AP63: 19 | AR63: 12.8 | AS63: 6.0365472 | AT63: 16 | AU63: 0.3772842 | AV63: -25.469294 | AY63: 22 | AZ63: 28 | BB63: 89.8 | BC63: 42.350151 | BD63: 32 | BE63: 1.3234422 | BF63: 13.261411 | BG63: 0.02 | BH63: 0.02 | BI63: 0 | BJ63: 0 | BL63: 0.8 | BM63: 0.73 | BO63: 0.95 | BP63: 0.71
A64: BAS RHIN | B64: SELESTAT | C64: WASSELONNE | D64: 2.5505438 | F64: 0.05 | G64: 0.05 | I64: 4 | J64: 4 | L64: 1615.6911 | M64: 2826.6165 | N64: 4442.3076 | O64: 1741.71 | P64: 273.438 | Q64: 6.3696707 | R64: 3655.6228 | S64: 0.01 | T64: 0.01 | U64: 0 | V64: 0 | X64: 1785.5803 | Y64: 700.0783 | Z64: 573 | AA64: 1.2217771 | AB64: 137.05169 | AC64: 0.02 | AD64: 0.02 | AE64: 0 | AF64: 0 | AH64: 124.45 | AI64: 48.793517 | AJ64: 63 | AK64: 0.77450027 | AL64: -56.801842 | AO64: 37 | AP64: 69 | AR64: 10.6 | AS64: 4.1559765 | AT64: 16 | AU64: 0.25974853 | AV64: -35.432214 | AY64: 31 | AZ64: 39 | BB64: 101.8 | BC64: 39.913058 | BD64: 32 | BE64: 1.2472831 | BF64: 9.7355725 | BG64: 0.02 | BH64: 0.02 | BI64: 0 | BJ64: 0 | BL64: 0.8 | BM64: 0.66 | BO64: 0.95 | BP64: 1 | BQ64: 0.0025
A65: BAS RHIN | B65: STRASBOURG | C65: BISCHHEIM | D65: 2.7952904 | F65: 0.03 | G65: 0.03 | I65: 2 | J65: 2 | L65: 2852.4804 | M65: 865.52131 | N65: 3718.0017 | O65: 1330.095 | P65: 264.729 | Q65: 5.0243645 | R65: 2883.288 | S65: 0.01 | T65: 0.01 | U65: 0 | V65: 0 | X65: 1409.2386 | Y65: 504.14747 | Z65: 573 | AA65: 0.87983852 | AB65: -397.48059 | AE65: 193 | AF65: 513 | AH65: 155.25 | AI65: 55.539847 | AJ65: 63 | AK65: 0.88158488 | AL65: -43.394514 | AO65: 21 | AP65: 57 | AR65: 14 | AS65: 5.0084242 | AT65: 16 | AU65: 0.31302652 | AV65: -36.4494 | AY65: 31 | AZ65: 40 | BB65: 124.2 | BC65: 44.431878 | BD65: 32 | BE65: 1.3884962 | BF65: 23.301199 | BG65: 0.02 | BH65: 0.02 | BI65: 0 | BJ65: 0 | BL65: 0.8 | BM65: 0.68 | BO65: 0.95 | BP65: 0.9
A66: BAS RHIN | B66: STRASBOURG | C66: LA WANTZENAU | D66: 1.4210881 | F66: 0.03 | G66: 0.03 | I66: 3 | J66: 3 | L66: 2197.9252 | M66: 1271.4114 | N66: 3469.3365 | O66: 2441.3241 | P66: 287.5 | Q66: 8.4915621 | R66: 3008.4777 | S66: 0.01 | T66: 0.01 | U66: 0 | V66: 0 | X66: 982.72623 | Y66: 691.53084 | Z66: 573 | AA66: 1.2068601 | AB66: 64.21448 | AC66: 0.02 | AD66: 0.02 | AE66: 0 | AF66: 0 | AH66: 63.2 | AI66: 44.472965 | AJ66: 63 | AK66: 0.70592008 | AL66: -37.788203 | AO66: 27 | AP66: 45 | AR66: 10.6 | AS66: 7.4590732 | AT66: 16 | AU66: 0.46619208 | AV66: -15.047798 | AY66: 13 | AZ66: 17 | BB66: 42.6 | BC66: 29.97703 | BD66: 32 | BE66: 0.93678219 | BF66: -8.6955951 | BG66: 0 | BI66: 3 | BJ66: 12 | BL66: 0.8 | BM66: 0.75 | BO66: 0.95 | BP66: 1 | BQ66: 0.0025
A67: BAS RHIN | B67: STRASBOURG | C67: MUNDOLSHEIM | D67: 4.3565892 | F67: 0.03 | G67: 0.03 | I67: 3 | J67: 3 | L67: 3553.2467 | M67: 1953.2314 | N67: 5506.478 | O67: 1263.9425 | P67: 287.5 | Q67: 4.3963216 | R67: 4093.6362 | S67: 0.01 | T67: 0.01 | U67: 0 | V67: 0 | X67: 1969.7687 | Y67: 452.13552 | Z67: 573 | AA67: 0.78906723 | AB67: -846.08655 | AE67: 527 | AF67: 1026 | AH67: 160.9 | AI67: 36.932562 | AJ67: 63 | AK67: 0.58623115 | AL67: -148.69665 | AO67: 114 | AP67: 169 | AR67: 45.4 | AS67: 10.420996 | AT67: 16 | AU67: 0.65131228 | AV67: -33.227721 | AY67: 25 | AZ67: 39 | BB67: 195.6 | BC67: 44.897509 | BD67: 32 | BE67: 1.4030471 | BF67: 38.344558 | BG67: 0.02 | BH67: 0.02 | BI67: 0 | BJ67: 0 | BL67: 0.8 | BM67: 0.75 | BO67: 0.95 | BP67: 1 | BQ67: 0.0025
A68: BAS RHIN | B68: STRASBOURG | C68: OBERHAUSBERGEN | D68: 4.5469934 | F68: 0.053 | G68: 0.039 | I68: 5 | J68: 5 | L68: 5184.4554 | M68: 1785.4941 | N68: 6969.9495 | O68: 1532.8699 | P68: 287.5 | Q68: 5.3317215 | R68: 5495.3595 | S68: 0.01 | T68: 0.01 | U68: 0 | V68: 0 | X68: 2789.6878 | Y68: 613.5236 | Z68: 573 | AA68: 1.0707218 | AB68: -149.23415 | AC68: 0.014 | AD68: 0.007 | AE68: 0 | AF68: 337 | AH68: 292.55 | AI68: 64.339218 | AJ68: 63 | AK68: 1.0212574 | AL68: -30.577542 | AM68: 0.009 | AN68: 0.002 | AO68: 0 | AP68: 52 | AR68: 40.2 | AS68: 8.8410068 | AT68: 16 | AU68: 0.55256293 | AV68: -41.864138 | AY68: 33 | AZ68: 48 | BB68: 214.8 | BC68: 47.240007 | BD68: 32 | BE68: 1.4762502 | BF68: 50.671725 | BG68: 0.02 | BH68: 0.02 | BI68: 0 | BJ68: 0 | BL68: 0.8 | BM68: 0.77 | BO68: 0.95 | BP68: 1 | BQ68: 0.0025
A69: BAS RHIN | B69: STRASBOURG | C69: REICHSTETT | D69: 1.5103209 | F69: 0.0335 | G69: 0.0145 | I69: 5 | J69: 4 | L69: 703.77817 | M69: -250.92737 | N69: 452.8508 | O69: 299.83747 | P69: 287.5 | Q69: 1.0429129 | R69: -36.946276 | S69: 0.0055 | T69: 0.002 | U69: 0 | V69: 69 | X69: 621.54995 | Y69: 411.53502 | Z69: 573 | AA69: 0.71821121 | AB69: -354.63691 | AE69: 244 | AF69: 417 | AH69: 92.65 | AI69: 61.344578 | AJ69: 63 | AK69: 0.97372346 | AL69: -14.679446 | AM69: 0.004 | AO69: 3 | AP69: 22 | AR69: 25.4 | AS69: 16.817618 | AT69: 16 | AU69: 1.0511011 | AV69: -1.858272 | AW69: 0.006 | AX69: 0.0025 | AY69: 0 | AZ69: 4 | BB69: 53.4 | BC69: 35.356724 | BD69: 32 | BE69: 1.1048976 | BF69: -1.1165441 | BG69: 0.018 | BH69: 0.01 | BI69: 0 | BJ69: 5 | BL69: 0.8 | BM69: 0.65 | BO69: 0.95 | BP69: 1 | BQ69: 0.0025
A70: BAS RHIN | B70: STRASBOURG | C70: SCHILTIGHEIM CENTRE | D70: 3.0536944 | F70: 0.033 | G70: 0.03 | I70: 4 | J70: 3 | L70: 2963.7654 | M70: 845.47593 | N70: 3809.2413 | O70: 1247.4206 | P70: 253.321 | Q70: 4.9242685 | R70: 2936.6601 | S70: 0.01 | T70: 0.01 | U70: 0 | V70: 0 | X70: 1485.2113 | Y70: 486.36539 | Z70: 573 | AA70: 0.84880522 | AB70: -488.52578 | AE70: 265 | AF70: 615 | AH70: 121.3 | AI70: 39.722377 | AJ70: 63 | AK70: 0.63051393 | AL70: -95.707737 | AO70: 72 | AP70: 110 | AR70: 48.6 | AS70: 15.915149 | AT70: 16 | AU70: 0.9946968 | AV70: -6.5130759 | AW70: 0.003 | AY70: 1 | AZ70: 11 | BB70: 166 | BC70: 54.360385 | BD70: 32 | BE70: 1.698762 | BF70: 55.773848 | BG70: 0.02 | BH70: 0.02 | BI70: 0 | BJ70: 0 | BL70: 0.8 | BM70: 0.62 | BO70: 0.95 | BP70: 1 | BQ70: 0.0025
A71: BAS RHIN | B71: STRASBOURG | C71: SCHILTIGHEIM KLEBER | D71: 2.1938048 | F71: 0.042 | G71: 0.036 | I71: 4 | J71: 4 | L71: 1936.804 | M71: 252.88798 | N71: 2189.692 | O71: 998.12527 | P71: 252.248 | Q71: 3.9569204 | R71: 1565.4761 | S71: 0.01 | T71: 0.01 | U71: 0 | V71: 0 | X71: 1326.4127 | Y71: 604.61745 | Z71: 573 | AA71: 1.0551788 | AB71: -91.539906 | AC71: 0.012 | AD71: 0.006 | AE71: 0 | AF71: 183 | AH71: 116.9 | AI71: 53.286419 | AJ71: 63 | AK71: 0.84581617 | AL71: -39.000543 | AO71: 22 | AP71: 49 | AR71: 24.8 | AS71: 11.304561 | AT71: 16 | AU71: 0.70653506 | AV71: -14.793789 | AY71: 11 | AZ71: 18 | BB71: 86.4 | BC71: 39.383632 | BD71: 32 | BE71: 1.2307385 | BF71: 7.2124224 | BG71: 0.02 | BH71: 0.02 | BI71: 0 | BJ71: 0 | BL71: 0.8 | BM71: 0.74 | BO71: 0.95 | BP71: 1 | BQ71: 0.0025
A72: BAS RHIN | B72: STRASBOURG | C72: STRASBOURG ANVERS | D72: 4.5919047 | F72: 0.079 | G72: 0.0705 | I72: 6 | J72: 6 | L72: 2385.5432 | M72: 1417.0139 | N72: 3802.5571 | O72: 828.10019 | P72: 287.5 | Q72: 2.8803485 | R72: 2313.4024 | S72: 0.01 | T72: 0.01 | U72: 0 | V72: 0 | X72: 2949.8635 | Y72: 642.40521 | Z72: 573 | AA72: 1.121126 | AB72: -18.086558 | AC72: 0.019 | AD72: 0.012 | AE72: 0 | AF72: 208 | AH72: 371.25 | AI72: 80.848804 | AJ72: 63 | AK72: 1.2833144 | AL72: 44.930888 | AM72: 0.02 | AN72: 0.02 | AO72: 0 | AP72: 0 | AR72: 86 | AS72: 18.728612 | AT72: 16 | AU72: 1.1705382 | AV72: 3.1253048 | AW72: 0.01 | AX72: 0.0085 | AY72: 0 | AZ72: 3 | BB72: 237.8 | BC72: 51.78679 | BD72: 32 | BE72: 1.6183372 | BF72: 72.05061 | BG72: 0.02 | BH72: 0.02 | BI72: 0 | BJ72: 0 | BL72: 0.8 | BM72: 0.62 | BO72: 0.95 | BP72: 0.96 | BQ72: 0.0005
A73: BAS RHIN | B73: STRASBOURG | C73: STRASBOURG AUSTERLITZ | D73: 2.7606706 | F73: 0.05 | G73: 0.043 | I73: 4 | J73: 4 | L73: 2143.2937 | M73: 1010.8162 | N73: 3154.1099 | O73: 1142.5158 | P73: 276.398 | Q73: 4.1335894 | R73: 2293.3964 | S73: 0.01 | T73: 0.01 | U73: 0 | V73: 0 | X73: 1794.7434 | Y73: 650.11138 | Z73: 573 | AA73: 1.1345748 | AB73: 10.400496 | AC73: 0.02 | AD73: 0.013 | AE73: 0 | AF73: 104 | AH73: 161.9 | AI73: 58.645171 | AJ73: 63 | AK73: 0.93087573 | AL73: -34.284297 | AO73: 13 | AP73: 47 | AR73: 29.8 | AS73: 10.794479 | AT73: 16 | AU73: 0.67465492 | AV73: -20.024583 | AY73: 15 | AZ73: 24 | BB73: 108 | BC73: 39.120929 | BD73: 32 | BE73: 1.222529 | BF73: 8.3508334 | BG73: 0.02 | BH73: 0.02 | BI73: 0 | BJ73: 0 | BL73: 0.8 | BM73: 0.72 | BO73: 0.95 | BP73: 1 | BQ73: 0.0025
A74: BAS RHIN | B74: STRASBOURG | C74: STRASBOURG CRONENBOURG | D74: 5.5965996 | F74: 0.039 | G74: 0.0355 | I74: 4 | J74: 4 | L74: 2681.717 | M74: 1388.783 | N74: 4070.5 | O74: 727.31663 | P74: 242.338 | Q74: 3.0012488 | R74: 2540.6288 | S74: 0.01 | T74: 0.01 | U74: 0 | V74: 0 | X74: 2141.6549 | Y74: 382.67074 | Z74: 573 | AA74: 0.66783724 | AB74: -1475.6737 | AE74: 1066 | AF74: 1707 | AH74: 281.8 | AI74: 50.352003 | AJ74: 63 | AK74: 0.79923814 | AL74: -115.91676 | AO74: 71 | AP74: 142 | AR74: 99.5 | AS74: 17.778652 | AT74: 16 | AU74: 1.1111658 | AV74: -1.5074305 | AW74: 0.009 | AX74: 0.0055 | AY74: 0 | AZ74: 8 | BB74: 265.6 | BC74: 47.457388 | BD74: 32 | BE74: 1.4830434 | BF74: 63.585139 | BG74: 0.02 | BH74: 0.02 | BI74: 0 | BJ74: 0 | BL74: 0.8 | BM74: 0.69 | BO74: 0.95 | BP74: 1 | BQ74: 0.0025
A75: BAS RHIN | B75: STRASBOURG | C75: STRASBOURG DANUBE | D75: 4.2868855 | F75: 0.001 | I75: 1 | J75: 0 | L75: 2236.349 | M75: -1323.3025 | N75: 913.04653 | O75: 212.98598 | P75: 275.595 | Q75: 0.77282238 | R75: -419.62255 | U75: 269 | V75: 505 | X75: 2323.2233 | Y75: 541.93732 | Z75: 573 | AA75: 0.94578939 | AB75: -447.57949 | AC75: 0.001 | AE75: 134 | AF75: 625 | AH75: 168.9 | AI75: 39.399233 | AJ75: 63 | AK75: 0.62538464 | AL75: -135.74323 | AO75: 102 | AP75: 156 | AR75: 9 | AS75: 2.0994262 | AT75: 16 | AU75: 0.13121414 | AV75: -68.36971 | AY75: 60 | AZ75: 74 | BB75: 125.4 | BC75: 29.252006 | BD75: 32 | BE75: 0.91412518 | BF75: -29.33942 | BI75: 12 | BJ75: 40 | BL75: 0.8 | BM75: 0.72 | BO75: 0.95 | BP75: 0.9
A76: BAS RHIN | B76: STRASBOURG | C76: STRASBOURG FRANCS BOURGEOIS | D76: 5.9599043 | F76: 0.034 | G76: 0.021 | I76: 4 | J76: 3 | L76: 5595.1314 | M76: 5610.5826 | N76: 11205.714 | O76: 1880.1835 | P76: 283.694 | Q76: 6.6275055 | R76: 9298.5039 | S76: 0.01 | T76: 0.01 | U76: 0 | V76: 0 | X76: 3389.682 | Y76: 568.74772 | Z76: 573 | AA76: 0.99257892 | AB76: -462.4664 | AC76: 0.006 | AE76: 26 | AF76: 709 | AH76: 258 | AI76: 43.289286 | AJ76: 63 | AK76: 0.68713152 | AL76: -165.53464 | AO76: 118 | AP76: 193 | AR76: 31.8 | AS76: 5.3356561 | AT76: 16 | AU76: 0.33347851 | AV76: -75.764353 | AY76: 64 | AZ76: 83 | BB76: 212 | BC76: 35.571041 | BD76: 32 | BE76: 1.111595 | BF76: -3.1287062 | BG76: 0.018 | BH76: 0.011 | BI76: 0 | BJ76: 17 | BL76: 0.8 | BM76: 0.62 | BO76: 0.95 | BP76: 1 | BQ76: 0.0025
A77: BAS RHIN | B77: STRASBOURG | C77: STRASBOURG HALLES | D77: 8.4737408 | F77: 0.0375 | G77: 0.0305 | I77: 5 | J77: 4 | L77: 14439.213 | M77: 6545.8754 | N77: 20985.088 | O77: 2476.4845 | P77: 248.646 | Q77: 9.9598809 | R77: 18608.435 | S77: 0.01 | T77: 0.01 | U77: 0 | V77: 0 | X77: 3394.519 | Y77: 400.59274 | Z77: 573 | AA77: 0.69911473 | AB77: -2082.4325 | AE77: 1461 | AF77: 2433 | AH77: 523.6 | AI77: 61.790892 | AJ77: 63 | AK77: 0.98080781 | AL77: -78.577915 | AM77: 0.004 | AO77: 11 | AP77: 118 | AR77: 135.8 | AS77: 16.02598 | AT77: 16 | AU77: 1.0016237 | AV77: -17.134074 | AW77: 0.0035 | AX77: 0.0005 | AY77: 0 | AZ77: 27 | BB77: 689.8 | BC77: 81.404425 | BD77: 32 | BE77: 2.5438883 | BF77: 383.93185 | BG77: 0.02 | BH77: 0.02 | BI77: 0 | BJ77: 0 | BL77: 0.8 | BM77: 0.58 | BO77: 0.95 | BP77: 1 | BQ77: 0.0025
A78: BAS RHIN | B78: STRASBOURG | C78: STRASBOURG KOENIGSHOFFEN | D78: 2.790258 | F78: 0.015 | G78: 0.008 | I78: 1 | J78: 1 | L78: 870.17634 | M78: -840.49382 | N78: 29.68252 | O78: 10.637912 | P78: 256.806 | Q78: 0.041423925 | R78: -778.59151 | U78: 687 | V78: 831 | X78: 630.87841 | Y78: 226.10039 | Z78: 573 | AA78: 0.39459055 | AB78: -1172.5881 | AE78: 968 | AF78: 1288 | AH78: 130.45 | AI78: 46.75195 | AJ78: 63 | AK78: 0.74209444 | AL78: -67.836892 | AO78: 46 | AP78: 81 | AR78: 14.3 | AS78: 5.1249742 | AT78: 16 | AU78: 0.32031089 | AV78: -36.058576 | AY78: 31 | AZ78: 40 | BB78: 96.4 | BC78: 34.548777 | BD78: 32 | BE78: 1.0796493 | BF78: -4.3171516 | BG78: 0.015 | BH78: 0.008 | BI78: 0 | BJ78: 11 | BL78: 0.8 | BM78: 0.73 | BO78: 0.95 | BP78: 0.88
A79: BAS RHIN | B79: STRASBOURG | C79: STRASBOURG MEINAU | D79: 2.4499054 | F79: 0.0685 | G79: 0.065 | I79: 5 | J79: 5 | L79: 1145.6699 | M79: -474.7856 | N79: 670.88426 | O79: 273.84088 | P79: 249.555 | Q79: 1.0973167 | R79: -18.759318 | S79: 0.0085 | T79: 0.005 | U79: 0 | V79: 63 | X79: 1701.0354 | Y79: 694.32696 | Z79: 573 | AA79: 1.2117399 | AB79: 117.55372 | AC79: 0.02 | AD79: 0.02 | AE79: 0 | AF79: 0 | AH79: 209.4 | AI79: 85.472687 | AJ79: 63 | AK79: 1.3567093 | AL79: 35.29992 | AM79: 0.02 | AN79: 0.02 | AO79: 0 | AP79: 0 | AR79: 17.8 | AS79: 7.2655866 | AT79: 16 | AU79: 0.45409916 | AV79: -26.415893 | AY79: 22 | AZ79: 30 | BB79: 144 | BC79: 58.777779 | BD79: 32 | BE79: 1.8368056 | BF79: 55.568213 | BG79: 0.02 | BH79: 0.02 | BI79: 0 | BJ79: 0 | BL79: 0.8 | BM79: 0.67 | BO79: 0.95 | BP79: 1 | BQ79: 0.0025
A80: BAS RHIN | B80: STRASBOURG | C80: STRASBOURG MONTAGNE VERTE | D80: 2.6774807 | F80: 0.051 | G80: 0.045 | I80: 5 | J80: 4 | L80: 1405.8121 | M80: 613.11282 | N80: 2018.9249 | O80: 754.03903 | P80: 236.183 | Q80: 3.192605 | R80: 1305.6055 | S80: 0.01 | T80: 0.01 | U80: 0 | V80: 0 | X80: 1458.6538 | Y80: 544.78593 | Z80: 573 | AA80: 0.95076078 | AB80: -271.91977 | AC80: 0.001 | AE80: 76 | AF80: 383 | AH80: 194.55 | AI80: 72.66159 | AJ80: 63 | AK80: 1.1533586 | AL80: 4.277515 | AM80: 0.02 | AN80: 0.015 | AO80: 0 | AP80: 8 | AR80: 33.2 | AS80: 12.399716 | AT80: 16 | AU80: 0.77498226 | AV80: -15.123171 | AY80: 10 | AZ80: 19 | BB80: 137.6 | BC80: 51.391595 | BD80: 32 | BE80: 1.6059873 | BF80: 40.953658 | BG80: 0.02 | BH80: 0.02 | BI80: 0 | BJ80: 0 | BL80: 0.8 | BM80: 0.68 | BO80: 0.95 | BP80: 1 | BQ80: 0.0025
A81: BAS RHIN | B81: STRASBOURG | C81: STRASBOURG NEUDORF | D81: 5.5613446 | F81: 0.03 | G81: 0.03 | I81: 3 | J81: 3 | L81: 3461.3205 | M81: 407.30072 | N81: 3868.6213 | O81: 695.62697 | P81: 255.63 | Q81: 2.7212259 | R81: 2265.004 | S81: 0.01 | T81: 0.01 | U81: 0 | V81: 0 | X81: 2332.4126 | Y81: 419.39725 | Z81: 573 | AA81: 0.73193237 | AB81: -1262.1291 | AE81: 855 | AF81: 1492 | AH81: 254 | AI81: 45.672408 | AJ81: 63 | AK81: 0.72495886 | AL81: -141.21139 | AO81: 97 | AP81: 167 | AR81: 42.8 | AS81: 7.6959806 | AT81: 16 | AU81: 0.48099879 | AV81: -57.571147 | AY81: 47 | AZ81: 64 | BB81: 220.2 | BC81: 39.594741 | BD81: 32 | BE81: 1.2373357 | BF81: 19.457706 | BG81: 0.02 | BH81: 0.02 | BI81: 0 | BJ81: 0 | BL81: 0.8 | BM81: 0.62 | BO81: 0.95 | BP81: 1 | BQ81: 0.0025
A82: BAS RHIN | B82: STRASBOURG | C82: STRASBOURG ROBERTSAU | D82: 4.6816911 | F82: 0.03 | G82: 0.03 | I82: 3 | J82: 3 | L82: 3842.0021 | M82: 1574.6749 | N82: 5416.677 | O82: 1156.9915 | P82: 287.5 | Q82: 4.0243184 | R82: 3898.4045 | S82: 0.01 | T82: 0.01 | U82: 0 | V82: 0 | X82: 2299.1474 | Y82: 491.09337 | Z82: 573 | AA82: 0.85705649 | AB82: -726.83549 | AE82: 384 | AF82: 920 | AH82: 190.7 | AI82: 40.733145 | AJ82: 63 | AK82: 0.64655785 | AL82: -141.99969 | AO82: 105 | AP82: 164 | AR82: 58 | AS82: 12.388686 | AT82: 16 | AU82: 0.77429287 | AV82: -26.49516 | AY82: 17 | AZ82: 32 | BB82: 212.2 | BC82: 45.325502 | BD82: 32 | BE82: 1.416422 | BF82: 43.209679 | BG82: 0.02 | BH82: 0.02 | BI82: 0 | BJ82: 0 | BL82: 0.8 | BM82: 0.65 | BO82: 0.95 | BP82: 1 | BQ82: 0.0025
A83: BAS RHIN | B83: STRASBOURG | C83: STRASBOURG STOCKFELD | D83: 2.8572872 | F83: 0.03 | G83: 0.03 | I83: 3 | J83: 3 | L83: 740.01553 | M83: 699.89427 | N83: 1439.9098 | O83: 503.94298 | P83: 255.63 | Q83: 1.9713765 | R83: 616.00922 | S83: 0.01 | T83: 0.01 | U83: 0 | V83: 0 | X83: 607.12164 | Y83: 212.48184 | Z83: 573 | AA83: 0.37082346 | AB83: -1239.6688 | AE83: 1031 | AF83: 1358 | AH83: 145.1 | AI83: 50.782435 | AJ83: 63 | AK83: 0.8060704 | AL83: -57.950255 | AO83: 35 | AP83: 71 | AR83: 15.6 | AS83: 5.4597243 | AT83: 16 | AU83: 0.34123277 | AV83: -35.968319 | AY83: 31 | AZ83: 40 | BB83: 121.4 | BC83: 42.487854 | BD83: 32 | BE83: 1.3277454 | BF83: 18.263363 | BG83: 0.02 | BH83: 0.02 | BI83: 0 | BJ83: 0 | BL83: 0.8 | BM83: 0.66 | BO83: 0.95 | BP83: 1 | BQ83: 0.0025
A84: BAS RHIN | B84: STRASBOURG | C84: STRASBOURG VOSGES | D84: 3.2583337 | F84: 0.01 | G84: 0.01 | I84: 1 | J84: 1 | L84: 3406.3163 | M84: 1283.838 | N84: 4690.1543 | O84: 1439.4334 | P84: 287.5 | Q84: 5.0067248 | R84: 3633.4767 | S84: 0.01 | T84: 0.01 | U84: 0 | V84: 0 | X84: 1253.208 | Y84: 384.61622 | Z84: 573 | AA84: 0.6712325 | AB84: -852.79644 | AE84: 614 | AF84: 988 | AH84: 63.05 | AI84: 19.350382 | AJ84: 63 | AK84: 0.30714891 | AL84: -168.50023 | AO84: 143 | AP84: 184 | AR84: 14.6 | AS84: 4.4808179 | AT84: 16 | AU84: 0.28005112 | AV84: -44.206406 | AY84: 38 | AZ84: 48 | BB84: 82.2 | BC84: 25.227619 | BD84: 32 | BE84: 0.78836308 | BF84: -35.412813 | BI84: 23 | BJ84: 43 | BL84: 0.8 | BM84: 0.64 | BO84: 0.95 | BP84: 0.8
A85: HAUT RHIN | B85: COLMAR | C85: COLMAR MARAICHERS | D85: 3.7189132 | F85: 0.029 | G85: 0.019 | I85: 4 | J85: 3 | L85: 9285.7829 | M85: 2723.2072 | N85: 12008.99 | O85: 3229.1666 | P85: 287.5 | Q85: 11.231884 | R85: 10802.947 | S85: 0.01 | T85: 0.01 | U85: 0 | V85: 0 | X85: 2319.1927 | Y85: 623.6211 | Z85: 573 | AA85: 1.088344 | AB85: -84.50449 | AC85: 0.016 | AD85: 0.009 | AE85: 0 | AF85: 238 | AH85: 162.4 | AI85: 43.668672 | AJ85: 63 | AK85: 0.69315353 | AL85: -101.88084 | AO85: 72 | AP85: 119 | AR85: 20.2 | AS85: 5.4316945 | AT85: 16 | AU85: 0.3394809 | AV85: -46.918945 | AY85: 40 | AZ85: 52 | BB85: 115.4 | BC85: 31.030571 | BD85: 32 | BE85: 0.96970535 | BF85: -18.837889 | BG85: 0.003 | BI85: 4 | BJ85: 28 | BL85: 0.8 | BM85: 0.73 | BO85: 0.95 | BP85: 1 | BQ85: 0.0025
A86: HAUT RHIN | B86: COLMAR | C86: COLMAR REPUBLIQUE | D86: 8.0608712 | F86: 0.03 | G86: 0.025 | I86: 3 | J86: 3 | L86: 4597.7225 | M86: 4416.2171 | N86: 9013.9396 | O86: 1118.2339 | P86: 287.5 | Q86: 3.8895093 | R86: 6399.7991 | S86: 0.01 | T86: 0.01 | U86: 0 | V86: 0 | X86: 2746.0294 | Y86: 340.66162 | Z86: 573 | AA86: 0.59452289 | AB86: -2464.0663 | AE86: 1873 | AF86: 2797 | AH86: 298.4 | AI86: 37.018331 | AJ86: 63 | AK86: 0.58759256 | AL86: -274.43775 | AO86: 210 | AP86: 312 | AR86: 52.6 | AS86: 6.5253493 | AT86: 16 | AU86: 0.40783433 | AV86: -92.882603 | AY86: 77 | AZ86: 103 | BB86: 296.4 | BC86: 36.770219 | BD86: 32 | BE86: 1.1490693 | BF86: 5.4347931 | BG86: 0.02 | BH86: 0.015 | BI86: 0 | BJ86: 14 | BL86: 0.8 | BM86: 0.6 | BO86: 0.95 | BP86: 1 | BQ86: 0.0025
A87: HAUT RHIN | B87: COLMAR | C87: COLMAR SAINTE MARIE | D87: 6.5973797 | F87: 0.03 | G87: 0.03 | I87: 3 | J87: 3 | L87: 12823.09 | M87: 1985.5936 | N87: 14808.683 | O87: 2244.631 | P87: 271.31 | Q87: 8.2733074 | R87: 12789.636 | S87: 0.01 | T87: 0.01 | U87: 0 | V87: 0 | X87: 3101.2229 | Y87: 470.06888 | Z87: 573 | AA87: 0.82036453 | AB87: -1162.9539 | AE87: 680 | AF87: 1436 | AH87: 311.3 | AI87: 47.1854 | AJ87: 63 | AK87: 0.7489746 | AL87: -157.53619 | AO87: 105 | AP87: 188 | AR87: 49.4 | AS87: 7.4878212 | AT87: 16 | AU87: 0.46798883 | AV87: -69.669509 | AY87: 57 | AZ87: 78 | BB87: 255.4 | BC87: 38.712339 | BD87: 32 | BE87: 1.2097606 | BF87: 17.260982 | BG87: 0.02 | BH87: 0.02 | BI87: 0 | BJ87: 0 | BL87: 0.8 | BM87: 0.74 | BO87: 0.95 | BP87: 1 | BQ87: 0.0025
A88: HAUT RHIN | B88: COLMAR | C88: COLMAR SAINT JOSEPH | D88: 1.0089105 | F88: 0.02 | G88: 0.02 | I88: 2 | J88: 2 | L88: -8753.2824 | M88: -1747.7088 | N88: -10500.991 | O88: -10408.248 | P88: 287.5 | Q88: -36.202602 | R88: -10828.181 | U88: 10792 | V88: 10850 | X88: 354.96262 | Y88: 351.82764 | Z88: 573 | AA88: 0.61400985 | AB88: -297.14066 | AE88: 224 | AF88: 339 | AH88: 23.6 | AI88: 23.391568 | AJ88: 63 | AK88: 0.37129474 | AL88: -48.097219 | AO88: 40 | AP88: 53 | AT88: 16 | AY88: 17 | AZ88: 20 | BB88: 60.4 | BC88: 59.866556 | BD88: 32 | BE88: 1.8708299 | BF88: 23.982365 | BG88: 0.02 | BH88: 0.02 | BI88: 0 | BJ88: 0 | BL88: 0.8 | BO88: 0.95 | BP88: 1 | BQ88: 0.0025
A89: HAUT RHIN | B89: COLMAR | C89: COLMAR VAUBAN | D89: 1.630227 | I89: 2 | J89: 2 | L89: -7896.3955 | M89: -1205.3251 | N89: -9101.7207 | O89: -5583.1002 | P89: 264.71 | Q89: -21.091384 | R89: -9588.4949 | U89: 9534 | V89: 9620 | X89: 368.50261 | Y89: 226.04374 | Z89: 573 | AA89: 0.39449169 | AB89: -685.18483 | AE89: 566 | AF89: 753 | AH89: 65.2 | AI89: 39.99443 | AJ89: 63 | AK89: 0.63483223 | AL89: -50.650452 | AO89: 38 | AP89: 59 | AR89: 1.8 | AS89: 1.1041407 | AT89: 16 | AU89: 0.069008794 | AV89: -27.622337 | AY89: 25 | AZ89: 30 | BB89: 26 | BC89: 15.948699 | BD89: 32 | BE89: 0.49839685 | BF89: -32.844674 | BI89: 27 | BJ89: 37 | BL89: 0.8 | BM89: 1 | BN89: 0.0075 | BO89: 0.95 | BP89: 1 | BQ89: 0.0025
A90: HAUT RHIN | B90: COLMAR | C90: ENSISHEIM | D90: 4.5991464 | F90: 0.03 | G90: 0.025 | I90: 3 | J90: 3 | L90: 1660.2193 | M90: 3917.8118 | N90: 5578.0311 | O90: 1212.8405 | P90: 265.835 | Q90: 4.5623808 | R90: 4198.9224 | S90: 0.01 | T90: 0.01 | U90: 0 | V90: 0 | X90: 2341.4848 | Y90: 509.11291 | Z90: 573 | AA90: 0.8885042 | AB90: -631.14589 | AE90: 294 | AF90: 821 | AH90: 263.9 | AI90: 57.380213 | AJ90: 63 | AK90: 0.91079703 | AL90: -62.933741 | AO90: 26 | AP90: 84 | AR90: 57 | AS90: 12.393604 | AT90: 16 | AU90: 0.77460026 | AV90: -26.005395 | AY90: 17 | AZ90: 32 | BB90: 169.4 | BC90: 36.832922 | BD90: 32 | BE90: 1.1510288 | BF90: 3.3892108 | BG90: 0.02 | BH90: 0.015 | BI90: 0 | BJ90: 8 | BL90: 0.8 | BM90: 0.74 | BO90: 0.95 | BP90: 1 | BQ90: 0.0025
A91: HAUT RHIN | B91: COLMAR | C91: GUEBWILLER | D91: 5.85877 | F91: 0.03 | G91: 0.03 | I91: 3 | J91: 3 | L91: 5422.3206 | M91: 3253.1268 | N91: 8675.4474 | O91: 1480.7626 | P91: 266.378 | Q91: 5.5588772 | R91: 6915.0371 | S91: 0.01 | T91: 0.01 | U91: 0 | V91: 0 | X91: 2507.2538 | Y91: 427.94884 | Z91: 573 | AA91: 0.74685662 | AB91: -1279.527 | AE91: 850 | AF91: 1522 | AH91: 291.7 | AI91: 49.788608 | AJ91: 63 | AK91: 0.79029536 | AL91: -124.64763 | AO91: 78 | AP91: 152 | AR91: 22.4 | AS91: 3.8233281 | AT91: 16 | AU91: 0.23895801 | AV91: -83.339081 | AY91: 72 | AZ91: 91 | BB91: 233 | BC91: 39.76944 | BD91: 32 | BE91: 1.242795 | BF91: 21.521839 | BG91: 0.02 | BH91: 0.02 | BI91: 0 | BJ91: 0 | BL91: 0.8 | BM91: 0.72 | BO91: 0.95 | BP91: 1 | BQ91: 0.0025
A92: HAUT RHIN | B92: COLMAR | C92: HORBOURG WIHR | D92: 3.2458374 | F92: 0.038 | G92: 0.03 | I92: 5 | J92: 3 | L92: 2339.5277 | M92: 2273.0612 | N92: 4612.5889 | O92: 1421.0782 | P92: 247.025 | Q92: 5.7527709 | R92: 3708.1551 | S92: 0.01 | T92: 0.01 | U92: 0 | V92: 0 | X92: 1856.6958 | Y92: 572.02366 | Z92: 573 | AA92: 0.9982961 | AB92: -241.23173 | AC92: 0.006 | AD92: 0 | AE92: 4 | AF92: 376 | AH92: 196.8 | AI92: 60.631503 | AJ92: 63 | AK92: 0.96240481 | AL92: -33.862188 | AM92: 0.002 | AO92: 8 | AP92: 49 | AR92: 26.6 | AS92: 8.1951117 | AT92: 16 | AU92: 0.51219448 | AV92: -31.980873 | AY92: 26 | AZ92: 36 | BB92: 144.6 | BC92: 44.549367 | BD92: 32 | BE92: 1.3921677 | BF92: 27.438254 | BG92: 0.02 | BH92: 0.02 | BI92: 0 | BJ92: 0 | BL92: 0.8 | BM92: 0.72 | BO92: 0.95 | BP92: 1 | BQ92: 0.0025
A93: HAUT RHIN | B93: COLMAR | C93: INGERSHEIM | D93: 5.9735728 | F93: 0.01 | G93: 0.01 | I93: 2 | J93: 2 | L93: 3053.6943 | M93: 3142.9261 | N93: 6196.6204 | O93: 1037.3391 | P93: 287.5 | Q93: 3.6081358 | R93: 4259.3907 | S93: 0.01 | T93: 0.01 | U93: 0 | V93: 0 | X93: 2280.0541 | Y93: 381.69018 | Z93: 573 | AA93: 0.66612597 | AB93: -1580.9289 | AE93: 1143 | AF93: 1828 | AH93: 326.6 | AI93: 54.674147 | AJ93: 63 | AK93: 0.8678436 | AL93: -97.905981 | AO93: 50 | AP93: 126 | AR93: 32.4 | AS93: 5.4238897 | AT93: 16 | AU93: 0.3389931 | AV93: -75.411043 | AY93: 64 | AZ93: 83 | BB93: 146.2 | BC93: 24.474465 | BD93: 32 | BE93: 0.76482703 | BF93: -69.422086 | BI93: 45 | BJ93: 84 | BL93: 0.8 | BM93: 0.76 | BO93: 0.95 | BP93: 1 | BQ93: 0.0025
A94: HAUT RHIN | B94: COLMAR | C94: MUNSTER | D94: 5.3472903 | I94: 1 | J94: 1 | L94: 2396.1993 | M94: -1112.0032 | N94: 1284.1961 | O94: 240.15829 | P94: 287.5 | Q94: 0.83533318 | R94: -449.93014 | U94: 254 | V94: 561 | X94: 2527.42 | Y94: 472.65435 | Z94: 573 | AA94: 0.82487669 | AB94: -928.769 | AE94: 537 | AF94: 1150 | AH94: 307.95 | AI94: 57.589916 | AJ94: 63 | AK94: 0.91412566 | AL94: -72.049836 | AO94: 29 | AP94: 97 | AR94: 18.1 | AS94: 3.384892 | AT94: 16 | AU94: 0.21155575 | AV94: -78.407895 | AY94: 68 | AZ94: 85 | BB94: 154 | BC94: 28.799634 | BD94: 32 | BE94: 0.89998855 | BF94: -39.01579 | BI94: 18 | BJ94: 52 | BL94: 0.8 | BM94: 0.7 | BO94: 0.95 | BP94: 1 | BQ94: 0.0025
A95: HAUT RHIN | B95: COLMAR | C95: MUNTZENHEIM | D95: 1.8576732 | F95: 0.037 | G95: 0.031 | I95: 4 | J95: 4 | L95: 2061.8903 | M95: 716.85189 | N95: 2778.7422 | O95: 1495.8186 | P95: 247.025 | Q95: 6.0553329 | R95: 2261.1123 | S95: 0.01 | T95: 0.01 | U95: 0 | V95: 0 | X95: 1068.4843 | Y95: 575.17343 | Z95: 573 | AA95: 1.0037931 | AB95: -132.21166 | AC95: 0.007 | AD95: 0.001 | AE95: 0 | AF95: 209 | AH95: 101.7 | AI95: 54.745904 | AJ95: 63 | AK95: 0.8689826 | AL95: -30.31369 | AO95: 16 | AP95: 39 | AR95: 25.9 | AS95: 13.942172 | AT95: 16 | AU95: 0.87138576 | AV95: -7.6272863 | AY95: 4 | AZ95: 10 | BB95: 93 | BC95: 50.062626 | BD95: 32 | BE95: 1.5644571 | BF95: 25.945427 | BG95: 0.02 | BH95: 0.02 | BI95: 0 | BJ95: 0 | BL95: 0.8 | BM95: 0.77 | BO95: 0.95 | BP95: 1 | BQ95: 0.0025
A96: HAUT RHIN | B96: COLMAR | C96: NEUF BRISACH | D96: 3.3075077 | F96: 0.056 | G96: 0.043 | I96: 5 | J96: 5 | L96: 1923.9039 | M96: 1129.7471 | N96: 3053.651 | O96: 923.24835 | P96: 248.167 | Q96: 3.7202704 | R96: 2127.7725 | S96: 0.01 | T96: 0.01 | U96: 0 | V96: 0 | X96: 2063.0792 | Y96: 623.75644 | Z96: 573 | AA96: 1.0885802 | AB96: -74.708539 | AC96: 0.016 | AD96: 0.009 | AE96: 0 | AF96: 212 | AH96: 216.25 | AI96: 65.381556 | AJ96: 63 | AK96: 1.0378025 | AL96: -18.794729 | AM96: 0.01 | AN96: 0.004 | AO96: 0 | AP96: 34 | AR96: 14.6 | AS96: 4.4141998 | AT96: 16 | AU96: 0.27588749 | AV96: -45.093899 | AY96: 39 | AZ96: 49 | BB96: 132.6 | BC96: 40.090609 | BD96: 32 | BE96: 1.2528315 | BF96: 13.212201 | BG96: 0.02 | BH96: 0.02 | BI96: 0 | BJ96: 0 | BL96: 0.8 | BM96: 0.71 | BO96: 0.95 | BP96: 1 | BQ96: 0.0025
A97: HAUT RHIN | B97: COLMAR | C97: ORBEY | D97: 3.0547893 | F97: 0.013 | G97: 0.01 | I97: 3 | J97: 2 | L97: 1526.5348 | M97: 1613.0152 | N97: 3139.55 | O97: 1027.7468 | P97: 285.539 | Q97: 3.599322 | R97: 2155.639 | S97: 0.01 | T97: 0.01 | U97: 0 | V97: 0 | X97: 1068.9033 | Y97: 349.91065 | Z97: 573 | AA97: 0.61066432 | AB97: -905.54142 | AE97: 682 | AF97: 1032 | AH97: 142.5 | AI97: 46.648062 | AJ97: 63 | AK97: 0.74044542 | AL97: -74.585548 | AO97: 50 | AP97: 89 | AR97: 17.4 | AS97: 5.6959738 | AT97: 16 | AU97: 0.35599836 | AV97: -37.732838 | AY97: 32 | AZ97: 42 | BB97: 94.6 | BC97: 30.967766 | BD97: 32 | BE97: 0.96774268 | BF97: -15.665675 | BG97: 0.003 | BI97: 4 | BJ97: 23 | BL97: 0.8 | BM97: 0.78 | BO97: 0.95 | BP97: 1 | BQ97: 0.0025
A98: HAUT RHIN | B98: COLMAR | C98: RIBEAUVILLE | D98: 2.7451909 | F98: 0.034 | G98: 0.03 | I98: 4 | J98: 3 | L98: 479.52219 | M98: 612.05878 | N98: 1091.581 | O98: 397.63391 | P98: 287.5 | Q98: 1.3830745 | R98: 201.31557 | S98: 0.01 | T98: 0.01 | U98: 0 | V98: 0 | X98: 703.70078 | Y98: 256.33947 | Z98: 573 | AA98: 0.44736382 | AB98: -1070.6369 | AE98: 870 | AF98: 1184 | AH98: 169.4 | AI98: 61.707913 | AJ98: 63 | AK98: 0.97949068 | AL98: -25.684245 | AM98: 0.004 | AO98: 4 | AP98: 39 | AR98: 23.6 | AS98: 8.5968521 | AT98: 16 | AU98: 0.53730326 | AV98: -25.945205 | AY98: 21 | AZ98: 30 | BB98: 106.4 | BC98: 38.758689 | BD98: 32 | BE98: 1.211209 | BF98: 7.30959 | BG98: 0.02 | BH98: 0.02 | BI98: 0 | BJ98: 0 | BL98: 0.8 | BM98: 0.7 | BO98: 0.95 | BP98: 1 | BQ98: 0.0025
A99: HAUT RHIN | B99: COLMAR | C99: ROUFFACH | D99: 3.7565036 | F99: 0.039 | G99: 0.033 | I99: 4 | J99: 4 | L99: 2429.1473 | M99: 91.62934 | N99: 2520.7766 | O99: 671.04331 | P99: 261.891 | Q99: 2.5623 | R99: 1411.0564 | S99: 0.01 | T99: 0.01 | U99: 0 | V99: 0 | X99: 2213.3881 | Y99: 589.21494 | Z99: 573 | AA99: 1.0282983 | AB99: -214.60551 | AC99: 0.009 | AD99: 0.003 | AE99: 0 | AF99: 370 | AH99: 220.85 | AI99: 58.791372 | AJ99: 63 | AK99: 0.93319638 | AL99: -46.102172 | AO99: 16 | AP99: 64 | AR99: 24 | AS99: 6.3889197 | AT99: 16 | AU99: 0.39930748 | AV99: -43.797377 | AY99: 37 | AZ99: 49 | BB99: 155 | BC99: 41.261773 | BD99: 32 | BE99: 1.2894304 | BF99: 19.405246 | BG99: 0.02 | BH99: 0.02 | BI99: 0 | BJ99: 0 | BL99: 0.8 | BM99: 0.71 | BO99: 0.95 | BP99: 1 | BQ99: 0.0025
A100: HAUT RHIN | B100: COLMAR | C100: SAINTE MARIE AUX MINES | D100: 2.8448773 | F100: 0.01 | G100: 0.01 | I100: 2 | J100: 2 | L100: 1193.3093 | M100: -103.78204 | N100: 1089.5272 | O100: 382.97863 | P100: 228.562 | Q100: 1.6756006 | R100: 356.06682 | S100: 0.01 | T100: 0.01 | U100: 0 | V100: 0 | X100: 959.79403 | Y100: 337.37624 | Z100: 573 | AA100: 0.58878925 | AB100: -878.97538 | AE100: 671 | AF100: 997 | AH100: 105 | AI100: 36.908445 | AJ100: 63 | AK100: 0.58584834 | AL100: -97.168364 | AO100: 75 | AP100: 111 | AR100: 1 | AS100: 0.351509 | AT100: 16 | AU100: 0.021969313 | AV100: -50.344346 | AY100: 45 | AZ100: 54 | BB100: 49.4 | BC100: 17.364545 | BD100: 32 | BE100: 0.54264202 | BF100: -53.288693 | BI100: 42 | BJ100: 60 | BL100: 0.8 | BM100: 0.75 | BO100: 0.95 | BP100: 1 | BQ100: 0.0025
A101: HAUT RHIN | B101: COLMAR | C101: WINTZENHEIM | D101: 2.4566605 | F101: 0.01 | G101: 0.01 | I101: 2 | J101: 2 | L101: 806.66012 | M101: 147.40975 | N101: 954.06987 | O101: 388.36049 | P101: 287.5 | Q101: 1.3508191 | R101: 157.37488 | S101: 0.01 | T101: 0.01 | U101: 0 | V101: 0 | X101: 741.32358 | Y101: 301.7607 | Z101: 573 | AA101: 0.52663298 | AB101: -846.52418 | AE101: 667 | AF101: 948 | AH101: 89.8 | AI101: 36.553688 | AJ101: 63 | AK101: 0.58021726 | AL101: -84.78012 | AO101: 65 | AP101: 96 | AR101: 1.5 | AS101: 0.61058498 | AT101: 16 | AU101: 0.038161561 | AV101: -42.837808 | AY101: 38 | AZ101: 46 | BB101: 72.4 | BC101: 29.470902 | BD101: 32 | BE101: 0.92096568 | BF101: -16.275617 | BI101: 7 | BJ101: 22 | BL101: 0.8 | BM101: 0.77 | BO101: 0.95 | BP101: 1 | BQ101: 0.0025
...

Sheet S46
A2: REGIONS | B2: TERRITOIRES | C2: AGENCES | D2: ETP Perf moyen annuel | F2: Taux PV sais. (max 9%) | G2: Taux PV annuel (max 9%) | I2: Nb items > 100% de l'objectif sais. | J2: Nb items > 100% de l'objectif annuel | L2: Excédents de collecte yc DAV depuis le 01/01 (en K€) | X2: Engagements nets Crédit Conso depuis le 01/01 (en K€) avec coefficients | AH2: Ventes brutes IARD / Prévoyance depuis le 01/01 avec coefficients | AR2: Nombre brut Mandats Mobilité depuis le 01/01 avec coefficients | BB2: Ventes brutes Forfaits depuis le 01/01 avec coefficients | BL2: Complétude DRC Stock et Traitement RPM Risques majeurs
L3: EMJ au 10/20 & Exc. hors DAV au 15/11/20 - Saisonnalité attendue : 96% - Tx PV max : 1% | X3: Au 13/11/20 - Saisonnalité attendue : 96% - Tx PV max : 2% | AH3: Au 13/11/20 - Saisonnalité attendue : 96% - Tx PV max : 2% | AR3: Au 15/11/20 - Saisonnalité attendue : 96% - Tx PV max : 1% | BB3: Au 14/11/20 - Saisonnalité attendue : 96% - Tx PV max : 2% | BL3: DRC arretés à fin 09/2020 - RPM arrêtés à fin 09/2020
L4: EMJ DAV / M-12 | M4: Exc. hors DAV J-1 | N4: Exc. yc DAV (M-12) | O4: Réal. / ETP | P4: Obj / ETP | Q4: % Réal. | R4: Ecart / 120% de l'attendu | S4: Taux PV sais. | T4: Taux PV | U4: RàF pour 100% | V4: RàF pour 120% | X4: Engag. nets Conso | Y4: Réal. / ETP | Z4: Obj / ETP | AA4: % Réal. | AB4: Ecart / 120% de l'attendu | AC4: Taux PV sais. | AD4: Taux PV | AE4: RàF pour 100% | AF4: RàF pour 120% | AH4: VB Iard Prev | AI4: Réal. / ETP | AJ4: Obj / ETP | AK4: % Réal. | AL4: Ecart / 120% de l'attendu | AM4: Taux PV sais. | AN4: Taux PV | AO4: RàF pour 100% | AP4: RàF pour 120% | AR4: Nb Mob | AS4: Réal. / ETP | AT4: Obj / ETP | AU4: % Réal. | AV4: Ecart / 120% de l'attendu | AW4: Taux PV sais. | AX4: Taux PV | AY4: RàF pour 100% | AZ4: RàF pour 120% | BB4: VB Forf | BC4: Réal. / ETP | BD4: Obj / ETP | BE4: % Réal. | BF4: Ecart / 120% de l'attendu | BG4: Taux PV sais. | BH4: Taux PV | BI4: RàF pour 100% | BJ4: RàF pour 120% | BL4: Obj DRC | BM4: Taux compl. DRC | BN4: Taux PV | BO4: Obj RPM | BP4: Taux trait. RPM | BQ4: Taux PV
D5: Au 09/20 | F5: info | G5: info | I5: info | J5: info
A6: AUBE HAUTE MARNE | B6: CHAUMONT | C6: BOURBONNE LES BAINS | D6: 1.8999519 | F6: 0.0475 | G6: 0.0375 | I6: 6 | J6: 6 | L6: 265.52704 | M6: 209.98824 | N6: 475.51528 | O6: 250.27754 | P6: 234.656 | Q6: 1.0665721 | R6: -38.08677 | S6: 0.0055 | T6: 0.0035 | U6: 0 | V6: 60 | X6: 1546.0445 | Y6: 813.72821 | Z6: 573 | AA6: 1.420119 | AB6: 291.89381 | AC6: 0.02 | AD6: 0.02 | AE6: 0 | AF6: 0 | AH6: 123.1 | AI6: 64.791114 | AJ6: 63 | AK6: 1.0284304 | AL6: -14.790909 | AM6: 0.007 | AN6: 0.003 | AO6: 0 | AP6: 21 | AR6: 20.2 | AS6: 10.631848 | AT6: 16 | AU6: 0.66449051 | AV6: -14.819913 | AY6: 11 | AZ6: 17 | BB6: 67.4 | BC6: 35.474582 | BD6: 32 | BE6: 1.1085807 | BF6: -2.6398268 | BG6: 0.015 | BH6: 0.011 | BI6: 0 | BJ6: 6 | BL6: 0.8 | BM6: 0.84 | BN6: 0.0015 | BO6: 0.95 | BP6: 1 | BQ6: 0.0025
A7: AUBE HAUTE MARNE | B7: CHAUMONT | C7: CHAUMONT HOTEL DE VILLE | D7: 9.1914925 | F7: 0.048 | G7: 0.044 | I7: 5 | J7: 5 | L7: 3150.5863 | M7: 6668.3215 | N7: 9818.9078 | O7: 1068.2604 | P7: 244.074 | Q7: 4.3767892 | R7: 7234.506 | S7: 0.01 | T7: 0.01 | U7: 0 | V7: 0 | X7: 5980.6179 | Y7: 650.66885 | Z7: 573 | AA7: 1.1355477 | AB7: -86.649577 | AC7: 0.018 | AD7: 0.014 | AE7: 0 | AF7: 340 | AH7: 477.35 | AI7: 51.933894 | AJ7: 63 | AK7: 0.82434753 | AL7: -189.73176 | AO7: 102 | AP7: 218 | AR7: 74.7 | AS7: 8.1270806 | AT7: 16 | AU7: 0.50794254 | AV7: -94.71759 | AY7: 73 | AZ7: 102 | BB7: 385 | BC7: 41.88656 | BD7: 32 | BE7: 1.308955 | BF7: 46.164821 | BG7: 0.02 | BH7: 0.02 | BI7: 0 | BJ7: 0 | BL7: 0.8 | BM7: 0.82 | BN7: 0.00075 | BO7: 0.95 | BP7: 1 | BQ7: 0.0025
A8: AUBE HAUTE MARNE | B8: CHAUMONT | C8: CHAUMONT REPUBLIQUE | D8: 2.4137029 | F8: 0.0525 | G8: 0.0505 | I8: 6 | J8: 6 | L8: 1159.2624 | M8: 857.93501 | N8: 2017.1974 | O8: 835.7273 | P8: 214.665 | Q8: 3.8931698 | R8: 1420.303 | S8: 0.01 | T8: 0.01 | U8: 0 | V8: 0 | X8: 2253.0179 | Y8: 933.42803 | Z8: 573 | AA8: 1.6290192 | AB8: 659.74231 | AC8: 0.02 | AD8: 0.02 | AE8: 0 | AF8: 0 | AH8: 113.35 | AI8: 46.96104 | AJ8: 63 | AK8: 0.74541334 | AL8: -61.826903 | AO8: 39 | AP8: 70 | AR8: 39.1 | AS8: 16.199177 | AT8: 16 | AU8: 1.0124485 | AV8: -5.3893721 | AW8: 0.0025 | AX8: 0.0005 | AY8: 0 | AZ8: 8 | BB8: 114.8 | BC8: 47.561777 | BD8: 32 | BE8: 1.4863055 | BF8: 25.821256 | BG8: 0.02 | BH8: 0.02 | BI8: 0 | BJ8: 0 | BL8: 0.8 | BM8: 0.88 | BN8: 0.003 | BO8: 0.95 | BP8: 1 | BQ8: 0.0025
A9: AUBE HAUTE MARNE | B9: CHAUMONT | C9: JOINVILLE | D9: 2.8152338 | I9: 2 | J9: 2 | L9: 997.7723 | M9: -552.19554 | N9: 445.57676 | O9: 158.27345 | P9: 212.5 | Q9: 0.74481623 | R9: -243.59247 | U9: 153 | V9: 273 | X9: 1516.0709 | Y9: 538.52398 | Z9: 573 | AA9: 0.93983243 | AB9: -342.25365 | AE9: 98 | AF9: 420 | AH9: 100.5 | AI9: 35.698634 | AJ9: 63 | AK9: 0.56664498 | AL9: -103.81841 | AO9: 77 | AP9: 113 | AR9: 7 | AS9: 2.486472 | AT9: 16 | AU9: 0.1554045 | AV9: -44.890389 | AY9: 39 | AZ9: 48 | BB9: 83 | BC9: 29.482454 | BD9: 32 | BE9: 0.92132669 | BF9: -20.780778 | BI9: 8 | BJ9: 26 | BL9: 0.8 | BM9: 0.82 | BN9: 0.00075 | BO9: 0.95 | BP9: 1 | BQ9: 0.0025
A10: AUBE HAUTE MARNE | B10: CHAUMONT | C10: LANGRES | D10: 6.6773488 | F10: 0.05 | G10: 0.042 | I10: 6 | J10: 6 | L10: 2751.906 | M10: 3168.7972 | N10: 5920.7032 | O10: 886.68473 | P10: 234.656 | Q10: 3.7786578 | R10: 4115.6575 | S10: 0.01 | T10: 0.01 | U10: 0 | V10: 0 | X10: 4929.0041 | Y10: 738.16784 | Z10: 573 | AA10: 1.288251 | AB10: 521.3129 | AC10: 0.02 | AD10: 0.02 | AE10: 0 | AF10: 0 | AH10: 420.8 | AI10: 63.019023 | AJ10: 63 | AK10: 1.000302 | AL10: -63.815266 | AM10: 0.004 | AN10: 0.001 | AO10: 0 | AP10: 85 | AR10: 55.7 | AS10: 8.341634 | AT10: 16 | AU10: 0.52135213 | AV10: -67.376893 | AY10: 52 | AZ10: 73 | BB10: 237.8 | BC10: 35.612937 | BD10: 32 | BE10: 1.1129043 | BF10: -8.3537859 | BG10: 0.016 | BH10: 0.011 | BI10: 0 | BJ10: 19 | BL10: 0.8 | BM10: 0.85 | BN10: 0.001875 | BO10: 0.95 | BP10: 1 | BQ10: 0.0025
A11: AUBE HAUTE MARNE | B11: CHAUMONT | C11: NOGENT | D11: 2.0789474 | F11: 0.044 | G11: 0.036 | I11: 6 | J11: 6 | L11: 483.38406 | M11: 330.4932 | N11: 813.87726 | O11: 391.48526 | P11: 214.665 | Q11: 1.8237033 | R11: 299.76588 | S11: 0.01 | T11: 0.01 | U11: 0 | V11: 0 | X11: 1245.622 | Y11: 599.15993 | Z11: 573 | AA11: 1.0456543 | AB11: -126.68287 | AC11: 0.009 | AD11: 0.005 | AE11: 0 | AF11: 184 | AH11: 131.5 | AI11: 63.253165 | AJ11: 63 | AK11: 1.0040185 | AL11: -19.381684 | AM11: 0.005 | AN11: 0.001 | AO11: 0 | AP11: 26 | AR11: 25.4 | AS11: 12.217722 | AT11: 16 | AU11: 0.76360759 | AV11: -12.919158 | AY11: 8 | AZ11: 15 | BB11: 81.8 | BC11: 39.346835 | BD11: 32 | BE11: 1.2295886 | BF11: 5.1616842 | BG11: 0.02 | BH11: 0.02 | BI11: 0 | BJ11: 0 | BL11: 0.8 | BM11: 0.85 | BN11: 0.001875 | BO11: 0.95 | BP11: 1 | BQ11: 0.0025
A12: AUBE HAUTE MARNE | B12: CHAUMONT | C12: SAINT DIZIER CENTRE | D12: 5.4163614 | F12: 0.038 | G12: 0.033 | I12: 4 | J12: 4 | L12: 2239.0366 | M12: 2194.0408 | N12: 4433.0774 | O12: 818.46041 | P12: 216.447 | Q12: 3.7813433 | R12: 3082.5242 | S12: 0.01 | T12: 0.01 | U12: 0 | V12: 0 | X12: 3205.5743 | Y12: 591.83169 | Z12: 573 | AA12: 1.0328651 | AB12: -369.74415 | AC12: 0.008 | AD12: 0.003 | AE12: 0 | AF12: 519 | AH12: 324.1 | AI12: 59.837219 | AJ12: 63 | AK12: 0.94979712 | AL12: -68.997843 | AO12: 18 | AP12: 86 | AR12: 50.2 | AS12: 9.2682147 | AT12: 16 | AU12: 0.57926342 | AV12: -49.634373 | AY12: 37 | AZ12: 54 | BB12: 210.2 | BC12: 38.808341 | BD12: 32 | BE12: 1.2127607 | BF12: 10.531254 | BG12: 0.02 | BH12: 0.02 | BI12: 0 | BJ12: 0 | BL12: 0.8 | BM12: 0.78 | BO12: 0.95 | BP12: 1 | BQ12: 0.0025
A13: AUBE HAUTE MARNE | B13: CHAUMONT | C13: SAINT DIZIER EUROPE | D13: 2.5347178 | F13: 0.064 | G13: 0.06 | I13: 6 | J13: 6 | L13: 1992.3854 | M13: 1617.6458 | N13: 3610.0312 | O13: 1424.234 | P13: 223.197 | Q13: 6.3810623 | R13: 2958.2971 | S13: 0.01 | T13: 0.01 | U13: 0 | V13: 0 | X13: 2256.3823 | Y13: 890.19071 | Z13: 573 | AA13: 1.5535615 | AB13: 583.22517 | AC13: 0.02 | AD13: 0.02 | AE13: 0 | AF13: 0 | AH13: 175.45 | AI13: 69.21875 | AJ13: 63 | AK13: 1.0987103 | AL13: -8.5096809 | AM13: 0.014 | AN13: 0.01 | AO13: 0 | AP13: 17 | AR13: 38.4 | AS13: 15.149615 | AT13: 16 | AU13: 0.94685096 | AV13: -8.319919 | AY13: 3 | AZ13: 11 | BB13: 147.8 | BC13: 58.310238 | BD13: 32 | BE13: 1.8221949 | BF13: 54.360162 | BG13: 0.02 | BH13: 0.02 | BI13: 0 | BJ13: 0 | BL13: 0.8 | BM13: 0.82 | BN13: 0.00075 | BO13: 0.95 | BP13: 1 | BQ13: 0.0025
A14: AUBE HAUTE MARNE | B14: CHAUMONT | C14: WASSY | D14: 2.8184252 | F14: 0.02 | G14: 0.02 | I14: 2 | J14: 2 | L14: 1009.7461 | M14: -1069.5983 | N14: -59.85225 | O14: -21.236061 | P14: 212.5 | Q14: -0.099934407 | R14: -749.80273 | U14: 659 | V14: 779 | X14: 2124.2643 | Y14: 753.70612 | Z14: 573 | AA14: 1.3153684 | AB14: 263.83311 | AC14: 0.02 | AD14: 0.02 | AE14: 0 | AF14: 0 | AH14: 152.7 | AI14: 54.179193 | AJ14: 63 | AK14: 0.85998718 | AL14: -51.850025 | AO14: 25 | AP14: 61 | AR14: 17.3 | AS14: 6.1381796 | AT14: 16 | AU14: 0.38363623 | AV14: -34.649213 | AY14: 28 | AZ14: 37 | BB14: 67.4 | BC14: 23.914064 | BD14: 32 | BE14: 0.7473145 | BF14: -36.498425 | BI14: 23 | BJ14: 41 | BL14: 0.8 | BM14: 0.79 | BO14: 0.95 | BP14: 1 | BQ14: 0.0025
A15: AUBE HAUTE MARNE | B15: TROYES | C15: ARCIS SUR AUBE | D15: 3.6851069 | F15: 0.009 | G15: 0.0065 | I15: 3 | J15: 3 | L15: 2879.9257 | M15: -1912.2659 | N15: 967.65983 | O15: 262.58664 | P15: 231.526 | Q15: 1.1341561 | R15: -15.224343 | S15: 0.009 | T15: 0.0065 | U15: 0 | V15: 57 | X15: 2023.9563 | Y15: 549.22592 | Z15: 573 | AA15: 0.95850946 | AB15: -408.56809 | AC15: 0 | AE15: 88 | AF15: 510 | AH15: 175.5 | AI15: 47.624127 | AJ15: 63 | AK15: 0.75593852 | AL15: -91.950321 | AO15: 57 | AP15: 104 | AR15: 18.6 | AS15: 5.0473434 | AT15: 16 | AU15: 0.31545896 | AV15: -49.323891 | AY15: 41 | AZ15: 53 | BB15: 99.4 | BC15: 26.973437 | BD15: 32 | BE15: 0.84291991 | BF15: -36.447782 | BI15: 19 | BJ15: 43 | BL15: 0.8 | BM15: 0.81 | BN15: 0.000375 | BO15: 0.95 | BP15: 1 | BQ15: 0.0025
A16: AUBE HAUTE MARNE | B16: TROYES | C16: BAR SUR AUBE | D16: 2.988084 | F16: 0.051 | G16: 0.046 | I16: 6 | J16: 5 | L16: 1465.193 | M16: 428.68234 | N16: 1893.8753 | O16: 633.80926 | P16: 233.144 | Q16: 2.7185313 | R16: 1091.3301 | S16: 0.01 | T16: 0.01 | U16: 0 | V16: 0 | X16: 2159.8958 | Y16: 722.83638 | Z16: 573 | AA16: 1.2614946 | AB16: 187.47352 | AC16: 0.02 | AD16: 0.02 | AE16: 0 | AF16: 0 | AH16: 181.3 | AI16: 60.674331 | AJ16: 63 | AK16: 0.96308462 | AL16: -35.563188 | AM16: 0.001 | AO16: 7 | AP16: 45 | AR16: 20.8 | AS16: 6.9609823 | AT16: 16 | AU16: 0.43506139 | AV16: -34.276365 | AY16: 28 | AZ16: 37 | BB16: 110.8 | BC16: 37.080617 | BD16: 32 | BE16: 1.1587693 | BF16: 0.64726983 | BG16: 0.02 | BH16: 0.016 | BI16: 0 | BJ16: 4 | BL16: 0.8 | BM16: 0.81 | BN16: 0.000375 | BO16: 0.95 | BP16: 1 | BQ16: 0.0025
A17: AUBE HAUTE MARNE | B17: TROYES | C17: BAR SUR SEINE | D17: 3.7318809 | F17: 0.045 | G17: 0.041 | I17: 4 | J17: 4 | L17: 1272.6382 | M17: 587.48716 | N17: 1860.1254 | O17: 498.44179 | P17: 246.295 | Q17: 2.0237593 | R17: 801.27196 | S17: 0.01 | T17: 0.01 | U17: 0 | V17: 0 | X17: 2738.2055 | Y17: 733.73335 | Z17: 573 | AA17: 1.280512 | AB17: 274.80583 | AC17: 0.02 | AD17: 0.02 | AE17: 0 | AF17: 0 | AH17: 146.6 | AI17: 39.28314 | AJ17: 63 | AK17: 0.6235419 | AL17: -124.24499 | AO17: 89 | AP17: 136 | AR17: 18.1 | AS17: 4.8501012 | AT17: 16 | AU17: 0.30313132 | AV17: -50.686029 | AY17: 42 | AZ17: 54 | BB17: 132.2 | BC17: 35.424496 | BD17: 32 | BE17: 1.1070155 | BF17: -5.3720586 | BG17: 0.015 | BH17: 0.011 | BI17: 0 | BJ17: 12 | BL17: 0.8 | BM17: 0.77 | BO17: 0.95 | BP17: 1 | BQ17: 0.0025
A18: AUBE HAUTE MARNE | B18: TROYES | C18: BRIENNE LE CHATEAU | D18: 2.4135234 | F18: 0.06 | G18: 0.057 | I18: 5 | J18: 5 | L18: 394.63168 | M18: -824.82687 | N18: -430.19519 | O18: -178.24363 | P18: 233.144 | Q18: -0.76452164 | R18: -1078.4239 | U18: 993 | V18: 1106 | X18: 1726.1867 | Y18: 715.2144 | Z18: 573 | AA18: 1.2481927 | AB18: 133.02955 | AC18: 0.02 | AD18: 0.02 | AE18: 0 | AF18: 0 | AH18: 187.1 | AI18: 77.521518 | AJ18: 63 | AK18: 1.2305003 | AL18: 11.936123 | AM18: 0.02 | AN18: 0.02 | AO18: 0 | AP18: 0 | AR18: 17.3 | AS18: 7.1679436 | AT18: 16 | AU18: 0.44799648 | AV18: -27.186064 | AY18: 22 | AZ18: 30 | BB18: 90 | BC18: 37.28988 | BD18: 32 | BE18: 1.1653088 | BF18: 1.0278718 | BG18: 0.02 | BH18: 0.017 | BI18: 0 | BJ18: 3 | BL18: 0.8 | BM18: 0.86 | BN18: 0.00225 | BO18: 0.95 | BP18: 1 | BQ18: 0.0025
A19: AUBE HAUTE MARNE | B19: TROYES | C19: LA CHAPELLE ST LUC | D19: 5.752038 | F19: 0.01 | G19: 0.01 | I19: 2 | J19: 2 | L19: 2357.0675 | M19: 2019.3439 | N19: 4376.4114 | O19: 760.84535 | P19: 212.5 | Q19: 3.5804487 | R19: 2968.3125 | S19: 0.01 | T19: 0.01 | U19: 0 | V19: 0 | X19: 2748.7173 | Y19: 477.86842 | Z19: 573 | AA19: 0.8339763 | AB19: -1048.18 | AE19: 548 | AF19: 1207 | AH19: 299.4 | AI19: 52.051116 | AJ19: 63 | AK19: 0.82620819 | AL19: -118.05991 | AO19: 63 | AP19: 136 | AR19: 28.8 | AS19: 5.006921 | AT19: 16 | AU19: 0.31293256 | AV19: -77.221565 | AY19: 64 | AZ19: 82 | BB19: 151.4 | BC19: 26.321105 | BD19: 32 | BE19: 0.82253455 | BF19: -60.643131 | BI19: 33 | BJ19: 70 | BL19: 0.8 | BM19: 0.79 | BO19: 0.95 | BP19: 1 | BQ19: 0.0025
A20: AUBE HAUTE MARNE | B20: TROYES | C20: NOGENT SUR SEINE | D20: 3.714413 | F20: 0.039 | G20: 0.034 | I20: 4 | J20: 4 | L20: 1757.7793 | M20: 1306.4316 | N20: 3064.2109 | O20: 824.95159 | P20: 231.902 | Q20: 3.5573285 | R20: 2071.9014 | S20: 0.01 | T20: 0.01 | U20: 0 | V20: 0 | X20: 2218.1865 | Y20: 597.1836 | Z20: 573 | AA20: 1.0422052 | AB20: -233.68262 | AC20: 0.009 | AD20: 0.004 | AE20: 0 | AF20: 336 | AH20: 136.2 | AI20: 36.667974 | AJ20: 63 | AK20: 0.58203134 | AL20: -133.37724 | AO20: 98 | AP20: 145 | AR20: 52 | AS20: 13.99952 | AT20: 16 | AU20: 0.87497002 | AV20: -16.46406 | AY20: 8 | AZ20: 20 | BB20: 154.2 | BC20: 41.513962 | BD20: 32 | BE20: 1.2973113 | BF20: 17.27188 | BG20: 0.02 | BH20: 0.02 | BI20: 0 | BJ20: 0 | BL20: 0.8 | BM20: 0.8 | BN20: 0 | BO20: 0.95 | BP20: 1 | BQ20: 0.0025
A21: AUBE HAUTE MARNE | B21: TROYES | C21: ROMILLY SUR SEINE | D21: 6.6311696 | F21: 0.038 | G21: 0.034 | I21: 5 | J21: 5 | L21: 3095.9188 | M21: -775.15575 | N21: 2320.7631 | O21: 349.97794 | P21: 218.771 | Q21: 1.5997456 | R21: 649.54789 | S21: 0.01 | T21: 0.01 | U21: 0 | V21: 0 | X21: 3954.5862 | Y21: 596.36329 | Z21: 573 | AA21: 1.0407736 | AB21: -422.6224 | AC21: 0.008 | AD21: 0.004 | AE21: 0 | AF21: 606 | AH21: 230.4 | AI21: 34.745002 | AJ21: 63 | AK21: 0.55150796 | AL21: -250.86377 | AO21: 188 | AP21: 271 | AR21: 47 | AS21: 7.087739 | AT21: 16 | AU21: 0.44298369 | AV21: -75.225719 | AY21: 60 | AZ21: 81 | BB21: 259.8 | BC21: 39.178609 | BD21: 32 | BE21: 1.2243315 | BF21: 15.348562 | BG21: 0.02 | BH21: 0.02 | BI21: 0 | BJ21: 0 | BL21: 0.8 | BM21: 0.81 | BN21: 0.000375 | BO21: 0.95 | BP21: 1 | BQ21: 0.0025
A22: AUBE HAUTE MARNE | B22: TROYES | C22: SAINT ANDRE LES VERGERS | D22: 4.3170067 | F22: 0.034 | G22: 0.026 | I22: 5 | J22: 5 | L22: 2469.7281 | M22: -361.79947 | N22: 2107.9286 | O22: 488.28477 | P22: 242.997 | Q22: 2.0094271 | R22: 899.45793 | S22: 0.01 | T22: 0.01 | U22: 0 | V22: 0 | X22: 2484.3438 | Y22: 575.47833 | Z22: 573 | AA22: 1.0043252 | AB22: -365.29504 | AC22: 0.005 | AD22: 0.001 | AE22: 0 | AF22: 485 | AH22: 139 | AI22: 32.198236 | AJ22: 63 | AK22: 0.51108311 | AL22: -174.31108 | AO22: 133 | AP22: 188 | AR22: 37.1 | AS22: 8.5939177 | AT22: 16 | AU22: 0.53711986 | AV22: -42.471067 | AY22: 32 | AZ22: 46 | BB22: 158.4 | BC22: 36.692091 | BD22: 32 | BE22: 1.1466278 | BF22: -0.74213358 | BG22: 0.019 | BH22: 0.015 | BI22: 0 | BJ22: 8 | BL22: 0.8 | BM22: 0.81 | BN22: 0.000375 | BO22: 0.95 | BP22: 1 | BQ22: 0.0025
A23: AUBE HAUTE MARNE | B23: TROYES | C23: SAINTE SAVINE | D23: 4.4760896 | F23: 0.01 | G23: 0.01 | I23: 3 | J23: 3 | L23: 4373.0386 | M23: 2595.6632 | N23: 6968.7018 | O23: 1556.8727 | P23: 251.204 | Q23: 6.197643 | R23: 5673.3796 | S23: 0.01 | T23: 0.01 | U23: 0 | V23: 0 | X23: 2271.9703 | Y23: 507.57926 | Z23: 573 | AA23: 0.88582768 | AB23: -682.6786 | AE23: 293 | AF23: 806 | AH23: 92.5 | AI23: 20.665359 | AJ23: 63 | AK23: 0.32802158 | AL23: -232.35668 | AO23: 190 | AP23: 246 | AR23: 19.8 | AS23: 4.4235039 | AT23: 16 | AU23: 0.276469 | AV23: -62.703284 | AY23: 52 | AZ23: 67 | BB23: 121.6 | BC23: 27.16657 | BD23: 32 | BE23: 0.8489553 | BF23: -43.406568 | BI23: 22 | BJ23: 51 | BL23: 0.8 | BM23: 0.81 | BN23: 0.000375 | BO23: 0.95 | BP23: 1 | BQ23: 0.0025
A24: AUBE HAUTE MARNE | B24: TROYES | C24: SAINT JULIEN LES VILLAS | D24: 5.2411436 | F24: 0.035 | G24: 0.027 | I24: 5 | J24: 5 | L24: 4268.3462 | M24: 4068.5357 | N24: 8336.882 | O24: 1590.6608 | P24: 248.623 | Q24: 6.3978829 | R24: 6835.7467 | S24: 0.01 | T24: 0.01 | U24: 0 | V24: 0 | X24: 3258.9096 | Y24: 621.79361 | Z24: 573 | AA24: 1.0851546 | AB24: -200.74831 | AC24: 0.013 | AD24: 0.009 | AE24: 0 | AF24: 345 | AH24: 254.3 | AI24: 48.519945 | AJ24: 63 | AK24: 0.77015785 | AL24: -126.08124 | AO24: 76 | AP24: 142 | AR24: 50.1 | AS24: 9.5589825 | AT24: 16 | AU24: 0.5974364 | AV24: -46.504759 | AY24: 34 | AZ24: 51 | BB24: 180.6 | BC24: 34.458128 | BD24: 32 | BE24: 1.0768165 | BF24: -12.609519 | BG24: 0.012 | BH24: 0.008 | BI24: 0 | BJ24: 21 | BL24: 0.8 | BM24: 0.84 | BN24: 0.0015 | BO24: 0.95 | BP24: 1 | BQ24: 0.0025
A25: AUBE HAUTE MARNE | B25: TROYES | C25: TROYES 1ER MAI | D25: 4.2224399 | F25: 0.03 | G25: 0.03 | I25: 4 | J25: 4 | L25: 1461.4355 | M25: 585.71766 | N25: 2047.1532 | O25: 484.82708 | P25: 212.5 | Q25: 2.2815392 | R25: 1013.4999 | S25: 0.01 | T25: 0.01 | U25: 0 | V25: 0 | X25: 1774.8703 | Y25: 420.34235 | Z25: 573 | AA25: 0.73358176 | AB25: -1012.3454 | AE25: 645 | AF25: 1129 | AH25: 133.85 | AI25: 31.699682 | AJ25: 63 | AK25: 0.50316955 | AL25: -172.5978 | AO25: 133 | AP25: 186 | AR25: 38.4 | AS25: 9.0942681 | AT25: 16 | AU25: 0.56839175 | AV25: -39.428012 | AY25: 30 | AZ25: 43 | BB25: 162.4 | BC25: 38.461175 | BD25: 32 | BE25: 1.2019117 | BF25: 6.7439768 | BG25: 0.02 | BH25: 0.02 | BI25: 0 | BJ25: 0 | BL25: 0.8 | BM25: 0.82 | BN25: 0.00075 | BO25: 0.95 | BP25: 1 | BQ25: 0.0025
A26: AUBE HAUTE MARNE | B26: TROYES | C26: TROYES BROSSOLETTE | D26: 3.2460809 | F26: 0.03 | G26: 0.03 | I26: 3 | J26: 3 | L26: 2963.5109 | M26: 657.91095 | N26: 3621.4219 | O26: 1115.629 | P26: 231.042 | Q26: 4.8286846 | R26: 2757.4437 | S26: 0.01 | T26: 0.01 | U26: 0 | V26: 0 | X26: 1720.507 | Y26: 530.02591 | Z26: 573 | AA26: 0.92500158 | AB26: -422.21805 | AE26: 140 | AF26: 512 | AH26: 163.9 | AI26: 50.491656 | AJ26: 63 | AK26: 0.80145485 | AL26: -71.687569 | AO26: 41 | AP26: 82 | AR26: 39.6 | AS26: 12.199326 | AT26: 16 | AU26: 0.76245789 | AV26: -20.231763 | AY26: 13 | AZ26: 23 | BB26: 146.6 | BC26: 45.162152 | BD26: 32 | BE26: 1.4113173 | BF26: 26.936473 | BG26: 0.02 | BH26: 0.02 | BI26: 0 | BJ26: 0 | BL26: 0.8 | BM26: 0.78 | BO26: 0.95 | BP26: 1 | BQ26: 0.0025
A27: AUBE HAUTE MARNE | B27: TROYES | C27: TROYES CHARTREUX | D27: 2.5803142 | F27: 0.023 | G27: 0.018 | I27: 4 | J27: 4 | L27: 388.41682 | M27: 567.11971 | N27: 955.53653 | O27: 370.3179 | P27: 212.5 | Q27: 1.7426725 | R27: 323.87562 | S27: 0.01 | T27: 0.01 | U27: 0 | V27: 0 | X27: 1245.0256 | Y27: 482.50928 | Z27: 573 | AA27: 0.84207554 | AB27: -458.22952 | AE27: 234 | AF27: 530 | AH27: 145.05 | AI27: 56.214084 | AJ27: 63 | AK27: 0.89228705 | AL27: -42.218883 | AO27: 18 | AP27: 51 | AR27: 10.3 | AS27: 3.9917619 | AT27: 16 | AU27: 0.24948512 | AV27: -37.260351 | AY27: 31 | AZ27: 40 | BB27: 89.4 | BC27: 34.646943 | BD27: 32 | BE27: 1.082717 | BF27: -5.7207025 | BG27: 0.013 | BH27: 0.008 | BI27: 0 | BJ27: 10 | BL27: 0.8 | BM27: 0.81 | BN27: 0.000375 | BO27: 0.95 | BP27: 1 | BQ27: 0.0025
A28: AUBE HAUTE MARNE | B28: TROYES | C28: TROYES GAMBETTA | D28: 9.6894159 | F28: 0.05 | G28: 0.05 | I28: 4 | J28: 4 | L28: 9140.7861 | M28: 5938.8783 | N28: 15079.664 | O28: 1556.3027 | P28: 268.108 | Q28: 5.8047605 | R28: 12086.987 | S28: 0.01 | T28: 0.01 | U28: 0 | V28: 0 | X28: 6912.5034 | Y28: 713.40764 | Z28: 573 | AA28: 1.2450395 | AB28: 516.55866 | AC28: 0.02 | AD28: 0.02 | AE28: 0 | AF28: 0 | AH28: 396.2 | AI28: 40.889978 | AJ28: 63 | AK28: 0.64904726 | AL28: -307.01905 | AO28: 215 | AP28: 337 | AR28: 93.1 | AS28: 9.6084223 | AT28: 16 | AU28: 0.60052639 | AV28: -85.495315 | AY28: 62 | AZ28: 93 | BB28: 434.8 | BC28: 44.873706 | BD28: 32 | BE28: 1.4023033 | BF28: 77.609371 | BG28: 0.02 | BH28: 0.02 | BI28: 0 | BJ28: 0 | BL28: 0.8 | BM28: 0.73 | BO28: 0.95 | BP28: 1 | BQ28: 0.0025
A29: AUBE HAUTE MARNE | B29: TROYES | C29: TROYES ZOLA | D29: 4.428186 | F29: 0.018 | G29: 0.012 | I29: 4 | J29: 3 | L29: 4031.9844 | M29: 4.59287 | N29: 4036.5772 | O29: 911.56451 | P29: 241.767 | Q29: 3.7704257 | R29: 2803.2584 | S29: 0.01 | T29: 0.01 | U29: 0 | V29: 0 | X29: 2476.791 | Y29: 559.32407 | Z29: 573 | AA29: 0.97613276 | AB29: -446.23685 | AC29: 0.002 | AE29: 61 | AF29: 569 | AH29: 174.9 | AI29: 39.496986 | AJ29: 63 | AK29: 0.62693628 | AL29: -146.48003 | AO29: 105 | AP29: 160 | AR29: 20.5 | AS29: 4.6294351 | AT29: 16 | AU29: 0.2893397 | AV29: -61.120325 | AY29: 51 | AZ29: 65 | BB29: 144.2 | BC29: 32.564124 | BD29: 32 | BE29: 1.0176289 | BF29: -19.04065 | BG29: 0.006 | BH29: 0.002 | BI29: 0 | BJ29: 26 | BL29: 0.8 | BM29: 0.78 | BO29: 0.95 | BP29: 1 | BQ29: 0.0025
A30: BAS RHIN | B30: HAGUENAU | C30: BISCHWILLER | D30: 6.2436248 | F30: 0.03 | G30: 0.03 | I30: 3 | J30: 3 | L30: 3124.1227 | M30: 2134.9594 | N30: 5259.082 | O30: 842.31231 | P30: 244.696 | Q30: 3.4422807 | R30: 3499.0679 | S30: 0.01 | T30: 0.01 | U30: 0 | V30: 0 | X30: 2315.603 | Y30: 370.87478 | Z30: 573 | AA30: 0.64725093 | AB30: -1805.7888 | AE30: 1262 | AF30: 1978 | AH30: 357.7 | AI30: 57.290438 | AJ30: 63 | AK30: 0.90937203 | AL30: -95.437316 | AO30: 36 | AP30: 115 | AR30: 37.7 | AS30: 6.0381591 | AT30: 16 | AU30: 0.37738494 | AV30: -77.382493 | AY30: 63 | AZ30: 83 | BB30: 243.4 | BC30: 38.983764 | BD30: 32 | BE30: 1.2182426 | BF30: 13.235014 | BG30: 0.02 | BH30: 0.02 | BI30: 0 | BJ30: 0 | BL30: 0.8 | BM30: 0.74 | BO30: 0.95 | BP30: 1 | BQ30: 0.0025
A31: BAS RHIN | B31: HAGUENAU | C31: BOUXWILLER | D31: 2.8402116 | F31: 0.049 | G31: 0.042 | I31: 5 | J31: 4 | L31: 1112.0088 | M31: 543.22038 | N31: 1655.2292 | O31: 582.78375 | P31: 255.976 | Q31: 2.2767125 | R31: 817.69522 | S31: 0.01 | T31: 0.01 | U31: 0 | V31: 0 | X31: 1974.2355 | Y31: 695.10156 | Z31: 573 | AA31: 1.2130917 | AB31: 99.423202 | AC31: 0.02 | AD31: 0.02 | AE31: 0 | AF31: 0 | AH31: 176.05 | AI31: 61.984817 | AJ31: 63 | AK31: 0.98388599 | AL31: -30.0812 | AM31: 0.002 | AO31: 3 | AP31: 39 | AR31: 22.2 | AS31: 7.8163189 | AT31: 16 | AU31: 0.48851993 | AV31: -30.150781 | AY31: 24 | AZ31: 33 | BB31: 101.8 | BC31: 35.842399 | BD31: 32 | BE31: 1.120075 | BF31: -2.9015619 | BG31: 0.017 | BH31: 0.012 | BI31: 0 | BJ31: 8 | BL31: 0.8 | BM31: 0.67 | BO31: 0.95 | BP31: 1 | BQ31: 0.0025
A32: BAS RHIN | B32: HAGUENAU | C32: BRUMATH | D32: 7.4919696 | F32: 0.01 | G32: 0.01 | I32: 2 | J32: 2 | L32: 5858.8981 | M32: 1968.8709 | N32: 7827.769 | O32: 1044.8212 | P32: 282.022 | Q32: 3.7047508 | R32: 5393.7079 | S32: 0.01 | T32: 0.01 | U32: 0 | V32: 0 | X32: 3676.7632 | Y32: 490.76056 | Z32: 573 | AA32: 0.85647568 | AB32: -1268.656 | AE32: 617 | AF32: 1475 | AH32: 237.8 | AI32: 31.740652 | AJ32: 63 | AK32: 0.50381987 | AL32: -305.93719 | AO32: 235 | AP32: 329 | AR32: 49.2 | AS32: 6.5670314 | AT32: 16 | AU32: 0.41043946 | AV32: -88.891984 | AY32: 71 | AZ32: 95 | BB32: 189 | BC32: 25.227011 | BD32: 32 | BE32: 0.78834409 | BF32: -87.183968 | BI32: 51 | BJ32: 99 | BL32: 0.8 | BM32: 0.69 | BO32: 0.95 | BP32: 1 | BQ32: 0.0025
