Workbook
Name LISTAG: LISTES!$C$6:$C$290
Name LISTDIRCO: LISTES!$M$6:$M$12
Name LISTSECT: LISTES!$H$6:$H$23

Sheet ACCUEIL
F7: 44255

Sheet DC_PREM
B1: Accueil | D1: BAROMETRE PREMIUM - DIRECTIONS REGIONALES
D3: =ACCUEIL!F7 -> 44255
D6: CLIENTS | H6: BANCARISATION | P6: IARD PREVOYANCE | X6: CREDITS | AF6: ASSURANCE VIE
D7: Evolution nb relations PREMIUM | H7: VN pondérées sur clients PREMIUM | L7: Ventes sur clients PREMIUM non détenteurs de l'univers | P7: VN pondérées sur clients PREMIUM | T7: Ventes sur clients PREMIUM non détenteurs de l'univers | X7: PNB crédit conso immo sur clients PREMIUM | AB7: Ventes sur clients PREMIUM non détenteurs de l'univers | AF7: VN pondérées sur clients PREMIUM | AJ7: Ventes sur clients PREMIUM non détenteurs de l'univers | AN7: Taux d'UC sur CA Assurance Vie sur clients PREMIUM | AR7: TOTAL PREMIUM
F8: coef | G8: ='RECAP DIRCOM'!N4 -> 0.3 | J8: coef | K8: ='RECAP DIRCOM'!R4 -> 0.1 | N8: coef | O8: ='RECAP DIRCOM'!V4 -> 0.05 | R8: coef | S8: ='RECAP DIRCOM'!Z4 -> 0.1 | V8: coef | W8: ='RECAP DIRCOM'!AD4 -> 0.05 | Z8: coef | AA8: ='RECAP DIRCOM'!AH4 -> 0.1 | AD8: coef | AE8: ='RECAP DIRCOM'!AL4 -> 0.05 | AH8: coef | AI8: ='RECAP DIRCOM'!AP4 -> 0.1 | AL8: coef | AM8: ='RECAP DIRCOM'!AT4 -> 0.05 | AO8: ="au "&TEXT(ACCUEIL!$F$7-7,"jj/mm") -> au 21/02 | AP8: coef | AQ8: ='RECAP DIRCOM'!AX4 -> 0.1 | AS8: coef | AT8: 1
B9: Direction | C9: ="ETP perf "&TEXT(ETP!D2,"jj-mmm") -> ETP perf 31-janv | D9: Nb | E9: Nb / ETP | F9: % Ecart au 1er | G9: Rang | H9: Nb | I9: Nb / ETP | J9: % Ecart au 1er | K9: Rang | L9: Nb | M9: Nb / ETP | N9: % Ecart au 1er | O9: Rang | P9: Nb | Q9: Nb / ETP | R9: % Ecart au 1er | S9: Rang | T9: Nb | U9: Nb / ETP | V9: % Ecart au 1er | W9: Rang | X9: PNB | Y9: PNB / ETP | Z9: % Ecart au 1er | AA9: Rang | AB9: Nb | AC9: Nb / ETP | AD9: % Ecart au 1er | AE9: Rang | AF9: Nb | AG9: Nb / ETP | AH9: % Ecart au 1er | AI9: Rang | AJ9: Nb | AK9: Nb / ETP | AL9: % Ecart au 1er | AM9: Rang | AO9: Tx UC | AP9: % Ecart au 1er | AQ9: Rang | AR9: Moyenne ecart au 1er | AS9: % Ecart au 1er | AT9: Rang CEGEE
A10: 50 | B10: Vosges | C10: 43.754509 | D10: 0 | E10: 0 | F10: 0 | G10: 1 | H10: 476 | I10: 10.878879 | J10: 0.15030934 | K10: 3 | L10: 48 | M10: 1.0970298 | N10: 0.038251012 | O10: 3 | P10: 749.4 | Q10: 17.127378 | R10: 0.42055329 | S10: 4 | T10: 41 | U10: 0.93704628 | V10: 0.53774227 | W10: 7 | X10: 480.18946 | Y10: 10.974628 | Z10: 0.24229302 | AA10: 6 | AB10: 45 | AC10: 1.0284654 | AD10: 0.083737216 | AE10: 3 | AF10: 53 | AG10: 1.2113037 | AH10: 0 | AI10: 1 | AJ10: 13 | AK10: 0.29711224 | AL10: 0.40761484 | AM10: 3 | AO10: 0.32208336 | AP10: 0.21510416 | AQ10: 5 | AR10: 0.15619325 | AS10: 0 | AT10: 1
A11: 262 | B11: Haut-Rhin | C11: 47.851425 | D11: 0 | E11: 0 | F11: 0 | G11: 1 | H11: 271 | I11: 5.6633632 | J11: 0.55766519 | K11: 7 | L11: 50 | M11: 1.044901 | N11: 0.083951553 | O11: 4 | P11: 1414.4 | Q11: 29.558158 | R11: 0 | S11: 1 | T11: 97 | U11: 2.0271079 | V11: 0 | W11: 1 | X11: 534.35358 | Y11: 11.166931 | Z11: 0.22901607 | AA11: 5 | AB11: 34 | AC11: 0.71053265 | AD11: 0.36698444 | AE11: 7 | AF11: 9 | AG11: 0.18808217 | AH11: 0.82374131 | AI11: 3 | AJ11: 24 | AK11: 0.50155246 | AL11: 0 | AM11: 1 | AO11: 0.41035172 | AP11: 0 | AQ11: 1 | AR11: 0.18358906 | AS11: 0.027395808 | AT11: 2
A12: 264 | B12: Moselle | C12: 86.033395 | D12: 0 | E12: 0 | F12: 0 | G12: 1 | H12: 1035 | I12: 12.030212 | J12: 0.06038488 | K12: 2 | L12: 61 | M12: 0.709027 | N12: 0.37840703 | O12: 5 | P12: 1674.4 | Q12: 19.46221 | R12: 0.34156215 | S12: 2 | T12: 122 | U12: 1.418054 | V12: 0.30045459 | W12: 2 | X12: 1132.0915 | Y12: 13.158745 | Z12: 0.091497867 | AA12: 2 | AB12: 95 | AC12: 1.1042224 | AD12: 0.016245132 | AE12: 2 | AF12: 42 | AG12: 0.48818253 | AH12: 0.58214646 | AI12: 2 | AJ12: 20 | AK12: 0.23246787 | AL12: 0.53650338 | AM12: 4 | AO12: 0.29828483 | AP12: 0.27309959 | AQ12: 7 | AR12: 0.1964496 | AS12: 0.040256355 | AT12: 3
A13: 30 | B13: Bas-Rhin | C13: 85.915079 | D13: 0 | E13: 0 | F13: 0 | G13: 1 | H13: 1100 | I13: 12.80334 | J13: 0 | K13: 1 | L13: 98 | M13: 1.1406612 | N13: 0 | O13: 1 | P13: 1524.8 | Q13: 17.747758 | R13: 0.39956483 | S13: 3 | T13: 110 | U13: 1.280334 | V13: 0.36839372 | W13: 3 | X13: 1045.2637 | Y13: 12.166243 | Z13: 0.1600219 | AA13: 3 | AB13: 70 | AC13: 0.81475803 | AD13: 0.27412975 | AE13: 6 | AF13: 10 | AG13: 0.116394 | AH13: 0.88145364 | AI13: 4 | AJ13: 19 | AK13: 0.22114861 | AL13: 0.55907183 | AM13: 5 | AO13: 0.38796942 | AP13: 0.054544191 | AQ13: 2 | AR13: 0.20963822 | AS13: 0.053444974 | AT13: 4
A14: 110 | B14: Marne-Ardennes | C14: 73.6262 | D14: 0 | E14: 0 | F14: 0 | G14: 1 | H14: 663 | I14: 9.0049466 | J14: 0.29667209 | K14: 5 | L14: 82 | M14: 1.113734 | N14: 0.023606719 | O14: 2 | P14: 798.8 | Q14: 10.849399 | R14: 0.6329474 | S14: 5 | T14: 91 | U14: 1.2359731 | V14: 0.3902776 | W14: 5 | X14: 1066.4019 | Y14: 14.484 | Z14: 0 | AA14: 1 | AB14: 71 | AC14: 0.96433063 | AD14: 0.14087509 | AE14: 4 | AF14: -48 | AG14: -0.65194184 | AH14: 1.5 | AI14: 7 | AJ14: 15 | AK14: 0.20373182 | AL14: 0.59379758 | AM14: 7 | AO14: 0.36699514 | AP14: 0.10565713 | AQ14: 3 | AR14: 0.31095551 | AS14: 0.15476226 | AT14: 5
A15: 160 | B15: Aube Haute Marne | C15: 41.872434 | D15: 0 | E15: 0 | F15: 0 | G15: 1 | H15: 440 | I15: 10.508107 | J15: 0.17926836 | K15: 4 | L15: 28 | M15: 0.66869769 | N15: 0.41376311 | O15: 7 | P15: 448.6 | Q15: 10.713492 | R15: 0.63754534 | S15: 6 | T15: 40 | U15: 0.95528242 | V15: 0.52874613 | W15: 6 | X15: 418.10224 | Y15: 9.985143 | Z15: 0.31060875 | AA15: 7 | AB15: 47 | AC15: 1.1224568 | AD15: 0 | AE15: 1 | AF15: -23 | AG15: -0.54928739 | AH15: 1.4173584 | AI15: 6 | AJ15: 9 | AK15: 0.21493854 | AL15: 0.57145351 | AM15: 6 | AO15: 0.34281357 | AP15: 0.16458602 | AQ15: 4 | AR15: 0.34663482 | AS15: 0.19044157 | AT15: 6
A16: 80 | B16: Meurthe et Moselle Meuse | C16: 86.539006 | D16: 0 | E16: 0 | F16: 0 | G16: 1 | H16: 626 | I16: 7.2337323 | J16: 0.43501211 | K16: 6 | L16: 58 | M16: 0.67021801 | N16: 0.41243028 | O16: 6 | P16: 882.6 | Q16: 10.198869 | R16: 0.65495586 | S16: 7 | T16: 110 | U16: 1.2711031 | V16: 0.37294746 | W16: 4 | X16: 1046.2795 | Y16: 12.090265 | Z16: 0.16526752 | AA16: 4 | AB16: 72 | AC16: 0.83199477 | AD16: 0.25877349 | AE16: 5 | AF16: -36 | AG16: -0.41599738 | AH16: 1.3100537 | AI16: 5 | AJ16: 27 | AK16: 0.31199804 | AL16: 0.37793538 | AM16: 2 | AO16: 0.31570965 | AP16: 0.23063646 | AQ16: 6 | AR16: 0.35069689 | AS16: 0.19450365 | AT16: 7
B17: Total CEGEE Directions Régionales | C17: =SUM(C10:C16) -> 465.59205

Sheet TER_PREM
B1: Accueil | F1: BAROMETRE PREMIUM - TERRITOIRES
F3: =ACCUEIL!F7 -> 44255
F6: CLIENTS | J6: BANCARISATION | R6: IARD PREVOYANCE | Z6: CREDITS | AH6: ASSURANCE VIE
F7: Evolution nb relations PREMIUM | J7: VN pondérées sur clients PREMIUM | N7: Ventes sur clients PREMIUM non détenteurs de l'univers | R7: VN pondérées sur clients PREMIUM | V7: Ventes sur clients PREMIUM non détenteurs de l'univers | Z7: PNB crédit conso immo sur clients PREMIUM | AD7: Ventes sur clients PREMIUM non détenteurs de l'univers | AH7: VN pondérées sur clients PREMIUM | AL7: Ventes sur clients PREMIUM non détenteurs de l'univers | AP7: Taux d'UC sur CA Assurance Vie sur clients PREMIUM | AT7: TOTAL PREMIUM
H8: coef | I8: ='RECAP TER'!N4 -> 0.3 | L8: coef | M8: ='RECAP TER'!R4 -> 0.1 | P8: coef | Q8: ='RECAP TER'!V4 -> 0.05 | T8: coef | U8: ='RECAP TER'!Z4 -> 0.1 | X8: coef | Y8: ='RECAP TER'!AD4 -> 0.05 | AB8: coef | AC8: ='RECAP TER'!AH4 -> 0.1 | AF8: coef | AG8: ='RECAP TER'!AL4 -> 0.05 | AJ8: coef | AK8: ='RECAP TER'!AP4 -> 0.1 | AN8: coef | AO8: ='RECAP TER'!AT4 -> 0.05 | AQ8: ="au "&TEXT(ACCUEIL!$F$7-7,"jj/mm") -> au 21/02 | AR8: coef | AS8: ='RECAP TER'!AX4 -> 0.1 | AU8: coef | AV8: 1
B9: Direction | C9: eds | D9: Territoire | E9: =DC_PREM!C9 -> ETP perf 31-janv | F9: Nb | G9: Nb / ETP | H9: % Ecart au 1er | I9: Rang | J9: Nb | K9: Nb / ETP | L9: % Ecart au 1er | M9: Rang | N9: Nb | O9: Nb / ETP | P9: % Ecart au 1er | Q9: Rang | R9: Nb | S9: Nb / ETP | T9: % Ecart au 1er | U9: Rang | V9: Nb | W9: Nb / ETP | X9: % Ecart au 1er | Y9: Rang | Z9: PNB | AA9: PNB / ETP | AB9: % Ecart au 1er | AC9: Rang | AD9: Nb | AE9: Nb / ETP | AF9: % Ecart au 1er | AG9: Rang | AH9: Nb | AI9: Nb / ETP | AJ9: % Ecart au 1er | AK9: Rang | AL9: Nb | AM9: Nb / ETP | AN9: % Ecart au 1er | AO9: Rang | AQ9: Tx UC | AR9: % Ecart au 1er | AS9: Rang | AT9: Moyenne ecart au 1er | AU9: % Ecart au 1er | AV9: Rang CEGEE
A10: 50 | B10: HAUT-RHIN | C10: 5169 | D10: MULHOUSE | E10: 24.442334 | F10: 0 | G10: 0 | H10: 0 | I10: 1 | J10: 119 | K10: 4.8686021 | L10: 0.68217162 | M10: 18 | N10: 23 | O10: 0.94099032 | P10: 0.38570985 | Q10: 9 | R10: 520.4 | S10: 21.290929 | T10: 0.44250415 | U10: 5 | V10: 62 | W10: 2.5365826 | X10: 0 | Y10: 1 | Z10: 306.53328 | AA10: 12.54108 | AB10: 0.25954909 | AC10: 8 | AD10: 20 | AE10: 0.81825245 | AF10: 0.37403691 | AG10: 12 | AH10: 26 | AI10: 1.0637282 | AJ10: 0.3301185 | AK10: 2 | AL10: 14 | AM10: 0.57277672 | AN10: 0 | AO10: 1 | AQ10: 0.38525343 | AR10: 0.1901667 | AS10: 5 | AT10: 0.22843834 | AU10: 0 | AV10: 1
A11: 50 | B11: VOSGES | C11: 57 | D11: EPINAL | E11: 22.191091 | F11: 0 | G11: 0 | H11: 0 | I11: 1 | J11: 246 | K11: 11.08553 | L11: 0.27632287 | M11: 6 | N11: 28 | O11: 1.2617676 | P11: 0.17630245 | Q11: 2 | R11: 263.4 | S11: 11.869628 | T11: 0.68919775 | U11: 12 | V11: 20 | W11: 0.90126259 | X11: 0.64469417 | Y11: 16 | Z11: 287.83252 | AA11: 12.970634 | AB11: 0.23418736 | AC11: 7 | AD11: 24 | AE11: 1.0815151 | AF11: 0.17264099 | AG11: 6 | AH11: 39 | AI11: 1.757462 | AJ11: 0 | AK11: 1 | AL11: 6 | AM11: 0.27037878 | AN11: 0.52795083 | AO11: 7 | AQ11: 0.31114265 | AR11: 0.34595345 | AS11: 15 | AT11: 0.23064557 | AU11: 0.0022072224 | AV11: 2
A12: 262 | B12: AUBE HAUTE MARNE | C12: 21 | D12: CHAUMONT | E12: 13.658944 | F12: 0 | G12: 0 | H12: 0 | I12: 1 | J12: 190 | K12: 13.910299 | L12: 0.091918432 | M12: 3 | N12: 15 | O12: 1.0981815 | P12: 0.2830935 | Q12: 6 | R12: 338 | S12: 24.74569 | T12: 0.35204239 | U12: 2 | V12: 19 | W12: 1.3910299 | X12: 0.45161261 | Y12: 8 | Z12: 131.61309 | AA12: 9.6356705 | AB12: 0.4310904 | AC12: 16 | AD12: 15 | AE12: 1.0981815 | AF12: 0.15989119 | AG12: 5 | AH12: 10 | AI12: 0.732121 | AJ12: 0.48791628 | AK12: 4 | AL12: 3 | AM12: 0.2196363 | AN12: 0.61654115 | AO12: 12 | AQ12: 0.36551103 | AR12: 0.23166679 | AS12: 7 | AT12: 0.23502035 | AU12: 0.0065820085 | AV12: 3
A13: 262 | B13: BAS-RHIN | C13: 5060 | D13: HAGUENAU | E13: 24.40497 | F13: 0 | G13: 0 | H13: 0 | I13: 1 | J13: 298 | K13: 12.210628 | L13: 0.20287508 | M13: 4 | N13: 20 | O13: 0.81950522 | P13: 0.46501683 | Q13: 12 | R13: 442.2 | S13: 18.119261 | T13: 0.52555323 | U13: 7 | V13: 36 | W13: 1.4751094 | X13: 0.41846585 | Y13: 6 | Z13: 391.4986 | AA13: 16.041757 | AB13: 0.052861986 | AC13: 2 | AD13: 18 | AE13: 0.7375547 | AF13: 0.43577068 | AG13: 14 | AH13: 16 | AI13: 0.65560418 | AJ13: 0.52432739 | AK13: 5 | AL13: 10 | AM13: 0.40975261 | AN13: 0.28462069 | AO13: 3 | AQ13: 0.34375424 | AR13: 0.27740129 | AS13: 10 | AT13: 0.2384956 | AU13: 0.010057257 | AV13: 4
A14: 262 | B14: BAS-RHIN | C14: 5101 | D14: SELESTAT | E14: 28.723745 | F14: 0 | G14: 0 | H14: 0 | I14: 1 | J14: 440 | K14: 15.318337 | L14: 0 | M14: 1 | N14: 44 | O14: 1.5318337 | P14: 0 | Q14: 1 | R14: 606.4 | S14: 21.111453 | T14: 0.44720367 | U14: 6 | V14: 40 | W14: 1.3925761 | X14: 0.45100307 | Y14: 7 | Z14: 317.0907 | AA14: 11.039323 | AB14: 0.34821591 | AC14: 10 | AD14: 29 | AE14: 1.0096176 | AF14: 0.22764255 | AG14: 7 | AH14: 15 | AI14: 0.52221602 | AJ14: 0.58780116 | AK14: 7 | AL14: 3 | AM14: 0.1044432 | AN14: 0.81765459 | AO14: 18 | AQ14: 0.32207838 | AR14: 0.32296568 | AS14: 14 | AT14: 0.24543365 | AU14: 0.016995308 | AV14: 5
A15: 264 | B15: MOSELLE | C15: 45 | D15: METZ | E15: 33.508445 | F15: 0 | G15: 0 | H15: 0 | I15: 1 | J15: 380 | K15: 11.340425 | L15: 0.25968302 | M15: 5 | N15: 27 | O15: 0.80576701 | P15: 0.47398531 | Q15: 13 | R15: 756.2 | S15: 22.567445 | T15: 0.409079 | U15: 3 | V15: 35 | W15: 1.0445128 | X15: 0.58822047 | Y15: 11 | Z15: 498.61114 | AA15: 14.880163 | AB15: 0.12144487 | AC15: 3 | AD15: 40 | AE15: 1.1937289 | AF15: 0.086797432 | AG15: 3 | AH15: 4 | AI15: 0.11937289 | AJ15: 0.7794971 | AK15: 10 | AL15: 7 | AM15: 0.20890256 | AN15: 0.63528099 | AO15: 14 | AQ15: 0.39227994 | AR15: 0.17539642 | AS15: 3 | AT15: 0.26372425 | AU15: 0.035285908 | AV15: 6
A16: 264 | B16: MOSELLE | C16: 44 | D16: MOSELLE NORD | E16: 29.57495 | F16: 0 | G16: 0 | H16: 0 | I16: 1 | J16: 309 | K16: 10.448031 | L16: 0.31793958 | M16: 9 | N16: 12 | O16: 0.40574878 | P16: 0.73512217 | Q16: 18 | R16: 535 | S16: 18.089633 | T16: 0.52632901 | U16: 8 | V16: 60 | W16: 2.0287439 | X16: 0.20020586 | Y16: 2 | Z16: 412.02999 | AA16: 13.931722 | AB16: 0.17744277 | AC16: 5 | AD16: 25 | AE16: 0.84530995 | AF16: 0.35333792 | AG16: 11 | AH16: 30 | AI16: 1.0143719 | AJ16: 0.35360504 | AK16: 3 | AL16: 7 | AM16: 0.23668679 | AN16: 0.58677303 | AO16: 11 | AQ16: 0.2855303 | AR16: 0.39979264 | AS16: 17 | AT16: 0.27128285 | AU16: 0.042844509 | AV16: 7
A17: 30 | B17: VOSGES | C17: 55 | D17: SAINT DIE | E17: 21.563418 | F17: 0 | G17: 0 | H17: 0 | I17: 1 | J17: 230 | K17: 10.666212 | L17: 0.30369643 | M17: 8 | N17: 20 | O17: 0.92749674 | P17: 0.39451863 | Q17: 10 | R17: 486 | S17: 22.538171 | T17: 0.40984554 | U17: 4 | V17: 21 | W17: 0.97387157 | X17: 0.61606944 | Y17: 13 | Z17: 192.35694 | AA17: 8.9205218 | AB17: 0.47331423 | AC17: 18 | AD17: 21 | AE17: 0.97387157 | AF17: 0.25498828 | AG17: 8 | AH17: 14 | AI17: 0.64924772 | AJ17: 0.52735216 | AK17: 6 | AL17: 7 | AM17: 0.32462386 | AN17: 0.43324537 | AO17: 6 | AQ17: 0.33434507 | AR17: 0.29718011 | AS17: 11 | AT17: 0.28607993 | AU17: 0.05764159 | AV17: 8
A18: 30 | B18: MARNE-ARDENNES | C18: 11 | D18: REIMS | E18: 33.614436 | F18: 0 | G18: 0 | H18: 0 | I18: 1 | J18: 297 | K18: 8.8354895 | L18: 0.42320829 | M18: 13 | N18: 42 | O18: 1.2494632 | P18: 0.18433496 | Q18: 3 | R18: 497.6 | S18: 14.803164 | T18: 0.61238411 | U18: 10 | V18: 59 | W18: 1.7551983 | X18: 0.30804609 | Y18: 4 | Z18: 569.33058 | AA18: 16.937085 | AB18: 0 | AC18: 1 | AD18: 41 | AE18: 1.219714 | AF18: 0.066918807 | AG18: 2 | AH18: -19 | AI18: -0.56523334 | AJ18: 1.1052722 | AK18: 13 | AL18: 9 | AM18: 0.26774211 | AN18: 0.53255414 | AO18: 8 | AQ18: 0.36707531 | AR18: 0.22837854 | AS18: 6 | AT18: 0.29151701 | AU18: 0.063078666 | AV18: 9
A19: 30 | B19: MOSELLE | C19: 42 | D19: MOSELLE EST | E19: 22.949999 | F19: 0 | G19: 0 | H19: 0 | I19: 1 | J19: 346 | K19: 15.076253 | L19: 0.015803482 | M19: 2 | N19: 22 | O19: 0.95860571 | P19: 0.37421031 | Q19: 8 | R19: 383.2 | S19: 16.697169 | T19: 0.56279023 | U19: 9 | V19: 27 | W19: 1.1764706 | X19: 0.53619857 | Y19: 9 | Z19: 221.45037 | AA19: 9.6492541 | AB19: 0.4302884 | AC19: 15 | AD19: 30 | AE19: 1.3071896 | AF19: 0 | AG19: 1 | AH19: 8 | AI19: 0.3485839 | AJ19: 0.67042532 | AK19: 8 | AL19: 6 | AM19: 0.26143792 | AN19: 0.54356049 | AO19: 9 | AQ19: 0.2311231 | AR19: 0.51416089 | AS19: 18 | AT19: 0.2920453 | AU19: 0.063606955 | AV19: 10
A20: 110 | B20: HAUT-RHIN | C20: 5130 | D20: COLMAR | E20: 23.409091 | F20: 0 | G20: 0 | H20: 0 | I20: 1 | J20: 152 | K20: 6.4932039 | L20: 0.5761156 | M20: 15 | N20: 27 | O20: 1.1533981 | P20: 0.24704745 | Q20: 4 | R20: 894 | S20: 38.190291 | T20: 0 | U20: 1 | V20: 35 | W20: 1.4951456 | X20: 0.41056695 | Y20: 5 | Z20: 227.8203 | AA20: 9.7321295 | AB20: 0.42539527 | AC20: 14 | AD20: 14 | AE20: 0.59805825 | AF20: 0.54248546 | AG20: 18 | AH20: -17 | AI20: -0.72621359 | AJ20: 1.1818758 | AK20: 15 | AL20: 10 | AM20: 0.42718447 | AN20: 0.25418675 | AO20: 2 | AQ20: 0.44721818 | AR20: 0.059911869 | AS20: 2 | AT20: 0.29704419 | AU20: 0.068605843 | AV20: 11
A21: 110 | B21: BAS-RHIN | C21: 5006 | D21: STRASBOURG | E21: 32.786364 | F21: 0 | G21: 0 | H21: 0 | I21: 1 | J21: 362 | K21: 11.041176 | L21: 0.27921837 | M21: 7 | N21: 34 | O21: 1.0370165 | P21: 0.32302277 | Q21: 7 | R21: 476.2 | S21: 14.524331 | T21: 0.61968525 | U21: 11 | V21: 34 | W21: 1.0370165 | X21: 0.59117574 | Y21: 12 | Z21: 336.67442 | AA21: 10.268733 | AB21: 0.3937131 | AC21: 12 | AD21: 23 | AE21: 0.70151116 | AF21: 0.46334399 | AG21: 15 | AH21: -21 | AI21: -0.64051019 | AJ21: 1.1410932 | AK21: 14 | AL21: 6 | AM21: 0.18300291 | AN21: 0.68049869 | AO21: 15 | AQ21: 0.47571942 | AR21: 0 | AS21: 1 | AT21: 0.34627305 | AU21: 0.11783471 | AV21: 12
... A27: 80 | B27: AUBE HAUTE MARNE | C27: 14 | D27: TROYES | E27: 28.21349 | F27: 0 | G27: 0 | H27: 0 | I27: 1 | J27: 250 | K27: 8.8610095 | L27: 0.42154232 | M27: 12 | N27: 13 | O27: 0.46077249 | P27: 0.699202 | Q27: 17 | R27: 110.6 | S27: 3.9201106 | T27: 0.89735322 | U27: 18 | V27: 21 | W27: 0.7443248 | X27: 0.70656394 | Y27: 17 | Z27: 286.48916 | AA27: 10.154332 | AB27: 0.40046754 | AC27: 13 | AD27: 32 | AE27: 1.1342092 | AF27: 0.13233 | AG27: 4 | AH27: -33 | AI27: -1.1696533 | AJ27: 1.3928899 | AK27: 17 | AL27: 6 | AM27: 0.21266423 | AN27: 0.62871356 | AO27: 13 | AQ27: 0.33410724 | AR27: 0.29768005 | AS27: 12 | AT27: 0.44933378 | AU27: 0.22089544 | AV27: 18
A28: Total CEGEE Directions Régionales | E28: =SUM(E10:E27) -> 465.59205

Sheet RECAP PDV
G1: 1 | H1: 2 | I1: 3 | J1: 4 | K1: 5 | L1: 6 | M1: 7 | N1: 8 | O1: 9 | P1: 10 | Q1: 11 | R1: 12 | S1: 13 | T1: 14 | U1: 15 | V1: 16 | W1: 17 | X1: 18 | Y1: 19 | Z1: 20 | AA1: 21 | AB1: 22 | AC1: 23 | AD1: 24 | AE1: 25 | AF1: 26 | AG1: 27 | AH1: 28 | AI1: 29 | AJ1: 30 | AK1: 31 | AL1: 32 | AM1: 33 | AN1: 34 | AO1: 35 | AP1: 36 | AQ1: 37 | AR1: 38 | AS1: 39 | AT1: 40 | AU1: 41 | AV1: 42 | AW1: 43 | AX1: 44
K2: CLIENTS | O2: BANCARISATION | W2: IARD PREV | AE2: CREDIT | AM2: ASSURANCE VIE
K3: Evolution nb clients Premium | O3: Ventes nettes produits pondérés (cartes 1er, Platinum, Infinite) | S3: Ventes sur Clients PREMIUM non détenteurs | W3: Ventes nettes produits pondérés (idem Gd Public) | AA3: Ventes sur Clients PREMIUM non détenteurs | AE3: Ventes nettes produits | AI3: Ventes sur Clients PREMIUM non détenteurs | AM3: Ventes nettes produits | AQ3: Ventes sur client non détenteur de l’univers | AU3: Taux d'UC Assurance Vie
M4: coef | N4: =COEF!$C$7 -> 0.3 | Q4: coef | R4: =COEF!$C$8 -> 0.1 | U4: coef | V4: =COEF!$C$9 -> 0.05 | Y4: coef | Z4: =COEF!$C$10 -> 0.1 | AC4: coef | AD4: =COEF!$C$11 -> 0.05 | AG4: coef | AH4: =COEF!$C$12 -> 0.1 | AK4: coef | AL4: =COEF!$C$13 -> 0.05 | AO4: coef | AP4: =COEF!$C$14 -> 0.1 | AS4: coef | AT4: =COEF!$C$15 -> 0.05 | AW4: coef | AX4: =COEF!$C$16 -> 0.1
A5: NO GROUPE | B5: groupe | C5: UC | D5: libelle uc | E5: EDS | F5: AGENCE | G5: EDS PDV | H5: POINT DE VENTE | I5: EDS PDV ORIGINE | J5: rech | K5: REAL | L5: REAL / ETP | M5: % Ecart au 1er | N5: Rang | O5: REAL | P5: REAL / ETP | Q5: % Ecart au 1er | R5: Rang | S5: REAL | T5: REAL / ETP | U5: % Ecart au 1er | V5: Rang | W5: REAL | X5: REAL / ETP | Y5: % Ecart au 1er | Z5: Rang | AA5: REAL | AB5: REAL / ETP | AC5: % Ecart au 1er | AD5: Rang | AE5: PNB | AF5: PNB / ETP | AG5: % Ecart au 1er | AH5: Rang | AI5: REAL | AJ5: REAL / ETP | AK5: % Ecart au 1er | AL5: Rang | AM5: REAL | AN5: REAL / ETP | AO5: % Ecart au 1er | AP5: Rang | AQ5: REAL | AR5: REAL / ETP | AS5: % Ecart au 1er | AT5: Rang | AU5: REAL | AV5: REAL | AW5: % Ecart au 1er | AX5: Rang
A6: 50 | B6: Aube Haute Marne | C6: 21 | D6: CHAUMONT | E6: 410560 | F6: BOURBONNE LES BAINS | G6: 10560 | H6: BOURBONNE LES BAINS | I6: 10560 | K6: =SUMIF(BAROMPREM!B:B,I6,BAROMPREM!AD:AD) -> 0 | O6: =SUMIF(BAROMPREM!B:B,I6,BAROMPREM!AM:AM) -> 10 | S6: =SUMIF(BAROMPREM!B:B,I6,BAROMPREM!Z:Z) -> 0 | W6: =SUMIF(BAROMPREM!B:B,I6,BAROMPREM!AN:AN) -> 66.8 | AA6: =SUMIF(BAROMPREM!B:B,I6,BAROMPREM!AB:AB) -> 2 | AE6: =SUMIF(PNBCREDIT!G:G,I6,PNBCREDIT!Q:Q)+SUMIF(PNBCREDIT!G:G,I6,PNBCREDIT!AF:AF) -> 0.01932984 | AI6: =SUMIF(BAROMPREM!B:B,I6,BAROMPREM!AC:AC) -> 0 | AM6: =SUMIF(BAROMPREM!B:B,I6,BAROMPREM!Y:Y) -> 3 | AQ6: =SUMIF(BAROMPREM!B:B,I6,BAROMPREM!AA:AA) -> 0 | AU6: =SUMIF(BAROMPREM!B:B,I6,BAROMPREM!AF:AF) -> 788.6 | AV6: =SUMIF(BAROMPREM!B:B,I6,BAROMPREM!AE:AE) -> 11806.3
A7: 50 | B7: Aube Haute Marne | C7: 21 | D7: CHAUMONT | E7: 410541 | F7: LANGRES | G7: 10558 | H7: CHALINDREY | I7: 10558 | K7: =SUMIF(BAROMPREM!B:B,I7,BAROMPREM!AD:AD) -> 0 | O7: =SUMIF(BAROMPREM!B:B,I7,BAROMPREM!AM:AM) -> 19 | S7: =SUMIF(BAROMPREM!B:B,I7,BAROMPREM!Z:Z) -> 4 | W7: =SUMIF(BAROMPREM!B:B,I7,BAROMPREM!AN:AN) -> 22.4 | AA7: =SUMIF(BAROMPREM!B:B,I7,BAROMPREM!AB:AB) -> 2 | AE7: =SUMIF(PNBCREDIT!G:G,I7,PNBCREDIT!Q:Q)+SUMIF(PNBCREDIT!G:G,I7,PNBCREDIT!AF:AF) -> 9.7419288 | AI7: =SUMIF(BAROMPREM!B:B,I7,BAROMPREM!AC:AC) -> 1 | AM7: =SUMIF(BAROMPREM!B:B,I7,BAROMPREM!Y:Y) -> 4 | AQ7: =SUMIF(BAROMPREM!B:B,I7,BAROMPREM!AA:AA) -> 0 | AU7: =SUMIF(BAROMPREM!B:B,I7,BAROMPREM!AF:AF) -> 12854 | AV7: =SUMIF(BAROMPREM!B:B,I7,BAROMPREM!AE:AE) -> 44450
A8: 50 | B8: Aube Haute Marne | C8: 21 | D8: CHAUMONT | E8: 410566 | F8: CHAUMONT HOTEL DE VILLE | G8: 10539 | H8: CHATEAUVILLAIN | I8: 10539 | K8: =SUMIF(BAROMPREM!B:B,I8,BAROMPREM!AD:AD) -> 0 | O8: =SUMIF(BAROMPREM!B:B,I8,BAROMPREM!AM:AM) -> 4 | S8: =SUMIF(BAROMPREM!B:B,I8,BAROMPREM!Z:Z) -> 0 | W8: =SUMIF(BAROMPREM!B:B,I8,BAROMPREM!AN:AN) -> 6.8 | AA8: =SUMIF(BAROMPREM!B:B,I8,BAROMPREM!AB:AB) -> 1 | AE8: =SUMIF(PNBCREDIT!G:G,I8,PNBCREDIT!Q:Q)+SUMIF(PNBCREDIT!G:G,I8,PNBCREDIT!AF:AF) -> 2.5197849 | AI8: =SUMIF(BAROMPREM!B:B,I8,BAROMPREM!AC:AC) -> 0 | AM8: =SUMIF(BAROMPREM!B:B,I8,BAROMPREM!Y:Y) -> -1 | AQ8: =SUMIF(BAROMPREM!B:B,I8,BAROMPREM!AA:AA) -> 0 | AU8: =SUMIF(BAROMPREM!B:B,I8,BAROMPREM!AF:AF) -> 705.3 | AV8: =SUMIF(BAROMPREM!B:B,I8,BAROMPREM!AE:AE) -> 1931.6
A9: 50 | B9: Aube Haute Marne | C9: 21 | D9: CHAUMONT | E9: 410566 | F9: CHAUMONT HOTEL DE VILLE | G9: 10566 | H9: CHAUMONT HOTEL DE VILLE | I9: 10566 | K9: =SUMIF(BAROMPREM!B:B,I9,BAROMPREM!AD:AD) -> 0 | O9: =SUMIF(BAROMPREM!B:B,I9,BAROMPREM!AM:AM) -> 44 | S9: =SUMIF(BAROMPREM!B:B,I9,BAROMPREM!Z:Z) -> 4 | W9: =SUMIF(BAROMPREM!B:B,I9,BAROMPREM!AN:AN) -> 88.4 | AA9: =SUMIF(BAROMPREM!B:B,I9,BAROMPREM!AB:AB) -> 5 | AE9: =SUMIF(PNBCREDIT!G:G,I9,PNBCREDIT!Q:Q)+SUMIF(PNBCREDIT!G:G,I9,PNBCREDIT!AF:AF) -> 24.381601 | AI9: =SUMIF(BAROMPREM!B:B,I9,BAROMPREM!AC:AC) -> 2 | AM9: =SUMIF(BAROMPREM!B:B,I9,BAROMPREM!Y:Y) -> 11 | AQ9: =SUMIF(BAROMPREM!B:B,I9,BAROMPREM!AA:AA) -> 1 | AU9: =SUMIF(BAROMPREM!B:B,I9,BAROMPREM!AF:AF) -> 44583.4 | AV9: =SUMIF(BAROMPREM!B:B,I9,BAROMPREM!AE:AE) -> 162485.2
A10: 50 | B10: Aube Haute Marne | C10: 21 | D10: CHAUMONT | E10: 510590 | F10: CHAUMONT REPUBLIQUE | G10: 10590 | H10: CHAUMONT REPUBLIQUE | I10: 10590 | K10: =SUMIF(BAROMPREM!B:B,I10,BAROMPREM!AD:AD) -> 0 | O10: =SUMIF(BAROMPREM!B:B,I10,BAROMPREM!AM:AM) -> 19 | S10: =SUMIF(BAROMPREM!B:B,I10,BAROMPREM!Z:Z) -> 2 | W10: =SUMIF(BAROMPREM!B:B,I10,BAROMPREM!AN:AN) -> 36.8 | AA10: =SUMIF(BAROMPREM!B:B,I10,BAROMPREM!AB:AB) -> 0 | AE10: =SUMIF(PNBCREDIT!G:G,I10,PNBCREDIT!Q:Q)+SUMIF(PNBCREDIT!G:G,I10,PNBCREDIT!AF:AF) -> 41.442513 | AI10: =SUMIF(BAROMPREM!B:B,I10,BAROMPREM!AC:AC) -> 1 | AM10: =SUMIF(BAROMPREM!B:B,I10,BAROMPREM!Y:Y) -> 1 | AQ10: =SUMIF(BAROMPREM!B:B,I10,BAROMPREM!AA:AA) -> 0 | AU10: =SUMIF(BAROMPREM!B:B,I10,BAROMPREM!AF:AF) -> 5530.2 | AV10: =SUMIF(BAROMPREM!B:B,I10,BAROMPREM!AE:AE) -> 7798.9
A11: 50 | B11: Aube Haute Marne | C11: 21 | D11: CHAUMONT | E11: 451154 | F11: JOINVILLE | G11: 51154 | H11: JOINVILLE | I11: 51154 | K11: =SUMIF(BAROMPREM!B:B,I11,BAROMPREM!AD:AD) -> 0 | O11: =SUMIF(BAROMPREM!B:B,I11,BAROMPREM!AM:AM) -> 7 | S11: =SUMIF(BAROMPREM!B:B,I11,BAROMPREM!Z:Z) -> 1 | W11: =SUMIF(BAROMPREM!B:B,I11,BAROMPREM!AN:AN) -> 34.4 | AA11: =SUMIF(BAROMPREM!B:B,I11,BAROMPREM!AB:AB) -> 0 | AE11: =SUMIF(PNBCREDIT!G:G,I11,PNBCREDIT!Q:Q)+SUMIF(PNBCREDIT!G:G,I11,PNBCREDIT!AF:AF) -> 4.4701301 | AI11: =SUMIF(BAROMPREM!B:B,I11,BAROMPREM!AC:AC) -> 0 | AM11: =SUMIF(BAROMPREM!B:B,I11,BAROMPREM!Y:Y) -> -1 | AQ11: =SUMIF(BAROMPREM!B:B,I11,BAROMPREM!AA:AA) -> 0 | AU11: =SUMIF(BAROMPREM!B:B,I11,BAROMPREM!AF:AF) -> 4744.4 | AV11: =SUMIF(BAROMPREM!B:B,I11,BAROMPREM!AE:AE) -> 15705.1
A12: 50 | B12: Aube Haute Marne | C12: 21 | D12: CHAUMONT | E12: 410541 | F12: LANGRES | G12: 10541 | H12: LANGRES | I12: 10541 | K12: =SUMIF(BAROMPREM!B:B,I12,BAROMPREM!AD:AD) -> 0 | O12: =SUMIF(BAROMPREM!B:B,I12,BAROMPREM!AM:AM) -> 29 | S12: =SUMIF(BAROMPREM!B:B,I12,BAROMPREM!Z:Z) -> 0 | W12: =SUMIF(BAROMPREM!B:B,I12,BAROMPREM!AN:AN) -> -9.6 | AA12: =SUMIF(BAROMPREM!B:B,I12,BAROMPREM!AB:AB) -> 2 | AE12: =SUMIF(PNBCREDIT!G:G,I12,PNBCREDIT!Q:Q)+SUMIF(PNBCREDIT!G:G,I12,PNBCREDIT!AF:AF) -> 23.136566 | AI12: =SUMIF(BAROMPREM!B:B,I12,BAROMPREM!AC:AC) -> 5 | AM12: =SUMIF(BAROMPREM!B:B,I12,BAROMPREM!Y:Y) -> 0 | AQ12: =SUMIF(BAROMPREM!B:B,I12,BAROMPREM!AA:AA) -> 0 | AU12: =SUMIF(BAROMPREM!B:B,I12,BAROMPREM!AF:AF) -> 134154.9 | AV12: =SUMIF(BAROMPREM!B:B,I12,BAROMPREM!AE:AE) -> 356702.3
A13: 50 | B13: Aube Haute Marne | C13: 21 | D13: CHAUMONT | E13: 510590 | F13: CHAUMONT REPUBLIQUE | G13: 10582 | H13: NOGENT EN BASSIGNY | I13: 10582 | K13: =SUMIF(BAROMPREM!B:B,I13,BAROMPREM!AD:AD) -> 0 | O13: =SUMIF(BAROMPREM!B:B,I13,BAROMPREM!AM:AM) -> 6 | S13: =SUMIF(BAROMPREM!B:B,I13,BAROMPREM!Z:Z) -> 0 | W13: =SUMIF(BAROMPREM!B:B,I13,BAROMPREM!AN:AN) -> 13.6 | AA13: =SUMIF(BAROMPREM!B:B,I13,BAROMPREM!AB:AB) -> 1 | AE13: =SUMIF(PNBCREDIT!G:G,I13,PNBCREDIT!Q:Q)+SUMIF(PNBCREDIT!G:G,I13,PNBCREDIT!AF:AF) -> 1.921665 | AI13: =SUMIF(BAROMPREM!B:B,I13,BAROMPREM!AC:AC) -> 0 | AM13: =SUMIF(BAROMPREM!B:B,I13,BAROMPREM!Y:Y) -> 0 | AQ13: =SUMIF(BAROMPREM!B:B,I13,BAROMPREM!AA:AA) -> 0 | AU13: =SUMIF(BAROMPREM!B:B,I13,BAROMPREM!AF:AF) -> 696.3 | AV13: =SUMIF(BAROMPREM!B:B,I13,BAROMPREM!AE:AE) -> 1125.8
A14: 50 | B14: Aube Haute Marne | C14: 21 | D14: CHAUMONT | E14: 451156 | F14: SAINT DIZIER CENTRE | G14: 51156 | H14: SAINT DIZIER CENTRE | I14: 51156 | K14: =SUMIF(BAROMPREM!B:B,I14,BAROMPREM!AD:AD) -> 0 | O14: =SUMIF(BAROMPREM!B:B,I14,BAROMPREM!AM:AM) -> 27 | S14: =SUMIF(BAROMPREM!B:B,I14,BAROMPREM!Z:Z) -> 4 | W14: =SUMIF(BAROMPREM!B:B,I14,BAROMPREM!AN:AN) -> 22 | AA14: =SUMIF(BAROMPREM!B:B,I14,BAROMPREM!AB:AB) -> 4 | AE14: =SUMIF(PNBCREDIT!G:G,I14,PNBCREDIT!Q:Q)+SUMIF(PNBCREDIT!G:G,I14,PNBCREDIT!AF:AF) -> 12.228171 | AI14: =SUMIF(BAROMPREM!B:B,I14,BAROMPREM!AC:AC) -> 2 | AM14: =SUMIF(BAROMPREM!B:B,I14,BAROMPREM!Y:Y) -> 0 | AQ14: =SUMIF(BAROMPREM!B:B,I14,BAROMPREM!AA:AA) -> 2 | AU14: =SUMIF(BAROMPREM!B:B,I14,BAROMPREM!AF:AF) -> 68875.7 | AV14: =SUMIF(BAROMPREM!B:B,I14,BAROMPREM!AE:AE) -> 136502.8
A15: 50 | B15: Aube Haute Marne | C15: 21 | D15: CHAUMONT | E15: 551157 | F15: SAINT DIZIER EUROPE | G15: 51157 | H15: SAINT DIZIER EUROPE | I15: 51157 | K15: =SUMIF(BAROMPREM!B:B,I15,BAROMPREM!AD:AD) -> 0 | O15: =SUMIF(BAROMPREM!B:B,I15,BAROMPREM!AM:AM) -> 11 | S15: =SUMIF(BAROMPREM!B:B,I15,BAROMPREM!Z:Z) -> 0 | W15: =SUMIF(BAROMPREM!B:B,I15,BAROMPREM!AN:AN) -> 22.4 | AA15: =SUMIF(BAROMPREM!B:B,I15,BAROMPREM!AB:AB) -> 2 | AE15: =SUMIF(PNBCREDIT!G:G,I15,PNBCREDIT!Q:Q)+SUMIF(PNBCREDIT!G:G,I15,PNBCREDIT!AF:AF) -> 3.6653491 | AI15: =SUMIF(BAROMPREM!B:B,I15,BAROMPREM!AC:AC) -> 1 | AM15: =SUMIF(BAROMPREM!B:B,I15,BAROMPREM!Y:Y) -> -5 | AQ15: =SUMIF(BAROMPREM!B:B,I15,BAROMPREM!AA:AA) -> 0 | AU15: =SUMIF(BAROMPREM!B:B,I15,BAROMPREM!AF:AF) -> 1534.5 | AV15: =SUMIF(BAROMPREM!B:B,I15,BAROMPREM!AE:AE) -> 4453.5
A16: 50 | B16: Aube Haute Marne | C16: 21 | D16: CHAUMONT | E16: 451151 | F16: WASSY | G16: 51151 | H16: WASSY | I16: 51151 | K16: =SUMIF(BAROMPREM!B:B,I16,BAROMPREM!AD:AD) -> 0 | O16: =SUMIF(BAROMPREM!B:B,I16,BAROMPREM!AM:AM) -> 14 | S16: =SUMIF(BAROMPREM!B:B,I16,BAROMPREM!Z:Z) -> 0 | W16: =SUMIF(BAROMPREM!B:B,I16,BAROMPREM!AN:AN) -> 34 | AA16: =SUMIF(BAROMPREM!B:B,I16,BAROMPREM!AB:AB) -> 0 | AE16: =SUMIF(PNBCREDIT!G:G,I16,PNBCREDIT!Q:Q)+SUMIF(PNBCREDIT!G:G,I16,PNBCREDIT!AF:AF) -> 8.0860474 | AI16: =SUMIF(BAROMPREM!B:B,I16,BAROMPREM!AC:AC) -> 3 | AM16: =SUMIF(BAROMPREM!B:B,I16,BAROMPREM!Y:Y) -> -2 | AQ16: =SUMIF(BAROMPREM!B:B,I16,BAROMPREM!AA:AA) -> 0 | AU16: =SUMIF(BAROMPREM!B:B,I16,BAROMPREM!AF:AF) -> 13032.2 | AV16: =SUMIF(BAROMPREM!B:B,I16,BAROMPREM!AE:AE) -> 43607.1
A17: 50 | B17: Aube Haute Marne | C17: 14 | D17: TROYES | E17: 510523 | F17: LA CHAPELLE ST LUC | G17: 10583 | H17: AIX EN OTHE | I17: 10583 | K17: =SUMIF(BAROMPREM!B:B,I17,BAROMPREM!AD:AD) -> 0 | O17: =SUMIF(BAROMPREM!B:B,I17,BAROMPREM!AM:AM) -> 12 | S17: =SUMIF(BAROMPREM!B:B,I17,BAROMPREM!Z:Z) -> 0 | W17: =SUMIF(BAROMPREM!B:B,I17,BAROMPREM!AN:AN) -> 2 | AA17: =SUMIF(BAROMPREM!B:B,I17,BAROMPREM!AB:AB) -> 0 | AE17: =SUMIF(PNBCREDIT!G:G,I17,PNBCREDIT!Q:Q)+SUMIF(PNBCREDIT!G:G,I17,PNBCREDIT!AF:AF) -> 0 | AI17: =SUMIF(BAROMPREM!B:B,I17,BAROMPREM!AC:AC) -> 0 | AM17: =SUMIF(BAROMPREM!B:B,I17,BAROMPREM!Y:Y) -> -3 | AQ17: =SUMIF(BAROMPREM!B:B,I17,BAROMPREM!AA:AA) -> 0 | AU17: =SUMIF(BAROMPREM!B:B,I17,BAROMPREM!AF:AF) -> 14 | AV17: =SUMIF(BAROMPREM!B:B,I17,BAROMPREM!AE:AE) -> 96.8
... A320: 269 | B320: Multimédia | C320: 5017 | D320: MON AGENCE | E320: 4017 | F320: Agence du personnel | G320: 17 | H320: Agence du personnel | I320: 17 | K320: =SUMIF(BAROMPREM!B:B,I320,BAROMPREM!AD:AD) -> 0 | O320: =SUMIF(BAROMPREM!B:B,I320,BAROMPREM!AM:AM) -> 16 | S320: =SUMIF(BAROMPREM!B:B,I320,BAROMPREM!Z:Z) -> 2 | W320: =SUMIF(BAROMPREM!B:B,I320,BAROMPREM!AN:AN) -> 152.2 | AA320: =SUMIF(BAROMPREM!B:B,I320,BAROMPREM!AB:AB) -> 19 | AE320: =SUMIF(PNBCREDIT!G:G,I320,PNBCREDIT!Q:Q)+SUMIF(PNBCREDIT!G:G,I320,PNBCREDIT!AF:AF) -> 57.524721 | AI320: =SUMIF(BAROMPREM!B:B,I320,BAROMPREM!AC:AC) -> 3 | AM320: =SUMIF(BAROMPREM!B:B,I320,BAROMPREM!Y:Y) -> 0 | AQ320: =SUMIF(BAROMPREM!B:B,I320,BAROMPREM!AA:AA) -> 0 | AU320: =SUMIF(BAROMPREM!B:B,I320,BAROMPREM!AF:AF) -> 6028.1 | AV320: =SUMIF(BAROMPREM!B:B,I320,BAROMPREM!AE:AE) -> 18708.4

Sheet RECAP AG
G1: 1 | H1: 2 | I1: 3 | J1: 4 | K1: 5 | L1: 6 | M1: 7 | N1: 8 | O1: 9 | P1: 10 | Q1: 11 | R1: 12 | S1: 13 | T1: 14 | U1: 15 | V1: 16 | W1: 17 | X1: 18 | Y1: 19 | Z1: 20 | AA1: 21 | AB1: 22 | AC1: 23 | AD1: 24 | AE1: 25 | AF1: 26 | AG1: 27 | AH1: 28 | AI1: 29 | AJ1: 30 | AK1: 31 | AL1: 32 | AM1: 33 | AN1: 34 | AO1: 35 | AP1: 36 | AQ1: 37 | AR1: 38 | AS1: 39 | AT1: 40 | AU1: 41 | AV1: 42 | AW1: 43 | AX1: 44
K2: CLIENTS | O2: BANCARISATION | W2: IARD PREV | AE2: CREDIT | AM2: ASSURANCE VIE
K3: Evolution nb clients Premium | O3: Ventes nettes produits pondérés (cartes 1er, Platinum, Infinite) | S3: Ventes sur Clients PREMIUM non détenteurs | W3: Ventes nettes produits pondérés (idem Gd Public) | AA3: Ventes sur Clients PREMIUM non détenteurs | AE3: Ventes nettes produits | AI3: Ventes sur Clients PREMIUM non détenteurs | AM3: Ventes nettes produits | AQ3: Ventes sur client non détenteur de l’univers | AU3: Taux d'UC Assurance Vie
K4: =MAX(L6:L278) -> 0 | M4: coef | N4: =COEF!C7 -> 0.3 | O4: =MAX(P6:P278) -> 15.333333 | Q4: coef | R4: =COEF!C8 -> 0.1 | S4: =MAX(T6:T278) -> 2.3576697 | U4: coef | V4: =COEF!C9 -> 0.05 | W4: =MAX(X6:X278) -> 67.633954 | Y4: coef | Z4: =COEF!C10 -> 0.1 | AA4: =MAX(AB6:AB278) -> 2.7282674 | AC4: coef | AD4: ='RECAP PDV'!AD4 -> 0.05 | AE4: =MAX(AF6:AF278) -> 25.762273 | AG4: coef | AH4: ='RECAP PDV'!AH4 -> 0.1 | AI4: =MAX(AJ6:AJ278) -> 1.7428688 | AK4: coef | AL4: ='RECAP PDV'!AL4 -> 0.05 | AM4: =MAX(AN6:AN278) -> 6.8917729 | AO4: coef | AP4: ='RECAP PDV'!AP4 -> 0.1 | AQ4: =MAX(AR6:AR278) -> 1.1424654 | AS4: coef | AT4: ='RECAP PDV'!AT4 -> 0.05 | AU4: =MAX(AV6:AV278) -> 178995.68 | AW4: coef | AX4: ='RECAP PDV'!AX4 -> 0.1
A5: PDV | C5: NO GROUPE | D5: groupe | E5: UC | F5: libelle uc | G5: EDS | H5: AGENCE | I5: ETP | K5: REAL | L5: REAL / ETP | M5: % Ecart au 1er | N5: Rang | O5: REAL | P5: REAL / ETP | Q5: % Ecart au 1er | R5: Rang | S5: REAL | T5: REAL / ETP | U5: % Ecart au 1er | V5: Rang | W5: REAL | X5: REAL / ETP | Y5: % Ecart au 1er | Z5: Rang | AA5: REAL | AB5: REAL / ETP | AC5: % Ecart au 1er | AD5: Rang | AE5: PNB | AF5: PNB / ETP | AG5: % Ecart au 1er | AH5: Rang | AI5: REAL | AJ5: REAL / ETP | AK5: % Ecart au 1er | AL5: Rang | AM5: REAL | AN5: REAL / ETP | AO5: % Ecart au 1er | AP5: Rang | AQ5: REAL | AR5: REAL / ETP | AS5: % Ecart au 1er | AT5: Rang | AU5: REAL | AV5: REAL | AW5: % Ecart au 1er | AX5: Rang
A6: 10560 | C6: 50 | D6: AUBE HAUTE MARNE | E6: 21 | F6: CHAUMONT | G6: 410560 | H6: BOURBONNE LES BAINS | I6: =VLOOKUP(G6,ETP!$J$11:$M$324,4,FALSE) -> 2 | K6: =SUMIF('RECAP PDV'!$E:$E,$G6,'RECAP PDV'!K:K) -> 0 | L6: =K6/$I6 -> 0 | M6: =IF(M$288="NON",(M$284-L6)/M$284,(M$284-L6)/M$286*M$282) -> #DIV/0! | N6: =RANK(M6,M$6:M$278,1) -> #DIV/0! | O6: =SUMIF('RECAP PDV'!$E:$E,$G6,'RECAP PDV'!O:O) -> 10 | P6: =O6/$I6 -> 5 | Q6: =IF(Q$288="NON",(Q$284-P6)/Q$284,(Q$284-P6)/Q$286*Q$282) -> 0.67391304 | R6: =RANK(Q6,Q$6:Q$278,1) -> 81 | S6: =SUMIF('RECAP PDV'!$E:$E,$G6,'RECAP PDV'!S:S) -> 0 | T6: =S6/$I6 -> 0 | U6: =IF(U$288="NON",(U$284-T6)/U$284,(U$284-T6)/U$286*U$282) -> 1 | V6: =RANK(U6,U$6:U$278,1) -> 181 | W6: =SUMIF('RECAP PDV'!$E:$E,$G6,'RECAP PDV'!W:W) -> 66.8 | X6: =W6/$I6 -> 33.4 | Y6: =IF(Y$288="NON",(Y$284-X6)/Y$284,(Y$284-X6)/Y$286*Y$282) -> 0.5061652 | Z6: =RANK(Y6,Y$6:Y$278,1) -> 2 | AA6: =SUMIF('RECAP PDV'!$E:$E,$G6,'RECAP PDV'!AA:AA) -> 2 | AB6: =AA6/$I6 -> 1 | AC6: =IF(AC$288="NON",(AC$284-AB6)/AC$284,(AC$284-AB6)/AC$286*AC$282) -> 0.63346702 | AD6: =RANK(AC6,AC$6:AC$278,1) -> 34 | AE6: =SUMIF('RECAP PDV'!$E:$E,$G6,'RECAP PDV'!AE:AE) -> 0.01932984 | AF6: =AE6/$I6 -> 0.00966492 | AG6: =IF(AG$288="NON",(AG$284-AF6)/AG$284,(AG$284-AF6)/AG$286*AG$282) -> 0.99962484 | AH6: =RANK(AG6,AG$6:AG$278,1) -> 263 | AI6: =SUMIF('RECAP PDV'!$E:$E,$G6,'RECAP PDV'!AI:AI) -> 0 | AJ6: =AI6/$I6 -> 0 | AK6: =IF(AK$288="NON",(AK$284-AJ6)/AK$284,(AK$284-AJ6)/AK$286*AK$282) -> 1 | AL6: =RANK(AK6,AK$6:AK$278,1) -> 204 | AM6: =SUMIF('RECAP PDV'!$E:$E,$G6,'RECAP PDV'!AM:AM) -> 3 | AN6: =AM6/$I6 -> 1.5 | AO6: =IF(AO$288="NON",(AO$284-AN6)/AO$284,(AO$284-AN6)/AO$286*AO$282) -> 0.74348875 | AP6: =RANK(AO6,AO$6:AO$278,1) -> 22 | AQ6: =SUMIF('RECAP PDV'!$E:$E,$G6,'RECAP PDV'!AQ:AQ) -> 0 | AR6: =AQ6/$I6 -> 0 | AS6: =IF(AS$288="NON",(AS$284-AR6)/AS$284,(AS$284-AR6)/AS$286*AS$282) -> 1 | AT6: =RANK(AS6,AS$6:AS$278,1) -> 85 | AU6: =SUMIF('RECAP PDV'!$E:$E,$G6,'RECAP PDV'!AU:AU) -> 788.6 | AV6: =SUMIF('RECAP PDV'!$E:$E,$G6,'RECAP PDV'!AV:AV) -> 11806.3 | AW6: =IF(AW$288="NON",(AW$284-AV6)/AW$284,(AW$284-AV6)/AW$286*AW$282) -> 0.93404142 | AX6: =RANK(AW6,AW$6:AW$278,1) -> 111
A7: 10566 | C7: 50 | D7: AUBE HAUTE MARNE | E7: 21 | F7: CHAUMONT | G7: 410566 | H7: CHAUMONT HOTEL DE VILLE | I7: =VLOOKUP(G7,ETP!$J$11:$M$324,4,FALSE) -> 7.9130435 | K7: =SUMIF('RECAP PDV'!$E:$E,$G7,'RECAP PDV'!K:K) -> 0 | L7: =K7/$I7 -> 0 | M7: =IF(M$288="NON",(M$284-L7)/M$284,(M$284-L7)/M$286*M$282) -> #DIV/0! | N7: =RANK(M7,M$6:M$278,1) -> #DIV/0! | O7: =SUMIF('RECAP PDV'!$E:$E,$G7,'RECAP PDV'!O:O) -> 48 | P7: =O7/$I7 -> 6.0659341 | Q7: =IF(Q$288="NON",(Q$284-P7)/Q$284,(Q$284-P7)/Q$286*Q$282) -> 0.6043956 | R7: =RANK(Q7,Q$6:Q$278,1) -> 53 | S7: =SUMIF('RECAP PDV'!$E:$E,$G7,'RECAP PDV'!S:S) -> 4 | T7: =S7/$I7 -> 0.50549451 | U7: =IF(U$288="NON",(U$284-T7)/U$284,(U$284-T7)/U$286*U$282) -> 0.78559571 | V7: =RANK(U7,U$6:U$278,1) -> 73 | W7: =SUMIF('RECAP PDV'!$E:$E,$G7,'RECAP PDV'!W:W) -> 95.2 | X7: =W7/$I7 -> 12.030769 | Y7: =IF(Y$288="NON",(Y$284-X7)/Y$284,(Y$284-X7)/Y$286*Y$282) -> 0.82211939 | Z7: =RANK(Y7,Y$6:Y$278,1) -> 47 | AA7: =SUMIF('RECAP PDV'!$E:$E,$G7,'RECAP PDV'!AA:AA) -> 6 | AB7: =AA7/$I7 -> 0.75824176 | AC7: =IF(AC$288="NON",(AC$284-AB7)/AC$284,(AC$284-AB7)/AC$286*AC$282) -> 0.72207939 | AD7: =RANK(AC7,AC$6:AC$278,1) -> 62 | AE7: =SUMIF('RECAP PDV'!$E:$E,$G7,'RECAP PDV'!AE:AE) -> 26.901386 | AF7: =AE7/$I7 -> 3.3996257 | AG7: =IF(AG$288="NON",(AG$284-AF7)/AG$284,(AG$284-AF7)/AG$286*AG$282) -> 0.86803859 | AH7: =RANK(AG7,AG$6:AG$278,1) -> 151 | AI7: =SUMIF('RECAP PDV'!$E:$E,$G7,'RECAP PDV'!AI:AI) -> 2 | AJ7: =AI7/$I7 -> 0.25274725 | AK7: =IF(AK$288="NON",(AK$284-AJ7)/AK$284,(AK$284-AJ7)/AK$286*AK$282) -> 0.85498205 | AL7: =RANK(AK7,AK$6:AK$278,1) -> 175 | AM7: =SUMIF('RECAP PDV'!$E:$E,$G7,'RECAP PDV'!AM:AM) -> 10 | AN7: =AM7/$I7 -> 1.2637363 | AO7: =IF(AO$288="NON",(AO$284-AN7)/AO$284,(AO$284-AN7)/AO$286*AO$282) -> 0.77606791 | AP7: =RANK(AO7,AO$6:AO$278,1) -> 34 | AQ7: =SUMIF('RECAP PDV'!$E:$E,$G7,'RECAP PDV'!AQ:AQ) -> 1 | AR7: =AQ7/$I7 -> 0.12637363 | AS7: =IF(AS$288="NON",(AS$284-AR7)/AS$284,(AS$284-AR7)/AS$286*AS$282) -> 0.88938516 | AT7: =RANK(AS7,AS$6:AS$278,1) -> 73 | AU7: =SUMIF('RECAP PDV'!$E:$E,$G7,'RECAP PDV'!AU:AU) -> 45288.7 | AV7: =AU7/$I7 -> 5723.2973 | AW7: =IF(AW$288="NON",(AW$284-AV7)/AW$284,(AW$284-AV7)/AW$286*AW$282) -> 0.9680255 | AX7: =RANK(AW7,AW$6:AW$278,1) -> 179
A8: 10590 | C8: 50 | D8: AUBE HAUTE MARNE | E8: 21 | F8: CHAUMONT | G8: 510590 | H8: CHAUMONT REPUBLIQUE | I8: =VLOOKUP(G8,ETP!$J$11:$M$324,4,FALSE) -> 3.9130435 | K8: =SUMIF('RECAP PDV'!$E:$E,$G8,'RECAP PDV'!K:K) -> 0 | L8: =K8/$I8 -> 0 | M8: =IF(M$288="NON",(M$284-L8)/M$284,(M$284-L8)/M$286*M$282) -> #DIV/0! | N8: =RANK(M8,M$6:M$278,1) -> #DIV/0! | O8: =SUMIF('RECAP PDV'!$E:$E,$G8,'RECAP PDV'!O:O) -> 25 | P8: =O8/$I8 -> 6.3888889 | Q8: =IF(Q$288="NON",(Q$284-P8)/Q$284,(Q$284-P8)/Q$286*Q$282) -> 0.58333333 | R8: =RANK(Q8,Q$6:Q$278,1) -> 45 | S8: =SUMIF('RECAP PDV'!$E:$E,$G8,'RECAP PDV'!S:S) -> 2 | T8: =S8/$I8 -> 0.51111111 | U8: =IF(U$288="NON",(U$284-T8)/U$284,(U$284-T8)/U$286*U$282) -> 0.78321344 | V8: =RANK(U8,U$6:U$278,1) -> 72 | W8: =SUMIF('RECAP PDV'!$E:$E,$G8,'RECAP PDV'!W:W) -> 50.4 | X8: =W8/$I8 -> 12.88 | Y8: =IF(Y$288="NON",(Y$284-X8)/Y$284,(Y$284-X8)/Y$286*Y$282) -> 0.80956311 | Z8: =RANK(Y8,Y$6:Y$278,1) -> 36 | AA8: =SUMIF('RECAP PDV'!$E:$E,$G8,'RECAP PDV'!AA:AA) -> 1 | AB8: =AA8/$I8 -> 0.25555556 | AC8: =IF(AC$288="NON",(AC$284-AB8)/AC$284,(AC$284-AB8)/AC$286*AC$282) -> 0.90633046 | AD8: =RANK(AC8,AC$6:AC$278,1) -> 193 | AE8: =SUMIF('RECAP PDV'!$E:$E,$G8,'RECAP PDV'!AE:AE) -> 43.364178 | AF8: =AE8/$I8 -> 11.081957 | AG8: =IF(AG$288="NON",(AG$284-AF8)/AG$284,(AG$284-AF8)/AG$286*AG$282) -> 0.56983778 | AH8: =RANK(AG8,AG$6:AG$278,1) -> 18 | AI8: =SUMIF('RECAP PDV'!$E:$E,$G8,'RECAP PDV'!AI:AI) -> 1 | AJ8: =AI8/$I8 -> 0.25555556 | AK8: =IF(AK$288="NON",(AK$284-AJ8)/AK$284,(AK$284-AJ8)/AK$286*AK$282) -> 0.85337074 | AL8: =RANK(AK8,AK$6:AK$278,1) -> 172 | AM8: =SUMIF('RECAP PDV'!$E:$E,$G8,'RECAP PDV'!AM:AM) -> 1 | AN8: =AM8/$I8 -> 0.25555556 | AO8: =IF(AO$288="NON",(AO$284-AN8)/AO$284,(AO$284-AN8)/AO$286*AO$282) -> 0.91508916 | AP8: =RANK(AO8,AO$6:AO$278,1) -> 122 | AQ8: =SUMIF('RECAP PDV'!$E:$E,$G8,'RECAP PDV'!AQ:AQ) -> 0 | AR8: =AQ8/$I8 -> 0 | AS8: =IF(AS$288="NON",(AS$284-AR8)/AS$284,(AS$284-AR8)/AS$286*AS$282) -> 1 | AT8: =RANK(AS8,AS$6:AS$278,1) -> 85 | AU8: =SUMIF('RECAP PDV'!$E:$E,$G8,'RECAP PDV'!AU:AU) -> 6226.5 | AV8: =AU8/$I8 -> 1591.2167 | AW8: =IF(AW$288="NON",(AW$284-AV8)/AW$284,(AW$284-AV8)/AW$286*AW$282) -> 0.99111031 | AX8: =RANK(AW8,AW$6:AW$278,1) -> 222
A9: 51154 | C9: 50 | D9: AUBE HAUTE MARNE | E9: 21 | F9: CHAUMONT | G9: 451154 | H9: JOINVILLE | I9: =VLOOKUP(G9,ETP!$J$11:$M$324,4,FALSE) -> 2 | K9: =SUMIF('RECAP PDV'!$E:$E,$G9,'RECAP PDV'!K:K) -> 0 | L9: =K9/$I9 -> 0 | M9: =IF(M$288="NON",(M$284-L9)/M$284,(M$284-L9)/M$286*M$282) -> #DIV/0! | N9: =RANK(M9,M$6:M$278,1) -> #DIV/0! | O9: =SUMIF('RECAP PDV'!$E:$E,$G9,'RECAP PDV'!O:O) -> 7 | P9: =O9/$I9 -> 3.5 | Q9: =IF(Q$288="NON",(Q$284-P9)/Q$284,(Q$284-P9)/Q$286*Q$282) -> 0.77173913 | R9: =RANK(Q9,Q$6:Q$278,1) -> 135 | S9: =SUMIF('RECAP PDV'!$E:$E,$G9,'RECAP PDV'!S:S) -> 1 | T9: =S9/$I9 -> 0.5 | U9: =IF(U$288="NON",(U$284-T9)/U$284,(U$284-T9)/U$286*U$282) -> 0.78792619 | V9: =RANK(U9,U$6:U$278,1) -> 75 | W9: =SUMIF('RECAP PDV'!$E:$E,$G9,'RECAP PDV'!W:W) -> 34.4 | X9: =W9/$I9 -> 17.2 | Y9: =IF(Y$288="NON",(Y$284-X9)/Y$284,(Y$284-X9)/Y$286*Y$282) -> 0.74568986 | Z9: =RANK(Y9,Y$6:Y$278,1) -> 14 | AA9: =SUMIF('RECAP PDV'!$E:$E,$G9,'RECAP PDV'!AA:AA) -> 0 | AB9: =AA9/$I9 -> 0 | AC9: =IF(AC$288="NON",(AC$284-AB9)/AC$284,(AC$284-AB9)/AC$286*AC$282) -> 1 | AD9: =RANK(AC9,AC$6:AC$278,1) -> 219 | AE9: =SUMIF('RECAP PDV'!$E:$E,$G9,'RECAP PDV'!AE:AE) -> 4.4701301 | AF9: =AE9/$I9 -> 2.2350651 | AG9: =IF(AG$288="NON",(AG$284-AF9)/AG$284,(AG$284-AF9)/AG$286*AG$282) -> 0.91324271 | AH9: =RANK(AG9,AG$6:AG$278,1) -> 187 | AI9: =SUMIF('RECAP PDV'!$E:$E,$G9,'RECAP PDV'!AI:AI) -> 0 | AJ9: =AI9/$I9 -> 0 | AK9: =IF(AK$288="NON",(AK$284-AJ9)/AK$284,(AK$284-AJ9)/AK$286*AK$282) -> 1 | AL9: =RANK(AK9,AK$6:AK$278,1) -> 204 | AM9: =SUMIF('RECAP PDV'!$E:$E,$G9,'RECAP PDV'!AM:AM) -> -1 | AN9: =AM9/$I9 -> -0.5 | AO9: =IF(AO$288="NON",(AO$284-AN9)/AO$284,(AO$284-AN9)/AO$286*AO$282) -> 1.0192751 | AP9: =RANK(AO9,AO$6:AO$278,1) -> 192 | AQ9: =SUMIF('RECAP PDV'!$E:$E,$G9,'RECAP PDV'!AQ:AQ) -> 0 | AR9: =AQ9/$I9 -> 0 | AS9: =IF(AS$288="NON",(AS$284-AR9)/AS$284,(AS$284-AR9)/AS$286*AS$282) -> 1 | AT9: =RANK(AS9,AS$6:AS$278,1) -> 85 | AU9: =SUMIF('RECAP PDV'!$E:$E,$G9,'RECAP PDV'!AU:AU) -> 4744.4 | AV9: =AU9/$I9 -> 2372.2 | AW9: =IF(AW$288="NON",(AW$284-AV9)/AW$284,(AW$284-AV9)/AW$286*AW$282) -> 0.98674717 | AX9: =RANK(AW9,AW$6:AW$278,1) -> 214
A10: 10541 | C10: 50 | D10: AUBE HAUTE MARNE | E10: 21 | F10: CHAUMONT | G10: 410541 | H10: LANGRES | I10: =VLOOKUP(G10,ETP!$J$11:$M$324,4,FALSE) -> 6.6950435 | K10: =SUMIF('RECAP PDV'!$E:$E,$G10,'RECAP PDV'!K:K) -> 0 | L10: =K10/$I10 -> 0 | M10: =IF(M$288="NON",(M$284-L10)/M$284,(M$284-L10)/M$286*M$282) -> #DIV/0! | N10: =RANK(M10,M$6:M$278,1) -> #DIV/0! | O10: =SUMIF('RECAP PDV'!$E:$E,$G10,'RECAP PDV'!O:O) -> 48 | P10: =O10/$I10 -> 7.1694829 | Q10: =IF(Q$288="NON",(Q$284-P10)/Q$284,(Q$284-P10)/Q$286*Q$282) -> 0.53242503 | R10: =RANK(Q10,Q$6:Q$278,1) -> 33 | S10: =SUMIF('RECAP PDV'!$E:$E,$G10,'RECAP PDV'!S:S) -> 4 | T10: =S10/$I10 -> 0.59745691 | U10: =IF(U$288="NON",(U$284-T10)/U$284,(U$284-T10)/U$286*U$282) -> 0.74659007 | V10: =RANK(U10,U$6:U$278,1) -> 54 | W10: =SUMIF('RECAP PDV'!$E:$E,$G10,'RECAP PDV'!W:W) -> 12.8 | X10: =W10/$I10 -> 1.9118621 | Y10: =IF(Y$288="NON",(Y$284-X10)/Y$284,(Y$284-X10)/Y$286*Y$282) -> 0.97173221 | Z10: =RANK(Y10,Y$6:Y$278,1) -> 195 | AA10: =SUMIF('RECAP PDV'!$E:$E,$G10,'RECAP PDV'!AA:AA) -> 4 | AB10: =AA10/$I10 -> 0.59745691 | AC10: =IF(AC$288="NON",(AC$284-AB10)/AC$284,(AC$284-AB10)/AC$286*AC$282) -> 0.78101234 | AD10: =RANK(AC10,AC$6:AC$278,1) -> 98 | AE10: =SUMIF('RECAP PDV'!$E:$E,$G10,'RECAP PDV'!AE:AE) -> 32.878495 | AF10: =AE10/$I10 -> 4.910871 | AG10: =IF(AG$288="NON",(AG$284-AF10)/AG$284,(AG$284-AF10)/AG$286*AG$282) -> 0.80937742 | AH10: =RANK(AG10,AG$6:AG$278,1) -> 110 | AI10: =SUMIF('RECAP PDV'!$E:$E,$G10,'RECAP PDV'!AI:AI) -> 6 | AJ10: =AI10/$I10 -> 0.89618537 | AK10: =IF(AK$288="NON",(AK$284-AJ10)/AK$284,(AK$284-AJ10)/AK$286*AK$282) -> 0.48579871 | AL10: =RANK(AK10,AK$6:AK$278,1) -> 16 | AM10: =SUMIF('RECAP PDV'!$E:$E,$G10,'RECAP PDV'!AM:AM) -> 4 | AN10: =AM10/$I10 -> 0.59745691 | AO10: =IF(AO$288="NON",(AO$284-AN10)/AO$284,(AO$284-AN10)/AO$286*AO$282) -> 0.8679433 | AP10: =RANK(AO10,AO$6:AO$278,1) -> 77 | AQ10: =SUMIF('RECAP PDV'!$E:$E,$G10,'RECAP PDV'!AQ:AQ) -> 0 | AR10: =AQ10/$I10 -> 0 | AS10: =IF(AS$288="NON",(AS$284-AR10)/AS$284,(AS$284-AR10)/AS$286*AS$282) -> 1 | AT10: =RANK(AS10,AS$6:AS$278,1) -> 85 | AU10: =SUMIF('RECAP PDV'!$E:$E,$G10,'RECAP PDV'!AU:AU) -> 147008.9 | AV10: =AU10/$I10 -> 21957.871 | AW10: =IF(AW$288="NON",(AW$284-AV10)/AW$284,(AW$284-AV10)/AW$286*AW$282) -> 0.87732737 | AX10: =RANK(AW10,AW$6:AW$278,1) -> 51
A11: 51156 | C11: 50 | D11: AUBE HAUTE MARNE | E11: 21 | F11: CHAUMONT | G11: 451156 | H11: SAINT DIZIER CENTRE | I11: =VLOOKUP(G11,ETP!$J$11:$M$324,4,FALSE) -> 7.7826087 | K11: =SUMIF('RECAP PDV'!$E:$E,$G11,'RECAP PDV'!K:K) -> 0 | L11: =K11/$I11 -> 0 | M11: =IF(M$288="NON",(M$284-L11)/M$284,(M$284-L11)/M$286*M$282) -> #DIV/0! | N11: =RANK(M11,M$6:M$278,1) -> #DIV/0! | O11: =SUMIF('RECAP PDV'!$E:$E,$G11,'RECAP PDV'!O:O) -> 27 | P11: =O11/$I11 -> 3.4692737 | Q11: =IF(Q$288="NON",(Q$284-P11)/Q$284,(Q$284-P11)/Q$286*Q$282) -> 0.77374302 | R11: =RANK(Q11,Q$6:Q$278,1) -> 139 | S11: =SUMIF('RECAP PDV'!$E:$E,$G11,'RECAP PDV'!S:S) -> 4 | T11: =S11/$I11 -> 0.51396648 | U11: =IF(U$288="NON",(U$284-T11)/U$284,(U$284-T11)/U$286*U$282) -> 0.78200234 | V11: =RANK(U11,U$6:U$278,1) -> 71 | W11: =SUMIF('RECAP PDV'!$E:$E,$G11,'RECAP PDV'!W:W) -> 22 | X11: =W11/$I11 -> 2.8268156 | Y11: =IF(Y$288="NON",(Y$284-X11)/Y$284,(Y$284-X11)/Y$286*Y$282) -> 0.95820419 | Z11: =RANK(Y11,Y$6:Y$278,1) -> 183 | AA11: =SUMIF('RECAP PDV'!$E:$E,$G11,'RECAP PDV'!AA:AA) -> 4 | AB11: =AA11/$I11 -> 0.51396648 | AC11: =IF(AC$288="NON",(AC$284-AB11)/AC$284,(AC$284-AB11)/AC$286*AC$282) -> 0.81161433 | AD11: =RANK(AC11,AC$6:AC$278,1) -> 113 | AE11: =SUMIF('RECAP PDV'!$E:$E,$G11,'RECAP PDV'!AE:AE) -> 12.228171 | AF11: =AE11/$I11 -> 1.5712175 | AG11: =IF(AG$288="NON",(AG$284-AF11)/AG$284,(AG$284-AF11)/AG$286*AG$282) -> 0.93901091 | AH11: =RANK(AG11,AG$6:AG$278,1) -> 212 | AI11: =SUMIF('RECAP PDV'!$E:$E,$G11,'RECAP PDV'!AI:AI) -> 2 | AJ11: =AI11/$I11 -> 0.25698324 | AK11: =IF(AK$288="NON",(AK$284-AJ11)/AK$284,(AK$284-AJ11)/AK$286*AK$282) -> 0.85255158 | AL11: =RANK(AK11,AK$6:AK$278,1) -> 171 | AM11: =SUMIF('RECAP PDV'!$E:$E,$G11,'RECAP PDV'!AM:AM) -> 0 | AN11: =AM11/$I11 -> 0 | AO11: =IF(AO$288="NON",(AO$284-AN11)/AO$284,(AO$284-AN11)/AO$286*AO$282) -> 0.95032853 | AP11: =RANK(AO11,AO$6:AO$278,1) -> 133 | AQ11: =SUMIF('RECAP PDV'!$E:$E,$G11,'RECAP PDV'!AQ:AQ) -> 2 | AR11: =AQ11/$I11 -> 0.25698324 | AS11: =IF(AS$288="NON",(AS$284-AR11)/AS$284,(AS$284-AR11)/AS$286*AS$282) -> 0.77506257 | AT11: =RANK(AS11,AS$6:AS$278,1) -> 39 | AU11: =SUMIF('RECAP PDV'!$E:$E,$G11,'RECAP PDV'!AU:AU) -> 68875.7 | AV11: =AU11/$I11 -> 8849.9503 | AW11: =IF(AW$288="NON",(AW$284-AV11)/AW$284,(AW$284-AV11)/AW$286*AW$282) -> 0.95055774 | AX11: =RANK(AW11,AW$6:AW$278,1) -> 148
A12: 51157 | C12: 50 | D12: AUBE HAUTE MARNE | E12: 21 | F12: CHAUMONT | G12: 551157 | H12: SAINT DIZIER EUROPE | I12: =VLOOKUP(G12,ETP!$J$11:$M$324,4,FALSE) -> 2.8754 | K12: =SUMIF('RECAP PDV'!$E:$E,$G12,'RECAP PDV'!K:K) -> 0 | L12: =K12/$I12 -> 0 | M12: =IF(M$288="NON",(M$284-L12)/M$284,(M$284-L12)/M$286*M$282) -> #DIV/0! | N12: =RANK(M12,M$6:M$278,1) -> #DIV/0! | O12: =SUMIF('RECAP PDV'!$E:$E,$G12,'RECAP PDV'!O:O) -> 11 | P12: =O12/$I12 -> 3.8255547 | Q12: =IF(Q$288="NON",(Q$284-P12)/Q$284,(Q$284-P12)/Q$286*Q$282) -> 0.7505073 | R12: =RANK(Q12,Q$6:Q$278,1) -> 120 | S12: =SUMIF('RECAP PDV'!$E:$E,$G12,'RECAP PDV'!S:S) -> 0 | T12: =S12/$I12 -> 0 | U12: =IF(U$288="NON",(U$284-T12)/U$284,(U$284-T12)/U$286*U$282) -> 1 | V12: =RANK(U12,U$6:U$278,1) -> 181 | W12: =SUMIF('RECAP PDV'!$E:$E,$G12,'RECAP PDV'!W:W) -> 22.4 | X12: =W12/$I12 -> 7.7902205 | Y12: =IF(Y$288="NON",(Y$284-X12)/Y$284,(Y$284-X12)/Y$286*Y$282) -> 0.88481791 | Z12: =RANK(Y12,Y$6:Y$278,1) -> 98 | AA12: =SUMIF('RECAP PDV'!$E:$E,$G12,'RECAP PDV'!AA:AA) -> 2 | AB12: =AA12/$I12 -> 0.6955554 | AC12: =IF(AC$288="NON",(AC$284-AB12)/AC$284,(AC$284-AB12)/AC$286*AC$282) -> 0.74505601 | AD12: =RANK(AC12,AC$6:AC$278,1) -> 81 | AE12: =SUMIF('RECAP PDV'!$E:$E,$G12,'RECAP PDV'!AE:AE) -> 3.6653491 | AF12: =AE12/$I12 -> 1.2747267 | AG12: =IF(AG$288="NON",(AG$284-AF12)/AG$284,(AG$284-AF12)/AG$286*AG$282) -> 0.95051963 | AH12: =RANK(AG12,AG$6:AG$278,1) -> 225 | AI12: =SUMIF('RECAP PDV'!$E:$E,$G12,'RECAP PDV'!AI:AI) -> 1 | AJ12: =AI12/$I12 -> 0.3477777 | AK12: =IF(AK$288="NON",(AK$284-AJ12)/AK$284,(AK$284-AJ12)/AK$286*AK$282) -> 0.80045675 | AL12: =RANK(AK12,AK$6:AK$278,1) -> 128 | AM12: =SUMIF('RECAP PDV'!$E:$E,$G12,'RECAP PDV'!AM:AM) -> -5 | AN12: =AM12/$I12 -> -1.7388885 | AO12: =IF(AO$288="NON",(AO$284-AN12)/AO$284,(AO$284-AN12)/AO$286*AO$282) -> 1.1901094 | AP12: =RANK(AO12,AO$6:AO$278,1) -> 255 | AQ12: =SUMIF('RECAP PDV'!$E:$E,$G12,'RECAP PDV'!AQ:AQ) -> 0 | AR12: =AQ12/$I12 -> 0 | AS12: =IF(AS$288="NON",(AS$284-AR12)/AS$284,(AS$284-AR12)/AS$286*AS$282) -> 1 | AT12: =RANK(AS12,AS$6:AS$278,1) -> 85 | AU12: =SUMIF('RECAP PDV'!$E:$E,$G12,'RECAP PDV'!AU:AU) -> 1534.5 | AV12: =AU12/$I12 -> 533.66488 | AW12: =IF(AW$288="NON",(AW$284-AV12)/AW$284,(AW$284-AV12)/AW$286*AW$282) -> 0.99701856 | AX12: =RANK(AW12,AW$6:AW$278,1) -> 235
A13: 51151 | C13: 50 | D13: AUBE HAUTE MARNE | E13: 21 | F13: CHAUMONT | G13: 451151 | H13: WASSY | I13: =VLOOKUP(G13,ETP!$J$11:$M$324,4,FALSE) -> 3 | K13: =SUMIF('RECAP PDV'!$E:$E,$G13,'RECAP PDV'!K:K) -> 0 | L13: =K13/$I13 -> 0 | M13: =IF(M$288="NON",(M$284-L13)/M$284,(M$284-L13)/M$286*M$282) -> #DIV/0! | N13: =RANK(M13,M$6:M$278,1) -> #DIV/0! | O13: =SUMIF('RECAP PDV'!$E:$E,$G13,'RECAP PDV'!O:O) -> 14 | P13: =O13/$I13 -> 4.6666667 | Q13: =IF(Q$288="NON",(Q$284-P13)/Q$284,(Q$284-P13)/Q$286*Q$282) -> 0.69565217 | R13: =RANK(Q13,Q$6:Q$278,1) -> 92 | S13: =SUMIF('RECAP PDV'!$E:$E,$G13,'RECAP PDV'!S:S) -> 0 | T13: =S13/$I13 -> 0 | U13: =IF(U$288="NON",(U$284-T13)/U$284,(U$284-T13)/U$286*U$282) -> 1 | V13: =RANK(U13,U$6:U$278,1) -> 181 | W13: =SUMIF('RECAP PDV'!$E:$E,$G13,'RECAP PDV'!W:W) -> 34 | X13: =W13/$I13 -> 11.333333 | Y13: =IF(Y$288="NON",(Y$284-X13)/Y$284,(Y$284-X13)/Y$286*Y$282) -> 0.83243131 | Z13: =RANK(Y13,Y$6:Y$278,1) -> 54 | AA13: =SUMIF('RECAP PDV'!$E:$E,$G13,'RECAP PDV'!AA:AA) -> 0 | AB13: =AA13/$I13 -> 0 | AC13: =IF(AC$288="NON",(AC$284-AB13)/AC$284,(AC$284-AB13)/AC$286*AC$282) -> 1 | AD13: =RANK(AC13,AC$6:AC$278,1) -> 219 | AE13: =SUMIF('RECAP PDV'!$E:$E,$G13,'RECAP PDV'!AE:AE) -> 8.0860474 | AF13: =AE13/$I13 -> 2.6953491 | AG13: =IF(AG$288="NON",(AG$284-AF13)/AG$284,(AG$284-AF13)/AG$286*AG$282) -> 0.89537611 | AH13: =RANK(AG13,AG$6:AG$278,1) -> 171 | AI13: =SUMIF('RECAP PDV'!$E:$E,$G13,'RECAP PDV'!AI:AI) -> 3 | AJ13: =AI13/$I13 -> 1 | AK13: =IF(AK$288="NON",(AK$284-AJ13)/AK$284,(AK$284-AJ13)/AK$286*AK$282) -> 0.42623333 | AL13: =RANK(AK13,AK$6:AK$278,1) -> 12 | AM13: =SUMIF('RECAP PDV'!$E:$E,$G13,'RECAP PDV'!AM:AM) -> -2 | AN13: =AM13/$I13 -> -0.66666667 | AO13: =IF(AO$288="NON",(AO$284-AN13)/AO$284,(AO$284-AN13)/AO$286*AO$282) -> 1.0422573 | AP13: =RANK(AO13,AO$6:AO$278,1) -> 198 | AQ13: =SUMIF('RECAP PDV'!$E:$E,$G13,'RECAP PDV'!AQ:AQ) -> 0 | AR13: =AQ13/$I13 -> 0 | AS13: =IF(AS$288="NON",(AS$284-AR13)/AS$284,(AS$284-AR13)/AS$286*AS$282) -> 1 | AT13: =RANK(AS13,AS$6:AS$278,1) -> 85 | AU13: =SUMIF('RECAP PDV'!$E:$E,$G13,'RECAP PDV'!AU:AU) -> 13032.2 | AV13: =AU13/$I13 -> 4344.0667 | AW13: =IF(AW$288="NON",(AW$284-AV13)/AW$284,(AW$284-AV13)/AW$286*AW$282) -> 0.97573089 | AX13: =RANK(AW13,AW$6:AW$278,1) -> 195
A14: 10530 | C14: 50 | D14: AUBE HAUTE MARNE | E14: 14 | F14: TROYES | G14: 510530 | H14: ARCIS SUR AUBE | I14: =VLOOKUP(G14,ETP!$J$11:$M$324,4,FALSE) -> 3.5652174 | K14: =SUMIF('RECAP PDV'!$E:$E,$G14,'RECAP PDV'!K:K) -> 0 | L14: =K14/$I14 -> 0 | M14: =IF(M$288="NON",(M$284-L14)/M$284,(M$284-L14)/M$286*M$282) -> #DIV/0! | N14: =RANK(M14,M$6:M$278,1) -> #DIV/0! | O14: =SUMIF('RECAP PDV'!$E:$E,$G14,'RECAP PDV'!O:O) -> 18 | P14: =O14/$I14 -> 5.0487805 | Q14: =IF(Q$288="NON",(Q$284-P14)/Q$284,(Q$284-P14)/Q$286*Q$282) -> 0.67073171 | R14: =RANK(Q14,Q$6:Q$278,1) -> 80 | S14: =SUMIF('RECAP PDV'!$E:$E,$G14,'RECAP PDV'!S:S) -> 1 | T14: =S14/$I14 -> 0.2804878 | U14: =IF(U$288="NON",(U$284-T14)/U$284,(U$284-T14)/U$286*U$282) -> 0.88103177 | V14: =RANK(U14,U$6:U$278,1) -> 140 | W14: =SUMIF('RECAP PDV'!$E:$E,$G14,'RECAP PDV'!W:W) -> 11.6 | X14: =W14/$I14 -> 3.2536585 | Y14: =IF(Y$288="NON",(Y$284-X14)/Y$284,(Y$284-X14)/Y$286*Y$282) -> 0.95189312 | Z14: =RANK(Y14,Y$6:Y$278,1) -> 174 | AA14: =SUMIF('RECAP PDV'!$E:$E,$G14,'RECAP PDV'!AA:AA) -> 0 | AB14: =AA14/$I14 -> 0 | AC14: =IF(AC$288="NON",(AC$284-AB14)/AC$284,(AC$284-AB14)/AC$286*AC$282) -> 1 | AD14: =RANK(AC14,AC$6:AC$278,1) -> 219 | AE14: =SUMIF('RECAP PDV'!$E:$E,$G14,'RECAP PDV'!AE:AE) -> 6.2483641 | AF14: =AE14/$I14 -> 1.7525899 | AG14: =IF(AG$288="NON",(AG$284-AF14)/AG$284,(AG$284-AF14)/AG$286*AG$282) -> 0.93197068 | AH14: =RANK(AG14,AG$6:AG$278,1) -> 202 | AI14: =SUMIF('RECAP PDV'!$E:$E,$G14,'RECAP PDV'!AI:AI) -> 1 | AJ14: =AI14/$I14 -> 0.2804878 | AK14: =IF(AK$288="NON",(AK$284-AJ14)/AK$284,(AK$284-AJ14)/AK$286*AK$282) -> 0.83906545 | AL14: =RANK(AK14,AK$6:AK$278,1) -> 161 | AM14: =SUMIF('RECAP PDV'!$E:$E,$G14,'RECAP PDV'!AM:AM) -> 0 | AN14: =AM14/$I14 -> 0 | AO14: =IF(AO$288="NON",(AO$284-AN14)/AO$284,(AO$284-AN14)/AO$286*AO$282) -> 0.95032853 | AP14: =RANK(AO14,AO$6:AO$278,1) -> 133 | AQ14: =SUMIF('RECAP PDV'!$E:$E,$G14,'RECAP PDV'!AQ:AQ) -> 0 | AR14: =AQ14/$I14 -> 0 | AS14: =IF(AS$288="NON",(AS$284-AR14)/AS$284,(AS$284-AR14)/AS$286*AS$282) -> 1 | AT14: =RANK(AS14,AS$6:AS$278,1) -> 85 | AU14: =SUMIF('RECAP PDV'!$E:$E,$G14,'RECAP PDV'!AU:AU) -> 91877 | AV14: =AU14/$I14 -> 25770.378 | AW14: =IF(AW$288="NON",(AW$284-AV14)/AW$284,(AW$284-AV14)/AW$286*AW$282) -> 0.85602793 | AX14: =RANK(AW14,AW$6:AW$278,1) -> 41
A15: 10550 | C15: 50 | D15: AUBE HAUTE MARNE | E15: 14 | F15: TROYES | G15: 410550 | H15: BAR SUR AUBE | I15: =VLOOKUP(G15,ETP!$J$11:$M$324,4,FALSE) -> 5.4347826 | K15: =SUMIF('RECAP PDV'!$E:$E,$G15,'RECAP PDV'!K:K) -> 0 | L15: =K15/$I15 -> 0 | M15: =IF(M$288="NON",(M$284-L15)/M$284,(M$284-L15)/M$286*M$282) -> #DIV/0! | N15: =RANK(M15,M$6:M$278,1) -> #DIV/0! | O15: =SUMIF('RECAP PDV'!$E:$E,$G15,'RECAP PDV'!O:O) -> 41 | P15: =O15/$I15 -> 7.544 | Q15: =IF(Q$288="NON",(Q$284-P15)/Q$284,(Q$284-P15)/Q$286*Q$282) -> 0.508 | R15: =RANK(Q15,Q$6:Q$278,1) -> 27 | S15: =SUMIF('RECAP PDV'!$E:$E,$G15,'RECAP PDV'!S:S) -> 1 | T15: =S15/$I15 -> 0.184 | U15: =IF(U$288="NON",(U$284-T15)/U$284,(U$284-T15)/U$286*U$282) -> 0.92195684 | V15: =RANK(U15,U$6:U$278,1) -> 168 | W15: =SUMIF('RECAP PDV'!$E:$E,$G15,'RECAP PDV'!W:W) -> 8 | X15: =W15/$I15 -> 1.472 | Y15: =IF(Y$288="NON",(Y$284-X15)/Y$284,(Y$284-X15)/Y$286*Y$282) -> 0.97823578 | Z15: =RANK(Y15,Y$6:Y$278,1) -> 208 | AA15: =SUMIF('RECAP PDV'!$E:$E,$G15,'RECAP PDV'!AA:AA) -> 1 | AB15: =AA15/$I15 -> 0.184 | AC15: =IF(AC$288="NON",(AC$284-AB15)/AC$284,(AC$284-AB15)/AC$286*AC$282) -> 0.93255793 | AD15: =RANK(AC15,AC$6:AC$278,1) -> 208 | AE15: =SUMIF('RECAP PDV'!$E:$E,$G15,'RECAP PDV'!AE:AE) -> 28.069369 | AF15: =AE15/$I15 -> 5.1647638 | AG15: =IF(AG$288="NON",(AG$284-AF15)/AG$284,(AG$284-AF15)/AG$286*AG$282) -> 0.7995222 | AH15: =RANK(AG15,AG$6:AG$278,1) -> 101 | AI15: =SUMIF('RECAP PDV'!$E:$E,$G15,'RECAP PDV'!AI:AI) -> 2 | AJ15: =AI15/$I15 -> 0.368 | AK15: =IF(AK$288="NON",(AK$284-AJ15)/AK$284,(AK$284-AJ15)/AK$286*AK$282) -> 0.78885387 | AL15: =RANK(AK15,AK$6:AK$278,1) -> 114 | AM15: =SUMIF('RECAP PDV'!$E:$E,$G15,'RECAP PDV'!AM:AM) -> 1 | AN15: =AM15/$I15 -> 0.184 | AO15: =IF(AO$288="NON",(AO$284-AN15)/AO$284,(AO$284-AN15)/AO$286*AO$282) -> 0.92495619 | AP15: =RANK(AO15,AO$6:AO$278,1) -> 131 | AQ15: =SUMIF('RECAP PDV'!$E:$E,$G15,'RECAP PDV'!AQ:AQ) -> 0 | AR15: =AQ15/$I15 -> 0 | AS15: =IF(AS$288="NON",(AS$284-AR15)/AS$284,(AS$284-AR15)/AS$286*AS$282) -> 1 | AT15: =RANK(AS15,AS$6:AS$278,1) -> 85 | AU15: =SUMIF('RECAP PDV'!$E:$E,$G15,'RECAP PDV'!AU:AU) -> 12543.8 | AV15: =AU15/$I15 -> 2308.0592 | AW15: =IF(AW$288="NON",(AW$284-AV15)/AW$284,(AW$284-AV15)/AW$286*AW$282) -> 0.9871055 | AX15: =RANK(AW15,AW$6:AW$278,1) -> 215
A16: 10556 | C16: 50 | D16: AUBE HAUTE MARNE | E16: 14 | F16: TROYES | G16: 510556 | H16: BAR SUR SEINE | I16: =VLOOKUP(G16,ETP!$J$11:$M$324,4,FALSE) -> 3.748 | K16: =SUMIF('RECAP PDV'!$E:$E,$G16,'RECAP PDV'!K:K) -> 0 | L16: =K16/$I16 -> 0 | M16: =IF(M$288="NON",(M$284-L16)/M$284,(M$284-L16)/M$286*M$282) -> #DIV/0! | N16: =RANK(M16,M$6:M$278,1) -> #DIV/0! | O16: =SUMIF('RECAP PDV'!$E:$E,$G16,'RECAP PDV'!O:O) -> 25 | P16: =O16/$I16 -> 6.6702241 | Q16: =IF(Q$288="NON",(Q$284-P16)/Q$284,(Q$284-P16)/Q$286*Q$282) -> 0.56498538 | R16: =RANK(Q16,Q$6:Q$278,1) -> 40 | S16: =SUMIF('RECAP PDV'!$E:$E,$G16,'RECAP PDV'!S:S) -> 0 | T16: =S16/$I16 -> 0 | U16: =IF(U$288="NON",(U$284-T16)/U$284,(U$284-T16)/U$286*U$282) -> 1 | V16: =RANK(U16,U$6:U$278,1) -> 181 | W16: =SUMIF('RECAP PDV'!$E:$E,$G16,'RECAP PDV'!W:W) -> -13.6 | X16: =W16/$I16 -> -3.6286019 | Y16: =IF(Y$288="NON",(Y$284-X16)/Y$284,(Y$284-X16)/Y$286*Y$282) -> 1.0536506 | Z16: =RANK(Y16,Y$6:Y$278,1) -> 262 | AA16: =SUMIF('RECAP PDV'!$E:$E,$G16,'RECAP PDV'!AA:AA) -> 0 | AB16: =AA16/$I16 -> 0 | AC16: =IF(AC$288="NON",(AC$284-AB16)/AC$284,(AC$284-AB16)/AC$286*AC$282) -> 1 | AD16: =RANK(AC16,AC$6:AC$278,1) -> 219 | AE16: =SUMIF('RECAP PDV'!$E:$E,$G16,'RECAP PDV'!AE:AE) -> 21.431666 | AF16: =AE16/$I16 -> 5.7181605 | AG16: =IF(AG$288="NON",(AG$284-AF16)/AG$284,(AG$284-AF16)/AG$286*AG$282) -> 0.7780413 | AH16: =RANK(AG16,AG$6:AG$278,1) -> 88 | AI16: =SUMIF('RECAP PDV'!$E:$E,$G16,'RECAP PDV'!AI:AI) -> 4 | AJ16: =AI16/$I16 -> 1.0672359 | AK16: =IF(AK$288="NON",(AK$284-AJ16)/AK$284,(AK$284-AJ16)/AK$286*AK$282) -> 0.38765564 | AL16: =RANK(AK16,AK$6:AK$278,1) -> 9 | AM16: =SUMIF('RECAP PDV'!$E:$E,$G16,'RECAP PDV'!AM:AM) -> 0 | AN16: =AM16/$I16 -> 0 | AO16: =IF(AO$288="NON",(AO$284-AN16)/AO$284,(AO$284-AN16)/AO$286*AO$282) -> 0.95032853 | AP16: =RANK(AO16,AO$6:AO$278,1) -> 133 | AQ16: =SUMIF('RECAP PDV'!$E:$E,$G16,'RECAP PDV'!AQ:AQ) -> 0 | AR16: =AQ16/$I16 -> 0 | AS16: =IF(AS$288="NON",(AS$284-AR16)/AS$284,(AS$284-AR16)/AS$286*AS$282) -> 1 | AT16: =RANK(AS16,AS$6:AS$278,1) -> 85 | AU16: =SUMIF('RECAP PDV'!$E:$E,$G16,'RECAP PDV'!AU:AU) -> 34606.2 | AV16: =AU16/$I16 -> 9233.2444 | AW16: =IF(AW$288="NON",(AW$284-AV16)/AW$284,(AW$284-AV16)/AW$286*AW$282) -> 0.94841638 | AX16: =RANK(AW16,AW$6:AW$278,1) -> 141
A17: 10523 | C17: 50 | D17: AUBE HAUTE MARNE | E17: 14 | F17: TROYES | G17: 510523 | H17: LA CHAPELLE ST LUC | I17: =VLOOKUP(G17,ETP!$J$11:$M$324,4,FALSE) -> 5.6642087 | K17: =SUMIF('RECAP PDV'!$E:$E,$G17,'RECAP PDV'!K:K) -> 0 | L17: =K17/$I17 -> 0 | M17: =IF(M$288="NON",(M$284-L17)/M$284,(M$284-L17)/M$286*M$282) -> #DIV/0! | N17: =RANK(M17,M$6:M$278,1) -> #DIV/0! | O17: =SUMIF('RECAP PDV'!$E:$E,$G17,'RECAP PDV'!O:O) -> 35 | P17: =O17/$I17 -> 6.1791509 | Q17: =IF(Q$288="NON",(Q$284-P17)/Q$284,(Q$284-P17)/Q$286*Q$282) -> 0.5970119 | R17: =RANK(Q17,Q$6:Q$278,1) -> 51 | S17: =SUMIF('RECAP PDV'!$E:$E,$G17,'RECAP PDV'!S:S) -> 3 | T17: =S17/$I17 -> 0.5296415 | U17: =IF(U$288="NON",(U$284-T17)/U$284,(U$284-T17)/U$286*U$282) -> 0.77535382 | V17: =RANK(U17,U$6:U$278,1) -> 66 | W17: =SUMIF('RECAP PDV'!$E:$E,$G17,'RECAP PDV'!W:W) -> -19.6 | X17: =W17/$I17 -> -3.4603245 | Y17: =IF(Y$288="NON",(Y$284-X17)/Y$284,(Y$284-X17)/Y$286*Y$282) -> 1.0511625 | Z17: =RANK(Y17,Y$6:Y$278,1) -> 261 | AA17: =SUMIF('RECAP PDV'!$E:$E,$G17,'RECAP PDV'!AA:AA) -> 1 | AB17: =AA17/$I17 -> 0.17654717 | AC17: =IF(AC$288="NON",(AC$284-AB17)/AC$284,(AC$284-AB17)/AC$286*AC$282) -> 0.93528964 | AD17: =RANK(AC17,AC$6:AC$278,1) -> 210 | AE17: =SUMIF('RECAP PDV'!$E:$E,$G17,'RECAP PDV'!AE:AE) -> 28.37516 | AF17: =AE17/$I17 -> 5.009554 | AG17: =IF(AG$288="NON",(AG$284-AF17)/AG$284,(AG$284-AF17)/AG$286*AG$282) -> 0.80554689 | AH17: =RANK(AG17,AG$6:AG$278,1) -> 106 | AI17: =SUMIF('RECAP PDV'!$E:$E,$G17,'RECAP PDV'!AI:AI) -> 2 | AJ17: =AI17/$I17 -> 0.35309433 | AK17: =IF(AK$288="NON",(AK$284-AJ17)/AK$284,(AK$284-AJ17)/AK$286*AK$282) -> 0.79740624 | AL17: =RANK(AK17,AK$6:AK$278,1) -> 124 | AM17: =SUMIF('RECAP PDV'!$E:$E,$G17,'RECAP PDV'!AM:AM) -> -5 | AN17: =AM17/$I17 -> -0.88273584 | AO17: =IF(AO$288="NON",(AO$284-AN17)/AO$284,(AO$284-AN17)/AO$286*AO$282) -> 1.0720518 | AP17: =RANK(AO17,AO$6:AO$278,1) -> 217 | AQ17: =SUMIF('RECAP PDV'!$E:$E,$G17,'RECAP PDV'!AQ:AQ) -> 1 | AR17: =AQ17/$I17 -> 0.17654717 | AS17: =IF(AS$288="NON",(AS$284-AR17)/AS$284,(AS$284-AR17)/AS$286*AS$282) -> 0.84546826 | AT17: =RANK(AS17,AS$6:AS$278,1) -> 67 | AU17: =SUMIF('RECAP PDV'!$E:$E,$G17,'RECAP PDV'!AU:AU) -> 43167.6 | AV17: =AU17/$I17 -> 7621.1175 | AW17: =IF(AW$288="NON",(AW$284-AV17)/AW$284,(AW$284-AV17)/AW$286*AW$282) -> 0.9574229 | AX17: =RANK(AW17,AW$6:AW$278,1) -> 157
