Workbook
Name LISTAG: LISTES!$C$6:$C$290
Name LISTDIRCO: LISTES!$M$6:$M$12
Name LISTSECT: LISTES!$H$6:$H$23

Sheet ACCUEIL
F7: 44255

Sheet DC_PREM
B1: Accueil | D1: BAROMETRE PREMIUM - DIRECTIONS REGIONALES
D3: =ACCUEIL!F7 -> 44255
D6: CLIENTS | H6: BANCARISATION | P6: IARD PREVOYANCE | X6: CREDITS | AF6: ASSURANCE VIE
D7: Evolution nb relations PREMIUM | H7: VN pondérées sur clients PREMIUM | L7: Ventes sur clients PREMIUM non détenteurs de l'univers | P7: VN pondérées sur clients PREMIUM | T7: Ventes sur clients PREMIUM non détenteurs de l'univers | X7: PNB crédit conso immo sur clients PREMIUM | AB7: Ventes sur clients PREMIUM non détenteurs de l'univers | AF7: VN pondérées sur clients PREMIUM | AJ7: Ventes sur clients PREMIUM non détenteurs de l'univers | AN7: Taux d'UC sur CA Assurance Vie sur clients PREMIUM | AR7: TOTAL PREMIUM
F8: coef | G8: ='RECAP DIRCOM'!N4 -> 0.3 | J8: coef | K8: ='RECAP DIRCOM'!R4 -> 0.1 | N8: coef | O8: ='RECAP DIRCOM'!V4 -> 0.05 | R8: coef | S8: ='RECAP DIRCOM'!Z4 -> 0.1 | V8: coef | W8: ='RECAP DIRCOM'!AD4 -> 0.05 | Z8: coef | AA8: ='RECAP DIRCOM'!AH4 -> 0.1 | AD8: coef | AE8: ='RECAP DIRCOM'!AL4 -> 0.05 | AH8: coef | AI8: ='RECAP DIRCOM'!AP4 -> 0.1 | AL8: coef | AM8: ='RECAP DIRCOM'!AT4 -> 0.05 | AO8: ="au "&TEXT(ACCUEIL!$F$7-7,"jj/mm") -> au 21/02 | AP8: coef | AQ8: ='RECAP DIRCOM'!AX4 -> 0.1 | AS8: coef | AT8: 1
B9: Direction | C9: ="ETP perf "&TEXT(ETP!D2,"jj-mmm") -> ETP perf 31-janv | D9: Nb | E9: Nb / ETP | F9: % Ecart au 1er | G9: Rang | H9: Nb | I9: Nb / ETP | J9: % Ecart au 1er | K9: Rang | L9: Nb | M9: Nb / ETP | N9: % Ecart au 1er | O9: Rang | P9: Nb | Q9: Nb / ETP | R9: % Ecart au 1er | S9: Rang | T9: Nb | U9: Nb / ETP | V9: % Ecart au 1er | W9: Rang | X9: PNB | Y9: PNB / ETP | Z9: % Ecart au 1er | AA9: Rang | AB9: Nb | AC9: Nb / ETP | AD9: % Ecart au 1er | AE9: Rang | AF9: Nb | AG9: Nb / ETP | AH9: % Ecart au 1er | AI9: Rang | AJ9: Nb | AK9: Nb / ETP | AL9: % Ecart au 1er | AM9: Rang | AO9: Tx UC | AP9: % Ecart au 1er | AQ9: Rang | AR9: Moyenne ecart au 1er | AS9: % Ecart au 1er | AT9: Rang CEGEE
A10: 50 | B10: Vosges | C10: 43.754509 | D10: 0 | E10: 0 | F10: 0 | G10: 1 | H10: 476 | I10: 10.878879 | J10: 0.15030934 | K10: 3 | L10: 48 | M10: 1.0970298 | N10: 0.038251012 | O10: 3 | P10: 749.4 | Q10: 17.127378 | R10: 0.42055329 | S10: 4 | T10: 41 | U10: 0.93704628 | V10: 0.53774227 | W10: 7 | X10: 480.18946 | Y10: 10.974628 | Z10: 0.24229302 | AA10: 6 | AB10: 45 | AC10: 1.0284654 | AD10: 0.083737216 | AE10: 3 | AF10: 53 | AG10: 1.2113037 | AH10: 0 | AI10: 1 | AJ10: 13 | AK10: 0.29711224 | AL10: 0.40761484 | AM10: 3 | AO10: 0.32208336 | AP10: 0.21510416 | AQ10: 5 | AR10: 0.15619325 | AS10: 0 | AT10: 1
A11: 262 | B11: Haut-Rhin | C11: 47.851425 | D11: 0 | E11: 0 | F11: 0 | G11: 1 | H11: 271 | I11: 5.6633632 | J11: 0.55766519 | K11: 7 | L11: 50 | M11: 1.044901 | N11: 0.083951553 | O11: 4 | P11: 1414.4 | Q11: 29.558158 | R11: 0 | S11: 1 | T11: 97 | U11: 2.0271079 | V11: 0 | W11: 1 | X11: 534.35358 | Y11: 11.166931 | Z11: 0.22901607 | AA11: 5 | AB11: 34 | AC11: 0.71053265 | AD11: 0.36698444 | AE11: 7 | AF11: 9 | AG11: 0.18808217 | AH11: 0.82374131 | AI11: 3 | AJ11: 24 | AK11: 0.50155246 | AL11: 0 | AM11: 1 | AO11: 0.41035172 | AP11: 0 | AQ11: 1 | AR11: 0.18358906 | AS11: 0.027395808 | AT11: 2
A12: 264 | B12: Moselle | C12: 86.033395 | D12: 0 | E12: 0 | F12: 0 | G12: 1 | H12: 1035 | I12: 12.030212 | J12: 0.06038488 | K12: 2 | L12: 61 | M12: 0.709027 | N12: 0.37840703 | O12: 5 | P12: 1674.4 | Q12: 19.46221 | R12: 0.34156215 | S12: 2 | T12: 122 | U12: 1.418054 | V12: 0.30045459 | W12: 2 | X12: 1132.0915 | Y12: 13.158745 | Z12: 0.091497867 | AA12: 2 | AB12: 95 | AC12: 1.1042224 | AD12: 0.016245132 | AE12: 2 | AF12: 42 | AG12: 0.48818253 | AH12: 0.58214646 | AI12: 2 | AJ12: 20 | AK12: 0.23246787 | AL12: 0.53650338 | AM12: 4 | AO12: 0.29828483 | AP12: 0.27309959 | AQ12: 7 | AR12: 0.1964496 | AS12: 0.040256355 | AT12: 3
A13: 30 | B13: Bas-Rhin | C13: 85.915079 | D13: 0 | E13: 0 | F13: 0 | G13: 1 | H13: 1100 | I13: 12.80334 | J13: 0 | K13: 1 | L13: 98 | M13: 1.1406612 | N13: 0 | O13: 1 | P13: 1524.8 | Q13: 17.747758 | R13: 0.39956483 | S13: 3 | T13: 110 | U13: 1.280334 | V13: 0.36839372 | W13: 3 | X13: 1045.2637 | Y13: 12.166243 | Z13: 0.1600219 | AA13: 3 | AB13: 70 | AC13: 0.81475803 | AD13: 0.27412975 | AE13: 6 | AF13: 10 | AG13: 0.116394 | AH13: 0.88145364 | AI13: 4 | AJ13: 19 | AK13: 0.22114861 | AL13: 0.55907183 | AM13: 5 | AO13: 0.38796942 | AP13: 0.054544191 | AQ13: 2 | AR13: 0.20963822 | AS13: 0.053444974 | AT13: 4
A14: 110 | B14: Marne-Ardennes | C14: 73.6262 | D14: 0 | E14: 0 | F14: 0 | G14: 1 | H14: 663 | I14: 9.0049466 | J14: 0.29667209 | K14: 5 | L14: 82 | M14: 1.113734 | N14: 0.023606719 | O14: 2 | P14: 798.8 | Q14: 10.849399 | R14: 0.6329474 | S14: 5 | T14: 91 | U14: 1.2359731 | V14: 0.3902776 | W14: 5 | X14: 1066.4019 | Y14: 14.484 | Z14: 0 | AA14: 1 | AB14: 71 | AC14: 0.96433063 | AD14: 0.14087509 | AE14: 4 | AF14: -48 | AG14: -0.65194184 | AH14: 1.5 | AI14: 7 | AJ14: 15 | AK14: 0.20373182 | AL14: 0.59379758 | AM14: 7 | AO14: 0.36699514 | AP14: 0.10565713 | AQ14: 3 | AR14: 0.31095551 | AS14: 0.15476226 | AT14: 5
A15: 160 | B15: Aube Haute Marne | C15: 41.872434 | D15: 0 | E15: 0 | F15: 0 | G15: 1 | H15: 440 | I15: 10.508107 | J15: 0.17926836 | K15: 4 | L15: 28 | M15: 0.66869769 | N15: 0.41376311 | O15: 7 | P15: 448.6 | Q15: 10.713492 | R15: 0.63754534 | S15: 6 | T15: 40 | U15: 0.95528242 | V15: 0.52874613 | W15: 6 | X15: 418.10224 | Y15: 9.985143 | Z15: 0.31060875 | AA15: 7 | AB15: 47 | AC15: 1.1224568 | AD15: 0 | AE15: 1 | AF15: -23 | AG15: -0.54928739 | AH15: 1.4173584 | AI15: 6 | AJ15: 9 | AK15: 0.21493854 | AL15: 0.57145351 | AM15: 6 | AO15: 0.34281357 | AP15: 0.16458602 | AQ15: 4 | AR15: 0.34663482 | AS15: 0.19044157 | AT15: 6
A16: 80 | B16: Meurthe et Moselle Meuse | C16: 86.539006 | D16: 0 | E16: 0 | F16: 0 | G16: 1 | H16: 626 | I16: 7.2337323 | J16: 0.43501211 | K16: 6 | L16: 58 | M16: 0.67021801 | N16: 0.41243028 | O16: 6 | P16: 882.6 | Q16: 10.198869 | R16: 0.65495586 | S16: 7 | T16: 110 | U16: 1.2711031 | V16: 0.37294746 | W16: 4 | X16: 1046.2795 | Y16: 12.090265 | Z16: 0.16526752 | AA16: 4 | AB16: 72 | AC16: 0.83199477 | AD16: 0.25877349 | AE16: 5 | AF16: -36 | AG16: -0.41599738 | AH16: 1.3100537 | AI16: 5 | AJ16: 27 | AK16: 0.31199804 | AL16: 0.37793538 | AM16: 2 | AO16: 0.31570965 | AP16: 0.23063646 | AQ16: 6 | AR16: 0.35069689 | AS16: 0.19450365 | AT16: 7
B17: Total CEGEE Directions Régionales | C17: =SUM(C10:C16) -> 465.59205

Sheet TER_PREM
B1: Accueil | F1: BAROMETRE PREMIUM - TERRITOIRES
F3: =ACCUEIL!F7 -> 44255
F6: CLIENTS | J6: BANCARISATION | R6: IARD PREVOYANCE | Z6: CREDITS | AH6: ASSURANCE VIE
F7: Evolution nb relations PREMIUM | J7: VN pondérées sur clients PREMIUM | N7: Ventes sur clients PREMIUM non détenteurs de l'univers | R7: VN pondérées sur clients PREMIUM | V7: Ventes sur clients PREMIUM non détenteurs de l'univers | Z7: PNB crédit conso immo sur clients PREMIUM | AD7: Ventes sur clients PREMIUM non détenteurs de l'univers | AH7: VN pondérées sur clients PREMIUM | AL7: Ventes sur clients PREMIUM non détenteurs de l'univers | AP7: Taux d'UC sur CA Assurance Vie sur clients PREMIUM | AT7: TOTAL PREMIUM
H8: coef | I8: ='RECAP TER'!N4 -> 0.3 | L8: coef | M8: ='RECAP TER'!R4 -> 0.1 | P8: coef | Q8: ='RECAP TER'!V4 -> 0.05 | T8: coef | U8: ='RECAP TER'!Z4 -> 0.1 | X8: coef | Y8: ='RECAP TER'!AD4 -> 0.05 | AB8: coef | AC8: ='RECAP TER'!AH4 -> 0.1 | AF8: coef | AG8: ='RECAP TER'!AL4 -> 0.05 | AJ8: coef | AK8: ='RECAP TER'!AP4 -> 0.1 | AN8: coef | AO8: ='RECAP TER'!AT4 -> 0.05 | AQ8: ="au "&TEXT(ACCUEIL!$F$7-7,"jj/mm") -> au 21/02 | AR8: coef | AS8: ='RECAP TER'!AX4 -> 0.1 | AU8: coef | AV8: 1
B9: Direction | C9: eds | D9: Territoire | E9: =DC_PREM!C9 -> ETP perf 31-janv | F9: Nb | G9: Nb / ETP | H9: % Ecart au 1er | I9: Rang | J9: Nb | K9: Nb / ETP | L9: % Ecart au 1er | M9: Rang | N9: Nb | O9: Nb / ETP | P9: % Ecart au 1er | Q9: Rang | R9: Nb | S9: Nb / ETP | T9: % Ecart au 1er | U9: Rang | V9: Nb | W9: Nb / ETP | X9: % Ecart au 1er | Y9: Rang | Z9: PNB | AA9: PNB / ETP | AB9: % Ecart au 1er | AC9: Rang | AD9: Nb | AE9: Nb / ETP | AF9: % Ecart au 1er | AG9: Rang | AH9: Nb | AI9: Nb / ETP | AJ9: % Ecart au 1er | AK9: Rang | AL9: Nb | AM9: Nb / ETP | AN9: % Ecart au 1er | AO9: Rang | AQ9: Tx UC | AR9: % Ecart au 1er | AS9: Rang | AT9: Moyenne ecart au 1er | AU9: % Ecart au 1er | AV9: Rang CEGEE
A10: 50 | B10: HAUT-RHIN | C10: 5169 | D10: MULHOUSE | E10: 24.442334 | F10: 0 | G10: 0 | H10: 0 | I10: 1 | J10: 119 | K10: 4.8686021 | L10: 0.68217162 | M10: 18 | N10: 23 | O10: 0.94099032 | P10: 0.38570985 | Q10: 9 | R10: 520.4 | S10: 21.290929 | T10: 0.44250415 | U10: 5 | V10: 62 | W10: 2.5365826 | X10: 0 | Y10: 1 | Z10: 306.53328 | AA10: 12.54108 | AB10: 0.25954909 | AC10: 8 | AD10: 20 | AE10: 0.81825245 | AF10: 0.37403691 | AG10: 12 | AH10: 26 | AI10: 1.0637282 | AJ10: 0.3301185 | AK10: 2 | AL10: 14 | AM10: 0.57277672 | AN10: 0 | AO10: 1 | AQ10: 0.38525343 | AR10: 0.1901667 | AS10: 5 | AT10: 0.22843834 | AU10: 0 | AV10: 1
A11: 50 | B11: VOSGES | C11: 57 | D11: EPINAL | E11: 22.191091 | F11: 0 | G11: 0 | H11: 0 | I11: 1 | J11: 246 | K11: 11.08553 | L11: 0.27632287 | M11: 6 | N11: 28 | O11: 1.2617676 | P11: 0.17630245 | Q11: 2 | R11: 263.4 | S11: 11.869628 | T11: 0.68919775 | U11: 12 | V11: 20 | W11: 0.90126259 | X11: 0.64469417 | Y11: 16 | Z11: 287.83252 | AA11: 12.970634 | AB11: 0.23418736 | AC11: 7 | AD11: 24 | AE11: 1.0815151 | AF11: 0.17264099 | AG11: 6 | AH11: 39 | AI11: 1.757462 | AJ11: 0 | AK11: 1 | AL11: 6 | AM11: 0.27037878 | AN11: 0.52795083 | AO11: 7 | AQ11: 0.31114265 | AR11: 0.34595345 | AS11: 15 | AT11: 0.23064557 | AU11: 0.0022072224 | AV11: 2
A12: 262 | B12: AUBE HAUTE MARNE | C12: 21 | D12: CHAUMONT | E12: 13.658944 | F12: 0 | G12: 0 | H12: 0 | I12: 1 | J12: 190 | K12: 13.910299 | L12: 0.091918432 | M12: 3 | N12: 15 | O12: 1.0981815 | P12: 0.2830935 | Q12: 6 | R12: 338 | S12: 24.74569 | T12: 0.35204239 | U12: 2 | V12: 19 | W12: 1.3910299 | X12: 0.45161261 | Y12: 8 | Z12: 131.61309 | AA12: 9.6356705 | AB12: 0.4310904 | AC12: 16 | AD12: 15 | AE12: 1.0981815 | AF12: 0.15989119 | AG12: 5 | AH12: 10 | AI12: 0.732121 | AJ12: 0.48791628 | AK12: 4 | AL12: 3 | AM12: 0.2196363 | AN12: 0.61654115 | AO12: 12 | AQ12: 0.36551103 | AR12: 0.23166679 | AS12: 7 | AT12: 0.23502035 | AU12: 0.0065820085 | AV12: 3
A13: 262 | B13: BAS-RHIN | C13: 5060 | D13: HAGUENAU | E13: 24.40497 | F13: 0 | G13: 0 | H13: 0 | I13: 1 | J13: 298 | K13: 12.210628 | L13: 0.20287508 | M13: 4 | N13: 20 | O13: 0.81950522 | P13: 0.46501683 | Q13: 12 | R13: 442.2 | S13: 18.119261 | T13: 0.52555323 | U13: 7 | V13: 36 | W13: 1.4751094 | X13: 0.41846585 | Y13: 6 | Z13: 391.4986 | AA13: 16.041757 | AB13: 0.052861986 | AC13: 2 | AD13: 18 | AE13: 0.7375547 | AF13: 0.43577068 | AG13: 14 | AH13: 16 | AI13: 0.65560418 | AJ13: 0.52432739 | AK13: 5 | AL13: 10 | AM13: 0.40975261 | AN13: 0.28462069 | AO13: 3 | AQ13: 0.34375424 | AR13: 0.27740129 | AS13: 10 | AT13: 0.2384956 | AU13: 0.010057257 | AV13: 4
A14: 262 | B14: BAS-RHIN | C14: 5101 | D14: SELESTAT | E14: 28.723745 | F14: 0 | G14: 0 | H14: 0 | I14: 1 | J14: 440 | K14: 15.318337 | L14: 0 | M14: 1 | N14: 44 | O14: 1.5318337 | P14: 0 | Q14: 1 | R14: 606.4 | S14: 21.111453 | T14: 0.44720367 | U14: 6 | V14: 40 | W14: 1.3925761 | X14: 0.45100307 | Y14: 7 | Z14: 317.0907 | AA14: 11.039323 | AB14: 0.34821591 | AC14: 10 | AD14: 29 | AE14: 1.0096176 | AF14: 0.22764255 | AG14: 7 | AH14: 15 | AI14: 0.52221602 | AJ14: 0.58780116 | AK14: 7 | AL14: 3 | AM14: 0.1044432 | AN14: 0.81765459 | AO14: 18 | AQ14: 0.32207838 | AR14: 0.32296568 | AS14: 14 | AT14: 0.24543365 | AU14: 0.016995308 | AV14: 5
A15: 264 | B15: MOSELLE | C15: 45 | D15: METZ | E15: 33.508445 | F15: 0 | G15: 0 | H15: 0 | I15: 1 | J15: 380 | K15: 11.340425 | L15: 0.25968302 | M15: 5 | N15: 27 | O15: 0.80576701 | P15: 0.47398531 | Q15: 13 | R15: 756.2 | S15: 22.567445 | T15: 0.409079 | U15: 3 | V15: 35 | W15: 1.0445128 | X15: 0.58822047 | Y15: 11 | Z15: 498.61114 | AA15: 14.880163 | AB15: 0.12144487 | AC15: 3 | AD15: 40 | AE15: 1.1937289 | AF15: 0.086797432 | AG15: 3 | AH15: 4 | AI15: 0.11937289 | AJ15: 0.7794971 | AK15: 10 | AL15: 7 | AM15: 0.20890256 | AN15: 0.63528099 | AO15: 14 | AQ15: 0.39227994 | AR15: 0.17539642 | AS15: 3 | AT15: 0.26372425 | AU15: 0.035285908 | AV15: 6
A16: 264 | B16: MOSELLE | C16: 44 | D16: MOSELLE NORD | E16: 29.57495 | F16: 0 | G16: 0 | H16: 0 | I16: 1 | J16: 309 | K16: 10.448031 | L16: 0.31793958 | M16: 9 | N16: 12 | O16: 0.40574878 | P16: 0.73512217 | Q16: 18 | R16: 535 | S16: 18.089633 | T16: 0.52632901 | U16: 8 | V16: 60 | W16: 2.0287439 | X16: 0.20020586 | Y16: 2 | Z16: 412.02999 | AA16: 13.931722 | AB16: 0.17744277 | AC16: 5 | AD16: 25 | AE16: 0.84530995 | AF16: 0.35333792 | AG16: 11 | AH16: 30 | AI16: 1.0143719 | AJ16: 0.35360504 | AK16: 3 | AL16: 7 | AM16: 0.23668679 | AN16: 0.58677303 | AO16: 11 | AQ16: 0.2855303 | AR16: 0.39979264 | AS16: 17 | AT16: 0.27128285 | AU16: 0.042844509 | AV16: 7
A17: 30 | B17: VOSGES | C17: 55 | D17: SAINT DIE | E17: 21.563418 | F17: 0 | G17: 0 | H17: 0 | I17: 1 | J17: 230 | K17: 10.666212 | L17: 0.30369643 | M17: 8 | N17: 20 | O17: 0.92749674 | P17: 0.39451863 | Q17: 10 | R17: 486 | S17: 22.538171 | T17: 0.40984554 | U17: 4 | V17: 21 | W17: 0.97387157 | X17: 0.61606944 | Y17: 13 | Z17: 192.35694 | AA17: 8.9205218 | AB17: 0.47331423 | AC17: 18 | AD17: 21 | AE17: 0.97387157 | AF17: 0.25498828 | AG17: 8 | AH17: 14 | AI17: 0.64924772 | AJ17: 0.52735216 | AK17: 6 | AL17: 7 | AM17: 0.32462386 | AN17: 0.43324537 | AO17: 6 | AQ17: 0.33434507 | AR17: 0.29718011 | AS17: 11 | AT17: 0.28607993 | AU17: 0.05764159 | AV17: 8
A18: 30 | B18: MARNE-ARDENNES | C18: 11 | D18: REIMS | E18: 33.614436 | F18: 0 | G18: 0 | H18: 0 | I18: 1 | J18: 297 | K18: 8.8354895 | L18: 0.42320829 | M18: 13 | N18: 42 | O18: 1.2494632 | P18: 0.18433496 | Q18: 3 | R18: 497.6 | S18: 14.803164 | T18: 0.61238411 | U18: 10 | V18: 59 | W18: 1.7551983 | X18: 0.30804609 | Y18: 4 | Z18: 569.33058 | AA18: 16.937085 | AB18: 0 | AC18: 1 | AD18: 41 | AE18: 1.219714 | AF18: 0.066918807 | AG18: 2 | AH18: -19 | AI18: -0.56523334 | AJ18: 1.1052722 | AK18: 13 | AL18: 9 | AM18: 0.26774211 | AN18: 0.53255414 | AO18: 8 | AQ18: 0.36707531 | AR18: 0.22837854 | AS18: 6 | AT18: 0.29151701 | AU18: 0.063078666 | AV18: 9
A19: 30 | B19: MOSELLE | C19: 42 | D19: MOSELLE EST | E19: 22.949999 | F19: 0 | G19: 0 | H19: 0 | I19: 1 | J19: 346 | K19: 15.076253 | L19: 0.015803482 | M19: 2 | N19: 22 | O19: 0.95860571 | P19: 0.37421031 | Q19: 8 | R19: 383.2 | S19: 16.697169 | T19: 0.56279023 | U19: 9 | V19: 27 | W19: 1.1764706 | X19: 0.53619857 | Y19: 9 | Z19: 221.45037 | AA19: 9.6492541 | AB19: 0.4302884 | AC19: 15 | AD19: 30 | AE19: 1.3071896 | AF19: 0 | AG19: 1 | AH19: 8 | AI19: 0.3485839 | AJ19: 0.67042532 | AK19: 8 | AL19: 6 | AM19: 0.26143792 | AN19: 0.54356049 | AO19: 9 | AQ19: 0.2311231 | AR19: 0.51416089 | AS19: 18 | AT19: 0.2920453 | AU19: 0.063606955 | AV19: 10
A20: 110 | B20: HAUT-RHIN | C20: 5130 | D20: COLMAR | E20: 23.409091 | F20: 0 | G20: 0 | H20: 0 | I20: 1 | J20: 152 | K20: 6.4932039 | L20: 0.5761156 | M20: 15 | N20: 27 | O20: 1.1533981 | P20: 0.24704745 | Q20: 4 | R20: 894 | S20: 38.190291 | T20: 0 | U20: 1 | V20: 35 | W20: 1.4951456 | X20: 0.41056695 | Y20: 5 | Z20: 227.8203 | AA20: 9.7321295 | AB20: 0.42539527 | AC20: 14 | AD20: 14 | AE20: 0.59805825 | AF20: 0.54248546 | AG20: 18 | AH20: -17 | AI20: -0.72621359 | AJ20: 1.1818758 | AK20: 15 | AL20: 10 | AM20: 0.42718447 | AN20: 0.25418675 | AO20: 2 | AQ20: 0.44721818 | AR20: 0.059911869 | AS20: 2 | AT20: 0.29704419 | AU20: 0.068605843 | AV20: 11
A21: 110 | B21: BAS-RHIN | C21: 5006 | D21: STRASBOURG | E21: 32.786364 | F21: 0 | G21: 0 | H21: 0 | I21: 1 | J21: 362 | K21: 11.041176 | L21: 0.27921837 | M21: 7 | N21: 34 | O21: 1.0370165 | P21: 0.32302277 | Q21: 7 | R21: 476.2 | S21: 14.524331 | T21: 0.61968525 | U21: 11 | V21: 34 | W21: 1.0370165 | X21: 0.59117574 | Y21: 12 | Z21: 336.67442 | AA21: 10.268733 | AB21: 0.3937131 | AC21: 12 | AD21: 23 | AE21: 0.70151116 | AF21: 0.46334399 | AG21: 15 | AH21: -21 | AI21: -0.64051019 | AJ21: 1.1410932 | AK21: 14 | AL21: 6 | AM21: 0.18300291 | AN21: 0.68049869 | AO21: 15 | AQ21: 0.47571942 | AR21: 0 | AS21: 1 | AT21: 0.34627305 | AU21: 0.11783471 | AV21: 12
... A27: 80 | B27: AUBE HAUTE MARNE | C27: 14 | D27: TROYES | E27: 28.21349 | F27: 0 | G27: 0 | H27: 0 | I27: 1 | J27: 250 | K27: 8.8610095 | L27: 0.42154232 | M27: 12 | N27: 13 | O27: 0.46077249 | P27: 0.699202 | Q27: 17 | R27: 110.6 | S27: 3.9201106 | T27: 0.89735322 | U27: 18 | V27: 21 | W27: 0.7443248 | X27: 0.70656394 | Y27: 17 | Z27: 286.48916 | AA27: 10.154332 | AB27: 0.40046754 | AC27: 13 | AD27: 32 | AE27: 1.1342092 | AF27: 0.13233 | AG27: 4 | AH27: -33 | AI27: -1.1696533 | AJ27: 1.3928899 | AK27: 17 | AL27: 6 | AM27: 0.21266423 | AN27: 0.62871356 | AO27: 13 | AQ27: 0.33410724 | AR27: 0.29768005 | AS27: 12 | AT27: 0.44933378 | AU27: 0.22089544 | AV27: 18
A28: Total CEGEE Directions Régionales | E28: =SUM(E10:E27) -> 465.59205

Sheet RECAP PDV
G1: 1 | H1: 2 | I1: 3 | J1: 4 | K1: 5 | L1: 6 | M1: 7 | N1: 8 | O1: 9 | P1: 10 | Q1: 11 | R1: 12 | S1: 13 | T1: 14 | U1: 15 | V1: 16 | W1: 17 | X1: 18 | Y1: 19 | Z1: 20 | AA1: 21 | AB1: 22 | AC1: 23 | AD1: 24 | AE1: 25 | AF1: 26 | AG1: 27 | AH1: 28 | AI1: 29 | AJ1: 30 | AK1: 31 | AL1: 32 | AM1: 33 | AN1: 34 | AO1: 35 | AP1: 36 | AQ1: 37 | AR1: 38 | AS1: 39 | AT1: 40 | AU1: 41 | AV1: 42 | AW1: 43 | AX1: 44
K2: CLIENTS | O2: BANCARISATION | W2: IARD PREV | AE2: CREDIT | AM2: ASSURANCE VIE
K3: Evolution nb clients Premium | O3: Ventes nettes produits pondérés (cartes 1er, Platinum, Infinite) | S3: Ventes sur Clients PREMIUM non détenteurs | W3: Ventes nettes produits pondérés (idem Gd Public) | AA3: Ventes sur Clients PREMIUM non détenteurs | AE3: Ventes nettes produits | AI3: Ventes sur Clients PREMIUM non détenteurs | AM3: Ventes nettes produits | AQ3: Ventes sur client non détenteur de l’univers | AU3: Taux d'UC Assurance Vie
M4: coef | N4: =COEF!$C$7 -> 0.3 | Q4: coef | R4: =COEF!$C$8 -> 0.1 | U4: coef | V4: =COEF!$C$9 -> 0.05 | Y4: coef | Z4: =COEF!$C$10 -> 0.1 | AC4: coef | AD4: =COEF!$C$11 -> 0.05 | AG4: coef | AH4: =COEF!$C$12 -> 0.1 | AK4: coef | AL4: =COEF!$C$13 -> 0.05 | AO4: coef | AP4: =COEF!$C$14 -> 0.1 | AS4: coef | AT4: =COEF!$C$15 -> 0.05 | AW4: coef | AX4: =COEF!$C$16 -> 0.1
A5: NO GROUPE | B5: groupe | C5: UC | D5: libelle uc | E5: EDS | F5: AGENCE | G5: EDS PDV | H5: POINT DE VENTE | I5: EDS PDV ORIGINE | J5: rech | K5: REAL | L5: REAL / ETP | M5: % Ecart au 1er | N5: Rang | O5: REAL | P5: REAL / ETP | Q5: % Ecart au 1er | R5: Rang | S5: REAL | T5: REAL / ETP | U5: % Ecart au 1er | V5: Rang | W5: REAL | X5: REAL / ETP | Y5: % Ecart au 1er | Z5: Rang | AA5: REAL | AB5: REAL / ETP | AC5: % Ecart au 1er | AD5: Rang | AE5: PNB | AF5: PNB / ETP | AG5: % Ecart au 1er | AH5: Rang | AI5: REAL | AJ5: REAL / ETP | AK5: % Ecart au 1er | AL5: Rang | AM5: REAL | AN5: REAL / ETP | AO5: % Ecart au 1er | AP5: Rang | AQ5: REAL | AR5: REAL / ETP | AS5: % Ecart au 1er | AT5: Rang | AU5: REAL | AV5: REAL | AW5: % Ecart au 1er | AX5: Rang
A6: 50 | B6: Aube Haute Marne | C6: 21 | D6: CHAUMONT | E6: 410560 | F6: BOURBONNE LES BAINS | G6: 10560 | H6: BOURBONNE LES BAINS | I6: 10560 | K6: =SUMIF(BAROMPREM!B:B,I6,BAROMPREM!AD:AD) -> 0 | O6: =SUMIF(BAROMPREM!B:B,I6,BAROMPREM!AM:AM) -> 10 | S6: =SUMIF(BAROMPREM!B:B,I6,BAROMPREM!Z:Z) -> 0 | W6: =SUMIF(BAROMPREM!B:B,I6,BAROMPREM!AN:AN) -> 66.8 | AA6: =SUMIF(BAROMPREM!B:B,I6,BAROMPREM!AB:AB) -> 2 | AE6: =SUMIF(PNBCREDIT!G:G,I6,PNBCREDIT!Q:Q)+SUMIF(PNBCREDIT!G:G,I6,PNBCREDIT!AF:AF) -> 0.01932984 | AI6: =SUMIF(BAROMPREM!B:B,I6,BAROMPREM!AC:AC) -> 0 | AM6: =SUMIF(BAROMPREM!B:B,I6,BAROMPREM!Y:Y) -> 3 | AQ6: =SUMIF(BAROMPREM!B:B,I6,BAROMPREM!AA:AA) -> 0 | AU6: =SUMIF(BAROMPREM!B:B,I6,BAROMPREM!AF:AF) -> 788.6 | AV6: =SUMIF(BAROMPREM!B:B,I6,BAROMPREM!AE:AE) -> 11806.3
A7: 50 | B7: Aube Haute Marne | C7: 21 | D7: CHAUMONT | E7: 410541 | F7: LANGRES | G7: 10558 | H7: CHALINDREY | I7: 10558 | K7: =SUMIF(BAROMPREM!B:B,I7,BAROMPREM!AD:AD) -> 0 | O7: =SUMIF(BAROMPREM!B:B,I7,BAROMPREM!AM:AM) -> 19 | S7: =SUMIF(BAROMPREM!B:B,I7,BAROMPREM!Z:Z) -> 4 | W7: =SUMIF(BAROMPREM!B:B,I7,BAROMPREM!AN:AN) -> 22.4 | AA7: =SUMIF(BAROMPREM!B:B,I7,BAROMPREM!AB:AB) -> 2 | AE7: =SUMIF(PNBCREDIT!G:G,I7,PNBCREDIT!Q:Q)+SUMIF(PNBCREDIT!G:G,I7,PNBCREDIT!AF:AF) -> 9.7419288 | AI7: =SUMIF(BAROMPREM!B:B,I7,BAROMPREM!AC:AC) -> 1 | AM7: =SUMIF(BAROMPREM!B:B,I7,BAROMPREM!Y:Y) -> 4 | AQ7: =SUMIF(BAROMPREM!B:B,I7,BAROMPREM!AA:AA) -> 0 | AU7: =SUMIF(BAROMPREM!B:B,I7,BAROMPREM!AF:AF) -> 12854 | AV7: =SUMIF(BAROMPREM!B:B,I7,BAROMPREM!AE:AE) -> 44450
A8: 50 | B8: Aube Haute Marne | C8: 21 | D8: CHAUMONT | E8: 410566 | F8: CHAUMONT HOTEL DE VILLE | G8: 10539 | H8: CHATEAUVILLAIN | I8: 10539 | K8: =SUMIF(BAROMPREM!B:B,I8,BAROMPREM!AD:AD) -> 0 | O8: =SUMIF(BAROMPREM!B:B,I8,BAROMPREM!AM:AM) -> 4 | S8: =SUMIF(BAROMPREM!B:B,I8,BAROMPREM!Z:Z) -> 0 | W8: =SUMIF(BAROMPREM!B:B,I8,BAROMPREM!AN:AN) -> 6.8 | AA8: =SUMIF(BAROMPREM!B:B,I8,BAROMPREM!AB:AB) -> 1 | AE8: =SUMIF(PNBCREDIT!G:G,I8,PNBCREDIT!Q:Q)+SUMIF(PNBCREDIT!G:G,I8,PNBCREDIT!AF:AF) -> 2.5197849 | AI8: =SUMIF(BAROMPREM!B:B,I8,BAROMPREM!AC:AC) -> 0 | AM8: =SUMIF(BAROMPREM!B:B,I8,BAROMPREM!Y:Y) -> -1 | AQ8: =SUMIF(BAROMPREM!B:B,I8,BAROMPREM!AA:AA) -> 0 | AU8: =SUMIF(BAROMPREM!B:B,I8,BAROMPREM!AF:AF) -> 705.3 | AV8: =SUMIF(BAROMPREM!B:B,I8,BAROMPREM!AE:AE) -> 1931.6
A9: 50 | B9: Aube Haute Marne | C9: 21 | D9: CHAUMONT | E9: 410566 | F9: CHAUMONT HOTEL DE VILLE | G9: 10566 | H9: CHAUMONT HOTEL DE VILLE | I9: 10566 | K9: =SUMIF(BAROMPREM!B:B,I9,BAROMPREM!AD:AD) -> 0 | O9: =SUMIF(BAROMPREM!B:B,I9,BAROMPREM!AM:AM) -> 44 | S9: =SUMIF(BAROMPREM!B:B,I9,BAROMPREM!Z:Z) -> 4 | W9: =SUMIF(BAROMPREM!B:B,I9,BAROMPREM!AN:AN) -> 88.4 | AA9: =SUMIF(BAROMPREM!B:B,I9,BAROMPREM!AB:AB) -> 5 | AE9: =SUMIF(PNBCREDIT!G:G,I9,PNBCREDIT!Q:Q)+SUMIF(PNBCREDIT!G:G,I9,PNBCREDIT!AF:AF) -> 24.381601 | AI9: =SUMIF(BAROMPREM!B:B,I9,BAROMPREM!AC:AC) -> 2 | AM9: =SUMIF(BAROMPREM!B:B,I9,BAROMPREM!Y:Y) -> 11 | AQ9: =SUMIF(BAROMPREM!B:B,I9,BAROMPREM!AA:AA) -> 1 | AU9: =SUMIF(BAROMPREM!B:B,I9,BAROMPREM!AF:AF) -> 44583.4 | AV9: =SUMIF(BAROMPREM!B:B,I9,BAROMPREM!AE:AE) -> 162485.2
A10: 50 | B10: Aube Haute Marne | C10: 21 | D10: CHAUMONT | E10: 510590 | F10: CHAUMONT REPUBLIQUE | G10: 10590 | H10: CHAUMONT REPUBLIQUE | I10: 10590 | K10: =SUMIF(BAROMPREM!B:B,I10,BAROMPREM!AD:AD) -> 0 | O10: =SUMIF(BAROMPREM!B:B,I10,BAROMPREM!AM:AM) -> 19 | S10: =SUMIF(BAROMPREM!B:B,I10,BAROMPREM!Z:Z) -> 2 | W10: =SUMIF(BAROMPREM!B:B,I10,BAROMPREM!AN:AN) -> 36.8 | AA10: =SUMIF(BAROMPREM!B:B,I10,BAROMPREM!AB:AB) -> 0 | AE10: =SUMIF(PNBCREDIT!G:G,I10,PNBCREDIT!Q:Q)+SUMIF(PNBCREDIT!G:G,I10,PNBCREDIT!AF:AF) -> 41.442513 | AI10: =SUMIF(BAROMPREM!B:B,I10,BAROMPREM!AC:AC) -> 1 | AM10: =SUMIF(BAROMPREM!B:B,I10,BAROMPREM!Y:Y) -> 1 | AQ10: =SUMIF(BAROMPREM!B:B,I10,BAROMPREM!AA:AA) -> 0 | AU10: =SUMIF(BAROMPREM!B:B,I10,BAROMPREM!AF:AF) -> 5530.2 | AV10: =SUMIF(BAROMPREM!B:B,I10,BAROMPREM!AE:AE) -> 7798.9
A11: 50 | B11: Aube Haute Marne | C11: 21 | D11: CHAUMONT | E11: 451154 | F11: JOINVILLE | G11: 51154 | H11: JOINVILLE | I11: 51154 | K11: =SUMIF(BAROMPREM!B:B,I11,BAROMPREM!AD:AD) -> 0 | O11: =SUMIF(BAROMPREM!B:B,I11,BAROMPREM!AM:AM) -> 7 | S11: =SUMIF(BAROMPREM!B:B,I11,BAROMPREM!Z:Z) -> 1 | W11: =SUMIF(BAROMPREM!B:B,I11,BAROMPREM!AN:AN) -> 34.4 | AA11: =SUMIF(BAROMPREM!B:B,I11,BAROMPREM!AB:AB) -> 0 | AE11: =SUMIF(PNBCREDIT!G:G,I11,PNBCREDIT!Q:Q)+SUMIF(PNBCREDIT!G:G,I11,PNBCREDIT!AF:AF) -> 4.4701301 | AI11: =SUMIF(BAROMPREM!B:B,I11,BAROMPREM!AC:AC) -> 0 | AM11: =SUMIF(BAROMPREM!B:B,I11,BAROMPREM!Y:Y) -> -1 | AQ11: =SUMIF(BAROMPREM!B:B,I11,BAROMPREM!AA:AA) -> 0 | AU11: =SUMIF(BAROMPREM!B:B,I11,BAROMPREM!AF:AF) -> 4744.4 | AV11: =SUMIF(BAROMPREM!B:B,I11,BAROMPREM!AE:AE) -> 15705.1
A12: 50 | B12: Aube Haute Marne | C12: 21 | D12: CHAUMONT | E12: 410541 | F12: LANGRES | G12: 10541 | H12: LANGRES | I12: 10541 | K12: =SUMIF(BAROMPREM!B:B,I12,BAROMPREM!AD:AD) -> 0 | O12: =SUMIF(BAROMPREM!B:B,I12,BAROMPREM!AM:AM) -> 29 | S12: =SUMIF(BAROMPREM!B:B,I12,BAROMPREM!Z:Z) -> 0 | W12: =SUMIF(BAROMPREM!B:B,I12,BAROMPREM!AN:AN) -> -9.6 | AA12: =SUMIF(BAROMPREM!B:B,I12,BAROMPREM!AB:AB) -> 2 | AE12: =SUMIF(PNBCREDIT!G:G,I12,PNBCREDIT!Q:Q)+SUMIF(PNBCREDIT!G:G,I12,PNBCREDIT!AF:AF) -> 23.136566 | AI12: =SUMIF(BAROMPREM!B:B,I12,BAROMPREM!AC:AC) -> 5 | AM12: =SUMIF(BAROMPREM!B:B,I12,BAROMPREM!Y:Y) -> 0 | AQ12: =SUMIF(BAROMPREM!B:B,I12,BAROMPREM!AA:AA) -> 0 | AU12: =SUMIF(BAROMPREM!B:B,I12,BAROMPREM!AF:AF) -> 134154.9 | AV12: =SUMIF(BAROMPREM!B:B,I12,BAROMPREM!AE:AE) -> 356702.3
A13: 50 | B13: Aube Haute Marne | C13: 21 | D13: CHAUMONT | E13: 510590 | F13: CHAUMONT REPUBLIQUE | G13: 10582 | H13: NOGENT EN BASSIGNY | I13: 10582 | K13: =SUMIF(BAROMPREM!B:B,I13,BAROMPREM!AD:AD) -> 0 | O13: =SUMIF(BAROMPREM!B:B,I13,BAROMPREM!AM:AM) -> 6 | S13: =SUMIF(BAROMPREM!B:B,I13,BAROMPREM!Z:Z) -> 0 | W13: =SUMIF(BAROMPREM!B:B,I13,BAROMPREM!AN:AN) -> 13.6 | AA13: =SUMIF(BAROMPREM!B:B,I13,BAROMPREM!AB:AB) -> 1 | AE13: =SUMIF(PNBCREDIT!G:G,I13,PNBCREDIT!Q:Q)+SUMIF(PNBCREDIT!G:G,I13,PNBCREDIT!AF:AF) -> 1.921665 | AI13: =SUMIF(BAROMPREM!B:B,I13,BAROMPREM!AC:AC) -> 0 | AM13: =SUMIF(BAROMPREM!B:B,I13,BAROMPREM!Y:Y) -> 0 | AQ13: =SUMIF(BAROMPREM!B:B,I13,BAROMPREM!AA:AA) -> 0 | AU13: =SUMIF(BAROMPREM!B:B,I13,BAROMPREM!AF:AF) -> 696.3 | AV13: =SUMIF(BAROMPREM!B:B,I13,BAROMPREM!AE:AE) -> 1125.8
A14: 50 | B14: Aube Haute Marne | C14: 21 | D14: CHAUMONT | E14: 451156 | F14: SAINT DIZIER CENTRE | G14: 51156 | H14: SAINT DIZIER CENTRE | I14: 51156 | K14: =SUMIF(BAROMPREM!B:B,I14,BAROMPREM!AD:AD) -> 0 | O14: =SUMIF(BAROMPREM!B:B,I14,BAROMPREM!AM:AM) -> 27 | S14: =SUMIF(BAROMPREM!B:B,I14,BAROMPREM!Z:Z) -> 4 | W14: =SUMIF(BAROMPREM!B:B,I14,BAROMPREM!AN:AN) -> 22 | AA14: =SUMIF(BAROMPREM!B:B,I14,BAROMPREM!AB:AB) -> 4 | AE14: =SUMIF(PNBCREDIT!G:G,I14,PNBCREDIT!Q:Q)+SUMIF(PNBCREDIT!G:G,I14,PNBCREDIT!AF:AF) -> 12.228171 | AI14: =SUMIF(BAROMPREM!B:B,I14,BAROMPREM!AC:AC) -> 2 | AM14: =SUMIF(BAROMPREM!B:B,I14,BAROMPREM!Y:Y) -> 0 | AQ14: =SUMIF(BAROMPREM!B:B,I14,BAROMPREM!AA:AA) -> 2 | AU14: =SUMIF(BAROMPREM!B:B,I14,BAROMPREM!AF:AF) -> 68875.7 | AV14: =SUMIF(BAROMPREM!B:B,I14,BAROMPREM!AE:AE) -> 136502.8
A15: 50 | B15: Aube Haute Marne | C15: 21 | D15: CHAUMONT | E15: 551157 | F15: SAINT DIZIER EUROPE | G15: 51157 | H15: SAINT DIZIER EUROPE | I15: 51157 | K15: =SUMIF(BAROMPREM!B:B,I15,BAROMPREM!AD:AD) -> 0 | O15: =SUMIF(BAROMPREM!B:B,I15,BAROMPREM!AM:AM) -> 11 | S15: =SUMIF(BAROMPREM!B:B,I15,BAROMPREM!Z:Z) -> 0 | W15: =SUMIF(BAROMPREM!B:B,I15,BAROMPREM!AN:AN) -> 22.4 | AA15: =SUMIF(BAROMPREM!B:B,I15,BAROMPREM!AB:AB) -> 2 | AE15: =SUMIF(PNBCREDIT!G:G,I15,PNBCREDIT!Q:Q)+SUMIF(PNBCREDIT!G:G,I15,PNBCREDIT!AF:AF) -> 3.6653491 | AI15: =SUMIF(BAROMPREM!B:B,I15,BAROMPREM!AC:AC) -> 1 | AM15: =SUMIF(BAROMPREM!B:B,I15,BAROMPREM!Y:Y) -> -5 | AQ15: =SUMIF(BAROMPREM!B:B,I15,BAROMPREM!AA:AA) -> 0 | AU15: =SUMIF(BAROMPREM!B:B,I15,BAROMPREM!AF:AF) -> 1534.5 | AV15: =SUMIF(BAROMPREM!B:B,I15,BAROMPREM!AE:AE) -> 4453.5
A16: 50 | B16: Aube Haute Marne | C16: 21 | D16: CHAUMONT | E16: 451151 | F16: WASSY | G16: 51151 | H16: WASSY | I16: 51151 | K16: =SUMIF(BAROMPREM!B:B,I16,BAROMPREM!AD:AD) -> 0 | O16: =SUMIF(BAROMPREM!B:B,I16,BAROMPREM!AM:AM) -> 14 | S16: =SUMIF(BAROMPREM!B:B,I16,BAROMPREM!Z:Z) -> 0 | W16: =SUMIF(BAROMPREM!B:B,I16,BAROMPREM!AN:AN) -> 34 | AA16: =SUMIF(BAROMPREM!B:B,I16,BAROMPREM!AB:AB) -> 0 | AE16: =SUMIF(PNBCREDIT!G:G,I16,PNBCREDIT!Q:Q)+SUMIF(PNBCREDIT!G:G,I16,PNBCREDIT!AF:AF) -> 8.0860474 | AI16: =SUMIF(BAROMPREM!B:B,I16,BAROMPREM!AC:AC) -> 3 | AM16: =SUMIF(BAROMPREM!B:B,I16,BAROMPREM!Y:Y) -> -2 | AQ16: =SUMIF(BAROMPREM!B:B,I16,BAROMPREM!AA:AA) -> 0 | AU16: =SUMIF(BAROMPREM!B:B,I16,BAROMPREM!AF:AF) -> 13032.2 | AV16: =SUMIF(BAROMPREM!B:B,I16,BAROMPREM!AE:AE) -> 43607.1
A17: 50 | B17: Aube Haute Marne | C17: 14 | D17: TROYES | E17: 510523 | F17: LA CHAPELLE ST LUC | G17: 10583 | H17: AIX EN OTHE | I17: 10583 | K17: =SUMIF(BAROMPREM!B:B,I17,BAROMPREM!AD:AD) -> 0 | O17: =SUMIF(BAROMPREM!B:B,I17,BAROMPREM!AM:AM) -> 12 | S17: =SUMIF(BAROMPREM!B:B,I17,BAROMPREM!Z:Z) -> 0 | W17: =SUMIF(BAROMPREM!B:B,I17,BAROMPREM!AN:AN) -> 2 | AA17: =SUMIF(BAROMPREM!B:B,I17,BAROMPREM!AB:AB) -> 0 | AE17: =SUMIF(PNBCREDIT!G:G,I17,PNBCREDIT!Q:Q)+SUMIF(PNBCREDIT!G:G,I17,PNBCREDIT!AF:AF) -> 0 | AI17: =SUMIF(BAROMPREM!B:B,I17,BAROMPREM!AC:AC) -> 0 | AM17: =SUMIF(BAROMPREM!B:B,I17,BAROMPREM!Y:Y) -> -3 | AQ17: =SUMIF(BAROMPREM!B:B,I17,BAROMPREM!AA:AA) -> 0 | AU17: =SUMIF(BAROMPREM!B:B,I17,BAROMPREM!AF:AF) -> 14 | AV17: =SUMIF(BAROMPREM!B:B,I17,BAROMPREM!AE:AE) -> 96.8
... A320: 269 | B320: Multimédia | C320: 5017 | D320: MON AGENCE | E320: 4017 | F320: Agence du personnel | G320: 17 | H320: Agence du personnel | I320: 17 | K320: =SUMIF(BAROMPREM!B:B,I320,BAROMPREM!AD:AD) -> 0 | O320: =SUMIF(BAROMPREM!B:B,I320,BAROMPREM!AM:AM) -> 16 | S320: =SUMIF(BAROMPREM!B:B,I320,BAROMPREM!Z:Z) -> 2 | W320: =SUMIF(BAROMPREM!B:B,I320,BAROMPREM!AN:AN) -> 152.2 | AA320: =SUMIF(BAROMPREM!B:B,I320,BAROMPREM!AB:AB) -> 19 | AE320: =SUMIF(PNBCREDIT!G:G,I320,PNBCREDIT!Q:Q)+SUMIF(PNBCREDIT!G:G,I320,PNBCREDIT!AF:AF) -> 57.524721 | AI320: =SUMIF(BAROMPREM!B:B,I320,BAROMPREM!AC:AC) -> 3 | AM320: =SUMIF(BAROMPREM!B:B,I320,BAROMPREM!Y:Y) -> 0 | AQ320: =SUMIF(BAROMPREM!B:B,I320,BAROMPREM!AA:AA) -> 0 | AU320: =SUMIF(BAROMPREM!B:B,I320,BAROMPREM!AF:AF) -> 6028.1 | AV320: =SUMIF(BAROMPREM!B:B,I320,BAROMPREM!AE:AE) -> 18708.4

Sheet RECAP AG
G1: 1 | H1: 2 | I1: 3 | J1: 4 | K1: 5 | L1: 6 | M1: 7 | N1: 8 | O1: 9 | P1: 10 | Q1: 11 | R1: 12 | S1: 13 | T1: 14 | U1: 15 | V1: 16 | W1: 17 | X1: 18 | Y1: 19 | Z1: 20 | AA1: 21 | AB1: 22 | AC1: 23 | AD1: 24 | AE1: 25 | AF1: 26 | AG1: 27 | AH1: 28 | AI1: 29 | AJ1: 30 | AK1: 31 | AL1: 32 | AM1: 33 | AN1: 34 | AO1: 35 | AP1: 36 | AQ1: 37 | AR1: 38 | AS1: 39 | AT1: 40 | AU1: 41 | AV1: 42 | AW1: 43 | AX1: 44
K2: CLIENTS | O2: BANCARISATION | W2: IARD PREV | AE2: CREDIT | AM2: ASSURANCE VIE
K3: Evolution nb clients Premium | O3: Ventes nettes produits pondérés (cartes 1er, Platinum, Infinite) | S3: Ventes sur Clients PREMIUM non détenteurs | W3: Ventes nettes produits pondérés (idem Gd Public) | AA3: Ventes sur Clients PREMIUM non détenteurs | AE3: Ventes nettes produits | AI3: Ventes sur Clients PREMIUM non détenteurs | AM3: Ventes nettes produits | AQ3: Ventes sur client non détenteur de l’univers | AU3: Taux d'UC Assurance Vie
K4: =MAX(L6:L278) -> 0 | M4: coef | N4: =COEF!C7 -> 0.3 | O4: =MAX(P6:P278) -> 15.333333 | Q4: coef | R4: =COEF!C8 -> 0.1 | S4: =MAX(T6:T278) -> 2.3576697 | U4: coef | V4: =COEF!C9 -> 0.05 | W4: =MAX(X6:X278) -> 67.633954 | Y4: coef | Z4: =COEF!C10 -> 0.1 | AA4: =MAX(AB6:AB278) -> 2.7282674 | AC4: coef | AD4: ='RECAP PDV'!AD4 -> 0.05 | AE4: =MAX(AF6:AF278) -> 25.762273 | AG4: coef | AH4: ='RECAP PDV'!AH4 -> 0.1 | AI4: =MAX(AJ6:AJ278) -> 1.7428688 | AK4: coef | AL4: ='RECAP PDV'!AL4 -> 0.05 | AM4: =MAX(AN6:AN278) -> 6.8917729 | AO4: coef | AP4: ='RECAP PDV'!AP4 -> 0.1 | AQ4: =MAX(AR6:AR278) -> 1.1424654 | AS4: coef | AT4: ='RECAP PDV'!AT4 -> 0.05 | AU4: =MAX(AV6:AV278) -> 178995.68 | AW4: coef | AX4: ='RECAP PDV'!AX4 -> 0.1
A5: PDV | C5: NO GROUPE | D5: groupe | E5: UC | F5: libelle uc | G5: EDS | H5: AGENCE | I5: ETP | K5: REAL | L5: REAL / ETP | M5: % Ecart au 1er | N5: Rang | O5: REAL | P5: REAL / ETP | Q5: % Ecart au 1er | R5: Rang | S5: REAL | T5: REAL / ETP | U5: % Ecart au 1er | V5: Rang | W5: REAL | X5: REAL / ETP | Y5: % Ecart au 1er | Z5: Rang | AA5: REAL | AB5: REAL / ETP | AC5: % Ecart au 1er | AD5: Rang | AE5: PNB | AF5: PNB / ETP | AG5: % Ecart au 1er | AH5: Rang | AI5: REAL | AJ5: REAL / ETP | AK5: % Ecart au 1er | AL5: Rang | AM5: REAL | AN5: REAL / ETP | AO5: % Ecart au 1er | AP5: Rang | AQ5: REAL | AR5: REAL / ETP | AS5: % Ecart au 1er | AT5: Rang | AU5: REAL | AV5: REAL | AW5: % Ecart au 1er | AX5: Rang
A6: 10560 | C6: 50 | D6: AUBE HAUTE MARNE | E6: 21 | F6: CHAUMONT | G6: 410560 | H6: BOURBONNE LES BAINS | I6: =VLOOKUP(G6,ETP!$J$11:$M$324,4,FALSE) -> 2 | K6: =SUMIF('RECAP PDV'!$E:$E,$G6,'RECAP PDV'!K:K) -> 0 | L6: =K6/$I6 -> 0 | M6: =IF(M$288="NON",(M$284-L6)/M$284,(M$284-L6)/M$286*M$282) -> #DIV/0! | N6: =RANK(M6,M$6:M$278,1) -> #DIV/0! | O6: =SUMIF('RECAP PDV'!$E:$E,$G6,'RECAP PDV'!O:O) -> 10 | P6: =O6/$I6 -> 5 | Q6: =IF(Q$288="NON",(Q$284-P6)/Q$284,(Q$284-P6)/Q$286*Q$282) -> 0.67391304 | R6: =RANK(Q6,Q$6:Q$278,1) -> 81 | S6: =SUMIF('RECAP PDV'!$E:$E,$G6,'RECAP PDV'!S:S) -> 0 | T6: =S6/$I6 -> 0 | U6: =IF(U$288="NON",(U$284-T6)/U$284,(U$284-T6)/U$286*U$282) -> 1 | V6: =RANK(U6,U$6:U$278,1) -> 181 | W6: =SUMIF('RECAP PDV'!$E:$E,$G6,'RECAP PDV'!W:W) -> 66.8 | X6: =W6/$I6 -> 33.4 | Y6: =IF(Y$288="NON",(Y$284-X6)/Y$284,(Y$284-X6)/Y$286*Y$282) -> 0.5061652 | Z6: =RANK(Y6,Y$6:Y$278,1) -> 2 | AA6: =SUMIF('RECAP PDV'!$E:$E,$G6,'RECAP PDV'!AA:AA) -> 2 | AB6: =AA6/$I6 -> 1 | AC6: =IF(AC$288="NON",(AC$284-AB6)/AC$284,(AC$284-AB6)/AC$286*AC$282) -> 0.63346702 | AD6: =RANK(AC6,AC$6:AC$278,1) -> 34 | AE6: =SUMIF('RECAP PDV'!$E:$E,$G6,'RECAP PDV'!AE:AE) -> 0.01932984 | AF6: =AE6/$I6 -> 0.00966492 | AG6: =IF(AG$288="NON",(AG$284-AF6)/AG$284,(AG$284-AF6)/AG$286*AG$282) -> 0.99962484 | AH6: =RANK(AG6,AG$6:AG$278,1) -> 263 | AI6: =SUMIF('RECAP PDV'!$E:$E,$G6,'RECAP PDV'!AI:AI) -> 0 | AJ6: =AI6/$I6 -> 0 | AK6: =IF(AK$288="NON",(AK$284-AJ6)/AK$284,(AK$284-AJ6)/AK$286*AK$282) -> 1 | AL6: =RANK(AK6,AK$6:AK$278,1) -> 204 | AM6: =SUMIF('RECAP PDV'!$E:$E,$G6,'RECAP PDV'!AM:AM) -> 3 | AN6: =AM6/$I6 -> 1.5 | AO6: =IF(AO$288="NON",(AO$284-AN6)/AO$284,(AO$284-AN6)/AO$286*AO$282) -> 0.74348875 | AP6: =RANK(AO6,AO$6:AO$278,1) -> 22 | AQ6: =SUMIF('RECAP PDV'!$E:$E,$G6,'RECAP PDV'!AQ:AQ) -> 0 | AR6: =AQ6/$I6 -> 0 | AS6: =IF(AS$288="NON",(AS$284-AR6)/AS$284,(AS$284-AR6)/AS$286*AS$282) -> 1 | AT6: =RANK(AS6,AS$6:AS$278,1) -> 85 | AU6: =SUMIF('RECAP PDV'!$E:$E,$G6,'RECAP PDV'!AU:AU) -> 788.6 | AV6: =SUMIF('RECAP PDV'!$E:$E,$G6,'RECAP PDV'!AV:AV) -> 11806.3 | AW6: =IF(AW$288="NON",(AW$284-AV6)/AW$284,(AW$284-AV6)/AW$286*AW$282) -> 0.93404142 | AX6: =RANK(AW6,AW$6:AW$278,1) -> 111
A7: 10566 | C7: 50 | D7: AUBE HAUTE MARNE | E7: 21 | F7: CHAUMONT | G7: 410566 | H7: CHAUMONT HOTEL DE VILLE | I7: =VLOOKUP(G7,ETP!$J$11:$M$324,4,FALSE) -> 7.9130435 | K7: =SUMIF('RECAP PDV'!$E:$E,$G7,'RECAP PDV'!K:K) -> 0 | L7: =K7/$I7 -> 0 | M7: =IF(M$288="NON",(M$284-L7)/M$284,(M$284-L7)/M$286*M$282) -> #DIV/0! | N7: =RANK(M7,M$6:M$278,1) -> #DIV/0! | O7: =SUMIF('RECAP PDV'!$E:$E,$G7,'RECAP PDV'!O:O) -> 48 | P7: =O7/$I7 -> 6.0659341 | Q7: =IF(Q$288="NON",(Q$284-P7)/Q$284,(Q$284-P7)/Q$286*Q$282) -> 0.6043956 | R7: =RANK(Q7,Q$6:Q$278,1) -> 53 | S7: =SUMIF('RECAP PDV'!$E:$E,$G7,'RECAP PDV'!S:S) -> 4 | T7: =S7/$I7 -> 0.50549451 | U7: =IF(U$288="NON",(U$284-T7)/U$284,(U$284-T7)/U$286*U$282) -> 0.78559571 | V7: =RANK(U7,U$6:U$278,1) -> 73 | W7: =SUMIF('RECAP PDV'!$E:$E,$G7,'RECAP PDV'!W:W) -> 95.2 | X7: =W7/$I7 -> 12.030769 | Y7: =IF(Y$288="NON",(Y$284-X7)/Y$284,(Y$284-X7)/Y$286*Y$282) -> 0.82211939 | Z7: =RANK(Y7,Y$6:Y$278,1) -> 47 | AA7: =SUMIF('RECAP PDV'!$E:$E,$G7,'RECAP PDV'!AA:AA) -> 6 | AB7: =AA7/$I7 -> 0.75824176 | AC7: =IF(AC$288="NON",(AC$284-AB7)/AC$284,(AC$284-AB7)/AC$286*AC$282) -> 0.72207939 | AD7: =RANK(AC7,AC$6:AC$278,1) -> 62 | AE7: =SUMIF('RECAP PDV'!$E:$E,$G7,'RECAP PDV'!AE:AE) -> 26.901386 | AF7: =AE7/$I7 -> 3.3996257 | AG7: =IF(AG$288="NON",(AG$284-AF7)/AG$284,(AG$284-AF7)/AG$286*AG$282) -> 0.86803859 | AH7: =RANK(AG7,AG$6:AG$278,1) -> 151 | AI7: =SUMIF('RECAP PDV'!$E:$E,$G7,'RECAP PDV'!AI:AI) -> 2 | AJ7: =AI7/$I7 -> 0.25274725 | AK7: =IF(AK$288="NON",(AK$284-AJ7)/AK$284,(AK$284-AJ7)/AK$286*AK$282) -> 0.85498205 | AL7: =RANK(AK7,AK$6:AK$278,1) -> 175 | AM7: =SUMIF('RECAP PDV'!$E:$E,$G7,'RECAP PDV'!AM:AM) -> 10 | AN7: =AM7/$I7 -> 1.2637363 | AO7: =IF(AO$288="NON",(AO$284-AN7)/AO$284,(AO$284-AN7)/AO$286*AO$282) -> 0.77606791 | AP7: =RANK(AO7,AO$6:AO$278,1) -> 34 | AQ7: =SUMIF('RECAP PDV'!$E:$E,$G7,'RECAP PDV'!AQ:AQ) -> 1 | AR7: =AQ7/$I7 -> 0.12637363 | AS7: =IF(AS$288="NON",(AS$284-AR7)/AS$284,(AS$284-AR7)/AS$286*AS$282) -> 0.88938516 | AT7: =RANK(AS7,AS$6:AS$278,1) -> 73 | AU7: =SUMIF('RECAP PDV'!$E:$E,$G7,'RECAP PDV'!AU:AU) -> 45288.7 | AV7: =AU7/$I7 -> 5723.2973 | AW7: =IF(AW$288="NON",(AW$284-AV7)/AW$284,(AW$284-AV7)/AW$286*AW$282) -> 0.9680255 | AX7: =RANK(AW7,AW$6:AW$278,1) -> 179
A8: 10590 | C8: 50 | D8: AUBE HAUTE MARNE | E8: 21 | F8: CHAUMONT | G8: 510590 | H8: CHAUMONT REPUBLIQUE | I8: =VLOOKUP(G8,ETP!$J$11:$M$324,4,FALSE) -> 3.9130435 | K8: =SUMIF('RECAP PDV'!$E:$E,$G8,'RECAP PDV'!K:K) -> 0 | L8: =K8/$I8 -> 0 | M8: =IF(M$288="NON",(M$284-L8)/M$284,(M$284-L8)/M$286*M$282) -> #DIV/0! | N8: =RANK(M8,M$6:M$278,1) -> #DIV/0! | O8: =SUMIF('RECAP PDV'!$E:$E,$G8,'RECAP PDV'!O:O) -> 25 | P8: =O8/$I8 -> 6.3888889 | Q8: =IF(Q$288="NON",(Q$284-P8)/Q$284,(Q$284-P8)/Q$286*Q$282) -> 0.58333333 | R8: =RANK(Q8,Q$6:Q$278,1) -> 45 | S8: =SUMIF('RECAP PDV'!$E:$E,$G8,'RECAP PDV'!S:S) -> 2 | T8: =S8/$I8 -> 0.51111111 | U8: =IF(U$288="NON",(U$284-T8)/U$284,(U$284-T8)/U$286*U$282) -> 0.78321344 | V8: =RANK(U8,U$6:U$278,1) -> 72 | W8: =SUMIF('RECAP PDV'!$E:$E,$G8,'RECAP PDV'!W:W) -> 50.4 | X8: =W8/$I8 -> 12.88 | Y8: =IF(Y$288="NON",(Y$284-X8)/Y$284,(Y$284-X8)/Y$286*Y$282) -> 0.80956311 | Z8: =RANK(Y8,Y$6:Y$278,1) -> 36 | AA8: =SUMIF('RECAP PDV'!$E:$E,$G8,'RECAP PDV'!AA:AA) -> 1 | AB8: =AA8/$I8 -> 0.25555556 | AC8: =IF(AC$288="NON",(AC$284-AB8)/AC$284,(AC$284-AB8)/AC$286*AC$282) -> 0.90633046 | AD8: =RANK(AC8,AC$6:AC$278,1) -> 193 | AE8: =SUMIF('RECAP PDV'!$E:$E,$G8,'RECAP PDV'!AE:AE) -> 43.364178 | AF8: =AE8/$I8 -> 11.081957 | AG8: =IF(AG$288="NON",(AG$284-AF8)/AG$284,(AG$284-AF8)/AG$286*AG$282) -> 0.56983778 | AH8: =RANK(AG8,AG$6:AG$278,1) -> 18 | AI8: =SUMIF('RECAP PDV'!$E:$E,$G8,'RECAP PDV'!AI:AI) -> 1 | AJ8: =AI8/$I8 -> 0.25555556 | AK8: =IF(AK$288="NON",(AK$284-AJ8)/AK$284,(AK$284-AJ8)/AK$286*AK$282) -> 0.85337074 | AL8: =RANK(AK8,AK$6:AK$278,1) -> 172 | AM8: =SUMIF('RECAP PDV'!$E:$E,$G8,'RECAP PDV'!AM:AM) -> 1 | AN8: =AM8/$I8 -> 0.25555556 | AO8: =IF(AO$288="NON",(AO$284-AN8)/AO$284,(AO$284-AN8)/AO$286*AO$282) -> 0.91508916 | AP8: =RANK(AO8,AO$6:AO$278,1) -> 122 | AQ8: =SUMIF('RECAP PDV'!$E:$E,$G8,'RECAP PDV'!AQ:AQ) -> 0 | AR8: =AQ8/$I8 -> 0 | AS8: =IF(AS$288="NON",(AS$284-AR8)/AS$284,(AS$284-AR8)/AS$286*AS$282) -> 1 | AT8: =RANK(AS8,AS$6:AS$278,1) -> 85 | AU8: =SUMIF('RECAP PDV'!$E:$E,$G8,'RECAP PDV'!AU:AU) -> 6226.5 | AV8: =AU8/$I8 -> 1591.2167 | AW8: =IF(AW$288="NON",(AW$284-AV8)/AW$284,(AW$284-AV8)/AW$286*AW$282) -> 0.99111031 | AX8: =RANK(AW8,AW$6:AW$278,1) -> 222
A9: 51154 | C9: 50 | D9: AUBE HAUTE MARNE | E9: 21 | F9: CHAUMONT | G9: 451154 | H9: JOINVILLE | I9: =VLOOKUP(G9,ETP!$J$11:$M$324,4,FALSE) -> 2 | K9: =SUMIF('RECAP PDV'!$E:$E,$G9,'RECAP PDV'!K:K) -> 0 | L9: =K9/$I9 -> 0 | M9: =IF(M$288="NON",(M$284-L9)/M$284,(M$284-L9)/M$286*M$282) -> #DIV/0! | N9: =RANK(M9,M$6:M$278,1) -> #DIV/0! | O9: =SUMIF('RECAP PDV'!$E:$E,$G9,'RECAP PDV'!O:O) -> 7 | P9: =O9/$I9 -> 3.5 | Q9: =IF(Q$288="NON",(Q$284-P9)/Q$284,(Q$284-P9)/Q$286*Q$282) -> 0.77173913 | R9: =RANK(Q9,Q$6:Q$278,1) -> 135 | S9: =SUMIF('RECAP PDV'!$E:$E,$G9,'RECAP PDV'!S:S) -> 1 | T9: =S9/$I9 -> 0.5 | U9: =IF(U$288="NON",(U$284-T9)/U$284,(U$284-T9)/U$286*U$282) -> 0.78792619 | V9: =RANK(U9,U$6:U$278,1) -> 75 | W9: =SUMIF('RECAP PDV'!$E:$E,$G9,'RECAP PDV'!W:W) -> 34.4 | X9: =W9/$I9 -> 17.2 | Y9: =IF(Y$288="NON",(Y$284-X9)/Y$284,(Y$284-X9)/Y$286*Y$282) -> 0.74568986 | Z9: =RANK(Y9,Y$6:Y$278,1) -> 14 | AA9: =SUMIF('RECAP PDV'!$E:$E,$G9,'RECAP PDV'!AA:AA) -> 0 | AB9: =AA9/$I9 -> 0 | AC9: =IF(AC$288="NON",(AC$284-AB9)/AC$284,(AC$284-AB9)/AC$286*AC$282) -> 1 | AD9: =RANK(AC9,AC$6:AC$278,1) -> 219 | AE9: =SUMIF('RECAP PDV'!$E:$E,$G9,'RECAP PDV'!AE:AE) -> 4.4701301 | AF9: =AE9/$I9 -> 2.2350651 | AG9: =IF(AG$288="NON",(AG$284-AF9)/AG$284,(AG$284-AF9)/AG$286*AG$282) -> 0.91324271 | AH9: =RANK(AG9,AG$6:AG$278,1) -> 187 | AI9: =SUMIF('RECAP PDV'!$E:$E,$G9,'RECAP PDV'!AI:AI) -> 0 | AJ9: =AI9/$I9 -> 0 | AK9: =IF(AK$288="NON",(AK$284-AJ9)/AK$284,(AK$284-AJ9)/AK$286*AK$282) -> 1 | AL9: =RANK(AK9,AK$6:AK$278,1) -> 204 | AM9: =SUMIF('RECAP PDV'!$E:$E,$G9,'RECAP PDV'!AM:AM) -> -1 | AN9: =AM9/$I9 -> -0.5 | AO9: =IF(AO$288="NON",(AO$284-AN9)/AO$284,(AO$284-AN9)/AO$286*AO$282) -> 1.0192751 | AP9: =RANK(AO9,AO$6:AO$278,1) -> 192 | AQ9: =SUMIF('RECAP PDV'!$E:$E,$G9,'RECAP PDV'!AQ:AQ) -> 0 | AR9: =AQ9/$I9 -> 0 | AS9: =IF(AS$288="NON",(AS$284-AR9)/AS$284,(AS$284-AR9)/AS$286*AS$282) -> 1 | AT9: =RANK(AS9,AS$6:AS$278,1) -> 85 | AU9: =SUMIF('RECAP PDV'!$E:$E,$G9,'RECAP PDV'!AU:AU) -> 4744.4 | AV9: =AU9/$I9 -> 2372.2 | AW9: =IF(AW$288="NON",(AW$284-AV9)/AW$284,(AW$284-AV9)/AW$286*AW$282) -> 0.98674717 | AX9: =RANK(AW9,AW$6:AW$278,1) -> 214
A10: 10541 | C10: 50 | D10: AUBE HAUTE MARNE | E10: 21 | F10: CHAUMONT | G10: 410541 | H10: LANGRES | I10: =VLOOKUP(G10,ETP!$J$11:$M$324,4,FALSE) -> 6.6950435 | K10: =SUMIF('RECAP PDV'!$E:$E,$G10,'RECAP PDV'!K:K) -> 0 | L10: =K10/$I10 -> 0 | M10: =IF(M$288="NON",(M$284-L10)/M$284,(M$284-L10)/M$286*M$282) -> #DIV/0! | N10: =RANK(M10,M$6:M$278,1) -> #DIV/0! | O10: =SUMIF('RECAP PDV'!$E:$E,$G10,'RECAP PDV'!O:O) -> 48 | P10: =O10/$I10 -> 7.1694829 | Q10: =IF(Q$288="NON",(Q$284-P10)/Q$284,(Q$284-P10)/Q$286*Q$282) -> 0.53242503 | R10: =RANK(Q10,Q$6:Q$278,1) -> 33 | S10: =SUMIF('RECAP PDV'!$E:$E,$G10,'RECAP PDV'!S:S) -> 4 | T10: =S10/$I10 -> 0.59745691 | U10: =IF(U$288="NON",(U$284-T10)/U$284,(U$284-T10)/U$286*U$282) -> 0.74659007 | V10: =RANK(U10,U$6:U$278,1) -> 54 | W10: =SUMIF('RECAP PDV'!$E:$E,$G10,'RECAP PDV'!W:W) -> 12.8 | X10: =W10/$I10 -> 1.9118621 | Y10: =IF(Y$288="NON",(Y$284-X10)/Y$284,(Y$284-X10)/Y$286*Y$282) -> 0.97173221 | Z10: =RANK(Y10,Y$6:Y$278,1) -> 195 | AA10: =SUMIF('RECAP PDV'!$E:$E,$G10,'RECAP PDV'!AA:AA) -> 4 | AB10: =AA10/$I10 -> 0.59745691 | AC10: =IF(AC$288="NON",(AC$284-AB10)/AC$284,(AC$284-AB10)/AC$286*AC$282) -> 0.78101234 | AD10: =RANK(AC10,AC$6:AC$278,1) -> 98 | AE10: =SUMIF('RECAP PDV'!$E:$E,$G10,'RECAP PDV'!AE:AE) -> 32.878495 | AF10: =AE10/$I10 -> 4.910871 | AG10: =IF(AG$288="NON",(AG$284-AF10)/AG$284,(AG$284-AF10)/AG$286*AG$282) -> 0.80937742 | AH10: =RANK(AG10,AG$6:AG$278,1) -> 110 | AI10: =SUMIF('RECAP PDV'!$E:$E,$G10,'RECAP PDV'!AI:AI) -> 6 | AJ10: =AI10/$I10 -> 0.89618537 | AK10: =IF(AK$288="NON",(AK$284-AJ10)/AK$284,(AK$284-AJ10)/AK$286*AK$282) -> 0.48579871 | AL10: =RANK(AK10,AK$6:AK$278,1) -> 16 | AM10: =SUMIF('RECAP PDV'!$E:$E,$G10,'RECAP PDV'!AM:AM) -> 4 | AN10: =AM10/$I10 -> 0.59745691 | AO10: =IF(AO$288="NON",(AO$284-AN10)/AO$284,(AO$284-AN10)/AO$286*AO$282) -> 0.8679433 | AP10: =RANK(AO10,AO$6:AO$278,1) -> 77 | AQ10: =SUMIF('RECAP PDV'!$E:$E,$G10,'RECAP PDV'!AQ:AQ) -> 0 | AR10: =AQ10/$I10 -> 0 | AS10: =IF(AS$288="NON",(AS$284-AR10)/AS$284,(AS$284-AR10)/AS$286*AS$282) -> 1 | AT10: =RANK(AS10,AS$6:AS$278,1) -> 85 | AU10: =SUMIF('RECAP PDV'!$E:$E,$G10,'RECAP PDV'!AU:AU) -> 147008.9 | AV10: =AU10/$I10 -> 21957.871 | AW10: =IF(AW$288="NON",(AW$284-AV10)/AW$284,(AW$284-AV10)/AW$286*AW$282) -> 0.87732737 | AX10: =RANK(AW10,AW$6:AW$278,1) -> 51
A11: 51156 | C11: 50 | D11: AUBE HAUTE MARNE | E11: 21 | F11: CHAUMONT | G11: 451156 | H11: SAINT DIZIER CENTRE | I11: =VLOOKUP(G11,ETP!$J$11:$M$324,4,FALSE) -> 7.7826087 | K11: =SUMIF('RECAP PDV'!$E:$E,$G11,'RECAP PDV'!K:K) -> 0 | L11: =K11/$I11 -> 0 | M11: =IF(M$288="NON",(M$284-L11)/M$284,(M$284-L11)/M$286*M$282) -> #DIV/0! | N11: =RANK(M11,M$6:M$278,1) -> #DIV/0! | O11: =SUMIF('RECAP PDV'!$E:$E,$G11,'RECAP PDV'!O:O) -> 27 | P11: =O11/$I11 -> 3.4692737 | Q11: =IF(Q$288="NON",(Q$284-P11)/Q$284,(Q$284-P11)/Q$286*Q$282) -> 0.77374302 | R11: =RANK(Q11,Q$6:Q$278,1) -> 139 | S11: =SUMIF('RECAP PDV'!$E:$E,$G11,'RECAP PDV'!S:S) -> 4 | T11: =S11/$I11 -> 0.51396648 | U11: =IF(U$288="NON",(U$284-T11)/U$284,(U$284-T11)/U$286*U$282) -> 0.78200234 | V11: =RANK(U11,U$6:U$278,1) -> 71 | W11: =SUMIF('RECAP PDV'!$E:$E,$G11,'RECAP PDV'!W:W) -> 22 | X11: =W11/$I11 -> 2.8268156 | Y11: =IF(Y$288="NON",(Y$284-X11)/Y$284,(Y$284-X11)/Y$286*Y$282) -> 0.95820419 | Z11: =RANK(Y11,Y$6:Y$278,1) -> 183 | AA11: =SUMIF('RECAP PDV'!$E:$E,$G11,'RECAP PDV'!AA:AA) -> 4 | AB11: =AA11/$I11 -> 0.51396648 | AC11: =IF(AC$288="NON",(AC$284-AB11)/AC$284,(AC$284-AB11)/AC$286*AC$282) -> 0.81161433 | AD11: =RANK(AC11,AC$6:AC$278,1) -> 113 | AE11: =SUMIF('RECAP PDV'!$E:$E,$G11,'RECAP PDV'!AE:AE) -> 12.228171 | AF11: =AE11/$I11 -> 1.5712175 | AG11: =IF(AG$288="NON",(AG$284-AF11)/AG$284,(AG$284-AF11)/AG$286*AG$282) -> 0.93901091 | AH11: =RANK(AG11,AG$6:AG$278,1) -> 212 | AI11: =SUMIF('RECAP PDV'!$E:$E,$G11,'RECAP PDV'!AI:AI) -> 2 | AJ11: =AI11/$I11 -> 0.25698324 | AK11: =IF(AK$288="NON",(AK$284-AJ11)/AK$284,(AK$284-AJ11)/AK$286*AK$282) -> 0.85255158 | AL11: =RANK(AK11,AK$6:AK$278,1) -> 171 | AM11: =SUMIF('RECAP PDV'!$E:$E,$G11,'RECAP PDV'!AM:AM) -> 0 | AN11: =AM11/$I11 -> 0 | AO11: =IF(AO$288="NON",(AO$284-AN11)/AO$284,(AO$284-AN11)/AO$286*AO$282) -> 0.95032853 | AP11: =RANK(AO11,AO$6:AO$278,1) -> 133 | AQ11: =SUMIF('RECAP PDV'!$E:$E,$G11,'RECAP PDV'!AQ:AQ) -> 2 | AR11: =AQ11/$I11 -> 0.25698324 | AS11: =IF(AS$288="NON",(AS$284-AR11)/AS$284,(AS$284-AR11)/AS$286*AS$282) -> 0.77506257 | AT11: =RANK(AS11,AS$6:AS$278,1) -> 39 | AU11: =SUMIF('RECAP PDV'!$E:$E,$G11,'RECAP PDV'!AU:AU) -> 68875.7 | AV11: =AU11/$I11 -> 8849.9503 | AW11: =IF(AW$288="NON",(AW$284-AV11)/AW$284,(AW$284-AV11)/AW$286*AW$282) -> 0.95055774 | AX11: =RANK(AW11,AW$6:AW$278,1) -> 148
A12: 51157 | C12: 50 | D12: AUBE HAUTE MARNE | E12: 21 | F12: CHAUMONT | G12: 551157 | H12: SAINT DIZIER EUROPE | I12: =VLOOKUP(G12,ETP!$J$11:$M$324,4,FALSE) -> 2.8754 | K12: =SUMIF('RECAP PDV'!$E:$E,$G12,'RECAP PDV'!K:K) -> 0 | L12: =K12/$I12 -> 0 | M12: =IF(M$288="NON",(M$284-L12)/M$284,(M$284-L12)/M$286*M$282) -> #DIV/0! | N12: =RANK(M12,M$6:M$278,1) -> #DIV/0! | O12: =SUMIF('RECAP PDV'!$E:$E,$G12,'RECAP PDV'!O:O) -> 11 | P12: =O12/$I12 -> 3.8255547 | Q12: =IF(Q$288="NON",(Q$284-P12)/Q$284,(Q$284-P12)/Q$286*Q$282) -> 0.7505073 | R12: =RANK(Q12,Q$6:Q$278,1) -> 120 | S12: =SUMIF('RECAP PDV'!$E:$E,$G12,'RECAP PDV'!S:S) -> 0 | T12: =S12/$I12 -> 0 | U12: =IF(U$288="NON",(U$284-T12)/U$284,(U$284-T12)/U$286*U$282) -> 1 | V12: =RANK(U12,U$6:U$278,1) -> 181 | W12: =SUMIF('RECAP PDV'!$E:$E,$G12,'RECAP PDV'!W:W) -> 22.4 | X12: =W12/$I12 -> 7.7902205 | Y12: =IF(Y$288="NON",(Y$284-X12)/Y$284,(Y$284-X12)/Y$286*Y$282) -> 0.88481791 | Z12: =RANK(Y12,Y$6:Y$278,1) -> 98 | AA12: =SUMIF('RECAP PDV'!$E:$E,$G12,'RECAP PDV'!AA:AA) -> 2 | AB12: =AA12/$I12 -> 0.6955554 | AC12: =IF(AC$288="NON",(AC$284-AB12)/AC$284,(AC$284-AB12)/AC$286*AC$282) -> 0.74505601 | AD12: =RANK(AC12,AC$6:AC$278,1) -> 81 | AE12: =SUMIF('RECAP PDV'!$E:$E,$G12,'RECAP PDV'!AE:AE) -> 3.6653491 | AF12: =AE12/$I12 -> 1.2747267 | AG12: =IF(AG$288="NON",(AG$284-AF12)/AG$284,(AG$284-AF12)/AG$286*AG$282) -> 0.95051963 | AH12: =RANK(AG12,AG$6:AG$278,1) -> 225 | AI12: =SUMIF('RECAP PDV'!$E:$E,$G12,'RECAP PDV'!AI:AI) -> 1 | AJ12: =AI12/$I12 -> 0.3477777 | AK12: =IF(AK$288="NON",(AK$284-AJ12)/AK$284,(AK$284-AJ12)/AK$286*AK$282) -> 0.80045675 | AL12: =RANK(AK12,AK$6:AK$278,1) -> 128 | AM12: =SUMIF('RECAP PDV'!$E:$E,$G12,'RECAP PDV'!AM:AM) -> -5 | AN12: =AM12/$I12 -> -1.7388885 | AO12: =IF(AO$288="NON",(AO$284-AN12)/AO$284,(AO$284-AN12)/AO$286*AO$282) -> 1.1901094 | AP12: =RANK(AO12,AO$6:AO$278,1) -> 255 | AQ12: =SUMIF('RECAP PDV'!$E:$E,$G12,'RECAP PDV'!AQ:AQ) -> 0 | AR12: =AQ12/$I12 -> 0 | AS12: =IF(AS$288="NON",(AS$284-AR12)/AS$284,(AS$284-AR12)/AS$286*AS$282) -> 1 | AT12: =RANK(AS12,AS$6:AS$278,1) -> 85 | AU12: =SUMIF('RECAP PDV'!$E:$E,$G12,'RECAP PDV'!AU:AU) -> 1534.5 | AV12: =AU12/$I12 -> 533.66488 | AW12: =IF(AW$288="NON",(AW$284-AV12)/AW$284,(AW$284-AV12)/AW$286*AW$282) -> 0.99701856 | AX12: =RANK(AW12,AW$6:AW$278,1) -> 235
A13: 51151 | C13: 50 | D13: AUBE HAUTE MARNE | E13: 21 | F13: CHAUMONT | G13: 451151 | H13: WASSY | I13: =VLOOKUP(G13,ETP!$J$11:$M$324,4,FALSE) -> 3 | K13: =SUMIF('RECAP PDV'!$E:$E,$G13,'RECAP PDV'!K:K) -> 0 | L13: =K13/$I13 -> 0 | M13: =IF(M$288="NON",(M$284-L13)/M$284,(M$284-L13)/M$286*M$282) -> #DIV/0! | N13: =RANK(M13,M$6:M$278,1) -> #DIV/0! | O13: =SUMIF('RECAP PDV'!$E:$E,$G13,'RECAP PDV'!O:O) -> 14 | P13: =O13/$I13 -> 4.6666667 | Q13: =IF(Q$288="NON",(Q$284-P13)/Q$284,(Q$284-P13)/Q$286*Q$282) -> 0.69565217 | R13: =RANK(Q13,Q$6:Q$278,1) -> 92 | S13: =SUMIF('RECAP PDV'!$E:$E,$G13,'RECAP PDV'!S:S) -> 0 | T13: =S13/$I13 -> 0 | U13: =IF(U$288="NON",(U$284-T13)/U$284,(U$284-T13)/U$286*U$282) -> 1 | V13: =RANK(U13,U$6:U$278,1) -> 181 | W13: =SUMIF('RECAP PDV'!$E:$E,$G13,'RECAP PDV'!W:W) -> 34 | X13: =W13/$I13 -> 11.333333 | Y13: =IF(Y$288="NON",(Y$284-X13)/Y$284,(Y$284-X13)/Y$286*Y$282) -> 0.83243131 | Z13: =RANK(Y13,Y$6:Y$278,1) -> 54 | AA13: =SUMIF('RECAP PDV'!$E:$E,$G13,'RECAP PDV'!AA:AA) -> 0 | AB13: =AA13/$I13 -> 0 | AC13: =IF(AC$288="NON",(AC$284-AB13)/AC$284,(AC$284-AB13)/AC$286*AC$282) -> 1 | AD13: =RANK(AC13,AC$6:AC$278,1) -> 219 | AE13: =SUMIF('RECAP PDV'!$E:$E,$G13,'RECAP PDV'!AE:AE) -> 8.0860474 | AF13: =AE13/$I13 -> 2.6953491 | AG13: =IF(AG$288="NON",(AG$284-AF13)/AG$284,(AG$284-AF13)/AG$286*AG$282) -> 0.89537611 | AH13: =RANK(AG13,AG$6:AG$278,1) -> 171 | AI13: =SUMIF('RECAP PDV'!$E:$E,$G13,'RECAP PDV'!AI:AI) -> 3 | AJ13: =AI13/$I13 -> 1 | AK13: =IF(AK$288="NON",(AK$284-AJ13)/AK$284,(AK$284-AJ13)/AK$286*AK$282) -> 0.42623333 | AL13: =RANK(AK13,AK$6:AK$278,1) -> 12 | AM13: =SUMIF('RECAP PDV'!$E:$E,$G13,'RECAP PDV'!AM:AM) -> -2 | AN13: =AM13/$I13 -> -0.66666667 | AO13: =IF(AO$288="NON",(AO$284-AN13)/AO$284,(AO$284-AN13)/AO$286*AO$282) -> 1.0422573 | AP13: =RANK(AO13,AO$6:AO$278,1) -> 198 | AQ13: =SUMIF('RECAP PDV'!$E:$E,$G13,'RECAP PDV'!AQ:AQ) -> 0 | AR13: =AQ13/$I13 -> 0 | AS13: =IF(AS$288="NON",(AS$284-AR13)/AS$284,(AS$284-AR13)/AS$286*AS$282) -> 1 | AT13: =RANK(AS13,AS$6:AS$278,1) -> 85 | AU13: =SUMIF('RECAP PDV'!$E:$E,$G13,'RECAP PDV'!AU:AU) -> 13032.2 | AV13: =AU13/$I13 -> 4344.0667 | AW13: =IF(AW$288="NON",(AW$284-AV13)/AW$284,(AW$284-AV13)/AW$286*AW$282) -> 0.97573089 | AX13: =RANK(AW13,AW$6:AW$278,1) -> 195
A14: 10530 | C14: 50 | D14: AUBE HAUTE MARNE | E14: 14 | F14: TROYES | G14: 510530 | H14: ARCIS SUR AUBE | I14: =VLOOKUP(G14,ETP!$J$11:$M$324,4,FALSE) -> 3.5652174 | K14: =SUMIF('RECAP PDV'!$E:$E,$G14,'RECAP PDV'!K:K) -> 0 | L14: =K14/$I14 -> 0 | M14: =IF(M$288="NON",(M$284-L14)/M$284,(M$284-L14)/M$286*M$282) -> #DIV/0! | N14: =RANK(M14,M$6:M$278,1) -> #DIV/0! | O14: =SUMIF('RECAP PDV'!$E:$E,$G14,'RECAP PDV'!O:O) -> 18 | P14: =O14/$I14 -> 5.0487805 | Q14: =IF(Q$288="NON",(Q$284-P14)/Q$284,(Q$284-P14)/Q$286*Q$282) -> 0.67073171 | R14: =RANK(Q14,Q$6:Q$278,1) -> 80 | S14: =SUMIF('RECAP PDV'!$E:$E,$G14,'RECAP PDV'!S:S) -> 1 | T14: =S14/$I14 -> 0.2804878 | U14: =IF(U$288="NON",(U$284-T14)/U$284,(U$284-T14)/U$286*U$282) -> 0.88103177 | V14: =RANK(U14,U$6:U$278,1) -> 140 | W14: =SUMIF('RECAP PDV'!$E:$E,$G14,'RECAP PDV'!W:W) -> 11.6 | X14: =W14/$I14 -> 3.2536585 | Y14: =IF(Y$288="NON",(Y$284-X14)/Y$284,(Y$284-X14)/Y$286*Y$282) -> 0.95189312 | Z14: =RANK(Y14,Y$6:Y$278,1) -> 174 | AA14: =SUMIF('RECAP PDV'!$E:$E,$G14,'RECAP PDV'!AA:AA) -> 0 | AB14: =AA14/$I14 -> 0 | AC14: =IF(AC$288="NON",(AC$284-AB14)/AC$284,(AC$284-AB14)/AC$286*AC$282) -> 1 | AD14: =RANK(AC14,AC$6:AC$278,1) -> 219 | AE14: =SUMIF('RECAP PDV'!$E:$E,$G14,'RECAP PDV'!AE:AE) -> 6.2483641 | AF14: =AE14/$I14 -> 1.7525899 | AG14: =IF(AG$288="NON",(AG$284-AF14)/AG$284,(AG$284-AF14)/AG$286*AG$282) -> 0.93197068 | AH14: =RANK(AG14,AG$6:AG$278,1) -> 202 | AI14: =SUMIF('RECAP PDV'!$E:$E,$G14,'RECAP PDV'!AI:AI) -> 1 | AJ14: =AI14/$I14 -> 0.2804878 | AK14: =IF(AK$288="NON",(AK$284-AJ14)/AK$284,(AK$284-AJ14)/AK$286*AK$282) -> 0.83906545 | AL14: =RANK(AK14,AK$6:AK$278,1) -> 161 | AM14: =SUMIF('RECAP PDV'!$E:$E,$G14,'RECAP PDV'!AM:AM) -> 0 | AN14: =AM14/$I14 -> 0 | AO14: =IF(AO$288="NON",(AO$284-AN14)/AO$284,(AO$284-AN14)/AO$286*AO$282) -> 0.95032853 | AP14: =RANK(AO14,AO$6:AO$278,1) -> 133 | AQ14: =SUMIF('RECAP PDV'!$E:$E,$G14,'RECAP PDV'!AQ:AQ) -> 0 | AR14: =AQ14/$I14 -> 0 | AS14: =IF(AS$288="NON",(AS$284-AR14)/AS$284,(AS$284-AR14)/AS$286*AS$282) -> 1 | AT14: =RANK(AS14,AS$6:AS$278,1) -> 85 | AU14: =SUMIF('RECAP PDV'!$E:$E,$G14,'RECAP PDV'!AU:AU) -> 91877 | AV14: =AU14/$I14 -> 25770.378 | AW14: =IF(AW$288="NON",(AW$284-AV14)/AW$284,(AW$284-AV14)/AW$286*AW$282) -> 0.85602793 | AX14: =RANK(AW14,AW$6:AW$278,1) -> 41
A15: 10550 | C15: 50 | D15: AUBE HAUTE MARNE | E15: 14 | F15: TROYES | G15: 410550 | H15: BAR SUR AUBE | I15: =VLOOKUP(G15,ETP!$J$11:$M$324,4,FALSE) -> 5.4347826 | K15: =SUMIF('RECAP PDV'!$E:$E,$G15,'RECAP PDV'!K:K) -> 0 | L15: =K15/$I15 -> 0 | M15: =IF(M$288="NON",(M$284-L15)/M$284,(M$284-L15)/M$286*M$282) -> #DIV/0! | N15: =RANK(M15,M$6:M$278,1) -> #DIV/0! | O15: =SUMIF('RECAP PDV'!$E:$E,$G15,'RECAP PDV'!O:O) -> 41 | P15: =O15/$I15 -> 7.544 | Q15: =IF(Q$288="NON",(Q$284-P15)/Q$284,(Q$284-P15)/Q$286*Q$282) -> 0.508 | R15: =RANK(Q15,Q$6:Q$278,1) -> 27 | S15: =SUMIF('RECAP PDV'!$E:$E,$G15,'RECAP PDV'!S:S) -> 1 | T15: =S15/$I15 -> 0.184 | U15: =IF(U$288="NON",(U$284-T15)/U$284,(U$284-T15)/U$286*U$282) -> 0.92195684 | V15: =RANK(U15,U$6:U$278,1) -> 168 | W15: =SUMIF('RECAP PDV'!$E:$E,$G15,'RECAP PDV'!W:W) -> 8 | X15: =W15/$I15 -> 1.472 | Y15: =IF(Y$288="NON",(Y$284-X15)/Y$284,(Y$284-X15)/Y$286*Y$282) -> 0.97823578 | Z15: =RANK(Y15,Y$6:Y$278,1) -> 208 | AA15: =SUMIF('RECAP PDV'!$E:$E,$G15,'RECAP PDV'!AA:AA) -> 1 | AB15: =AA15/$I15 -> 0.184 | AC15: =IF(AC$288="NON",(AC$284-AB15)/AC$284,(AC$284-AB15)/AC$286*AC$282) -> 0.93255793 | AD15: =RANK(AC15,AC$6:AC$278,1) -> 208 | AE15: =SUMIF('RECAP PDV'!$E:$E,$G15,'RECAP PDV'!AE:AE) -> 28.069369 | AF15: =AE15/$I15 -> 5.1647638 | AG15: =IF(AG$288="NON",(AG$284-AF15)/AG$284,(AG$284-AF15)/AG$286*AG$282) -> 0.7995222 | AH15: =RANK(AG15,AG$6:AG$278,1) -> 101 | AI15: =SUMIF('RECAP PDV'!$E:$E,$G15,'RECAP PDV'!AI:AI) -> 2 | AJ15: =AI15/$I15 -> 0.368 | AK15: =IF(AK$288="NON",(AK$284-AJ15)/AK$284,(AK$284-AJ15)/AK$286*AK$282) -> 0.78885387 | AL15: =RANK(AK15,AK$6:AK$278,1) -> 114 | AM15: =SUMIF('RECAP PDV'!$E:$E,$G15,'RECAP PDV'!AM:AM) -> 1 | AN15: =AM15/$I15 -> 0.184 | AO15: =IF(AO$288="NON",(AO$284-AN15)/AO$284,(AO$284-AN15)/AO$286*AO$282) -> 0.92495619 | AP15: =RANK(AO15,AO$6:AO$278,1) -> 131 | AQ15: =SUMIF('RECAP PDV'!$E:$E,$G15,'RECAP PDV'!AQ:AQ) -> 0 | AR15: =AQ15/$I15 -> 0 | AS15: =IF(AS$288="NON",(AS$284-AR15)/AS$284,(AS$284-AR15)/AS$286*AS$282) -> 1 | AT15: =RANK(AS15,AS$6:AS$278,1) -> 85 | AU15: =SUMIF('RECAP PDV'!$E:$E,$G15,'RECAP PDV'!AU:AU) -> 12543.8 | AV15: =AU15/$I15 -> 2308.0592 | AW15: =IF(AW$288="NON",(AW$284-AV15)/AW$284,(AW$284-AV15)/AW$286*AW$282) -> 0.9871055 | AX15: =RANK(AW15,AW$6:AW$278,1) -> 215
A16: 10556 | C16: 50 | D16: AUBE HAUTE MARNE | E16: 14 | F16: TROYES | G16: 510556 | H16: BAR SUR SEINE | I16: =VLOOKUP(G16,ETP!$J$11:$M$324,4,FALSE) -> 3.748 | K16: =SUMIF('RECAP PDV'!$E:$E,$G16,'RECAP PDV'!K:K) -> 0 | L16: =K16/$I16 -> 0 | M16: =IF(M$288="NON",(M$284-L16)/M$284,(M$284-L16)/M$286*M$282) -> #DIV/0! | N16: =RANK(M16,M$6:M$278,1) -> #DIV/0! | O16: =SUMIF('RECAP PDV'!$E:$E,$G16,'RECAP PDV'!O:O) -> 25 | P16: =O16/$I16 -> 6.6702241 | Q16: =IF(Q$288="NON",(Q$284-P16)/Q$284,(Q$284-P16)/Q$286*Q$282) -> 0.56498538 | R16: =RANK(Q16,Q$6:Q$278,1) -> 40 | S16: =SUMIF('RECAP PDV'!$E:$E,$G16,'RECAP PDV'!S:S) -> 0 | T16: =S16/$I16 -> 0 | U16: =IF(U$288="NON",(U$284-T16)/U$284,(U$284-T16)/U$286*U$282) -> 1 | V16: =RANK(U16,U$6:U$278,1) -> 181 | W16: =SUMIF('RECAP PDV'!$E:$E,$G16,'RECAP PDV'!W:W) -> -13.6 | X16: =W16/$I16 -> -3.6286019 | Y16: =IF(Y$288="NON",(Y$284-X16)/Y$284,(Y$284-X16)/Y$286*Y$282) -> 1.0536506 | Z16: =RANK(Y16,Y$6:Y$278,1) -> 262 | AA16: =SUMIF('RECAP PDV'!$E:$E,$G16,'RECAP PDV'!AA:AA) -> 0 | AB16: =AA16/$I16 -> 0 | AC16: =IF(AC$288="NON",(AC$284-AB16)/AC$284,(AC$284-AB16)/AC$286*AC$282) -> 1 | AD16: =RANK(AC16,AC$6:AC$278,1) -> 219 | AE16: =SUMIF('RECAP PDV'!$E:$E,$G16,'RECAP PDV'!AE:AE) -> 21.431666 | AF16: =AE16/$I16 -> 5.7181605 | AG16: =IF(AG$288="NON",(AG$284-AF16)/AG$284,(AG$284-AF16)/AG$286*AG$282) -> 0.7780413 | AH16: =RANK(AG16,AG$6:AG$278,1) -> 88 | AI16: =SUMIF('RECAP PDV'!$E:$E,$G16,'RECAP PDV'!AI:AI) -> 4 | AJ16: =AI16/$I16 -> 1.0672359 | AK16: =IF(AK$288="NON",(AK$284-AJ16)/AK$284,(AK$284-AJ16)/AK$286*AK$282) -> 0.38765564 | AL16: =RANK(AK16,AK$6:AK$278,1) -> 9 | AM16: =SUMIF('RECAP PDV'!$E:$E,$G16,'RECAP PDV'!AM:AM) -> 0 | AN16: =AM16/$I16 -> 0 | AO16: =IF(AO$288="NON",(AO$284-AN16)/AO$284,(AO$284-AN16)/AO$286*AO$282) -> 0.95032853 | AP16: =RANK(AO16,AO$6:AO$278,1) -> 133 | AQ16: =SUMIF('RECAP PDV'!$E:$E,$G16,'RECAP PDV'!AQ:AQ) -> 0 | AR16: =AQ16/$I16 -> 0 | AS16: =IF(AS$288="NON",(AS$284-AR16)/AS$284,(AS$284-AR16)/AS$286*AS$282) -> 1 | AT16: =RANK(AS16,AS$6:AS$278,1) -> 85 | AU16: =SUMIF('RECAP PDV'!$E:$E,$G16,'RECAP PDV'!AU:AU) -> 34606.2 | AV16: =AU16/$I16 -> 9233.2444 | AW16: =IF(AW$288="NON",(AW$284-AV16)/AW$284,(AW$284-AV16)/AW$286*AW$282) -> 0.94841638 | AX16: =RANK(AW16,AW$6:AW$278,1) -> 141
A17: 10523 | C17: 50 | D17: AUBE HAUTE MARNE | E17: 14 | F17: TROYES | G17: 510523 | H17: LA CHAPELLE ST LUC | I17: =VLOOKUP(G17,ETP!$J$11:$M$324,4,FALSE) -> 5.6642087 | K17: =SUMIF('RECAP PDV'!$E:$E,$G17,'RECAP PDV'!K:K) -> 0 | L17: =K17/$I17 -> 0 | M17: =IF(M$288="NON",(M$284-L17)/M$284,(M$284-L17)/M$286*M$282) -> #DIV/0! | N17: =RANK(M17,M$6:M$278,1) -> #DIV/0! | O17: =SUMIF('RECAP PDV'!$E:$E,$G17,'RECAP PDV'!O:O) -> 35 | P17: =O17/$I17 -> 6.1791509 | Q17: =IF(Q$288="NON",(Q$284-P17)/Q$284,(Q$284-P17)/Q$286*Q$282) -> 0.5970119 | R17: =RANK(Q17,Q$6:Q$278,1) -> 51 | S17: =SUMIF('RECAP PDV'!$E:$E,$G17,'RECAP PDV'!S:S) -> 3 | T17: =S17/$I17 -> 0.5296415 | U17: =IF(U$288="NON",(U$284-T17)/U$284,(U$284-T17)/U$286*U$282) -> 0.77535382 | V17: =RANK(U17,U$6:U$278,1) -> 66 | W17: =SUMIF('RECAP PDV'!$E:$E,$G17,'RECAP PDV'!W:W) -> -19.6 | X17: =W17/$I17 -> -3.4603245 | Y17: =IF(Y$288="NON",(Y$284-X17)/Y$284,(Y$284-X17)/Y$286*Y$282) -> 1.0511625 | Z17: =RANK(Y17,Y$6:Y$278,1) -> 261 | AA17: =SUMIF('RECAP PDV'!$E:$E,$G17,'RECAP PDV'!AA:AA) -> 1 | AB17: =AA17/$I17 -> 0.17654717 | AC17: =IF(AC$288="NON",(AC$284-AB17)/AC$284,(AC$284-AB17)/AC$286*AC$282) -> 0.93528964 | AD17: =RANK(AC17,AC$6:AC$278,1) -> 210 | AE17: =SUMIF('RECAP PDV'!$E:$E,$G17,'RECAP PDV'!AE:AE) -> 28.37516 | AF17: =AE17/$I17 -> 5.009554 | AG17: =IF(AG$288="NON",(AG$284-AF17)/AG$284,(AG$284-AF17)/AG$286*AG$282) -> 0.80554689 | AH17: =RANK(AG17,AG$6:AG$278,1) -> 106 | AI17: =SUMIF('RECAP PDV'!$E:$E,$G17,'RECAP PDV'!AI:AI) -> 2 | AJ17: =AI17/$I17 -> 0.35309433 | AK17: =IF(AK$288="NON",(AK$284-AJ17)/AK$284,(AK$284-AJ17)/AK$286*AK$282) -> 0.79740624 | AL17: =RANK(AK17,AK$6:AK$278,1) -> 124 | AM17: =SUMIF('RECAP PDV'!$E:$E,$G17,'RECAP PDV'!AM:AM) -> -5 | AN17: =AM17/$I17 -> -0.88273584 | AO17: =IF(AO$288="NON",(AO$284-AN17)/AO$284,(AO$284-AN17)/AO$286*AO$282) -> 1.0720518 | AP17: =RANK(AO17,AO$6:AO$278,1) -> 217 | AQ17: =SUMIF('RECAP PDV'!$E:$E,$G17,'RECAP PDV'!AQ:AQ) -> 1 | AR17: =AQ17/$I17 -> 0.17654717 | AS17: =IF(AS$288="NON",(AS$284-AR17)/AS$284,(AS$284-AR17)/AS$286*AS$282) -> 0.84546826 | AT17: =RANK(AS17,AS$6:AS$278,1) -> 67 | AU17: =SUMIF('RECAP PDV'!$E:$E,$G17,'RECAP PDV'!AU:AU) -> 43167.6 | AV17: =AU17/$I17 -> 7621.1175 | AW17: =IF(AW$288="NON",(AW$284-AV17)/AW$284,(AW$284-AV17)/AW$286*AW$282) -> 0.9574229 | AX17: =RANK(AW17,AW$6:AW$278,1) -> 157
A18: 10570 | C18: 50 | D18: AUBE HAUTE MARNE | E18: 14 | F18: TROYES | G18: 510570 | H18: NOGENT SUR SEINE | I18: =VLOOKUP(G18,ETP!$J$11:$M$324,4,FALSE) -> 4.6950435 | K18: =SUMIF('RECAP PDV'!$E:$E,$G18,'RECAP PDV'!K:K) -> 0 | L18: =K18/$I18 -> 0 | M18: =IF(M$288="NON",(M$284-L18)/M$284,(M$284-L18)/M$286*M$282) -> #DIV/0! | N18: =RANK(M18,M$6:M$278,1) -> #DIV/0! | O18: =SUMIF('RECAP PDV'!$E:$E,$G18,'RECAP PDV'!O:O) -> 1 | P18: =O18/$I18 -> 0.21299057 | Q18: =IF(Q$288="NON",(Q$284-P18)/Q$284,(Q$284-P18)/Q$286*Q$282) -> 0.98610931 | R18: =RANK(Q18,Q$6:Q$278,1) -> 249 | S18: =SUMIF('RECAP PDV'!$E:$E,$G18,'RECAP PDV'!S:S) -> 0 | T18: =S18/$I18 -> 0 | U18: =IF(U$288="NON",(U$284-T18)/U$284,(U$284-T18)/U$286*U$282) -> 1 | V18: =RANK(U18,U$6:U$278,1) -> 181 | W18: =SUMIF('RECAP PDV'!$E:$E,$G18,'RECAP PDV'!W:W) -> 22.4 | X18: =W18/$I18 -> 4.7709888 | Y18: =IF(Y$288="NON",(Y$284-X18)/Y$284,(Y$284-X18)/Y$286*Y$282) -> 0.92945867 | Z18: =RANK(Y18,Y$6:Y$278,1) -> 138 | AA18: =SUMIF('RECAP PDV'!$E:$E,$G18,'RECAP PDV'!AA:AA) -> 1 | AB18: =AA18/$I18 -> 0.21299057 | AC18: =IF(AC$288="NON",(AC$284-AB18)/AC$284,(AC$284-AB18)/AC$286*AC$282) -> 0.92193193 | AD18: =RANK(AC18,AC$6:AC$278,1) -> 204 | AE18: =SUMIF('RECAP PDV'!$E:$E,$G18,'RECAP PDV'!AE:AE) -> 25.69166 | AF18: =AE18/$I18 -> 5.4720813 | AG18: =IF(AG$288="NON",(AG$284-AF18)/AG$284,(AG$284-AF18)/AG$286*AG$282) -> 0.78759322 | AH18: =RANK(AG18,AG$6:AG$278,1) -> 92 | AI18: =SUMIF('RECAP PDV'!$E:$E,$G18,'RECAP PDV'!AI:AI) -> 3 | AJ18: =AI18/$I18 -> 0.63897172 | AK18: =IF(AK$288="NON",(AK$284-AJ18)/AK$284,(AK$284-AJ18)/AK$286*AK$282) -> 0.63337933 | AL18: =RANK(AK18,AK$6:AK$278,1) -> 50 | AM18: =SUMIF('RECAP PDV'!$E:$E,$G18,'RECAP PDV'!AM:AM) -> 3 | AN18: =AM18/$I18 -> 0.63897172 | AO18: =IF(AO$288="NON",(AO$284-AN18)/AO$284,(AO$284-AN18)/AO$286*AO$282) -> 0.86221869 | AP18: =RANK(AO18,AO$6:AO$278,1) -> 71 | AQ18: =SUMIF('RECAP PDV'!$E:$E,$G18,'RECAP PDV'!AQ:AQ) -> 0 | AR18: =AQ18/$I18 -> 0 | AS18: =IF(AS$288="NON",(AS$284-AR18)/AS$284,(AS$284-AR18)/AS$286*AS$282) -> 1 | AT18: =RANK(AS18,AS$6:AS$278,1) -> 85 | AU18: =SUMIF('RECAP PDV'!$E:$E,$G18,'RECAP PDV'!AU:AU) -> 103447.4 | AV18: =AU18/$I18 -> 22033.321 | AW18: =IF(AW$288="NON",(AW$284-AV18)/AW$284,(AW$284-AV18)/AW$286*AW$282) -> 0.87690585 | AX18: =RANK(AW18,AW$6:AW$278,1) -> 50
... A278: 88666 | C278: 80 | D278: VOSGES | E278: 55 | F278: SAINT DIE | G278: 588666 | H278: VAGNEY | I278: =VLOOKUP(G278,ETP!$J$11:$M$324,4,FALSE) -> 3.8695652 | K278: =SUMIF('RECAP PDV'!$E:$E,$G278,'RECAP PDV'!K:K) -> 0 | L278: =K278/$I278 -> 0 | M278: =IF(M$288="NON",(M$284-L278)/M$284,(M$284-L278)/M$286*M$282) -> #DIV/0! | N278: =RANK(M278,M$6:M$278,1) -> #DIV/0! | O278: =SUMIF('RECAP PDV'!$E:$E,$G278,'RECAP PDV'!O:O) -> 19 | P278: =O278/$I278 -> 4.9101124 | Q278: =IF(Q$288="NON",(Q$284-P278)/Q$284,(Q$284-P278)/Q$286*Q$282) -> 0.67977528 | R278: =RANK(Q278,Q$6:Q$278,1) -> 85 | S278: =SUMIF('RECAP PDV'!$E:$E,$G278,'RECAP PDV'!S:S) -> 3 | T278: =S278/$I278 -> 0.7752809 | U278: =IF(U$288="NON",(U$284-T278)/U$284,(U$284-T278)/U$286*U$282) -> 0.67116645 | V278: =RANK(U278,U$6:U$278,1) -> 29 | W278: =SUMIF('RECAP PDV'!$E:$E,$G278,'RECAP PDV'!W:W) -> 27.2 | X278: =W278/$I278 -> 7.0292135 | Y278: =IF(Y$288="NON",(Y$284-X278)/Y$284,(Y$284-X278)/Y$286*Y$282) -> 0.89606975 | Z278: =RANK(Y278,Y$6:Y$278,1) -> 105 | AA278: =SUMIF('RECAP PDV'!$E:$E,$G278,'RECAP PDV'!AA:AA) -> 3 | AB278: =AA278/$I278 -> 0.7752809 | AC278: =IF(AC$288="NON",(AC$284-AB278)/AC$284,(AC$284-AB278)/AC$286*AC$282) -> 0.71583398 | AD278: =RANK(AC278,AC$6:AC$278,1) -> 61 | AE278: =SUMIF('RECAP PDV'!$E:$E,$G278,'RECAP PDV'!AE:AE) -> 27.751674 | AF278: =AE278/$I278 -> 7.1717809 | AG278: =IF(AG$288="NON",(AG$284-AF278)/AG$284,(AG$284-AF278)/AG$286*AG$282) -> 0.72161692 | AH278: =RANK(AG278,AG$6:AG$278,1) -> 62 | AI278: =SUMIF('RECAP PDV'!$E:$E,$G278,'RECAP PDV'!AI:AI) -> 3 | AJ278: =AI278/$I278 -> 0.7752809 | AK278: =IF(AK$288="NON",(AK$284-AJ278)/AK$284,(AK$284-AJ278)/AK$286*AK$282) -> 0.55516966 | AL278: =RANK(AK278,AK$6:AK$278,1) -> 28 | AM278: =SUMIF('RECAP PDV'!$E:$E,$G278,'RECAP PDV'!AM:AM) -> 3 | AN278: =AM278/$I278 -> 0.7752809 | AO278: =IF(AO$288="NON",(AO$284-AN278)/AO$284,(AO$284-AN278)/AO$286*AO$282) -> 0.84342258 | AP278: =RANK(AO278,AO$6:AO$278,1) -> 57 | AQ278: =SUMIF('RECAP PDV'!$E:$E,$G278,'RECAP PDV'!AQ:AQ) -> 0 | AR278: =AQ278/$I278 -> 0 | AS278: =IF(AS$288="NON",(AS$284-AR278)/AS$284,(AS$284-AR278)/AS$286*AS$282) -> 1 | AT278: =RANK(AS278,AS$6:AS$278,1) -> 85 | AU278: =SUMIF('RECAP PDV'!$E:$E,$G278,'RECAP PDV'!AU:AU) -> 57331.1 | AV278: =AU278/$I278 -> 14815.902 | AW278: =IF(AW$288="NON",(AW$284-AV278)/AW$284,(AW$284-AV278)/AW$286*AW$282) -> 0.9172276 | AX278: =RANK(AW278,AW$6:AW$278,1) -> 97
G279: 4022 | H279: Mon banquier en ligne | I279: =VLOOKUP(G279,ETP!$J$11:$M$324,4,FALSE) -> 4.7727273 | K279: =SUMIF('RECAP PDV'!$E:$E,$G279,'RECAP PDV'!K:K) -> 0 | L279: =K279/$I279 -> 0 | M279: =IF(M$288="NON",(M$284-L279)/M$284,(M$284-L279)/M$286*M$282) -> #DIV/0! | N279: =RANK(M279,M$6:M$280,1) -> #DIV/0! | O279: =SUMIF('RECAP PDV'!$E:$E,$G279,'RECAP PDV'!O:O) -> 5 | P279: =O279/$I279 -> 1.047619 | Q279: =IF(Q$288="NON",(Q$284-P279)/Q$284,(Q$284-P279)/Q$286*Q$282) -> 0.93167702 | R279: =RANK(Q279,Q$6:Q$280,1) -> 224 | S279: =SUMIF('RECAP PDV'!$E:$E,$G279,'RECAP PDV'!S:S) -> 0 | T279: =S279/$I279 -> 0 | U279: =IF(U$288="NON",(U$284-T279)/U$284,(U$284-T279)/U$286*U$282) -> 1 | V279: =RANK(U279,U$6:U$280,1) -> 182 | W279: =SUMIF('RECAP PDV'!$E:$E,$G279,'RECAP PDV'!W:W) -> -12 | X279: =W279/$I279 -> -2.5142857 | Y279: =IF(Y$288="NON",(Y$284-X279)/Y$284,(Y$284-X279)/Y$286*Y$282) -> 1.0371749 | Z279: =RANK(Y279,Y$6:Y$280,1) -> 256 | AA279: =SUMIF('RECAP PDV'!$E:$E,$G279,'RECAP PDV'!AA:AA) -> 2 | AB279: =AA279/$I279 -> 0.41904762 | AC279: =IF(AC$288="NON",(AC$284-AB279)/AC$284,(AC$284-AB279)/AC$286*AC$282) -> 0.84640523 | AD279: =RANK(AC279,AC$6:AC$280,1) -> 141 | AE279: =SUMIF('RECAP PDV'!$E:$E,$G279,'RECAP PDV'!AE:AE) -> 26.770197 | AF279: =AE279/$I279 -> 5.6089937 | AG279: =IF(AG$288="NON",(AG$284-AF279)/AG$284,(AG$284-AF279)/AG$286*AG$282) -> 0.78227877 | AH279: =RANK(AG279,AG$6:AG$280,1) -> 90 | AI279: =SUMIF('RECAP PDV'!$E:$E,$G279,'RECAP PDV'!AI:AI) -> 0 | AJ279: =AI279/$I279 -> 0 | AK279: =IF(AK$288="NON",(AK$284-AJ279)/AK$284,(AK$284-AJ279)/AK$286*AK$282) -> 1 | AL279: =RANK(AK279,AK$6:AK$280,1) -> 205 | AM279: =SUMIF('RECAP PDV'!$E:$E,$G279,'RECAP PDV'!AM:AM) -> 0 | AN279: =AM279/$I279 -> 0 | AO279: =IF(AO$288="NON",(AO$284-AN279)/AO$284,(AO$284-AN279)/AO$286*AO$282) -> 0.95032853 | AP279: =RANK(AO279,AO$6:AO$280,1) -> 133 | AQ279: =SUMIF('RECAP PDV'!$E:$E,$G279,'RECAP PDV'!AQ:AQ) -> 0 | AR279: =AQ279/$I279 -> 0 | AS279: =IF(AS$288="NON",(AS$284-AR279)/AS$284,(AS$284-AR279)/AS$286*AS$282) -> 1 | AT279: =RANK(AS279,AS$6:AS$280,1) -> 85 | AU279: =SUMIF('RECAP PDV'!$E:$E,$G279,'RECAP PDV'!AU:AU) -> 43536.3 | AV279: =AU279/$I279 -> 9121.8914 | AW279: =IF(AW$288="NON",(AW$284-AV279)/AW$284,(AW$284-AV279)/AW$286*AW$282) -> 0.94903848 | AX279: =RANK(AW279,AW$6:AW$280,1) -> 144
G280: 4017 | H280: Agence du personnel | I280: =VLOOKUP(G280,ETP!$J$11:$M$324,4,FALSE) -> 10.7002 | K280: =SUMIF('RECAP PDV'!$E:$E,$G280,'RECAP PDV'!K:K) -> 0 | L280: =K280/$I280 -> 0 | M280: =IF(M$288="NON",(M$284-L280)/M$284,(M$284-L280)/M$286*M$282) -> #DIV/0! | N280: =RANK(M280,M$6:M$280,1) -> #DIV/0! | O280: =SUMIF('RECAP PDV'!$E:$E,$G280,'RECAP PDV'!O:O) -> 16 | P280: =O280/$I280 -> 1.4952992 | Q280: =IF(Q$288="NON",(Q$284-P280)/Q$284,(Q$284-P280)/Q$286*Q$282) -> 0.90248049 | R280: =RANK(Q280,Q$6:Q$280,1) -> 211 | S280: =SUMIF('RECAP PDV'!$E:$E,$G280,'RECAP PDV'!S:S) -> 2 | T280: =S280/$I280 -> 0.18691239 | U280: =IF(U$288="NON",(U$284-T280)/U$284,(U$284-T280)/U$286*U$282) -> 0.92072155 | V280: =RANK(U280,U$6:U$280,1) -> 168 | W280: =SUMIF('RECAP PDV'!$E:$E,$G280,'RECAP PDV'!W:W) -> 152.2 | X280: =W280/$I280 -> 14.224033 | Y280: =IF(Y$288="NON",(Y$284-X280)/Y$284,(Y$284-X280)/Y$286*Y$282) -> 0.78969094 | Z280: =RANK(Y280,Y$6:Y$280,1) -> 29 | AA280: =SUMIF('RECAP PDV'!$E:$E,$G280,'RECAP PDV'!AA:AA) -> 19 | AB280: =AA280/$I280 -> 1.7756677 | AC280: =IF(AC$288="NON",(AC$284-AB280)/AC$284,(AC$284-AB280)/AC$286*AC$282) -> 0.34915921 | AD280: =RANK(AC280,AC$6:AC$280,1) -> 9 | AE280: =SUMIF('RECAP PDV'!$E:$E,$G280,'RECAP PDV'!AE:AE) -> 57.524721 | AF280: =AE280/$I280 -> 5.3760417 | AG280: =IF(AG$288="NON",(AG$284-AF280)/AG$284,(AG$284-AF280)/AG$286*AG$282) -> 0.79132114 | AH280: =RANK(AG280,AG$6:AG$280,1) -> 98 | AI280: =SUMIF('RECAP PDV'!$E:$E,$G280,'RECAP PDV'!AI:AI) -> 3 | AJ280: =AI280/$I280 -> 0.28036859 | AK280: =IF(AK$288="NON",(AK$284-AJ280)/AK$284,(AK$284-AJ280)/AK$286*AK$282) -> 0.83913385 | AL280: =RANK(AK280,AK$6:AK$280,1) -> 162 | AM280: =SUMIF('RECAP PDV'!$E:$E,$G280,'RECAP PDV'!AM:AM) -> 0 | AN280: =AM280/$I280 -> 0 | AO280: =IF(AO$288="NON",(AO$284-AN280)/AO$284,(AO$284-AN280)/AO$286*AO$282) -> 0.95032853 | AP280: =RANK(AO280,AO$6:AO$280,1) -> 133 | AQ280: =SUMIF('RECAP PDV'!$E:$E,$G280,'RECAP PDV'!AQ:AQ) -> 0 | AR280: =AQ280/$I280 -> 0 | AS280: =IF(AS$288="NON",(AS$284-AR280)/AS$284,(AS$284-AR280)/AS$286*AS$282) -> 1 | AT280: =RANK(AS280,AS$6:AS$280,1) -> 85 | AU280: =SUMIF('RECAP PDV'!$E:$E,$G280,'RECAP PDV'!AU:AU) -> 6028.1 | AV280: =AU280/$I280 -> 563.3633 | AW280: =IF(AW$288="NON",(AW$284-AV280)/AW$284,(AW$284-AV280)/AW$286*AW$282) -> 0.99685264 | AX280: =RANK(AW280,AW$6:AW$280,1) -> 236
H282: Plafond écart:au 1er | M282: 1.5 | Q282: 1.5 | U282: 1.5 | Y282: 1.5 | AC282: 1.5 | AG282: 1.5 | AK282: 1.5 | AO282: 1.5 | AS282: 1.5 | AW282: 1.5
H284: Maximum ratio Agence | M284: =MAX(L6:L278) -> 0 | Q284: =MAX(P6:P278) -> 15.333333 | U284: =MAX(T6:T278) -> 2.3576697 | Y284: =MAX(X6:X278) -> 67.633954 | AC284: =MAX(AB6:AB278) -> 2.7282674 | AG284: =MAX(AF6:AF278) -> 25.762273 | AK284: =MAX(AJ6:AJ278) -> 1.7428688 | AO284: =MAX(AN6:AN278) -> 6.8917729 | AS284: =MAX(AR6:AR278) -> 1.1424654 | AW284: =MAX(AV6:AV278) -> 178995.68
H285: Minimum ratio Agence | M285: =MIN(L6:L278) -> 0 | Q285: =MIN(P6:P278) -> -4.0264092 | U285: =MIN(T6:T278) -> 0 | Y285: =MIN(X6:X278) -> -11.442674 | AC285: =MIN(AB6:AB278) -> 0 | AG285: =MIN(AF6:AF278) -> -7.4097628 | AK285: =MIN(AJ6:AJ278) -> 0 | AO285: =MIN(AN6:AN278) -> -3.9862119 | AS285: =MIN(AR6:AR278) -> 0 | AW285: =MIN(AV6:AV278) -> 0
H286: Ecart Min-Max | M286: =M284-M285 -> 0 | Q286: =Q284-Q285 -> 19.359743 | U286: =U284-U285 -> 2.3576697 | Y286: =Y284-Y285 -> 79.076629 | AC286: =AC284-AC285 -> 2.7282674 | AG286: =AG284-AG285 -> 33.172035 | AK286: =AK284-AK285 -> 1.7428688 | AO286: =AO284-AO285 -> 10.877985 | AS286: =AS284-AS285 -> 1.1424654 | AW286: =AW284-AW285 -> 178995.68
H287: Ecart au 1er Max Agence | M287: =(M284-M285)/ABS(M284) -> #DIV/0! | Q287: =(Q284-Q285)/ABS(Q284) -> 1.2625919 | U287: =(U284-U285)/ABS(U284) -> 1 | Y287: =(Y284-Y285)/ABS(Y284) -> 1.1691854 | AC287: =(AC284-AC285)/ABS(AC284) -> 1 | AG287: =(AG284-AG285)/ABS(AG284) -> 1.2876207 | AK287: =(AK284-AK285)/ABS(AK284) -> 1 | AO287: =(AO284-AO285)/ABS(AO284) -> 1.5784015 | AS287: =(AS284-AS285)/ABS(AS284) -> 1 | AW287: =(AW284-AW285)/ABS(AW284) -> 1
H288: Plafonnement Agence | M288: =IF(M287>M282,"OUI","NON") -> #DIV/0! | Q288: =IF(Q287>Q282,"OUI","NON") -> NON | U288: =IF(U287>U282,"OUI","NON") -> NON | Y288: =IF(Y287>Y282,"OUI","NON") -> NON | AC288: =IF(AC287>AC282,"OUI","NON") -> NON | AG288: =IF(AG287>AG282,"OUI","NON") -> NON | AK288: =IF(AK287>AK282,"OUI","NON") -> NON | AO288: =IF(AO287>AO282,"OUI","NON") -> OUI | AS288: =IF(AS287>AS282,"OUI","NON") -> NON | AW288: =IF(AW287>AW282,"OUI","NON") -> NON

Sheet RECAP TER
G1: 1 | H1: 2 | I1: 3 | J1: 4 | K1: 5 | L1: 6 | M1: 7 | N1: 8 | O1: 9 | P1: 10 | Q1: 11 | R1: 12 | S1: 13 | T1: 14 | U1: 15 | V1: 16 | W1: 17 | X1: 18 | Y1: 19 | Z1: 20 | AA1: 21 | AB1: 22 | AC1: 23 | AD1: 24 | AE1: 25 | AF1: 26 | AG1: 27 | AH1: 28 | AI1: 29 | AJ1: 30 | AK1: 31 | AL1: 32 | AM1: 33 | AN1: 34 | AO1: 35 | AP1: 36 | AQ1: 37 | AR1: 38 | AS1: 39 | AT1: 40 | AU1: 41 | AV1: 42 | AW1: 43 | AX1: 44 | AY1: 45 | AZ1: 46 | BA1: 47 | BB1: 48 | BC1: 49 | BD1: 50 | BE1: 51 | BF1: 52 | BG1: 53 | BH1: 54 | BI1: 55 | BJ1: 56 | BK1: 57 | BL1: 58 | BM1: 59 | BN1: 60 | BO1: 61
K2: CLIENTS | O2: BANCARISATION | W2: IARD PREV | AE2: CREDIT | AM2: ASSURANCE VIE
K3: Evolution nb clients Premium | O3: Ventes nettes produits pondérés (cartes 1er, Platinum, Infinite) | S3: Ventes sur Clients PREMIUM non détenteurs | W3: Ventes nettes produits pondérés (idem Gd Public) | AA3: Ventes sur Clients PREMIUM non détenteurs | AE3: Ventes nettes produits | AI3: Ventes sur Clients PREMIUM non détenteurs | AM3: Ventes nettes produits | AQ3: Ventes sur client non détenteur de l’univers | AU3: Taux d'UC Assurance Vie | BL3: Total général
K4: =MAX(L6:L23) -> 0 | M4: coef | N4: =+'RECAP PDV'!N4 -> 0.3 | O4: =MAX(P6:P23) -> 15.318337 | Q4: coef | R4: =+'RECAP PDV'!R4 -> 0.1 | S4: =MAX(T6:T23) -> 1.5318337 | U4: coef | V4: =+'RECAP PDV'!V4 -> 0.05 | W4: =MAX(X6:X23) -> 38.190291 | Y4: coef | Z4: =+'RECAP PDV'!Z4 -> 0.1 | AA4: =MAX(AB6:AB23) -> 2.5365826 | AC4: coef | AD4: =+'RECAP PDV'!AD4 -> 0.05 | AE4: =MAX(AF6:AF23) -> 16.937085 | AG4: coef | AH4: =+'RECAP PDV'!AH4 -> 0.1 | AI4: =MAX(AJ6:AJ23) -> 1.3071896 | AK4: coef | AL4: =+'RECAP PDV'!AL4 -> 0.05 | AM4: =MAX(AN6:AN23) -> 1.757462 | AO4: coef | AP4: =+'RECAP PDV'!AP4 -> 0.1 | AQ4: =MAX(AR6:AR23) -> 0.57277672 | AS4: coef | AT4: =+'RECAP PDV'!AT4 -> 0.05 | AU4: =MAX(AV6:AV23) -> 0.47571942 | AW4: coef | AX4: =+'RECAP PDV'!AX4 -> 0.1 | BL4: =MIN(BL6:BL23) -> 0.22843834 | BM4: coef | BN4: 1
D5: eds pnb | E5: NO GROUPE | F5: groupe | G5: UC | H5: libelle uc | I5: ETP | K5: REAL | L5: REAL / ETP | M5: % Ecart au 1er | N5: Rang | O5: REAL | P5: REAL / ETP | Q5: % Ecart au 1er | R5: Rang | S5: REAL | T5: REAL / ETP | U5: % Ecart au 1er | V5: Rang | W5: REAL | X5: REAL / ETP | Y5: % Ecart au 1er | Z5: Rang | AA5: REAL | AB5: REAL / ETP | AC5: % Ecart au 1er | AD5: Rang | AE5: PNB | AF5: PNB / ETP | AG5: % Ecart au 1er | AH5: Rang | AI5: REAL | AJ5: REAL / ETP | AK5: % Ecart au 1er | AL5: Rang | AM5: REAL | AN5: REAL / ETP | AO5: % Ecart au 1er | AP5: Rang | AQ5: REAL | AR5: REAL / ETP | AS5: % Ecart au 1er | AT5: Rang | AU5: REAL | AV5: REAL | AW5: % Ecart au 1er | AX5: Rang | BL5: Moyenne ecart au 1er | BM5: % Ecart au 1er | BN5: Rang CEGEE
D6: 100021 | E6: 50 | F6: AUBE HAUTE MARNE | G6: 21 | H6: CHAUMONT | I6: =VLOOKUP(G6,ETP!$F$11:$H$90,3,FALSE) -> 13.658944 | K6: =SUMIF('RECAP PDV'!$C:$C,$G6,'RECAP PDV'!K:K) -> 0 | L6: =K6/$I6 -> 0 | M6: 0 | N6: =RANK(M6,M$6:M$23,1) -> 1 | O6: =SUMIF('RECAP PDV'!$C:$C,$G6,'RECAP PDV'!O:O) -> 190 | P6: =O6/$I6 -> 13.910299 | Q6: =IF(Q$33="NON",(Q$29-P6)/Q$29,(Q$29-P6)/Q$31*Q$27) -> 0.091918432 | R6: =RANK(Q6,Q$6:Q$23,1) -> 3 | S6: =SUMIF('RECAP PDV'!$C:$C,$G6,'RECAP PDV'!S:S) -> 15 | T6: =S6/$I6 -> 1.0981815 | U6: =IF(U$33="NON",(U$29-T6)/U$29,(U$29-T6)/U$31*U$27) -> 0.2830935 | V6: =RANK(U6,U$6:U$23,1) -> 6 | W6: =SUMIF('RECAP PDV'!$C:$C,$G6,'RECAP PDV'!W:W) -> 338 | X6: =W6/$I6 -> 24.74569 | Y6: =IF(Y$33="NON",(Y$29-X6)/ABS(Y$29),(Y$29-X6)/Y$31*Y$27) -> 0.35204239 | Z6: =RANK(Y6,Y$6:Y$23,1) -> 2 | AA6: =SUMIF('RECAP PDV'!$C:$C,$G6,'RECAP PDV'!AA:AA) -> 19 | AB6: =AA6/$I6 -> 1.3910299 | AC6: =IF(AC$33="NON",(AC$29-AB6)/AC$29,(AC$29-AB6)/AC$31*AC$27) -> 0.45161261 | AD6: =RANK(AC6,AC$6:AC$23,1) -> 8 | AE6: =SUMIF('RECAP PDV'!$C:$C,$G6,'RECAP PDV'!AE:AE) -> 131.61309 | AF6: =AE6/$I6 -> 9.6356705 | AG6: =IF(AG$33="NON",(AG$29-AF6)/AG$29,(AG$29-AF6)/AG$31*AG$27) -> 0.4310904 | AH6: =RANK(AG6,AG$6:AG$23,1) -> 16 | AI6: =SUMIF('RECAP PDV'!$C:$C,$G6,'RECAP PDV'!AI:AI) -> 15 | AJ6: =AI6/$I6 -> 1.0981815 | AK6: =IF(AK$33="NON",(AK$29-AJ6)/AK$29,(AK$29-AJ6)/AK$31*AK$27) -> 0.15989119 | AL6: =RANK(AK6,AK$6:AK$23,1) -> 5 | AM6: =SUMIF('RECAP PDV'!$C:$C,$G6,'RECAP PDV'!AM:AM) -> 10 | AN6: =AM6/$I6 -> 0.732121 | AO6: =IF(AO$33="NON",(AO$29-AN6)/AO$29,(AO$29-AN6)/AO$31*AO$27) -> 0.48791628 | AP6: =RANK(AO6,AO$6:AO$23,1) -> 4 | AQ6: =SUMIF('RECAP PDV'!$C:$C,$G6,'RECAP PDV'!AQ:AQ) -> 3 | AR6: =AQ6/$I6 -> 0.2196363 | AS6: =IF(AS$33="NON",(AS$29-AR6)/AS$29,(AS$29-AR6)/AS$31*AS$27) -> 0.61654115 | AT6: =RANK(AS6,AS$6:AS$23,1) -> 12 | AU6: =SUMIF('RECAP PDV'!$C:$C,$G6,'RECAP PDV'!AU:AU)/SUMIF('RECAP PDV'!$C:$C,$G6,'RECAP PDV'!AV:AV) -> 0.36551103 | AV6: =AU6 -> 0.36551103 | AW6: =IF(AW$33="NON",(AW$29-AV6)/AW$29,(AW$29-AV6)/AW$31*AW$27) -> 0.23166679 | AX6: =RANK(AW6,AW$6:AW$23,1) -> 7 | BL6: =M6*$N$4+Q6*$R$4+U6*$V$4+Y6*$Z$4+AC6*$AD$4+AG6*$AH$4+AK6*$AL$4+AO6*$AP$4+AS6*$AT$4+AW6*$AX$4 -> 0.23502035 | BM6: =+BL6-$BL$4 -> 0.0065820085 | BN6: =RANK(BM6,BM$6:BM$23,1) -> 3
D7: 100014 | E7: 50 | F7: AUBE HAUTE MARNE | G7: 14 | H7: TROYES | I7: =VLOOKUP(G7,ETP!$F$11:$H$90,3,FALSE) -> 28.21349 | K7: =SUMIF('RECAP PDV'!$C:$C,$G7,'RECAP PDV'!K:K) -> 0 | L7: =K7/$I7 -> 0 | M7: 0 | N7: =RANK(M7,M$6:M$23,1) -> 1 | O7: =SUMIF('RECAP PDV'!$C:$C,$G7,'RECAP PDV'!O:O) -> 250 | P7: =O7/$I7 -> 8.8610095 | Q7: =IF(Q$33="NON",(Q$29-P7)/Q$29,(Q$29-P7)/Q$31*Q$27) -> 0.42154232 | R7: =RANK(Q7,Q$6:Q$23,1) -> 12 | S7: =SUMIF('RECAP PDV'!$C:$C,$G7,'RECAP PDV'!S:S) -> 13 | T7: =S7/$I7 -> 0.46077249 | U7: =IF(U$33="NON",(U$29-T7)/U$29,(U$29-T7)/U$31*U$27) -> 0.699202 | V7: =RANK(U7,U$6:U$23,1) -> 17 | W7: =SUMIF('RECAP PDV'!$C:$C,$G7,'RECAP PDV'!W:W) -> 110.6 | X7: =W7/$I7 -> 3.9201106 | Y7: =IF(Y$33="NON",(Y$29-X7)/ABS(Y$29),(Y$29-X7)/Y$31*Y$27) -> 0.89735322 | Z7: =RANK(Y7,Y$6:Y$23,1) -> 18 | AA7: =SUMIF('RECAP PDV'!$C:$C,$G7,'RECAP PDV'!AA:AA) -> 21 | AB7: =AA7/$I7 -> 0.7443248 | AC7: =IF(AC$33="NON",(AC$29-AB7)/AC$29,(AC$29-AB7)/AC$31*AC$27) -> 0.70656394 | AD7: =RANK(AC7,AC$6:AC$23,1) -> 17 | AE7: =SUMIF('RECAP PDV'!$C:$C,$G7,'RECAP PDV'!AE:AE) -> 286.48916 | AF7: =AE7/$I7 -> 10.154332 | AG7: =IF(AG$33="NON",(AG$29-AF7)/AG$29,(AG$29-AF7)/AG$31*AG$27) -> 0.40046754 | AH7: =RANK(AG7,AG$6:AG$23,1) -> 13 | AI7: =SUMIF('RECAP PDV'!$C:$C,$G7,'RECAP PDV'!AI:AI) -> 32 | AJ7: =AI7/$I7 -> 1.1342092 | AK7: =IF(AK$33="NON",(AK$29-AJ7)/AK$29,(AK$29-AJ7)/AK$31*AK$27) -> 0.13233 | AL7: =RANK(AK7,AK$6:AK$23,1) -> 4 | AM7: =SUMIF('RECAP PDV'!$C:$C,$G7,'RECAP PDV'!AM:AM) -> -33 | AN7: =AM7/$I7 -> -1.1696533 | AO7: =IF(AO$33="NON",(AO$29-AN7)/AO$29,(AO$29-AN7)/AO$31*AO$27) -> 1.3928899 | AP7: =RANK(AO7,AO$6:AO$23,1) -> 17 | AQ7: =SUMIF('RECAP PDV'!$C:$C,$G7,'RECAP PDV'!AQ:AQ) -> 6 | AR7: =AQ7/$I7 -> 0.21266423 | AS7: =IF(AS$33="NON",(AS$29-AR7)/AS$29,(AS$29-AR7)/AS$31*AS$27) -> 0.62871356 | AT7: =RANK(AS7,AS$6:AS$23,1) -> 13 | AU7: =SUMIF('RECAP PDV'!$C:$C,$G7,'RECAP PDV'!AU:AU)/SUMIF('RECAP PDV'!$C:$C,$G7,'RECAP PDV'!AV:AV) -> 0.33410724 | AV7: =AU7 -> 0.33410724 | AW7: =IF(AW$33="NON",(AW$29-AV7)/AW$29,(AW$29-AV7)/AW$31*AW$27) -> 0.29768005 | AX7: =RANK(AW7,AW$6:AW$23,1) -> 12 | BL7: =M7*$N$4+Q7*$R$4+U7*$V$4+Y7*$Z$4+AC7*$AD$4+AG7*$AH$4+AK7*$AL$4+AO7*$AP$4+AS7*$AT$4+AW7*$AX$4 -> 0.44933378 | BM7: =+BL7-$BL$4 -> 0.22089544 | BN7: =RANK(BM7,BM$6:BM$23,1) -> 18
D8: 105060 | E8: 262 | F8: BAS-RHIN | G8: 5060 | H8: HAGUENAU | I8: =VLOOKUP(G8,ETP!$F$11:$H$90,3,FALSE) -> 24.40497 | K8: =SUMIF('RECAP PDV'!$C:$C,$G8,'RECAP PDV'!K:K) -> 0 | L8: =K8/$I8 -> 0 | M8: 0 | N8: =RANK(M8,M$6:M$23,1) -> 1 | O8: =SUMIF('RECAP PDV'!$C:$C,$G8,'RECAP PDV'!O:O) -> 298 | P8: =O8/$I8 -> 12.210628 | Q8: =IF(Q$33="NON",(Q$29-P8)/Q$29,(Q$29-P8)/Q$31*Q$27) -> 0.20287508 | R8: =RANK(Q8,Q$6:Q$23,1) -> 4 | S8: =SUMIF('RECAP PDV'!$C:$C,$G8,'RECAP PDV'!S:S) -> 20 | T8: =S8/$I8 -> 0.81950522 | U8: =IF(U$33="NON",(U$29-T8)/U$29,(U$29-T8)/U$31*U$27) -> 0.46501683 | V8: =RANK(U8,U$6:U$23,1) -> 12 | W8: =SUMIF('RECAP PDV'!$C:$C,$G8,'RECAP PDV'!W:W) -> 442.2 | X8: =W8/$I8 -> 18.119261 | Y8: =IF(Y$33="NON",(Y$29-X8)/ABS(Y$29),(Y$29-X8)/Y$31*Y$27) -> 0.52555323 | Z8: =RANK(Y8,Y$6:Y$23,1) -> 7 | AA8: =SUMIF('RECAP PDV'!$C:$C,$G8,'RECAP PDV'!AA:AA) -> 36 | AB8: =AA8/$I8 -> 1.4751094 | AC8: =IF(AC$33="NON",(AC$29-AB8)/AC$29,(AC$29-AB8)/AC$31*AC$27) -> 0.41846585 | AD8: =RANK(AC8,AC$6:AC$23,1) -> 6 | AE8: =SUMIF('RECAP PDV'!$C:$C,$G8,'RECAP PDV'!AE:AE) -> 391.4986 | AF8: =AE8/$I8 -> 16.041757 | AG8: =IF(AG$33="NON",(AG$29-AF8)/AG$29,(AG$29-AF8)/AG$31*AG$27) -> 0.052861986 | AH8: =RANK(AG8,AG$6:AG$23,1) -> 2 | AI8: =SUMIF('RECAP PDV'!$C:$C,$G8,'RECAP PDV'!AI:AI) -> 18 | AJ8: =AI8/$I8 -> 0.7375547 | AK8: =IF(AK$33="NON",(AK$29-AJ8)/AK$29,(AK$29-AJ8)/AK$31*AK$27) -> 0.43577068 | AL8: =RANK(AK8,AK$6:AK$23,1) -> 14 | AM8: =SUMIF('RECAP PDV'!$C:$C,$G8,'RECAP PDV'!AM:AM) -> 16 | AN8: =AM8/$I8 -> 0.65560418 | AO8: =IF(AO$33="NON",(AO$29-AN8)/AO$29,(AO$29-AN8)/AO$31*AO$27) -> 0.52432739 | AP8: =RANK(AO8,AO$6:AO$23,1) -> 5 | AQ8: =SUMIF('RECAP PDV'!$C:$C,$G8,'RECAP PDV'!AQ:AQ) -> 10 | AR8: =AQ8/$I8 -> 0.40975261 | AS8: =IF(AS$33="NON",(AS$29-AR8)/AS$29,(AS$29-AR8)/AS$31*AS$27) -> 0.28462069 | AT8: =RANK(AS8,AS$6:AS$23,1) -> 3 | AU8: =SUMIF('RECAP PDV'!$C:$C,$G8,'RECAP PDV'!AU:AU)/SUMIF('RECAP PDV'!$C:$C,$G8,'RECAP PDV'!AV:AV) -> 0.34375424 | AV8: =AU8 -> 0.34375424 | AW8: =IF(AW$33="NON",(AW$29-AV8)/AW$29,(AW$29-AV8)/AW$31*AW$27) -> 0.27740129 | AX8: =RANK(AW8,AW$6:AW$23,1) -> 10 | BL8: =M8*$N$4+Q8*$R$4+U8*$V$4+Y8*$Z$4+AC8*$AD$4+AG8*$AH$4+AK8*$AL$4+AO8*$AP$4+AS8*$AT$4+AW8*$AX$4 -> 0.2384956 | BM8: =+BL8-$BL$4 -> 0.010057257 | BN8: =RANK(BM8,BM$6:BM$23,1) -> 4
D9: 105101 | E9: 262 | F9: BAS-RHIN | G9: 5101 | H9: SELESTAT | I9: =VLOOKUP(G9,ETP!$F$11:$H$90,3,FALSE) -> 28.723745 | K9: =SUMIF('RECAP PDV'!$C:$C,$G9,'RECAP PDV'!K:K) -> 0 | L9: =K9/$I9 -> 0 | M9: 0 | N9: =RANK(M9,M$6:M$23,1) -> 1 | O9: =SUMIF('RECAP PDV'!$C:$C,$G9,'RECAP PDV'!O:O) -> 440 | P9: =O9/$I9 -> 15.318337 | Q9: =IF(Q$33="NON",(Q$29-P9)/Q$29,(Q$29-P9)/Q$31*Q$27) -> 0 | R9: =RANK(Q9,Q$6:Q$23,1) -> 1 | S9: =SUMIF('RECAP PDV'!$C:$C,$G9,'RECAP PDV'!S:S) -> 44 | T9: =S9/$I9 -> 1.5318337 | U9: =IF(U$33="NON",(U$29-T9)/U$29,(U$29-T9)/U$31*U$27) -> 0 | V9: =RANK(U9,U$6:U$23,1) -> 1 | W9: =SUMIF('RECAP PDV'!$C:$C,$G9,'RECAP PDV'!W:W) -> 606.4 | X9: =W9/$I9 -> 21.111453 | Y9: =IF(Y$33="NON",(Y$29-X9)/ABS(Y$29),(Y$29-X9)/Y$31*Y$27) -> 0.44720367 | Z9: =RANK(Y9,Y$6:Y$23,1) -> 6 | AA9: =SUMIF('RECAP PDV'!$C:$C,$G9,'RECAP PDV'!AA:AA) -> 40 | AB9: =AA9/$I9 -> 1.3925761 | AC9: =IF(AC$33="NON",(AC$29-AB9)/AC$29,(AC$29-AB9)/AC$31*AC$27) -> 0.45100307 | AD9: =RANK(AC9,AC$6:AC$23,1) -> 7 | AE9: =SUMIF('RECAP PDV'!$C:$C,$G9,'RECAP PDV'!AE:AE) -> 317.0907 | AF9: =AE9/$I9 -> 11.039323 | AG9: =IF(AG$33="NON",(AG$29-AF9)/AG$29,(AG$29-AF9)/AG$31*AG$27) -> 0.34821591 | AH9: =RANK(AG9,AG$6:AG$23,1) -> 10 | AI9: =SUMIF('RECAP PDV'!$C:$C,$G9,'RECAP PDV'!AI:AI) -> 29 | AJ9: =AI9/$I9 -> 1.0096176 | AK9: =IF(AK$33="NON",(AK$29-AJ9)/AK$29,(AK$29-AJ9)/AK$31*AK$27) -> 0.22764255 | AL9: =RANK(AK9,AK$6:AK$23,1) -> 7 | AM9: =SUMIF('RECAP PDV'!$C:$C,$G9,'RECAP PDV'!AM:AM) -> 15 | AN9: =AM9/$I9 -> 0.52221602 | AO9: =IF(AO$33="NON",(AO$29-AN9)/AO$29,(AO$29-AN9)/AO$31*AO$27) -> 0.58780116 | AP9: =RANK(AO9,AO$6:AO$23,1) -> 7 | AQ9: =SUMIF('RECAP PDV'!$C:$C,$G9,'RECAP PDV'!AQ:AQ) -> 3 | AR9: =AQ9/$I9 -> 0.1044432 | AS9: =IF(AS$33="NON",(AS$29-AR9)/AS$29,(AS$29-AR9)/AS$31*AS$27) -> 0.81765459 | AT9: =RANK(AS9,AS$6:AS$23,1) -> 18 | AU9: =SUMIF('RECAP PDV'!$C:$C,$G9,'RECAP PDV'!AU:AU)/SUMIF('RECAP PDV'!$C:$C,$G9,'RECAP PDV'!AV:AV) -> 0.32207838 | AV9: =AU9 -> 0.32207838 | AW9: =IF(AW$33="NON",(AW$29-AV9)/AW$29,(AW$29-AV9)/AW$31*AW$27) -> 0.32296568 | AX9: =RANK(AW9,AW$6:AW$23,1) -> 14 | BL9: =M9*$N$4+Q9*$R$4+U9*$V$4+Y9*$Z$4+AC9*$AD$4+AG9*$AH$4+AK9*$AL$4+AO9*$AP$4+AS9*$AT$4+AW9*$AX$4 -> 0.24543365 | BM9: =+BL9-$BL$4 -> 0.016995308 | BN9: =RANK(BM9,BM$6:BM$23,1) -> 5
D10: 105006 | E10: 262 | F10: BAS-RHIN | G10: 5006 | H10: STRASBOURG | I10: =VLOOKUP(G10,ETP!$F$11:$H$90,3,FALSE) -> 32.786364 | K10: =SUMIF('RECAP PDV'!$C:$C,$G10,'RECAP PDV'!K:K) -> 0 | L10: =K10/$I10 -> 0 | M10: 0 | N10: =RANK(M10,M$6:M$23,1) -> 1 | O10: =SUMIF('RECAP PDV'!$C:$C,$G10,'RECAP PDV'!O:O) -> 362 | P10: =O10/$I10 -> 11.041176 | Q10: =IF(Q$33="NON",(Q$29-P10)/Q$29,(Q$29-P10)/Q$31*Q$27) -> 0.27921837 | R10: =RANK(Q10,Q$6:Q$23,1) -> 7 | S10: =SUMIF('RECAP PDV'!$C:$C,$G10,'RECAP PDV'!S:S) -> 34 | T10: =S10/$I10 -> 1.0370165 | U10: =IF(U$33="NON",(U$29-T10)/U$29,(U$29-T10)/U$31*U$27) -> 0.32302277 | V10: =RANK(U10,U$6:U$23,1) -> 7 | W10: =SUMIF('RECAP PDV'!$C:$C,$G10,'RECAP PDV'!W:W) -> 476.2 | X10: =W10/$I10 -> 14.524331 | Y10: =IF(Y$33="NON",(Y$29-X10)/ABS(Y$29),(Y$29-X10)/Y$31*Y$27) -> 0.61968525 | Z10: =RANK(Y10,Y$6:Y$23,1) -> 11 | AA10: =SUMIF('RECAP PDV'!$C:$C,$G10,'RECAP PDV'!AA:AA) -> 34 | AB10: =AA10/$I10 -> 1.0370165 | AC10: =IF(AC$33="NON",(AC$29-AB10)/AC$29,(AC$29-AB10)/AC$31*AC$27) -> 0.59117574 | AD10: =RANK(AC10,AC$6:AC$23,1) -> 12 | AE10: =SUMIF('RECAP PDV'!$C:$C,$G10,'RECAP PDV'!AE:AE) -> 336.67442 | AF10: =AE10/$I10 -> 10.268733 | AG10: =IF(AG$33="NON",(AG$29-AF10)/AG$29,(AG$29-AF10)/AG$31*AG$27) -> 0.3937131 | AH10: =RANK(AG10,AG$6:AG$23,1) -> 12 | AI10: =SUMIF('RECAP PDV'!$C:$C,$G10,'RECAP PDV'!AI:AI) -> 23 | AJ10: =AI10/$I10 -> 0.70151116 | AK10: =IF(AK$33="NON",(AK$29-AJ10)/AK$29,(AK$29-AJ10)/AK$31*AK$27) -> 0.46334399 | AL10: =RANK(AK10,AK$6:AK$23,1) -> 15 | AM10: =SUMIF('RECAP PDV'!$C:$C,$G10,'RECAP PDV'!AM:AM) -> -21 | AN10: =AM10/$I10 -> -0.64051019 | AO10: =IF(AO$33="NON",(AO$29-AN10)/AO$29,(AO$29-AN10)/AO$31*AO$27) -> 1.1410932 | AP10: =RANK(AO10,AO$6:AO$23,1) -> 14 | AQ10: =SUMIF('RECAP PDV'!$C:$C,$G10,'RECAP PDV'!AQ:AQ) -> 6 | AR10: =AQ10/$I10 -> 0.18300291 | AS10: =IF(AS$33="NON",(AS$29-AR10)/AS$29,(AS$29-AR10)/AS$31*AS$27) -> 0.68049869 | AT10: =RANK(AS10,AS$6:AS$23,1) -> 15 | AU10: =SUMIF('RECAP PDV'!$C:$C,$G10,'RECAP PDV'!AU:AU)/SUMIF('RECAP PDV'!$C:$C,$G10,'RECAP PDV'!AV:AV) -> 0.47571942 | AV10: =AU10 -> 0.47571942 | AW10: =IF(AW$33="NON",(AW$29-AV10)/AW$29,(AW$29-AV10)/AW$31*AW$27) -> 0 | AX10: =RANK(AW10,AW$6:AW$23,1) -> 1 | BL10: =M10*$N$4+Q10*$R$4+U10*$V$4+Y10*$Z$4+AC10*$AD$4+AG10*$AH$4+AK10*$AL$4+AO10*$AP$4+AS10*$AT$4+AW10*$AX$4 -> 0.34627305 | BM10: =+BL10-$BL$4 -> 0.11783471 | BN10: =RANK(BM10,BM$6:BM$23,1) -> 12
D11: 105130 | E11: 264 | F11: HAUT-RHIN | G11: 5130 | H11: COLMAR | I11: =VLOOKUP(G11,ETP!$F$11:$H$90,3,FALSE) -> 23.409091 | K11: =SUMIF('RECAP PDV'!$C:$C,$G11,'RECAP PDV'!K:K) -> 0 | L11: =K11/$I11 -> 0 | M11: 0 | N11: =RANK(M11,M$6:M$23,1) -> 1 | O11: =SUMIF('RECAP PDV'!$C:$C,$G11,'RECAP PDV'!O:O) -> 152 | P11: =O11/$I11 -> 6.4932039 | Q11: =IF(Q$33="NON",(Q$29-P11)/Q$29,(Q$29-P11)/Q$31*Q$27) -> 0.5761156 | R11: =RANK(Q11,Q$6:Q$23,1) -> 15 | S11: =SUMIF('RECAP PDV'!$C:$C,$G11,'RECAP PDV'!S:S) -> 27 | T11: =S11/$I11 -> 1.1533981 | U11: =IF(U$33="NON",(U$29-T11)/U$29,(U$29-T11)/U$31*U$27) -> 0.24704745 | V11: =RANK(U11,U$6:U$23,1) -> 4 | W11: =SUMIF('RECAP PDV'!$C:$C,$G11,'RECAP PDV'!W:W) -> 894 | X11: =W11/$I11 -> 38.190291 | Y11: =IF(Y$33="NON",(Y$29-X11)/ABS(Y$29),(Y$29-X11)/Y$31*Y$27) -> 0 | Z11: =RANK(Y11,Y$6:Y$23,1) -> 1 | AA11: =SUMIF('RECAP PDV'!$C:$C,$G11,'RECAP PDV'!AA:AA) -> 35 | AB11: =AA11/$I11 -> 1.4951456 | AC11: =IF(AC$33="NON",(AC$29-AB11)/AC$29,(AC$29-AB11)/AC$31*AC$27) -> 0.41056695 | AD11: =RANK(AC11,AC$6:AC$23,1) -> 5 | AE11: =SUMIF('RECAP PDV'!$C:$C,$G11,'RECAP PDV'!AE:AE) -> 227.8203 | AF11: =AE11/$I11 -> 9.7321295 | AG11: =IF(AG$33="NON",(AG$29-AF11)/AG$29,(AG$29-AF11)/AG$31*AG$27) -> 0.42539527 | AH11: =RANK(AG11,AG$6:AG$23,1) -> 14 | AI11: =SUMIF('RECAP PDV'!$C:$C,$G11,'RECAP PDV'!AI:AI) -> 14 | AJ11: =AI11/$I11 -> 0.59805825 | AK11: =IF(AK$33="NON",(AK$29-AJ11)/AK$29,(AK$29-AJ11)/AK$31*AK$27) -> 0.54248546 | AL11: =RANK(AK11,AK$6:AK$23,1) -> 18 | AM11: =SUMIF('RECAP PDV'!$C:$C,$G11,'RECAP PDV'!AM:AM) -> -17 | AN11: =AM11/$I11 -> -0.72621359 | AO11: =IF(AO$33="NON",(AO$29-AN11)/AO$29,(AO$29-AN11)/AO$31*AO$27) -> 1.1818758 | AP11: =RANK(AO11,AO$6:AO$23,1) -> 15 | AQ11: =SUMIF('RECAP PDV'!$C:$C,$G11,'RECAP PDV'!AQ:AQ) -> 10 | AR11: =AQ11/$I11 -> 0.42718447 | AS11: =IF(AS$33="NON",(AS$29-AR11)/AS$29,(AS$29-AR11)/AS$31*AS$27) -> 0.25418675 | AT11: =RANK(AS11,AS$6:AS$23,1) -> 2 | AU11: =SUMIF('RECAP PDV'!$C:$C,$G11,'RECAP PDV'!AU:AU)/SUMIF('RECAP PDV'!$C:$C,$G11,'RECAP PDV'!AV:AV) -> 0.44721818 | AV11: =AU11 -> 0.44721818 | AW11: =IF(AW$33="NON",(AW$29-AV11)/AW$29,(AW$29-AV11)/AW$31*AW$27) -> 0.059911869 | AX11: =RANK(AW11,AW$6:AW$23,1) -> 2 | BL11: =M11*$N$4+Q11*$R$4+U11*$V$4+Y11*$Z$4+AC11*$AD$4+AG11*$AH$4+AK11*$AL$4+AO11*$AP$4+AS11*$AT$4+AW11*$AX$4 -> 0.29704419 | BM11: =+BL11-$BL$4 -> 0.068605843 | BN11: =RANK(BM11,BM$6:BM$23,1) -> 11
D12: 105169 | E12: 264 | F12: HAUT-RHIN | G12: 5169 | H12: MULHOUSE | I12: =VLOOKUP(G12,ETP!$F$11:$H$90,3,FALSE) -> 24.442334 | K12: =SUMIF('RECAP PDV'!$C:$C,$G12,'RECAP PDV'!K:K) -> 0 | L12: =K12/$I12 -> 0 | M12: 0 | N12: =RANK(M12,M$6:M$23,1) -> 1 | O12: =SUMIF('RECAP PDV'!$C:$C,$G12,'RECAP PDV'!O:O) -> 119 | P12: =O12/$I12 -> 4.8686021 | Q12: =IF(Q$33="NON",(Q$29-P12)/Q$29,(Q$29-P12)/Q$31*Q$27) -> 0.68217162 | R12: =RANK(Q12,Q$6:Q$23,1) -> 18 | S12: =SUMIF('RECAP PDV'!$C:$C,$G12,'RECAP PDV'!S:S) -> 23 | T12: =S12/$I12 -> 0.94099032 | U12: =IF(U$33="NON",(U$29-T12)/U$29,(U$29-T12)/U$31*U$27) -> 0.38570985 | V12: =RANK(U12,U$6:U$23,1) -> 9 | W12: =SUMIF('RECAP PDV'!$C:$C,$G12,'RECAP PDV'!W:W) -> 520.4 | X12: =W12/$I12 -> 21.290929 | Y12: =IF(Y$33="NON",(Y$29-X12)/ABS(Y$29),(Y$29-X12)/Y$31*Y$27) -> 0.44250415 | Z12: =RANK(Y12,Y$6:Y$23,1) -> 5 | AA12: =SUMIF('RECAP PDV'!$C:$C,$G12,'RECAP PDV'!AA:AA) -> 62 | AB12: =AA12/$I12 -> 2.5365826 | AC12: =IF(AC$33="NON",(AC$29-AB12)/AC$29,(AC$29-AB12)/AC$31*AC$27) -> 0 | AD12: =RANK(AC12,AC$6:AC$23,1) -> 1 | AE12: =SUMIF('RECAP PDV'!$C:$C,$G12,'RECAP PDV'!AE:AE) -> 306.53328 | AF12: =AE12/$I12 -> 12.54108 | AG12: =IF(AG$33="NON",(AG$29-AF12)/AG$29,(AG$29-AF12)/AG$31*AG$27) -> 0.25954909 | AH12: =RANK(AG12,AG$6:AG$23,1) -> 8 | AI12: =SUMIF('RECAP PDV'!$C:$C,$G12,'RECAP PDV'!AI:AI) -> 20 | AJ12: =AI12/$I12 -> 0.81825245 | AK12: =IF(AK$33="NON",(AK$29-AJ12)/AK$29,(AK$29-AJ12)/AK$31*AK$27) -> 0.37403691 | AL12: =RANK(AK12,AK$6:AK$23,1) -> 12 | AM12: =SUMIF('RECAP PDV'!$C:$C,$G12,'RECAP PDV'!AM:AM) -> 26 | AN12: =AM12/$I12 -> 1.0637282 | AO12: =IF(AO$33="NON",(AO$29-AN12)/AO$29,(AO$29-AN12)/AO$31*AO$27) -> 0.3301185 | AP12: =RANK(AO12,AO$6:AO$23,1) -> 2 | AQ12: =SUMIF('RECAP PDV'!$C:$C,$G12,'RECAP PDV'!AQ:AQ) -> 14 | AR12: =AQ12/$I12 -> 0.57277672 | AS12: =IF(AS$33="NON",(AS$29-AR12)/AS$29,(AS$29-AR12)/AS$31*AS$27) -> 0 | AT12: =RANK(AS12,AS$6:AS$23,1) -> 1 | AU12: =SUMIF('RECAP PDV'!$C:$C,$G12,'RECAP PDV'!AU:AU)/SUMIF('RECAP PDV'!$C:$C,$G12,'RECAP PDV'!AV:AV) -> 0.38525343 | AV12: =AU12 -> 0.38525343 | AW12: =IF(AW$33="NON",(AW$29-AV12)/AW$29,(AW$29-AV12)/AW$31*AW$27) -> 0.1901667 | AX12: =RANK(AW12,AW$6:AW$23,1) -> 5 | BL12: =M12*$N$4+Q12*$R$4+U12*$V$4+Y12*$Z$4+AC12*$AD$4+AG12*$AH$4+AK12*$AL$4+AO12*$AP$4+AS12*$AT$4+AW12*$AX$4 -> 0.22843834 | BM12: =+BL12-$BL$4 -> 0 | BN12: =RANK(BM12,BM$6:BM$23,1) -> 1
D13: 100006 | E13: 30 | F13: MARNE-ARDENNES | G13: 6 | H13: CHALONS EN CHAMPAGNE | I13: =VLOOKUP(G13,ETP!$F$11:$H$90,3,FALSE) -> 17.739036 | K13: =SUMIF('RECAP PDV'!$C:$C,$G13,'RECAP PDV'!K:K) -> 0 | L13: =K13/$I13 -> 0 | M13: 0 | N13: =RANK(M13,M$6:M$23,1) -> 1 | O13: =SUMIF('RECAP PDV'!$C:$C,$G13,'RECAP PDV'!O:O) -> 179 | P13: =O13/$I13 -> 10.09074 | Q13: =IF(Q$33="NON",(Q$29-P13)/Q$29,(Q$29-P13)/Q$31*Q$27) -> 0.341264 | R13: =RANK(Q13,Q$6:Q$23,1) -> 11 | S13: =SUMIF('RECAP PDV'!$C:$C,$G13,'RECAP PDV'!S:S) -> 15 | T13: =S13/$I13 -> 0.84559272 | U13: =IF(U$33="NON",(U$29-T13)/U$29,(U$29-T13)/U$31*U$27) -> 0.44798659 | V13: =RANK(U13,U$6:U$23,1) -> 11 | W13: =SUMIF('RECAP PDV'!$C:$C,$G13,'RECAP PDV'!W:W) -> 172.8 | X13: =W13/$I13 -> 9.7412281 | Y13: =IF(Y$33="NON",(Y$29-X13)/ABS(Y$29),(Y$29-X13)/Y$31*Y$27) -> 0.7449292 | Z13: =RANK(Y13,Y$6:Y$23,1) -> 15 | AA13: =SUMIF('RECAP PDV'!$C:$C,$G13,'RECAP PDV'!AA:AA) -> 20 | AB13: =AA13/$I13 -> 1.127457 | AC13: =IF(AC$33="NON",(AC$29-AB13)/AC$29,(AC$29-AB13)/AC$31*AC$27) -> 0.55552129 | AD13: =RANK(AC13,AC$6:AC$23,1) -> 10 | AE13: =SUMIF('RECAP PDV'!$C:$C,$G13,'RECAP PDV'!AE:AE) -> 166.55723 | AF13: =AE13/$I13 -> 9.3893051 | AG13: =IF(AG$33="NON",(AG$29-AF13)/AG$29,(AG$29-AF13)/AG$31*AG$27) -> 0.44563631 | AH13: =RANK(AG13,AG$6:AG$23,1) -> 17 | AI13: =SUMIF('RECAP PDV'!$C:$C,$G13,'RECAP PDV'!AI:AI) -> 12 | AJ13: =AI13/$I13 -> 0.67647418 | AK13: =IF(AK$33="NON",(AK$29-AJ13)/AK$29,(AK$29-AJ13)/AK$31*AK$27) -> 0.48249728 | AL13: =RANK(AK13,AK$6:AK$23,1) -> 17 | AM13: =SUMIF('RECAP PDV'!$C:$C,$G13,'RECAP PDV'!AM:AM) -> -5 | AN13: =AM13/$I13 -> -0.28186424 | AO13: =IF(AO$33="NON",(AO$29-AN13)/AO$29,(AO$29-AN13)/AO$31*AO$27) -> 0.97042883 | AP13: =RANK(AO13,AO$6:AO$23,1) -> 11 | AQ13: =SUMIF('RECAP PDV'!$C:$C,$G13,'RECAP PDV'!AQ:AQ) -> 3 | AR13: =AQ13/$I13 -> 0.16911854 | AS13: =IF(AS$33="NON",(AS$29-AR13)/AS$29,(AS$29-AR13)/AS$31*AS$27) -> 0.70473914 | AT13: =RANK(AS13,AS$6:AS$23,1) -> 16 | AU13: =SUMIF('RECAP PDV'!$C:$C,$G13,'RECAP PDV'!AU:AU)/SUMIF('RECAP PDV'!$C:$C,$G13,'RECAP PDV'!AV:AV) -> 0.35200563 | AV13: =AU13 -> 0.35200563 | AW13: =IF(AW$33="NON",(AW$29-AV13)/AW$29,(AW$29-AV13)/AW$31*AW$27) -> 0.26005622 | AX13: =RANK(AW13,AW$6:AW$23,1) -> 8 | BL13: =M13*$N$4+Q13*$R$4+U13*$V$4+Y13*$Z$4+AC13*$AD$4+AG13*$AH$4+AK13*$AL$4+AO13*$AP$4+AS13*$AT$4+AW13*$AX$4 -> 0.38576867 | BM13: =+BL13-$BL$4 -> 0.15733033 | BN13: =RANK(BM13,BM$6:BM$23,1) -> 15
D14: 100002 | E14: 30 | F14: MARNE-ARDENNES | G14: 2 | H14: CHARLEVILLE MEZIERES | I14: =VLOOKUP(G14,ETP!$F$11:$H$90,3,FALSE) -> 22.272727 | K14: =SUMIF('RECAP PDV'!$C:$C,$G14,'RECAP PDV'!K:K) -> 0 | L14: =K14/$I14 -> 0 | M14: 0 | N14: =RANK(M14,M$6:M$23,1) -> 1 | O14: =SUMIF('RECAP PDV'!$C:$C,$G14,'RECAP PDV'!O:O) -> 187 | P14: =O14/$I14 -> 8.3959184 | Q14: =IF(Q$33="NON",(Q$29-P14)/Q$29,(Q$29-P14)/Q$31*Q$27) -> 0.45190404 | R14: =RANK(Q14,Q$6:Q$23,1) -> 14 | S14: =SUMIF('RECAP PDV'!$C:$C,$G14,'RECAP PDV'!S:S) -> 25 | T14: =S14/$I14 -> 1.122449 | U14: =IF(U$33="NON",(U$29-T14)/U$29,(U$29-T14)/U$31*U$27) -> 0.26725139 | V14: =RANK(U14,U$6:U$23,1) -> 5 | W14: =SUMIF('RECAP PDV'!$C:$C,$G14,'RECAP PDV'!W:W) -> 128.4 | X14: =W14/$I14 -> 5.764898 | Y14: =IF(Y$33="NON",(Y$29-X14)/ABS(Y$29),(Y$29-X14)/Y$31*Y$27) -> 0.84904808 | Z14: =RANK(Y14,Y$6:Y$23,1) -> 17 | AA14: =SUMIF('RECAP PDV'!$C:$C,$G14,'RECAP PDV'!AA:AA) -> 12 | AB14: =AA14/$I14 -> 0.53877551 | AC14: =IF(AC$33="NON",(AC$29-AB14)/AC$29,(AC$29-AB14)/AC$31*AC$27) -> 0.78759788 | AD14: =RANK(AC14,AC$6:AC$23,1) -> 18 | AE14: =SUMIF('RECAP PDV'!$C:$C,$G14,'RECAP PDV'!AE:AE) -> 330.51408 | AF14: =AE14/$I14 -> 14.839408 | AG14: =IF(AG$33="NON",(AG$29-AF14)/AG$29,(AG$29-AF14)/AG$31*AG$27) -> 0.12385116 | AH14: =RANK(AG14,AG$6:AG$23,1) -> 4 | AI14: =SUMIF('RECAP PDV'!$C:$C,$G14,'RECAP PDV'!AI:AI) -> 18 | AJ14: =AI14/$I14 -> 0.80816327 | AK14: =IF(AK$33="NON",(AK$29-AJ14)/AK$29,(AK$29-AJ14)/AK$31*AK$27) -> 0.38175513 | AL14: =RANK(AK14,AK$6:AK$23,1) -> 13 | AM14: =SUMIF('RECAP PDV'!$C:$C,$G14,'RECAP PDV'!AM:AM) -> -24 | AN14: =AM14/$I14 -> -1.077551 | AO14: =IF(AO$33="NON",(AO$29-AN14)/AO$29,(AO$29-AN14)/AO$31*AO$27) -> 1.3490624 | AP14: =RANK(AO14,AO$6:AO$23,1) -> 16 | AQ14: =SUMIF('RECAP PDV'!$C:$C,$G14,'RECAP PDV'!AQ:AQ) -> 3 | AR14: =AQ14/$I14 -> 0.13469388 | AS14: =IF(AS$33="NON",(AS$29-AR14)/AS$29,(AS$29-AR14)/AS$31*AS$27) -> 0.76484052 | AT14: =RANK(AS14,AS$6:AS$23,1) -> 17 | AU14: =SUMIF('RECAP PDV'!$C:$C,$G14,'RECAP PDV'!AU:AU)/SUMIF('RECAP PDV'!$C:$C,$G14,'RECAP PDV'!AV:AV) -> 0.39128742 | AV14: =AU14 -> 0.39128742 | AW14: =IF(AW$33="NON",(AW$29-AV14)/AW$29,(AW$29-AV14)/AW$31*AW$27) -> 0.17748277 | AX14: =RANK(AW14,AW$6:AW$23,1) -> 4 | BL14: =M14*$N$4+Q14*$R$4+U14*$V$4+Y14*$Z$4+AC14*$AD$4+AG14*$AH$4+AK14*$AL$4+AO14*$AP$4+AS14*$AT$4+AW14*$AX$4 -> 0.40520709 | BM14: =+BL14-$BL$4 -> 0.17676875 | BN14: =RANK(BM14,BM$6:BM$23,1) -> 16
D15: 100011 | E15: 30 | F15: MARNE-ARDENNES | G15: 11 | H15: REIMS | I15: =VLOOKUP(G15,ETP!$F$11:$H$90,3,FALSE) -> 33.614436 | K15: =SUMIF('RECAP PDV'!$C:$C,$G15,'RECAP PDV'!K:K) -> 0 | L15: =K15/$I15 -> 0 | M15: 0 | N15: =RANK(M15,M$6:M$23,1) -> 1 | O15: =SUMIF('RECAP PDV'!$C:$C,$G15,'RECAP PDV'!O:O) -> 297 | P15: =O15/$I15 -> 8.8354895 | Q15: =IF(Q$33="NON",(Q$29-P15)/Q$29,(Q$29-P15)/Q$31*Q$27) -> 0.42320829 | R15: =RANK(Q15,Q$6:Q$23,1) -> 13 | S15: =SUMIF('RECAP PDV'!$C:$C,$G15,'RECAP PDV'!S:S) -> 42 | T15: =S15/$I15 -> 1.2494632 | U15: =IF(U$33="NON",(U$29-T15)/U$29,(U$29-T15)/U$31*U$27) -> 0.18433496 | V15: =RANK(U15,U$6:U$23,1) -> 3 | W15: =SUMIF('RECAP PDV'!$C:$C,$G15,'RECAP PDV'!W:W) -> 497.6 | X15: =W15/$I15 -> 14.803164 | Y15: =IF(Y$33="NON",(Y$29-X15)/ABS(Y$29),(Y$29-X15)/Y$31*Y$27) -> 0.61238411 | Z15: =RANK(Y15,Y$6:Y$23,1) -> 10 | AA15: =SUMIF('RECAP PDV'!$C:$C,$G15,'RECAP PDV'!AA:AA) -> 59 | AB15: =AA15/$I15 -> 1.7551983 | AC15: =IF(AC$33="NON",(AC$29-AB15)/AC$29,(AC$29-AB15)/AC$31*AC$27) -> 0.30804609 | AD15: =RANK(AC15,AC$6:AC$23,1) -> 4 | AE15: =SUMIF('RECAP PDV'!$C:$C,$G15,'RECAP PDV'!AE:AE) -> 569.33058 | AF15: =AE15/$I15 -> 16.937085 | AG15: =IF(AG$33="NON",(AG$29-AF15)/AG$29,(AG$29-AF15)/AG$31*AG$27) -> 0 | AH15: =RANK(AG15,AG$6:AG$23,1) -> 1 | AI15: =SUMIF('RECAP PDV'!$C:$C,$G15,'RECAP PDV'!AI:AI) -> 41 | AJ15: =AI15/$I15 -> 1.219714 | AK15: =IF(AK$33="NON",(AK$29-AJ15)/AK$29,(AK$29-AJ15)/AK$31*AK$27) -> 0.066918807 | AL15: =RANK(AK15,AK$6:AK$23,1) -> 2 | AM15: =SUMIF('RECAP PDV'!$C:$C,$G15,'RECAP PDV'!AM:AM) -> -19 | AN15: =AM15/$I15 -> -0.56523334 | AO15: =IF(AO$33="NON",(AO$29-AN15)/AO$29,(AO$29-AN15)/AO$31*AO$27) -> 1.1052722 | AP15: =RANK(AO15,AO$6:AO$23,1) -> 13 | AQ15: =SUMIF('RECAP PDV'!$C:$C,$G15,'RECAP PDV'!AQ:AQ) -> 9 | AR15: =AQ15/$I15 -> 0.26774211 | AS15: =IF(AS$33="NON",(AS$29-AR15)/AS$29,(AS$29-AR15)/AS$31*AS$27) -> 0.53255414 | AT15: =RANK(AS15,AS$6:AS$23,1) -> 8 | AU15: =SUMIF('RECAP PDV'!$C:$C,$G15,'RECAP PDV'!AU:AU)/SUMIF('RECAP PDV'!$C:$C,$G15,'RECAP PDV'!AV:AV) -> 0.36707531 | AV15: =AU15 -> 0.36707531 | AW15: =IF(AW$33="NON",(AW$29-AV15)/AW$29,(AW$29-AV15)/AW$31*AW$27) -> 0.22837854 | AX15: =RANK(AW15,AW$6:AW$23,1) -> 6 | BL15: =M15*$N$4+Q15*$R$4+U15*$V$4+Y15*$Z$4+AC15*$AD$4+AG15*$AH$4+AK15*$AL$4+AO15*$AP$4+AS15*$AT$4+AW15*$AX$4 -> 0.29151701 | BM15: =+BL15-$BL$4 -> 0.063078666 | BN15: =RANK(BM15,BM$6:BM$23,1) -> 9
D16: 100026 | E16: 110 | F16: MEURTHE ET MOSELLE MEUSE | G16: 26 | H16: NANCY | I16: =VLOOKUP(G16,ETP!$F$11:$H$90,3,FALSE) -> 29.699987 | K16: =SUMIF('RECAP PDV'!$C:$C,$G16,'RECAP PDV'!K:K) -> 0 | L16: =K16/$I16 -> 0 | M16: 0 | N16: =RANK(M16,M$6:M$23,1) -> 1 | O16: =SUMIF('RECAP PDV'!$C:$C,$G16,'RECAP PDV'!O:O) -> 188 | P16: =O16/$I16 -> 6.329969 | Q16: =IF(Q$33="NON",(Q$29-P16)/Q$29,(Q$29-P16)/Q$31*Q$27) -> 0.58677178 | R16: =RANK(Q16,Q$6:Q$23,1) -> 16 | S16: =SUMIF('RECAP PDV'!$C:$C,$G16,'RECAP PDV'!S:S) -> 17 | T16: =S16/$I16 -> 0.57239082 | U16: =IF(U$33="NON",(U$29-T16)/U$29,(U$29-T16)/U$31*U$27) -> 0.62633618 | V16: =RANK(U16,U$6:U$23,1) -> 16 | W16: =SUMIF('RECAP PDV'!$C:$C,$G16,'RECAP PDV'!W:W) -> 268.6 | X16: =W16/$I16 -> 9.0437749 | Y16: =IF(Y$33="NON",(Y$29-X16)/ABS(Y$29),(Y$29-X16)/Y$31*Y$27) -> 0.76319178 | Z16: =RANK(Y16,Y$6:Y$23,1) -> 16 | AA16: =SUMIF('RECAP PDV'!$C:$C,$G16,'RECAP PDV'!AA:AA) -> 28 | AB16: =AA16/$I16 -> 0.94276134 | AC16: =IF(AC$33="NON",(AC$29-AB16)/AC$29,(AC$29-AB16)/AC$31*AC$27) -> 0.62833407 | AD16: =RANK(AC16,AC$6:AC$23,1) -> 15 | AE16: =SUMIF('RECAP PDV'!$C:$C,$G16,'RECAP PDV'!AE:AE) -> 340.45665 | AF16: =AE16/$I16 -> 11.463192 | AG16: =IF(AG$33="NON",(AG$29-AF16)/AG$29,(AG$29-AF16)/AG$31*AG$27) -> 0.32318983 | AH16: =RANK(AG16,AG$6:AG$23,1) -> 9 | AI16: =SUMIF('RECAP PDV'!$C:$C,$G16,'RECAP PDV'!AI:AI) -> 26 | AJ16: =AI16/$I16 -> 0.87542125 | AK16: =IF(AK$33="NON",(AK$29-AJ16)/AK$29,(AK$29-AJ16)/AK$31*AK$27) -> 0.33030278 | AL16: =RANK(AK16,AK$6:AK$23,1) -> 10 | AM16: =SUMIF('RECAP PDV'!$C:$C,$G16,'RECAP PDV'!AM:AM) -> 10 | AN16: =AM16/$I16 -> 0.33670048 | AO16: =IF(AO$33="NON",(AO$29-AN16)/AO$29,(AO$29-AN16)/AO$31*AO$27) -> 0.67608013 | AP16: =RANK(AO16,AO$6:AO$23,1) -> 9 | AQ16: =SUMIF('RECAP PDV'!$C:$C,$G16,'RECAP PDV'!AQ:AQ) -> 10 | AR16: =AQ16/$I16 -> 0.33670048 | AS16: =IF(AS$33="NON",(AS$29-AR16)/AS$29,(AS$29-AR16)/AS$31*AS$27) -> 0.41216102 | AT16: =RANK(AS16,AS$6:AS$23,1) -> 5 | AU16: =SUMIF('RECAP PDV'!$C:$C,$G16,'RECAP PDV'!AU:AU)/SUMIF('RECAP PDV'!$C:$C,$G16,'RECAP PDV'!AV:AV) -> 0.34497128 | AV16: =AU16 -> 0.34497128 | AW16: =IF(AW$33="NON",(AW$29-AV16)/AW$29,(AW$29-AV16)/AW$31*AW$27) -> 0.27484298 | AX16: =RANK(AW16,AW$6:AW$23,1) -> 9 | BL16: =M16*$N$4+Q16*$R$4+U16*$V$4+Y16*$Z$4+AC16*$AD$4+AG16*$AH$4+AK16*$AL$4+AO16*$AP$4+AS16*$AT$4+AW16*$AX$4 -> 0.36226435 | BM16: =+BL16-$BL$4 -> 0.13382601 | BN16: =RANK(BM16,BM$6:BM$23,1) -> 13
D17: 100027 | E17: 110 | F17: MEURTHE ET MOSELLE MEUSE | G17: 27 | H17: PONT A MOUSSON | I17: =VLOOKUP(G17,ETP!$F$11:$H$90,3,FALSE) -> 32.461745 | K17: =SUMIF('RECAP PDV'!$C:$C,$G17,'RECAP PDV'!K:K) -> 0 | L17: =K17/$I17 -> 0 | M17: 0 | N17: =RANK(M17,M$6:M$23,1) -> 1 | O17: =SUMIF('RECAP PDV'!$C:$C,$G17,'RECAP PDV'!O:O) -> 189 | P17: =O17/$I17 -> 5.8222378 | Q17: =IF(Q$33="NON",(Q$29-P17)/Q$29,(Q$29-P17)/Q$31*Q$27) -> 0.6199171 | R17: =RANK(Q17,Q$6:Q$23,1) -> 17 | S17: =SUMIF('RECAP PDV'!$C:$C,$G17,'RECAP PDV'!S:S) -> 25 | T17: =S17/$I17 -> 0.77013727 | U17: =IF(U$33="NON",(U$29-T17)/U$29,(U$29-T17)/U$31*U$27) -> 0.49724484 | V17: =RANK(U17,U$6:U$23,1) -> 14 | W17: =SUMIF('RECAP PDV'!$C:$C,$G17,'RECAP PDV'!W:W) -> 355.2 | X17: =W17/$I17 -> 10.94211 | Y17: =IF(Y$33="NON",(Y$29-X17)/ABS(Y$29),(Y$29-X17)/Y$31*Y$27) -> 0.7134845 | Z17: =RANK(Y17,Y$6:Y$23,1) -> 13 | AA17: =SUMIF('RECAP PDV'!$C:$C,$G17,'RECAP PDV'!AA:AA) -> 59 | AB17: =AA17/$I17 -> 1.817524 | AC17: =IF(AC$33="NON",(AC$29-AB17)/AC$29,(AC$29-AB17)/AC$31*AC$27) -> 0.28347535 | AD17: =RANK(AC17,AC$6:AC$23,1) -> 3 | AE17: =SUMIF('RECAP PDV'!$C:$C,$G17,'RECAP PDV'!AE:AE) -> 445.79054 | AF17: =AE17/$I17 -> 13.732796 | AG17: =IF(AG$33="NON",(AG$29-AF17)/AG$29,(AG$29-AF17)/AG$31*AG$27) -> 0.18918774 | AH17: =RANK(AG17,AG$6:AG$23,1) -> 6 | AI17: =SUMIF('RECAP PDV'!$C:$C,$G17,'RECAP PDV'!AI:AI) -> 29 | AJ17: =AI17/$I17 -> 0.89335923 | AK17: =IF(AK$33="NON",(AK$29-AJ17)/AK$29,(AK$29-AJ17)/AK$31*AK$27) -> 0.31658022 | AL17: =RANK(AK17,AK$6:AK$23,1) -> 9 | AM17: =SUMIF('RECAP PDV'!$C:$C,$G17,'RECAP PDV'!AM:AM) -> -12 | AN17: =AM17/$I17 -> -0.36966589 | AO17: =IF(AO$33="NON",(AO$29-AN17)/AO$29,(AO$29-AN17)/AO$31*AO$27) -> 1.0122099 | AP17: =RANK(AO17,AO$6:AO$23,1) -> 12 | AQ17: =SUMIF('RECAP PDV'!$C:$C,$G17,'RECAP PDV'!AQ:AQ) -> 8 | AR17: =AQ17/$I17 -> 0.24644393 | AS17: =IF(AS$33="NON",(AS$29-AR17)/AS$29,(AS$29-AR17)/AS$31*AS$27) -> 0.56973823 | AT17: =RANK(AS17,AS$6:AS$23,1) -> 10 | AU17: =SUMIF('RECAP PDV'!$C:$C,$G17,'RECAP PDV'!AU:AU)/SUMIF('RECAP PDV'!$C:$C,$G17,'RECAP PDV'!AV:AV) -> 0.29194622 | AV17: =AU17 -> 0.29194622 | AW17: =IF(AW$33="NON",(AW$29-AV17)/AW$29,(AW$29-AV17)/AW$31*AW$27) -> 0.38630587 | AX17: =RANK(AW17,AW$6:AW$23,1) -> 16 | BL17: =M17*$N$4+Q17*$R$4+U17*$V$4+Y17*$Z$4+AC17*$AD$4+AG17*$AH$4+AK17*$AL$4+AO17*$AP$4+AS17*$AT$4+AW17*$AX$4 -> 0.37546244 | BM17: =+BL17-$BL$4 -> 0.1470241 | BN17: =RANK(BM17,BM$6:BM$23,1) -> 14
... D23: 100055 | E23: 80 | F23: VOSGES | G23: 55 | H23: SAINT DIE | I23: =VLOOKUP(G23,ETP!$F$11:$H$90,3,FALSE) -> 21.563418 | K23: =SUMIF('RECAP PDV'!$C:$C,$G23,'RECAP PDV'!K:K) -> 0 | L23: =K23/$I23 -> 0 | M23: 0 | N23: =RANK(M23,M$6:M$23,1) -> 1 | O23: =SUMIF('RECAP PDV'!$C:$C,$G23,'RECAP PDV'!O:O) -> 230 | P23: =O23/$I23 -> 10.666212 | Q23: =IF(Q$33="NON",(Q$29-P23)/Q$29,(Q$29-P23)/Q$31*Q$27) -> 0.30369643 | R23: =RANK(Q23,Q$6:Q$23,1) -> 8 | S23: =SUMIF('RECAP PDV'!$C:$C,$G23,'RECAP PDV'!S:S) -> 20 | T23: =S23/$I23 -> 0.92749674 | U23: =IF(U$33="NON",(U$29-T23)/U$29,(U$29-T23)/U$31*U$27) -> 0.39451863 | V23: =RANK(U23,U$6:U$23,1) -> 10 | W23: =SUMIF('RECAP PDV'!$C:$C,$G23,'RECAP PDV'!W:W) -> 486 | X23: =W23/$I23 -> 22.538171 | Y23: =IF(Y$33="NON",(Y$29-X23)/ABS(Y$29),(Y$29-X23)/Y$31*Y$27) -> 0.40984554 | Z23: =RANK(Y23,Y$6:Y$23,1) -> 4 | AA23: =SUMIF('RECAP PDV'!$C:$C,$G23,'RECAP PDV'!AA:AA) -> 21 | AB23: =AA23/$I23 -> 0.97387157 | AC23: =IF(AC$33="NON",(AC$29-AB23)/AC$29,(AC$29-AB23)/AC$31*AC$27) -> 0.61606944 | AD23: =RANK(AC23,AC$6:AC$23,1) -> 13 | AE23: =SUMIF('RECAP PDV'!$C:$C,$G23,'RECAP PDV'!AE:AE) -> 192.35694 | AF23: =AE23/$I23 -> 8.9205218 | AG23: =IF(AG$33="NON",(AG$29-AF23)/AG$29,(AG$29-AF23)/AG$31*AG$27) -> 0.47331423 | AH23: =RANK(AG23,AG$6:AG$23,1) -> 18 | AI23: =SUMIF('RECAP PDV'!$C:$C,$G23,'RECAP PDV'!AI:AI) -> 21 | AJ23: =AI23/$I23 -> 0.97387157 | AK23: =IF(AK$33="NON",(AK$29-AJ23)/AK$29,(AK$29-AJ23)/AK$31*AK$27) -> 0.25498828 | AL23: =RANK(AK23,AK$6:AK$23,1) -> 8 | AM23: =SUMIF('RECAP PDV'!$C:$C,$G23,'RECAP PDV'!AM:AM) -> 14 | AN23: =AM23/$I23 -> 0.64924772 | AO23: =IF(AO$33="NON",(AO$29-AN23)/AO$29,(AO$29-AN23)/AO$31*AO$27) -> 0.52735216 | AP23: =RANK(AO23,AO$6:AO$23,1) -> 6 | AQ23: =SUMIF('RECAP PDV'!$C:$C,$G23,'RECAP PDV'!AQ:AQ) -> 7 | AR23: =AQ23/$I23 -> 0.32462386 | AS23: =IF(AS$33="NON",(AS$29-AR23)/AS$29,(AS$29-AR23)/AS$31*AS$27) -> 0.43324537 | AT23: =RANK(AS23,AS$6:AS$23,1) -> 6 | AU23: =SUMIF('RECAP PDV'!$C:$C,$G23,'RECAP PDV'!AU:AU)/SUMIF('RECAP PDV'!$C:$C,$G23,'RECAP PDV'!AV:AV) -> 0.33434507 | AV23: =AU23 -> 0.33434507 | AW23: =IF(AW$33="NON",(AW$29-AV23)/AW$29,(AW$29-AV23)/AW$31*AW$27) -> 0.29718011 | AX23: =RANK(AW23,AW$6:AW$23,1) -> 11 | BL23: =M23*$N$4+Q23*$R$4+U23*$V$4+Y23*$Z$4+AC23*$AD$4+AG23*$AH$4+AK23*$AL$4+AO23*$AP$4+AS23*$AT$4+AW23*$AX$4 -> 0.28607993 | BM23: =+BL23-$BL$4 -> 0.05764159 | BN23: =RANK(BM23,BM$6:BM$23,1) -> 8
L25: CELLULE M6 | M25: SI(M$33="NON";(M$29-L6)/ABS(M$29);(M$29-L6)/M$31*M$27)
H27: Plafond écart:au 1er | M27: 1.5 | Q27: 1.5 | U27: 1.5 | Y27: 1.5 | AC27: 1.5 | AG27: 1.5 | AK27: 1.5 | AO27: 1.5 | AS27: 1.5 | AW27: 1.5
H29: Maximum ratio Agence | M29: =MAX(L6:L23) -> 0 | Q29: =MAX(P6:P23) -> 15.318337 | U29: =MAX(T6:T23) -> 1.5318337 | Y29: =MAX(X6:X23) -> 38.190291 | AC29: =MAX(AB6:AB23) -> 2.5365826 | AG29: =MAX(AF6:AF23) -> 16.937085 | AK29: =MAX(AJ6:AJ23) -> 1.3071896 | AO29: =MAX(AN6:AN23) -> 1.757462 | AS29: =MAX(AR6:AR23) -> 0.57277672 | AW29: =MAX(AV6:AV23) -> 0.47571942
H30: Minimum ratio Agence | M30: =MIN(L6:L23) -> 0 | Q30: =MIN(P6:P23) -> 4.8686021 | U30: =MIN(T6:T23) -> 0.40574878 | Y30: =MIN(X6:X23) -> 3.9201106 | AC30: =MIN(AB6:AB23) -> 0.53877551 | AG30: =MIN(AF6:AF23) -> 8.9205218 | AK30: =MIN(AJ6:AJ23) -> 0.59805825 | AO30: =MIN(AN6:AN23) -> -1.3947417 | AS30: =MIN(AR6:AR23) -> 0.1044432 | AW30: =MIN(AV6:AV23) -> 0.2311231
H31: Ecart Min-Max | M31: =M29-M30 -> 0 | Q31: =Q29-Q30 -> 10.449734 | U31: =U29-U30 -> 1.1260849 | Y31: =Y29-Y30 -> 34.270181 | AC31: =AC29-AC30 -> 1.9978071 | AG31: =AG29-AG30 -> 8.0165636 | AK31: =AK29-AK30 -> 0.70913136 | AO31: =AO29-AO30 -> 3.1522038 | AS31: =AS29-AS30 -> 0.46833351 | AW31: =AW29-AW30 -> 0.24459632
H32: Ecart au 1er Max Agence | M32: =(M29-M30)/ABS(M29) -> #DIV/0! | Q32: =(Q29-Q30)/ABS(Q29) -> 0.68217162 | U32: =(U29-U30)/ABS(U29) -> 0.73512217 | Y32: =(Y29-Y30)/ABS(Y29) -> 0.89735322 | AC32: =(AC29-AC30)/ABS(AC29) -> 0.78759788 | AG32: =(AG29-AG30)/ABS(AG29) -> 0.47331423 | AK32: =(AK29-AK30)/ABS(AK29) -> 0.54248546 | AO32: =(AO29-AO30)/ABS(AO29) -> 1.7936113 | AS32: =(AS29-AS30)/ABS(AS29) -> 0.81765459 | AW32: =(AW29-AW30)/ABS(AW29) -> 0.51416089
H33: Plafonnement Agence | M33: =IF(M32>M27,"OUI","NON") -> #DIV/0! | Q33: =IF(Q32>Q27,"OUI","NON") -> NON | U33: =IF(U32>U27,"OUI","NON") -> NON | Y33: =IF(Y32>Y27,"OUI","NON") -> NON | AC33: =IF(AC32>AC27,"OUI","NON") -> NON | AG33: =IF(AG32>AG27,"OUI","NON") -> NON | AK33: =IF(AK32>AK27,"OUI","NON") -> NON | AO33: =IF(AO32>AO27,"OUI","NON") -> OUI | AS33: =IF(AS32>AS27,"OUI","NON") -> NON | AW33: =IF(AW32>AW27,"OUI","NON") -> NON

Sheet RECAP DIRCOM
G1: 1 | H1: 2 | I1: 3 | J1: 4 | K1: 5 | L1: 6 | M1: 7 | N1: 8 | O1: 9 | P1: 10 | Q1: 11 | R1: 12 | S1: 13 | T1: 14 | U1: 15 | V1: 16 | W1: 17 | X1: 18 | Y1: 19 | Z1: 20 | AA1: 21 | AB1: 22 | AC1: 23 | AD1: 24 | AE1: 25 | AF1: 26 | AG1: 27 | AH1: 28 | AI1: 29 | AJ1: 30 | AK1: 31 | AL1: 32 | AM1: 33 | AN1: 34 | AO1: 35 | AP1: 36 | AQ1: 37 | AR1: 38 | AS1: 39 | AT1: 40 | AU1: 41 | AV1: 42 | AW1: 43 | AX1: 44 | AY1: 45 | AZ1: 46 | BA1: 47 | BB1: 48 | BC1: 49 | BD1: 50 | BE1: 51 | BF1: 52 | BG1: 53 | BH1: 54 | BI1: 55 | BJ1: 56 | BK1: 57 | BL1: 58 | BM1: 59 | BN1: 60 | BO1: 61
K2: CLIENTS | O2: BANCARISATION | W2: IARD PREV | AE2: CREDIT | AM2: ASSURANCE VIE
K3: Evolution nb clients Premium | O3: Ventes nettes produits pondérés (cartes 1er, Platinum, Infinite) | S3: Ventes sur Clients PREMIUM non détenteurs | W3: Ventes nettes produits pondérés (idem Gd Public) | AA3: Ventes sur Clients PREMIUM non détenteurs | AE3: Ventes nettes produits | AI3: Ventes sur Clients PREMIUM non détenteurs | AM3: Ventes nettes produits | AQ3: Ventes sur client non détenteur de l’univers | AU3: Taux d'UC Assurance Vie | BL3: Total général
K4: =MAX(L6:L12) -> 0 | M4: coef | N4: ='RECAP PDV'!N4 -> 0.3 | O4: =MAX(P6:P12) -> 12.80334 | Q4: coef | R4: ='RECAP PDV'!R4 -> 0.1 | S4: =MAX(T6:T12) -> 1.1406612 | U4: coef | V4: ='RECAP PDV'!V4 -> 0.05 | W4: =MAX(X6:X12) -> 29.558158 | Y4: coef | Z4: ='RECAP PDV'!Z4 -> 0.1 | AA4: =MAX(AB6:AB12) -> 2.0271079 | AC4: coef | AD4: ='RECAP PDV'!AD4 -> 0.05 | AE4: =MAX(AF6:AF12) -> 14.484 | AG4: coef | AH4: ='RECAP PDV'!AH4 -> 0.1 | AI4: =MAX(AJ6:AJ12) -> 1.1224568 | AK4: coef | AL4: ='RECAP PDV'!AL4 -> 0.05 | AM4: =MAX(AN6:AN12) -> 1.2113037 | AO4: coef | AP4: ='RECAP PDV'!AP4 -> 0.1 | AQ4: =MAX(AR6:AR12) -> 0.50155246 | AS4: coef | AT4: ='RECAP PDV'!AT4 -> 0.05 | AU4: =MAX(AV6:AV12) -> 0.41035172 | AW4: coef | AX4: ='RECAP PDV'!AX4 -> 0.1 | BL4: =MIN(BL6:BL12) -> 0.15619325 | BM4: coef | BN4: 1
G5: NO GROUPE | H5: groupe | I5: ETP | K5: REAL | L5: REAL / ETP | M5: % Ecart au 1er | N5: Rang | O5: REAL | P5: REAL / ETP | Q5: % Ecart au 1er | R5: Rang | S5: REAL | T5: REAL / ETP | U5: % Ecart au 1er | V5: Rang | W5: REAL | X5: REAL / ETP | Y5: % Ecart au 1er | Z5: Rang | AA5: REAL | AB5: REAL / ETP | AC5: % Ecart au 1er | AD5: Rang | AE5: PNB | AF5: PNB / ETP | AG5: % Ecart au 1er | AH5: Rang | AI5: REAL | AJ5: REAL / ETP | AK5: % Ecart au 1er | AL5: Rang | AM5: REAL | AN5: REAL / ETP | AO5: % Ecart au 1er | AP5: Rang | AQ5: REAL | AR5: REAL / ETP | AS5: % Ecart au 1er | AT5: Rang | AU5: REAL | AV5: REAL | AW5: % Ecart au 1er | AX5: Rang | BL5: Moyenne ecart au 1er | BM5: % Ecart au 1er | BN5: Rang CEGEE
F6: 200050 | G6: 50 | H6: Aube Haute Marne | I6: =VLOOKUP(G6,ETP!$B$11:$D$17,3,FALSE) -> 41.872434 | K6: =SUMIF('RECAP PDV'!$A:$A,$G6,'RECAP PDV'!K:K) -> 0 | L6: =K6/$I6 -> 0 | M6: 0 | N6: =RANK(M6,M$6:M$12,1) -> 1 | O6: =SUMIF('RECAP PDV'!$A:$A,$G6,'RECAP PDV'!O:O) -> 440 | P6: =O6/$I6 -> 10.508107 | Q6: =IF(Q$22="NON",(Q$18-P6)/ABS(Q$18),(Q$18-P6)/Q$20*Q$16) -> 0.17926836 | R6: =RANK(Q6,Q$6:Q$12,1) -> 4 | S6: =SUMIF('RECAP PDV'!$A:$A,$G6,'RECAP PDV'!S:S) -> 28 | T6: =S6/$I6 -> 0.66869769 | U6: =IF(U$22="NON",(U$18-T6)/ABS(U$18),(U$18-T6)/U$20*U$16) -> 0.41376311 | V6: =RANK(U6,U$6:U$12,1) -> 7 | W6: =SUMIF('RECAP PDV'!$A:$A,$G6,'RECAP PDV'!W:W) -> 448.6 | X6: =W6/$I6 -> 10.713492 | Y6: =IF(Y$22="NON",(Y$18-X6)/ABS(Y$18),(Y$18-X6)/Y$20*Y$16) -> 0.63754534 | Z6: =RANK(Y6,Y$6:Y$12,1) -> 6 | AA6: =SUMIF('RECAP PDV'!$A:$A,$G6,'RECAP PDV'!AA:AA) -> 40 | AB6: =AA6/$I6 -> 0.95528242 | AC6: =IF(AC$22="NON",(AC$18-AB6)/ABS(AC$18),(AC$18-AB6)/AC$20*AC$16) -> 0.52874613 | AD6: =RANK(AC6,AC$6:AC$12,1) -> 6 | AE6: =SUMIF('RECAP PDV'!$A:$A,$G6,'RECAP PDV'!AE:AE) -> 418.10224 | AF6: =AE6/$I6 -> 9.985143 | AG6: =IF(AG$22="NON",(AG$18-AF6)/ABS(AG$18),(AG$18-AF6)/AG$20*AG$16) -> 0.31060875 | AH6: =RANK(AG6,AG$6:AG$12,1) -> 7 | AI6: =SUMIF('RECAP PDV'!$A:$A,$G6,'RECAP PDV'!AI:AI) -> 47 | AJ6: =AI6/$I6 -> 1.1224568 | AK6: =IF(AK$22="NON",(AK$18-AJ6)/ABS(AK$18),(AK$18-AJ6)/AK$20*AK$16) -> 0 | AL6: =RANK(AK6,AK$6:AK$12,1) -> 1 | AM6: =SUMIF('RECAP PDV'!$A:$A,$G6,'RECAP PDV'!AM:AM) -> -23 | AN6: =AM6/$I6 -> -0.54928739 | AO6: =IF(AO$22="NON",(AO$18-AN6)/ABS(AO$18),(AO$18-AN6)/AO$20*AO$16) -> 1.4173584 | AP6: =RANK(AO6,AO$6:AO$12,1) -> 6 | AQ6: =SUMIF('RECAP PDV'!$A:$A,$G6,'RECAP PDV'!AQ:AQ) -> 9 | AR6: =AQ6/$I6 -> 0.21493854 | AS6: =IF(AS$22="NON",(AS$18-AR6)/ABS(AS$18),(AS$18-AR6)/AS$20*AS$16) -> 0.57145351 | AT6: =RANK(AS6,AS$6:AS$12,1) -> 6 | AU6: =SUMIF('RECAP PDV'!$A:$A,$G6,'RECAP PDV'!AU:AU)/SUMIF('RECAP PDV'!$A:$A,$G6,'RECAP PDV'!AV:AV) -> 0.34281357 | AV6: =+AU6 -> 0.34281357 | AW6: =IF(AW$22="NON",(AW$18-AV6)/ABS(AW$18),(AW$18-AV6)/AW$20*AW$16) -> 0.16458602 | AX6: =RANK(AW6,AW$6:AW$12,1) -> 4 | BL6: =M6*$N$4+Q6*$R$4+U6*$V$4+Y6*$Z$4+AC6*$AD$4+AG6*$AH$4+AK6*$AL$4+AO6*$AP$4+AS6*$AT$4+AW6*$AX$4 -> 0.34663482 | BM6: =+BL6-$BL$4 -> 0.19044157 | BN6: =RANK(BM6,BM$6:BM$12,IF(BL$4>0,1,0)) -> 6
F7: 200262 | G7: 262 | H7: Bas-Rhin | I7: =VLOOKUP(G7,ETP!$B$11:$D$17,3,FALSE) -> 85.915079 | K7: =SUMIF('RECAP PDV'!$A:$A,$G7,'RECAP PDV'!K:K) -> 0 | L7: =K7/$I7 -> 0 | M7: 0 | N7: =RANK(M7,M$6:M$12,1) -> 1 | O7: =SUMIF('RECAP PDV'!$A:$A,$G7,'RECAP PDV'!O:O) -> 1100 | P7: =O7/$I7 -> 12.80334 | Q7: =IF(Q$22="NON",(Q$18-P7)/ABS(Q$18),(Q$18-P7)/Q$20*Q$16) -> 0 | R7: =RANK(Q7,Q$6:Q$12,1) -> 1 | S7: =SUMIF('RECAP PDV'!$A:$A,$G7,'RECAP PDV'!S:S) -> 98 | T7: =S7/$I7 -> 1.1406612 | U7: =IF(U$22="NON",(U$18-T7)/ABS(U$18),(U$18-T7)/U$20*U$16) -> 0 | V7: =RANK(U7,U$6:U$12,1) -> 1 | W7: =SUMIF('RECAP PDV'!$A:$A,$G7,'RECAP PDV'!W:W) -> 1524.8 | X7: =W7/$I7 -> 17.747758 | Y7: =IF(Y$22="NON",(Y$18-X7)/ABS(Y$18),(Y$18-X7)/Y$20*Y$16) -> 0.39956483 | Z7: =RANK(Y7,Y$6:Y$12,1) -> 3 | AA7: =SUMIF('RECAP PDV'!$A:$A,$G7,'RECAP PDV'!AA:AA) -> 110 | AB7: =AA7/$I7 -> 1.280334 | AC7: =IF(AC$22="NON",(AC$18-AB7)/ABS(AC$18),(AC$18-AB7)/AC$20*AC$16) -> 0.36839372 | AD7: =RANK(AC7,AC$6:AC$12,1) -> 3 | AE7: =SUMIF('RECAP PDV'!$A:$A,$G7,'RECAP PDV'!AE:AE) -> 1045.2637 | AF7: =AE7/$I7 -> 12.166243 | AG7: =IF(AG$22="NON",(AG$18-AF7)/ABS(AG$18),(AG$18-AF7)/AG$20*AG$16) -> 0.1600219 | AH7: =RANK(AG7,AG$6:AG$12,1) -> 3 | AI7: =SUMIF('RECAP PDV'!$A:$A,$G7,'RECAP PDV'!AI:AI) -> 70 | AJ7: =AI7/$I7 -> 0.81475803 | AK7: =IF(AK$22="NON",(AK$18-AJ7)/ABS(AK$18),(AK$18-AJ7)/AK$20*AK$16) -> 0.27412975 | AL7: =RANK(AK7,AK$6:AK$12,1) -> 6 | AM7: =SUMIF('RECAP PDV'!$A:$A,$G7,'RECAP PDV'!AM:AM) -> 10 | AN7: =AM7/$I7 -> 0.116394 | AO7: =IF(AO$22="NON",(AO$18-AN7)/ABS(AO$18),(AO$18-AN7)/AO$20*AO$16) -> 0.88145364 | AP7: =RANK(AO7,AO$6:AO$12,1) -> 4 | AQ7: =SUMIF('RECAP PDV'!$A:$A,$G7,'RECAP PDV'!AQ:AQ) -> 19 | AR7: =AQ7/$I7 -> 0.22114861 | AS7: =IF(AS$22="NON",(AS$18-AR7)/ABS(AS$18),(AS$18-AR7)/AS$20*AS$16) -> 0.55907183 | AT7: =RANK(AS7,AS$6:AS$12,1) -> 5 | AU7: =SUMIF('RECAP PDV'!$A:$A,$G7,'RECAP PDV'!AU:AU)/SUMIF('RECAP PDV'!$A:$A,$G7,'RECAP PDV'!AV:AV) -> 0.38796942 | AV7: =+AU7 -> 0.38796942 | AW7: =IF(AW$22="NON",(AW$18-AV7)/ABS(AW$18),(AW$18-AV7)/AW$20*AW$16) -> 0.054544191 | AX7: =RANK(AW7,AW$6:AW$12,1) -> 2 | BL7: =M7*$N$4+Q7*$R$4+U7*$V$4+Y7*$Z$4+AC7*$AD$4+AG7*$AH$4+AK7*$AL$4+AO7*$AP$4+AS7*$AT$4+AW7*$AX$4 -> 0.20963822 | BM7: =+BL7-$BL$4 -> 0.053444974 | BN7: =RANK(BM7,BM$6:BM$12,IF(BL$4>0,1,0)) -> 4
F8: 200264 | G8: 264 | H8: Haut-Rhin | I8: =VLOOKUP(G8,ETP!$B$11:$D$17,3,FALSE) -> 47.851425 | K8: =SUMIF('RECAP PDV'!$A:$A,$G8,'RECAP PDV'!K:K) -> 0 | L8: =K8/$I8 -> 0 | M8: 0 | N8: =RANK(M8,M$6:M$12,1) -> 1 | O8: =SUMIF('RECAP PDV'!$A:$A,$G8,'RECAP PDV'!O:O) -> 271 | P8: =O8/$I8 -> 5.6633632 | Q8: =IF(Q$22="NON",(Q$18-P8)/ABS(Q$18),(Q$18-P8)/Q$20*Q$16) -> 0.55766519 | R8: =RANK(Q8,Q$6:Q$12,1) -> 7 | S8: =SUMIF('RECAP PDV'!$A:$A,$G8,'RECAP PDV'!S:S) -> 50 | T8: =S8/$I8 -> 1.044901 | U8: =IF(U$22="NON",(U$18-T8)/ABS(U$18),(U$18-T8)/U$20*U$16) -> 0.083951553 | V8: =RANK(U8,U$6:U$12,1) -> 4 | W8: =SUMIF('RECAP PDV'!$A:$A,$G8,'RECAP PDV'!W:W) -> 1414.4 | X8: =W8/$I8 -> 29.558158 | Y8: =IF(Y$22="NON",(Y$18-X8)/ABS(Y$18),(Y$18-X8)/Y$20*Y$16) -> 0 | Z8: =RANK(Y8,Y$6:Y$12,1) -> 1 | AA8: =SUMIF('RECAP PDV'!$A:$A,$G8,'RECAP PDV'!AA:AA) -> 97 | AB8: =AA8/$I8 -> 2.0271079 | AC8: =IF(AC$22="NON",(AC$18-AB8)/ABS(AC$18),(AC$18-AB8)/AC$20*AC$16) -> 0 | AD8: =RANK(AC8,AC$6:AC$12,1) -> 1 | AE8: =SUMIF('RECAP PDV'!$A:$A,$G8,'RECAP PDV'!AE:AE) -> 534.35358 | AF8: =AE8/$I8 -> 11.166931 | AG8: =IF(AG$22="NON",(AG$18-AF8)/ABS(AG$18),(AG$18-AF8)/AG$20*AG$16) -> 0.22901607 | AH8: =RANK(AG8,AG$6:AG$12,1) -> 5 | AI8: =SUMIF('RECAP PDV'!$A:$A,$G8,'RECAP PDV'!AI:AI) -> 34 | AJ8: =AI8/$I8 -> 0.71053265 | AK8: =IF(AK$22="NON",(AK$18-AJ8)/ABS(AK$18),(AK$18-AJ8)/AK$20*AK$16) -> 0.36698444 | AL8: =RANK(AK8,AK$6:AK$12,1) -> 7 | AM8: =SUMIF('RECAP PDV'!$A:$A,$G8,'RECAP PDV'!AM:AM) -> 9 | AN8: =AM8/$I8 -> 0.18808217 | AO8: =IF(AO$22="NON",(AO$18-AN8)/ABS(AO$18),(AO$18-AN8)/AO$20*AO$16) -> 0.82374131 | AP8: =RANK(AO8,AO$6:AO$12,1) -> 3 | AQ8: =SUMIF('RECAP PDV'!$A:$A,$G8,'RECAP PDV'!AQ:AQ) -> 24 | AR8: =AQ8/$I8 -> 0.50155246 | AS8: =IF(AS$22="NON",(AS$18-AR8)/ABS(AS$18),(AS$18-AR8)/AS$20*AS$16) -> 0 | AT8: =RANK(AS8,AS$6:AS$12,1) -> 1 | AU8: =SUMIF('RECAP PDV'!$A:$A,$G8,'RECAP PDV'!AU:AU)/SUMIF('RECAP PDV'!$A:$A,$G8,'RECAP PDV'!AV:AV) -> 0.41035172 | AV8: =+AU8 -> 0.41035172 | AW8: =IF(AW$22="NON",(AW$18-AV8)/ABS(AW$18),(AW$18-AV8)/AW$20*AW$16) -> 0 | AX8: =RANK(AW8,AW$6:AW$12,1) -> 1 | BL8: =M8*$N$4+Q8*$R$4+U8*$V$4+Y8*$Z$4+AC8*$AD$4+AG8*$AH$4+AK8*$AL$4+AO8*$AP$4+AS8*$AT$4+AW8*$AX$4 -> 0.18358906 | BM8: =+BL8-$BL$4 -> 0.027395808 | BN8: =RANK(BM8,BM$6:BM$12,IF(BL$4>0,1,0)) -> 2
F9: 200030 | G9: 30 | H9: Marne Ardennes | I9: =VLOOKUP(G9,ETP!$B$11:$D$17,3,FALSE) -> 73.6262 | K9: =SUMIF('RECAP PDV'!$A:$A,$G9,'RECAP PDV'!K:K) -> 0 | L9: =K9/$I9 -> 0 | M9: 0 | N9: =RANK(M9,M$6:M$12,1) -> 1 | O9: =SUMIF('RECAP PDV'!$A:$A,$G9,'RECAP PDV'!O:O) -> 663 | P9: =O9/$I9 -> 9.0049466 | Q9: =IF(Q$22="NON",(Q$18-P9)/ABS(Q$18),(Q$18-P9)/Q$20*Q$16) -> 0.29667209 | R9: =RANK(Q9,Q$6:Q$12,1) -> 5 | S9: =SUMIF('RECAP PDV'!$A:$A,$G9,'RECAP PDV'!S:S) -> 82 | T9: =S9/$I9 -> 1.113734 | U9: =IF(U$22="NON",(U$18-T9)/ABS(U$18),(U$18-T9)/U$20*U$16) -> 0.023606719 | V9: =RANK(U9,U$6:U$12,1) -> 2 | W9: =SUMIF('RECAP PDV'!$A:$A,$G9,'RECAP PDV'!W:W) -> 798.8 | X9: =W9/$I9 -> 10.849399 | Y9: =IF(Y$22="NON",(Y$18-X9)/ABS(Y$18),(Y$18-X9)/Y$20*Y$16) -> 0.6329474 | Z9: =RANK(Y9,Y$6:Y$12,1) -> 5 | AA9: =SUMIF('RECAP PDV'!$A:$A,$G9,'RECAP PDV'!AA:AA) -> 91 | AB9: =AA9/$I9 -> 1.2359731 | AC9: =IF(AC$22="NON",(AC$18-AB9)/ABS(AC$18),(AC$18-AB9)/AC$20*AC$16) -> 0.3902776 | AD9: =RANK(AC9,AC$6:AC$12,1) -> 5 | AE9: =SUMIF('RECAP PDV'!$A:$A,$G9,'RECAP PDV'!AE:AE) -> 1066.4019 | AF9: =AE9/$I9 -> 14.484 | AG9: =IF(AG$22="NON",(AG$18-AF9)/ABS(AG$18),(AG$18-AF9)/AG$20*AG$16) -> 0 | AH9: =RANK(AG9,AG$6:AG$12,1) -> 1 | AI9: =SUMIF('RECAP PDV'!$A:$A,$G9,'RECAP PDV'!AI:AI) -> 71 | AJ9: =AI9/$I9 -> 0.96433063 | AK9: =IF(AK$22="NON",(AK$18-AJ9)/ABS(AK$18),(AK$18-AJ9)/AK$20*AK$16) -> 0.14087509 | AL9: =RANK(AK9,AK$6:AK$12,1) -> 4 | AM9: =SUMIF('RECAP PDV'!$A:$A,$G9,'RECAP PDV'!AM:AM) -> -48 | AN9: =AM9/$I9 -> -0.65194184 | AO9: =IF(AO$22="NON",(AO$18-AN9)/ABS(AO$18),(AO$18-AN9)/AO$20*AO$16) -> 1.5 | AP9: =RANK(AO9,AO$6:AO$12,1) -> 7 | AQ9: =SUMIF('RECAP PDV'!$A:$A,$G9,'RECAP PDV'!AQ:AQ) -> 15 | AR9: =AQ9/$I9 -> 0.20373182 | AS9: =IF(AS$22="NON",(AS$18-AR9)/ABS(AS$18),(AS$18-AR9)/AS$20*AS$16) -> 0.59379758 | AT9: =RANK(AS9,AS$6:AS$12,1) -> 7 | AU9: =SUMIF('RECAP PDV'!$A:$A,$G9,'RECAP PDV'!AU:AU)/SUMIF('RECAP PDV'!$A:$A,$G9,'RECAP PDV'!AV:AV) -> 0.36699514 | AV9: =+AU9 -> 0.36699514 | AW9: =IF(AW$22="NON",(AW$18-AV9)/ABS(AW$18),(AW$18-AV9)/AW$20*AW$16) -> 0.10565713 | AX9: =RANK(AW9,AW$6:AW$12,1) -> 3 | BL9: =M9*$N$4+Q9*$R$4+U9*$V$4+Y9*$Z$4+AC9*$AD$4+AG9*$AH$4+AK9*$AL$4+AO9*$AP$4+AS9*$AT$4+AW9*$AX$4 -> 0.31095551 | BM9: =+BL9-$BL$4 -> 0.15476226 | BN9: =RANK(BM9,BM$6:BM$12,IF(BL$4>0,1,0)) -> 5
F10: 200110 | G10: 110 | H10: Meurthe et Moselle Meuse | I10: =VLOOKUP(G10,ETP!$B$11:$D$17,3,FALSE) -> 86.539006 | K10: =SUMIF('RECAP PDV'!$A:$A,$G10,'RECAP PDV'!K:K) -> 0 | L10: =K10/$I10 -> 0 | M10: 0 | N10: =RANK(M10,M$6:M$12,1) -> 1 | O10: =SUMIF('RECAP PDV'!$A:$A,$G10,'RECAP PDV'!O:O) -> 626 | P10: =O10/$I10 -> 7.2337323 | Q10: =IF(Q$22="NON",(Q$18-P10)/ABS(Q$18),(Q$18-P10)/Q$20*Q$16) -> 0.43501211 | R10: =RANK(Q10,Q$6:Q$12,1) -> 6 | S10: =SUMIF('RECAP PDV'!$A:$A,$G10,'RECAP PDV'!S:S) -> 58 | T10: =S10/$I10 -> 0.67021801 | U10: =IF(U$22="NON",(U$18-T10)/ABS(U$18),(U$18-T10)/U$20*U$16) -> 0.41243028 | V10: =RANK(U10,U$6:U$12,1) -> 6 | W10: =SUMIF('RECAP PDV'!$A:$A,$G10,'RECAP PDV'!W:W) -> 882.6 | X10: =W10/$I10 -> 10.198869 | Y10: =IF(Y$22="NON",(Y$18-X10)/ABS(Y$18),(Y$18-X10)/Y$20*Y$16) -> 0.65495586 | Z10: =RANK(Y10,Y$6:Y$12,1) -> 7 | AA10: =SUMIF('RECAP PDV'!$A:$A,$G10,'RECAP PDV'!AA:AA) -> 110 | AB10: =AA10/$I10 -> 1.2711031 | AC10: =IF(AC$22="NON",(AC$18-AB10)/ABS(AC$18),(AC$18-AB10)/AC$20*AC$16) -> 0.37294746 | AD10: =RANK(AC10,AC$6:AC$12,1) -> 4 | AE10: =SUMIF('RECAP PDV'!$A:$A,$G10,'RECAP PDV'!AE:AE) -> 1046.2795 | AF10: =AE10/$I10 -> 12.090265 | AG10: =IF(AG$22="NON",(AG$18-AF10)/ABS(AG$18),(AG$18-AF10)/AG$20*AG$16) -> 0.16526752 | AH10: =RANK(AG10,AG$6:AG$12,1) -> 4 | AI10: =SUMIF('RECAP PDV'!$A:$A,$G10,'RECAP PDV'!AI:AI) -> 72 | AJ10: =AI10/$I10 -> 0.83199477 | AK10: =IF(AK$22="NON",(AK$18-AJ10)/ABS(AK$18),(AK$18-AJ10)/AK$20*AK$16) -> 0.25877349 | AL10: =RANK(AK10,AK$6:AK$12,1) -> 5 | AM10: =SUMIF('RECAP PDV'!$A:$A,$G10,'RECAP PDV'!AM:AM) -> -36 | AN10: =AM10/$I10 -> -0.41599738 | AO10: =IF(AO$22="NON",(AO$18-AN10)/ABS(AO$18),(AO$18-AN10)/AO$20*AO$16) -> 1.3100537 | AP10: =RANK(AO10,AO$6:AO$12,1) -> 5 | AQ10: =SUMIF('RECAP PDV'!$A:$A,$G10,'RECAP PDV'!AQ:AQ) -> 27 | AR10: =AQ10/$I10 -> 0.31199804 | AS10: =IF(AS$22="NON",(AS$18-AR10)/ABS(AS$18),(AS$18-AR10)/AS$20*AS$16) -> 0.37793538 | AT10: =RANK(AS10,AS$6:AS$12,1) -> 2 | AU10: =SUMIF('RECAP PDV'!$A:$A,$G10,'RECAP PDV'!AU:AU)/SUMIF('RECAP PDV'!$A:$A,$G10,'RECAP PDV'!AV:AV) -> 0.31570965 | AV10: =+AU10 -> 0.31570965 | AW10: =IF(AW$22="NON",(AW$18-AV10)/ABS(AW$18),(AW$18-AV10)/AW$20*AW$16) -> 0.23063646 | AX10: =RANK(AW10,AW$6:AW$12,1) -> 6 | BL10: =M10*$N$4+Q10*$R$4+U10*$V$4+Y10*$Z$4+AC10*$AD$4+AG10*$AH$4+AK10*$AL$4+AO10*$AP$4+AS10*$AT$4+AW10*$AX$4 -> 0.35069689 | BM10: =+BL10-$BL$4 -> 0.19450365 | BN10: =RANK(BM10,BM$6:BM$12,IF(BL$4>0,1,0)) -> 7
F11: 200160 | G11: 160 | H11: Moselle | I11: =VLOOKUP(G11,ETP!$B$11:$D$17,3,FALSE) -> 86.033395 | K11: =SUMIF('RECAP PDV'!$A:$A,$G11,'RECAP PDV'!K:K) -> 0 | L11: =K11/$I11 -> 0 | M11: 0 | N11: =RANK(M11,M$6:M$12,1) -> 1 | O11: =SUMIF('RECAP PDV'!$A:$A,$G11,'RECAP PDV'!O:O) -> 1035 | P11: =O11/$I11 -> 12.030212 | Q11: =IF(Q$22="NON",(Q$18-P11)/ABS(Q$18),(Q$18-P11)/Q$20*Q$16) -> 0.06038488 | R11: =RANK(Q11,Q$6:Q$12,1) -> 2 | S11: =SUMIF('RECAP PDV'!$A:$A,$G11,'RECAP PDV'!S:S) -> 61 | T11: =S11/$I11 -> 0.709027 | U11: =IF(U$22="NON",(U$18-T11)/ABS(U$18),(U$18-T11)/U$20*U$16) -> 0.37840703 | V11: =RANK(U11,U$6:U$12,1) -> 5 | W11: =SUMIF('RECAP PDV'!$A:$A,$G11,'RECAP PDV'!W:W) -> 1674.4 | X11: =W11/$I11 -> 19.46221 | Y11: =IF(Y$22="NON",(Y$18-X11)/ABS(Y$18),(Y$18-X11)/Y$20*Y$16) -> 0.34156215 | Z11: =RANK(Y11,Y$6:Y$12,1) -> 2 | AA11: =SUMIF('RECAP PDV'!$A:$A,$G11,'RECAP PDV'!AA:AA) -> 122 | AB11: =AA11/$I11 -> 1.418054 | AC11: =IF(AC$22="NON",(AC$18-AB11)/ABS(AC$18),(AC$18-AB11)/AC$20*AC$16) -> 0.30045459 | AD11: =RANK(AC11,AC$6:AC$12,1) -> 2 | AE11: =SUMIF('RECAP PDV'!$A:$A,$G11,'RECAP PDV'!AE:AE) -> 1132.0915 | AF11: =AE11/$I11 -> 13.158745 | AG11: =IF(AG$22="NON",(AG$18-AF11)/ABS(AG$18),(AG$18-AF11)/AG$20*AG$16) -> 0.091497867 | AH11: =RANK(AG11,AG$6:AG$12,1) -> 2 | AI11: =SUMIF('RECAP PDV'!$A:$A,$G11,'RECAP PDV'!AI:AI) -> 95 | AJ11: =AI11/$I11 -> 1.1042224 | AK11: =IF(AK$22="NON",(AK$18-AJ11)/ABS(AK$18),(AK$18-AJ11)/AK$20*AK$16) -> 0.016245132 | AL11: =RANK(AK11,AK$6:AK$12,1) -> 2 | AM11: =SUMIF('RECAP PDV'!$A:$A,$G11,'RECAP PDV'!AM:AM) -> 42 | AN11: =AM11/$I11 -> 0.48818253 | AO11: =IF(AO$22="NON",(AO$18-AN11)/ABS(AO$18),(AO$18-AN11)/AO$20*AO$16) -> 0.58214646 | AP11: =RANK(AO11,AO$6:AO$12,1) -> 2 | AQ11: =SUMIF('RECAP PDV'!$A:$A,$G11,'RECAP PDV'!AQ:AQ) -> 20 | AR11: =AQ11/$I11 -> 0.23246787 | AS11: =IF(AS$22="NON",(AS$18-AR11)/ABS(AS$18),(AS$18-AR11)/AS$20*AS$16) -> 0.53650338 | AT11: =RANK(AS11,AS$6:AS$12,1) -> 4 | AU11: =SUMIF('RECAP PDV'!$A:$A,$G11,'RECAP PDV'!AU:AU)/SUMIF('RECAP PDV'!$A:$A,$G11,'RECAP PDV'!AV:AV) -> 0.29828483 | AV11: =+AU11 -> 0.29828483 | AW11: =IF(AW$22="NON",(AW$18-AV11)/ABS(AW$18),(AW$18-AV11)/AW$20*AW$16) -> 0.27309959 | AX11: =RANK(AW11,AW$6:AW$12,1) -> 7 | BL11: =M11*$N$4+Q11*$R$4+U11*$V$4+Y11*$Z$4+AC11*$AD$4+AG11*$AH$4+AK11*$AL$4+AO11*$AP$4+AS11*$AT$4+AW11*$AX$4 -> 0.1964496 | BM11: =+BL11-$BL$4 -> 0.040256355 | BN11: =RANK(BM11,BM$6:BM$12,IF(BL$4>0,1,0)) -> 3
F12: 200080 | G12: 80 | H12: Vosges | I12: =VLOOKUP(G12,ETP!$B$11:$D$17,3,FALSE) -> 43.754509 | K12: =SUMIF('RECAP PDV'!$A:$A,$G12,'RECAP PDV'!K:K) -> 0 | L12: =K12/$I12 -> 0 | M12: 0 | N12: =RANK(M12,M$6:M$12,1) -> 1 | O12: =SUMIF('RECAP PDV'!$A:$A,$G12,'RECAP PDV'!O:O) -> 476 | P12: =O12/$I12 -> 10.878879 | Q12: =IF(Q$22="NON",(Q$18-P12)/ABS(Q$18),(Q$18-P12)/Q$20*Q$16) -> 0.15030934 | R12: =RANK(Q12,Q$6:Q$12,1) -> 3 | S12: =SUMIF('RECAP PDV'!$A:$A,$G12,'RECAP PDV'!S:S) -> 48 | T12: =S12/$I12 -> 1.0970298 | U12: =IF(U$22="NON",(U$18-T12)/ABS(U$18),(U$18-T12)/U$20*U$16) -> 0.038251012 | V12: =RANK(U12,U$6:U$12,1) -> 3 | W12: =SUMIF('RECAP PDV'!$A:$A,$G12,'RECAP PDV'!W:W) -> 749.4 | X12: =W12/$I12 -> 17.127378 | Y12: =IF(Y$22="NON",(Y$18-X12)/ABS(Y$18),(Y$18-X12)/Y$20*Y$16) -> 0.42055329 | Z12: =RANK(Y12,Y$6:Y$12,1) -> 4 | AA12: =SUMIF('RECAP PDV'!$A:$A,$G12,'RECAP PDV'!AA:AA) -> 41 | AB12: =AA12/$I12 -> 0.93704628 | AC12: =IF(AC$22="NON",(AC$18-AB12)/ABS(AC$18),(AC$18-AB12)/AC$20*AC$16) -> 0.53774227 | AD12: =RANK(AC12,AC$6:AC$12,1) -> 7 | AE12: =SUMIF('RECAP PDV'!$A:$A,$G12,'RECAP PDV'!AE:AE) -> 480.18946 | AF12: =AE12/$I12 -> 10.974628 | AG12: =IF(AG$22="NON",(AG$18-AF12)/ABS(AG$18),(AG$18-AF12)/AG$20*AG$16) -> 0.24229302 | AH12: =RANK(AG12,AG$6:AG$12,1) -> 6 | AI12: =SUMIF('RECAP PDV'!$A:$A,$G12,'RECAP PDV'!AI:AI) -> 45 | AJ12: =AI12/$I12 -> 1.0284654 | AK12: =IF(AK$22="NON",(AK$18-AJ12)/ABS(AK$18),(AK$18-AJ12)/AK$20*AK$16) -> 0.083737216 | AL12: =RANK(AK12,AK$6:AK$12,1) -> 3 | AM12: =SUMIF('RECAP PDV'!$A:$A,$G12,'RECAP PDV'!AM:AM) -> 53 | AN12: =AM12/$I12 -> 1.2113037 | AO12: =IF(AO$22="NON",(AO$18-AN12)/ABS(AO$18),(AO$18-AN12)/AO$20*AO$16) -> 0 | AP12: =RANK(AO12,AO$6:AO$12,1) -> 1 | AQ12: =SUMIF('RECAP PDV'!$A:$A,$G12,'RECAP PDV'!AQ:AQ) -> 13 | AR12: =AQ12/$I12 -> 0.29711224 | AS12: =IF(AS$22="NON",(AS$18-AR12)/ABS(AS$18),(AS$18-AR12)/AS$20*AS$16) -> 0.40761484 | AT12: =RANK(AS12,AS$6:AS$12,1) -> 3 | AU12: =SUMIF('RECAP PDV'!$A:$A,$G12,'RECAP PDV'!AU:AU)/SUMIF('RECAP PDV'!$A:$A,$G12,'RECAP PDV'!AV:AV) -> 0.32208336 | AV12: =+AU12 -> 0.32208336 | AW12: =IF(AW$22="NON",(AW$18-AV12)/ABS(AW$18),(AW$18-AV12)/AW$20*AW$16) -> 0.21510416 | AX12: =RANK(AW12,AW$6:AW$12,1) -> 5 | BL12: =M12*$N$4+Q12*$R$4+U12*$V$4+Y12*$Z$4+AC12*$AD$4+AG12*$AH$4+AK12*$AL$4+AO12*$AP$4+AS12*$AT$4+AW12*$AX$4 -> 0.15619325 | BM12: =+BL12-$BL$4 -> 0 | BN12: =RANK(BM12,BM$6:BM$12,IF(BL$4>0,1,0)) -> 1
L14: CELLULE M6 | M14: SI(M$22="NON";(M$18-L6)/ABS(M$18);(M$18-L6)/M$20*M$16)
H16: Plafond écart:au 1er | M16: 1.5 | Q16: 1.5 | U16: 1.5 | Y16: 1.5 | AC16: 1.5 | AG16: 1.5 | AK16: 1.5 | AO16: 1.5 | AS16: 1.5 | AW16: 1.5
H18: Maximum ratio Agence | M18: =MAX(L6:L12) -> 0 | Q18: =MAX(P6:P12) -> 12.80334 | U18: =MAX(T6:T12) -> 1.1406612 | Y18: =MAX(X6:X12) -> 29.558158 | AC18: =MAX(AB6:AB12) -> 2.0271079 | AG18: =MAX(AF6:AF12) -> 14.484 | AK18: =MAX(AJ6:AJ12) -> 1.1224568 | AO18: =MAX(AN6:AN12) -> 1.2113037 | AS18: =MAX(AR6:AR12) -> 0.50155246 | AW18: =MAX(AV6:AV12) -> 0.41035172
H19: Minimum ratio Agence | M19: =MIN(L6:L12) -> 0 | Q19: =MIN(P6:P12) -> 5.6633632 | U19: =MIN(T6:T12) -> 0.66869769 | Y19: =MIN(X6:X12) -> 10.198869 | AC19: =MIN(AB6:AB12) -> 0.93704628 | AG19: =MIN(AF6:AF12) -> 9.985143 | AK19: =MIN(AJ6:AJ12) -> 0.71053265 | AO19: =MIN(AN6:AN12) -> -0.65194184 | AS19: =MIN(AR6:AR12) -> 0.20373182 | AW19: =MIN(AV6:AV12) -> 0.29828483
H20: Ecart Min-Max | M20: =M18-M19 -> 0 | Q20: =Q18-Q19 -> 7.1399773 | U20: =U18-U19 -> 0.47196355 | Y20: =Y18-Y19 -> 19.359289 | AC20: =AC18-AC19 -> 1.0900616 | AG20: =AG18-AG19 -> 4.4988571 | AK20: =AK18-AK19 -> 0.41192419 | AO20: =AO18-AO19 -> 1.8632456 | AS20: =AS18-AS19 -> 0.29782064 | AW20: =AW18-AW19 -> 0.11206689
H21: Ecart au 1er Max Agence | M21: =(M18-M19)/ABS(M18) -> #DIV/0! | Q21: =(Q18-Q19)/ABS(Q18) -> 0.55766519 | U21: =(U18-U19)/ABS(U18) -> 0.41376311 | Y21: =(Y18-Y19)/ABS(Y18) -> 0.65495586 | AC21: =(AC18-AC19)/ABS(AC18) -> 0.53774227 | AG21: =(AG18-AG19)/ABS(AG18) -> 0.31060875 | AK21: =(AK18-AK19)/ABS(AK18) -> 0.36698444 | AO21: =(AO18-AO19)/ABS(AO18) -> 1.538215 | AS21: =(AS18-AS19)/ABS(AS18) -> 0.59379758 | AW21: =(AW18-AW19)/ABS(AW18) -> 0.27309959
H22: Plafonnement Agence | M22: =IF(M21>M16,"OUI","NON") -> #DIV/0! | Q22: =IF(Q21>Q16,"OUI","NON") -> NON | U22: =IF(U21>U16,"OUI","NON") -> NON | Y22: =IF(Y21>Y16,"OUI","NON") -> NON | AC22: =IF(AC21>AC16,"OUI","NON") -> NON | AG22: =IF(AG21>AG16,"OUI","NON") -> NON | AK22: =IF(AK21>AK16,"OUI","NON") -> NON | AO22: =IF(AO21>AO16,"OUI","NON") -> OUI | AS22: =IF(AS21>AS16,"OUI","NON") -> NON | AW22: =IF(AW21>AW16,"OUI","NON") -> NON

Sheet COEF
B2: Coefficient des indicateurs
J4: agence | K4: pdv | M4: Pondérateur Immo
J5: 4006 | K5: 6 | L5: STRASBOURG NEUDORF | M5: 1.1
J6: 4007 | K6: 7 | L6: ILLKIRCH CENTRE | M6: 1.1
A7: Clients | B7: Evolution Nbre CLIENTS PREMIUM | C7: 0.3 | J7: 4007 | K7: 13 | L7: ILLKIRCH NORD | M7: 1.1
A8: Bancarisation | B8: Ventes nettes produits pondérés (cartes 1er, Platinum, Infinite) | C8: 0.1 | J8: 4008 | K8: 8 | L8: FEGERSHEIM | M8: 1.1
B9: Ventes sur Clients PREMIUM non détenteurs | C9: 0.05 | J9: 4010 | K9: 10 | L9: STRASBOURG MEINAU | M9: 1.15
A10: IARD & Prév. | B10: Ventes nettes produits pondérés (idem Gd Public) | C10: 0.1 | J10: 4012 | K10: 12 | L10: STRASBOURG STOCKFELD | M10: 1.1
B11: Ventes sur Clients PREMIUM non détenteurs | C11: 0.05 | J11: 4015 | K11: 14 | L11: OSTWALD | M11: 1.1
A12: Crédits | B12: Ventes nettes produits | C12: 0.1 | J12: 4015 | K12: 15 | L12: LINGOLSHEIM | M12: 1.1
B13: Ventes sur Clients PREMIUM non détenteurs | C13: 0.05 | J13: 4017 | K13: 17 | L13: Agence du personnel | M13: 1.1
A14: Assurance Vie | B14: Ventes nettes produits | C14: 0.1 | J14: 4022 | K14: 57880 | L14: Mon banquier en ligne | M14: 1.1
B15: Ventes sur Clients PREMIUM non détenteurs | C15: 0.05 | J15: 4019 | K15: 19 | L15: STRASBOURG ANVERS | M15: 1.05
B16: Taux d'UC Assurance Vie | C16: 0.1 | J16: 4020 | K16: 20 | L16: STRASBOURG ROBERTSAU | M16: 1.05
J17: 4023 | K17: 23 | L17: STRASBOURG VOSGES | M17: 1.1
J18: 4024 | K18: 24 | L18: STRASBOURG AUSTERLITZ | M18: 1.15
J19: 4025 | K19: 25 | L19: STRASBOURG ESPLANADE | M19: 1.05
J20: 4026 | K20: 26 | L20: STRASBOURG DANUBE | M20: 1.1
J21: 4027 | K21: 27 | L21: SCHILTIGHEIM CENTRE | M21: 1.1
J22: 4028 | K22: 28 | L22: BISCHHEIM | M22: 1.1
J23: 4029 | K23: 29 | L23: SCHILTIGHEIM KLEBER | M23: 1.1
J24: 4030 | K24: 30 | L24: BRUMATH | M24: 1.1
J25: 4030 | K25: 65 | L25: WEITBRUCH | M25: 1.1
J26: 4031 | K26: 31 | L26: TRUCHTERSHEIM | M26: 1.05
J27: 4033 | K27: 33 | L27: LA WANTZENAU | M27: 1.05
J28: 4037 | K28: 34 | L28: VENDENHEIM | M28: 1.05
... J340: 451115 | K340: 51114 | L340: Suippes | M340: 1.15

Sheet ETP
C2: Indiquer Date d'arrêté | D2: 44227
B8: Direction régionale | F8: Territoires | J8: Agences | O8: Points de vente
B10: eds | C10: DR | D10: ETP MOYEN | F10: eds | G10: Territoires | H10: ETP MOYEN | J10: eds | K10: AGENCES | L10: EDS SECTEUR | M10: ETP MOYEN | O10: eds | P10: PDV | Q10: EDS AGENCE | R10: EDS SECTEUR | S10: EDS DIRCO | T10: ETP MOYEN
B11: 50 | C11: Aube Haute Marne | D11: 41.872434 | F11: 2 | G11: CHARLEVILLE MEZIERES | H11: 22.272727 | J11: 410560 | K11: BOURBONNE LES BAINS | L11: 21 | M11: 2 | O11: 8801 | P11: CHARLEVILLE JEAN JAURES | Q11: 408801 | R11: 2 | S11: 30 | T11: 9.782
B12: 262 | C12: Bas-Rhin | D12: 85.915079 | F12: 6 | G12: CHALONS EN CHAMPAGNE | H12: 17.739036 | J12: 510558 | K12: CHALINDREY | L12: 21 | M12: 0 | O12: 8802 | P12: CHARLEVILLE NEVERS | Q12: 508802 | R12: 2 | S12: 30 | T12: 2.5483871
B13: 264 | C13: Haut-Rhin | D13: 47.851425 | F13: 11 | G13: REIMS | H13: 33.614436 | J13: 410539 | K13: CHATEAUVILLAIN | L13: 21 | M13: 0 | O13: 8806 | P13: SEDAN | Q13: 408806 | R13: 2 | S13: 30 | T13: 8.9130435
B14: 30 | C14: Marne-Ardennes | D14: 73.6262 | F14: 14 | G14: TROYES | H14: 28.21349 | J14: 410566 | K14: CHAUMONT HOTEL DE VILLE | L14: 21 | M14: 7.9130435 | O14: 8814 | P14: VRIGNE AUX BOIS | Q14: 408814 | R14: 2 | S14: 30 | T14: 0
B15: 110 | C15: Meurthe et Moselle Meuse | D15: 86.539006 | F15: 21 | G15: CHAUMONT | H15: 13.658944 | J15: 510590 | K15: CHAUMONT REPUBLIQUE | L15: 21 | M15: 3.9130435 | O15: 8815 | P15: CARIGNAN | Q15: 508815 | R15: 2 | S15: 30 | T15: 3.1304348
B16: 160 | C16: Moselle | D16: 86.033395 | F16: 26 | G16: NANCY | H16: 29.699987 | J16: 451154 | K16: JOINVILLE | L16: 21 | M16: 2 | O16: 8819 | P16: MOUZON | Q16: 508819 | R16: 2 | S16: 30 | T16: 1.7826087
B17: 80 | C17: Vosges | D17: 43.754509 | F17: 27 | G17: PONT A MOUSSON | H17: 32.461745 | J17: 410541 | K17: LANGRES | L17: 21 | M17: 6.6950435 | O17: 8822 | P17: CHARLEVILLE MEZIERES | Q17: 408822 | R17: 2 | S17: 30 | T17: 4.502
C18: CE GEE | D18: 465.59205 | F18: 31 | G18: VERDUN | H18: 24.377273 | J18: 410582 | K18: NOGENT | L18: 21 | M18: 0 | O18: 8817 | P18: CHARLEVILLE MOHON | Q18: 508817 | R18: 2 | S18: 30 | T18: 3.1323478
F19: 42 | G19: MOSELLE EST | H19: 22.949999 | J19: 451156 | K19: SAINT DIZIER CENTRE | L19: 21 | M19: 7.7826087 | O19: 8833 | P19: VILLERS SEMEUSE CORA | Q19: 508833 | R19: 2 | S19: 30 | T19: 3.0652304
F20: 44 | G20: MOSELLE NORD | H20: 29.57495 | J20: 551157 | K20: SAINT DIZIER EUROPE | L20: 21 | M20: 2.8754 | O20: 8840 | P20: RETHEL | Q20: 408840 | R20: 2 | S20: 30 | T20: 4.5652174
F21: 45 | G21: METZ | H21: 33.508445 | J21: 451151 | K21: WASSY | L21: 21 | M21: 3 | O21: 8820 | P21: VOUZIERS | Q21: 508820 | R21: 2 | S21: 30 | T21: 3
F22: 55 | G22: SAINT DIE | H22: 21.563418 | J22: 410583 | K22: AIX EN OTHE | L22: 14 | M22: 0 | O22: 8839 | P22: GIVET | Q22: 508839 | R22: 2 | S22: 30 | T22: 3.782
F23: 57 | G23: EPINAL | H23: 22.191091 | J23: 510530 | K23: ARCIS SUR AUBE | L23: 14 | M23: 3.5652174 | O23: 8862 | P23: REVIN | Q23: 408862 | R23: 2 | S23: 30 | T23: 3.5646087
F24: 5006 | G24: STRASBOURG | H24: 32.786364 | J24: 410550 | K24: BAR SUR AUBE | L24: 14 | M24: 5.4347826 | O24: 8860 | P24: ROCROI | Q24: 508860 | R24: 2 | S24: 30 | T24: 3.6637
F25: 5060 | G25: HAGUENAU | H25: 24.40497 | J25: 510556 | K25: BAR SUR SEINE | L25: 14 | M25: 3.748 | O25: 10523 | P25: LA CHAPELLE ST LUC | Q25: 510523 | R25: 14 | S25: 50 | T25: 5.6642087
F26: 5101 | G26: SELESTAT | H26: 28.723745 | J26: 410551 | K26: BRIENNE LE CHATEAU | L26: 14 | M26: 0 | O26: 10513 | P26: TROYES 1ER MAI | Q26: 510513 | R26: 14 | S26: 50 | T26: 4.2989871
F27: 5130 | G27: COLMAR | H27: 23.409091 | J27: 510523 | K27: LA CHAPELLE ST LUC | L27: 14 | M27: 5.6642087 | O27: 10510 | P27: TROYES GAMBETTA | Q27: 410510 | R27: 14 | S27: 50 | T27: 10.956522
F28: 5169 | G28: MULHOUSE | H28: 24.442334 | J28: 510570 | K28: NOGENT SUR SEINE | L28: 14 | M28: 4.6950435 | O28: 10511 | P28: TROYES BROSSOLETTE | Q28: 510511 | R28: 14 | S28: 50 | T28: 3
J29: 410571 | K29: ROMILLY SUR SEINE | L29: 14 | M29: 5.4952291 | O29: 10512 | P29: TROYES ZOLA | Q29: 410512 | R29: 14 | S29: 50 | T29: 3.6511565
J30: 510520 | K30: SAINT ANDRE LES VERGERS | L30: 14 | M30: 4.782 | O30: 10583 | P30: AIX EN OTHE | Q30: 510523 | R30: 14 | S30: 50 | T30: 0
J31: 410524 | K31: SAINT JULIEN LES VILLAS | L31: 14 | M31: 6.9130435 | O31: 10521 | P31: SAINTE SAVINE | Q31: 410521 | R31: 14 | S31: 50 | T31: 4.9565217
J32: 410521 | K32: SAINTE SAVINE | L32: 14 | M32: 4.9565217 | O32: 10520 | P32: SAINT ANDRE LES VERGERS | Q32: 510520 | R32: 14 | S32: 50 | T32: 4.782
J33: 510513 | K33: TROYES 1ER MAI | L33: 14 | M33: 4.2989871 | O33: 10524 | P33: SAINT JULIEN LES VILLAS | Q33: 410524 | R33: 14 | S33: 50 | T33: 6.9130435
J34: 510511 | K34: TROYES BROSSOLETTE | L34: 14 | M34: 3 | O34: 10522 | P34: TROYES CHARTREUX | Q34: 510522 | R34: 14 | S34: 50 | T34: 2.8695652
J35: 510522 | K35: TROYES CHARTREUX | L35: 14 | M35: 2.8695652 | O35: 10550 | P35: BAR SUR AUBE | Q35: 410550 | R35: 14 | S35: 50 | T35: 5.4347826
J36: 410510 | K36: TROYES GAMBETTA | L36: 14 | M36: 10.956522 | O36: 10556 | P36: BAR SUR SEINE | Q36: 510556 | R36: 14 | S36: 50 | T36: 3.748
J37: 410512 | K37: TROYES ZOLA | L37: 14 | M37: 3.6511565 | O37: 10551 | P37: BRIENNE LE CHATEAU | Q37: 410550 | R37: 14 | S37: 50 | T37: 0
J38: 4057 | K38: BISCHWILLER | L38: 5060 | M38: 6.6399429 | O38: 10530 | P38: ARCIS SUR AUBE | Q38: 510530 | R38: 14 | S38: 50 | T38: 3.5652174
J39: 4082 | K39: BOUXWILLER | L39: 5060 | M39: 3 | O39: 10570 | P39: NOGENT SUR SEINE | Q39: 510570 | R39: 14 | S39: 50 | T39: 4.6950435
J40: 4030 | K40: BRUMATH | L40: 5060 | M40: 6.389981 | O40: 10571 | P40: ROMILLY SUR SEINE | Q40: 410571 | R40: 14 | S40: 50 | T40: 5.4952291
... J318: 4017 | K318: Mon agence | L318: 5017 | M318: 10.7002 | O318: 163 | P318: PULVERSHEIM | Q318: 4162 | R318: 5130 | S318: 264 | T318: 0
O319: 164 | P319: SAINTE MARIE AUX MINES | Q319: 4164 | R319: 5130 | S319: 264 | T319: 1.8571429
O320: 167 | P320: LIEPVRE | Q320: 4164 | R320: 5130 | S320: 264 | T320: 0
O321: 169 | P321: MULHOUSE ROOSEVELT | Q321: 4169 | R321: 5169 | S321: 264 | T321: 0
O322: 170 | P322: MULHOUSE REUNION | Q322: 4170 | R322: 5169 | S322: 264 | T322: 10.306212
O323: 174 | P323: MULHOUSE DORNACH | Q323: 4174 | R323: 5169 | S323: 264 | T323: 5.3077355
O324: 178 | P324: SAINT LOUIS | Q324: 4178 | R324: 5169 | S324: 264 | T324: 7.7915065
O325: 179 | P325: SIERENTZ | Q325: 4178 | R325: 5169 | S325: 264 | T325: 0
O326: 180 | P326: RIEDISHEIM | Q326: 4180 | R326: 5169 | S326: 264 | T326: 3.235949
O327: 181 | P327: WITTELSHEIM | Q327: 4181 | R327: 5169 | S327: 264 | T327: 4.1637524
O328: 183 | P328: WITTENHEIM | Q328: 4183 | R328: 5169 | S328: 264 | T328: 2.9047619
O329: 184 | P329: ILLZACH | Q329: 4184 | R329: 5169 | S329: 264 | T329: 3.3575905
O330: 185 | P330: RIXHEIM | Q330: 4185 | R330: 5169 | S330: 264 | T330: 3.1917429
... O345: 17 | P345: MON AGENCE | Q345: 4017 | R345: 5017 | S345: 269 | T345: 10.7002

Sheet CONSO
C1: 1 | D1: 2 | E1: 3 | F1: 4 | G1: 10 | H1: 11 | I1: 12 | J1: 13 | K1: 14 | L1: 15 | M1: 16 | N1: 17 | S1: 7 | T1: 8
A2: Id_UC | B2: Id_groupe | C2: Id_PV | D2: Lib_PV | E2: Id_Agence | F2: Lib_Agence | G2: volumes conso BDD | H2: Tx marg conso BDD | I2: DVMA Conso BDD | J2: Marge | K2: taux de pénétration DES PRET CONSO BDD | L2: QUOTITE ASSUREE CONSO BDD | M2: PNB CNP CONSO BDD | N2: FDD CONSO MARCHE BDD | Q2: CODE AGENCE MYSYS | S2: Tx marg Revolving | T2: DVMA Revolving
A4: 105006 | B4: 200262 | C4: 6 | D4: STRASBOURG NEUDORF | E4: 6 | F4: STRASBOURG NEUDORF | G4: 2154.126 | H4: 0.024188905 | I4: 2.6133499 | J4: 136.17108 | K4: 0.94643166 | L4: 1.3296848 | Q4: 4006 | S4: 0.0432 | T4: 1.57
A5: 105101 | B5: 200262 | C5: 7 | D5: ILLKIRCH CENTRE | E5: 7 | F5: ILLKIRCH CENTRE | G5: 3356.76 | H5: 0.025642938 | I5: 2.7364508 | J5: 235.54599 | K5: 0.9087332 | L5: 1.4429446 | Q5: 4007
A6: 105101 | B6: 200262 | C6: 8 | D6: FEGERSHEIM | E6: 8 | F6: FEGERSHEIM | G6: 857.19052 | H6: 0.03090167 | I6: 2.5573767 | J6: 67.741377 | K6: 0.87853235 | L6: 1.4033529 | Q6: 4008
A7: 105006 | B7: 200262 | C7: 10 | D7: STRASBOURG MEINAU | E7: 10 | F7: STRASBOURG MEINAU | G7: 1669.1 | H7: 0.037671375 | I7: 2.9159829 | J7: 183.3491 | K7: 0.91042758 | L7: 1.121589 | Q7: 4010
A8: 105006 | B8: 200262 | C8: 12 | D8: STRASBOURG STOCKFELD | E8: 12 | F8: STRASBOURG STOCKFELD | G8: 472.17 | H8: 0.040789268 | I8: 2.6793265 | J8: 51.602405 | K8: 0.97694742 | L8: 1.351803 | Q8: 4006
A9: 105101 | B9: 200262 | C9: 13 | D9: ILLKIRCH NORD | E9: 7 | F9: ILLKIRCH CENTRE | G9: 949.751 | H9: 0.038656612 | I9: 2.4524921 | J9: 90.041177 | K9: 0.95818528 | L9: 1.37768 | Q9: 4007
A10: 105101 | B10: 200262 | C10: 14 | D10: OSTWALD | E10: 15 | F10: LINGOLSHEIM | G10: 251.35 | H10: 0.03522592 | I10: 2.2491367 | J10: 19.913935 | K10: 1 | L10: 1.168152 | Q10: 4015
A11: 105101 | B11: 200262 | C11: 15 | D11: LINGOLSHEIM | E11: 15 | F11: LINGOLSHEIM | G11: 1555.774 | H11: 0.034216015 | I11: 2.6782534 | J11: 142.56982 | K11: 0.98736396 | L11: 1.2895358 | Q11: 4015
A12: 105006 | B12: 200262 | C12: 18 | D12: ESPACE MESANGE | E12: 43 | F12: STRASBOURG HALLES | G12: 357.036 | H12: 0.023592903 | I12: 2.6760567 | J12: 22.541806 | K12: 0 | L12: 0 | Q12: 4043
A13: 105006 | B13: 200262 | C13: 19 | D13: STRASBOURG ANVERS | E13: 19 | F13: STRASBOURG ANVERS | G13: 2452.832 | H13: 0.019373792 | I13: 3.0793125 | J13: 146.33095 | K13: 0.96715397 | L13: 1.4123129 | Q13: 4019
A14: 105006 | B14: 200262 | C14: 20 | D14: STRASBOURG ROBERTSAU | E14: 20 | F14: STRASBOURG ROBERTSAU | G14: 1906.213 | H14: 0.025202574 | I14: 2.7818751 | J14: 133.64539 | K14: 0.96616328 | L14: 1.4070232 | Q14: 4020
A15: 105006 | B15: 200262 | C15: 23 | D15: STRASBOURG VOSGES | E15: 23 | F15: STRASBOURG VOSGES | G15: 1097.2 | H15: 0.030464352 | I15: 2.5637222 | J15: 85.693664 | K15: 0.89154211 | L15: 1.3986915 | Q15: 4023
A16: 105006 | B16: 200262 | C16: 24 | D16: STRASBOURG AUSTERLITZ | E16: 24 | F16: STRASBOURG AUSTERLITZ | G16: 1499.4227 | H16: 0.020300623 | I16: 2.9497256 | J16: 89.78733 | K16: 0.9721893 | L16: 1.2339471 | Q16: 4024
... A161: 100006 | B161: 200030 | C161: 51110 | D161: CHALONS ROOSEVELT | E161: 51110 | F161: CHALONS ROOSEVELT | G161: 2838.5433 | H161: 0.03284799 | I161: 2.6357277 | J161: 245.75642 | K161: 0.95647699 | L161: 1.4345019 | Q161: 551110
A162: 100006 | B162: 200030 | C162: 51114 | D162: SUIPPES | E162: 51115 | F162: MOURMELON SUIPPES | G162: 776.4 | H162: 0.034357701 | I162: 2.7026108 | J162: 72.093004 | Q162: 451115
A163: 100006 | B163: 200030 | C163: 51115 | D163: MOURMELON LE GRAND | E163: 51115 | F163: MOURMELON SUIPPES | G163: 1275.406 | H163: 0.034879031 | I163: 2.5643751 | J163: 114.07603 | K163: 0.96734584 | L163: 1.4607785 | Q163: 451115
A164: 100006 | B164: 200030 | C164: 51120 | D164: SARRY | E164: 51120 | F164: SARRY | G164: 1171.99 | H164: 0.033708683 | I164: 2.5213075 | J164: 99.607378 | K164: 0.8357159 | L164: 1.7412746 | Q164: 451120
A165: 100006 | B165: 200030 | C165: 51128 | D165: SAINTE MENEHOULD | E165: 51128 | F165: SAINTE MENEHOULD | G165: 1628.7904 | H165: 0.0365494 | I165: 2.6728229 | J165: 159.11665 | K165: 0.97577957 | L165: 1.3380902 | Q165: 551128
A166: 100021 | B166: 200050 | C166: 51151 | D166: WASSY | E166: 51151 | F166: WASSY | G166: 1572.87 | H166: 0.040439382 | I166: 2.4465762 | J166: 155.61666 | K166: 0.99872844 | L166: 1.2507082 | Q166: 451151
A167: 100021 | B167: 200050 | C167: 51154 | D167: JOINVILLE | E167: 51154 | F167: JOINVILLE | G167: 1037.201 | H167: 0.034902928 | I167: 2.3232603 | J167: 84.105164 | K167: 0.95570734 | L167: 1.5657038 | Q167: 451154
A168: 100021 | B168: 200050 | C168: 51156 | D168: SAINT DIZIER CENTRE | E168: 51156 | F168: SAINT DIZIER CENTRE | G168: 2686.585 | H168: 0.032613995 | I168: 2.4826686 | J168: 217.53209 | K168: 0.95725614 | L168: 1.4143093 | Q168: 451156
A169: 100021 | B169: 200050 | C169: 51157 | D169: SAINT DIZIER EUROPE | E169: 51157 | F169: SAINT DIZIER EUROPE | G169: 1919.0028 | H169: 0.029718218 | I169: 2.7497046 | J169: 156.81384 | K169: 0.97976826 | L169: 1.2690373 | Q169: 551157
A170: 100006 | B170: 200030 | C170: 51166 | D170: VITRY LE FRANCOIS | E170: 51166 | F170: VITRY LE FRANCOIS | G170: 2926.9403 | H170: 0.032966977 | I170: 2.6097501 | J170: 251.82098 | K170: 0.91510101 | L170: 1.3064483 | Q170: 451166
A171: 100011 | B171: 200030 | C171: 51301 | D171: REIMS HOTEL DE VILLE | E171: 51301 | F171: REIMS HOTEL DE VILLE | G171: 2760.901 | H171: 0.024335261 | I171: 2.7950958 | J171: 187.79479 | K171: 0.78878316 | L171: 1.3807254 | Q171: 451301
A172: 100011 | B172: 200030 | C172: 51305 | D172: REIMS HIPPODROME | E172: 51305 | F172: REIMS HIPPODROME | G172: 1585.5083 | H172: 0.033551433 | I172: 2.6295755 | J172: 139.88309 | K172: 0.96274496 | L172: 1.4065402 | Q172: 551305
A173: 100011 | B173: 200030 | C173: 51306 | D173: REIMS SAINT MARCEAUX | E173: 51306 | F173: REIMS SAINT MARCEAUX | G173: 2658.3378 | H173: 0.030762265 | I173: 2.6600847 | J173: 217.53239 | K173: 0.87337803 | L173: 1.2303955 | Q173: 551306
A174: 100011 | B174: 200030 | C174: 51307 | D174: REIMS SAINTE ANNE | E174: 51307 | F174: REIMS SAINTE ANNE | G174: 1497.4 | H174: 0.030564675 | I174: 2.8216408 | J174: 129.13957 | K174: 0.99387198 | L174: 1.153743 | Q174: 551307
... A338: 269 | B338: 269 | C338: 17 | D338: AGENCE DU PERSONNEL | E338: 17 | F338: AGENCE DU PERSONNEL | G338: 3825.1 | H338: 0.019905654 | I338: 2.7029404 | J338: 205.8049 | K338: 0.91634024 | L338: 1.5125773 | Q338: 4017
A339: 269 | B339: 269 | C339: 5705 | D339: EXPERT CREDIT IMMO | E339: 5705 | F339: EXPERT CREDIT IMMO | G339: 0 | H339: 0 | I339: 0 | J339: 0 | K339: 0 | L339: 0
A340: 269 | B340: 269 | C340: 5800 | D340: EXPERT DIRECT | E340: 5800 | F340: EXPERT DIRECT | G340: 518.93567 | H340: 0.04211754 | I340: 2.4626414 | J340: 53.824215 | K340: 0 | L340: 0
A341: 269 | B341: 269 | C341: 57880 | D341: MON BANQUIER EN LIGNE | E341: 57880 | F341: MON BANQUIER EN LIGNE | G341: 1496.502 | H341: 0.02773525 | I341: 2.2503292 | J341: 93.401842 | K341: 0.82983323 | L341: 1.4125854 | Q341: 4022
A342: 57892 | B342: 57892 | C342: 57892 | D342: BANQUE DU DIRIGEANT | E342: 57892 | F342: BANQUE DU DIRIGEANT | G342: 2327.4 | H342: 0.014300835 | I342: 3.0400971 | J342: 101.18587
B343: 200030 | C343: 100002 | E343: =C343 -> 100002 | F343: Territoire_CHARLEVILLE_MEZIERES | G343: 27606.629 | H343: 0.0345016 | I343: 2.6293269 | J343: 2504.3625 | K343: 0.95939892 | L343: 1.3799043
B344: 200030 | C344: 100006 | E344: =C344 -> 100006 | F344: Territoire_CHALONS_EN_CHAMPAGNE | G344: 24300.111 | H344: 0.03038059 | I344: 2.6908904 | J344: 1986.5544 | K344: 0.95160819 | L344: 1.3834181
B345: 200030 | C345: 100011 | E345: =C345 -> 100011 | F345: Territoire_REIMS | G345: 42963.345 | H345: 0.029081508 | I345: 2.665976 | J345: 3330.974 | K345: 0.92532415 | L345: 1.3189726
B346: 200050 | C346: 100014 | E346: =C346 -> 100014 | F346: Territoire_TROYES | G346: 34375.218 | H346: 0.034578493 | I346: 2.5316984 | J346: 3009.2862 | K346: 0.88651241 | L346: 1.3402179
B347: 200050 | C347: 100021 | E347: =C347 -> 100021 | F347: Territoire_CHAUMONT | G347: 19439.091 | H347: 0.033838971 | I347: 2.534769 | J347: 1667.3681 | K347: 0.94721548 | L347: 1.4135793
B348: 200080 | C348: 100055 | E348: =C348 -> 100055 | F348: Territoire_SAINT_DIE | G348: 26129.315 | H348: 0.033297526 | I348: 2.5896765 | J348: 2253.1262 | K348: 0.95235333 | L348: 1.3865213
B349: 200080 | C349: 100057 | E349: =C349 -> 100057 | F349: Territoire_EPINAL | G349: 26166.624 | H349: 0.034464979 | I349: 2.4346543 | J349: 2195.6495 | K349: 0.94505822 | L349: 1.3981045
B350: 200110 | C350: 100026 | E350: =C350 -> 100026 | F350: Territoire_NANCY | G350: 30683.874 | H350: 0.034508232 | I350: 2.6315033 | J350: 2786.3574 | K350: 0.96943519 | L350: 1.3083194
B351: 200110 | C351: 100027 | E351: =C351 -> 100027 | F351: Territoire_PONT_A_MOUSSON | G351: 46301.906 | H351: 0.031787772 | I351: 2.8514579 | J351: 4196.8739 | K351: 0.96811577 | L351: 1.3574897
B352: 200110 | C352: 100031 | E352: =C352 -> 100031 | F352: Territoire_VERDUN | G352: 29892.01 | H352: 0.035652241 | I352: 2.5655113 | J352: 2734.1094 | K352: 0.96739448 | L352: 1.3437852
B353: 200160 | C353: 100045 | E353: =C353 -> 100045 | F353: Territoire_METZ | G353: 45412.218 | H353: 0.032913547 | I353: 2.5621339 | J353: 3829.5631 | K353: 0.9689326 | L353: 1.2535142
B354: 200160 | C354: 100044 | E354: =C354 -> 100044 | F354: Territoire_MOSELLE_NORD | G354: 35229.041 | H354: 0.0335187 | I354: 2.5384852 | J354: 2997.5237 | K354: 0.97740797 | L354: 1.3256696
... B360: 200264 | C360: 105169 | E360: =C360 -> 105169 | F360: Territoire_MULHOUSE | G360: 27575.08 | H360: 0.033021303 | I360: 2.5261096 | J360: 2300.1872 | K360: 0.94500181 | L360: 1.3400702
B361: 57892 | C361: 57892 | E361: =C361 -> 57892 | F361: BANQUE_DU_DIRIGEANT | G361: 2327.4 | H361: 0.014300835 | I361: 3.0400971 | J361: 101.18587
C362: 269 | E362: =C362 -> 269 | F362: MULTIMEDIA | G362: 5840.5377 | H362: 0.023559598 | I362: 2.5656186 | J362: 353.03096 | K362: 0.89156117 | L362: 1.4859187
C363: 200030 | E363: =C363 -> 200030 | F363: MARNE_ARDENNES | G363: 94870.084 | H363: 0.030975942 | I363: 2.6616929 | J363: 7821.891 | K363: 0.94184905 | L363: 1.3534523
C364: 200050 | E364: =C364 -> 200050 | F364: AUBE_HAUTE_MARNE | G364: 53814.309 | H364: 0.034311152 | I364: 2.5328076 | J364: 4676.6543 | K364: 0.90839245 | L364: 1.3677907
C365: 200080 | E365: =C365 -> 200080 | F365: VOSGES | G365: 52295.939 | H365: 0.033863658 | I365: 2.5121101 | J365: 4448.7757 | K365: 0.94868138 | L365: 1.3923294
C366: 200110 | E366: =C366 -> 200110 | F366: MEURTHE_ET_MOSELLE_MEUSE | G366: 106877.79 | H366: 0.033570473 | I366: 2.7083358 | J366: 9717.3406 | K366: 0.9682913 | L366: 1.3395251
C367: 200160 | E367: =C367 -> 200160 | F367: MOSELLE | G367: 116698.75 | H367: 0.033468304 | I367: 2.5678271 | J367: 10029.186 | K367: 0.97234016 | L367: 1.3021278
C368: 200262 | E368: =C368 -> 200262 | F368: BAS_RHIN | G368: 97484.349 | H368: 0.030911559 | I368: 2.6355401 | J368: 7941.9187 | K368: 0.95849508 | L368: 1.3564972
C369: 200264 | E369: =C369 -> 200264 | F369: HAUT_RHIN | G369: 51536.316 | H369: 0.032718413 | I369: 2.5645999 | J369: 4324.3938 | K369: 0.94218559 | L369: 1.3470625
C370: 57892 | E370: =C370 -> 57892 | F370: BANQUE_DIRIGEANT | G370: 2327.4 | H370: 0.014300835 | I370: 3.0400971 | J370: 101.18587 | K370: 0 | L370: 0
C371: 15135 | E371: =C371 -> 15135 | F371: CEGEE | G371: 581745.48 | H371: 0.03249948 | I371: 2.6136287 | J371: 49414.377 | K371: 0.95272755 | L371: 1.3461881

Sheet IMMO
C1: 1 | D1: 2 | E1: 3 | F1: 4 | G1: 19 | H1: 20 | I1: 21 | K1: 22 | L1: 23 | M1: 24 | N1: 25 | O1: 26 | Q1: 29 | R1: colonneMC
A2: Id_UC | B2: Id_groupe | C2: Id_PV | D2: Lib_PV | E2: Id_Agence | F2: Lib_Agence | G2: volumes immo BDD | H2: Tx marg immo BDD | I2: DVMA Immo BDD | J2: Marge | K2: taux de pénétration DES PRET IMMO | L2: QUOTITE ASSUREE IMMO | M2: PNB CNP IMMO BDD | N2: FDD Immo BDD | O2: CAUTION Immo BDD | Q2: Comm apporteurs d'affaires BDD | R2: PNB comm immobilières | T2: CODE AGENCE MYSYS
A4: 105006 | B4: 200262 | C4: 6 | D4: STRASBOURG NEUDORF | E4: 6 | F4: STRASBOURG NEUDORF | G4: 9762.7408 | H4: 0.0040391089 | I4: 8.0155545 | K4: 0.55682482 | L4: 1.2737591 | T4: 4006
A5: 105101 | B5: 200262 | C5: 7 | D5: ILLKIRCH CENTRE | E5: 7 | F5: ILLKIRCH CENTRE | G5: 15016.769 | H5: 0.0039689727 | I5: 7.4785731 | K5: 0.75458873 | L5: 1.5308239 | T5: 4007
A6: 105101 | B6: 200262 | C6: 8 | D6: FEGERSHEIM | E6: 8 | F6: FEGERSHEIM | G6: 3853.9414 | H6: 0.0035340403 | I6: 6.9700846 | K6: 0.74897796 | L6: 1.0190096 | T6: 4008
A7: 105006 | B7: 200262 | C7: 10 | D7: STRASBOURG MEINAU | E7: 10 | F7: STRASBOURG MEINAU | G7: 3350.427 | H7: 0.0042741457 | I7: 8.2294896 | J7: 117.84805 | K7: 0.41763877 | L7: 1.4029565 | T7: 4010
A8: 105006 | B8: 200262 | C8: 12 | D8: STRASBOURG STOCKFELD | E8: 12 | F8: STRASBOURG STOCKFELD | G8: 3453.0952 | H8: 0.0042891354 | I8: 7.9171503 | J8: 117.25927 | K8: 0.40911426 | L8: 1.3349351 | T8: 4006
A9: 105101 | B9: 200262 | C9: 13 | D9: ILLKIRCH NORD | E9: 7 | F9: ILLKIRCH CENTRE | G9: 3431.0471 | H9: 0.0035536269 | I9: 8.3359481 | J9: 101.63739 | K9: 0.61701293 | L9: 1.3117189 | T9: 4007
A10: 105101 | B10: 200262 | C10: 14 | D10: OSTWALD | E10: 15 | F10: LINGOLSHEIM | G10: 1182.5936 | H10: 0.0019397864 | I10: 8.2104755 | J10: 18.834659 | K10: 0.64180928 | L10: 1.492181 | T10: 4015
A11: 105101 | B11: 200262 | C11: 15 | D11: LINGOLSHEIM | E11: 15 | F11: LINGOLSHEIM | G11: 5082.112 | H11: 0.0048051235 | I11: 8.3307339 | J11: 203.43799 | K11: 0.6970389 | L11: 1.3257557 | T11: 4015
A12: 105006 | B12: 200262 | C12: 18 | D12: ESPACE MESANGE | E12: 43 | F12: STRASBOURG HALLES | G12: 6989.8865 | H12: 0.0028293919 | I12: 7.6218528 | J12: 150.73836 | K12: 0.2795642 | L12: 1.0898789 | T12: 4043
A13: 105006 | B13: 200262 | C13: 19 | D13: STRASBOURG ANVERS | E13: 19 | F13: STRASBOURG ANVERS | G13: 19584.578 | H13: 0.0043657428 | I13: 7.5505886 | J13: 645.58461 | K13: 0.54439172 | L13: 1.4163973 | T13: 4019
A14: 105006 | B14: 200262 | C14: 20 | D14: STRASBOURG ROBERTSAU | E14: 20 | F14: STRASBOURG ROBERTSAU | G14: 11827.027 | H14: 0.0039000414 | I14: 7.4603546 | J14: 344.11554 | K14: 0.27838502 | L14: 1.1540878 | T14: 4020
A15: 105006 | B15: 200262 | C15: 23 | D15: STRASBOURG VOSGES | E15: 23 | F15: STRASBOURG VOSGES | G15: 3738.4642 | H15: 0.0038744792 | I15: 8.1302969 | J15: 117.76412 | K15: 0.30898424 | L15: 1.3738274 | T15: 4023
A16: 105006 | B16: 200262 | C16: 24 | D16: STRASBOURG AUSTERLITZ | E16: 24 | F16: STRASBOURG AUSTERLITZ | G16: 4856.9925 | H16: 0.003294669 | I16: 7.1505262 | J16: 114.42403 | K16: 0.71234665 | L16: 1.3588206 | T16: 4024
A17: 105006 | B17: 200262 | C17: 25 | D17: STRASBOURG ESPLANADE | E17: 25 | F17: STRASBOURG ESPLANADE | G17: 2472.6098 | H17: 0.0049797613 | I17: 6.169416 | J17: 75.964059 | K17: 0.72760342 | L17: 1.5013147 | T17: 4026
A18: 105006 | B18: 200262 | C18: 26 | D18: STRASBOURG DANUBE | E18: 26 | F18: STRASBOURG DANUBE | G18: 1908.6471 | H18: 0.0039263011 | I18: 8.2559834 | J18: 61.869706 | K18: 0.54763148 | L18: 1.2432641 | T18: 4026
... A338: 269 | B338: 269 | C338: 17 | D338: AGENCE DU PERSONNEL | E338: 17 | F338: AGENCE DU PERSONNEL | G338: 37475.723 | H338: 0.0014161078 | I338: 7.6590842 | J338: 406.46501 | K338: 0.078428904 | L338: 1.5163074 | T338: 4017
A339: 269 | B339: 269 | C339: 5705 | D339: EXPERT CREDIT IMMO | E339: 5705 | F339: EXPERT CREDIT IMMO | G339: 808.02222 | H339: 0.0042734947 | I339: 7.9430647 | J339: 27.428028 | K339: 0.72070171 | L339: 1.8306386
A340: 269 | B340: 269 | C340: 5800 | D340: EXPERT DIRECT | E340: 5800 | F340: EXPERT DIRECT | G340: -0.344 | H340: 0.0037302524 | I340: 6.8344767 | J340: -0.0087700472 | K340: 1 | L340: 1
A341: 269 | B341: 269 | C341: 57880 | D341: MON BANQUIER EN LIGNE | E341: 57880 | F341: MON BANQUIER EN LIGNE | G341: 18052.519 | H341: 0.0064413134 | I341: 7.959295 | J341: 925.52222 | K341: 0.79646246 | L341: 1.5349418 | T341: 4022
A342: 57892 | B342: 57892 | C342: 57892 | D342: BANQUE DU DIRIGEANT | E342: 57892 | F342: BANQUE DU DIRIGEANT | G342: 24910.88 | H342: 0.0037518654 | I342: 6.804014 | J342: 635.91858 | K342: 0.41036312 | L342: 1.1487461
B343: 200030 | C343: 100002 | E343: =C343 -> 100002 | F343: Territoire_CHARLEVILLE_MEZIERES | G343: 124256.97 | H343: 0.0058177256 | I343: 7.9151247 | J343: 5721.7877 | K343: 0.8856458 | L343: 1.434871
B344: 200030 | C344: 100006 | E344: =C344 -> 100006 | F344: Territoire_CHALONS_EN_CHAMPAGNE | G344: 96716.209 | H344: 0.0055872622 | I344: 7.8908894 | J344: 4264.0695 | K344: 0.85558766 | L344: 1.4232654
B345: 200030 | C345: 100011 | E345: =C345 -> 100011 | F345: Territoire_REIMS | G345: 253136.35 | H345: 0.0050657129 | I345: 7.8909623 | J345: 10118.708 | K345: 0.87626266 | L345: 1.4366925
B346: 200050 | C346: 100014 | E346: =C346 -> 100014 | F346: Territoire_TROYES | G346: 95054.636 | H346: 0.0053318295 | I346: 7.6064931 | J346: 3855.0857 | K346: 0.63890933 | L346: 1.3578831
B347: 200050 | C347: 100021 | E347: =C347 -> 100021 | F347: Territoire_CHAUMONT | G347: 45034.144 | H347: 0.0047202142 | I347: 7.7682788 | J347: 1651.3093 | K347: 0.65843096 | L347: 1.3992704
B348: 200080 | C348: 100055 | E348: =C348 -> 100055 | F348: Territoire_SAINT_DIE | G348: 62404.645 | H348: 0.0049796549 | I348: 7.4813273 | J348: 2324.8494 | K348: 0.67993106 | L348: 1.4472439
B349: 200080 | C349: 100057 | E349: =C349 -> 100057 | F349: Territoire_EPINAL | G349: 84191.537 | H349: 0.0051836273 | I349: 7.5036176 | J349: 3274.7104 | K349: 0.6494474 | L349: 1.3744336
B350: 200110 | C350: 100026 | E350: =C350 -> 100026 | F350: Territoire_NANCY | G350: 194682.84 | H350: 0.0047744992 | I350: 7.7889448 | J350: 7239.9259 | K350: 0.7171974 | L350: 1.4011058
B351: 200110 | C351: 100027 | E351: =C351 -> 100027 | F351: Territoire_PONT_A_MOUSSON | G351: 246597.58 | H351: 0.0050438569 | I351: 7.9960767 | J351: 9945.5433 | K351: 0.76156664 | L351: 1.3913852
B352: 200110 | C352: 100031 | E352: =C352 -> 100031 | F352: Territoire_VERDUN | G352: 90295.565 | H352: 0.0057354856 | I352: 7.7706805 | J352: 4024.3493 | K352: 0.80331068 | L352: 1.3678346
B353: 200160 | C353: 100045 | E353: =C353 -> 100045 | F353: Territoire_METZ | G353: 190274.31 | H353: 0.0045096474 | I353: 7.5936349 | J353: 6515.8707 | K353: 0.62221429 | L353: 1.3967063
B354: 200160 | C354: 100044 | E354: =C354 -> 100044 | F354: Territoire_MOSELLE_NORD | G354: 154395.64 | H354: 0.0049245647 | I354: 7.9901188 | J354: 6075.1376 | K354: 0.58553464 | L354: 1.4440455
... B361: 57892 | C361: 57892 | E361: =C361 -> 57892 | F361: BANQUE_DU_DIRIGEANT | G361: 24910.88 | H361: 0.0037518654 | I361: 6.804014 | J361: 635.91858 | K361: 0.41036312 | L361: 1.1487461
C362: 269 | E362: =C362 -> 269 | F362: MULTIMEDIA | G362: 56335.921 | H362: 0.0031098387 | I362: 7.7593632 | J362: 1359.4065 | K362: 0.3178155 | L362: 1.5492808
C363: 200030 | E363: =C363 -> 200030 | F363: MARNE_ARDENNES | G363: 474109.52 | H363: 0.0053695571 | I363: 7.89728 | J363: 20104.565 | K363: 0.87450847 | L363: 1.4335346
C364: 200050 | E364: =C364 -> 200050 | F364: AUBE_HAUTE_MARNE | G364: 140088.78 | H364: 0.0051323961 | I364: 7.6585021 | J364: 5506.3949 | K364: 0.64518621 | L364: 1.3714637
C365: 200080 | E365: =C365 -> 200080 | F365: VOSGES | G365: 146596.18 | H365: 0.0050969464 | I365: 7.4941288 | J365: 5599.5598 | K365: 0.66239971 | L365: 1.406189
C366: 200110 | E366: =C366 -> 200110 | F366: MEURTHE_ET_MOSELLE_MEUSE | G366: 531575.98 | H366: 0.0050621964 | I366: 7.8819306 | J366: 21209.818 | K366: 0.7524204 | L366: 1.3905117
C367: 200160 | E367: =C367 -> 200160 | F367: MOSELLE | G367: 432651.28 | H367: 0.0047753252 | I367: 7.7369911 | J367: 15985.015 | K367: 0.63244108 | L367: 1.4280993
C368: 200262 | E368: =C368 -> 200262 | F368: BAS_RHIN | G368: 368071.1 | H368: 0.0044779973 | I368: 7.5623083 | J368: 12464.358 | K368: 0.56215508 | L368: 1.410266
C369: 200264 | E369: =C369 -> 200264 | F369: HAUT_RHIN | G369: 191609.39 | H369: 0.004794452 | I369: 7.5799805 | J369: 6963.4403 | K369: 0.68052919 | L369: 1.4856018
C370: 57892 | E370: =C370 -> 57892 | F370: BANQUE_DIRIGEANT | G370: 24910.88 | H370: 0.0037518654 | I370: 6.804014 | J370: 635.91858 | K370: 0.41036312 | L370: 1.1487461
C371: 15135 | E371: =C371 -> 15135 | F371: CEGEE | G371: 2365949 | H371: 0.0049098919 | I371: 7.7327989 | J371: 89828.476 | K371: 0.69379687 | L371: 1.4178765

Sheet PNBCREDIT
G1: 1 | H1: 2 | I1: 3
K3: CONSO | W3: IMMO
A5: NO GROUPE | B5: groupe | C5: UC | D5: libelle uc | E5: EDS | F5: AGENCE | G5: EDS PDV | H5: POINT DE VENTE | I5: EDS PDV ORIGINE | K5: % PREMIUM | L5: VOLUME CRD PERS | M5: VOLUME RENOUV | N5: MNI PERS+RENOU | O5: ADE | P5: FRAIS DOSSIER | Q5: TOTAL PNB | W5: PONDER RICHESSE | X5: % PREMIUM | Y5: VOLUME | Z5: MNI | AA5: ADE | AB5: FRAIS DOSSIER | AC5: CAUTION | AD5: APPORTEUR AFFAIRE | AE5: COMMISSION IMMO | AF5: TOTAL PNB
A6: 50 | B6: Aube Haute Marne | C6: 21 | D6: CHAUMONT | E6: 410560 | F6: BOURBONNE LES BAINS | G6: 10560 | H6: BOURBONNE LES BAINS | I6: 10560 | K6: =IF(SUMIF(CONSO!C:C,G6,CONSO!G:G)=0,0,L6/SUMIF(CONSO!C:C,G6,CONSO!G:G)) -> 0 | L6: =SUMIF(BAROMPREM!B:B,G6,BAROMPREM!J:J)/1000-M6 -> 0 | M6: =SUMIF(BAROMPREM!B:B,G6,BAROMPREM!L:L)/1000 -> 0.285 | N6: =L6*VLOOKUP(G6,CONSO!$C$4:$N$342,6,FALSE)*VLOOKUP(G6,CONSO!$C$4:$N$342,7,FALSE)+M6*CONSO!$S$4*CONSO!$T$4 -> 0.01932984 | O6: =K6*SUMIF(CONSO!C:C,G6,CONSO!M:M) -> 0 | P6: =K6*SUMIF(CONSO!C:C,G6,CONSO!N:N) -> 0 | Q6: =N6+O6+P6 -> 0.01932984 | W6: 1.25 | X6: =IF(SUMIF(IMMO!C:C,G6,IMMO!G:G)=0,0,Y6/SUMIF(IMMO!C:C,G6,IMMO!G:G)) -> 0 | Y6: =SUMIF(BAROMPREM!B:B,G6,BAROMPREM!N:N)/1000 -> 0 | Z6: =Y6*VLOOKUP(G6,IMMO!$C$4:$R$342,6,FALSE)*VLOOKUP(G6,IMMO!$C$4:$R$342,7,FALSE) -> 0 | AA6: =X6*SUMIF(IMMO!C:C,G6,IMMO!M:M) -> 0 | AB6: =X6*SUMIF(IMMO!C:C,G6,IMMO!N:N) -> 0 | AC6: =X6*SUMIF(IMMO!C:C,G6,IMMO!O:O) -> 0 | AD6: =X6*SUMIF(IMMO!C:C,G6,IMMO!Q:Q) -> 0 | AE6: =X6*SUMIF(IMMO!C:C,G6,IMMO!R:R) -> 0 | AF6: =W6*SUM(Z6:AE6) -> 0
A7: 50 | B7: Aube Haute Marne | C7: 21 | D7: CHAUMONT | E7: 410541 | F7: LANGRES | G7: 10558 | H7: CHALINDREY | I7: 10558 | K7: =IF(SUMIF(CONSO!C:C,G7,CONSO!G:G)=0,0,L7/SUMIF(CONSO!C:C,G7,CONSO!G:G)) -> 0.078762589 | L7: =SUMIF(BAROMPREM!B:B,G7,BAROMPREM!J:J)/1000-M7 -> 94 | M7: =SUMIF(BAROMPREM!B:B,G7,BAROMPREM!L:L)/1000 -> 0 | N7: =L7*VLOOKUP(G7,CONSO!$C$4:$N$342,6,FALSE)*VLOOKUP(G7,CONSO!$C$4:$N$342,7,FALSE)+M7*CONSO!$S$4*CONSO!$T$4 -> 6.5272306 | O7: =K7*SUMIF(CONSO!C:C,G7,CONSO!M:M) -> 0 | P7: =K7*SUMIF(CONSO!C:C,G7,CONSO!N:N) -> 0 | Q7: =N7+O7+P7 -> 6.5272306 | W7: 1.25 | X7: =IF(SUMIF(IMMO!C:C,G7,IMMO!G:G)=0,0,Y7/SUMIF(IMMO!C:C,G7,IMMO!G:G)) -> 0.033991986 | Y7: =SUMIF(BAROMPREM!B:B,G7,BAROMPREM!N:N)/1000 -> 91.10772 | Z7: =Y7*VLOOKUP(G7,IMMO!$C$4:$R$342,6,FALSE)*VLOOKUP(G7,IMMO!$C$4:$R$342,7,FALSE) -> 2.5717586 | AA7: =X7*SUMIF(IMMO!C:C,G7,IMMO!M:M) -> 0 | AB7: =X7*SUMIF(IMMO!C:C,G7,IMMO!N:N) -> 0 | AC7: =X7*SUMIF(IMMO!C:C,G7,IMMO!O:O) -> 0 | AD7: =X7*SUMIF(IMMO!C:C,G7,IMMO!Q:Q) -> 0 | AE7: =X7*SUMIF(IMMO!C:C,G7,IMMO!R:R) -> 0 | AF7: =W7*SUM(Z7:AE7) -> 3.2146982
A8: 50 | B8: Aube Haute Marne | C8: 21 | D8: CHAUMONT | E8: 410566 | F8: CHAUMONT HOTEL DE VILLE | G8: 10539 | H8: CHATEAUVILLAIN | I8: 10539 | K8: =IF(SUMIF(CONSO!C:C,G8,CONSO!G:G)=0,0,L8/SUMIF(CONSO!C:C,G8,CONSO!G:G)) -> 0.026606925 | L8: =SUMIF(BAROMPREM!B:B,G8,BAROMPREM!J:J)/1000-M8 -> 25 | M8: =SUMIF(BAROMPREM!B:B,G8,BAROMPREM!L:L)/1000 -> 1.54707 | N8: =L8*VLOOKUP(G8,CONSO!$C$4:$N$342,6,FALSE)*VLOOKUP(G8,CONSO!$C$4:$N$342,7,FALSE)+M8*CONSO!$S$4*CONSO!$T$4 -> 2.5197849 | O8: =K8*SUMIF(CONSO!C:C,G8,CONSO!M:M) -> 0 | P8: =K8*SUMIF(CONSO!C:C,G8,CONSO!N:N) -> 0 | Q8: =N8+O8+P8 -> 2.5197849 | W8: 1.25 | X8: =IF(SUMIF(IMMO!C:C,G8,IMMO!G:G)=0,0,Y8/SUMIF(IMMO!C:C,G8,IMMO!G:G)) -> 0 | Y8: =SUMIF(BAROMPREM!B:B,G8,BAROMPREM!N:N)/1000 -> 0 | Z8: =Y8*VLOOKUP(G8,IMMO!$C$4:$R$342,6,FALSE)*VLOOKUP(G8,IMMO!$C$4:$R$342,7,FALSE) -> 0 | AA8: =X8*SUMIF(IMMO!C:C,G8,IMMO!M:M) -> 0 | AB8: =X8*SUMIF(IMMO!C:C,G8,IMMO!N:N) -> 0 | AC8: =X8*SUMIF(IMMO!C:C,G8,IMMO!O:O) -> 0 | AD8: =X8*SUMIF(IMMO!C:C,G8,IMMO!Q:Q) -> 0 | AE8: =X8*SUMIF(IMMO!C:C,G8,IMMO!R:R) -> 0 | AF8: =W8*SUM(Z8:AE8) -> 0
A9: 50 | B9: Aube Haute Marne | C9: 21 | D9: CHAUMONT | E9: 410566 | F9: CHAUMONT HOTEL DE VILLE | G9: 10566 | H9: CHAUMONT HOTEL DE VILLE | I9: 10566 | K9: =IF(SUMIF(CONSO!C:C,G9,CONSO!G:G)=0,0,L9/SUMIF(CONSO!C:C,G9,CONSO!G:G)) -> 0.048964658 | L9: =SUMIF(BAROMPREM!B:B,G9,BAROMPREM!J:J)/1000-M9 -> 163.8 | M9: =SUMIF(BAROMPREM!B:B,G9,BAROMPREM!L:L)/1000 -> 12.88516 | N9: =L9*VLOOKUP(G9,CONSO!$C$4:$N$342,6,FALSE)*VLOOKUP(G9,CONSO!$C$4:$N$342,7,FALSE)+M9*CONSO!$S$4*CONSO!$T$4 -> 15.436195 | O9: =K9*SUMIF(CONSO!C:C,G9,CONSO!M:M) -> 0 | P9: =K9*SUMIF(CONSO!C:C,G9,CONSO!N:N) -> 0 | Q9: =N9+O9+P9 -> 15.436195 | W9: 1.25 | X9: =IF(SUMIF(IMMO!C:C,G9,IMMO!G:G)=0,0,Y9/SUMIF(IMMO!C:C,G9,IMMO!G:G)) -> 0.016753718 | Y9: =SUMIF(BAROMPREM!B:B,G9,BAROMPREM!N:N)/1000 -> 198.73547 | Z9: =Y9*VLOOKUP(G9,IMMO!$C$4:$R$342,6,FALSE)*VLOOKUP(G9,IMMO!$C$4:$R$342,7,FALSE) -> 7.1563254 | AA9: =X9*SUMIF(IMMO!C:C,G9,IMMO!M:M) -> 0 | AB9: =X9*SUMIF(IMMO!C:C,G9,IMMO!N:N) -> 0 | AC9: =X9*SUMIF(IMMO!C:C,G9,IMMO!O:O) -> 0 | AD9: =X9*SUMIF(IMMO!C:C,G9,IMMO!Q:Q) -> 0 | AE9: =X9*SUMIF(IMMO!C:C,G9,IMMO!R:R) -> 0 | AF9: =W9*SUM(Z9:AE9) -> 8.9454068
A10: 50 | B10: Aube Haute Marne | C10: 21 | D10: CHAUMONT | E10: 510590 | F10: CHAUMONT REPUBLIQUE | G10: 10590 | H10: CHAUMONT REPUBLIQUE | I10: 10590 | K10: =IF(SUMIF(CONSO!C:C,G10,CONSO!G:G)=0,0,L10/SUMIF(CONSO!C:C,G10,CONSO!G:G)) -> 0.058827316 | L10: =SUMIF(BAROMPREM!B:B,G10,BAROMPREM!J:J)/1000-M10 -> 112.41 | M10: =SUMIF(BAROMPREM!B:B,G10,BAROMPREM!L:L)/1000 -> 0.002 | N10: =L10*VLOOKUP(G10,CONSO!$C$4:$N$342,6,FALSE)*VLOOKUP(G10,CONSO!$C$4:$N$342,7,FALSE)+M10*CONSO!$S$4*CONSO!$T$4 -> 11.664357 | O10: =K10*SUMIF(CONSO!C:C,G10,CONSO!M:M) -> 0 | P10: =K10*SUMIF(CONSO!C:C,G10,CONSO!N:N) -> 0 | Q10: =N10+O10+P10 -> 11.664357 | W10: 1.25 | X10: =IF(SUMIF(IMMO!C:C,G10,IMMO!G:G)=0,0,Y10/SUMIF(IMMO!C:C,G10,IMMO!G:G)) -> 0.12360012 | Y10: =SUMIF(BAROMPREM!B:B,G10,BAROMPREM!N:N)/1000 -> 605.6406 | Z10: =Y10*VLOOKUP(G10,IMMO!$C$4:$R$342,6,FALSE)*VLOOKUP(G10,IMMO!$C$4:$R$342,7,FALSE) -> 23.822525 | AA10: =X10*SUMIF(IMMO!C:C,G10,IMMO!M:M) -> 0 | AB10: =X10*SUMIF(IMMO!C:C,G10,IMMO!N:N) -> 0 | AC10: =X10*SUMIF(IMMO!C:C,G10,IMMO!O:O) -> 0 | AD10: =X10*SUMIF(IMMO!C:C,G10,IMMO!Q:Q) -> 0 | AE10: =X10*SUMIF(IMMO!C:C,G10,IMMO!R:R) -> 0 | AF10: =W10*SUM(Z10:AE10) -> 29.778156
A11: 50 | B11: Aube Haute Marne | C11: 21 | D11: CHAUMONT | E11: 451154 | F11: JOINVILLE | G11: 51154 | H11: JOINVILLE | I11: 51154 | K11: =IF(SUMIF(CONSO!C:C,G11,CONSO!G:G)=0,0,L11/SUMIF(CONSO!C:C,G11,CONSO!G:G)) -> 0.012244493 | L11: =SUMIF(BAROMPREM!B:B,G11,BAROMPREM!J:J)/1000-M11 -> 12.7 | M11: =SUMIF(BAROMPREM!B:B,G11,BAROMPREM!L:L)/1000 -> 0.61 | N11: =L11*VLOOKUP(G11,CONSO!$C$4:$N$342,6,FALSE)*VLOOKUP(G11,CONSO!$C$4:$N$342,7,FALSE)+M11*CONSO!$S$4*CONSO!$T$4 -> 1.0711977 | O11: =K11*SUMIF(CONSO!C:C,G11,CONSO!M:M) -> 0 | P11: =K11*SUMIF(CONSO!C:C,G11,CONSO!N:N) -> 0 | Q11: =N11+O11+P11 -> 1.0711977 | W11: 1.25 | X11: =IF(SUMIF(IMMO!C:C,G11,IMMO!G:G)=0,0,Y11/SUMIF(IMMO!C:C,G11,IMMO!G:G)) -> 0.025538657 | Y11: =SUMIF(BAROMPREM!B:B,G11,BAROMPREM!N:N)/1000 -> 53 | Z11: =Y11*VLOOKUP(G11,IMMO!$C$4:$R$342,6,FALSE)*VLOOKUP(G11,IMMO!$C$4:$R$342,7,FALSE) -> 2.7191459 | AA11: =X11*SUMIF(IMMO!C:C,G11,IMMO!M:M) -> 0 | AB11: =X11*SUMIF(IMMO!C:C,G11,IMMO!N:N) -> 0 | AC11: =X11*SUMIF(IMMO!C:C,G11,IMMO!O:O) -> 0 | AD11: =X11*SUMIF(IMMO!C:C,G11,IMMO!Q:Q) -> 0 | AE11: =X11*SUMIF(IMMO!C:C,G11,IMMO!R:R) -> 0 | AF11: =W11*SUM(Z11:AE11) -> 3.3989324
A12: 50 | B12: Aube Haute Marne | C12: 21 | D12: CHAUMONT | E12: 410541 | F12: LANGRES | G12: 10541 | H12: LANGRES | I12: 10541 | K12: =IF(SUMIF(CONSO!C:C,G12,CONSO!G:G)=0,0,L12/SUMIF(CONSO!C:C,G12,CONSO!G:G)) -> 0.040498731 | L12: =SUMIF(BAROMPREM!B:B,G12,BAROMPREM!J:J)/1000-M12 -> 106.5 | M12: =SUMIF(BAROMPREM!B:B,G12,BAROMPREM!L:L)/1000 -> 6.05244 | N12: =L12*VLOOKUP(G12,CONSO!$C$4:$N$342,6,FALSE)*VLOOKUP(G12,CONSO!$C$4:$N$342,7,FALSE)+M12*CONSO!$S$4*CONSO!$T$4 -> 8.9403828 | O12: =K12*SUMIF(CONSO!C:C,G12,CONSO!M:M) -> 0 | P12: =K12*SUMIF(CONSO!C:C,G12,CONSO!N:N) -> 0 | Q12: =N12+O12+P12 -> 8.9403828 | W12: 1.25 | X12: =IF(SUMIF(IMMO!C:C,G12,IMMO!G:G)=0,0,Y12/SUMIF(IMMO!C:C,G12,IMMO!G:G)) -> 0.069153488 | Y12: =SUMIF(BAROMPREM!B:B,G12,BAROMPREM!N:N)/1000 -> 388.8313 | Z12: =Y12*VLOOKUP(G12,IMMO!$C$4:$R$342,6,FALSE)*VLOOKUP(G12,IMMO!$C$4:$R$342,7,FALSE) -> 11.356947 | AA12: =X12*SUMIF(IMMO!C:C,G12,IMMO!M:M) -> 0 | AB12: =X12*SUMIF(IMMO!C:C,G12,IMMO!N:N) -> 0 | AC12: =X12*SUMIF(IMMO!C:C,G12,IMMO!O:O) -> 0 | AD12: =X12*SUMIF(IMMO!C:C,G12,IMMO!Q:Q) -> 0 | AE12: =X12*SUMIF(IMMO!C:C,G12,IMMO!R:R) -> 0 | AF12: =W12*SUM(Z12:AE12) -> 14.196183
A13: 50 | B13: Aube Haute Marne | C13: 21 | D13: CHAUMONT | E13: 510590 | F13: CHAUMONT REPUBLIQUE | G13: 10582 | H13: NOGENT EN BASSIGNY | I13: 10582 | K13: =IF(SUMIF(CONSO!C:C,G13,CONSO!G:G)=0,0,L13/SUMIF(CONSO!C:C,G13,CONSO!G:G)) -> 0.019732175 | L13: =SUMIF(BAROMPREM!B:B,G13,BAROMPREM!J:J)/1000-M13 -> 20 | M13: =SUMIF(BAROMPREM!B:B,G13,BAROMPREM!L:L)/1000 -> 2.6 | N13: =L13*VLOOKUP(G13,CONSO!$C$4:$N$342,6,FALSE)*VLOOKUP(G13,CONSO!$C$4:$N$342,7,FALSE)+M13*CONSO!$S$4*CONSO!$T$4 -> 1.921665 | O13: =K13*SUMIF(CONSO!C:C,G13,CONSO!M:M) -> 0 | P13: =K13*SUMIF(CONSO!C:C,G13,CONSO!N:N) -> 0 | Q13: =N13+O13+P13 -> 1.921665 | W13: 1.25 | X13: =IF(SUMIF(IMMO!C:C,G13,IMMO!G:G)=0,0,Y13/SUMIF(IMMO!C:C,G13,IMMO!G:G)) -> 0 | Y13: =SUMIF(BAROMPREM!B:B,G13,BAROMPREM!N:N)/1000 -> 0 | Z13: =Y13*VLOOKUP(G13,IMMO!$C$4:$R$342,6,FALSE)*VLOOKUP(G13,IMMO!$C$4:$R$342,7,FALSE) -> 0 | AA13: =X13*SUMIF(IMMO!C:C,G13,IMMO!M:M) -> 0 | AB13: =X13*SUMIF(IMMO!C:C,G13,IMMO!N:N) -> 0 | AC13: =X13*SUMIF(IMMO!C:C,G13,IMMO!O:O) -> 0 | AD13: =X13*SUMIF(IMMO!C:C,G13,IMMO!Q:Q) -> 0 | AE13: =X13*SUMIF(IMMO!C:C,G13,IMMO!R:R) -> 0 | AF13: =W13*SUM(Z13:AE13) -> 0
A14: 50 | B14: Aube Haute Marne | C14: 21 | D14: CHAUMONT | E14: 451156 | F14: SAINT DIZIER CENTRE | G14: 51156 | H14: SAINT DIZIER CENTRE | I14: 51156 | K14: =IF(SUMIF(CONSO!C:C,G14,CONSO!G:G)=0,0,L14/SUMIF(CONSO!C:C,G14,CONSO!G:G)) -> 0.027172042 | L14: =SUMIF(BAROMPREM!B:B,G14,BAROMPREM!J:J)/1000-M14 -> 73 | M14: =SUMIF(BAROMPREM!B:B,G14,BAROMPREM!L:L)/1000 -> 9.25099 | N14: =L14*VLOOKUP(G14,CONSO!$C$4:$N$342,6,FALSE)*VLOOKUP(G14,CONSO!$C$4:$N$342,7,FALSE)+M14*CONSO!$S$4*CONSO!$T$4 -> 6.5382301 | O14: =K14*SUMIF(CONSO!C:C,G14,CONSO!M:M) -> 0 | P14: =K14*SUMIF(CONSO!C:C,G14,CONSO!N:N) -> 0 | Q14: =N14+O14+P14 -> 6.5382301 | W14: 1.25 | X14: =IF(SUMIF(IMMO!C:C,G14,IMMO!G:G)=0,0,Y14/SUMIF(IMMO!C:C,G14,IMMO!G:G)) -> 0.018228484 | Y14: =SUMIF(BAROMPREM!B:B,G14,BAROMPREM!N:N)/1000 -> 122.82586 | Z14: =Y14*VLOOKUP(G14,IMMO!$C$4:$R$342,6,FALSE)*VLOOKUP(G14,IMMO!$C$4:$R$342,7,FALSE) -> 4.551953 | AA14: =X14*SUMIF(IMMO!C:C,G14,IMMO!M:M) -> 0 | AB14: =X14*SUMIF(IMMO!C:C,G14,IMMO!N:N) -> 0 | AC14: =X14*SUMIF(IMMO!C:C,G14,IMMO!O:O) -> 0 | AD14: =X14*SUMIF(IMMO!C:C,G14,IMMO!Q:Q) -> 0 | AE14: =X14*SUMIF(IMMO!C:C,G14,IMMO!R:R) -> 0 | AF14: =W14*SUM(Z14:AE14) -> 5.6899412
A15: 50 | B15: Aube Haute Marne | C15: 21 | D15: CHAUMONT | E15: 551157 | F15: SAINT DIZIER EUROPE | G15: 51157 | H15: SAINT DIZIER EUROPE | I15: 51157 | K15: =IF(SUMIF(CONSO!C:C,G15,CONSO!G:G)=0,0,L15/SUMIF(CONSO!C:C,G15,CONSO!G:G)) -> 0.0130276 | L15: =SUMIF(BAROMPREM!B:B,G15,BAROMPREM!J:J)/1000-M15 -> 25 | M15: =SUMIF(BAROMPREM!B:B,G15,BAROMPREM!L:L)/1000 -> 0.27804 | N15: =L15*VLOOKUP(G15,CONSO!$C$4:$N$342,6,FALSE)*VLOOKUP(G15,CONSO!$C$4:$N$342,7,FALSE)+M15*CONSO!$S$4*CONSO!$T$4 -> 2.0617658 | O15: =K15*SUMIF(CONSO!C:C,G15,CONSO!M:M) -> 0 | P15: =K15*SUMIF(CONSO!C:C,G15,CONSO!N:N) -> 0 | Q15: =N15+O15+P15 -> 2.0617658 | W15: 1.25 | X15: =IF(SUMIF(IMMO!C:C,G15,IMMO!G:G)=0,0,Y15/SUMIF(IMMO!C:C,G15,IMMO!G:G)) -> 0.0062061737 | Y15: =SUMIF(BAROMPREM!B:B,G15,BAROMPREM!N:N)/1000 -> 30.35696 | Z15: =Y15*VLOOKUP(G15,IMMO!$C$4:$R$342,6,FALSE)*VLOOKUP(G15,IMMO!$C$4:$R$342,7,FALSE) -> 1.2828666 | AA15: =X15*SUMIF(IMMO!C:C,G15,IMMO!M:M) -> 0 | AB15: =X15*SUMIF(IMMO!C:C,G15,IMMO!N:N) -> 0 | AC15: =X15*SUMIF(IMMO!C:C,G15,IMMO!O:O) -> 0 | AD15: =X15*SUMIF(IMMO!C:C,G15,IMMO!Q:Q) -> 0 | AE15: =X15*SUMIF(IMMO!C:C,G15,IMMO!R:R) -> 0 | AF15: =W15*SUM(Z15:AE15) -> 1.6035833
A16: 50 | B16: Aube Haute Marne | C16: 21 | D16: CHAUMONT | E16: 451151 | F16: WASSY | G16: 51151 | H16: WASSY | I16: 51151 | K16: =IF(SUMIF(CONSO!C:C,G16,CONSO!G:G)=0,0,L16/SUMIF(CONSO!C:C,G16,CONSO!G:G)) -> 0.017166072 | L16: =SUMIF(BAROMPREM!B:B,G16,BAROMPREM!J:J)/1000-M16 -> 27 | M16: =SUMIF(BAROMPREM!B:B,G16,BAROMPREM!L:L)/1000 -> 0 | N16: =L16*VLOOKUP(G16,CONSO!$C$4:$N$342,6,FALSE)*VLOOKUP(G16,CONSO!$C$4:$N$342,7,FALSE)+M16*CONSO!$S$4*CONSO!$T$4 -> 2.6713268 | O16: =K16*SUMIF(CONSO!C:C,G16,CONSO!M:M) -> 0 | P16: =K16*SUMIF(CONSO!C:C,G16,CONSO!N:N) -> 0 | Q16: =N16+O16+P16 -> 2.6713268 | W16: 1.25 | X16: =IF(SUMIF(IMMO!C:C,G16,IMMO!G:G)=0,0,Y16/SUMIF(IMMO!C:C,G16,IMMO!G:G)) -> 0.063796327 | Y16: =SUMIF(BAROMPREM!B:B,G16,BAROMPREM!N:N)/1000 -> 107.11 | Z16: =Y16*VLOOKUP(G16,IMMO!$C$4:$R$342,6,FALSE)*VLOOKUP(G16,IMMO!$C$4:$R$342,7,FALSE) -> 4.3317765 | AA16: =X16*SUMIF(IMMO!C:C,G16,IMMO!M:M) -> 0 | AB16: =X16*SUMIF(IMMO!C:C,G16,IMMO!N:N) -> 0 | AC16: =X16*SUMIF(IMMO!C:C,G16,IMMO!O:O) -> 0 | AD16: =X16*SUMIF(IMMO!C:C,G16,IMMO!Q:Q) -> 0 | AE16: =X16*SUMIF(IMMO!C:C,G16,IMMO!R:R) -> 0 | AF16: =W16*SUM(Z16:AE16) -> 5.4147206
A17: 50 | B17: Aube Haute Marne | C17: 14 | D17: TROYES | E17: 510523 | F17: LA CHAPELLE ST LUC | G17: 10583 | H17: AIX EN OTHE | I17: 10583 | K17: =IF(SUMIF(CONSO!C:C,G17,CONSO!G:G)=0,0,L17/SUMIF(CONSO!C:C,G17,CONSO!G:G)) -> 0 | L17: =SUMIF(BAROMPREM!B:B,G17,BAROMPREM!J:J)/1000-M17 -> 0 | M17: =SUMIF(BAROMPREM!B:B,G17,BAROMPREM!L:L)/1000 -> 0 | N17: =L17*VLOOKUP(G17,CONSO!$C$4:$N$342,6,FALSE)*VLOOKUP(G17,CONSO!$C$4:$N$342,7,FALSE)+M17*CONSO!$S$4*CONSO!$T$4 -> 0 | O17: =K17*SUMIF(CONSO!C:C,G17,CONSO!M:M) -> 0 | P17: =K17*SUMIF(CONSO!C:C,G17,CONSO!N:N) -> 0 | Q17: =N17+O17+P17 -> 0 | W17: 1.25 | X17: =IF(SUMIF(IMMO!C:C,G17,IMMO!G:G)=0,0,Y17/SUMIF(IMMO!C:C,G17,IMMO!G:G)) -> 0 | Y17: =SUMIF(BAROMPREM!B:B,G17,BAROMPREM!N:N)/1000 -> 0 | Z17: =Y17*VLOOKUP(G17,IMMO!$C$4:$R$342,6,FALSE)*VLOOKUP(G17,IMMO!$C$4:$R$342,7,FALSE) -> 0 | AA17: =X17*SUMIF(IMMO!C:C,G17,IMMO!M:M) -> 0 | AB17: =X17*SUMIF(IMMO!C:C,G17,IMMO!N:N) -> 0 | AC17: =X17*SUMIF(IMMO!C:C,G17,IMMO!O:O) -> 0 | AD17: =X17*SUMIF(IMMO!C:C,G17,IMMO!Q:Q) -> 0 | AE17: =X17*SUMIF(IMMO!C:C,G17,IMMO!R:R) -> 0 | AF17: =W17*SUM(Z17:AE17) -> 0
... A320: 269 | B320: Multimédia | C320: 5017 | D320: MON AGENCE | E320: 4017 | F320: Agence du personnel | G320: 17 | H320: Agence du personnel | I320: 17 | K320: =IF(SUMIF(CONSO!C:C,G320,CONSO!G:G)=0,0,L320/SUMIF(CONSO!C:C,G320,CONSO!G:G)) -> 0.070324958 | L320: =SUMIF(BAROMPREM!B:B,G320,BAROMPREM!J:J)/1000-M320 -> 269 | M320: =SUMIF(BAROMPREM!B:B,G320,BAROMPREM!L:L)/1000 -> 17.68962 | N320: =L320*VLOOKUP(G320,CONSO!$C$4:$N$342,6,FALSE)*VLOOKUP(G320,CONSO!$C$4:$N$342,7,FALSE)+M320*CONSO!$S$4*CONSO!$T$4 -> 15.673002 | O320: =K320*SUMIF(CONSO!C:C,G320,CONSO!M:M) -> 0 | P320: =K320*SUMIF(CONSO!C:C,G320,CONSO!N:N) -> 0 | Q320: =N320+O320+P320 -> 15.673002 | W320: 1.1 | X320: =IF(SUMIF(IMMO!C:C,G320,IMMO!G:G)=0,0,Y320/SUMIF(IMMO!C:C,G320,IMMO!G:G)) -> 0.093604656 | Y320: =SUMIF(BAROMPREM!B:B,G320,BAROMPREM!N:N)/1000 -> 3507.9021 | Z320: =Y320*VLOOKUP(G320,IMMO!$C$4:$R$342,6,FALSE)*VLOOKUP(G320,IMMO!$C$4:$R$342,7,FALSE) -> 38.047017 | AA320: =X320*SUMIF(IMMO!C:C,G320,IMMO!M:M) -> 0 | AB320: =X320*SUMIF(IMMO!C:C,G320,IMMO!N:N) -> 0 | AC320: =X320*SUMIF(IMMO!C:C,G320,IMMO!O:O) -> 0 | AD320: =X320*SUMIF(IMMO!C:C,G320,IMMO!Q:Q) -> 0 | AE320: =X320*SUMIF(IMMO!C:C,G320,IMMO!R:R) -> 0 | AF320: =W320*SUM(Z320:AE320) -> 41.851719

Sheet BAROMPREM
A1: table SRES5 PILCOM BAROMETRE 2021 PREM
B3: Pondération | C3: 2 | D3: 0 | E3: 0 | F3: 1 | G3: 3 | H3: 2 | I3: 3 | O3: 6 | P3: 6.8 | Q3: 4 | R3: 12 | S3: 4.8 | T3: 1 | U3: 2 | V3: 20 | W3: 4.8 | X3: 4.4
A5: DATE_CHARG | B5: EDS | C5: IZICART_DD_PREM | D5: IZICART_DI_PREM | E5: CARTES_PREM_DI | F5: CARTES_PREM_DD | G5: IZICART_DD_PLAT | H5: CARTE_PLAT_DD | I5: CARTE_INF_DD | J5: TOT_ENGG_CONSO | K5: ENGG_CONSO_HORS_RENOUV | L5: MT_CRED_RENOUV | M5: MTT_VERS_CR_PRJ | N5: ENGG_IMMO | O5: VN_MRH | P5: VN_AUTO | Q5: VN_GAV | R5: VN_SANTE | S5: VN_SECURFAMILLE | T5: VN_SECURURGENCE | U5: VN_PJ | V5: VN_ASSIST_VIE | W5: VN_ESO | X5: VN_PREV_DU_LOC | Y5: ASS_VIE | Z5: VB_CLI_NN_EQUIP_BANCA | AA5: VB_CLI_NN_EQUIP_ASS_VIE | AB5: VB_CLI_NN_EQUIP_IARD_PREV | AC5: VB_CLI_NN_EQUIP_CREDITS | AD5: EVOL_NB_CLI_PREM | AE5: CA_ASS_VIE | AF5: CA_UC | AM5: VN_BANCA | AN5: VN_IARDPREV
A6: 44256 | B6: 7 | C6: 14 | D6: -12 | E6: -17 | F6: 20 | G6: 13 | H6: 2 | I6: -1 | J6: 248499.18 | K6: 247000 | L6: 1499.18 | M6: 0 | N6: 339912.56 | O6: 2 | P6: 7 | Q6: 1 | R6: 1 | S6: 2 | T6: 2 | U6: 2 | Y6: 4 | Z6: 7 | AB6: 10 | AC6: 3 | AE6: 342956.2 | AF6: 136627.8 | AM6: =C6*$C$3+D6*$D$3+E6*$E$3+F6*$F$3+G6*$G$3+H6*$H$3+I6*$I$3 -> 88 | AN6: =O6*$O$3+P6*$P$3+Q6*$Q$3+R6*$R$3+S6*$S$3+T6*$T$3+U6*$U$3+V6*$V$3+W6*$W$3+X6*$X$3 -> 91.2
A7: 44256 | B7: 8 | C7: 1 | D7: -7 | E7: -6 | F7: 1 | G7: 2 | H7: 1 | I7: 0 | J7: 194300.22 | K7: 194000 | L7: 300.22 | M7: 0 | N7: 153535.19 | O7: 2 | P7: 0 | S7: 1 | U7: 0 | Y7: -1 | AB7: 2 | AC7: 3 | AE7: 29305.9 | AF7: 15775.5 | AM7: =C7*$C$3+D7*$D$3+E7*$E$3+F7*$F$3+G7*$G$3+H7*$H$3+I7*$I$3 -> 11 | AN7: =O7*$O$3+P7*$P$3+Q7*$Q$3+R7*$R$3+S7*$S$3+T7*$T$3+U7*$U$3+V7*$V$3+W7*$W$3+X7*$X$3 -> 16.8
A8: 44256 | B8: 10 | C8: 2 | D8: 0 | E8: 2 | F8: 6 | G8: 0 | H8: 0 | I8: 0 | J8: 31043.42 | K8: 30000 | L8: 1043.42 | M8: 0 | N8: 115000 | O8: 2 | S8: 1 | U8: 3 | Y8: -7 | AA8: 1 | AB8: 3 | AC8: 1 | AE8: 211868.1 | AF8: 77970.4 | AM8: =C8*$C$3+D8*$D$3+E8*$E$3+F8*$F$3+G8*$G$3+H8*$H$3+I8*$I$3 -> 10 | AN8: =O8*$O$3+P8*$P$3+Q8*$Q$3+R8*$R$3+S8*$S$3+T8*$T$3+U8*$U$3+V8*$V$3+W8*$W$3+X8*$X$3 -> 22.8
A9: 44256 | B9: 11 | AM9: =C9*$C$3+D9*$D$3+E9*$E$3+F9*$F$3+G9*$G$3+H9*$H$3+I9*$I$3 -> 0 | AN9: =O9*$O$3+P9*$P$3+Q9*$Q$3+R9*$R$3+S9*$S$3+T9*$T$3+U9*$U$3+V9*$V$3+W9*$W$3+X9*$X$3 -> 0
A10: 44256 | B10: 12 | C10: 1 | D10: 2 | E10: 4 | F10: 1 | G10: 0 | H10: 0 | I10: 0 | J10: 10227.95 | K10: 10000 | L10: 227.95 | M10: 0 | Y10: 2 | Z10: 1 | AA10: 1 | AE10: 21151.1 | AF10: 125.1 | AM10: =C10*$C$3+D10*$D$3+E10*$E$3+F10*$F$3+G10*$G$3+H10*$H$3+I10*$I$3 -> 3 | AN10: =O10*$O$3+P10*$P$3+Q10*$Q$3+R10*$R$3+S10*$S$3+T10*$T$3+U10*$U$3+V10*$V$3+W10*$W$3+X10*$X$3 -> 0
A11: 44256 | B11: 13 | AM11: =C11*$C$3+D11*$D$3+E11*$E$3+F11*$F$3+G11*$G$3+H11*$H$3+I11*$I$3 -> 0 | AN11: =O11*$O$3+P11*$P$3+Q11*$Q$3+R11*$R$3+S11*$S$3+T11*$T$3+U11*$U$3+V11*$V$3+W11*$W$3+X11*$X$3 -> 0
A12: 44256 | B12: 14 | AM12: =C12*$C$3+D12*$D$3+E12*$E$3+F12*$F$3+G12*$G$3+H12*$H$3+I12*$I$3 -> 0 | AN12: =O12*$O$3+P12*$P$3+Q12*$Q$3+R12*$R$3+S12*$S$3+T12*$T$3+U12*$U$3+V12*$V$3+W12*$W$3+X12*$X$3 -> 0
A13: 44256 | B13: 15 | C13: 13 | D13: -3 | E13: -2 | F13: 8 | G13: 2 | H13: 4 | I13: -1 | J13: 36258.11 | K13: 36000 | L13: 258.11 | M13: 0 | N13: 792785.88 | O13: 2 | P13: -2 | Q13: 1 | S13: 1 | U13: 1 | V13: 1 | Y13: 4 | Z13: 3 | AB13: 3 | AC13: 2 | AE13: 239555.4 | AF13: 88896.9 | AM13: =C13*$C$3+D13*$D$3+E13*$E$3+F13*$F$3+G13*$G$3+H13*$H$3+I13*$I$3 -> 45 | AN13: =O13*$O$3+P13*$P$3+Q13*$Q$3+R13*$R$3+S13*$S$3+T13*$T$3+U13*$U$3+V13*$V$3+W13*$W$3+X13*$X$3 -> 29.2
A14: 44256 | B14: 16 | AM14: =C14*$C$3+D14*$D$3+E14*$E$3+F14*$F$3+G14*$G$3+H14*$H$3+I14*$I$3 -> 0 | AN14: =O14*$O$3+P14*$P$3+Q14*$Q$3+R14*$R$3+S14*$S$3+T14*$T$3+U14*$U$3+V14*$V$3+W14*$W$3+X14*$X$3 -> 0
A15: 44256 | B15: 17 | C15: 3 | D15: -2 | E15: 2 | F15: 6 | G15: 2 | H15: -1 | I15: 0 | J15: 286689.62 | K15: 269000 | L15: 17689.62 | M15: 0 | N15: 3507902.1 | O15: 14 | P15: 11 | Q15: 0 | S15: -2 | T15: -3 | U15: 3 | Y15: 0 | Z15: 2 | AB15: 19 | AC15: 3 | AE15: 18708.4 | AF15: 6028.1 | AM15: =C15*$C$3+D15*$D$3+E15*$E$3+F15*$F$3+G15*$G$3+H15*$H$3+I15*$I$3 -> 16 | AN15: =O15*$O$3+P15*$P$3+Q15*$Q$3+R15*$R$3+S15*$S$3+T15*$T$3+U15*$U$3+V15*$V$3+W15*$W$3+X15*$X$3 -> 152.2
A16: 44256 | B16: 18 | C16: 1 | D16: 0 | E16: -1 | F16: -1 | G16: 0 | H16: 0 | I16: 1 | Y16: -3 | Z16: 1 | AE16: 38587.3 | AF16: 14786.2 | AM16: =C16*$C$3+D16*$D$3+E16*$E$3+F16*$F$3+G16*$G$3+H16*$H$3+I16*$I$3 -> 4 | AN16: =O16*$O$3+P16*$P$3+Q16*$Q$3+R16*$R$3+S16*$S$3+T16*$T$3+U16*$U$3+V16*$V$3+W16*$W$3+X16*$X$3 -> 0
A17: 44256 | B17: 19 | C17: 2 | D17: 2 | E17: 2 | F17: 1 | G17: 0 | H17: 0 | I17: 0 | J17: 176217.5 | K17: 176050 | L17: 167.5 | M17: 0 | O17: -2 | P17: 2 | R17: 1 | S17: 1 | U17: 0 | Y17: 3 | Z17: 1 | AB17: 4 | AC17: 1 | AE17: 1022693.2 | AF17: 894978.4 | AM17: =C17*$C$3+D17*$D$3+E17*$E$3+F17*$F$3+G17*$G$3+H17*$H$3+I17*$I$3 -> 5 | AN17: =O17*$O$3+P17*$P$3+Q17*$Q$3+R17*$R$3+S17*$S$3+T17*$T$3+U17*$U$3+V17*$V$3+W17*$W$3+X17*$X$3 -> 18.4
A18: 44256 | B18: 20 | C18: 5 | D18: -2 | E18: -3 | F18: 4 | G18: 1 | H18: 1 | I18: 0 | J18: 75039.25 | K18: 70000 | L18: 5039.25 | M18: 0 | N18: 194028.34 | O18: 0 | R18: 1 | U18: 1 | V18: 1 | Y18: 1 | Z18: 2 | AB18: 3 | AC18: 1 | AE18: 235446.4 | AF18: 101213.4 | AM18: =C18*$C$3+D18*$D$3+E18*$E$3+F18*$F$3+G18*$G$3+H18*$H$3+I18*$I$3 -> 19 | AN18: =O18*$O$3+P18*$P$3+Q18*$Q$3+R18*$R$3+S18*$S$3+T18*$T$3+U18*$U$3+V18*$V$3+W18*$W$3+X18*$X$3 -> 34
A19: 44256 | B19: 23 | C19: 3 | D19: -1 | E19: 0 | F19: 4 | G19: 0 | H19: 0 | I19: 1 | J19: 55943.23 | K19: 55000 | L19: 943.23 | M19: 0 | N19: 765746.84 | P19: -1 | S19: 1 | Y19: -3 | Z19: 8 | AB19: 2 | AC19: 3 | AE19: 103583.6 | AF19: 31205.8 | AM19: =C19*$C$3+D19*$D$3+E19*$E$3+F19*$F$3+G19*$G$3+H19*$H$3+I19*$I$3 -> 13 | AN19: =O19*$O$3+P19*$P$3+Q19*$Q$3+R19*$R$3+S19*$S$3+T19*$T$3+U19*$U$3+V19*$V$3+W19*$W$3+X19*$X$3 -> -2
A20: 44256 | B20: 24 | C20: 1 | D20: -3 | E20: -3 | F20: 9 | G20: 1 | H20: -1 | I20: 0 | J20: 109020.08 | K20: 101000 | L20: 8020.08 | M20: 0 | N20: 317599 | O20: 3 | S20: 1 | U20: 3 | Y20: 8 | Z20: 1 | AB20: 3 | AC20: 3 | AE20: 113180.5 | AF20: 20958.6 | AM20: =C20*$C$3+D20*$D$3+E20*$E$3+F20*$F$3+G20*$G$3+H20*$H$3+I20*$I$3 -> 12 | AN20: =O20*$O$3+P20*$P$3+Q20*$Q$3+R20*$R$3+S20*$S$3+T20*$T$3+U20*$U$3+V20*$V$3+W20*$W$3+X20*$X$3 -> 28.8
A21: 44256 | B21: 25 | C21: 6 | D21: 0 | E21: -1 | F21: 10 | G21: 0 | H21: 0 | I21: 0 | J21: 75472.43 | K21: 75000 | L21: 472.43 | M21: 0 | N21: 654668.6 | O21: 2 | Q21: 1 | U21: 2 | V21: 1 | Y21: -3 | AB21: 1 | AE21: 187746.5 | AF21: 93688.402 | AM21: =C21*$C$3+D21*$D$3+E21*$E$3+F21*$F$3+G21*$G$3+H21*$H$3+I21*$I$3 -> 22 | AN21: =O21*$O$3+P21*$P$3+Q21*$Q$3+R21*$R$3+S21*$S$3+T21*$T$3+U21*$U$3+V21*$V$3+W21*$W$3+X21*$X$3 -> 40
A22: 44256 | B22: 26 | C22: 3 | D22: -3 | E22: -3 | F22: 1 | G22: 0 | H22: 1 | I22: 0 | J22: 140250 | K22: 100000 | L22: 250 | M22: 40000 | O22: 4 | P22: 0 | U22: 3 | Y22: 1 | AE22: 88955.6 | AF22: 34871.9 | AM22: =C22*$C$3+D22*$D$3+E22*$E$3+F22*$F$3+G22*$G$3+H22*$H$3+I22*$I$3 -> 9 | AN22: =O22*$O$3+P22*$P$3+Q22*$Q$3+R22*$R$3+S22*$S$3+T22*$T$3+U22*$U$3+V22*$V$3+W22*$W$3+X22*$X$3 -> 30
A23: 44256 | B23: 27 | C23: 11 | D23: 0 | E23: -2 | F23: 5 | G23: 0 | H23: 0 | I23: 0 | J23: 90416.62 | K23: 85000 | L23: 1416.62 | M23: 4000 | N23: 617970.11 | O23: 4 | P23: -1 | V23: 2 | Y23: -5 | Z23: 1 | AB23: 2 | AC23: 2 | AE23: 201779.5 | AF23: 73471.8 | AM23: =C23*$C$3+D23*$D$3+E23*$E$3+F23*$F$3+G23*$G$3+H23*$H$3+I23*$I$3 -> 27 | AN23: =O23*$O$3+P23*$P$3+Q23*$Q$3+R23*$R$3+S23*$S$3+T23*$T$3+U23*$U$3+V23*$V$3+W23*$W$3+X23*$X$3 -> 57.2
A24: 44256 | B24: 28 | C24: 12 | D24: -3 | E24: -2 | F24: 7 | G24: 0 | H24: 0 | I24: 0 | J24: 41951.76 | K24: 37500 | L24: 4451.76 | M24: 0 | N24: 260800 | O24: 1 | P24: 0 | Q24: 1 | S24: 1 | U24: 1 | V24: 1 | Y24: 0 | AA24: 1 | AB24: 2 | AC24: 2 | AE24: 102292.4 | AF24: 34739.5 | AM24: =C24*$C$3+D24*$D$3+E24*$E$3+F24*$F$3+G24*$G$3+H24*$H$3+I24*$I$3 -> 31 | AN24: =O24*$O$3+P24*$P$3+Q24*$Q$3+R24*$R$3+S24*$S$3+T24*$T$3+U24*$U$3+V24*$V$3+W24*$W$3+X24*$X$3 -> 36.8
A25: 44256 | B25: 29 | C25: 1 | D25: 0 | E25: -2 | F25: 7 | G25: 0 | H25: 0 | I25: 0 | J25: 307.73 | K25: 0 | L25: 307.73 | M25: 0 | O25: 0 | P25: 1 | Q25: -1 | R25: 1 | S25: 1 | U25: 1 | Y25: 2 | Z25: 1 | AE25: 63280 | AF25: 27386 | AM25: =C25*$C$3+D25*$D$3+E25*$E$3+F25*$F$3+G25*$G$3+H25*$H$3+I25*$I$3 -> 9 | AN25: =O25*$O$3+P25*$P$3+Q25*$Q$3+R25*$R$3+S25*$S$3+T25*$T$3+U25*$U$3+V25*$V$3+W25*$W$3+X25*$X$3 -> 21.6
A26: 44256 | B26: 30 | C26: 17 | D26: 1 | E26: -1 | F26: 4 | G26: 2 | H26: 2 | I26: 0 | J26: 160179.61 | K26: 157000 | L26: 3179.61 | M26: 0 | N26: 110000 | O26: 2 | P26: 2 | Q26: 2 | S26: 2 | U26: 0 | W26: 1 | Y26: 2 | Z26: 1 | AA26: 3 | AB26: 5 | AC26: 3 | AE26: 269938.5 | AF26: 110168.5 | AM26: =C26*$C$3+D26*$D$3+E26*$E$3+F26*$F$3+G26*$G$3+H26*$H$3+I26*$I$3 -> 48 | AN26: =O26*$O$3+P26*$P$3+Q26*$Q$3+R26*$R$3+S26*$S$3+T26*$T$3+U26*$U$3+V26*$V$3+W26*$W$3+X26*$X$3 -> 48
A27: 44256 | B27: 31 | C27: 2 | D27: -1 | E27: 3 | F27: -2 | G27: 0 | H27: 0 | I27: 0 | J27: 24203.12 | K27: 23000 | L27: 1203.12 | M27: 0 | N27: 300000 | O27: 1 | P27: 1 | Q27: 1 | U27: 1 | Y27: 2 | AB27: 2 | AE27: 42084.1 | AF27: 30802 | AM27: =C27*$C$3+D27*$D$3+E27*$E$3+F27*$F$3+G27*$G$3+H27*$H$3+I27*$I$3 -> 2 | AN27: =O27*$O$3+P27*$P$3+Q27*$Q$3+R27*$R$3+S27*$S$3+T27*$T$3+U27*$U$3+V27*$V$3+W27*$W$3+X27*$X$3 -> 18.8
A28: 44256 | B28: 34 | C28: -1 | D28: 2 | E28: 4 | F28: 1 | G28: 2 | H28: 0 | I28: 0 | J28: 13554 | K28: 11000 | L28: 2554 | M28: 0 | N28: 126950.35 | O28: 0 | S28: 1 | T28: -1 | U28: 2 | Y28: 0 | AC28: 1 | AE28: 547.3 | AF28: 84.9 | AM28: =C28*$C$3+D28*$D$3+E28*$E$3+F28*$F$3+G28*$G$3+H28*$H$3+I28*$I$3 -> 5 | AN28: =O28*$O$3+P28*$P$3+Q28*$Q$3+R28*$R$3+S28*$S$3+T28*$T$3+U28*$U$3+V28*$V$3+W28*$W$3+X28*$X$3 -> 7.8
A29: 44256 | B29: 36 | AM29: =C29*$C$3+D29*$D$3+E29*$E$3+F29*$F$3+G29*$G$3+H29*$H$3+I29*$I$3 -> 0 | AN29: =O29*$O$3+P29*$P$3+Q29*$Q$3+R29*$R$3+S29*$S$3+T29*$T$3+U29*$U$3+V29*$V$3+W29*$W$3+X29*$X$3 -> 0
A30: 44256 | B30: 37 | C30: 7 | D30: -1 | E30: -2 | F30: 10 | G30: 4 | H30: 0 | I30: 0 | J30: 46730.15 | K30: 18000 | L30: 6730.15 | M30: 22000 | O30: 0 | S30: 1 | Y30: 2 | Z30: 4 | AA30: 1 | AC30: 1 | AE30: 22312.9 | AF30: 7170.2 | AM30: =C30*$C$3+D30*$D$3+E30*$E$3+F30*$F$3+G30*$G$3+H30*$H$3+I30*$I$3 -> 36 | AN30: =O30*$O$3+P30*$P$3+Q30*$Q$3+R30*$R$3+S30*$S$3+T30*$T$3+U30*$U$3+V30*$V$3+W30*$W$3+X30*$X$3 -> 4.8
A31: 44256 | B31: 38 | C31: 4 | D31: -7 | E31: -7 | F31: 2 | G31: 5 | H31: 0 | I31: 1 | J31: 54397 | K31: 50000 | L31: 4397 | M31: 0 | N31: 782055.71 | O31: 1 | P31: -1 | Q31: 1 | R31: 1 | S31: 2 | U31: -1 | Y31: -4 | Z31: 2 | AA31: 1 | AB31: 1 | AC31: 1 | AE31: 14095.7 | AF31: 6358.6 | AM31: =C31*$C$3+D31*$D$3+E31*$E$3+F31*$F$3+G31*$G$3+H31*$H$3+I31*$I$3 -> 28 | AN31: =O31*$O$3+P31*$P$3+Q31*$Q$3+R31*$R$3+S31*$S$3+T31*$T$3+U31*$U$3+V31*$V$3+W31*$W$3+X31*$X$3 -> 22.8
A32: 44256 | B32: 39 | C32: 2 | D32: 0 | E32: 0 | F32: 4 | G32: 0 | H32: 0 | I32: 0 | J32: 18.45 | K32: 0 | L32: 18.45 | M32: 0 | N32: -16100 | O32: -1 | S32: -1 | U32: 0 | Y32: 5 | AA32: 1 | AE32: 463 | AF32: 144.4 | AM32: =C32*$C$3+D32*$D$3+E32*$E$3+F32*$F$3+G32*$G$3+H32*$H$3+I32*$I$3 -> 8 | AN32: =O32*$O$3+P32*$P$3+Q32*$Q$3+R32*$R$3+S32*$S$3+T32*$T$3+U32*$U$3+V32*$V$3+W32*$W$3+X32*$X$3 -> -10.8
A33: 44256 | B33: 40 | C33: 1 | D33: -1 | E33: 0 | F33: -1 | G33: 0 | H33: 1 | I33: 0 | J33: 105786.22 | K33: 98500 | L33: 7286.22 | M33: 0 | N33: -2658.32 | O33: 3 | R33: 1 | Y33: 0 | Z33: 3 | AB33: 3 | AC33: 1 | AE33: 27058.6 | AF33: 8601.6 | AM33: =C33*$C$3+D33*$D$3+E33*$E$3+F33*$F$3+G33*$G$3+H33*$H$3+I33*$I$3 -> 3 | AN33: =O33*$O$3+P33*$P$3+Q33*$Q$3+R33*$R$3+S33*$S$3+T33*$T$3+U33*$U$3+V33*$V$3+W33*$W$3+X33*$X$3 -> 30
A34: 44256 | B34: 41 | C34: 5 | D34: -5 | E34: -5 | F34: 4 | G34: 1 | H34: -1 | I34: 0 | J34: 7669.17 | K34: 7000 | L34: 669.17 | M34: 0 | O34: -3 | P34: 2 | Q34: 1 | S34: -1 | Y34: 1 | Z34: 1 | AB34: 1 | AE34: 266732.7 | AF34: 92155.3 | AM34: =C34*$C$3+D34*$D$3+E34*$E$3+F34*$F$3+G34*$G$3+H34*$H$3+I34*$I$3 -> 15 | AN34: =O34*$O$3+P34*$P$3+Q34*$Q$3+R34*$R$3+S34*$S$3+T34*$T$3+U34*$U$3+V34*$V$3+W34*$W$3+X34*$X$3 -> -5.2
A35: 44256 | B35: 45 | C35: 1 | D35: -2 | E35: 4 | F35: 2 | G35: -2 | H35: 1 | I35: 0 | J35: 22916.12 | K35: 20100 | L35: 2816.12 | M35: 0 | N35: 556855.61 | O35: -2 | P35: 4 | Q35: 1 | U35: 2 | Y35: -1 | Z35: 1 | AB35: 1 | AC35: 2 | AE35: 99949.2 | AF35: 41723.8 | AM35: =C35*$C$3+D35*$D$3+E35*$E$3+F35*$F$3+G35*$G$3+H35*$H$3+I35*$I$3 -> 0 | AN35: =O35*$O$3+P35*$P$3+Q35*$Q$3+R35*$R$3+S35*$S$3+T35*$T$3+U35*$U$3+V35*$V$3+W35*$W$3+X35*$X$3 -> 23.2
A36: 44256 | B36: 48 | C36: 19 | D36: -7 | E36: -10 | F36: 5 | G36: 1 | H36: 0 | I36: 0 | J36: 16492.7 | K36: 16000 | L36: 492.7 | M36: 0 | O36: 1 | P36: 1 | V36: 1 | AE36: 101190.7 | AF36: 275.7 | AM36: =C36*$C$3+D36*$D$3+E36*$E$3+F36*$F$3+G36*$G$3+H36*$H$3+I36*$I$3 -> 46 | AN36: =O36*$O$3+P36*$P$3+Q36*$Q$3+R36*$R$3+S36*$S$3+T36*$T$3+U36*$U$3+V36*$V$3+W36*$W$3+X36*$X$3 -> 32.8
A37: 44256 | B37: 50 | C37: 0 | D37: 0 | E37: 0 | F37: 1 | G37: 0 | H37: 0 | I37: 0 | P37: -1 | Y37: -4 | AE37: 1414.4 | AF37: 774.4 | AM37: =C37*$C$3+D37*$D$3+E37*$E$3+F37*$F$3+G37*$G$3+H37*$H$3+I37*$I$3 -> 1 | AN37: =O37*$O$3+P37*$P$3+Q37*$Q$3+R37*$R$3+S37*$S$3+T37*$T$3+U37*$U$3+V37*$V$3+W37*$W$3+X37*$X$3 -> -6.8
A38: 44256 | B38: 54 | C38: 1 | D38: 1 | E38: 0 | F38: -1 | G38: 0 | H38: 0 | I38: 0 | J38: 31618.55 | K38: 30000 | L38: 1618.55 | M38: 0 | N38: 286000 | O38: -1 | Y38: 2 | AC38: 1 | AE38: 31829.8 | AF38: 557.6 | AM38: =C38*$C$3+D38*$D$3+E38*$E$3+F38*$F$3+G38*$G$3+H38*$H$3+I38*$I$3 -> 1 | AN38: =O38*$O$3+P38*$P$3+Q38*$Q$3+R38*$R$3+S38*$S$3+T38*$T$3+U38*$U$3+V38*$V$3+W38*$W$3+X38*$X$3 -> -6
A39: 44256 | B39: 57 | C39: 1 | D39: 0 | E39: -3 | F39: 1 | G39: 0 | H39: 0 | I39: 0 | J39: 3407 | K39: 0 | L39: 3407 | M39: 0 | N39: 33905.67 | O39: 2 | P39: 6 | Q39: 1 | U39: 2 | W39: 1 | Y39: 1 | AB39: 1 | AE39: 88035.7 | AF39: 3605.8 | AM39: =C39*$C$3+D39*$D$3+E39*$E$3+F39*$F$3+G39*$G$3+H39*$H$3+I39*$I$3 -> 3 | AN39: =O39*$O$3+P39*$P$3+Q39*$Q$3+R39*$R$3+S39*$S$3+T39*$T$3+U39*$U$3+V39*$V$3+W39*$W$3+X39*$X$3 -> 65.6
A40: 44256 | B40: 58 | C40: 1 | D40: 1 | E40: 4 | F40: 9 | G40: 0 | H40: 0 | I40: 0 | J40: 1279.39 | K40: 0 | L40: 1279.39 | M40: 0 | N40: 372630.88 | O40: 2 | S40: 1 | U40: 3 | V40: 1 | Y40: 2 | AB40: 3 | AE40: 569.1 | AF40: 88.1 | AM40: =C40*$C$3+D40*$D$3+E40*$E$3+F40*$F$3+G40*$G$3+H40*$H$3+I40*$I$3 -> 11 | AN40: =O40*$O$3+P40*$P$3+Q40*$Q$3+R40*$R$3+S40*$S$3+T40*$T$3+U40*$U$3+V40*$V$3+W40*$W$3+X40*$X$3 -> 42.8
A41: 44256 | B41: 59 | AM41: =C41*$C$3+D41*$D$3+E41*$E$3+F41*$F$3+G41*$G$3+H41*$H$3+I41*$I$3 -> 0 | AN41: =O41*$O$3+P41*$P$3+Q41*$Q$3+R41*$R$3+S41*$S$3+T41*$T$3+U41*$U$3+V41*$V$3+W41*$W$3+X41*$X$3 -> 0
A42: 44256 | B42: 60 | C42: 13 | D42: -12 | E42: -10 | F42: 6 | G42: 0 | H42: -1 | I42: 1 | J42: 388007.09 | K42: 380000 | L42: 8007.09 | M42: 0 | N42: 945108.01 | O42: 9 | P42: 6 | Q42: 3 | S42: -1 | U42: 1 | V42: 1 | W42: 2 | Y42: 4 | Z42: 1 | AA42: 1 | AB42: 3 | AC42: 6 | AE42: 385879.8 | AF42: 187662.9 | AM42: =C42*$C$3+D42*$D$3+E42*$E$3+F42*$F$3+G42*$G$3+H42*$H$3+I42*$I$3 -> 33 | AN42: =O42*$O$3+P42*$P$3+Q42*$Q$3+R42*$R$3+S42*$S$3+T42*$T$3+U42*$U$3+V42*$V$3+W42*$W$3+X42*$X$3 -> 133.6
A43: 44256 | B43: 61 | AM43: =C43*$C$3+D43*$D$3+E43*$E$3+F43*$F$3+G43*$G$3+H43*$H$3+I43*$I$3 -> 0 | AN43: =O43*$O$3+P43*$P$3+Q43*$Q$3+R43*$R$3+S43*$S$3+T43*$T$3+U43*$U$3+V43*$V$3+W43*$W$3+X43*$X$3 -> 0
A44: 44256 | B44: 64 | C44: 2 | D44: 0 | E44: 2 | F44: 1 | G44: 0 | H44: 0 | I44: 0 | J44: 73156.94 | K44: 73000 | L44: 156.94 | M44: 0 | N44: 170897.67 | O44: -1 | P44: 1 | Y44: 1 | Z44: 1 | AC44: 2 | AE44: 100751.5 | AF44: 30323.8 | AM44: =C44*$C$3+D44*$D$3+E44*$E$3+F44*$F$3+G44*$G$3+H44*$H$3+I44*$I$3 -> 5 | AN44: =O44*$O$3+P44*$P$3+Q44*$Q$3+R44*$R$3+S44*$S$3+T44*$T$3+U44*$U$3+V44*$V$3+W44*$W$3+X44*$X$3 -> 0.8
A45: 44256 | B45: 65 | AM45: =C45*$C$3+D45*$D$3+E45*$E$3+F45*$F$3+G45*$G$3+H45*$H$3+I45*$I$3 -> 0 | AN45: =O45*$O$3+P45*$P$3+Q45*$Q$3+R45*$R$3+S45*$S$3+T45*$T$3+U45*$U$3+V45*$V$3+W45*$W$3+X45*$X$3 -> 0
A46: 44256 | B46: 66 | C46: 3 | D46: 0 | E46: 1 | F46: 0 | G46: 0 | H46: 0 | I46: 0 | J46: 10139.44 | K46: 10000 | L46: 139.44 | M46: 0 | N46: 720000 | O46: 2 | P46: 1 | U46: -1 | W46: 1 | Y46: 4 | Z46: 1 | AB46: 1 | AC46: 1 | AE46: 235288.3 | AF46: 79561.9 | AM46: =C46*$C$3+D46*$D$3+E46*$E$3+F46*$F$3+G46*$G$3+H46*$H$3+I46*$I$3 -> 6 | AN46: =O46*$O$3+P46*$P$3+Q46*$Q$3+R46*$R$3+S46*$S$3+T46*$T$3+U46*$U$3+V46*$V$3+W46*$W$3+X46*$X$3 -> 21.6
A47: 44256 | B47: 68 | C47: 0 | D47: 0 | E47: -1 | F47: 0 | G47: 0 | H47: 0 | I47: 0 | J47: 16094.03 | K47: 11000 | L47: 5094.03 | M47: 0 | N47: 1187059.1 | O47: 1 | Y47: -4 | Z47: 1 | AA47: 1 | AE47: 3046.6 | AF47: 935.3 | AM47: =C47*$C$3+D47*$D$3+E47*$E$3+F47*$F$3+G47*$G$3+H47*$H$3+I47*$I$3 -> 0 | AN47: =O47*$O$3+P47*$P$3+Q47*$Q$3+R47*$R$3+S47*$S$3+T47*$T$3+U47*$U$3+V47*$V$3+W47*$W$3+X47*$X$3 -> 6
A48: 44256 | B48: 70 | C48: 2 | D48: 0 | E48: 4 | F48: 1 | G48: 0 | H48: 0 | I48: 0 | J48: 109650.01 | K48: 109000 | L48: 650.01 | M48: 0 | N48: 164755 | O48: 1 | P48: 3 | W48: 1 | Y48: -1 | AE48: 101056.5 | AF48: 117 | AM48: =C48*$C$3+D48*$D$3+E48*$E$3+F48*$F$3+G48*$G$3+H48*$H$3+I48*$I$3 -> 5 | AN48: =O48*$O$3+P48*$P$3+Q48*$Q$3+R48*$R$3+S48*$S$3+T48*$T$3+U48*$U$3+V48*$V$3+W48*$W$3+X48*$X$3 -> 31.2
A49: 44256 | B49: 71 | C49: 12 | D49: -3 | E49: -2 | F49: 5 | G49: 0 | H49: 1 | I49: 0 | J49: 102045.61 | K49: 99000 | L49: 3045.61 | M49: 0 | O49: -1 | P49: -3 | Q49: 1 | W49: 1 | Y49: 0 | AA49: 1 | AB49: 1 | AC49: 1 | AE49: 225324.4 | AF49: 67459.9 | AM49: =C49*$C$3+D49*$D$3+E49*$E$3+F49*$F$3+G49*$G$3+H49*$H$3+I49*$I$3 -> 31 | AN49: =O49*$O$3+P49*$P$3+Q49*$Q$3+R49*$R$3+S49*$S$3+T49*$T$3+U49*$U$3+V49*$V$3+W49*$W$3+X49*$X$3 -> -17.6
A50: 44256 | B50: 73 | C50: 0 | D50: 0 | E50: 1 | F50: -1 | G50: 0 | H50: 0 | I50: 0 | J50: 8527.92 | K50: 0 | L50: 2527.92 | M50: 6000 | N50: 204267.95 | P50: 1 | Y50: -1 | AE50: 7936.9 | AF50: 6101 | AM50: =C50*$C$3+D50*$D$3+E50*$E$3+F50*$F$3+G50*$G$3+H50*$H$3+I50*$I$3 -> -1 | AN50: =O50*$O$3+P50*$P$3+Q50*$Q$3+R50*$R$3+S50*$S$3+T50*$T$3+U50*$U$3+V50*$V$3+W50*$W$3+X50*$X$3 -> 6.8
A51: 44256 | B51: 74 | C51: 0 | D51: 1 | E51: 1 | F51: 0 | G51: 0 | H51: 0 | I51: 0 | J51: 29059.27 | K51: 29000 | L51: 59.27 | M51: 0 | U51: 2 | AB51: 2 | AE51: 2148.8 | AF51: 846.5 | AM51: =C51*$C$3+D51*$D$3+E51*$E$3+F51*$F$3+G51*$G$3+H51*$H$3+I51*$I$3 -> 0 | AN51: =O51*$O$3+P51*$P$3+Q51*$Q$3+R51*$R$3+S51*$S$3+T51*$T$3+U51*$U$3+V51*$V$3+W51*$W$3+X51*$X$3 -> 4
A52: 44256 | B52: 75 | AM52: =C52*$C$3+D52*$D$3+E52*$E$3+F52*$F$3+G52*$G$3+H52*$H$3+I52*$I$3 -> 0 | AN52: =O52*$O$3+P52*$P$3+Q52*$Q$3+R52*$R$3+S52*$S$3+T52*$T$3+U52*$U$3+V52*$V$3+W52*$W$3+X52*$X$3 -> 0
A53: 44256 | B53: 76 | C53: 9 | D53: -1 | E53: -1 | F53: -1 | G53: 0 | H53: 0 | I53: 0 | J53: 85240.54 | K53: 85000 | L53: 240.54 | M53: 0 | P53: -2 | Q53: 0 | S53: 1 | Y53: 1 | Z53: 1 | AA53: 1 | AB53: 1 | AE53: 19953.7 | AF53: 8191.5 | AM53: =C53*$C$3+D53*$D$3+E53*$E$3+F53*$F$3+G53*$G$3+H53*$H$3+I53*$I$3 -> 17 | AN53: =O53*$O$3+P53*$P$3+Q53*$Q$3+R53*$R$3+S53*$S$3+T53*$T$3+U53*$U$3+V53*$V$3+W53*$W$3+X53*$X$3 -> -8.8
A54: 44256 | B54: 77 | C54: -1 | D54: 0 | E54: -2 | F54: 0 | G54: 0 | H54: 0 | I54: 0 | J54: 123299.08 | K54: 100000 | L54: 1299.08 | M54: 22000 | N54: 14407.13 | O54: 1 | P54: -2 | Q54: 1 | U54: 2 | Y54: 1 | AA54: 2 | AB54: 1 | AE54: 171791.4 | AF54: 54315.6 | AM54: =C54*$C$3+D54*$D$3+E54*$E$3+F54*$F$3+G54*$G$3+H54*$H$3+I54*$I$3 -> -2 | AN54: =O54*$O$3+P54*$P$3+Q54*$Q$3+R54*$R$3+S54*$S$3+T54*$T$3+U54*$U$3+V54*$V$3+W54*$W$3+X54*$X$3 -> 0.4
A55: 44256 | B55: 78 | AM55: =C55*$C$3+D55*$D$3+E55*$E$3+F55*$F$3+G55*$G$3+H55*$H$3+I55*$I$3 -> 0 | AN55: =O55*$O$3+P55*$P$3+Q55*$Q$3+R55*$R$3+S55*$S$3+T55*$T$3+U55*$U$3+V55*$V$3+W55*$W$3+X55*$X$3 -> 0
A56: 44256 | B56: 79 | C56: 3 | D56: -1 | E56: -2 | F56: 2 | G56: 0 | H56: 0 | I56: 0 | J56: 35028.5 | K56: 35000 | L56: 28.5 | M56: 0 | N56: -261313.79 | O56: -1 | P56: 2 | W56: 2 | Y56: 6 | AB56: 4 | AE56: 7110.2 | AF56: 2166.6 | AM56: =C56*$C$3+D56*$D$3+E56*$E$3+F56*$F$3+G56*$G$3+H56*$H$3+I56*$I$3 -> 8 | AN56: =O56*$O$3+P56*$P$3+Q56*$Q$3+R56*$R$3+S56*$S$3+T56*$T$3+U56*$U$3+V56*$V$3+W56*$W$3+X56*$X$3 -> 17.2
A57: 44256 | B57: 80 | C57: 3 | D57: -1 | E57: -2 | F57: 1 | G57: 0 | H57: 0 | I57: 0 | J57: 80035.1 | K57: 80000 | L57: 35.1 | M57: 0 | O57: -1 | P57: 1 | Q57: 1 | R57: 1 | S57: 1 | U57: 1 | V57: 1 | Y57: 0 | AB57: 2 | AE57: 1752.1 | AF57: 885.1 | AM57: =C57*$C$3+D57*$D$3+E57*$E$3+F57*$F$3+G57*$G$3+H57*$H$3+I57*$I$3 -> 7 | AN57: =O57*$O$3+P57*$P$3+Q57*$Q$3+R57*$R$3+S57*$S$3+T57*$T$3+U57*$U$3+V57*$V$3+W57*$W$3+X57*$X$3 -> 43.6
A58: 44256 | B58: 85 | C58: 7 | D58: -5 | E58: -4 | F58: 3 | G58: 0 | H58: 0 | I58: 0 | J58: 132533.98 | K58: 130000 | L58: 2533.98 | M58: 0 | N58: 283521.81 | O58: 3 | P58: 0 | Q58: 1 | S58: -1 | U58: 2 | Y58: -3 | Z58: 2 | AB58: 3 | AC58: 1 | AE58: 209077.1 | AF58: 72948.9 | AM58: =C58*$C$3+D58*$D$3+E58*$E$3+F58*$F$3+G58*$G$3+H58*$H$3+I58*$I$3 -> 17 | AN58: =O58*$O$3+P58*$P$3+Q58*$Q$3+R58*$R$3+S58*$S$3+T58*$T$3+U58*$U$3+V58*$V$3+W58*$W$3+X58*$X$3 -> 21.2
A59: 44256 | B59: 86 | AM59: =C59*$C$3+D59*$D$3+E59*$E$3+F59*$F$3+G59*$G$3+H59*$H$3+I59*$I$3 -> 0 | AN59: =O59*$O$3+P59*$P$3+Q59*$Q$3+R59*$R$3+S59*$S$3+T59*$T$3+U59*$U$3+V59*$V$3+W59*$W$3+X59*$X$3 -> 0
A60: 44256 | B60: 87 | C60: 19 | D60: 1 | E60: 2 | F60: 7 | G60: -1 | H60: 1 | I60: 1 | J60: 265828.46 | K60: 230300 | L60: 10528.46 | M60: 25000 | N60: 99728.47 | O60: -1 | P60: -1 | S60: 5 | T60: -1 | W60: 3 | Y60: 8 | Z60: 8 | AB60: 2 | AC60: 2 | AE60: 799832.1 | AF60: 270855 | AM60: =C60*$C$3+D60*$D$3+E60*$E$3+F60*$F$3+G60*$G$3+H60*$H$3+I60*$I$3 -> 47 | AN60: =O60*$O$3+P60*$P$3+Q60*$Q$3+R60*$R$3+S60*$S$3+T60*$T$3+U60*$U$3+V60*$V$3+W60*$W$3+X60*$X$3 -> 24.6
A61: 44256 | B61: 89 | AM61: =C61*$C$3+D61*$D$3+E61*$E$3+F61*$F$3+G61*$G$3+H61*$H$3+I61*$I$3 -> 0 | AN61: =O61*$O$3+P61*$P$3+Q61*$Q$3+R61*$R$3+S61*$S$3+T61*$T$3+U61*$U$3+V61*$V$3+W61*$W$3+X61*$X$3 -> 0
A62: 44256 | B62: 92 | C62: 9 | D62: -5 | E62: -2 | F62: 2 | G62: 0 | H62: 0 | I62: 0 | J62: 50486.77 | K62: 50000 | L62: 486.77 | M62: 0 | N62: -97.24 | P62: -3 | Y62: -2 | AB62: 1 | AE62: 954.5 | AF62: 125.7 | AM62: =C62*$C$3+D62*$D$3+E62*$E$3+F62*$F$3+G62*$G$3+H62*$H$3+I62*$I$3 -> 20 | AN62: =O62*$O$3+P62*$P$3+Q62*$Q$3+R62*$R$3+S62*$S$3+T62*$T$3+U62*$U$3+V62*$V$3+W62*$W$3+X62*$X$3 -> -20.4
A63: 44256 | B63: 93 | AM63: =C63*$C$3+D63*$D$3+E63*$E$3+F63*$F$3+G63*$G$3+H63*$H$3+I63*$I$3 -> 0 | AN63: =O63*$O$3+P63*$P$3+Q63*$Q$3+R63*$R$3+S63*$S$3+T63*$T$3+U63*$U$3+V63*$V$3+W63*$W$3+X63*$X$3 -> 0
A64: 44256 | B64: 95 | C64: 11 | D64: -2 | E64: 1 | F64: 4 | G64: 0 | H64: 0 | I64: 0 | J64: 261394.86 | K64: 261000 | L64: 394.86 | M64: 0 | N64: 158400 | O64: 2 | P64: -1 | S64: 2 | U64: 1 | W64: 0 | Y64: -8 | AA64: 1 | AB64: 1 | AE64: 727836.5 | AF64: 241182.2 | AM64: =C64*$C$3+D64*$D$3+E64*$E$3+F64*$F$3+G64*$G$3+H64*$H$3+I64*$I$3 -> 26 | AN64: =O64*$O$3+P64*$P$3+Q64*$Q$3+R64*$R$3+S64*$S$3+T64*$T$3+U64*$U$3+V64*$V$3+W64*$W$3+X64*$X$3 -> 16.8
A65: 44256 | B65: 101 | C65: 3 | D65: 3 | E65: 3 | F65: 7 | G65: 1 | H65: 1 | I65: -1 | J65: 144971.51 | K65: 143000 | L65: 1971.51 | M65: 0 | N65: 477225.59 | O65: 7 | P65: 0 | S65: 6 | T65: -2 | U65: 4 | W65: -1 | Y65: 4 | Z65: 5 | AA65: 1 | AB65: 8 | AC65: 3 | AE65: 479859.8 | AF65: 62095 | AM65: =C65*$C$3+D65*$D$3+E65*$E$3+F65*$F$3+G65*$G$3+H65*$H$3+I65*$I$3 -> 15 | AN65: =O65*$O$3+P65*$P$3+Q65*$Q$3+R65*$R$3+S65*$S$3+T65*$T$3+U65*$U$3+V65*$V$3+W65*$W$3+X65*$X$3 -> 72
A66: 44256 | B66: 104 | C66: 7 | D66: -8 | E66: -6 | F66: 10 | G66: 1 | H66: 0 | I66: 0 | J66: 67601.62 | K66: 67400 | L66: 201.62 | M66: 0 | N66: 200550.38 | O66: 1 | P66: 3 | Q66: 1 | S66: 3 | U66: 0 | Y66: 0 | Z66: 6 | AB66: 2 | AE66: 314119.2 | AF66: 110571.4 | AM66: =C66*$C$3+D66*$D$3+E66*$E$3+F66*$F$3+G66*$G$3+H66*$H$3+I66*$I$3 -> 27 | AN66: =O66*$O$3+P66*$P$3+Q66*$Q$3+R66*$R$3+S66*$S$3+T66*$T$3+U66*$U$3+V66*$V$3+W66*$W$3+X66*$X$3 -> 44.8
A67: 44256 | B67: 105 | AM67: =C67*$C$3+D67*$D$3+E67*$E$3+F67*$F$3+G67*$G$3+H67*$H$3+I67*$I$3 -> 0 | AN67: =O67*$O$3+P67*$P$3+Q67*$Q$3+R67*$R$3+S67*$S$3+T67*$T$3+U67*$U$3+V67*$V$3+W67*$W$3+X67*$X$3 -> 0
A68: 44256 | B68: 107 | C68: 5 | D68: -5 | E68: -1 | F68: 13 | G68: 4 | H68: 0 | I68: 0 | J68: 751.63 | K68: 0 | L68: 751.63 | M68: 0 | O68: 1 | P68: -2 | Q68: 2 | R68: 2 | S68: 1 | U68: 0 | V68: 2 | W68: -2 | Y68: 6 | Z68: 3 | AE68: 60374.8 | AF68: 28184.1 | AM68: =C68*$C$3+D68*$D$3+E68*$E$3+F68*$F$3+G68*$G$3+H68*$H$3+I68*$I$3 -> 35 | AN68: =O68*$O$3+P68*$P$3+Q68*$Q$3+R68*$R$3+S68*$S$3+T68*$T$3+U68*$U$3+V68*$V$3+W68*$W$3+X68*$X$3 -> 59.6
A69: 44256 | B69: 108 | C69: 0 | D69: 0 | E69: -1 | F69: 2 | G69: 1 | H69: 0 | I69: 0 | J69: 158.34 | K69: 0 | L69: 158.34 | M69: 0 | O69: -1 | R69: 1 | U69: -1 | Y69: 0 | AE69: 41260 | AF69: 12309 | AM69: =C69*$C$3+D69*$D$3+E69*$E$3+F69*$F$3+G69*$G$3+H69*$H$3+I69*$I$3 -> 5 | AN69: =O69*$O$3+P69*$P$3+Q69*$Q$3+R69*$R$3+S69*$S$3+T69*$T$3+U69*$U$3+V69*$V$3+W69*$W$3+X69*$X$3 -> 4
A70: 44256 | B70: 110 | AM70: =C70*$C$3+D70*$D$3+E70*$E$3+F70*$F$3+G70*$G$3+H70*$H$3+I70*$I$3 -> 0 | AN70: =O70*$O$3+P70*$P$3+Q70*$Q$3+R70*$R$3+S70*$S$3+T70*$T$3+U70*$U$3+V70*$V$3+W70*$W$3+X70*$X$3 -> 0
A71: 44256 | B71: 111 | C71: 3 | D71: -4 | E71: -1 | F71: 14 | G71: 0 | H71: 0 | I71: 0 | J71: 158489.99 | K71: 156000 | L71: 2489.99 | M71: 0 | N71: 86958.74 | O71: 5 | P71: 0 | Q71: 1 | Y71: 0 | Z71: 2 | AC71: 1 | AE71: 66920.4 | AF71: 836.6 | AM71: =C71*$C$3+D71*$D$3+E71*$E$3+F71*$F$3+G71*$G$3+H71*$H$3+I71*$I$3 -> 20 | AN71: =O71*$O$3+P71*$P$3+Q71*$Q$3+R71*$R$3+S71*$S$3+T71*$T$3+U71*$U$3+V71*$V$3+W71*$W$3+X71*$X$3 -> 34
A72: 44256 | B72: 112 | AM72: =C72*$C$3+D72*$D$3+E72*$E$3+F72*$F$3+G72*$G$3+H72*$H$3+I72*$I$3 -> 0 | AN72: =O72*$O$3+P72*$P$3+Q72*$Q$3+R72*$R$3+S72*$S$3+T72*$T$3+U72*$U$3+V72*$V$3+W72*$W$3+X72*$X$3 -> 0
A73: 44256 | B73: 113 | C73: 4 | D73: -5 | E73: -6 | F73: 1 | G73: 5 | H73: 1 | I73: 1 | J73: 71260 | K73: 68200 | L73: 3060 | M73: 0 | N73: -50885.66 | O73: 2 | Q73: 1 | U73: 1 | W73: 4 | Y73: 0 | Z73: 1 | AA73: 2 | AB73: 2 | AC73: 1 | AE73: 228274.3 | AF73: 87314.2 | AM73: =C73*$C$3+D73*$D$3+E73*$E$3+F73*$F$3+G73*$G$3+H73*$H$3+I73*$I$3 -> 29 | AN73: =O73*$O$3+P73*$P$3+Q73*$Q$3+R73*$R$3+S73*$S$3+T73*$T$3+U73*$U$3+V73*$V$3+W73*$W$3+X73*$X$3 -> 37.2
A74: 44256 | B74: 116 | C74: 4 | D74: -1 | E74: -1 | F74: 8 | G74: 0 | H74: 0 | I74: 0 | J74: 128973.06 | K74: 127000 | L74: 1973.06 | M74: 0 | N74: 68120 | O74: 6 | P74: 1 | S74: -1 | Y74: -5 | Z74: 3 | AC74: 3 | AE74: 134076.5 | AF74: 63299.339 | AM74: =C74*$C$3+D74*$D$3+E74*$E$3+F74*$F$3+G74*$G$3+H74*$H$3+I74*$I$3 -> 16 | AN74: =O74*$O$3+P74*$P$3+Q74*$Q$3+R74*$R$3+S74*$S$3+T74*$T$3+U74*$U$3+V74*$V$3+W74*$W$3+X74*$X$3 -> 38
A75: 44256 | B75: 118 | AM75: =C75*$C$3+D75*$D$3+E75*$E$3+F75*$F$3+G75*$G$3+H75*$H$3+I75*$I$3 -> 0 | AN75: =O75*$O$3+P75*$P$3+Q75*$Q$3+R75*$R$3+S75*$S$3+T75*$T$3+U75*$U$3+V75*$V$3+W75*$W$3+X75*$X$3 -> 0
A76: 44256 | B76: 119 | C76: 16 | D76: -6 | E76: -6 | F76: 6 | G76: -1 | H76: 1 | I76: 0 | J76: 144646.6 | K76: 139000 | L76: 5646.6 | M76: 0 | N76: 517348.7 | O76: 4 | P76: 2 | Q76: -1 | R76: 0 | U76: 1 | Y76: 7 | Z76: 3 | AB76: 2 | AC76: 3 | AE76: 23867.3 | AF76: 1104.1 | AM76: =C76*$C$3+D76*$D$3+E76*$E$3+F76*$F$3+G76*$G$3+H76*$H$3+I76*$I$3 -> 37 | AN76: =O76*$O$3+P76*$P$3+Q76*$Q$3+R76*$R$3+S76*$S$3+T76*$T$3+U76*$U$3+V76*$V$3+W76*$W$3+X76*$X$3 -> 35.6
