Workbook
Name AUBE_HAUTE_MARNE: 'Structures EDS'!$C$3:$C$4
Name BAS_RHIN: 'Structures EDS'!$D$3:$D$5
Name CHALONS_EN_CHAMPAGNE: 'Structures EDS'!$T$3:$T$12
Name CHARLEVILLE_MEZIERES: 'Structures EDS'!$U$3:$U$15
Name CHAUMONT: 'Structures EDS'!$M$3:$M$8
Name COLMAR: 'Structures EDS'!$R$3:$R$14
Name EPINAL: 'Structures EDS'!$AC$3:$AC$17
Name HAGUENAU: 'Structures EDS'!$O$3:$O$16
Name HAUT_RHIN: 'Structures EDS'!$E$3:$E$4
Name MARNE_ARDENNES: 'Structures EDS'!$F$3:$F$5
Name METZ: 'Structures EDS'!$Z$3:$Z$24
Name MEURTHE_ET_MOSELLE_MEUSE: 'Structures EDS'!$G$3:$G$5
Name MOSELLE: 'Structures EDS'!$H$3:$H$5
Name MOSELLE_EST: 'Structures EDS'!$AA$3:$AA$17
Name MOSELLE_NORD: 'Structures EDS'!$AB$3:$AB$17
Name MULHOUSE: 'Structures EDS'!$S$3:$S$12
Name NANCY: 'Structures EDS'!$W$3:$W$17
Name PONT_A_MOUSSON: 'Structures EDS'!$X$3:$X$20
Name REIMS: 'Structures EDS'!$V$3:$V$19
Name SAINT_DIE: 'Structures EDS'!$AD$3:$AD$12
Name SELESTAT: 'Structures EDS'!$P$3:$P$17
Name STRASBOURG: 'Structures EDS'!$Q$3:$Q$20
Name TROYES: 'Structures EDS'!$N$3:$N$15
Name VERDUN: 'Structures EDS'!$Y$3:$Y$16
Name VOSGES: 'Structures EDS'!$I$3:$I$4

Sheet Lexique
B1: LEXIQUE FICHE AGENCE "VERS LA PV 2021"
C5: Le rôle de la fiche Agence "Vers la Part Variable 2021" est de vous aider à piloter les principaux items de la Part Variable 2021 sur les 2 derniers mois de l'année. Les indicateurs vous permettent d'avoir une vision hebdomadaire et par ETP des performances à réaliser pour atteindre vos objectifs.
C7: Elle sera mise à jour chaque lundi et mardi matin pour vous offrir la vision la plus complète de la production de la semaine précédente et du reste à faire.
C9: Ce suivi n'a pas vocation à figer vos résultats et les taux de Part Variable, ces derniers le seront lors de la réalisation des arrêtés définitifs début 2022.
C11: Pour piloter vos objectifs Part Variable en quotidien : | H11: Suivi Quotidien Part Variable sur Objectifs
C16: ● Taux d'atteinte de l'objectif : réalisation cumulée à fin de semaine précédente / objectif annuel 2021
C18: ● Meilleure performance hebdo : meilleure production hebdomadaire en 2021 (avant S44) rapportée à l'ETP moyen annuel
F19: à fin septembre
C21: ● Reste à faire pour atteindre l'objectif de 100% ou 120% : il s'agit d'une estimation du reste à faire pour atteindre l'objectif
C22: annuel. Ce dernier s'adapte en fonction de :
C23: - la réalisation sur la semaine précédente
C24: - la mise à jour mensuelle de l'objectif en fonction de l'ETP annuel moyen (ETP d'octobre disponible autour du 20/11)
C26: ● ETP utilisé dans le calcul du reste à faire et de la production des semaines 45 à 50 : il s'agit de l'ETP PERFORMANCE MOYEN
C28: ● 1er décile AGENCE CEGEE : il s'agit du premier décile toutes agence de la CEGEE confondues.
C29: Il faut lire : 10% des agences de la CEGEE ont un taux supérieur à X%.
C34: L'ETP utilisé pour calculer mon reste à faire et ma production sur les semaines 45 à 50 est trop éloigné de la réalité, comment le modifier ?
C35: Il vous suffit d'envoyer un email à la boîte CEGEE-B-CRM-DATA en précisant l'ETP le plus proche de votre situation sur cette période.
C37: Mon reste à faire ne correspond pas au reste à faire de la semaine précédente moins ma production de la semaine, comment est-ce possible ?
C38: Le reste à faire s'adapte au fil de l'eau à 2 informations : l'objectif annuel, qui dépend de l'ETP moyen annuel, et la réalisation sur la semaine précédente.
C39: Lorsque les ETP d'octobre seront intégrés à l'ETP moyen annuel, autour du 20/11, l'objectif annuel va s'ajuster. Le reste à faire sera donc recalculé selon l'objectif annuel.

Sheet Fiche Agence
C1: REGION | H1: TERRITOIRE | N1: AGENCE
C2: AUBE_HAUTE_MARNE | X2: Semaine en cours : | Y2: 46 | Z2: A modifier manuellement | AE2: IARD PREVOYANCE
X3: Nb semaines restantes : | Y3: =50-Y2+1 -> 5 | AE3: S0 | AF3: S45 | AG3: S46 | AH3: S47 | AI3: S48 | AJ3: S49 | AK3: S50
B4: ="VERS LA PART VARIABLE 2021 - SEMAINE " &Y2 -> VERS LA PART VARIABLE 2021 - SEMAINE 46 | X4: Code EDS | Y4: =VLOOKUP(N2,ETP_Challenge!D:F,3,0) -> #N/A | AD4: PROD | AE4: =(IF(ISBLANK($H$2),SUMIF('CUMUL résultats semaine'!$A:$A,'Fiche Agence'!$C$2,'CUMUL résultats semaine'!$D:$D),IF(ISBLANK($N$2),SUMIF('CUMUL résultats semaine'!$B:$B,'Fiche Agence'!$H$2,'CUMUL résultats semaine'!$D:$D),SUMIF('CUMUL résultats semaine'!$C:$C,'Fiche Agence'!$N$2,'CUMUL résultats semaine'!$D:$D)))) -> 5538.5 | AF4: =(IF(ISBLANK($H$2),SUMIF('CUMUL résultats semaine'!$A:$A,'Fiche Agence'!$C$2,'CUMUL résultats semaine'!$P:$P),IF(ISBLANK($N$2),SUMIF('CUMUL résultats semaine'!$B:$B,'Fiche Agence'!$H$2,'CUMUL résultats semaine'!$P:$P),SUMIF('CUMUL résultats semaine'!$C:$C,'Fiche Agence'!$N$2,'CUMUL résultats semaine'!$P:$P)))) -> 5598.9 | AG4: =(IF(ISBLANK($H$2),SUMIF('CUMUL résultats semaine'!$A:$A,'Fiche Agence'!$C$2,'CUMUL résultats semaine'!$AB:$AB),IF(ISBLANK($N$2),SUMIF('CUMUL résultats semaine'!$B:$B,'Fiche Agence'!$H$2,'CUMUL résultats semaine'!$AB:$AB),SUMIF('CUMUL résultats semaine'!$C:$C,'Fiche Agence'!$N$2,'CUMUL résultats semaine'!$AB:$AB)))) -> #N/A | AH4: =(IF(ISBLANK($H$2),SUMIF('CUMUL résultats semaine'!$A:$A,'Fiche Agence'!$C$2,'CUMUL résultats semaine'!$AN:$AN),IF(ISBLANK($N$2),SUMIF('CUMUL résultats semaine'!$B:$B,'Fiche Agence'!$H$2,'CUMUL résultats semaine'!$AN:$AN),SUMIF('CUMUL résultats semaine'!$C:$C,'Fiche Agence'!$N$2,'CUMUL résultats semaine'!$AN:$AN)))) -> #N/A | AI4: =(IF(ISBLANK($H$2),SUMIF('CUMUL résultats semaine'!$A:$A,'Fiche Agence'!$C$2,'CUMUL résultats semaine'!$AZ:$AZ),IF(ISBLANK($N$2),SUMIF('CUMUL résultats semaine'!$B:$B,'Fiche Agence'!$H$2,'CUMUL résultats semaine'!$AZ:$AZ),SUMIF('CUMUL résultats semaine'!$C:$C,'Fiche Agence'!$N$2,'CUMUL résultats semaine'!$AZ:$AZ)))) -> #N/A | AJ4: =(IF(ISBLANK($H$2),SUMIF('CUMUL résultats semaine'!$A:$A,'Fiche Agence'!$C$2,'CUMUL résultats semaine'!$BL:$BL),IF(ISBLANK($N$2),SUMIF('CUMUL résultats semaine'!$B:$B,'Fiche Agence'!$H$2,'CUMUL résultats semaine'!$BL:$BL),SUMIF('CUMUL résultats semaine'!$C:$C,'Fiche Agence'!$N$2,'CUMUL résultats semaine'!$BL:$BL)))) -> #N/A | AK4: =(IF(ISBLANK($H$2),SUMIF('CUMUL résultats semaine'!$A:$A,'Fiche Agence'!$C$2,'CUMUL résultats semaine'!$BX:$BX),IF(ISBLANK($N$2),SUMIF('CUMUL résultats semaine'!$B:$B,'Fiche Agence'!$H$2,'CUMUL résultats semaine'!$BX:$BX),SUMIF('CUMUL résultats semaine'!$C:$C,'Fiche Agence'!$N$2,'CUMUL résultats semaine'!$BX:$BX)))) -> #N/A
X5: ETP | Y5: =IF(ISBLANK($H$2),SUMIF(ETP_Challenge!$A:$A,'Fiche Agence'!$C$2,ETP_Challenge!$E:$E),IF(ISBLANK($N$2),SUMIF(ETP_Challenge!$B:$B,'Fiche Agence'!$H$2,ETP_Challenge!$E:$E),SUMIF(ETP_Challenge!$D:$D,'Fiche Agence'!$N$2,ETP_Challenge!$E:$E))) -> 102.00914 | Z5: ="ETP entité : "&Y5 -> ETP entité : 102,00913876 | AD5: RAF 100% | AE5: =(IF(ISBLANK($H$2),SUMIF('CUMUL résultats semaine'!$A:$A,'Fiche Agence'!$C$2,'CUMUL résultats semaine'!$E:$E),IF(ISBLANK($N$2),SUMIF('CUMUL résultats semaine'!$B:$B,'Fiche Agence'!$H$2,'CUMUL résultats semaine'!$E:$E),SUMIF('CUMUL résultats semaine'!$C:$C,'Fiche Agence'!$N$2,'CUMUL résultats semaine'!$E:$E)))) -> 1205 | AF5: =(IF(ISBLANK($H$2),SUMIF('CUMUL résultats semaine'!$A:$A,'Fiche Agence'!$C$2,'CUMUL résultats semaine'!$Q:$Q),IF(ISBLANK($N$2),SUMIF('CUMUL résultats semaine'!$B:$B,'Fiche Agence'!$H$2,'CUMUL résultats semaine'!$Q:$Q),SUMIF('CUMUL résultats semaine'!$C:$C,'Fiche Agence'!$N$2,'CUMUL résultats semaine'!$Q:$Q)))) -> 1167 | AG5: =(IF(ISBLANK($H$2),SUMIF('CUMUL résultats semaine'!$A:$A,'Fiche Agence'!$C$2,'CUMUL résultats semaine'!$AC:$AC),IF(ISBLANK($N$2),SUMIF('CUMUL résultats semaine'!$B:$B,'Fiche Agence'!$H$2,'CUMUL résultats semaine'!$AC:$AC),SUMIF('CUMUL résultats semaine'!$C:$C,'Fiche Agence'!$N$2,'CUMUL résultats semaine'!$AC:$AC)))) -> #N/A | AH5: =(IF(ISBLANK($H$2),SUMIF('CUMUL résultats semaine'!$A:$A,'Fiche Agence'!$C$2,'CUMUL résultats semaine'!$AO:$AO),IF(ISBLANK($N$2),SUMIF('CUMUL résultats semaine'!$B:$B,'Fiche Agence'!$H$2,'CUMUL résultats semaine'!$AO:$AO),SUMIF('CUMUL résultats semaine'!$C:$C,'Fiche Agence'!$N$2,'CUMUL résultats semaine'!$AO:$AO)))) -> #N/A | AI5: =(IF(ISBLANK($H$2),SUMIF('CUMUL résultats semaine'!$A:$A,'Fiche Agence'!$C$2,'CUMUL résultats semaine'!$BA:$BA),IF(ISBLANK($N$2),SUMIF('CUMUL résultats semaine'!$B:$B,'Fiche Agence'!$H$2,'CUMUL résultats semaine'!$BA:$BA),SUMIF('CUMUL résultats semaine'!$C:$C,'Fiche Agence'!$N$2,'CUMUL résultats semaine'!$BA:$BA)))) -> #N/A | AJ5: =(IF(ISBLANK($H$2),SUMIF('CUMUL résultats semaine'!$A:$A,'Fiche Agence'!$C$2,'CUMUL résultats semaine'!$BM:$BM),IF(ISBLANK($N$2),SUMIF('CUMUL résultats semaine'!$B:$B,'Fiche Agence'!$H$2,'CUMUL résultats semaine'!$BM:$BM),SUMIF('CUMUL résultats semaine'!$C:$C,'Fiche Agence'!$N$2,'CUMUL résultats semaine'!$BM:$BM)))) -> #N/A | AK5: =(IF(ISBLANK($H$2),SUMIF('CUMUL résultats semaine'!$A:$A,'Fiche Agence'!$C$2,'CUMUL résultats semaine'!$BY:$BY),IF(ISBLANK($N$2),SUMIF('CUMUL résultats semaine'!$B:$B,'Fiche Agence'!$H$2,'CUMUL résultats semaine'!$BY:$BY),SUMIF('CUMUL résultats semaine'!$C:$C,'Fiche Agence'!$N$2,'CUMUL résultats semaine'!$BY:$BY)))) -> #N/A
X6: OBJ GEDEL | Y6: =IF(ISBLANK($H$2),SUMIF(GEDEL!$A:$A,'Fiche Agence'!$C$2,GEDEL!$F:$F),IF(ISBLANK($N$2),SUMIF(GEDEL!$B:$B,'Fiche Agence'!$H$2,GEDEL!$F:$F),SUMIF(GEDEL!$C:$C,'Fiche Agence'!$N$2,GEDEL!$F:$F))) -> 1278066 | AD6: RAF 120% | AE6: =(IF(ISBLANK($H$2),SUMIF('CUMUL résultats semaine'!$A:$A,'Fiche Agence'!$C$2,'CUMUL résultats semaine'!$F:$F),IF(ISBLANK($N$2),SUMIF('CUMUL résultats semaine'!$B:$B,'Fiche Agence'!$H$2,'CUMUL résultats semaine'!$F:$F),SUMIF('CUMUL résultats semaine'!$C:$C,'Fiche Agence'!$N$2,'CUMUL résultats semaine'!$F:$F)))) -> 2295 | AF6: =(IF(ISBLANK($H$2),SUMIF('CUMUL résultats semaine'!$A:$A,'Fiche Agence'!$C$2,'CUMUL résultats semaine'!$R:$R),IF(ISBLANK($N$2),SUMIF('CUMUL résultats semaine'!$B:$B,'Fiche Agence'!$H$2,'CUMUL résultats semaine'!$R:$R),SUMIF('CUMUL résultats semaine'!$C:$C,'Fiche Agence'!$N$2,'CUMUL résultats semaine'!$R:$R)))) -> 2239 | AG6: =(IF(ISBLANK($H$2),SUMIF('CUMUL résultats semaine'!$A:$A,'Fiche Agence'!$C$2,'CUMUL résultats semaine'!$AD:$AD),IF(ISBLANK($N$2),SUMIF('CUMUL résultats semaine'!$B:$B,'Fiche Agence'!$H$2,'CUMUL résultats semaine'!$AD:$AD),SUMIF('CUMUL résultats semaine'!$C:$C,'Fiche Agence'!$N$2,'CUMUL résultats semaine'!$AD:$AD)))) -> #N/A | AH6: =(IF(ISBLANK($H$2),SUMIF('CUMUL résultats semaine'!$A:$A,'Fiche Agence'!$C$2,'CUMUL résultats semaine'!$AP:$AP),IF(ISBLANK($N$2),SUMIF('CUMUL résultats semaine'!$B:$B,'Fiche Agence'!$H$2,'CUMUL résultats semaine'!$AP:$AP),SUMIF('CUMUL résultats semaine'!$C:$C,'Fiche Agence'!$N$2,'CUMUL résultats semaine'!$AP:$AP)))) -> #N/A | AI6: =(IF(ISBLANK($H$2),SUMIF('CUMUL résultats semaine'!$A:$A,'Fiche Agence'!$C$2,'CUMUL résultats semaine'!$BB:$BB),IF(ISBLANK($N$2),SUMIF('CUMUL résultats semaine'!$B:$B,'Fiche Agence'!$H$2,'CUMUL résultats semaine'!$BB:$BB),SUMIF('CUMUL résultats semaine'!$C:$C,'Fiche Agence'!$N$2,'CUMUL résultats semaine'!$BB:$BB)))) -> #N/A | AJ6: =(IF(ISBLANK($H$2),SUMIF('CUMUL résultats semaine'!$A:$A,'Fiche Agence'!$C$2,'CUMUL résultats semaine'!$BN:$BN),IF(ISBLANK($N$2),SUMIF('CUMUL résultats semaine'!$B:$B,'Fiche Agence'!$H$2,'CUMUL résultats semaine'!$BN:$BN),SUMIF('CUMUL résultats semaine'!$C:$C,'Fiche Agence'!$N$2,'CUMUL résultats semaine'!$BN:$BN)))) -> #N/A | AK6: =(IF(ISBLANK($H$2),SUMIF('CUMUL résultats semaine'!$A:$A,'Fiche Agence'!$C$2,'CUMUL résultats semaine'!$BZ:$BZ),IF(ISBLANK($N$2),SUMIF('CUMUL résultats semaine'!$B:$B,'Fiche Agence'!$H$2,'CUMUL résultats semaine'!$BZ:$BZ),SUMIF('CUMUL résultats semaine'!$C:$C,'Fiche Agence'!$N$2,'CUMUL résultats semaine'!$BZ:$BZ)))) -> #N/A
K8: ATTENDU : 0,5 VB / ETP / SEMAINE DU 12 OCTOBRE AU 18 DECEMBRE | AE8: BANCA
G9: MEILLEURE PERFORMANCE HEBDO EN 2021 : | AE9: S0 | AF9: S45 | AG9: S46 | AH9: S47 | AI9: S48 | AJ9: S49 | AK9: S50
X10: Jauge | AD10: PROD | AE10: =(IF(ISBLANK($H$2),SUMIF('CUMUL résultats semaine'!$A:$A,'Fiche Agence'!$C$2,'CUMUL résultats semaine'!$J:$J),IF(ISBLANK($N$2),SUMIF('CUMUL résultats semaine'!$B:$B,'Fiche Agence'!$H$2,'CUMUL résultats semaine'!$J:$J),SUMIF('CUMUL résultats semaine'!$C:$C,'Fiche Agence'!$N$2,'CUMUL résultats semaine'!$J:$J)))) -> 4257 | AF10: =(IF(ISBLANK($H$2),SUMIF('CUMUL résultats semaine'!$A:$A,'Fiche Agence'!$C$2,'CUMUL résultats semaine'!$V:$V),IF(ISBLANK($N$2),SUMIF('CUMUL résultats semaine'!$B:$B,'Fiche Agence'!$H$2,'CUMUL résultats semaine'!$V:$V),SUMIF('CUMUL résultats semaine'!$C:$C,'Fiche Agence'!$N$2,'CUMUL résultats semaine'!$V:$V)))) -> 4330 | AG10: =(IF(ISBLANK($H$2),SUMIF('CUMUL résultats semaine'!$A:$A,'Fiche Agence'!$C$2,'CUMUL résultats semaine'!$AH:$AH),IF(ISBLANK($N$2),SUMIF('CUMUL résultats semaine'!$B:$B,'Fiche Agence'!$H$2,'CUMUL résultats semaine'!$AH:$AH),SUMIF('CUMUL résultats semaine'!$C:$C,'Fiche Agence'!$N$2,'CUMUL résultats semaine'!$AH:$AH)))) -> #N/A | AH10: =(IF(ISBLANK($H$2),SUMIF('CUMUL résultats semaine'!$A:$A,'Fiche Agence'!$C$2,'CUMUL résultats semaine'!$AT:$AT),IF(ISBLANK($N$2),SUMIF('CUMUL résultats semaine'!$B:$B,'Fiche Agence'!$H$2,'CUMUL résultats semaine'!$AT:$AT),SUMIF('CUMUL résultats semaine'!$C:$C,'Fiche Agence'!$N$2,'CUMUL résultats semaine'!$AT:$AT)))) -> #N/A | AI10: =(IF(ISBLANK($H$2),SUMIF('CUMUL résultats semaine'!$A:$A,'Fiche Agence'!$C$2,'CUMUL résultats semaine'!$BF:$BF),IF(ISBLANK($N$2),SUMIF('CUMUL résultats semaine'!$B:$B,'Fiche Agence'!$H$2,'CUMUL résultats semaine'!$BF:$BF),SUMIF('CUMUL résultats semaine'!$C:$C,'Fiche Agence'!$N$2,'CUMUL résultats semaine'!$BF:$BF)))) -> #N/A | AJ10: =(IF(ISBLANK($H$2),SUMIF('CUMUL résultats semaine'!$A:$A,'Fiche Agence'!$C$2,'CUMUL résultats semaine'!$BR:$BR),IF(ISBLANK($N$2),SUMIF('CUMUL résultats semaine'!$B:$B,'Fiche Agence'!$H$2,'CUMUL résultats semaine'!$BR:$BR),SUMIF('CUMUL résultats semaine'!$C:$C,'Fiche Agence'!$N$2,'CUMUL résultats semaine'!$BR:$BR)))) -> #N/A | AK10: =(IF(ISBLANK($H$2),SUMIF('CUMUL résultats semaine'!$A:$A,'Fiche Agence'!$C$2,'CUMUL résultats semaine'!$CD:$CD),IF(ISBLANK($N$2),SUMIF('CUMUL résultats semaine'!$B:$B,'Fiche Agence'!$H$2,'CUMUL résultats semaine'!$CD:$CD),SUMIF('CUMUL résultats semaine'!$C:$C,'Fiche Agence'!$N$2,'CUMUL résultats semaine'!$CD:$CD)))) -> #N/A
K11: REAL DEPUIS LE 12/10 | N11: % SAIS. | O11: RESTE A FAIRE HEBDO | X11: 0 - 79% | Z11: 80 | AD11: RAF 100% | AE11: =(IF(ISBLANK($H$2),SUMIF('CUMUL résultats semaine'!$A:$A,'Fiche Agence'!$C$2,'CUMUL résultats semaine'!$K:$K),IF(ISBLANK($N$2),SUMIF('CUMUL résultats semaine'!$B:$B,'Fiche Agence'!$H$2,'CUMUL résultats semaine'!$K:$K),SUMIF('CUMUL résultats semaine'!$C:$C,'Fiche Agence'!$N$2,'CUMUL résultats semaine'!$K:$K)))) -> 86 | AF11: =(IF(ISBLANK($H$2),SUMIF('CUMUL résultats semaine'!$A:$A,'Fiche Agence'!$C$2,'CUMUL résultats semaine'!$W:$W),IF(ISBLANK($N$2),SUMIF('CUMUL résultats semaine'!$B:$B,'Fiche Agence'!$H$2,'CUMUL résultats semaine'!$W:$W),SUMIF('CUMUL résultats semaine'!$C:$C,'Fiche Agence'!$N$2,'CUMUL résultats semaine'!$W:$W)))) -> 73 | AG11: =(IF(ISBLANK($H$2),SUMIF('CUMUL résultats semaine'!$A:$A,'Fiche Agence'!$C$2,'CUMUL résultats semaine'!$AJ:$AJ),IF(ISBLANK($N$2),SUMIF('CUMUL résultats semaine'!$B:$B,'Fiche Agence'!$H$2,'CUMUL résultats semaine'!$AJ:$AJ),SUMIF('CUMUL résultats semaine'!$C:$C,'Fiche Agence'!$N$2,'CUMUL résultats semaine'!$AJ:$AJ)))) -> #N/A | AH11: =(IF(ISBLANK($H$2),SUMIF('CUMUL résultats semaine'!$A:$A,'Fiche Agence'!$C$2,'CUMUL résultats semaine'!$AU:$AU),IF(ISBLANK($N$2),SUMIF('CUMUL résultats semaine'!$B:$B,'Fiche Agence'!$H$2,'CUMUL résultats semaine'!$AU:$AU),SUMIF('CUMUL résultats semaine'!$C:$C,'Fiche Agence'!$N$2,'CUMUL résultats semaine'!$AU:$AU)))) -> #N/A | AI11: =(IF(ISBLANK($H$2),SUMIF('CUMUL résultats semaine'!$A:$A,'Fiche Agence'!$C$2,'CUMUL résultats semaine'!$BG:$BG),IF(ISBLANK($N$2),SUMIF('CUMUL résultats semaine'!$B:$B,'Fiche Agence'!$H$2,'CUMUL résultats semaine'!$BG:$BG),SUMIF('CUMUL résultats semaine'!$C:$C,'Fiche Agence'!$N$2,'CUMUL résultats semaine'!$BG:$BG)))) -> #N/A | AJ11: =(IF(ISBLANK($H$2),SUMIF('CUMUL résultats semaine'!$A:$A,'Fiche Agence'!$C$2,'CUMUL résultats semaine'!$BS:$BS),IF(ISBLANK($N$2),SUMIF('CUMUL résultats semaine'!$B:$B,'Fiche Agence'!$H$2,'CUMUL résultats semaine'!$BS:$BS),SUMIF('CUMUL résultats semaine'!$C:$C,'Fiche Agence'!$N$2,'CUMUL résultats semaine'!$BS:$BS)))) -> #N/A | AK11: =(IF(ISBLANK($H$2),SUMIF('CUMUL résultats semaine'!$A:$A,'Fiche Agence'!$C$2,'CUMUL résultats semaine'!$CE:$CE),IF(ISBLANK($N$2),SUMIF('CUMUL résultats semaine'!$B:$B,'Fiche Agence'!$H$2,'CUMUL résultats semaine'!$CE:$CE),SUMIF('CUMUL résultats semaine'!$C:$C,'Fiche Agence'!$N$2,'CUMUL résultats semaine'!$CE:$CE)))) -> #N/A
K12: ENTITE | M12: PAR ETP | N12: =K13/(0.5*Y5*(10-Y3)) -> 0.67837059 | O12: ENTITE | Q12: PAR ETP | X12: 80% - 100% | Z12: 20 | AD12: RAF 120% | AE12: =(IF(ISBLANK($H$2),SUMIF('CUMUL résultats semaine'!$A:$A,'Fiche Agence'!$C$2,'CUMUL résultats semaine'!$L:$L),IF(ISBLANK($N$2),SUMIF('CUMUL résultats semaine'!$B:$B,'Fiche Agence'!$H$2,'CUMUL résultats semaine'!$L:$L),SUMIF('CUMUL résultats semaine'!$C:$C,'Fiche Agence'!$N$2,'CUMUL résultats semaine'!$L:$L)))) -> 318 | AF12: =(IF(ISBLANK($H$2),SUMIF('CUMUL résultats semaine'!$A:$A,'Fiche Agence'!$C$2,'CUMUL résultats semaine'!$X:$X),IF(ISBLANK($N$2),SUMIF('CUMUL résultats semaine'!$B:$B,'Fiche Agence'!$H$2,'CUMUL résultats semaine'!$X:$X),SUMIF('CUMUL résultats semaine'!$C:$C,'Fiche Agence'!$N$2,'CUMUL résultats semaine'!$X:$X)))) -> 293 | AG12: =(IF(ISBLANK($H$2),SUMIF('CUMUL résultats semaine'!$A:$A,'Fiche Agence'!$C$2,'CUMUL résultats semaine'!$AK:$AK),IF(ISBLANK($N$2),SUMIF('CUMUL résultats semaine'!$B:$B,'Fiche Agence'!$H$2,'CUMUL résultats semaine'!$AK:$AK),SUMIF('CUMUL résultats semaine'!$C:$C,'Fiche Agence'!$N$2,'CUMUL résultats semaine'!$AK:$AK)))) -> #N/A | AH12: =(IF(ISBLANK($H$2),SUMIF('CUMUL résultats semaine'!$A:$A,'Fiche Agence'!$C$2,'CUMUL résultats semaine'!$AV:$AV),IF(ISBLANK($N$2),SUMIF('CUMUL résultats semaine'!$B:$B,'Fiche Agence'!$H$2,'CUMUL résultats semaine'!$AV:$AV),SUMIF('CUMUL résultats semaine'!$C:$C,'Fiche Agence'!$N$2,'CUMUL résultats semaine'!$AV:$AV)))) -> #N/A | AI12: =(IF(ISBLANK($H$2),SUMIF('CUMUL résultats semaine'!$A:$A,'Fiche Agence'!$C$2,'CUMUL résultats semaine'!$BH:$BH),IF(ISBLANK($N$2),SUMIF('CUMUL résultats semaine'!$B:$B,'Fiche Agence'!$H$2,'CUMUL résultats semaine'!$BH:$BH),SUMIF('CUMUL résultats semaine'!$C:$C,'Fiche Agence'!$N$2,'CUMUL résultats semaine'!$BH:$BH)))) -> #N/A | AJ12: =(IF(ISBLANK($H$2),SUMIF('CUMUL résultats semaine'!$A:$A,'Fiche Agence'!$C$2,'CUMUL résultats semaine'!$BT:$BT),IF(ISBLANK($N$2),SUMIF('CUMUL résultats semaine'!$B:$B,'Fiche Agence'!$H$2,'CUMUL résultats semaine'!$BT:$BT),SUMIF('CUMUL résultats semaine'!$C:$C,'Fiche Agence'!$N$2,'CUMUL résultats semaine'!$BT:$BT)))) -> #N/A | AK12: =(IF(ISBLANK($H$2),SUMIF('CUMUL résultats semaine'!$A:$A,'Fiche Agence'!$C$2,'CUMUL résultats semaine'!$CF:$CF),IF(ISBLANK($N$2),SUMIF('CUMUL résultats semaine'!$B:$B,'Fiche Agence'!$H$2,'CUMUL résultats semaine'!$CF:$CF),SUMIF('CUMUL résultats semaine'!$C:$C,'Fiche Agence'!$N$2,'CUMUL résultats semaine'!$CF:$CF)))) -> #N/A
K13: =IF(ISBLANK($H$2),SUMIF(PROD_AUTO5_PREV_PERI_PART_SOC!$A:$A,'Fiche Agence'!$C$2,PROD_AUTO5_PREV_PERI_PART_SOC!$E:$E),IF(ISBLANK($N$2),SUMIF(PROD_AUTO5_PREV_PERI_PART_SOC!$B:$B,'Fiche Agence'!$H$2,PROD_AUTO5_PREV_PERI_PART_SOC!$E:$E),SUMIF(PROD_AUTO5_PREV_PERI_PART_SOC!$D:$D,'Fiche Agence'!$N$2,PROD_AUTO5_PREV_PERI_PART_SOC!$E:$E))) -> 173 | M13: =K13/(IF(ISBLANK($H$2),SUMIF(ETP_Challenge!$A:$A,'Fiche Agence'!$C$2,ETP_Challenge!$E:$E),IF(ISBLANK($N$2),SUMIF(ETP_Challenge!$B:$B,'Fiche Agence'!$H$2,ETP_Challenge!$E:$E),SUMIF(ETP_Challenge!$D:$D,'Fiche Agence'!$N$2,ETP_Challenge!$E:$E)))) -> 1.6959265 | O13: =IF(((ROUND(0.5*Y5,1)*10 - K13)/Y3)<=0,0,((ROUND(0.5*Y5,1)*10 - K13)/Y3)) -> 67.4 | Q13: =O13/Y5 -> 0.66072512 | X13: 101% - 120% | Z13: 20
C14: =Y16&"%" -> 86,1% | Z14: =SUM(Z11:Z13) -> 120 | AE14: CONSO
AE15: S0 | AF15: S45 | AG15: S46 | AH15: S47 | AI15: S48 | AJ15: S49 | AK15: S50
D16: Reste à faire hebdo par ETP pour atteindre l'objectif | K16: ATTENDU : 0,5 VB / ETP / SEMAINE DU 1ER SEPTEMBRE AU 18 DECEMBRE | X16: aiguille IARD | Y16: =ROUND((AA17/AB17)*100,1) -> 86.1 | Z16: =IF(Y16>=120,120,Y16) -> 86.1 | AA16: VB IARD | AB16: OBJ TOTAL | AD16: PROD | AE16: =(IF(ISBLANK($H$2),SUMIF('CUMUL résultats semaine'!$A:$A,'Fiche Agence'!$C$2,'CUMUL résultats semaine'!$G:$G),IF(ISBLANK($N$2),SUMIF('CUMUL résultats semaine'!$B:$B,'Fiche Agence'!$H$2,'CUMUL résultats semaine'!$G:$G),SUMIF('CUMUL résultats semaine'!$C:$C,'Fiche Agence'!$N$2,'CUMUL résultats semaine'!$G:$G)))) -> 59166.096 | AF16: =(IF(ISBLANK($H$2),SUMIF('CUMUL résultats semaine'!$A:$A,'Fiche Agence'!$C$2,'CUMUL résultats semaine'!$S:$S),IF(ISBLANK($N$2),SUMIF('CUMUL résultats semaine'!$B:$B,'Fiche Agence'!$H$2,'CUMUL résultats semaine'!$S:$S),SUMIF('CUMUL résultats semaine'!$C:$C,'Fiche Agence'!$N$2,'CUMUL résultats semaine'!$S:$S)))) -> 60246.443 | AG16: =(IF(ISBLANK($H$2),SUMIF('CUMUL résultats semaine'!$A:$A,'Fiche Agence'!$C$2,'CUMUL résultats semaine'!$AE:$AE),IF(ISBLANK($N$2),SUMIF('CUMUL résultats semaine'!$B:$B,'Fiche Agence'!$H$2,'CUMUL résultats semaine'!$AE:$AE),SUMIF('CUMUL résultats semaine'!$C:$C,'Fiche Agence'!$N$2,'CUMUL résultats semaine'!$AE:$AE)))) -> #N/A | AH16: =(IF(ISBLANK($H$2),SUMIF('CUMUL résultats semaine'!$A:$A,'Fiche Agence'!$C$2,'CUMUL résultats semaine'!$AQ:$AQ),IF(ISBLANK($N$2),SUMIF('CUMUL résultats semaine'!$B:$B,'Fiche Agence'!$H$2,'CUMUL résultats semaine'!$AQ:$AQ),SUMIF('CUMUL résultats semaine'!$C:$C,'Fiche Agence'!$N$2,'CUMUL résultats semaine'!$AQ:$AQ)))) -> #N/A | AI16: =(IF(ISBLANK($H$2),SUMIF('CUMUL résultats semaine'!$A:$A,'Fiche Agence'!$C$2,'CUMUL résultats semaine'!$BC:$BC),IF(ISBLANK($N$2),SUMIF('CUMUL résultats semaine'!$B:$B,'Fiche Agence'!$H$2,'CUMUL résultats semaine'!$BC:$BC),SUMIF('CUMUL résultats semaine'!$C:$C,'Fiche Agence'!$N$2,'CUMUL résultats semaine'!$BC:$BC)))) -> #N/A | AJ16: =(IF(ISBLANK($H$2),SUMIF('CUMUL résultats semaine'!$A:$A,'Fiche Agence'!$C$2,'CUMUL résultats semaine'!$BO:$BO),IF(ISBLANK($N$2),SUMIF('CUMUL résultats semaine'!$B:$B,'Fiche Agence'!$H$2,'CUMUL résultats semaine'!$BO:$BO),SUMIF('CUMUL résultats semaine'!$C:$C,'Fiche Agence'!$N$2,'CUMUL résultats semaine'!$BO:$BO)))) -> #N/A | AK16: =(IF(ISBLANK($H$2),SUMIF('CUMUL résultats semaine'!$A:$A,'Fiche Agence'!$C$2,'CUMUL résultats semaine'!$CA:$CA),IF(ISBLANK($N$2),SUMIF('CUMUL résultats semaine'!$B:$B,'Fiche Agence'!$H$2,'CUMUL résultats semaine'!$CA:$CA),SUMIF('CUMUL résultats semaine'!$C:$C,'Fiche Agence'!$N$2,'CUMUL résultats semaine'!$CA:$CA)))) -> #N/A
D17: S45 | E17: S46 | F17: S47 | G17: S48 | H17: S49 | I17: S50 | X17: largeur | Z17: 1 | AA17: =IF(ISBLANK($H$2),SUMIF('Coller ici dernier suivi PV'!$A:$A,'Fiche Agence'!$C$2,'Coller ici dernier suivi PV'!$BE:$BE),IF(ISBLANK($N$2),SUMIF('Coller ici dernier suivi PV'!$B:$B,'Fiche Agence'!$H$2,'Coller ici dernier suivi PV'!$BE:$BE),SUMIF('Coller ici dernier suivi PV'!$C:$C,'Fiche Agence'!$N$2,'Coller ici dernier suivi PV'!$BE:$BE))) -> 5706.6 | AB17: =Y5*65 -> 6630.594 | AD17: RAF 100% | AE17: =(IF(ISBLANK($H$2),SUMIF('CUMUL résultats semaine'!$A:$A,'Fiche Agence'!$C$2,'CUMUL résultats semaine'!$H:$H),IF(ISBLANK($N$2),SUMIF('CUMUL résultats semaine'!$B:$B,'Fiche Agence'!$H$2,'CUMUL résultats semaine'!$H:$H),SUMIF('CUMUL résultats semaine'!$C:$C,'Fiche Agence'!$N$2,'CUMUL résultats semaine'!$H:$H)))) -> 3374 | AF17: =(IF(ISBLANK($H$2),SUMIF('CUMUL résultats semaine'!$A:$A,'Fiche Agence'!$C$2,'CUMUL résultats semaine'!$T:$T),IF(ISBLANK($N$2),SUMIF('CUMUL résultats semaine'!$B:$B,'Fiche Agence'!$H$2,'CUMUL résultats semaine'!$T:$T),SUMIF('CUMUL résultats semaine'!$C:$C,'Fiche Agence'!$N$2,'CUMUL résultats semaine'!$T:$T)))) -> 2888 | AG17: =(IF(ISBLANK($H$2),SUMIF('CUMUL résultats semaine'!$A:$A,'Fiche Agence'!$C$2,'CUMUL résultats semaine'!$AF:$AF),IF(ISBLANK($N$2),SUMIF('CUMUL résultats semaine'!$B:$B,'Fiche Agence'!$H$2,'CUMUL résultats semaine'!$AF:$AF),SUMIF('CUMUL résultats semaine'!$C:$C,'Fiche Agence'!$N$2,'CUMUL résultats semaine'!$AF:$AF)))) -> #N/A | AH17: =(IF(ISBLANK($H$2),SUMIF('CUMUL résultats semaine'!$A:$A,'Fiche Agence'!$C$2,'CUMUL résultats semaine'!$AR:$AR),IF(ISBLANK($N$2),SUMIF('CUMUL résultats semaine'!$B:$B,'Fiche Agence'!$H$2,'CUMUL résultats semaine'!$AR:$AR),SUMIF('CUMUL résultats semaine'!$C:$C,'Fiche Agence'!$N$2,'CUMUL résultats semaine'!$AR:$AR)))) -> #N/A | AI17: =(IF(ISBLANK($H$2),SUMIF('CUMUL résultats semaine'!$A:$A,'Fiche Agence'!$C$2,'CUMUL résultats semaine'!$BD:$BD),IF(ISBLANK($N$2),SUMIF('CUMUL résultats semaine'!$B:$B,'Fiche Agence'!$H$2,'CUMUL résultats semaine'!$BD:$BD),SUMIF('CUMUL résultats semaine'!$C:$C,'Fiche Agence'!$N$2,'CUMUL résultats semaine'!$BD:$BD)))) -> #N/A | AJ17: =(IF(ISBLANK($H$2),SUMIF('CUMUL résultats semaine'!$A:$A,'Fiche Agence'!$C$2,'CUMUL résultats semaine'!$BP:$BP),IF(ISBLANK($N$2),SUMIF('CUMUL résultats semaine'!$B:$B,'Fiche Agence'!$H$2,'CUMUL résultats semaine'!$BP:$BP),SUMIF('CUMUL résultats semaine'!$C:$C,'Fiche Agence'!$N$2,'CUMUL résultats semaine'!$BP:$BP)))) -> #N/A | AK17: =(IF(ISBLANK($H$2),SUMIF('CUMUL résultats semaine'!$A:$A,'Fiche Agence'!$C$2,'CUMUL résultats semaine'!$CC:$CC),IF(ISBLANK($N$2),SUMIF('CUMUL résultats semaine'!$B:$B,'Fiche Agence'!$H$2,'CUMUL résultats semaine'!$CC:$CC),SUMIF('CUMUL résultats semaine'!$C:$C,'Fiche Agence'!$N$2,'CUMUL résultats semaine'!$CC:$CC)))) -> #N/A
C18: Obj 100% | D18: =(AE5/$Y$5)/6 -> 1.9687779 | E18: =IF(ISNUMBER(D$20),((AF5/$Y$5)/5),D18) -> 2.2880303 | F18: =IF(ISNUMBER(E$20),((AG5/$Y$5)/4),E18) -> 2.2880303 | G18: =IF(ISNUMBER(F$20),((AH5/$Y$5)/3),F18) -> 2.2880303 | H18: =IF(ISNUMBER(G$20),((AI5/$Y$5)/2),G18) -> 2.2880303 | I18: =IF(ISNUMBER(H$20),((AJ5/$Y$5)/1),H18) -> 2.2880303 | K18: REAL DEPUIS LE 01/09 | N18: % SAIS. | O18: RESTE A FAIRE HEBDO | X18: part invisible | Z18: =SUM($Z$11:$Z$14)-(Z17+Z16) -> 152.9 | AD18: RAF 120% | AE18: =(IF(ISBLANK($H$2),SUMIF('CUMUL résultats semaine'!$A:$A,'Fiche Agence'!$C$2,'CUMUL résultats semaine'!$I:$I),IF(ISBLANK($N$2),SUMIF('CUMUL résultats semaine'!$B:$B,'Fiche Agence'!$H$2,'CUMUL résultats semaine'!$I:$I),SUMIF('CUMUL résultats semaine'!$C:$C,'Fiche Agence'!$N$2,'CUMUL résultats semaine'!$I:$I)))) -> 10581 | AF18: =(IF(ISBLANK($H$2),SUMIF('CUMUL résultats semaine'!$A:$A,'Fiche Agence'!$C$2,'CUMUL résultats semaine'!$U:$U),IF(ISBLANK($N$2),SUMIF('CUMUL résultats semaine'!$B:$B,'Fiche Agence'!$H$2,'CUMUL résultats semaine'!$U:$U),SUMIF('CUMUL résultats semaine'!$C:$C,'Fiche Agence'!$N$2,'CUMUL résultats semaine'!$U:$U)))) -> 9663 | AG18: =(IF(ISBLANK($H$2),SUMIF('CUMUL résultats semaine'!$A:$A,'Fiche Agence'!$C$2,'CUMUL résultats semaine'!$AG:$AG),IF(ISBLANK($N$2),SUMIF('CUMUL résultats semaine'!$B:$B,'Fiche Agence'!$H$2,'CUMUL résultats semaine'!$AG:$AG),SUMIF('CUMUL résultats semaine'!$C:$C,'Fiche Agence'!$N$2,'CUMUL résultats semaine'!$AG:$AG)))) -> #N/A | AH18: =(IF(ISBLANK($H$2),SUMIF('CUMUL résultats semaine'!$A:$A,'Fiche Agence'!$C$2,'CUMUL résultats semaine'!$AS:$AS),IF(ISBLANK($N$2),SUMIF('CUMUL résultats semaine'!$B:$B,'Fiche Agence'!$H$2,'CUMUL résultats semaine'!$AS:$AS),SUMIF('CUMUL résultats semaine'!$C:$C,'Fiche Agence'!$N$2,'CUMUL résultats semaine'!$AS:$AS)))) -> #N/A | AI18: =(IF(ISBLANK($H$2),SUMIF('CUMUL résultats semaine'!$A:$A,'Fiche Agence'!$C$2,'CUMUL résultats semaine'!$BE:$BE),IF(ISBLANK($N$2),SUMIF('CUMUL résultats semaine'!$B:$B,'Fiche Agence'!$H$2,'CUMUL résultats semaine'!$BE:$BE),SUMIF('CUMUL résultats semaine'!$C:$C,'Fiche Agence'!$N$2,'CUMUL résultats semaine'!$BE:$BE)))) -> #N/A | AJ18: =(IF(ISBLANK($H$2),SUMIF('CUMUL résultats semaine'!$A:$A,'Fiche Agence'!$C$2,'CUMUL résultats semaine'!$BQ:$BQ),IF(ISBLANK($N$2),SUMIF('CUMUL résultats semaine'!$B:$B,'Fiche Agence'!$H$2,'CUMUL résultats semaine'!$BQ:$BQ),SUMIF('CUMUL résultats semaine'!$C:$C,'Fiche Agence'!$N$2,'CUMUL résultats semaine'!$BQ:$BQ)))) -> #N/A | AK18: =(IF(ISBLANK($H$2),SUMIF('CUMUL résultats semaine'!$A:$A,'Fiche Agence'!$C$2,'CUMUL résultats semaine'!$CD:$CD),IF(ISBLANK($N$2),SUMIF('CUMUL résultats semaine'!$B:$B,'Fiche Agence'!$H$2,'CUMUL résultats semaine'!$CD:$CD),SUMIF('CUMUL résultats semaine'!$C:$C,'Fiche Agence'!$N$2,'CUMUL résultats semaine'!$CD:$CD)))) -> #N/A
C19: Obj 120% | D19: =(AE6/$Y$5)/6 -> 3.749664 | E19: =IF(ISNUMBER(D$20),((AF5/$Y$5)/5),D19) -> 2.2880303 | F19: =IF(ISNUMBER(E$20),((AG5/$Y$5)/4),E19) -> 2.2880303 | G19: =IF(ISNUMBER(F$20),((AH5/$Y$5)/3),F19) -> 2.2880303 | H19: =IF(ISNUMBER(G$20),((AI5/$Y$5)/2),G19) -> 2.2880303 | I19: =IF(ISNUMBER(H$20),((AJ5/$Y$5)/1),H19) -> 2.2880303 | K19: ENTITE | M19: PAR ETP | N19: =K20/(0.5*Y5*(16-Y3)) -> 0.9571335 | O19: ENTITE | Q19: PAR ETP | X19: aiguille CONSO | Y19: =ROUND((AA20/AB20)*100,1) -> 104.8 | Z19: =IF(Y19>=120,120,Y19) -> 104.8 | AA19: Engag. nets Conso | AB19: OBJ TOTAL
C20: Réal. / ETP | D20: =IF(ISNUMBER(AF4),((AF4-AE4)/$Y$5),"-") -> 0.59210381 | E20: =IF(ISNUMBER(AG4),((AG4-AF4)/$Y$5),"-") -> - | F20: =IF(ISNUMBER(AH4),((AH4-AG4)/$Y$5),"-") -> - | G20: =IF(ISNUMBER(AI4),((AI4-AH4)/$Y$5),"-") -> - | H20: =IF(ISNUMBER(AJ4),((AJ4-AI4)/$Y$5),"-") -> - | I20: =IF(ISNUMBER(AK4),((AK4-AJ4)/$Y$5),"-") -> - | K20: =IF(ISBLANK($H$2),SUMIF(PROD_AUTO5_PREV_PERI_PART_SOC!$A:$A,'Fiche Agence'!$C$2,PROD_AUTO5_PREV_PERI_PART_SOC!$F:$F),IF(ISBLANK($N$2),SUMIF(PROD_AUTO5_PREV_PERI_PART_SOC!$B:$B,'Fiche Agence'!$H$2,PROD_AUTO5_PREV_PERI_PART_SOC!$F:$F),SUMIF(PROD_AUTO5_PREV_PERI_PART_SOC!$D:$D,'Fiche Agence'!$N$2,PROD_AUTO5_PREV_PERI_PART_SOC!$F:$F))) -> 537 | M20: =K20/(IF(ISBLANK($H$2),SUMIF(ETP_Challenge!$A:$A,'Fiche Agence'!$C$2,ETP_Challenge!$E:$E),IF(ISBLANK($N$2),SUMIF(ETP_Challenge!$B:$B,'Fiche Agence'!$H$2,ETP_Challenge!$E:$E),SUMIF(ETP_Challenge!$D:$D,'Fiche Agence'!$N$2,ETP_Challenge!$E:$E)))) -> 5.2642342 | O20: =IF(((ROUND(0.5*Y5,1)*16 - K20)/Y3)<=0,0,((ROUND(0.5*Y5,1)*16 - K20)/Y3)) -> 55.8 | Q20: =O20/Y5 -> 0.54700981 | X20: largeur | Z20: 1 | AA20: =IF(ISBLANK($H$2),SUMIF('Coller ici dernier suivi PV'!$A:$A,'Fiche Agence'!$C$2,'Coller ici dernier suivi PV'!$AU:$AU),IF(ISBLANK($N$2),SUMIF('Coller ici dernier suivi PV'!$B:$B,'Fiche Agence'!$H$2,'Coller ici dernier suivi PV'!$AU:$AU),SUMIF('Coller ici dernier suivi PV'!$C:$C,'Fiche Agence'!$N$2,'Coller ici dernier suivi PV'!$AU:$AU))) -> 61241.108 | AB20: =Y5*573 -> 58451.237 | AE20: ASS VIE
X21: part invisible | Z21: =SUM($Z$11:$Z$14)-(Z20+Z19) -> 134.2 | AE21: S0 | AF21: S45 | AG21: S46 | AH21: S47 | AI21: S48 | AJ21: S49 | AK21: S50
X22: aiguille BANCA | Y22: =ROUND((AA23/AB23)*100,1) -> 119.8 | Z22: =IF(Y22>=120,120,Y22) -> 119.8 | AA22: VB BANCA | AB22: OBJ TOTAL | AD22: PROD | AE22: =(IF(ISBLANK($H$2),SUMIF('CUMUL résultats semaine'!$A:$A,'Fiche Agence'!$C$2,'CUMUL résultats semaine'!$M:$M),IF(ISBLANK($N$2),SUMIF('CUMUL résultats semaine'!$B:$B,'Fiche Agence'!$H$2,'CUMUL résultats semaine'!$M:$M),SUMIF('CUMUL résultats semaine'!$C:$C,'Fiche Agence'!$N$2,'CUMUL résultats semaine'!$M:$M)))) -> 72345.059 | AF22: =(IF(ISBLANK($H$2),SUMIF('CUMUL résultats semaine'!$A:$A,'Fiche Agence'!$C$2,'CUMUL résultats semaine'!$Y:$Y),IF(ISBLANK($N$2),SUMIF('CUMUL résultats semaine'!$B:$B,'Fiche Agence'!$H$2,'CUMUL résultats semaine'!$Y:$Y),SUMIF('CUMUL résultats semaine'!$C:$C,'Fiche Agence'!$N$2,'CUMUL résultats semaine'!$Y:$Y)))) -> 73649.567 | AG22: =(IF(ISBLANK($H$2),SUMIF('CUMUL résultats semaine'!$A:$A,'Fiche Agence'!$C$2,'CUMUL résultats semaine'!$AK:$AK),IF(ISBLANK($N$2),SUMIF('CUMUL résultats semaine'!$B:$B,'Fiche Agence'!$H$2,'CUMUL résultats semaine'!$AK:$AK),SUMIF('CUMUL résultats semaine'!$C:$C,'Fiche Agence'!$N$2,'CUMUL résultats semaine'!$AK:$AK)))) -> #N/A | AH22: =(IF(ISBLANK($H$2),SUMIF('CUMUL résultats semaine'!$A:$A,'Fiche Agence'!$C$2,'CUMUL résultats semaine'!$AW:$AW),IF(ISBLANK($N$2),SUMIF('CUMUL résultats semaine'!$B:$B,'Fiche Agence'!$H$2,'CUMUL résultats semaine'!$AW:$AW),SUMIF('CUMUL résultats semaine'!$C:$C,'Fiche Agence'!$N$2,'CUMUL résultats semaine'!$AW:$AW)))) -> #N/A | AI22: =(IF(ISBLANK($H$2),SUMIF('CUMUL résultats semaine'!$A:$A,'Fiche Agence'!$C$2,'CUMUL résultats semaine'!$BI:$BI),IF(ISBLANK($N$2),SUMIF('CUMUL résultats semaine'!$B:$B,'Fiche Agence'!$H$2,'CUMUL résultats semaine'!$BI:$BI),SUMIF('CUMUL résultats semaine'!$C:$C,'Fiche Agence'!$N$2,'CUMUL résultats semaine'!$BI:$BI)))) -> #N/A | AJ22: =(IF(ISBLANK($H$2),SUMIF('CUMUL résultats semaine'!$A:$A,'Fiche Agence'!$C$2,'CUMUL résultats semaine'!$BU:$BU),IF(ISBLANK($N$2),SUMIF('CUMUL résultats semaine'!$B:$B,'Fiche Agence'!$H$2,'CUMUL résultats semaine'!$BU:$BU),SUMIF('CUMUL résultats semaine'!$C:$C,'Fiche Agence'!$N$2,'CUMUL résultats semaine'!$BU:$BU)))) -> #N/A | AK22: =(IF(ISBLANK($H$2),SUMIF('CUMUL résultats semaine'!$A:$A,'Fiche Agence'!$C$2,'CUMUL résultats semaine'!$CG:$CG),IF(ISBLANK($N$2),SUMIF('CUMUL résultats semaine'!$B:$B,'Fiche Agence'!$H$2,'CUMUL résultats semaine'!$CG:$CG),SUMIF('CUMUL résultats semaine'!$C:$C,'Fiche Agence'!$N$2,'CUMUL résultats semaine'!$CG:$CG)))) -> #N/A
X23: largeur | Z23: 1 | AA23: =IF(ISBLANK($H$2),SUMIF('Coller ici dernier suivi PV'!$A:$A,'Fiche Agence'!$C$2,'Coller ici dernier suivi PV'!$Q:$Q),IF(ISBLANK($N$2),SUMIF('Coller ici dernier suivi PV'!$B:$B,'Fiche Agence'!$H$2,'Coller ici dernier suivi PV'!$Q:$Q),SUMIF('Coller ici dernier suivi PV'!$C:$C,'Fiche Agence'!$N$2,'Coller ici dernier suivi PV'!$Q:$Q))) -> 4401 | AB23: =Y5*36 -> 3672.329 | AD23: RAF 100% | AE23: =(IF(ISBLANK($H$2),SUMIF('CUMUL résultats semaine'!$A:$A,'Fiche Agence'!$C$2,'CUMUL résultats semaine'!$N:$N),IF(ISBLANK($N$2),SUMIF('CUMUL résultats semaine'!$B:$B,'Fiche Agence'!$H$2,'CUMUL résultats semaine'!$N:$N),SUMIF('CUMUL résultats semaine'!$C:$C,'Fiche Agence'!$N$2,'CUMUL résultats semaine'!$N:$N)))) -> 8361 | AF23: =(IF(ISBLANK($H$2),SUMIF('CUMUL résultats semaine'!$A:$A,'Fiche Agence'!$C$2,'CUMUL résultats semaine'!$Z:$Z),IF(ISBLANK($N$2),SUMIF('CUMUL résultats semaine'!$B:$B,'Fiche Agence'!$H$2,'CUMUL résultats semaine'!$Z:$Z),SUMIF('CUMUL résultats semaine'!$C:$C,'Fiche Agence'!$N$2,'CUMUL résultats semaine'!$Z:$Z)))) -> 7718 | AG23: =(IF(ISBLANK($H$2),SUMIF('CUMUL résultats semaine'!$A:$A,'Fiche Agence'!$C$2,'CUMUL résultats semaine'!$AL:$AL),IF(ISBLANK($N$2),SUMIF('CUMUL résultats semaine'!$B:$B,'Fiche Agence'!$H$2,'CUMUL résultats semaine'!$AL:$AL),SUMIF('CUMUL résultats semaine'!$C:$C,'Fiche Agence'!$N$2,'CUMUL résultats semaine'!$AL:$AL)))) -> #N/A | AH23: =(IF(ISBLANK($H$2),SUMIF('CUMUL résultats semaine'!$A:$A,'Fiche Agence'!$C$2,'CUMUL résultats semaine'!$AX:$AX),IF(ISBLANK($N$2),SUMIF('CUMUL résultats semaine'!$B:$B,'Fiche Agence'!$H$2,'CUMUL résultats semaine'!$AX:$AX),SUMIF('CUMUL résultats semaine'!$C:$C,'Fiche Agence'!$N$2,'CUMUL résultats semaine'!$AX:$AX)))) -> #N/A | AI23: =(IF(ISBLANK($H$2),SUMIF('CUMUL résultats semaine'!$A:$A,'Fiche Agence'!$C$2,'CUMUL résultats semaine'!$BK:$BK),IF(ISBLANK($N$2),SUMIF('CUMUL résultats semaine'!$B:$B,'Fiche Agence'!$H$2,'CUMUL résultats semaine'!$BK:$BK),SUMIF('CUMUL résultats semaine'!$C:$C,'Fiche Agence'!$N$2,'CUMUL résultats semaine'!$BK:$BK)))) -> #N/A | AJ23: =(IF(ISBLANK($H$2),SUMIF('CUMUL résultats semaine'!$A:$A,'Fiche Agence'!$C$2,'CUMUL résultats semaine'!$BV:$BV),IF(ISBLANK($N$2),SUMIF('CUMUL résultats semaine'!$B:$B,'Fiche Agence'!$H$2,'CUMUL résultats semaine'!$BV:$BV),SUMIF('CUMUL résultats semaine'!$C:$C,'Fiche Agence'!$N$2,'CUMUL résultats semaine'!$BV:$BV)))) -> #N/A | AK23: =(IF(ISBLANK($H$2),SUMIF('CUMUL résultats semaine'!$A:$A,'Fiche Agence'!$C$2,'CUMUL résultats semaine'!$CH:$CH),IF(ISBLANK($N$2),SUMIF('CUMUL résultats semaine'!$B:$B,'Fiche Agence'!$H$2,'CUMUL résultats semaine'!$CH:$CH),SUMIF('CUMUL résultats semaine'!$C:$C,'Fiche Agence'!$N$2,'CUMUL résultats semaine'!$CH:$CH)))) -> #N/A
X24: part invisible | Z24: =SUM($Z$11:$Z$14)-(Z23+Z22) -> 119.2 | AD24: RAF 120% | AE24: =(IF(ISBLANK($H$2),SUMIF('CUMUL résultats semaine'!$A:$A,'Fiche Agence'!$C$2,'CUMUL résultats semaine'!$O:$O),IF(ISBLANK($N$2),SUMIF('CUMUL résultats semaine'!$B:$B,'Fiche Agence'!$H$2,'CUMUL résultats semaine'!$O:$O),SUMIF('CUMUL résultats semaine'!$C:$C,'Fiche Agence'!$N$2,'CUMUL résultats semaine'!$O:$O)))) -> 16218 | AF24: =(IF(ISBLANK($H$2),SUMIF('CUMUL résultats semaine'!$A:$A,'Fiche Agence'!$C$2,'CUMUL résultats semaine'!$AA:$AA),IF(ISBLANK($N$2),SUMIF('CUMUL résultats semaine'!$B:$B,'Fiche Agence'!$H$2,'CUMUL résultats semaine'!$AA:$AA),SUMIF('CUMUL résultats semaine'!$C:$C,'Fiche Agence'!$N$2,'CUMUL résultats semaine'!$AA:$AA)))) -> 15354 | AG24: =(IF(ISBLANK($H$2),SUMIF('CUMUL résultats semaine'!$A:$A,'Fiche Agence'!$C$2,'CUMUL résultats semaine'!$AM:$AM),IF(ISBLANK($N$2),SUMIF('CUMUL résultats semaine'!$B:$B,'Fiche Agence'!$H$2,'CUMUL résultats semaine'!$AM:$AM),SUMIF('CUMUL résultats semaine'!$C:$C,'Fiche Agence'!$N$2,'CUMUL résultats semaine'!$AM:$AM)))) -> #N/A | AH24: =(IF(ISBLANK($H$2),SUMIF('CUMUL résultats semaine'!$A:$A,'Fiche Agence'!$C$2,'CUMUL résultats semaine'!$AY:$AY),IF(ISBLANK($N$2),SUMIF('CUMUL résultats semaine'!$B:$B,'Fiche Agence'!$H$2,'CUMUL résultats semaine'!$AY:$AY),SUMIF('CUMUL résultats semaine'!$C:$C,'Fiche Agence'!$N$2,'CUMUL résultats semaine'!$AY:$AY)))) -> #N/A | AI24: =(IF(ISBLANK($H$2),SUMIF('CUMUL résultats semaine'!$A:$A,'Fiche Agence'!$C$2,'CUMUL résultats semaine'!$BL:$BL),IF(ISBLANK($N$2),SUMIF('CUMUL résultats semaine'!$B:$B,'Fiche Agence'!$H$2,'CUMUL résultats semaine'!$BL:$BL),SUMIF('CUMUL résultats semaine'!$C:$C,'Fiche Agence'!$N$2,'CUMUL résultats semaine'!$BL:$BL)))) -> #N/A | AJ24: =(IF(ISBLANK($H$2),SUMIF('CUMUL résultats semaine'!$A:$A,'Fiche Agence'!$C$2,'CUMUL résultats semaine'!$BW:$BW),IF(ISBLANK($N$2),SUMIF('CUMUL résultats semaine'!$B:$B,'Fiche Agence'!$H$2,'CUMUL résultats semaine'!$BW:$BW),SUMIF('CUMUL résultats semaine'!$C:$C,'Fiche Agence'!$N$2,'CUMUL résultats semaine'!$BW:$BW)))) -> #N/A | AK24: =(IF(ISBLANK($H$2),SUMIF('CUMUL résultats semaine'!$A:$A,'Fiche Agence'!$C$2,'CUMUL résultats semaine'!$CI:$CI),IF(ISBLANK($N$2),SUMIF('CUMUL résultats semaine'!$B:$B,'Fiche Agence'!$H$2,'CUMUL résultats semaine'!$CI:$CI),SUMIF('CUMUL résultats semaine'!$C:$C,'Fiche Agence'!$N$2,'CUMUL résultats semaine'!$CI:$CI)))) -> #N/A
X25: aiguille ASS VIE | Y25: =ROUND((AA26/AB26)*100,1) -> 107.4 | Z25: =IF(Y25>=120,120,Y25) -> 107.4 | AA25: CA ASS VIE | AB25: OBJ TOTAL
G26: MEILLEURE PERFORMANCE HEBDO EN 2021 : | O26: MEILLEURE PERFORMANCE HEBDO EN 2021 : | X26: largeur | Z26: 1 | AA26: =IF(ISBLANK($H$2),SUMIF('Coller ici dernier suivi PV'!$A:$A,'Fiche Agence'!$C$2,'Coller ici dernier suivi PV'!$AK:$AK),IF(ISBLANK($N$2),SUMIF('Coller ici dernier suivi PV'!$B:$B,'Fiche Agence'!$H$2,'Coller ici dernier suivi PV'!$AK:$AK),SUMIF('Coller ici dernier suivi PV'!$C:$C,'Fiche Agence'!$N$2,'Coller ici dernier suivi PV'!$AK:$AK))) -> 75098.15 | AB26: =IF(ISBLANK($H$2),SUMIF('Coller ici dernier suivi PV'!$A:$A,'Fiche Agence'!$C$2,'Coller ici dernier suivi PV'!$CD:$CD),IF(ISBLANK($N$2),SUMIF('Coller ici dernier suivi PV'!$B:$B,'Fiche Agence'!$H$2,'Coller ici dernier suivi PV'!$CD:$CD),SUMIF('Coller ici dernier suivi PV'!$C:$C,'Fiche Agence'!$N$2,'Coller ici dernier suivi PV'!$CD:$CD))) -> 69900.701
X27: part invisible | Z27: =SUM($Z$11:$Z$14)-(Z26+Z25) -> 131.6
O30: =ROUND((AF45/1000),1)&" K€" -> 7,4 K€
C31: =Y22&"%" -> 119,8% | K31: =Y19&"%" -> 104,8% | X31: NB_CARTES | Y31: =IF(ISBLANK($H$2),SUMIF(TAUX_DD_HDG!$A:$A,'Fiche Agence'!$C$2,TAUX_DD_HDG!$E:$E),IF(ISBLANK($N$2),SUMIF(TAUX_DD_HDG!$B:$B,'Fiche Agence'!$H$2,TAUX_DD_HDG!$E:$E),SUMIF(TAUX_DD_HDG!$C:$C,'Fiche Agence'!$N$2,TAUX_DD_HDG!$E:$E))) -> 892
X32: NB_HDG | Y32: =IF(ISBLANK($H$2),SUMIF(TAUX_DD_HDG!$A:$A,'Fiche Agence'!$C$2,TAUX_DD_HDG!$F:$F),IF(ISBLANK($N$2),SUMIF(TAUX_DD_HDG!$B:$B,'Fiche Agence'!$H$2,TAUX_DD_HDG!$F:$F),SUMIF(TAUX_DD_HDG!$C:$C,'Fiche Agence'!$N$2,TAUX_DD_HDG!$F:$F))) -> 253
D33: Reste à faire hebdo par ETP pour atteindre l'objectif | L33: Reste à faire hebdo par ETP pour atteindre l'obj (K€) | X33: NB_DD | Y33: =IF(ISBLANK($H$2),SUMIF(TAUX_DD_HDG!$A:$A,'Fiche Agence'!$C$2,TAUX_DD_HDG!$G:$G),IF(ISBLANK($N$2),SUMIF(TAUX_DD_HDG!$B:$B,'Fiche Agence'!$H$2,TAUX_DD_HDG!$G:$G),SUMIF(TAUX_DD_HDG!$C:$C,'Fiche Agence'!$N$2,TAUX_DD_HDG!$G:$G))) -> 217
D34: S45 | E34: S46 | F34: S47 | G34: S48 | H34: S49 | I34: S50 | L34: S45 | M34: S46 | N34: S47 | O34: S48 | P34: S49 | Q34: S50 | X34: TAUX HDG | Y34: =Y32/Y31 -> 0.28363229
C35: Obj 100% | D35: =(AE11/$Y$5)/6 -> 0.14051029 | E35: =IF(ISNUMBER(D$37),((AF11/$Y$5)/5),D35) -> 0.14312443 | F35: =IF(ISNUMBER(E$37),((AG11/$Y$5)/4),E35) -> 0.14312443 | G35: =IF(ISNUMBER(F$37),((AH11/$Y$5)/3),F35) -> 0.14312443 | H35: =IF(ISNUMBER(G$37),((AI11/$Y$5)/2),G35) -> 0.14312443 | I35: =IF(ISNUMBER(H$37),((AJ11/$Y$5)/1),H35) -> 0.14312443 | K35: Obj 100% | L35: =(AE17/$Y$5)/6 -> 5.512578 | M35: =IF(ISNUMBER(L$37),((AF17/$Y$5)/5),L35) -> 5.6622378 | N35: =IF(ISNUMBER(M$37),((AG17/$Y$5)/4),M35) -> 5.6622378 | O35: =IF(ISNUMBER(N$37),((AH17/$Y$5)/3),N35) -> 5.6622378 | P35: =IF(ISNUMBER(O$37),((AI17/$Y$5)/2),O35) -> 5.6622378 | Q35: =IF(ISNUMBER(P$37),((AJ17/$Y$5)/1),P35) -> 5.6622378 | X35: TAUX DD | Y35: =Y33/Y31 -> 0.24327354
C36: Obj 120% | D36: =(AE12/$Y$5)/6 -> 0.51956129 | E36: =IF(ISNUMBER(D$37),((AF11/$Y$5)/5),D36) -> 0.14312443 | F36: =IF(ISNUMBER(E$37),((AG11/$Y$5)/4),E36) -> 0.14312443 | G36: =IF(ISNUMBER(F$37),((AH11/$Y$5)/3),F36) -> 0.14312443 | H36: =IF(ISNUMBER(G$37),((AI11/$Y$5)/2),G36) -> 0.14312443 | I36: =IF(ISNUMBER(H$37),((AJ11/$Y$5)/1),H36) -> 0.14312443 | K36: Obj 120% | L36: =(AE18/$Y$5)/6 -> 17.287667 | M36: =IF(ISNUMBER(L$37),((AF17/$Y$5)/5),L36) -> 5.6622378 | N36: =IF(ISNUMBER(M$37),((AG17/$Y$5)/4),M36) -> 5.6622378 | O36: =IF(ISNUMBER(N$37),((AH17/$Y$5)/3),N36) -> 5.6622378 | P36: =IF(ISNUMBER(O$37),((AI17/$Y$5)/2),O36) -> 5.6622378 | Q36: =IF(ISNUMBER(P$37),((AJ17/$Y$5)/1),P36) -> 5.6622378 | X36: DECILE HDG | Y36: =PERCENTILE(TAUX_DD_HDG!H:H,0.9) -> 0.55664845
C37: Réal. / ETP | D37: =IF(ISNUMBER(AF10),((AF10-AE10)/$Y$5),"-") -> 0.71562216 | E37: =IF(ISNUMBER(AG10),((AG10-AF10)/$Y$5),"-") -> - | F37: =IF(ISNUMBER(AH10),((AH10-AG10)/$Y$5),"-") -> - | G37: =IF(ISNUMBER(AI10),((AI10-AH10)/$Y$5),"-") -> - | H37: =IF(ISNUMBER(AJ10),((AJ10-AI10)/$Y$5),"-") -> - | I37: =IF(ISNUMBER(AK10),((AK10-AJ10)/$Y$5),"-") -> - | K37: Réal. / ETP | L37: =IF(ISNUMBER(AF16),((AF16-AE16)/$Y$5),"-") -> 10.59069 | M37: =IF(ISNUMBER(AG16),((AG16-AF16)/$Y$5),"-") -> - | N37: =IF(ISNUMBER(AH16),((AH16-AG16)/$Y$5),"-") -> - | O37: =IF(ISNUMBER(AI16),((AI16-AH16)/$Y$5),"-") -> - | P37: =IF(ISNUMBER(AJ16),((AJ16-AI16)/$Y$5),"-") -> - | Q37: =IF(ISNUMBER(AK16),((AK16-AJ16)/$Y$5),"-") -> - | X37: DECILE DD | Y37: =PERCENTILE(TAUX_DD_HDG!I:I,0.9) -> 0.50719262
X41: MEILLEURES PERF 2021 AGENCES | AA41: MEILLEURES PERF 2021 TERRI REGI
X43: FORFAITS | Y43: =IF(ISBLANK($H$2),SUMIF(Meilleures_perf_2021_AGENCE!$A:$A,'Fiche Agence'!$C$2,Meilleures_perf_2021_AGENCE!$G:$G),IF(ISBLANK($N$2),SUMIF(Meilleures_perf_2021_AGENCE!$B:$B,'Fiche Agence'!$H$2,Meilleures_perf_2021_AGENCE!$G:$G),SUMIF(Meilleures_perf_2021_AGENCE!$C:$C,'Fiche Agence'!$N$2,Meilleures_perf_2021_AGENCE!$G:$G))) -> 55.998475 | AA43: FORFAITS | AB43: =IF(ISBLANK($H$2),SUMIF(Meilleures_perf_2021_TERRI_REGI!$A:$A,'Fiche Agence'!$C$2,Meilleures_perf_2021_TERRI_REGI!$G:$G),IF(ISBLANK($N$2),SUMIF(Meilleures_perf_2021_TERRI_REGI!$B:$B,'Fiche Agence'!$H$2,Meilleures_perf_2021_TERRI_REGI!$G:$G),SUMIF(Meilleures_perf_2021_TERRI_REGI!$C:$C,'Fiche Agence'!$N$2,Meilleures_perf_2021_TERRI_REGI!$G:$G))) -> 55.998475 | AC43: =AB43/$Y$5 -> 0.54895548 | AE43: FORFAITS | AF43: =IF(ISBLANK($H$2),AC43,IF(ISBLANK($N$2),AC43,SUMIF(Meilleures_perf_2021_AGENCE!$C:$C,'Fiche Agence'!$N$2,Meilleures_perf_2021_AGENCE!$G:$G))) -> 0.54895548
K44: ATTENDU : 1,5 VB / ETP DU 1ER SEPTEMBRE AU 18 DECEMBRE | X44: IARD_PREV | Y44: =IF(ISBLANK($H$2),SUMIF(Meilleures_perf_2021_AGENCE!$A:$A,'Fiche Agence'!$C$2,Meilleures_perf_2021_AGENCE!$E:$E),IF(ISBLANK($N$2),SUMIF(Meilleures_perf_2021_AGENCE!$B:$B,'Fiche Agence'!$H$2,Meilleures_perf_2021_AGENCE!$E:$E),SUMIF(Meilleures_perf_2021_AGENCE!$C:$C,'Fiche Agence'!$N$2,Meilleures_perf_2021_AGENCE!$E:$E))) -> 83.351244 | AA44: IARD_PREV | AB44: =IF(ISBLANK($H$2),SUMIF(Meilleures_perf_2021_TERRI_REGI!$A:$A,'Fiche Agence'!$C$2,Meilleures_perf_2021_TERRI_REGI!$E:$E),IF(ISBLANK($N$2),SUMIF(Meilleures_perf_2021_TERRI_REGI!$B:$B,'Fiche Agence'!$H$2,Meilleures_perf_2021_TERRI_REGI!$E:$E),SUMIF(Meilleures_perf_2021_TERRI_REGI!$C:$C,'Fiche Agence'!$N$2,Meilleures_perf_2021_TERRI_REGI!$E:$E))) -> 83.351244 | AC44: =AB44/$Y$5 -> 0.81709585 | AE44: IARD_PREV | AF44: =IF(ISBLANK($H$2),AC44,IF(ISBLANK($N$2),AC44,SUMIF(Meilleures_perf_2021_AGENCE!$C:$C,'Fiche Agence'!$N$2,Meilleures_perf_2021_AGENCE!$E:$E))) -> 0.81709585
G45: MEILLEURE PERFORMANCE HEBDO EN 2021: | X45: CONSO | Y45: =IF(ISBLANK($H$2),SUMIF(Meilleures_perf_2021_AGENCE!$A:$A,'Fiche Agence'!$C$2,Meilleures_perf_2021_AGENCE!$F:$F),IF(ISBLANK($N$2),SUMIF(Meilleures_perf_2021_AGENCE!$B:$B,'Fiche Agence'!$H$2,Meilleures_perf_2021_AGENCE!$F:$F),SUMIF(Meilleures_perf_2021_AGENCE!$C:$C,'Fiche Agence'!$N$2,Meilleures_perf_2021_AGENCE!$F:$F))) -> 758300.89 | AA45: CONSO | AB45: =IF(ISBLANK($H$2),SUMIF(Meilleures_perf_2021_TERRI_REGI!$A:$A,'Fiche Agence'!$C$2,Meilleures_perf_2021_TERRI_REGI!$F:$F),IF(ISBLANK($N$2),SUMIF(Meilleures_perf_2021_TERRI_REGI!$B:$B,'Fiche Agence'!$H$2,Meilleures_perf_2021_TERRI_REGI!$F:$F),SUMIF(Meilleures_perf_2021_TERRI_REGI!$C:$C,'Fiche Agence'!$N$2,Meilleures_perf_2021_TERRI_REGI!$F:$F))) -> 758300.89 | AC45: =AB45/$Y$5 -> 7433.6564 | AE45: CONSO | AF45: =IF(ISBLANK($H$2),AC45,IF(ISBLANK($N$2),AC45,SUMIF(Meilleures_perf_2021_AGENCE!$C:$C,'Fiche Agence'!$N$2,Meilleures_perf_2021_AGENCE!$F:$F))) -> 7433.6564
X46: ASS VIE | Y46: =IF(ISBLANK($H$2),SUMIF(Meilleures_perf_2021_AGENCE!$A:$A,'Fiche Agence'!$C$2,Meilleures_perf_2021_AGENCE!$H:$H),IF(ISBLANK($N$2),SUMIF(Meilleures_perf_2021_AGENCE!$B:$B,'Fiche Agence'!$H$2,Meilleures_perf_2021_AGENCE!$H:$H),SUMIF(Meilleures_perf_2021_AGENCE!$C:$C,'Fiche Agence'!$N$2,Meilleures_perf_2021_AGENCE!$H:$H))) -> 1640999.8 | AA46: ASS VIE | AB46: =IF(ISBLANK($H$2),SUMIF(Meilleures_perf_2021_TERRI_REGI!$A:$A,'Fiche Agence'!$C$2,Meilleures_perf_2021_TERRI_REGI!$H:$H),IF(ISBLANK($N$2),SUMIF(Meilleures_perf_2021_TERRI_REGI!$B:$B,'Fiche Agence'!$H$2,Meilleures_perf_2021_TERRI_REGI!$H:$H),SUMIF(Meilleures_perf_2021_TERRI_REGI!$C:$C,'Fiche Agence'!$N$2,Meilleures_perf_2021_TERRI_REGI!$H:$H))) -> 1640999.8 | AC46: =AB46/$Y$5 -> 16086.792 | AE46: ASS VIE | AF46: =IF(ISBLANK($H$2),AC46,IF(ISBLANK($N$2),AC46,SUMIF(Meilleures_perf_2021_AGENCE!$C:$C,'Fiche Agence'!$N$2,Meilleures_perf_2021_AGENCE!$H:$H))) -> 16086.792
K47: REAL DEPUIS LE 01/09 | N47: % | O47: RESTE A FAIRE
K48: ENTITE | M48: PAR ETP | N48: =K49/(1.5*Y5*(16-Y3)) -> 0.014853096 | O48: ENTITE | Q48: PAR ETP
G49: =ROUND((AF46/1000),1)&" K€" -> 16,1 K€ | K49: =IF(ISBLANK($H$2),SUMIF(PROD_AUTO5_PREV_PERI_PART_SOC!$A:$A,'Fiche Agence'!$C$2,PROD_AUTO5_PREV_PERI_PART_SOC!$G:$G),IF(ISBLANK($N$2),SUMIF(PROD_AUTO5_PREV_PERI_PART_SOC!$B:$B,'Fiche Agence'!$H$2,PROD_AUTO5_PREV_PERI_PART_SOC!$G:$G),SUMIF(PROD_AUTO5_PREV_PERI_PART_SOC!$D:$D,'Fiche Agence'!$N$2,PROD_AUTO5_PREV_PERI_PART_SOC!$G:$G))) -> 25 | M49: =K49/(IF(ISBLANK($H$2),SUMIF(ETP_Challenge!$A:$A,'Fiche Agence'!$C$2,ETP_Challenge!$E:$E),IF(ISBLANK($N$2),SUMIF(ETP_Challenge!$B:$B,'Fiche Agence'!$H$2,ETP_Challenge!$E:$E),SUMIF(ETP_Challenge!$D:$D,'Fiche Agence'!$N$2,ETP_Challenge!$E:$E)))) -> 0.24507608 | O49: =IF(((ROUND(1.5*Y5,1) - K49))<=0,0,((ROUND(1.5*Y5,1) - K49))) -> 128 | Q49: =O49/Y5 -> 1.2547895
C51: =Y25&"%" -> 107,4%
D54: Reste à faire hebdo par ETP pour atteindre l'obj (K€) | K54: ATTENDU | N54: =IF(ISBLANK($H$2),SUMIF(GEDEL!$A:$A,'Fiche Agence'!$C$2,GEDEL!$F:$F),IF(ISBLANK($N$2),SUMIF(GEDEL!$B:$B,'Fiche Agence'!$H$2,GEDEL!$F:$F),SUMIF(GEDEL!$C:$C,'Fiche Agence'!$N$2,GEDEL!$F:$F))) -> 1278066
D55: S45 | E55: S46 | F55: S47 | G55: S48 | H55: S49 | I55: S50 | K55: DU 1ER SEPTEMBRE AU 18 DECEMBRE
C56: Obj 100% | D56: =(AE23/$Y$5)/6 -> 13.660541 | E56: =IF(ISNUMBER(D$58),((AF23/$Y$5)/5),D56) -> 15.131978 | F56: =IF(ISNUMBER(E$58),((AG23/$Y$5)/4),E56) -> 15.131978 | G56: =IF(ISNUMBER(F$58),((AH23/$Y$5)/3),F56) -> 15.131978 | H56: =IF(ISNUMBER(G$58),((AI23/$Y$5)/2),G56) -> 15.131978 | I56: =IF(ISNUMBER(H$58),((AJ23/$Y$5)/1),H56) -> 15.131978 | K56: REAL DEPUIS LE 01/09 | N56: % SAIS. | O56: RESTE A FAIRE HEBDO
C57: Obj 120% | D57: =(AE24/$Y$5)/6 -> 26.497626 | E57: =IF(ISNUMBER(D$58),((AF23/$Y$5)/5),D57) -> 15.131978 | F57: =IF(ISNUMBER(E$58),((AG23/$Y$5)/4),E57) -> 15.131978 | G57: =IF(ISNUMBER(F$58),((AH23/$Y$5)/3),F57) -> 15.131978 | H57: =IF(ISNUMBER(G$58),((AI23/$Y$5)/2),G57) -> 15.131978 | I57: =IF(ISNUMBER(H$58),((AJ23/$Y$5)/1),H57) -> 15.131978 | K57: ENTITE | M57: PAR ETP | N57: =K58/(N54*(16-Y3)) -> 0.012743687 | O57: ENTITE | Q57: PAR ETP
C58: Réal. / ETP | D58: =IF(ISNUMBER(AF22),((AF22-AE22)/$Y$5),"-") -> 12.788146 | E58: =IF(ISNUMBER(AG22),((AG22-AF22)/$Y$5),"-") -> - | F58: =IF(ISNUMBER(AH22),((AH22-AG22)/$Y$5),"-") -> - | G58: =IF(ISNUMBER(AI22),((AI22-AH22)/$Y$5),"-") -> - | H58: =IF(ISNUMBER(AJ22),((AJ22-AI22)/$Y$5),"-") -> - | I58: =IF(ISNUMBER(AK22),((AK22-AJ22)/$Y$5),"-") -> - | K58: =IF(ISBLANK($H$2),SUMIF(GEDEL!$A:$A,'Fiche Agence'!$C$2,GEDEL!$G:$G),IF(ISBLANK($N$2),SUMIF(GEDEL!$B:$B,'Fiche Agence'!$H$2,GEDEL!$G:$G),SUMIF(GEDEL!$C:$C,'Fiche Agence'!$N$2,GEDEL!$G:$G))) -> 179160 | M58: =K58/(IF(ISBLANK($H$2),SUMIF(ETP_Challenge!$A:$A,'Fiche Agence'!$C$2,ETP_Challenge!$E:$E),IF(ISBLANK($N$2),SUMIF(ETP_Challenge!$B:$B,'Fiche Agence'!$H$2,ETP_Challenge!$E:$E),SUMIF(ETP_Challenge!$D:$D,'Fiche Agence'!$N$2,ETP_Challenge!$E:$E)))) -> 1756.3132 | O58: =(N54-K58)/Y3 -> 219781.2 | Q58: =O58/Y5 -> 2154.5246
C63: ATTENDU | G63: =IF(ISBLANK($H$2),SUMIF(OBJ_PARTS_SOC!$A:$A,'Fiche Agence'!$C$2,OBJ_PARTS_SOC!$I:$I),IF(ISBLANK($N$2),SUMIF(OBJ_PARTS_SOC!$B:$B,'Fiche Agence'!$H$2,OBJ_PARTS_SOC!$I:$I),SUMIF(OBJ_PARTS_SOC!$D:$D,'Fiche Agence'!$N$2,OBJ_PARTS_SOC!$I:$I))) -> 1000000 | K63: REAL DEPUIS LE 01/11 | N63: % SAIS. | O63: RESTE A FAIRE HEBDO
K64: ENTITE | M64: PAR ETP | N64: =K65/(G63*(7-Y3)) -> 0.0472 | O64: ENTITE | Q64: PAR ETP
C65: DU 1ER NOVEMBRE AU 31 DECEMBRE | K65: =IF(ISBLANK($H$2),SUMIF(PROD_AUTO5_PREV_PERI_PART_SOC!$A:$A,'Fiche Agence'!$C$2,PROD_AUTO5_PREV_PERI_PART_SOC!$H:$H),IF(ISBLANK($N$2),SUMIF(PROD_AUTO5_PREV_PERI_PART_SOC!$B:$B,'Fiche Agence'!$H$2,PROD_AUTO5_PREV_PERI_PART_SOC!$H:$H),SUMIF(PROD_AUTO5_PREV_PERI_PART_SOC!$D:$D,'Fiche Agence'!$N$2,PROD_AUTO5_PREV_PERI_PART_SOC!$H:$H))) -> 94400 | M65: =K65/(IF(ISBLANK($H$2),SUMIF(ETP_Challenge!$A:$A,'Fiche Agence'!$C$2,ETP_Challenge!$E:$E),IF(ISBLANK($N$2),SUMIF(ETP_Challenge!$B:$B,'Fiche Agence'!$H$2,ETP_Challenge!$E:$E),SUMIF(ETP_Challenge!$D:$D,'Fiche Agence'!$N$2,ETP_Challenge!$E:$E)))) -> 925.40728 | O65: =(G63-K65)/Y3 -> 181120 | Q65: =O65/Y5 -> 1775.5272

Sheet Meilleures_perf_2021_AGENCE
A1: REGIONS | B1: TERRITOIRES | C1: AGENCE | D1: EDS | E1: Meilleure perf IARD | F1: Meilleure perf Conso | G1: Meilleure perf Banca | H1: Meilleure perf Ass vie
A2: AUBE_HAUTE_MARNE | B2: CHAUMONT | C2: CHAUMONT HOTEL DE VILLE | D2: 410566 | E2: 5.3513514 | F2: 32881.081 | G2: 3.625 | H2: 106592.38
A3: AUBE_HAUTE_MARNE | B3: CHAUMONT | C3: CHAUMONT REPUBLIQUE | D3: 510590 | E3: 5.5569139 | F3: 47056.082 | G3: 3.0350419 | H3: 72188.617
A4: AUBE_HAUTE_MARNE | B4: CHAUMONT | C4: JOINVILLE | D4: 451154 | E4: 5.5 | F4: 49600 | G4: 3.85 | H4: 71615.51
A5: AUBE_HAUTE_MARNE | B5: CHAUMONT | C5: LANGRES | D5: 410541 | E5: 4.8270314 | F5: 32696.723 | G5: 2.9927957 | H5: 52996.179
A6: AUBE_HAUTE_MARNE | B6: CHAUMONT | C6: SAINT DIZIER CENTRE | D6: 451156 | E6: 3.8794304 | F6: 29546.788 | G6: 2.7883406 | H6: 90731.873
A7: AUBE_HAUTE_MARNE | B7: CHAUMONT | C7: WASSY | D7: 451151 | E7: 9.5 | F7: 59081.081 | G7: 4.5 | H7: 81870.78
A8: AUBE_HAUTE_MARNE | B8: TROYES | C8: ARCIS SUR AUBE | D8: 510530 | E8: 4.4874477 | F8: 44529.289 | G8: 2.5301205 | H8: 72130.761
A9: AUBE_HAUTE_MARNE | B9: TROYES | C9: BAR SUR AUBE | D9: 410550 | E9: 4.5 | F9: 49537.88 | G9: 3.1666667 | H9: 86700.138
A10: AUBE_HAUTE_MARNE | B10: TROYES | C10: BAR SUR SEINE | D10: 510556 | E10: 4.4314315 | F10: 46189.792 | G10: 2.0383359 | H10: 111074.2
A11: AUBE_HAUTE_MARNE | B11: TROYES | C11: LA CHAPELLE ST LUC | D11: 510523 | E11: 5.220802 | F11: 27883.721 | G11: 2.8916495 | H11: 52628.33
A12: AUBE_HAUTE_MARNE | B12: TROYES | C12: NOGENT SUR SEINE | D12: 510570 | E12: 3.1367629 | F12: 34333.733 | G12: 2.533492 | H12: 94210.425
A13: AUBE_HAUTE_MARNE | B13: TROYES | C13: ROMILLY SUR SEINE | D13: 410571 | E13: 2.608 | F13: 26132.653 | G13: 2.4698588 | H13: 60405.612
... A253: VOSGES | B253: SAINT_DIE | C253: VAGNEY | D253: 588666 | E253: 5.4352941 | F253: 44074.699 | G253: 1.5714286 | H253: 73142.417

Sheet Meilleures_perf_2021_TERRI_REGI
A1: REGIONS | B1: TERRITOIRES | C1: AGENCE | D1: EDS | E1: Meilleure perf IARD | F1: Meilleure perf Conso | G1: Meilleure perf Banca | H1: Meilleure perf Ass vie
A2: AUBE_HAUTE_MARNE | B2: CHAUMONT | C2: CHAUMONT HOTEL DE VILLE | D2: 410566 | E2: 5.3513514 | F2: 32881.081 | G2: 3.625 | H2: 106592.38
A3: AUBE_HAUTE_MARNE | B3: CHAUMONT | C3: CHAUMONT REPUBLIQUE | D3: 510590 | E3: 5.5569139 | F3: 47056.082 | G3: 3.0350419 | H3: 72188.617
A4: AUBE_HAUTE_MARNE | B4: CHAUMONT | C4: JOINVILLE | D4: 451154 | E4: 5.5 | F4: 49600 | G4: 3.85 | H4: 71615.51
A5: AUBE_HAUTE_MARNE | B5: CHAUMONT | C5: LANGRES | D5: 410541 | E5: 4.8270314 | F5: 32696.723 | G5: 2.9927957 | H5: 52996.179
A6: AUBE_HAUTE_MARNE | B6: CHAUMONT | C6: SAINT DIZIER CENTRE | D6: 451156 | E6: 3.8794304 | F6: 29546.788 | G6: 2.7883406 | H6: 90731.873
A7: AUBE_HAUTE_MARNE | B7: CHAUMONT | C7: WASSY | D7: 451151 | E7: 9.5 | F7: 59081.081 | G7: 4.5 | H7: 81870.78
A8: AUBE_HAUTE_MARNE | B8: TROYES | C8: ARCIS SUR AUBE | D8: 510530 | E8: 4.4874477 | F8: 44529.289 | G8: 2.5301205 | H8: 72130.761
A9: AUBE_HAUTE_MARNE | B9: TROYES | C9: BAR SUR AUBE | D9: 410550 | E9: 4.5 | F9: 49537.88 | G9: 3.1666667 | H9: 86700.138
A10: AUBE_HAUTE_MARNE | B10: TROYES | C10: BAR SUR SEINE | D10: 510556 | E10: 4.4314315 | F10: 46189.792 | G10: 2.0383359 | H10: 111074.2
A11: AUBE_HAUTE_MARNE | B11: TROYES | C11: LA CHAPELLE ST LUC | D11: 510523 | E11: 5.220802 | F11: 27883.721 | G11: 2.8916495 | H11: 52628.33
A12: AUBE_HAUTE_MARNE | B12: TROYES | C12: NOGENT SUR SEINE | D12: 510570 | E12: 3.1367629 | F12: 34333.733 | G12: 2.533492 | H12: 94210.425
A13: AUBE_HAUTE_MARNE | B13: TROYES | C13: ROMILLY SUR SEINE | D13: 410571 | E13: 2.608 | F13: 26132.653 | G13: 2.4698588 | H13: 60405.612
... A253: VOSGES | B253: SAINT_DIE | C253: VAGNEY | D253: 588666 | E253: 5.4352941 | F253: 44074.699 | G253: 1.5714286 | H253: 73142.417

Sheet GEDEL
A1: Direction Régionale | B1: Direction Territoriale | C1: Agence | D1: PDV | E1: EDS PDV | F1: OBJECTIF GEDEL | G1: REALISATION EN MONTANT | H1: RECH V REALISATION EN MONTANT | J1: RECHERCHEV(E2;'[11 08 _ Suivi des contingents GEDEL et Ambition Durable 4.xlsx]SUIVI AMBIT_DURBL GEDEL PDV'!$F:$J;5;FAUX)
A2: AUBE_HAUTE_MARNE | B2: CHAUMONT | C2: LANGRES | D2: BOURBONNE LES BAINS | E2: 10560 | F2: 24465 | G2: =H2 -> 8000 | H2: 8000
A3: HAUT_RHIN | B3: MULHOUSE | C3: THANN | D3: CERNAY | E3: 195 | F3: 30581 | G3: =H3 -> 0 | H3: 0
A4: HAUT_RHIN | B4: COLMAR | C4: COLMAR REPUBLIQUE | D4: COLMAR REPUBLIQUE | E4: 130 | F4: 106859 | G4: =H4 -> 15000 | H4: 15000
A5: MOSELLE | B5: MOSELLE_EST | C5: FAULQUEMONT | D5: MORHANGE | E5: 57458 | F5: 37322 | G5: =H5 -> 0 | H5: 0
A6: VOSGES | B6: SAINT_DIE | C6: SAINT DIE | D6: SAINT DIE CATHEDRALE | E6: 88587 | F6: 48930 | G6: =H6 -> 0 | H6: 0
A7: HAUT_RHIN | B7: COLMAR | C7: RIBEAUVILLE | D7: SAINTE MARIE AUX MINES | E7: 164 | F7: 24465 | G7: =H7 -> 0 | H7: 0
A8: MARNE_ARDENNES | B8: CHALONS_EN_CHAMPAGNE | C8: SAINTE MENEHOULD | D8: SAINTE MENEHOULD | E8: 51128 | F8: 48930 | G8: =H8 -> 1500 | H8: 1500
A9: AUBE_HAUTE_MARNE | B9: TROYES | C9: SAINTE SAVINE | D9: SAINTE SAVINE | E9: 10521 | F9: 61162 | G9: =H9 -> 8000 | H9: 8000
A10: BAS_RHIN | B10: HAGUENAU | C10: SARRE UNION | D10: SARRE UNION | E10: 95 | F10: 61914 | G10: =H10 -> 0 | H10: 0
A11: MOSELLE | B11: MOSELLE_EST | C11: SARREBOURG | D11: SARREBOURG | E11: 57614 | F11: 115699 | G11: =H11 -> 4500 | H11: 4500
A12: MOSELLE | B12: MOSELLE_EST | C12: SARREGUEMINES | D12: SARREGUEMINES | E12: 57618 | F12: 105747 | G12: =H12 -> 0 | H12: 0
A13: MARNE_ARDENNES | B13: CHALONS_EN_CHAMPAGNE | C13: SARRY | D13: SARRY | E13: 51120 | F13: 30595 | G13: =H13 -> 0 | H13: 0
... A183: MOSELLE | B183: MOSELLE_EST | C183: NEUNKIRCH | D183: NEUNKIRCH | E183: 57503 | F183: 49763 | G183: =H183 -> 0 | H183: 0
A184: BAS_RHIN | B184: HAGUENAU | C184: NIEDERBRONN LES BAINS | D184: NIEDERBRONN LES BAINS | E184: 66 | F184: =35370+21811+20521 -> 77702 | G184: =H184 -> 20000 | H184: 20000
A185: MOSELLE | B185: MOSELLE_NORD | C185: NILVANGE | D185: NILVANGE | E185: 57508 | F185: 34610 | G185: =H185 -> 0 | H185: 0
A186: AUBE_HAUTE_MARNE | B186: CHAUMONT | C186: CHAUMONT REPUBLIQUE | D186: NOGENT | E186: 10582 | F186: 12232 | G186: =H186 -> 0 | H186: 0
A187: AUBE_HAUTE_MARNE | B187: TROYES | C187: NOGENT SUR SEINE | D187: NOGENT SUR SEINE | E187: 10570 | F187: 58496 | G187: =H187 -> 0 | H187: 0
A188: VOSGES | B188: EPINAL | C188: THAON LES VOSGES | D188: NOMEXY | E188: 88511 | F188: 24465 | G188: =H188 -> 0 | H188: 0
A189: BAS_RHIN | B189: STRASBOURG | C189: OBERHAUSBERGEN | D189: OBERHAUSBERGEN | E189: 38 | F189: 36697 | G189: =H189 -> 0 | H189: 0
A190: BAS_RHIN | B190: SELESTAT | C190: OBERNAI | D190: OBERNAI | E190: 119 | F190: 58345 | G190: =H190 -> 0 | H190: 0
A191: HAUT_RHIN | B191: COLMAR | C191: ORBEY | D191: ORBEY | E191: 148 | F191: 36697 | G191: =H191 -> 0 | H191: 0
A192: MEURTHE_ET_MOSELLE_MEUSE | B192: PONT_A_MOUSSON | C192: PAGNY SUR MOSELLE | D192: PAGNY SUR MOSELLE | E192: 54516 | F192: 36697 | G192: =H192 -> 0 | H192: 0
A193: BAS_RHIN | B193: HAGUENAU | C193: PFAFFENHOFFEN | D193: PFAFFENHOFFEN | E193: 67 | F193: 36697 | G193: =H193 -> 8000 | H193: 8000
A194: HAUT_RHIN | B194: MULHOUSE | C194: PFASTATT | D194: PFASTATT | E194: 188 | F194: 46194 | G194: =H194 -> 10000 | H194: 10000
A195: MOSELLE | B195: MOSELLE_EST | C195: PHALSBOURG | D195: PHALSBOURG | E195: 57523 | F195: 28390 | G195: =H195 -> 0 | H195: 0
A196: MARNE_ARDENNES | B196: REIMS | C196: PIERRY LECLERC | D196: PIERRY LECLERC | E196: 51361 | F196: 24465 | G196: =H196 -> 0 | H196: 0
... A206: MARNE_ARDENNES | B206: REIMS | C206: REIMS EUROPE | D206: REIMS EUROPE | E206: 51309 | F206: 36697 | G206: =H206 -> 0 | H206: 0
A207: MARNE_ARDENNES | B207: REIMS | C207: REIMS HIPPODROME | D207: REIMS HIPPODROME | E207: 51305 | F207: =59638+42156 -> 101794 | G207: =H207 -> 0 | H207: 0
A208: MARNE_ARDENNES | B208: REIMS | C208: REIMS HOTEL DE VILLE | D208: REIMS HOTEL DE VILLE | E208: 51301 | F208: 99124 | G208: =H208 -> 0 | H208: 0
A209: MARNE_ARDENNES | B209: REIMS | C209: REIMS JEAN JAURES | D209: REIMS JEAN JAURES | E209: 51341 | F209: 61162 | G209: =H209 -> 15000 | H209: 15000
A210: MARNE_ARDENNES | B210: REIMS | C210: REIMS SAINT MARCEAUX | D210: REIMS SAINT MARCEAUX | E210: 51306 | F210: 48930 | G210: =H210 -> 0 | H210: 0
A211: MARNE_ARDENNES | B211: REIMS | C211: REIMS SAINT REMI | D211: REIMS SAINT REMI | E211: 51349 | F211: 36697 | G211: =H211 -> 0 | H211: 0
A212: MARNE_ARDENNES | B212: REIMS | C212: REIMS SAINT THOMAS | D212: REIMS SAINT THOMAS | E212: 51308 | F212: 110092 | G212: =H212 -> 0 | H212: 0
A213: MOSELLE | B213: METZ | C213: REMILLY | D213: REMILLY | E213: 57559 | F213: 49763 | G213: =H213 -> 0 | H213: 0
A214: VOSGES | B214: EPINAL | C214: REMIREMONT | D214: REMIREMONT | E214: 88561 | F214: 95193 | G214: =H214 -> 2000 | H214: 2000
A215: MARNE_ARDENNES | B215: CHARLEVILLE_MEZIERES | C215: RETHEL | D215: RETHEL | E215: 8840 | F215: 73395 | G215: =H215 -> 0 | H215: 0
A216: MEURTHE_ET_MOSELLE_MEUSE | B216: VERDUN | C216: REVIGNY SUR ORNAIN | D216: REVIGNY SUR ORNAIN | E216: 55566 | F216: 48930 | G216: =H216 -> 23000 | H216: 23000
A217: MARNE_ARDENNES | B217: CHARLEVILLE_MEZIERES | C217: REVIN | D217: REVIN | E217: 8862 | F217: 48930 | G217: =H217 -> 0 | H217: 0
A218: HAUT_RHIN | B218: COLMAR | C218: RIBEAUVILLE | D218: RIBEAUVILLE | E218: 144 | F218: 36697 | G218: =H218 -> 130000 | H218: 130000
A219: HAUT_RHIN | B219: MULHOUSE | C219: RIEDISHEIM | D219: RIEDISHEIM | E219: 180 | F219: 46273 | G219: =H219 -> 64000 | H219: 64000
... A299: MOSELLE | B299: MOSELLE_NORD | C299: YUTZ | D299: YUTZ | E299: 57158 | F299: 56782 | G299: =H299 -> 0 | H299: 0

Sheet TAUX_DD_HDG
A1: REGION | B1: TERRITOIRE | C1: AGENCE | D1: NUMR_AGENCE | E1: NB_CARTES | F1: NB_HDG | G1: NB_DD | H1: CALCUL_HDG | I1: CALCUL_DD
A2: BAS_RHIN | B2: STRASBOURG | C2: STRASBOURG FRANCS BOURGEOIS | D2: 4045 | E2: 37 | F2: 13 | G2: 15 | H2: =F2/E2 -> 0.35135135 | I2: =G2/E2 -> 0.40540541
A3: MEURTHE_ET_MOSELLE_MEUSE | B3: PONT_A_MOUSSON | C3: PAGNY SUR MOSELLE | D3: 554516 | E3: 23 | F3: 6 | G3: 2 | H3: =F3/E3 -> 0.26086957 | I3: =G3/E3 -> 0.086956522
A4: BAS_RHIN | B4: STRASBOURG | C4: SCHILTIGHEIM CENTRE | D4: 4027 | E4: 64 | F4: 31 | G4: 31 | H4: =F4/E4 -> 0.484375 | I4: =G4/E4 -> 0.484375
A5: MEURTHE_ET_MOSELLE_MEUSE | B5: PONT_A_MOUSSON | C5: NANCY PLATEAU DE HAYE | D5: 454466 | E5: 21 | F5: 7 | G5: 5 | H5: =F5/E5 -> 0.33333333 | I5: =G5/E5 -> 0.23809524
A6: MARNE_ARDENNES | B6: REIMS | C6: REIMS SAINT MARCEAUX | D6: 551306 | E6: 26 | F6: 8 | G6: 5 | H6: =F6/E6 -> 0.30769231 | I6: =G6/E6 -> 0.19230769
A7: MOSELLE | B7: MOSELLE_EST | C7: CREUTZWALD | D7: 557250 | E7: 22 | F7: 9 | G7: 3 | H7: =F7/E7 -> 0.40909091 | I7: =G7/E7 -> 0.13636364
A8: BAS_RHIN | B8: STRASBOURG | C8: STRASBOURG ROBERTSAU | D8: 4020 | E8: 66 | F8: 31 | G8: 31 | H8: =F8/E8 -> 0.46969697 | I8: =G8/E8 -> 0.46969697
A9: AUBE_HAUTE_MARNE | B9: CHAUMONT | C9: SAINT DIZIER CENTRE | D9: 451156 | E9: 98 | F9: 29 | G9: 23 | H9: =F9/E9 -> 0.29591837 | I9: =G9/E9 -> 0.23469388
A10: MEURTHE_ET_MOSELLE_MEUSE | B10: NANCY | C10: LUNEVILLE CARNOT | D10: 454426 | E10: 84 | F10: 34 | G10: 18 | H10: =F10/E10 -> 0.4047619 | I10: =G10/E10 -> 0.21428571
A11: VOSGES | B11: SAINT_DIE | C11: RAON L ETAPE | D11: 488556 | E11: 21 | F11: 6 | G11: 5 | H11: =F11/E11 -> 0.28571429 | I11: =G11/E11 -> 0.23809524
A12: VOSGES | B12: SAINT_DIE | C12: FRAIZE | D12: 588316 | E12: 29 | F12: 7 | G12: 5 | H12: =F12/E12 -> 0.24137931 | I12: =G12/E12 -> 0.17241379
A13: MARNE_ARDENNES | B13: REIMS | C13: REIMS SAINT REMI | D13: 551349 | E13: 30 | F13: 16 | G13: 10 | H13: =F13/E13 -> 0.53333333 | I13: =G13/E13 -> 0.33333333
... A256: MARNE_ARDENNES | B256: REIMS | C256: DORMANS | D256: 551365 | E256: 15 | F256: 8 | G256: 1 | H256: =F256/E256 -> 0.53333333 | I256: =G256/E256 -> 0.066666667

Sheet PROD_AUTO5_PREV_PERI_PART_SOC
A1: REGION | B1: TERRITOIRE | C1: NUMR_AGENCE | D1: AGENCE | E1: AUTO 5 | F1: PREVOYANCE | G1: PERI | H1: MONTANTS PARTS SOCIALES
A2: 0 | B2: 0 | C2: 0 | D2: 0 | E2: / | F2: 2 | G2: 1 | H2: /
A3: 0 | B3: 0 | C3: 405360 | D3: BANQUE DU DIRIGEANT | E3: 0 | F3: / | G3: / | H3: /
A4: AUBE_HAUTE_MARNE | B4: CHAUMONT | C4: 410541 | D4: LANGRES | E4: 29 | F4: 72 | G4: 3 | H4: 17440
A5: AUBE_HAUTE_MARNE | B5: CHAUMONT | C5: 410566 | D5: CHAUMONT HOTEL DE VILLE | E5: 23 | F5: 59 | G5: 3 | H5: 780
A6: AUBE_HAUTE_MARNE | B6: CHAUMONT | C6: 451151 | D6: WASSY | E6: 7 | F6: 9 | G6: 0 | H6: 400
A7: AUBE_HAUTE_MARNE | B7: CHAUMONT | C7: 451154 | D7: JOINVILLE | E7: 6 | F7: 6 | G7: / | H7: 340
A8: AUBE_HAUTE_MARNE | B8: CHAUMONT | C8: 451156 | D8: SAINT DIZIER CENTRE | E8: 21 | F8: 34 | G8: 6 | H8: 5440
A9: AUBE_HAUTE_MARNE | B9: CHAUMONT | C9: 510590 | D9: CHAUMONT REPUBLIQUE | E9: 11 | F9: 44 | G9: 4 | H9: 3760
A10: AUBE_HAUTE_MARNE | B10: TROYES | C10: 410510 | D10: TROYES GAMBETTA | E10: 9 | F10: 24 | G10: 3 | H10: 2540
A11: AUBE_HAUTE_MARNE | B11: TROYES | C11: 410512 | D11: TROYES ZOLA | E11: 2 | F11: 15 | G11: 0 | H11: 880
A12: AUBE_HAUTE_MARNE | B12: TROYES | C12: 410521 | D12: SAINTE SAVINE | E12: 6 | F12: 13 | G12: 1 | H12: 5960
A13: AUBE_HAUTE_MARNE | B13: TROYES | C13: 410524 | D13: SAINT JULIEN LES VILLAS | E13: 4 | F13: 18 | G13: 2 | H13: 8040
A14: AUBE_HAUTE_MARNE | B14: TROYES | C14: 410550 | D14: BAR SUR AUBE | E14: 8 | F14: 33 | G14: 1 | H14: 1040
A15: AUBE_HAUTE_MARNE | B15: TROYES | C15: 410571 | D15: ROMILLY SUR SEINE | E15: 12 | F15: 24 | G15: / | H15: 2720
A16: AUBE_HAUTE_MARNE | B16: TROYES | C16: 510513 | D16: TROYES 1ER MAI | E16: 6 | F16: 40 | G16: / | H16: 1740
A17: AUBE_HAUTE_MARNE | B17: TROYES | C17: 510520 | D17: SAINT ANDRE LES VERGERS | E17: 3 | F17: 17 | G17: 1 | H17: 600
A18: AUBE_HAUTE_MARNE | B18: TROYES | C18: 510522 | D18: TROYES CHARTREUX | E18: 1 | F18: 11 | G18: / | H18: 11180
A19: AUBE_HAUTE_MARNE | B19: TROYES | C19: 510523 | D19: LA CHAPELLE ST LUC | E19: 6 | F19: 58 | G19: 1 | H19: 560
A20: AUBE_HAUTE_MARNE | B20: TROYES | C20: 510530 | D20: ARCIS SUR AUBE | E20: 8 | F20: 29 | G20: / | H20: 18420
A21: AUBE_HAUTE_MARNE | B21: TROYES | C21: 510556 | D21: BAR SUR SEINE | E21: 6 | F21: 21 | G21: 0 | H21: 10520
A22: AUBE_HAUTE_MARNE | B22: TROYES | C22: 510570 | D22: NOGENT SUR SEINE | E22: 5 | F22: 10 | G22: / | H22: 2040
A23: BANQUE_DIGITALE | B23: EXPERTS_DIRECT | C23: 405800 | D23: EXPERTS DIRECT | E23: 47 | F23: 50 | G23: / | H23: 3260
A24: BANQUE_DIGITALE | B24: EXPERTS_ONLINE | C24: 4022 | D24: EXPERTS ONLINE | E24: 0 | F24: 0 | G24: / | H24: 280
A25: BANQUE_DIGITALE | B25: MON_AGENCE | C25: 4017 | D25: MON AGENCE | E25: 59 | F25: 9 | G25: 3 | H25: 32320
A26: BAS_RHIN | B26: HAGUENAU | C26: 4030 | D26: BRUMATH | E26: 4 | F26: 21 | G26: 6 | H26: 1020
A27: BAS_RHIN | B27: HAGUENAU | C27: 4031 | D27: TRUCHTERSHEIM | E27: 8 | F27: 5 | G27: 1 | H27: 1500
A28: BAS_RHIN | B28: HAGUENAU | C28: 4041 | D28: HOERDT | E28: 1 | F28: 3 | G28: / | H28: 4500
A29: BAS_RHIN | B29: HAGUENAU | C29: 4057 | D29: BISCHWILLER | E29: 15 | F29: 33 | G29: 1 | H29: 31120
A30: BAS_RHIN | B30: HAGUENAU | C30: 4060 | D30: HAGUENAU HOUBLON | E30: 6 | F30: 12 | G30: 1 | H30: 24300
A31: BAS_RHIN | B31: HAGUENAU | C31: 4066 | D31: NIEDERBRONN LES BAINS | E31: 15 | F31: 15 | G31: 2 | H31: 23840
A32: BAS_RHIN | B32: HAGUENAU | C32: 4067 | D32: PFAFFENHOFFEN | E32: 9 | F32: 1 | G32: / | H32: 560
A33: BAS_RHIN | B33: HAGUENAU | C33: 4071 | D33: WISSEMBOURG | E33: 25 | F33: 11 | G33: 2 | H33: 8660
A34: BAS_RHIN | B34: HAGUENAU | C34: 4079 | D34: SOULTZ SOUS FORETS | E34: 2 | F34: 7 | G34: 1 | H34: 480
A35: BAS_RHIN | B35: HAGUENAU | C35: 4082 | D35: BOUXWILLER | E35: 8 | F35: 8 | G35: 0 | H35: 960
A36: BAS_RHIN | B36: HAGUENAU | C36: 4085 | D36: INGWILLER | E36: 11 | F36: 14 | G36: / | H36: 7320
A37: BAS_RHIN | B37: HAGUENAU | C37: 4087 | D37: SAVERNE | E37: 10 | F37: 7 | G37: 4 | H37: 4080
A38: BAS_RHIN | B38: HAGUENAU | C38: 4092 | D38: HOCHFELDEN | E38: 10 | F38: 10 | G38: 2 | H38: 1600
A39: BAS_RHIN | B39: HAGUENAU | C39: 4095 | D39: SARRE UNION | E39: 7 | F39: 9 | G39: 0 | H39: 3100
A40: BAS_RHIN | B40: SELESTAT | C40: 4007 | D40: ILLKIRCH CENTRE | E40: 21 | F40: 34 | G40: 2 | H40: 35100
A41: BAS_RHIN | B41: SELESTAT | C41: 4008 | D41: FEGERSHEIM | E41: 0 | F41: 2 | G41: / | H41: 260
A42: BAS_RHIN | B42: SELESTAT | C42: 4015 | D42: LINGOLSHEIM | E42: 1 | F42: 6 | G42: 1 | H42: 1780
A43: BAS_RHIN | B43: SELESTAT | C43: 4101 | D43: SELESTAT CENTRE | E43: 40 | F43: 56 | G43: 4 | H43: 10580
A44: BAS_RHIN | B44: SELESTAT | C44: 4104 | D44: ERSTEIN | E44: 6 | F44: 11 | G44: / | H44: -3260
A45: BAS_RHIN | B45: SELESTAT | C45: 4107 | D45: VILLE | E45: 3 | F45: 14 | G45: / | H45: 16140
A46: BAS_RHIN | B46: SELESTAT | C46: 4109 | D46: MARCKOLSHEIM | E46: 6 | F46: 18 | G46: / | H46: 1020
A47: BAS_RHIN | B47: SELESTAT | C47: 4111 | D47: BENFELD | E47: 10 | F47: 15 | G47: 0 | H47: 11060
A48: BAS_RHIN | B48: SELESTAT | C48: 4113 | D48: BARR | E48: 6 | F48: 7 | G48: 0 | H48: 7940
A49: BAS_RHIN | B49: SELESTAT | C49: 4116 | D49: MOLSHEIM | E49: 9 | F49: 9 | G49: 0 | H49: 14920
A50: BAS_RHIN | B50: SELESTAT | C50: 4119 | D50: OBERNAI | E50: 4 | F50: 13 | G50: 1 | H50: 74800
A51: BAS_RHIN | B51: SELESTAT | C51: 4120 | D51: WASSELONNE | E51: 7 | F51: 16 | G51: 3 | H51: 16740
A52: BAS_RHIN | B52: SELESTAT | C52: 4121 | D52: SCHIRMECK | E52: 11 | F52: 6 | G52: 1 | H52: 15620
A53: BAS_RHIN | B53: SELESTAT | C53: 4126 | D53: MUTZIG | E53: 8 | F53: 3 | G53: / | H53: 200
A54: BAS_RHIN | B54: SELESTAT | C54: 4127 | D54: ROSHEIM | E54: 6 | F54: 9 | G54: 0 | H54: 280
A55: BAS_RHIN | B55: STRASBOURG | C55: 4006 | D55: STRASBOURG NEUDORF | E55: 6 | F55: 33 | G55: / | H55: 1640
A56: BAS_RHIN | B56: STRASBOURG | C56: 4010 | D56: STRASBOURG MEINAU | E56: 2 | F56: 21 | G56: / | H56: 480
A57: BAS_RHIN | B57: STRASBOURG | C57: 4019 | D57: STRASBOURG ANVERS | E57: 7 | F57: 32 | G57: 3 | H57: 540
A58: BAS_RHIN | B58: STRASBOURG | C58: 4020 | D58: STRASBOURG ROBERTSAU | E58: 12 | F58: 13 | G58: 5 | H58: 4020
A59: BAS_RHIN | B59: STRASBOURG | C59: 4023 | D59: STRASBOURG VOSGES | E59: 1 | F59: 9 | G59: / | H59: 14220
A60: BAS_RHIN | B60: STRASBOURG | C60: 4024 | D60: STRASBOURG AUSTERLITZ | E60: 3 | F60: 34 | G60: 0 | H60: 1100
A61: BAS_RHIN | B61: STRASBOURG | C61: 4026 | D61: STRASBOURG DANUBE | E61: 9 | F61: 23 | G61: 2 | H61: 1520
A62: BAS_RHIN | B62: STRASBOURG | C62: 4027 | D62: SCHILTIGHEIM CENTRE | E62: 2 | F62: 13 | G62: 5 | H62: 60
A63: BAS_RHIN | B63: STRASBOURG | C63: 4028 | D63: BISCHHEIM | E63: 3 | F63: 22 | G63: 3 | H63: 160
A64: BAS_RHIN | B64: STRASBOURG | C64: 4029 | D64: SCHILTIGHEIM KLEBER | E64: 6 | F64: 5 | G64: 0 | H64: 640
A65: BAS_RHIN | B65: STRASBOURG | C65: 4037 | D65: MUNDOLSHEIM | E65: 6 | F65: 36 | G65: 0 | H65: 40760
A66: BAS_RHIN | B66: STRASBOURG | C66: 4038 | D66: OBERHAUSBERGEN | E66: 16 | F66: 23 | G66: 0 | H66: 11680
A67: BAS_RHIN | B67: STRASBOURG | C67: 4039 | D67: REICHSTETT | E67: 3 | F67: 20 | G67: / | H67: 0
A68: BAS_RHIN | B68: STRASBOURG | C68: 4043 | D68: STRASBOURG HALLES | E68: 13 | F68: 42 | G68: 4 | H68: 840
A69: BAS_RHIN | B69: STRASBOURG | C69: 4045 | D69: STRASBOURG FRANCS BOURGEOIS | E69: 3 | F69: 8 | G69: 2 | H69: 1360
A70: BAS_RHIN | B70: STRASBOURG | C70: 4047 | D70: STRASBOURG CRONENBOURG | E70: 12 | F70: 16 | G70: 1 | H70: 2400
A71: BAS_RHIN | B71: STRASBOURG | C71: 4048 | D71: STRASBOURG KOENIGSHOFFEN | E71: 7 | F71: 26 | G71: 1 | H71: 160
A72: BAS_RHIN | B72: STRASBOURG | C72: 4054 | D72: STRASBOURG MONTAGNE VERTE | E72: 7 | F72: 9 | G72: 1 | H72: 520
A73: HAUT_RHIN | B73: COLMAR | C73: 4130 | D73: COLMAR REPUBLIQUE | E73: 25 | F73: 32 | G73: 9 | H73: 1800
A74: HAUT_RHIN | B74: COLMAR | C74: 4132 | D74: COLMAR MARAICHERS | E74: 4 | F74: 11 | G74: 2 | H74: 8420
A75: HAUT_RHIN | B75: COLMAR | C75: 4135 | D75: COLMAR SAINTE MARIE | E75: 10 | F75: 54 | G75: 0 | H75: 12500
A76: HAUT_RHIN | B76: COLMAR | C76: 4139 | D76: INGERSHEIM | E76: 4 | F76: 15 | G76: 3 | H76: 100820
A77: HAUT_RHIN | B77: COLMAR | C77: 4141 | D77: HORBOURG WIHR | E77: 8 | F77: 9 | G77: 8 | H77: 29460
A78: HAUT_RHIN | B78: COLMAR | C78: 4143 | D78: MUNSTER | E78: 11 | F78: 10 | G78: 2 | H78: 2440
A79: HAUT_RHIN | B79: COLMAR | C79: 4144 | D79: RIBEAUVILLE | E79: 10 | F79: 19 | G79: 1 | H79: 28840
... A83: HAUT_RHIN | B83: COLMAR | C83: 4157 | D83: NEUF BRISACH | E83: 12 | F83: 21 | G83: 2 | H83: 420
A84: HAUT_RHIN | B84: COLMAR | C84: 4162 | D84: ENSISHEIM | E84: 2 | F84: 32 | G84: / | H84: 1300
A85: HAUT_RHIN | B85: MULHOUSE | C85: 4170 | D85: MULHOUSE REUNION | E85: 12 | F85: 32 | G85: 2 | H85: 42880
A86: HAUT_RHIN | B86: MULHOUSE | C86: 4174 | D86: MULHOUSE DORNACH | E86: 7 | F86: 19 | G86: 2 | H86: 1300
A87: HAUT_RHIN | B87: MULHOUSE | C87: 4178 | D87: SAINT LOUIS | E87: 11 | F87: 23 | G87: 11 | H87: 31720
A88: HAUT_RHIN | B88: MULHOUSE | C88: 4180 | D88: RIEDISHEIM | E88: 6 | F88: 9 | G88: 1 | H88: 1360
A89: HAUT_RHIN | B89: MULHOUSE | C89: 4181 | D89: WITTELSHEIM | E89: 10 | F89: 9 | G89: / | H89: 17580
A90: HAUT_RHIN | B90: MULHOUSE | C90: 4183 | D90: WITTENHEIM | E90: 4 | F90: 8 | G90: 3 | H90: 8740
A91: HAUT_RHIN | B91: MULHOUSE | C91: 4185 | D91: RIXHEIM | E91: 2 | F91: 5 | G91: 3 | H91: 200
A92: HAUT_RHIN | B92: MULHOUSE | C92: 4188 | D92: PFASTATT | E92: 6 | F92: 26 | G92: / | H92: 1100
A93: HAUT_RHIN | B93: MULHOUSE | C93: 4189 | D93: ALTKIRCH | E93: 12 | F93: 21 | G93: 3 | H93: 2440
A94: HAUT_RHIN | B94: MULHOUSE | C94: 4194 | D94: THANN | E94: 28 | F94: 1 | G94: 6 | H94: 4320
A95: MARNE_ARDENNES | B95: CHALONS_EN_CHAMPAGNE | C95: 451101 | D95: CHALONS VIVIERS | E95: 18 | F95: 34 | G95: 2 | H95: 21600
A96: MARNE_ARDENNES | B96: CHALONS_EN_CHAMPAGNE | C96: 451115 | D96: MOURMELON LE GRAND | E96: 15 | F96: 4 | G96: 1 | H96: 440
A97: MARNE_ARDENNES | B97: CHALONS_EN_CHAMPAGNE | C97: 451120 | D97: SARRY | E97: 5 | F97: 8 | G97: 2 | H97: 80
A98: MARNE_ARDENNES | B98: CHALONS_EN_CHAMPAGNE | C98: 451166 | D98: VITRY LE FRANCOIS | E98: 9 | F98: 13 | G98: 2 | H98: 1180
A99: MARNE_ARDENNES | B99: CHALONS_EN_CHAMPAGNE | C99: 451381 | D99: SEZANNE | E99: 12 | F99: 10 | G99: 1 | H99: 4040
A100: MARNE_ARDENNES | B100: CHALONS_EN_CHAMPAGNE | C100: 551103 | D100: FAGNIERES LECLERC | E100: 14 | F100: 30 | G100: / | H100: 960
A101: MARNE_ARDENNES | B101: CHALONS_EN_CHAMPAGNE | C101: 551110 | D101: CHALONS ROOSEVELT | E101: 11 | F101: 8 | G101: 2 | H101: 14720
A102: MARNE_ARDENNES | B102: CHALONS_EN_CHAMPAGNE | C102: 551128 | D102: SAINTE MENEHOULD | E102: 4 | F102: 24 | G102: 0 | H102: 360
A103: MARNE_ARDENNES | B103: CHALONS_EN_CHAMPAGNE | C103: 551330 | D103: MONTMIRAIL | E103: 5 | F103: 17 | G103: / | H103: 5760
...

Sheet Coller ici dernier suivi PV
A2: REGIONS | B2: TERRITOIRES | C2: AGENCES | D2: ETP Perf moyen annuel | F2: Taux PV sais. (max 9%) | G2: Taux PV annuel (max 9%) | I2: Nb items > 100% de l'objectif sais. | J2: Nb items > 100% de l'objectif annuel | L2: Satisfaction - TS- I Facilité à Joindre | Q2: Ventes brutes Forfaits hors Transformations depuis le 01/01 | AA2: VB Epargne | AK2: CA Assurance Vie (en K€) | AU2: Engagements nets Crédit Conso depuis le 01/01 (en K€) | BE2: IARD & Prévoyance | BO2: Evolution nette Top CC | BY2: RPM
L3: Données arrêtées au 30/09/21 - Tx PV max : 2% | Q3: Au 15/11/21 - Saisonnalité attendue : 95,2% - Tx PV max : 1% | AA3: Au 15/11/21 - Saisonnalité attendue : 95,2% - Tx PV max : 1% | AK3: Au 13/11/21 - Saisonnalité attendue : 95,2% - Tx PV max : 1% | AU3: Au 13/11/21 - Saisonnalité attendue : 95,2% - Tx PV max : 1,5% | BE3: Au 14/11/21 - Saisonnalité attendue : 95,2% - Tx PV max : 1,5% | BO3: Au 14/11/21 - Saisonnalité attendue : 95,2% - Tx PV max : 0,75% | BY3: Données arrêtées à fin 09/2021 - Tx PV max : 0,25%
L4: Tendance 20 dern. rép. au 15/11 | M4: TS-I moyenne mens. | N4: Obj. | O4: Taux PV | Q4: VB Forf | R4: Réal. / ETP | S4: Obj / ETP | T4: % Réal. | U4: Ecart / 120% de l'attendu | V4: Taux PV sais. | W4: Taux PV | X4: RàF pour 100% | Y4: RàF pour 120% | AA4: VB Epargne Pondérées | AB4: Réal. / ETP | AC4: Obj / ETP | AD4: % Réal. | AE4: Ecart / 120% de l'attendu | AF4: Taux PV sais. | AG4: Taux PV | AH4: RàF pour 100% | AI4: RàF pour 120% | AK4: Chiffre d'Affaires | AL4: Réal. / ETP | AM4: Obj / ETP | AN4: % Réal. | AO4: Ecart / 120% de l'attendu | AP4: Taux PV sais. | AQ4: Taux PV | AR4: RàF pour 100% | AS4: RàF pour 120% | AU4: Engag. nets Conso | AV4: Réal. / ETP | AW4: Obj / ETP | AX4: % Réal. | AY4: Ecart / 120% de l'attendu | AZ4: Taux PV sais. | BA4: Taux PV | BB4: RàF pour 100% | BC4: RàF pour 120% | BE4: VB Iard Prev Pondérées | BF4: Réal. / ETP | BG4: Obj / ETP | BH4: % Réal. | BI4: Ecart / 120% de l'attendu | BJ4: Taux PV sais. | BK4: Taux PV | BL4: RàF pour 100% | BM4: RàF pour 120% | BO4: Evol. CC Verts | BP4: Réal. / ETP | BQ4: Obj / ETP | BR4: % Réal. | BS4: Ecart / 120% de l'attendu | BT4: Taux PV sais. | BU4: Taux PV | BV4: RàF pour 100% | BW4: RàF pour 120% | BY4: Taux trait. RPM | BZ4: Taux trait. Risques Maj. | CA4: Taux pondéré | CB4: Obj | CC4: Taux PV
D5: Au 09/21 | F5: info | G5: info | I5: info | J5: info | CD5: OBJ ASS VIE
A6: AUBE_HAUTE_MARNE | B6: CHAUMONT | C6: CHAUMONT HOTEL DE VILLE | D6: 7.8178203 | F6: 0.05025 | G6: 0.04575 | I6: 6 | J6: 6 | L6: 0.71 | M6: 0.561 | N6: 0.7 | Q6: 394 | R6: 50.397679 | S6: 36 | T6: 1.3999355 | U6: 72.481196 | V6: 0.01 | W6: 0.01 | X6: 0 | Y6: 0 | AA6: 960 | AB6: 122.79638 | AC6: 200 | AD6: 0.61398188 | AE6: -826.21558 | AH6: 604 | AI6: 917 | AK6: 7669.2314 | AL6: 980.99357 | AM6: 686.1 | AN6: 1.4298114 | AO6: 1541.6189 | AP6: 0.01 | AQ6: 0.01 | AR6: 0 | AS6: 0 | AU6: 5803.4584 | AV6: 742.33714 | AW6: 573 | AX6: 1.2955273 | AY6: 685.95072 | AZ6: 0.015 | BA6: 0.015 | BB6: 0 | BC6: 0 | BE6: 519.5 | BF6: 66.450747 | BG6: 65 | BH6: 1.0223192 | BI6: -61.020064 | BJ6: 0.00525 | BK6: 0.0015 | BL6: 0 | BM6: 91 | BO6: 719 | BP6: 91.969369 | BQ6: 78 | BR6: 1.1790945 | BS6: 22.375924 | BT6: 0.0075 | BU6: 0.00675 | BV6: 0 | BW6: 13 | BY6: 0.99844143 | BZ6: 1 | CA6: 0.99937657 | CB6: 0.9 | CC6: 0.0025 | CD6: =D6*AM6 -> 5363.8065
A7: AUBE_HAUTE_MARNE | B7: CHAUMONT | C7: CHAUMONT REPUBLIQUE | D7: 4.8367767 | F7: 0.062 | G7: 0.05825 | I7: 7 | J7: 7 | L7: 0.7984309 | M7: 0.717 | N7: 0.7 | O7: 0.002 | Q7: 214 | R7: 44.244341 | S7: 36 | T7: 1.2290095 | U7: 15.080785 | V7: 0.01 | W7: 0.01 | X7: 0 | Y7: 0 | AA7: 541 | AB7: 111.85135 | AC7: 200 | AD7: 0.55925674 | AE7: -564.10675 | AH7: 427 | AI7: 620 | AK7: 3801.1659 | AL7: 785.88823 | AM7: 612 | AN7: 1.2841311 | AO7: 419.53927 | AP7: 0.01 | AQ7: 0.01 | AR7: 0 | AS7: 0 | AU7: 3323.438 | AV7: 687.11834 | AW7: 573 | AX7: 1.1991594 | AY7: 157.30717 | AZ7: 0.015 | BA7: 0.015 | BB7: 0 | BC7: 3 | BE7: 360.5 | BF7: 74.533107 | BG7: 65 | BH7: 1.1466632 | BI7: 1.3403061 | BJ7: 0.015 | BK7: 0.01125 | BL7: 0 | BM7: 17 | BO7: 490 | BP7: 101.30714 | BQ7: 78 | BR7: 1.2988094 | BS7: 59.008367 | BT7: 0.0075 | BU7: 0.0075 | BV7: 0 | BW7: 0 | BY7: 0.99881762 | BZ7: 1 | CA7: 0.99952705 | CB7: 0.9 | CC7: 0.0025 | CD7: =D7*AM7 -> 2960.1074
A8: AUBE_HAUTE_MARNE | B8: CHAUMONT | C8: JOINVILLE | D8: 1.8669392 | F8: 0.05825 | G8: 0.05125 | I8: 6 | J8: 6 | L8: 0.83 | M8: 0.8 | N8: 0.7 | O8: 0.014 | Q8: 92 | R8: 49.278519 | S8: 36 | T8: 1.3688477 | U8: 15.21951 | V8: 0.01 | W8: 0.01 | X8: 0 | Y8: 0 | AA8: 203 | AB8: 108.73412 | AC8: 200 | AD8: 0.54367061 | AE8: -223.55828 | AH8: 171 | AI8: 246 | AK8: 1174.0556 | AL8: 628.86652 | AM8: 612 | AN8: 1.0275597 | AO8: -131.21275 | AP8: 0.004 | AQ8: 0.0015 | AR8: 0 | AS8: 198 | AU8: 1287.5331 | AV8: 689.6492 | AW8: 573 | AX8: 1.2035763 | AY8: 65.443679 | AZ8: 0.015 | BA8: 0.015 | BB8: 0 | BC8: 0 | BE8: 134.9 | BF8: 72.257306 | BG8: 65 | BH8: 1.1116509 | BI8: -3.7314397 | BJ8: 0.01275 | BK8: 0.00825 | BL8: 0 | BM8: 11 | BO8: 130 | BP8: 69.63269 | BQ8: 78 | BR8: 0.89272679 | BS8: -36.357728 | BV8: 16 | BW8: 45 | BY8: 0.99955889 | BZ8: 1 | CA8: 0.99982356 | CB8: 0.9 | CC8: 0.0025 | CD8: =D8*AM8 -> 1142.5668
A9: AUBE_HAUTE_MARNE | B9: CHAUMONT | C9: LANGRES | D9: 8.9870805 | F9: 0.052375 | G9: 0.03925 | I9: 6 | J9: 6 | L9: 0.72198042 | M9: 0.669 | N9: 0.7 | Q9: 366 | R9: 40.725127 | S9: 36 | T9: 1.1312535 | U9: -3.6062684 | V9: 0.0095 | W9: 0.0065 | X9: 0 | Y9: 23 | AA9: 1525 | AB9: 169.68803 | AC9: 200 | AD9: 0.84844016 | AE9: -528.36816 | AH9: 273 | AI9: 632 | AK9: 7706.0212 | AL9: 857.45546 | AM9: 694.2 | AN9: 1.2351706 | AO9: 578.78035 | AP9: 0.01 | AQ9: 0.01 | AR9: 0 | AS9: 0 | AU9: 5711.668 | AV9: 635.5421 | AW9: 573 | AX9: 1.1091485 | AY9: -171.23176 | AZ9: 0.01275 | BA9: 0.00825 | BB9: 0 | BC9: 468 | BE9: 645.7 | BF9: 71.847581 | BG9: 65 | BH9: 1.1053474 | BI9: -21.644651 | BJ9: 0.012 | BK9: 0.00825 | BL9: 0 | BM9: 56 | BO9: 768 | BP9: 85.456005 | BQ9: 78 | BR9: 1.0955898 | BS9: -32.813581 | BT9: 0.005625 | BU9: 0.00375 | BV9: 0 | BW9: 74 | BY9: 0.99674995 | BZ9: 1 | CA9: 0.99869998 | CB9: 0.9 | CC9: 0.0025 | CD9: =D9*AM9 -> 6238.8313
A10: AUBE_HAUTE_MARNE | B10: CHAUMONT | C10: SAINT DIZIER CENTRE | D10: 9.0833675 | F10: 0.0465 | G10: 0.04425 | I10: 6 | J10: 5 | L10: 0.69900705 | M10: 0.559 | N10: 0.7 | Q10: 430 | R10: 47.339271 | S10: 36 | T10: 1.3149798 | U10: 56.433793 | V10: 0.01 | W10: 0.01 | X10: 0 | Y10: 0 | AA10: 1349 | AB10: 148.5132 | AC10: 200 | AD10: 0.74256601 | AE10: -726.36782 | AH10: 468 | AI10: 832 | AK10: 8813.1143 | AL10: 970.24746 | AM10: 633.5 | AN10: 1.5315666 | AO10: 2239.3868 | AP10: 0.01 | AQ10: 0.01 | AR10: 0 | AS10: 0 | AU10: 6180.5896 | AV10: 680.42932 | AW10: 573 | AX10: 1.1874857 | AY10: 234.66081 | AZ10: 0.015 | BA10: 0.01425 | BB10: 0 | BC10: 66 | BE10: 575.8 | BF10: 63.390587 | BG10: 65 | BH10: 0.9752398 | BI10: -98.69454 | BJ10: 0.0015 | BL10: 15 | BM10: 133 | BO10: 870 | BP10: 95.779456 | BQ10: 78 | BR10: 1.2279417 | BS10: 60.606552 | BT10: 0.0075 | BU10: 0.0075 | BV10: 0 | BW10: 0 | BY10: 0.99708832 | BZ10: 1 | CA10: 0.99883533 | CB10: 0.9 | CC10: 0.0025 | CD10: =D10*AM10 -> 5754.3133
A11: AUBE_HAUTE_MARNE | B11: CHAUMONT | C11: WASSY | D11: 1.9591787 | F11: 0.061 | G11: 0.06 | I11: 7 | J11: 6 | L11: 0.32 | M11: 0.636 | N11: 0.7 | Q11: 109 | R11: 55.635557 | S11: 36 | T11: 1.5454321 | U11: 28.426031 | V11: 0.01 | W11: 0.01 | X11: 0 | Y11: 0 | AA11: 380 | AB11: 193.95882 | AC11: 200 | AD11: 0.96979411 | AE11: -67.633159 | AF11: 0.001 | AH11: 12 | AI11: 91 | AK11: 1589.512 | AL11: 811.31544 | AM11: 618 | AN11: 1.3128082 | AO11: 206.32551 | AP11: 0.01 | AQ11: 0.01 | AR11: 0 | AS11: 0 | AU11: 1515.2022 | AV11: 773.3864 | AW11: 573 | AX11: 1.3497145 | AY11: 232.7332 | AZ11: 0.015 | BA11: 0.015 | BB11: 0 | BC11: 0 | BE11: 157.6 | BF11: 80.441869 | BG11: 65 | BH11: 1.2375672 | BI11: 12.119223 | BJ11: 0.015 | BK11: 0.015 | BL11: 0 | BM11: 0 | BO11: 240 | BP11: 122.50031 | BQ11: 78 | BR11: 1.5705168 | BS11: 65.423068 | BT11: 0.0075 | BU11: 0.0075 | BV11: 0 | BW11: 0 | BY11: 0.99612403 | BZ11: 1 | CA11: 0.99844961 | CB11: 0.9 | CC11: 0.0025 | CD11: =D11*AM11 -> 1210.7725
A12: AUBE_HAUTE_MARNE | B12: TROYES | C12: ARCIS SUR AUBE | D12: 3.8366683 | F12: 0.016 | G12: 0.01075 | I12: 4 | J12: 3 | L12: 0.75 | M12: 0.488 | N12: 0.7 | Q12: 136 | R12: 35.447422 | S12: 36 | T12: 0.98465062 | U12: -21.788354 | V12: 0.0015 | X12: 3 | Y12: 30 | AA12: 460 | AB12: 119.89569 | AC12: 200 | AD12: 0.59947846 | AE12: -416.60197 | AH12: 308 | AI12: 461 | AK12: 2294.8844 | AL12: 598.14512 | AM12: 692.7 | AN12: 0.86349808 | AO12: -741.22652 | AR12: 363 | AS12: 895 | AU12: 2223.7804 | AV12: 579.61238 | AW12: 573 | AX12: 1.0115399 | AY12: -287.6842 | AZ12: 0.0045 | BA12: 0.00075 | BB12: 0 | BC12: 415 | BE12: 234.8 | BF12: 61.198932 | BG12: 65 | BH12: 0.94152203 | BI12: -50.095639 | BL12: 15 | BM12: 65 | BO12: 385 | BP12: 100.34748 | BQ12: 78 | BR12: 1.2865062 | BS12: 43.125233 | BT12: 0.0075 | BU12: 0.0075 | BV12: 0 | BW12: 0 | BY12: 0.99567879 | BZ12: 1 | CA12: 0.99827152 | CB12: 0.9 | CC12: 0.0025 | CD12: =D12*AM12 -> 2657.6601
A13: AUBE_HAUTE_MARNE | B13: TROYES | C13: BAR SUR AUBE | D13: 5.9289893 | F13: 0.037125 | G13: 0.025125 | I13: 6 | J13: 5 | L13: 0.59869048 | M13: 0.748 | N13: 0.7 | O13: 0.006 | Q13: 229 | R13: 38.623783 | S13: 36 | T13: 1.0728829 | U13: -14.837987 | V13: 0.0065 | W13: 0.0035 | X13: 0 | Y13: 28 | AA13: 492 | AB13: 82.982102 | AC13: 200 | AD13: 0.41491051 | AE13: -862.65548 | AH13: 694 | AI13: 931 | AK13: 3079.1805 | AL13: 519.34323 | AM13: 648.5 | AN13: 0.80083767 | AO13: -1313.2899 | AR13: 766 | AS13: 1535 | AU13: 3785.7356 | AV13: 638.51281 | AW13: 573 | AX13: 1.114333 | AY13: -95.352326 | AZ13: 0.01275 | BA13: 0.00825 | BB13: 0 | BC13: 292 | BE13: 376.7 | BF13: 63.53528 | BG13: 65 | BH13: 0.97746585 | BI13: -63.563032 | BJ13: 0.00225 | BL13: 9 | BM13: 86 | BO13: 523 | BP13: 88.21065 | BQ13: 78 | BR13: 1.1309058 | BS13: -5.315638 | BT13: 0.007125 | BU13: 0.004875 | BV13: 0 | BW13: 32 | BY13: 0.99766537 | BZ13: 1 | CA13: 0.99906615 | CB13: 0.9 | CC13: 0.0025 | CD13: =D13*AM13 -> 3844.9496
A14: AUBE_HAUTE_MARNE | B14: TROYES | C14: BAR SUR SEINE | D14: 3.5450121 | F14: 0.025 | G14: 0.0225 | I14: 3 | J14: 3 | L14: 0.75 | M14: 0.539 | N14: 0.7 | Q14: 140 | R14: 39.492108 | S14: 36 | T14: 1.097003 | U14: -5.793586 | V14: 0.0075 | W14: 0.005 | X14: 0 | Y14: 14 | AA14: 272 | AB14: 76.727524 | AC14: 200 | AD14: 0.38363762 | AE14: -537.96437 | AH14: 438 | AI14: 579 | AK14: 1942.3967 | AL14: 547.92385 | AM14: 700.2 | AN14: 0.78252478 | AO14: -893.28856 | AR14: 540 | AS14: 1037 | AU14: 2639.1906 | AV14: 744.48001 | AW14: 573 | AX14: 1.299267 | AY14: 318.64273 | AZ14: 0.015 | BA14: 0.015 | BB14: 0 | BC14: 0 | BE14: 213.4 | BF14: 60.197256 | BG14: 65 | BH14: 0.92611162 | BI14: -49.838419 | BL14: 18 | BM14: 64 | BO14: 244 | BP14: 68.829102 | BQ14: 78 | BR14: 0.88242438 | BS14: -71.886103 | BV14: 33 | BW14: 88 | BY14: 0.99802956 | BZ14: 1 | CA14: 0.99921182 | CB14: 0.9 | CC14: 0.0025 | CD14: =D14*AM14 -> 2482.2175
A15: AUBE_HAUTE_MARNE | B15: TROYES | C15: LA CHAPELLE ST LUC | D15: 5.7009775 | F15: 0.035 | G15: 0.035 | I15: 4 | J15: 4 | L15: 0.55460513 | M15: 0.371 | N15: 0.7 | Q15: 280 | R15: 49.114385 | S15: 36 | T15: 1.3642885 | U15: 45.539321 | V15: 0.01 | W15: 0.01 | X15: 0 | Y15: 0 | AA15: 573 | AB15: 100.50908 | AC15: 200 | AD15: 0.5025454 | AE15: -729.55933 | AH15: 568 | AI15: 796 | AK15: 2242.8929 | AL15: 393.42251 | AM15: 617.2 | AN15: 0.63743116 | AO15: -1776.8052 | AR15: 1276 | AS15: 1980 | AU15: 3021.1948 | AV15: 529.9433 | AW15: 573 | AX15: 0.92485741 | AY15: -710.63769 | BB15: 246 | BC15: 899 | BE15: 452.4 | BF15: 79.354813 | BG15: 65 | BH15: 1.2208433 | BI15: 29.068218 | BJ15: 0.015 | BK15: 0.015 | BL15: 0 | BM15: 0 | BO15: 608 | BP15: 106.64838 | BQ15: 78 | BR15: 1.3672869 | BS15: 100.00186 | BT15: 0.0075 | BU15: 0.0075 | BV15: 0 | BW15: 0 | BY15: 0.99852527 | BZ15: 1 | CA15: 0.99941011 | CB15: 0.9 | CC15: 0.0025 | CD15: =D15*AM15 -> 3518.6433
A16: AUBE_HAUTE_MARNE | B16: TROYES | C16: NOGENT SUR SEINE | D16: 4.680001 | F16: 0.0245 | G16: 0.0215 | I16: 4 | J16: 4 | L16: 0.72 | M16: 0.775 | N16: 0.7 | O16: 0.01 | Q16: 150 | R16: 32.051275 | S16: 36 | T16: 0.89031321 | U16: -42.471592 | X16: 19 | Y16: 53 | AA16: 451 | AB16: 96.367502 | AC16: 200 | AD16: 0.48183751 | AE16: -618.28662 | AH16: 486 | AI16: 673 | AK16: 3325.3035 | AL16: 710.53479 | AM16: 687.6 | AN16: 1.0333548 | AO16: -350.90392 | AP16: 0.0045 | AQ16: 0.0015 | AR16: 0 | AS16: 537 | AU16: 2528.6136 | AV16: 540.30194 | AW16: 573 | AX16: 0.94293533 | AY16: -534.89256 | BB16: 154 | BC16: 690 | BE16: 173.5 | BF16: 37.072642 | BG16: 65 | BH16: 0.57034834 | BI16: -174.01815 | BL16: 131 | BM16: 192 | BO16: 527 | BP16: 112.60681 | BQ16: 78 | BR16: 1.4436771 | BS16: 109.97822 | BT16: 0.0075 | BU16: 0.0075 | BV16: 0 | BW16: 0 | BY16: 0.99697794 | BZ16: 1 | CA16: 0.99879118 | CB16: 0.9 | CC16: 0.0025 | CD16: =D16*AM16 -> 3217.9687
A17: AUBE_HAUTE_MARNE | B17: TROYES | C17: ROMILLY SUR SEINE | D17: 7.393217 | F17: 0.014 | G17: 0.0105 | I17: 4 | J17: 3 | L17: 0.83 | M17: 0.637 | N17: 0.7 | Q17: 268 | R17: 36.249443 | S17: 36 | T17: 1.006929 | U17: -36.0564 | V17: 0.003 | W17: 0.0005 | X17: 0 | Y17: 52 | AA17: 734 | AB17: 99.280191 | AC17: 200 | AD17: 0.49640096 | AE17: -955.20222 | AH17: 745 | AI17: 1041 | AK17: 4568.7662 | AL17: 617.96728 | AM17: 639.5 | AN17: 0.96632883 | AO17: -832.45787 | AP17: 0.001 | AR17: 160 | AS17: 1105 | AU17: 4012.9464 | AV17: 542.78759 | AW17: 573 | AX17: 0.94727328 | AY17: -826.61794 | AZ17: 0 | BB17: 224 | BC17: 1071 | BE17: 288.2 | BF17: 38.981677 | BG17: 65 | BH17: 0.59971811 | BI17: -260.79072 | BL17: 193 | BM17: 289 | BO17: 799 | BP17: 108.07203 | BQ17: 78 | BR17: 1.3855389 | BS17: 140.21113 | BT17: 0.0075 | BU17: 0.0075 | BV17: 0 | BW17: 0 | BY17: 0.99483274 | BZ17: 1 | CA17: 0.9979331 | CB17: 0.9 | CC17: 0.0025 | CD17: =D17*AM17 -> 4727.9623
A18: AUBE_HAUTE_MARNE | B18: TROYES | C18: SAINT ANDRE LES VERGERS | D18: 3.8611307 | F18: 0.045 | G18: 0.045 | I18: 5 | J18: 5 | L18: 0.45 | M18: 0.384 | N18: 0.7 | Q18: 194 | R18: 50.24435 | S18: 36 | T18: 1.3956764 | U18: 35.205595 | V18: 0.01 | W18: 0.01 | X18: 0 | Y18: 0 | AA18: 399 | AB18: 103.33761 | AC18: 200 | AD18: 0.51668803 | AE18: -483.19114 | AH18: 374 | AI18: 528 | AK18: 5629.6011 | AL18: 1458.0188 | AM18: 724.7 | AN18: 2.0118929 | AO18: 2432.9815 | AP18: 0.01 | AQ18: 0.01 | AR18: 0 | AS18: 0 | AU18: 2833.7426 | AV18: 733.91522 | AW18: 573 | AX18: 1.2808294 | AY18: 306.26496 | AZ18: 0.015 | BA18: 0.015 | BB18: 0 | BC18: 0 | BE18: 157.3 | BF18: 40.739362 | BG18: 65 | BH18: 0.62675941 | BI18: -129.41212 | BL18: 94 | BM18: 144 | BO18: 392 | BP18: 101.52467 | BQ18: 78 | BR18: 1.3015983 | BS18: 47.945456 | BT18: 0.0075 | BU18: 0.0075 | BV18: 0 | BW18: 0 | BY18: 0.99789695 | BZ18: 1 | CA18: 0.99915878 | CB18: 0.9 | CC18: 0.0025 | CD18: =D18*AM18 -> 2798.1614
A19: AUBE_HAUTE_MARNE | B19: TROYES | C19: SAINTE SAVINE | D19: 5.451315 | F19: 0.008875 | G19: 0.006625 | I19: 2 | J19: 2 | L19: 0.4 | M19: 0.595 | N19: 0.7 | Q19: 146 | R19: 26.782529 | S19: 36 | T19: 0.74395913 | U19: -78.192961 | X19: 51 | Y19: 90 | AA19: 390 | AB19: 71.542371 | AC19: 200 | AD19: 0.35771186 | AE19: -855.51645 | AH19: 701 | AI19: 919 | AK19: 2120.4757 | AL19: 388.98425 | AM19: 808.4 | AN19: 0.48117794 | AO19: -2913.9018 | AR19: 2287 | AS19: 3168 | AU19: 2198.181 | AV19: 403.23866 | AW19: 573 | AX19: 0.70373239 | AY19: -1370.2237 | BB19: 926 | BC19: 1551 | BE19: 152.3 | BF19: 27.938213 | BG19: 65 | BH19: 0.42981866 | BI19: -252.49285 | BL19: 203 | BM19: 273 | BO19: 474 | BP19: 86.951497 | BQ19: 78 | BR19: 1.1147628 | BS19: -11.751415 | BT19: 0.006375 | BU19: 0.004125 | BV19: 0 | BW19: 37 | BY19: 0.99693922 | BZ19: 1 | CA19: 0.99877569 | CB19: 0.9 | CC19: 0.0025 | CD19: =D19*AM19 -> 4406.843
A20: AUBE_HAUTE_MARNE | B20: TROYES | C20: SAINT JULIEN LES VILLAS | D20: 4.6733464 | F20: 0.0255 | G20: 0.0225 | I20: 4 | J20: 3 | L20: 0.25 | M20: 0.323 | N20: 0.7 | Q20: 223 | R20: 47.717413 | S20: 36 | T20: 1.3254837 | U20: 30.802088 | V20: 0.01 | W20: 0.01 | X20: 0 | Y20: 0 | AA20: 599 | AB20: 128.17368 | AC20: 200 | AD20: 0.6408684 | AE20: -468.76618 | AH20: 336 | AI20: 523 | AK20: 4226.5881 | AL20: 904.40291 | AM20: 738.6 | AN20: 1.2244827 | AO20: 283.32755 | AP20: 0.01 | AQ20: 0.01 | AR20: 0 | AS20: 0 | AU20: 2644.1783 | AV20: 565.79977 | AW20: 573 | AX20: 0.98743415 | AY20: -414.9718 | AZ20: 0.003 | BB20: 34 | BC20: 570 | BE20: 206 | BF20: 44.079763 | BG20: 65 | BH20: 0.6781502 | BI20: -141.02401 | BL20: 98 | BM20: 159 | BO20: 321 | BP20: 68.687398 | BQ20: 78 | BR20: 0.88060766 | BS20: -95.428809 | BV20: 44 | BW20: 117 | BY20: 0.99480198 | BZ20: 1 | CA20: 0.99792079 | CB20: 0.9 | CC20: 0.0025 | CD20: =D20*AM20 -> 3451.7336
A21: AUBE_HAUTE_MARNE | B21: TROYES | C21: TROYES 1ER MAI | D21: 3.306603 | F21: 0.03525 | G21: 0.03075 | I21: 5 | J21: 5 | L21: 0.39 | M21: 0.187 | N21: 0.7 | Q21: 196 | R21: 59.275335 | S21: 36 | T21: 1.6465371 | U21: 60.011323 | V21: 0.01 | W21: 0.01 | X21: 0 | Y21: 0 | AA21: 423 | AB21: 127.92585 | AC21: 200 | AD21: 0.63962926 | AE21: -332.49265 | AH21: 239 | AI21: 371 | AK21: 2923.6453 | AL21: 884.18396 | AM21: 612 | AN21: 1.444745 | AO21: 611.8378 | AP21: 0.01 | AQ21: 0.01 | AR21: 0 | AS21: 0 | AU21: 1922.79 | AV21: 581.50011 | AW21: 573 | AX21: 1.0148344 | AY21: -241.69643 | AZ21: 0.00525 | BA21: 0.00075 | BB21: 0 | BC21: 351 | BE21: 204.3 | BF21: 61.785464 | BG21: 65 | BH21: 0.9505456 | BI21: -41.23511 | BJ21: 0 | BL21: 11 | BM21: 54 | BO21: 411 | BP21: 124.29675 | BQ21: 78 | BR21: 1.5935481 | BS21: 116.35787 | BT21: 0.0075 | BU21: 0.0075 | BV21: 0 | BW21: 0 | BY21: 0.99780044 | BZ21: 1 | CA21: 0.99912018 | CB21: 0.9 | CC21: 0.0025 | CD21: =D21*AM21 -> 2023.641
A22: AUBE_HAUTE_MARNE | B22: TROYES | C22: TROYES BROSSOLETTE | D22: 1.7748491 | F22: 0.026625 | G22: 0.017625 | I22: 5 | J22: 4 | L22: 0.16 | M22: 0.615 | N22: 0.7 | Q22: 71 | R22: 40.003401 | S22: 36 | T22: 1.1112056 | U22: -1.9931543 | V22: 0.0085 | W22: 0.0055 | X22: 0 | Y22: 6 | AA22: 300 | AB22: 169.02845 | AC22: 200 | AD22: 0.84514227 | AE22: -105.51752 | AH22: 55 | AI22: 126 | AK22: 1448.583 | AL22: 816.17246 | AM22: 694.9 | AN22: 1.1745179 | AO22: 39.612324 | AP22: 0.01 | AQ22: 0.0085 | AR22: 0 | AS22: 32 | AU22: 994.66509 | AV22: 560.42234 | AW22: 573 | AX22: 0.97804946 | AY22: -167.14262 | AZ22: 0.00225 | BB22: 23 | BC22: 226 | BE22: 107.7 | BF22: 60.681215 | BG22: 65 | BH22: 0.93355715 | BI22: -24.093195 | BL22: 8 | BM22: 31 | BO22: 143 | BP22: 80.57023 | BQ22: 78 | BR22: 1.0329517 | BS22: -15.151834 | BT22: 0.003375 | BU22: 0.001125 | BV22: 0 | BW22: 24 | BY22: 0.99862637 | BZ22: 1 | CA22: 0.99945055 | CB22: 0.9 | CC22: 0.0025 | CD22: =D22*AM22 -> 1233.3426
A23: AUBE_HAUTE_MARNE | B23: TROYES | C23: TROYES CHARTREUX | D23: 2.8112109 | F23: 0.01475 | G23: 0.012875 | I23: 3 | J23: 3 | L23: 0.21 | M23: 0.657 | N23: 0.7 | Q23: 124 | R23: 44.109107 | S23: 36 | T23: 1.225253 | U23: 8.3850171 | V23: 0.01 | W23: 0.01 | X23: 0 | Y23: 0 | AA23: 184 | AB23: 65.452223 | AC23: 200 | AD23: 0.32726111 | AE23: -458.30546 | AH23: 379 | AI23: 491 | AK23: 699.81813 | AL23: 248.93833 | AM23: 634.3 | AN23: 0.39246149 | AO23: -1337.2536 | AR23: 1084 | AS23: 1440 | AU23: 1471.2865 | AV23: 523.36398 | AW23: 573 | AX23: 0.91337519 | AY23: -368.91863 | BB23: 140 | BC23: 462 | BE23: 106 | BF23: 37.706172 | BG23: 65 | BH23: 0.58009495 | BI23: -102.74927 | BL23: 77 | BM23: 114 | BO23: 222 | BP23: 78.969529 | BQ23: 78 | BR23: 1.0124299 | BS23: -28.49913 | BT23: 0.00225 | BU23: 0.000375 | BV23: 0 | BW23: 42 | BY23: 0.99983433 | BZ23: 1 | CA23: 0.99993373 | CB23: 0.9 | CC23: 0.0025 | CD23: =D23*AM23 -> 1783.1511
A24: AUBE_HAUTE_MARNE | B24: TROYES | C24: TROYES GAMBETTA | D24: 9.713444 | F24: 0.02 | G24: 0.02 | I24: 3 | J24: 3 | L24: 0.75 | M24: 0.576 | N24: 0.7 | Q24: 435 | R24: 44.783292 | S24: 36 | T24: 1.2439803 | U24: 35.521018 | V24: 0.01 | W24: 0.01 | X24: 0 | Y24: 0 | AA24: 937 | AB24: 96.464241 | AC24: 200 | AD24: 0.48232121 | AE24: -1282.3277 | AH24: 1006 | AI24: 1395 | AK24: 7171.5031 | AL24: 738.30694 | AM24: 789.8 | AN24: 0.93480241 | AO24: -1592.6219 | AR24: 501 | AS24: 2035 | AU24: 4631.4401 | AV24: 476.8072 | AW24: 573 | AX24: 0.83212427 | AY24: -1726.9337 | BB24: 935 | BC24: 2048 | BE24: 403.8 | BF24: 41.571249 | BG24: 65 | BH24: 0.63955768 | BI24: -317.48149 | BL24: 228 | BM24: 354 | BO24: 1152 | BP24: 118.59851 | BQ24: 78 | BR24: 1.5204937 | BS24: 286.46221 | BT24: 0.0075 | BU24: 0.0075 | BV24: 0 | BW24: 0 | BY24: 0.99730458 | BZ24: 1 | CA24: 0.99892183 | CB24: 0.9 | CC24: 0.0025 | CD24: =D24*AM24 -> 7671.678
A25: AUBE_HAUTE_MARNE | B25: TROYES | C25: TROYES ZOLA | D25: 4.7812116 | F25: 0.02 | G25: 0.018 | I25: 3 | J25: 3 | L25: 0.05 | M25: 0.334 | N25: 0.7 | Q25: 204 | R25: 42.667009 | S25: 36 | T25: 1.1851947 | U25: 7.3659787 | V25: 0.01 | W25: 0.0095 | X25: 0 | Y25: 3 | AA25: 339 | AB25: 70.90253 | AC25: 200 | AD25: 0.35451265 | AE25: -753.41123 | AH25: 618 | AI25: 809 | AK25: 2671.411 | AL25: 558.73096 | AM25: 713.7 | AN25: 0.78286529 | AO25: -1226.8585 | AR25: 741 | AS25: 1424 | AU25: 2511.4736 | AV25: 525.27974 | AW25: 573 | AX25: 0.91671857 | AY25: -618.28458 | BB25: 229 | BC25: 777 | BE25: 236.2 | BF25: 49.401704 | BG25: 65 | BH25: 0.76002621 | BI25: -118.83365 | BL25: 75 | BM25: 137 | BO25: 433 | BP25: 90.562819 | BQ25: 78 | BR25: 1.1610618 | BS25: 6.9596204 | BT25: 0.0075 | BU25: 0.006 | BV25: 0 | BW25: 15 | BY25: 0.9988046 | BZ25: 1 | CA25: 0.99952184 | CB25: 0.9 | CC25: 0.0025 | CD25: =D25*AM25 -> 3412.3507
A26: BAS_RHIN | B26: HAGUENAU | C26: BISCHWILLER | D26: 6.8892148 | F26: 0.023 | G26: 0.0205 | I26: 4 | J26: 4 | L26: 0.56519277 | M26: 0.463 | N26: 0.7 | Q26: 308 | R26: 44.707563 | S26: 36 | T26: 1.2418767 | U26: 24.671398 | V26: 0.01 | W26: 0.01 | X26: 0 | Y26: 0 | AA26: 698 | AB26: 101.31779 | AC26: 200 | AD26: 0.50658894 | AE26: -876.04779 | AH26: 680 | AI26: 956 | AK26: 4977.0012 | AL26: 722.43375 | AM26: 716.4 | AN26: 1.0084223 | AO26: -661.23793 | AP26: 0.003 | AQ26: 0.0005 | AR26: 0 | AS26: 946 | AU26: 3514.8123 | AV26: 510.19056 | AW26: 573 | AX26: 0.89038492 | AY26: -994.83457 | BB26: 433 | BC26: 1223 | BE26: 386.5 | BF26: 56.102185 | BG26: 65 | BH26: 0.86311054 | BI26: -125.06553 | BL26: 62 | BM26: 151 | BO26: 790 | BP26: 114.672 | BQ26: 78 | BR26: 1.4701538 | BS26: 176.12136 | BT26: 0.0075 | BU26: 0.0075 | BV26: 0 | BW26: 0 | BY26: 0.99904245 | BZ26: 1 | CA26: 0.99961698 | CB26: 0.9 | CC26: 0.0025 | CD26: =D26*AM26 -> 4935.4334
A27: BAS_RHIN | B27: HAGUENAU | C27: BOUXWILLER | D27: 2.6565336 | F27: 0.0395 | G27: 0.037 | I27: 5 | J27: 5 | L27: 0.75 | M27: 0.672 | N27: 0.7 | Q27: 117 | R27: 44.042357 | S27: 36 | T27: 1.2233988 | U27: 7.746337 | V27: 0.01 | W27: 0.01 | X27: 0 | Y27: 0 | AA27: 294 | AB27: 110.67054 | AC27: 200 | AD27: 0.55335269 | AE27: -312.96479 | AH27: 238 | AI27: 344 | AK27: 2049.2269 | AL27: 771.3913 | AM27: 744 | AN27: 1.0368163 | AO27: -208.68215 | AP27: 0.0045 | AQ27: 0.002 | AR27: 0 | AS27: 323 | AU27: 1860.1908 | AV27: 700.23236 | AW27: 573 | AX27: 1.222046 | AY27: 121.23664 | AZ27: 0.015 | BA27: 0.015 | BB27: 0 | BC27: 0 | BE27: 159.3 | BF27: 59.965363 | BG27: 65 | BH27: 0.92254404 | BI27: -37.963558 | BL27: 14 | BM27: 48 | BO27: 358 | BP27: 134.76208 | BQ27: 78 | BR27: 1.727719 | BS27: 121.28373 | BT27: 0.0075 | BU27: 0.0075 | BV27: 0 | BW27: 0 | BY27: 0.99866962 | BZ27: 1 | CA27: 0.99946785 | CB27: 0.9 | CC27: 0.0025 | CD27: =D27*AM27 -> 1976.461
A28: BAS_RHIN | B28: HAGUENAU | C28: BRUMATH | D28: 5.3927397 | F28: 0.04125 | G28: 0.0365 | I28: 5 | J28: 5 | L28: 0.6 | M28: 0.626 | N28: 0.7 | Q28: 249 | R28: 46.173191 | S28: 36 | T28: 1.2825886 | U28: 27.21603 | V28: 0.01 | W28: 0.01 | X28: 0 | Y28: 0 | AA28: 751 | AB28: 139.26131 | AC28: 200 | AD28: 0.69630655 | AE28: -481.13317 | AH28: 328 | AI28: 544 | AK28: 5254.5743 | AL28: 974.37937 | AM28: 828 | AN28: 1.1767867 | AO28: 153.54302 | AP28: 0.01 | AQ28: 0.009 | AR28: 0 | AS28: 104 | AU28: 3383.9457 | AV28: 627.50027 | AW28: 573 | AX28: 1.0951139 | AY28: -146.11588 | AZ28: 0.01125 | BA28: 0.0075 | BB28: 0 | BC28: 325 | BE28: 237.6 | BF28: 44.059238 | BG28: 65 | BH28: 0.67783442 | BI28: -162.84328 | BL28: 113 | BM28: 184 | BO28: 908 | BP28: 168.37453 | BQ28: 78 | BR28: 2.1586478 | BS28: 427.46806 | BT28: 0.0075 | BU28: 0.0075 | BV28: 0 | BW28: 0 | BY28: 0.99898632 | BZ28: 1 | CA28: 0.99959453 | CB28: 0.9 | CC28: 0.0025 | CD28: =D28*AM28 -> 4465.1885
A29: BAS_RHIN | B29: HAGUENAU | C29: HAGUENAU HOUBLON | D29: 10.38383 | F29: 0.0225 | G29: 0.017 | I29: 4 | J29: 4 | L29: 0.3813792 | M29: 0.426 | N29: 0.7 | Q29: 422 | R29: 40.640109 | S29: 36 | T29: 1.1288919 | U29: -5.0495627 | V29: 0.0095 | W29: 0.0065 | X29: 0 | Y29: 27 | AA29: 1105 | AB29: 106.41545 | AC29: 200 | AD29: 0.53207726 | AE29: -1267.4976 | AH29: 972 | AI29: 1388 | AK29: 8610.1279 | AL29: 829.1861 | AM29: 823.9 | AN29: 1.006416 | AO29: -1163.3759 | AP29: 0.003 | AQ29: 0.0005 | AR29: 0 | AS29: 1657 | AU29: 5385.5979 | AV29: 518.65234 | AW29: 573 | AX29: 0.90515243 | AY29: -1411.6076 | BB29: 565 | BC29: 1755 | BE29: 469.6 | BF29: 45.224159 | BG29: 65 | BH29: 0.6957563 | BI29: -301.46171 | BL29: 206 | BM29: 341 | BO29: 1290 | BP29: 124.23161 | BQ29: 78 | BR29: 1.592713 | BS29: 364.72595 | BT29: 0.0075 | BU29: 0.0075 | BV29: 0 | BW29: 0 | BY29: 0.99751827 | BZ29: 1 | CA29: 0.99900731 | CB29: 0.9 | CC29: 0.0025 | CD29: =D29*AM29 -> 8555.2379
A30: BAS_RHIN | B30: HAGUENAU | C30: HOCHFELDEN | D30: 2.3642739 | F30: 0.0455 | G30: 0.04175 | I30: 5 | J30: 5 | L30: 0.76 | M30: 0.64 | N30: 0.7 | Q30: 132 | R30: 55.831095 | S30: 36 | T30: 1.5508637 | U30: 34.765926 | V30: 0.01 | W30: 0.01 | X30: 0 | Y30: 0 | AA30: 274 | AB30: 115.89182 | AC30: 200 | AD30: 0.57945909 | AE30: -266.1893 | AH30: 199 | AI30: 294 | AK30: 1010.9714 | AL30: 427.60332 | AM30: 703 | AN30: 0.60825507 | AO30: -887.79403 | AR30: 652 | AS30: 984 | AU30: 1893.1135 | AV30: 800.71668 | AW30: 573 | AX30: 1.3974113 | AY30: 345.4712 | AZ30: 0.015 | BA30: 0.015 | BB30: 0 | BC30: 0 | BE30: 167.2 | BF30: 70.719387 | BG30: 65 | BH30: 1.0879906 | BI30: -8.3615225 | BJ30: 0.0105 | BK30: 0.00675 | BL30: 0 | BM30: 18 | BO30: 390 | BP30: 164.95551 | BQ30: 78 | BR30: 2.1148142 | BS30: 179.32617 | BT30: 0.0075 | BU30: 0.0075 | BV30: 0 | BW30: 0 | BY30: 0.99793956 | BZ30: 1 | CA30: 0.99917582 | CB30: 0.9 | CC30: 0.0025 | CD30: =D30*AM30 -> 1662.0845
A31: BAS_RHIN | B31: HAGUENAU | C31: HOERDT | D31: 1.8746319 | F31: 0.0285 | G31: 0.026 | I31: 4 | J31: 4 | L31: 0.69 | M31: 0.803 | N31: 0.7 | O31: 0.014 | Q31: 59 | R31: 31.472846 | S31: 36 | T31: 0.87424573 | U31: -18.09686 | X31: 9 | Y31: 22 | AA31: 244 | AB31: 130.15889 | AC31: 200 | AD31: 0.65079445 | AE31: -184.31589 | AH31: 131 | AI31: 206 | AK31: 1615.8301 | AL31: 861.94527 | AM31: 828 | AN31: 1.0409967 | AO31: -157.3977 | AP31: 0.0045 | AQ31: 0.002 | AR31: 0 | AS31: 247 | AU31: 755.86399 | AV31: 403.20663 | AW31: 573 | AX31: 0.70367649 | AY31: -471.26103 | BB31: 319 | BC31: 534 | BE31: 105.1 | BF31: 56.064341 | BG31: 65 | BH31: 0.86252833 | BI31: -34.102663 | BL31: 17 | BM31: 42 | BO31: 186 | BP31: 99.219481 | BQ31: 78 | BR31: 1.2720446 | BS31: 18.956804 | BT31: 0.0075 | BU31: 0.0075 | BV31: 0 | BW31: 0 | BY31: 0.99159664 | BZ31: 1 | CA31: 0.99663866 | CB31: 0.9 | CC31: 0.0025 | CD31: =D31*AM31 -> 1552.1952
A32: BAS_RHIN | B32: HAGUENAU | C32: INGWILLER | D32: 3.1465914 | F32: 0.06 | G32: 0.057 | I32: 6 | J32: 6 | L32: 0.59 | M32: 0.543 | N32: 0.7 | Q32: 159 | R32: 50.53087 | S32: 36 | T32: 1.4036353 | U32: 29.592025 | V32: 0.01 | W32: 0.01 | X32: 0 | Y32: 0 | AA32: 411 | AB32: 130.61753 | AC32: 200 | AD32: 0.65308767 | AE32: -307.93319 | AH32: 219 | AI32: 345 | AK32: 3008.5514 | AL32: 956.13033 | AM32: 774.6 | AN32: 1.2343536 | AO32: 224.12317 | AP32: 0.01 | AQ32: 0.01 | AR32: 0 | AS32: 0 | AU32: 2840.4575 | AV32: 902.70937 | AW32: 573 | AX32: 1.575409 | AY32: 780.71389 | AZ32: 0.015 | BA32: 0.015 | BB32: 0 | BC32: 0 | BE32: 236.7 | BF32: 75.224258 | BG32: 65 | BH32: 1.1572963 | BI32: 3.0467125 | BJ32: 0.015 | BK32: 0.012 | BL32: 0 | BM32: 9 | BO32: 583 | BP32: 185.27986 | BQ32: 78 | BR32: 2.3753828 | BS32: 302.61606 | BT32: 0.0075 | BU32: 0.0075 | BV32: 0 | BW32: 0 | BY32: 0.99868594 | BZ32: 1 | CA32: 0.99947438 | CB32: 0.9 | CC32: 0.0025 | CD32: =D32*AM32 -> 2437.3497
A33: BAS_RHIN | B33: HAGUENAU | C33: NIEDERBRONN LES BAINS | D33: 7.7849246 | F33: 0.013 | G33: 0.01 | I33: 3 | J33: 2 | L33: 0.81659743 | M33: 0.7 | N33: 0.7 | O33: 0 | Q33: 208 | R33: 26.718306 | S33: 36 | T33: 0.74217517 | U33: -112.16592 | X33: 73 | Y33: 129 | AA33: 565 | AB33: 72.576168 | AC33: 200 | AD33: 0.36288084 | AE33: -1213.6996 | AH33: 992 | AI33: 1304 | AK33: 4996.801 | AL33: 641.85605 | AM33: 708.1 | AN33: 0.90644831 | AO33: -1300.6849 | AR33: 516 | AS33: 1619 | AU33: 4432.992 | AV33: 569.43288 | AW33: 573 | AX33: 0.99377465 | AY33: -662.98228 | AZ33: 0.003 | BB33: 28 | BC33: 920 | BE33: 311.6 | BF33: 40.026078 | BG33: 65 | BH33: 0.61578582 | BI33: -266.47736 | BL33: 195 | BM33: 296 | BO33: 966 | BP33: 124.08598 | BQ33: 78 | BR33: 1.5908459 | BS33: 272.30717 | BT33: 0.0075 | BU33: 0.0075 | BV33: 0 | BW33: 0 | BY33: 0.99951136 | BZ33: 1 | CA33: 0.99980454 | CB33: 0.9 | CC33: 0.0025 | CD33: =D33*AM33 -> 5512.5051
A34: BAS_RHIN | B34: HAGUENAU | C34: PFAFFENHOFFEN | D34: 2.524937 | F34: 0.01375 | G34: 0.01 | I34: 3 | J34: 2 | L34: 0.56 | M34: 0.656 | N34: 0.7 | Q34: 83 | R34: 32.872107 | S34: 36 | T34: 0.91311408 | U34: -20.84157 | X34: 8 | Y34: 27 | AA34: 194 | AB34: 76.833599 | AC34: 200 | AD34: 0.384168 | AE34: -382.89761 | AH34: 311 | AI34: 412 | AK34: 944.72959 | AL34: 374.15966 | AM34: 735.8 | AN34: 0.50850729 | AO34: -1177.6767 | AR34: 914 | AS34: 1285 | AU34: 1442.1324 | AV34: 571.1558 | AW34: 573 | AX34: 0.99678151 | AY34: -210.67922 | AZ34: 0.00375 | BA34: 0 | BB34: 5 | BC34: 295 | BE34: 126.8 | BF34: 50.219074 | BG34: 65 | BH34: 0.77260114 | BI34: -60.691724 | BL34: 38 | BM34: 71 | BO34: 477 | BP34: 188.9156 | BQ34: 78 | BR34: 2.4219949 | BS34: 252.00993 | BT34: 0.0075 | BU34: 0.0075 | BV34: 0 | BW34: 0 | BY34: 0.99483649 | BZ34: 1 | CA34: 0.9979346 | CB34: 0.9 | CC34: 0.0025 | CD34: =D34*AM34 -> 1857.8487
A35: BAS_RHIN | B35: HAGUENAU | C35: SARRE UNION | D35: 4.8022214 | F35: 0.022625 | G35: 0.016625 | I35: 4 | J35: 4 | L35: 0.53 | M35: 0.622 | N35: 0.7 | Q35: 149 | R35: 31.027308 | S35: 36 | T35: 0.86186966 | U35: -48.498076 | X35: 24 | Y35: 59 | AA35: 639 | AB35: 133.06342 | AC35: 200 | AD35: 0.6653171 | AE35: -458.21154 | AH35: 322 | AI35: 514 | AK35: 5737.767 | AL35: 1194.8152 | AM35: 735.5 | AN35: 1.6244938 | AO35: 1702.7716 | AP35: 0.01 | AQ35: 0.01 | AR35: 0 | AS35: 0 | AU35: 2865.7551 | AV35: 596.75614 | AW35: 573 | AX35: 1.0414592 | AY35: -277.75598 | AZ35: 0.00675 | BA35: 0.003 | BB35: 0 | BC35: 437 | BE35: 200.4 | BF35: 41.730688 | BG35: 65 | BH35: 0.64201058 | BI35: -156.19375 | BL35: 112 | BM35: 175 | BO35: 387 | BP35: 80.587705 | BQ35: 78 | BR35: 1.0331757 | BS35: -40.912499 | BT35: 0.003375 | BU35: 0.001125 | BV35: 0 | BW35: 63 | BY35: 0.9985545 | BZ35: 1 | CA35: 0.9994218 | CB35: 0.9 | CC35: 0.0025 | CD35: =D35*AM35 -> 3532.0338
A36: BAS_RHIN | B36: HAGUENAU | C36: SAVERNE | D36: 7.962668 | F36: 0.042 | G36: 0.03825 | I36: 5 | J36: 5 | L36: 0.5 | M36: 0.356 | N36: 0.7 | Q36: 367 | R36: 46.090079 | S36: 36 | T36: 1.28028 | U36: 39.524129 | V36: 0.01 | W36: 0.01 | X36: 0 | Y36: 0 | AA36: 919 | AB36: 115.41358 | AC36: 200 | AD36: 0.57706788 | AE36: -900.3104 | AH36: 674 | AI36: 993 | AK36: 8109.19 | AL36: 1018.4011 | AM36: 828 | AN36: 1.229953 | AO36: 577.24499 | AP36: 0.01 | AQ36: 0.01 | AR36: 0 | AS36: 0 | AU36: 5043.3159 | AV36: 633.37011 | AW36: 573 | AX36: 1.105358 | AY36: -169.00834 | AZ36: 0.012 | BA36: 0.00825 | BB36: 0 | BC36: 432 | BE36: 352.5 | BF36: 44.269081 | BG36: 65 | BH36: 0.68106279 | BI36: -238.77588 | BL36: 166 | BM36: 269 | BO36: 828 | BP36: 103.98525 | BQ36: 78 | BR36: 1.3331442 | BS36: 118.46895 | BT36: 0.0075 | BU36: 0.0075 | BV36: 0 | BW36: 0 | BY36: 0.99769504 | BZ36: 1 | CA36: 0.99907801 | CB36: 0.9 | CC36: 0.0025 | CD36: =D36*AM36 -> 6593.0891
A37: BAS_RHIN | B37: HAGUENAU | C37: SOULTZ SOUS FORETS | D37: 2.1182522 | F37: 0.05225 | G37: 0.044 | I37: 7 | J37: 7 | L37: 0.93 | M37: 0.716 | N37: 0.7 | O37: 0.002 | Q37: 102 | R37: 48.152906 | S37: 36 | T37: 1.3375807 | U37: 14.883911 | V37: 0.01 | W37: 0.01 | X37: 0 | Y37: 0 | AA37: 319 | AB37: 150.59585 | AC37: 200 | AD37: 0.75297926 | AE37: -164.97827 | AH37: 105 | AI37: 190 | AK37: 1827.0268 | AL37: 862.51619 | AM37: 699.3 | AN37: 1.2333994 | AO37: 134.79683 | AP37: 0.01 | AQ37: 0.01 | AR37: 0 | AS37: 0 | AU37: 1385.9795 | AV37: 654.30333 | AW37: 573 | AX37: 1.1418906 | AY37: -0.61826411 | AZ37: 0.015 | BA37: 0.0105 | BB37: 0 | BC37: 71 | BE37: 140.8 | BF37: 66.469893 | BG37: 65 | BH37: 1.0226137 | BI37: -16.492938 | BJ37: 0.00525 | BK37: 0.0015 | BL37: 0 | BM37: 25 | BO37: 204 | BP37: 96.305811 | BQ37: 78 | BR37: 1.2346899 | BS37: 15.248475 | BT37: 0.0075 | BU37: 0.0075 | BV37: 0 | BW37: 0 | BY37: 1 | BZ37: 1 | CA37: 1 | CB37: 0.9 | CC37: 0.0025 | CD37: =D37*AM37 -> 1481.2938
A38: BAS_RHIN | B38: HAGUENAU | C38: TRUCHTERSHEIM | D38: 2.9114318 | F38: 0.024 | G38: 0.02225 | I38: 5 | J38: 4 | L38: 0.87 | M38: 0.725 | N38: 0.7 | O38: 0.003 | Q38: 102 | R38: 35.034309 | S38: 36 | T38: 0.97317524 | U38: -17.736708 | V38: 0.001 | X38: 3 | Y38: 24 | AA38: 370 | AB38: 127.08524 | AC38: 200 | AD38: 0.63542619 | AE38: -295.20393 | AH38: 213 | AI38: 329 | AK38: 3055.3119 | AL38: 1049.419 | AM38: 828 | AN38: 1.2674143 | AO38: 301.36759 | AP38: 0.01 | AQ38: 0.01 | AR38: 0 | AS38: 0 | AU38: 1242.5964 | AV38: 426.79907 | AW38: 573 | AX38: 0.74485003 | AY38: -663.2129 | BB38: 426 | BC38: 760 | BE38: 115 | BF38: 39.499466 | BG38: 65 | BH38: 0.60768409 | BI38: -101.19128 | BL38: 75 | BM38: 113 | BO38: 267 | BP38: 91.707455 | BQ38: 78 | BR38: 1.1757366 | BS38: 7.5704663 | BT38: 0.0075 | BU38: 0.00675 | BV38: 0 | BW38: 6 | BY38: 0.99607843 | BZ38: 1 | CA38: 0.99843137 | CB38: 0.9 | CC38: 0.0025 | CD38: =D38*AM38 -> 2410.6655
A39: BAS_RHIN | B39: HAGUENAU | C39: WISSEMBOURG | D39: 8.3768087 | F39: 0.02825 | G39: 0.0215 | I39: 6 | J39: 4 | L39: 0.76633813 | M39: 0.737 | N39: 0.7 | O39: 0.005 | Q39: 284 | R39: 33.903126 | S39: 36 | T39: 0.9417535 | U39: -60.507986 | X39: 18 | Y39: 78 | AA39: 921 | AB39: 109.9464 | AC39: 200 | AD39: 0.54973202 | AE39: -992.93325 | AH39: 755 | AI39: 1090 | AK39: 7849.9926 | AL39: 937.11017 | AM39: 828 | AN39: 1.1317756 | AO39: -73.691032 | AP39: 0.0095 | AQ39: 0.0065 | AR39: 0 | AS39: 474 | AU39: 4677.8872 | AV39: 558.4331 | AW39: 573 | AX39: 0.97457783 | AY39: -805.53153 | AZ39: 0.0015 | BB39: 123 | BC39: 1083 | BE39: 531.4 | BF39: 63.437046 | BG39: 65 | BH39: 0.97595455 | BI39: -90.628308 | BJ39: 0.00225 | BL39: 14 | BM39: 122 | BO39: 1057 | BP39: 126.1817 | BQ39: 78 | BR39: 1.6177142 | BS39: 310.56603 | BT39: 0.0075 | BU39: 0.0075 | BV39: 0 | BW39: 0 | BY39: 0.99907579 | BZ39: 1 | CA39: 0.99963031 | CB39: 0.9 | CC39: 0.0025 | CD39: =D39*AM39 -> 6935.9976
A40: BAS_RHIN | B40: SELESTAT | C40: BARR | D40: 2.9650794 | F40: 0.047 | G40: 0.0445 | I40: 5 | J40: 5 | L40: 0.89 | M40: 0.851 | N40: 0.7 | O40: 0.02 | Q40: 162 | R40: 54.635974 | S40: 36 | T40: 1.517666 | U40: 40.05696 | V40: 0.01 | W40: 0.01 | X40: 0 | Y40: 0 | AA40: 468 | AB40: 157.83726 | AC40: 200 | AD40: 0.7891863 | AE40: -209.46133 | AH40: 126 | AI40: 244 | AK40: 2671.6635 | AL40: 901.04282 | AM40: 828 | AN40: 1.088216 | AO40: -133.02645 | AP40: 0.007 | AQ40: 0.0045 | AR40: 0 | AS40: 275 | AU40: 1324.9331 | AV40: 446.84575 | AW40: 573 | AX40: 0.77983551 | AY40: -615.99362 | BB40: 375 | BC40: 714 | BE40: 181.4 | BF40: 61.178801 | BG40: 65 | BH40: 0.94121232 | BI40: -38.774933 | BL40: 12 | BM40: 50 | BO40: 535 | BP40: 180.43362 | BQ40: 78 | BR40: 2.3132515 | BS40: 270.79008 | BT40: 0.0075 | BU40: 0.0075 | BV40: 0 | BW40: 0 | BY40: 0.99778639 | BZ40: 1 | CA40: 0.99911455 | CB40: 0.9 | CC40: 0.0025 | CD40: =D40*AM40 -> 2455.0857
A41: BAS_RHIN | B41: SELESTAT | C41: BENFELD | D41: 4.1628521 | F41: 0.013 | G41: 0.01 | I41: 3 | J41: 2 | L41: 0.67 | M41: 0.575 | N41: 0.7 | Q41: 142 | R41: 34.111228 | S41: 36 | T41: 0.94753412 | U41: -29.203122 | V41: 0 | X41: 8 | Y41: 38 | AA41: 439 | AB41: 105.45654 | AC41: 200 | AD41: 0.52728272 | AE41: -512.12845 | AH41: 394 | AI41: 561 | AK41: 2598.2301 | AL41: 624.14662 | AM41: 815 | AN41: 0.76582407 | AO41: -1277.6184 | AR41: 795 | AS41: 1474 | AU41: 1775.3491 | AV41: 426.47421 | AW41: 573 | AX41: 0.7442831 | AY41: -949.63393 | BB41: 610 | BC41: 1088 | BE41: 267.4 | BF41: 64.234806 | BG41: 65 | BH41: 0.98822779 | BI41: -41.716747 | BJ41: 0.003 | BL41: 4 | BM41: 58 | BO41: 615 | BP41: 147.73525 | BQ41: 78 | BR41: 1.8940417 | BS41: 244.0599 | BT41: 0.0075 | BU41: 0.0075 | BV41: 0 | BW41: 0 | BY41: 0.9963086 | BZ41: 1 | CA41: 0.99852344 | CB41: 0.9 | CC41: 0.0025 | CD41: =D41*AM41 -> 3392.7245
A42: BAS_RHIN | B42: SELESTAT | C42: ERSTEIN | D42: 4.3036507 | F42: 0.01 | G42: 0.01 | I42: 2 | J42: 2 | L42: 0.38 | M42: 0.533 | N42: 0.7 | Q42: 124 | R42: 28.812747 | S42: 36 | T42: 0.8003541 | U42: -52.993659 | X42: 31 | Y42: 62 | AA42: 523 | AB42: 121.52473 | AC42: 200 | AD42: 0.60762367 | AE42: -460.2981 | AH42: 338 | AI42: 510 | AK42: 2856.2339 | AL42: 663.67698 | AM42: 828 | AN42: 0.80154224 | AO42: -1214.6203 | AR42: 708 | AS42: 1420 | AU42: 1711.5843 | AV42: 397.70521 | AW42: 573 | AX42: 0.6940754 | AY42: -1105.5648 | BB42: 755 | BC42: 1248 | BE42: 184.7 | BF42: 42.917052 | BG42: 65 | BH42: 0.66026234 | BI42: -134.87188 | BL42: 96 | BM42: 151 | BO42: 649 | BP42: 150.8022 | BQ42: 78 | BR42: 1.9333616 | BS42: 265.51374 | BT42: 0.0075 | BU42: 0.0075 | BV42: 0 | BW42: 0 | BY42: 0.99710145 | BZ42: 1 | CA42: 0.99884058 | CB42: 0.9 | CC42: 0.0025 | CD42: =D42*AM42 -> 3563.4228
A43: BAS_RHIN | B43: SELESTAT | C43: FEGERSHEIM | D43: 2.6566743 | F43: 0.012 | G43: 0.01 | I43: 3 | J43: 2 | L43: 0.59 | M43: 0.338 | N43: 0.7 | Q43: 86 | R43: 32.3713 | S43: 36 | T43: 0.89920278 | U43: -23.259449 | X43: 10 | Y43: 29 | AA43: 222 | AB43: 83.563123 | AC43: 200 | AD43: 0.41781562 | AE43: -384.99694 | AH43: 310 | AI43: 416 | AK43: 2176.7628 | AL43: 819.3563 | AM43: 828 | AN43: 0.98956074 | AO43: -336.20453 | AP43: 0.002 | AR43: 23 | AS43: 463 | AU43: 1357.8497 | AV43: 511.10883 | AW43: 573 | AX43: 0.89198748 | AY43: -381.19655 | BB43: 165 | BC43: 469 | BE43: 107.4 | BF43: 40.426484 | BG43: 65 | BH43: 0.62194591 | BI43: -89.874005 | BL43: 66 | BM43: 100 | BO43: 344 | BP43: 129.4852 | BQ43: 78 | BR43: 1.6600667 | BS43: 107.27119 | BT43: 0.0075 | BU43: 0.0075 | BV43: 0 | BW43: 0 | BY43: 0.99944196 | BZ43: 1 | CA43: 0.99977679 | CB43: 0.9 | CC43: 0.0025 | CD43: =D43*AM43 -> 2199.7263
A44: BAS_RHIN | B44: SELESTAT | C44: ILLKIRCH CENTRE | D44: 7.2559453 | F44: 0.03875 | G44: 0.0305 | I44: 6 | J44: 5 | L44: 0.75 | M44: 0.545 | N44: 0.7 | Q44: 293 | R44: 40.380679 | S44: 36 | T44: 1.1216855 | U44: -5.4109075 | V44: 0.009 | W44: 0.006 | X44: 0 | Y44: 21 | AA44: 1046 | AB44: 144.15765 | AC44: 200 | AD44: 0.72078824 | AE44: -611.83838 | AH44: 406 | AI44: 696 | AK44: 8365.476 | AL44: 1152.9133 | AM44: 828 | AN44: 1.3924074 | AO44: 1502.0251 | AP44: 0.01 | AQ44: 0.01 | AR44: 0 | AS44: 0 | AU44: 4396.7022 | AV44: 605.94478 | AW44: 573 | AX44: 1.0574953 | AY44: -353.00475 | AZ44: 0.00825 | BA44: 0.0045 | BB44: 0 | BC44: 593 | BE44: 459.6 | BF44: 63.341161 | BG44: 65 | BH44: 0.97447941 | BI44: -79.197472 | BJ44: 0.0015 | BL44: 13 | BM44: 107 | BO44: 840 | BP44: 115.76714 | BQ44: 78 | BR44: 1.484194 | BS44: 193.44303 | BT44: 0.0075 | BU44: 0.0075 | BV44: 0 | BW44: 0 | BY44: 0.99627827 | BZ44: 1 | CA44: 0.99851131 | CB44: 0.9 | CC44: 0.0025 | CD44: =D44*AM44 -> 6007.9227
A45: BAS_RHIN | B45: SELESTAT | C45: LINGOLSHEIM | D45: 4.2127838 | F45: 0.02375 | G45: 0.02075 | I45: 4 | J45: 4 | L45: 0.28 | M45: 0.623 | N45: 0.7 | Q45: 113 | R45: 26.823119 | S45: 36 | T45: 0.74508663 | U45: -60.256631 | X45: 39 | Y45: 69 | AA45: 543 | AB45: 128.89339 | AC45: 200 | AD45: 0.64446697 | AE45: -419.53684 | AH45: 300 | AI45: 469 | AK45: 5305.6656 | AL45: 1259.4204 | AM45: 828 | AN45: 1.5210391 | AO45: 1320.7631 | AP45: 0.01 | AQ45: 0.01 | AR45: 0 | AS45: 0 | AU45: 2417.9923 | AV45: 573.96544 | AW45: 573 | AX45: 1.0016849 | AY45: -339.67573 | AZ45: 0.00375 | BA45: 0.00075 | BB45: 0 | BC45: 479 | BE45: 218.6 | BF45: 51.889679 | BG45: 65 | BH45: 0.79830276 | BI45: -94.224473 | BL45: 56 | BM45: 110 | BO45: 512 | BP45: 121.53484 | BQ45: 78 | BR45: 1.558139 | BS45: 136.61063 | BT45: 0.0075 | BU45: 0.0075 | BV45: 0 | BW45: 0 | BY45: 0.99832552 | BZ45: 1 | CA45: 0.99933021 | CB45: 0.9 | CC45: 0.0025 | CD45: =D45*AM45 -> 3488.185
A46: BAS_RHIN | B46: SELESTAT | C46: MARCKOLSHEIM | D46: 2.6757576 | F46: 0.026 | G46: 0.02225 | I46: 4 | J46: 4 | L46: 0.63 | M46: 0.749 | N46: 0.7 | O46: 0.007 | Q46: 83 | R46: 31.019253 | S46: 36 | T46: 0.8616459 | U46: -27.044276 | X46: 14 | Y46: 33 | AA46: 263 | AB46: 98.289921 | AC46: 200 | AD46: 0.4914496 | AE46: -348.35709 | AH46: 273 | AI46: 380 | AK46: 1198.5875 | AL46: 447.94325 | AM46: 731 | AN46: 0.61278147 | AO46: -1035.9226 | AR46: 758 | AS46: 1149 | AU46: 1640.7295 | AV46: 613.18317 | AW46: 573 | AX46: 1.0701277 | AY46: -110.80856 | AZ46: 0.009 | BA46: 0.00525 | BB46: 0 | BC46: 200 | BE46: 160.4 | BF46: 59.94564 | BG46: 65 | BH46: 0.92224061 | BI46: -38.291055 | BL46: 14 | BM46: 49 | BO46: 377 | BP46: 140.89468 | BQ46: 78 | BR46: 1.806342 | BS46: 138.57073 | BT46: 0.0075 | BU46: 0.0075 | BV46: 0 | BW46: 0 | BY46: 0.99594203 | BZ46: 1 | CA46: 0.99837681 | CB46: 0.9 | CC46: 0.0025 | CD46: =D46*AM46 -> 1955.9788
A47: BAS_RHIN | B47: SELESTAT | C47: MOLSHEIM | D47: 5.0620891 | F47: 0.03125 | G47: 0.026 | I47: 5 | J47: 4 | L47: 0.58 | M47: 0.65 | N47: 0.7 | Q47: 179 | R47: 35.360895 | S47: 36 | T47: 0.98224708 | U47: -29.185501 | V47: 0.0015 | X47: 4 | Y47: 40 | AA47: 658 | AB47: 129.98586 | AC47: 200 | AD47: 0.6499293 | AE47: -498.58612 | AH47: 355 | AI47: 557 | AK47: 5103.0275 | AL47: 1008.0873 | AM47: 828 | AN47: 1.2174967 | AO47: 314.76097 | AP47: 0.01 | AQ47: 0.01 | AR47: 0 | AS47: 0 | AU47: 3129.4107 | AV47: 618.20538 | AW47: 573 | AX47: 1.0788925 | AY47: -184.20849 | AZ47: 0.00975 | BA47: 0.006 | BB47: 0 | BC47: 352 | BE47: 254.3 | BF47: 50.236176 | BG47: 65 | BH47: 0.77286425 | BI47: -121.59049 | BL47: 75 | BM47: 141 | BO47: 753 | BP47: 148.75281 | BQ47: 78 | BR47: 1.9070874 | BS47: 301.93141 | BT47: 0.0075 | BU47: 0.0075 | BV47: 0 | BW47: 0 | BY47: 0.99867795 | BZ47: 1 | CA47: 0.99947118 | CB47: 0.9 | CC47: 0.0025 | CD47: =D47*AM47 -> 4191.4098
A48: BAS_RHIN | B48: SELESTAT | C48: MUTZIG | D48: 2.2861992 | F48: 0.0495 | G48: 0.04575 | I48: 6 | J48: 6 | L48: 0.71 | M48: 0.493 | N48: 0.7 | Q48: 123 | R48: 53.801086 | S48: 36 | T48: 1.4944746 | U48: 28.976857 | V48: 0.01 | W48: 0.01 | X48: 0 | Y48: 0 | AA48: 333 | AB48: 145.6566 | AC48: 200 | AD48: 0.728283 | AE48: -189.35079 | AH48: 125 | AI48: 216 | AK48: 3838.7673 | AL48: 1679.1045 | AM48: 763.3 | AN48: 2.1997963 | AO48: 1845.2155 | AP48: 0.01 | AQ48: 0.01 | AR48: 0 | AS48: 0 | AU48: 2217.76 | AV48: 970.06421 | AW48: 573 | AX48: 1.6929567 | AY48: 721.22499 | AZ48: 0.015 | BA48: 0.015 | BB48: 0 | BC48: 0 | BE48: 149.3 | BF48: 65.304896 | BG48: 65 | BH48: 1.0046907 | BI48: -20.464008 | BJ48: 0.0045 | BK48: 0.00075 | BL48: 0 | BM48: 30 | BO48: 331 | BP48: 144.78178 | BQ48: 78 | BR48: 1.8561767 | BS48: 127.28319 | BT48: 0.0075 | BU48: 0.0075 | BV48: 0 | BW48: 0 | BY48: 0.9937604 | BZ48: 1 | CA48: 0.99750416 | CB48: 0.9 | CC48: 0.0025 | CD48: =D48*AM48 -> 1745.0558
A49: BAS_RHIN | B49: SELESTAT | C49: OBERNAI | D49: 3.6495166 | F49: 0.02 | G49: 0.02 | I49: 3 | J49: 3 | L49: 0.45 | M49: 0.394 | N49: 0.7 | Q49: 112 | R49: 30.688996 | S49: 36 | T49: 0.85247212 | U49: -38.091478 | X49: 20 | Y49: 46 | AA49: 498 | AB49: 136.45643 | AC49: 200 | AD49: 0.68228215 | AE49: -335.84155 | AH49: 232 | AI49: 378 | AK49: 4115.6905 | AL49: 1127.7358 | AM49: 828 | AN49: 1.3619998 | AO49: 663.58648 | AP49: 0.01 | AQ49: 0.01 | AR49: 0 | AS49: 0 | AU49: 1814.5451 | AV49: 497.2015 | AW49: 573 | AX49: 0.8677164 | AY49: -574.41093 | BB49: 277 | BC49: 695 | BE49: 190.1 | BF49: 52.089091 | BG49: 65 | BH49: 0.80137063 | BI49: -80.898502 | BL49: 48 | BM49: 95 | BO49: 703 | BP49: 192.62825 | BQ49: 78 | BR49: 2.469593 | BS49: 377.8018 | BT49: 0.0075 | BU49: 0.0075 | BV49: 0 | BW49: 0 | BY49: 0.99746835 | BZ49: 1 | CA49: 0.99898734 | CB49: 0.9 | CC49: 0.0025 | CD49: =D49*AM49 -> 3021.7997
A50: BAS_RHIN | B50: SELESTAT | C50: ROSHEIM | D50: 1.9718258 | F50: 0.01675 | G50: 0.013 | I50: 3 | J50: 3 | L50: 0.59 | M50: 0.485 | N50: 0.7 | Q50: 54 | R50: 27.385787 | S50: 36 | T50: 0.76071629 | U50: -27.094096 | X50: 17 | Y50: 32 | AA50: 159 | AB50: 80.635927 | AC50: 200 | AD50: 0.40317963 | AE50: -291.52276 | AH50: 236 | AI50: 315 | AK50: 457.95993 | AL50: 232.25172 | AM50: 820.2 | AN50: 0.28316474 | AO50: -1389.6339 | AR50: 1160 | AS50: 1483 | AU50: 900.52249 | AV50: 456.69475 | AW50: 573 | AX50: 0.797024 | AY50: -390.2252 | BB50: 230 | BC50: 456 | BE50: 133 | BF50: 67.450178 | BG50: 65 | BH50: 1.037695 | BI50: -13.419895 | BJ50: 0.00675 | BK50: 0.003 | BL50: 0 | BM50: 21 | BO50: 213 | BP50: 108.02171 | BQ50: 78 | BR50: 1.3848938 | BS50: 37.296125 | BT50: 0.0075 | BU50: 0.0075 | BV50: 0 | BW50: 0 | BY50: 0.99685535 | BZ50: 1 | CA50: 0.99874214 | CB50: 0.9 | CC50: 0.0025 | CD50: =D50*AM50 -> 1617.2915
A51: BAS_RHIN | B51: SELESTAT | C51: SCHIRMECK | D51: 3.0909572 | F51: 0.067 | G51: 0.058 | I51: 6 | J51: 6 | L51: 0.94 | M51: 0.841 | N51: 0.7 | O51: 0.02 | Q51: 145 | R51: 46.911035 | S51: 36 | T51: 1.3030843 | U51: 17.880058 | V51: 0.01 | W51: 0.01 | X51: 0 | Y51: 0 | AA51: 349 | AB51: 112.91001 | AC51: 200 | AD51: 0.56455004 | AE51: -357.2219 | AH51: 270 | AI51: 393 | AK51: 900.74928 | AL51: 291.41435 | AM51: 693.7 | AN51: 0.420087 | AO51: -1548.7814 | AR51: 1244 | AS51: 1673 | AU51: 2003.3108 | AV51: 648.11989 | AW51: 573 | AX51: 1.1310993 | AY51: -20.014921 | AZ51: 0.01425 | BA51: 0.00975 | BB51: 0 | BC51: 123 | BE51: 223.8 | BF51: 72.404756 | BG51: 65 | BH51: 1.1139193 | BI51: -5.7221172 | BJ51: 0.01275 | BK51: 0.00825 | BL51: 0 | BM51: 18 | BO51: 406 | BP51: 131.3509 | BQ51: 78 | BR51: 1.6839859 | BS51: 130.57346 | BT51: 0.0075 | BU51: 0.0075 | BV51: 0 | BW51: 0 | BY51: 0.99695895 | BZ51: 1 | CA51: 0.99878358 | CB51: 0.9 | CC51: 0.0025 | CD51: =D51*AM51 -> 2144.197
A52: BAS_RHIN | B52: SELESTAT | C52: SELESTAT CENTRE | D52: 8.3391041 | F52: 0.0495 | G52: 0.03875 | I52: 6 | J52: 5 | L52: 0.35460545 | M52: 0.529 | N52: 0.7 | Q52: 341 | R52: 40.891683 | S52: 36 | T52: 1.1358801 | U52: -1.9573326 | V52: 0.0095 | W52: 0.007 | X52: 0 | Y52: 20 | AA52: 1005 | AB52: 120.51654 | AC52: 200 | AD52: 0.60258271 | AE52: -900.31851 | AH52: 663 | AI52: 997 | AK52: 6387.7086 | AL52: 765.99458 | AM52: 781.5 | AN52: 0.98015941 | AO52: -1057.3235 | AP52: 0.0015 | AR52: 130 | AS52: 1433 | AU52: 5577.8522 | AV52: 668.87907 | AW52: 573 | AX52: 1.1673282 | AY52: 119.1147 | AZ52: 0.015 | BA52: 0.01275 | BB52: 0 | BC52: 157 | BE52: 607 | BF52: 72.789593 | BG52: 65 | BH52: 1.1198399 | BI52: -12.228517 | BJ52: 0.0135 | BK52: 0.009 | BL52: 0 | BM52: 44 | BO52: 1067 | BP52: 127.95139 | BQ52: 78 | BR52: 1.6404025 | BS52: 323.92578 | BT52: 0.0075 | BU52: 0.0075 | BV52: 0 | BW52: 0 | BY52: 0.99944843 | BZ52: 1 | CA52: 0.99977937 | CB52: 0.9 | CC52: 0.0025 | CD52: =D52*AM52 -> 6517.0099
A53: BAS_RHIN | B53: SELESTAT | C53: VILLE | D53: 2.8860805 | F53: 0.028 | G53: 0.02125 | I53: 6 | J53: 5 | L53: 0.71 | M53: 0.661 | N53: 0.7 | Q53: 130 | R53: 45.043789 | S53: 36 | T53: 1.2512164 | U53: 11.3059 | V53: 0.01 | W53: 0.01 | X53: 0 | Y53: 0 | AA53: 563 | AB53: 195.07426 | AC53: 200 | AD53: 0.97537128 | AE53: -96.411665 | AF53: 0.001 | AH53: 15 | AI53: 130 | AK53: 2254.0149 | AL53: 780.99518 | AM53: 780.5 | AN53: 1.0006344 | AO53: -319.3391 | AP53: 0.0025 | AQ53: 0.0005 | AR53: 0 | AS53: 450 | AU53: 1664.7951 | AV53: 576.83598 | AW53: 573 | AX53: 1.0066946 | AY53: -224.41936 | AZ53: 0.0045 | BA53: 0.00075 | BB53: 0 | BC53: 320 | BE53: 175.4 | BF53: 60.774466 | BG53: 65 | BH53: 0.93499179 | BI53: -38.908791 | BL53: 13 | BM53: 50 | BO53: 408 | BP53: 141.3682 | BQ53: 78 | BR53: 1.8124128 | BS53: 150.82945 | BT53: 0.0075 | BU53: 0.0075 | BV53: 0 | BW53: 0 | BY53: 0.98142415 | BZ53: 1 | CA53: 0.99256966 | CB53: 0.9 | CC53: 0.0025 | CD53: =D53*AM53 -> 2252.5858
A54: BAS_RHIN | B54: SELESTAT | C54: WASSELONNE | D54: 4.5130609 | F54: 0.0465 | G54: 0.045 | I54: 6 | J54: 5 | L54: 0.46039711 | M54: 0.584 | N54: 0.7 | Q54: 197 | R54: 43.651084 | S54: 36 | T54: 1.2125301 | U54: 11.394054 | V54: 0.01 | W54: 0.01 | X54: 0 | Y54: 0 | AA54: 699 | AB54: 154.8838 | AC54: 200 | AD54: 0.77441898 | AE54: -332.14415 | AH54: 204 | AI54: 385 | AK54: 5105.2472 | AL54: 1131.2161 | AM54: 823.8 | AN54: 1.3731684 | AO54: 857.96443 | AP54: 0.01 | AQ54: 0.01 | AR54: 0 | AS54: 0 | AU54: 3487.6537 | AV54: 772.7912 | AW54: 573 | AX54: 1.3486757 | AY54: 533.42576 | AZ54: 0.015 | BA54: 0.015 | BB54: 0 | BC54: 0 | BE54: 284.4 | BF54: 63.017098 | BG54: 65 | BH54: 0.96949382 | BI54: -50.721848 | BJ54: 0.0015 | BL54: 9 | BM54: 68 | BO54: 776 | BP54: 171.94539 | BQ54: 78 | BR54: 2.204428 | BS54: 373.85378 | BT54: 0.0075 | BU54: 0.0075 | BV54: 0 | BW54: 0 | BY54: 0.99603779 | BZ54: 1 | CA54: 0.99841512 | CB54: 0.9 | CC54: 0.0025 | CD54: =D54*AM54 -> 3717.8595
A55: BAS_RHIN | B55: STRASBOURG | C55: BISCHHEIM | D55: 3.4333982 | F55: 0.01875 | G55: 0.013 | I55: 5 | J55: 4 | L55: 0.78 | M55: 0.568 | N55: 0.7 | Q55: 125 | R55: 36.407079 | S55: 36 | T55: 1.0113077 | U55: -16.203309 | V55: 0.003 | W55: 0.0005 | X55: 0 | Y55: 24 | AA55: 370 | AB55: 107.76495 | AC55: 200 | AD55: 0.53882476 | AE55: -414.46283 | AH55: 317 | AI55: 455 | AK55: 2978.7537 | AL55: 867.58178 | AM55: 828 | AN55: 1.0478041 | AO55: -268.92237 | AP55: 0.005 | AQ55: 0.0025 | AR55: 0 | AS55: 433 | AU55: 1889.1998 | AV55: 550.24195 | AW55: 573 | AX55: 0.96028264 | AY55: -358.28625 | AZ55: 0.00075 | BB55: 79 | BC55: 472 | BE55: 208.2 | BF55: 60.63963 | BG55: 65 | BH55: 0.93291739 | BI55: -46.75042 | BL55: 15 | BM55: 60 | BO55: 445 | BP55: 129.6092 | BQ55: 78 | BR55: 1.6616564 | BS55: 139.0595 | BT55: 0.0075 | BU55: 0.0075 | BV55: 0 | BW55: 0 | BY55: 0.99794239 | BZ55: 1 | CA55: 0.99917695 | CB55: 0.9 | CC55: 0.0025 | CD55: =D55*AM55 -> 2842.8537
A56: BAS_RHIN | B56: STRASBOURG | C56: MUNDOLSHEIM | D56: 4.0058121 | F56: 0.05125 | G56: 0.0445 | I56: 7 | J56: 7 | L56: 0.676773 | M56: 0.702 | N56: 0.7 | O56: 0.001 | Q56: 233 | R56: 58.165484 | S56: 36 | T56: 1.6157079 | U56: 68.25537 | V56: 0.01 | W56: 0.01 | X56: 0 | Y56: 0 | AA56: 575 | AB56: 143.54143 | AC56: 200 | AD56: 0.71770716 | AE56: -340.24795 | AH56: 227 | AI56: 387 | AK56: 4122.0951 | AL56: 1029.0286 | AM56: 828 | AN56: 1.2427881 | AO56: 332.96862 | AP56: 0.01 | AQ56: 0.01 | AR56: 0 | AS56: 0 | AU56: 2660.3667 | AV56: 664.12669 | AW56: 573 | AX56: 1.1590344 | AY56: 38.181354 | AZ56: 0.015 | BA56: 0.012 | BB56: 0 | BC56: 95 | BE56: 265 | BF56: 66.153877 | BG56: 65 | BH56: 1.017752 | BI56: -32.455582 | BJ56: 0.00525 | BK56: 0.0015 | BL56: 0 | BM56: 48 | BO56: 495 | BP56: 123.57045 | BQ56: 78 | BR56: 1.5842365 | BS56: 138.0533 | BT56: 0.0075 | BU56: 0.0075 | BV56: 0 | BW56: 0 | BY56: 0.99810516 | BZ56: 1 | CA56: 0.99924207 | CB56: 0.9 | CC56: 0.0025 | CD56: =D56*AM56 -> 3316.8124
A57: BAS_RHIN | B57: STRASBOURG | C57: OBERHAUSBERGEN | D57: 4.8459355 | F57: 0.039 | G57: 0.03225 | I57: 6 | J57: 6 | L57: 0.86745098 | M57: 0.744 | N57: 0.7 | O57: 0.006 | Q57: 234 | R57: 48.287889 | S57: 36 | T57: 1.3413303 | U57: 34.704116 | V57: 0.01 | W57: 0.01 | X57: 0 | Y57: 0 | AA57: 722 | AB57: 148.99084 | AC57: 200 | AD57: 0.74495419 | AE57: -385.19935 | AH57: 248 | AI57: 442 | AK57: 4467.8927 | AL57: 921.98764 | AM57: 828 | AN57: 1.1135116 | AO57: -115.91262 | AP57: 0.0085 | AQ57: 0.0055 | AR57: 0 | AS57: 348 | AU57: 2590.0123 | AV57: 534.47106 | AW57: 573 | AX57: 0.93275927 | AY57: -582.11382 | BB57: 187 | BC57: 743 | BE57: 317.3 | BF57: 65.477553 | BG57: 65 | BH57: 1.007347 | BI57: -42.53979 | BJ57: 0.0045 | BK57: 0.00075 | BL57: 0 | BM57: 61 | BO57: 562 | BP57: 115.97348 | BQ57: 78 | BR57: 1.4868395 | BS57: 130.19225 | BT57: 0.0075 | BU57: 0.0075 | BV57: 0 | BW57: 0 | BY57: 0.9964957 | BZ57: 1 | CA57: 0.99859828 | CB57: 0.9 | CC57: 0.0025 | CD57: =D57*AM57 -> 4012.4346
A58: BAS_RHIN | B58: STRASBOURG | C58: REICHSTETT | D58: 1.5977126 | F58: 0.03975 | G58: 0.03525 | I58: 5 | J58: 5 | L58: 0.5 | M58: 0.418 | N58: 0.7 | Q58: 74 | R58: 46.316216 | S58: 36 | T58: 1.2865616 | U58: 8.2918344 | V58: 0.01 | W58: 0.01 | X58: 0 | Y58: 0 | AA58: 252 | AB58: 157.72549 | AC58: 200 | AD58: 0.78862746 | AE58: -113.04536 | AH58: 68 | AI58: 132 | AK58: 1635.5934 | AL58: 1023.7094 | AM58: 828 | AN58: 1.236364 | AO58: 124.30555 | AP58: 0.01 | AQ58: 0.01 | AR58: 0 | AS58: 0 | AU58: 727.03336 | AV58: 455.04641 | AW58: 573 | AX58: 0.79414731 | AY58: -318.82161 | BB58: 189 | BC58: 372 | BE58: 111.3 | BF58: 69.662093 | BG58: 65 | BH58: 1.0717245 | BI58: -7.3397435 | BJ58: 0.00975 | BK58: 0.00525 | BL58: 0 | BM58: 14 | BO58: 206 | BP58: 128.93433 | BQ58: 78 | BR58: 1.6530042 | BS58: 63.632308 | BT58: 0.0075 | BU58: 0.0075 | BV58: 0 | BW58: 0 | BY58: 0.99745763 | BZ58: 1 | CA58: 0.99898305 | CB58: 0.9 | CC58: 0.0025 | CD58: =D58*AM58 -> 1322.906
A59: BAS_RHIN | B59: STRASBOURG | C59: SCHILTIGHEIM CENTRE | D59: 3.5664127 | F59: 0.0355 | G59: 0.02925 | I59: 5 | J59: 5 | L59: 0.61 | M59: 0.408 | N59: 0.7 | Q59: 233 | R59: 65.331755 | S59: 36 | T59: 1.814771 | U59: 86.326285 | V59: 0.01 | W59: 0.01 | X59: 0 | Y59: 0 | AA59: 485 | AB59: 135.99099 | AC59: 200 | AD59: 0.67995496 | AE59: -329.85397 | AH59: 229 | AI59: 371 | AK59: 3060.1042 | AL59: 858.03424 | AM59: 775.4 | AN59: 1.1065698 | AO59: -99.084652 | AP59: 0.008 | AQ59: 0.0055 | AR59: 0 | AS59: 259 | AU59: 2145.3643 | AV59: 601.54684 | AW59: 573 | AX59: 1.04982 | AY59: -189.19235 | AZ59: 0.0075 | BA59: 0.00375 | BB59: 0 | BC59: 307 | BE59: 180.5 | BF59: 50.61108 | BG59: 65 | BH59: 0.77863201 | BI59: -84.327541 | BL59: 52 | BM59: 98 | BO59: 521 | BP59: 146.08517 | BQ59: 78 | BR59: 1.8728868 | BS59: 203.20695 | BT59: 0.0075 | BU59: 0.0075 | BV59: 0 | BW59: 0 | BY59: 0.99872774 | BZ59: 1 | CA59: 0.99949109 | CB59: 0.9 | CC59: 0.0025 | CD59: =D59*AM59 -> 2765.3964
A60: BAS_RHIN | B60: STRASBOURG | C60: SCHILTIGHEIM KLEBER | D60: 2.9719176 | F60: 0.0105 | G60: 0.0075 | I60: 2 | J60: 2 | L60: 0.53 | M60: 0.536 | N60: 0.7 | Q60: 118 | R60: 39.705004 | S60: 36 | T60: 1.1029168 | U60: -4.2242715 | V60: 0.008 | W60: 0.005 | X60: 0 | Y60: 11 | AA60: 261 | AB60: 87.822085 | AC60: 200 | AD60: 0.43911043 | AE60: -418.02373 | AH60: 334 | AI60: 453 | AK60: 1614.3273 | AL60: 543.19383 | AM60: 753.1 | AN60: 0.72127716 | AO60: -942.53656 | AR60: 624 | AS60: 1072 | AU60: 1115.9497 | AV60: 375.49819 | AW60: 573 | AX60: 0.6553197 | AY60: -829.45332 | BB60: 587 | BC60: 928 | BE60: 173.3 | BF60: 58.312519 | BG60: 65 | BH60: 0.89711567 | BI60: -47.382712 | BL60: 20 | BM60: 59 | BO60: 131 | BP60: 44.079284 | BQ60: 78 | BR60: 0.56511903 | BS60: -133.81925 | BV60: 101 | BW60: 148 | BY60: 0.99894124 | BZ60: 1 | CA60: 0.9995765 | CB60: 0.9 | CC60: 0.0025 | CD60: =D60*AM60 -> 2238.1511
A61: BAS_RHIN | B61: STRASBOURG | C61: STRASBOURG ANVERS | D61: 4.458173 | F61: 0.04275 | G61: 0.03825 | I61: 5 | J61: 5 | L61: 0.72 | M61: 0.549 | N61: 0.7 | Q61: 241 | R61: 54.058018 | S61: 36 | T61: 1.5016116 | U61: 57.651392 | V61: 0.01 | W61: 0.01 | X61: 0 | Y61: 0 | AA61: 441 | AB61: 98.919444 | AC61: 200 | AD61: 0.49459722 | AE61: -577.60338 | AH61: 451 | AI61: 629 | AK61: 5110.7323 | AL61: 1146.3737 | AM61: 828 | AN61: 1.3845093 | AO61: 893.71429 | AP61: 0.01 | AQ61: 0.01 | AR61: 0 | AS61: 0 | AU61: 2839.2359 | AV61: 636.86085 | AW61: 573 | AX61: 1.11145 | AY61: -79.06279 | AZ61: 0.01275 | BA61: 0.00825 | BB61: 0 | BC61: 227 | BE61: 275.4 | BF61: 61.774184 | BG61: 65 | BH61: 0.95037206 | BI61: -55.646097 | BJ61: 0 | BL61: 15 | BM61: 73 | BO61: 728 | BP61: 163.29559 | BQ61: 78 | BR61: 2.0935332 | BS61: 330.74468 | BT61: 0.0075 | BU61: 0.0075 | BV61: 0 | BW61: 0 | BY61: 0.99798874 | BZ61: 1 | CA61: 0.99919549 | CB61: 0.9 | CC61: 0.0025 | CD61: =D61*AM61 -> 3691.3673
A62: BAS_RHIN | B62: STRASBOURG | C62: STRASBOURG AUSTERLITZ | D62: 2.3558051 | F62: 0.03125 | G62: 0.024875 | I62: 4 | J62: 4 | L62: 0.35 | M62: 0.357 | N62: 0.7 | Q62: 136 | R62: 57.729733 | S62: 36 | T62: 1.6036037 | U62: 39.114217 | V62: 0.01 | W62: 0.01 | X62: 0 | Y62: 0 | AA62: 429 | AB62: 182.10335 | AC62: 200 | AD62: 0.91051675 | AE62: -109.25435 | AH62: 43 | AI62: 137 | AK62: 1618.7648 | AL62: 687.13869 | AM62: 828 | AN62: 0.82987765 | AO62: -609.60817 | AR62: 332 | AS62: 722 | AU62: 1125.8249 | AV62: 477.89389 | AW62: 573 | AX62: 0.83402075 | AY62: -416.27386 | BB62: 225 | BC62: 495 | BE62: 173.1 | BF62: 73.478065 | BG62: 65 | BH62: 1.1304318 | BI62: -1.832664 | BJ62: 0.01425 | BK62: 0.00975 | BL62: 0 | BM62: 11 | BO62: 196 | BP62: 83.198733 | BQ62: 78 | BR62: 1.0666504 | BS62: -13.919197 | BT62: 0.0045 | BU62: 0.002625 | BV62: 0 | BW62: 25 | BY62: 0.99767981 | BZ62: 1 | CA62: 0.99907193 | CB62: 0.9 | CC62: 0.0025 | CD62: =D62*AM62 -> 1950.6066
A63: BAS_RHIN | B63: STRASBOURG | C63: STRASBOURG CRONENBOURG | D63: 4.8642478 | F63: 0.037 | G63: 0.03325 | I63: 5 | J63: 5 | L63: 0.78 | M63: 0.76 | N63: 0.7 | O63: 0.008 | Q63: 301 | R63: 61.880071 | S63: 36 | T63: 1.7188909 | U63: 100.951 | V63: 0.01 | W63: 0.01 | X63: 0 | Y63: 0 | AA63: 790 | AB63: 162.40949 | AC63: 200 | AD63: 0.81204745 | AE63: -321.38333 | AH63: 183 | AI63: 378 | AK63: 2934.5934 | AL63: 603.2985 | AM63: 718.8 | AN63: 0.83931344 | AO63: -1059.7183 | AR63: 562 | AS63: 1262 | AU63: 2237.5805 | AV63: 460.00546 | AW63: 573 | AX63: 0.80280185 | AY63: -946.53272 | BB63: 550 | BC63: 1108 | BE63: 338.4 | BF63: 69.568824 | BG63: 65 | BH63: 1.0702896 | BI63: -22.799583 | BJ63: 0.009 | BK63: 0.00525 | BL63: 0 | BM63: 42 | BO63: 634 | BP63: 130.33876 | BQ63: 78 | BR63: 1.6710097 | BS63: 200.5605 | BT63: 0.0075 | BU63: 0.0075 | BV63: 0 | BW63: 0 | BY63: 0.99957841 | BZ63: 1 | CA63: 0.99983137 | CB63: 0.9 | CC63: 0.0025 | CD63: =D63*AM63 -> 3496.4213
A64: BAS_RHIN | B64: STRASBOURG | C64: STRASBOURG DANUBE | D64: 4.5506157 | F64: 0.02275 | G64: 0.01125 | I64: 5 | J64: 4 | L64: 0.38595547 | M64: 0.259 | N64: 0.7 | Q64: 166 | R64: 36.47858 | S64: 36 | T64: 1.0132939 | U64: -21.150443 | V64: 0.003 | W64: 0.0005 | X64: 0 | Y64: 31 | AA64: 608 | AB64: 133.60829 | AC64: 200 | AD64: 0.66804146 | AE64: -431.72468 | AH64: 303 | AI64: 485 | AK64: 2716.3451 | AL64: 596.91814 | AM64: 823.6 | AN64: 0.72476705 | AO64: -1565.2411 | AR64: 1032 | AS64: 1782 | AU64: 2675.1454 | AV64: 587.86449 | AW64: 573 | AX64: 1.0259415 | AY64: -303.66584 | AZ64: 0.006 | BA64: 0.00225 | BB64: 0 | BC64: 454 | BE64: 318.4 | BF64: 69.968553 | BG64: 65 | BH64: 1.0764393 | BI64: -19.510522 | BJ64: 0.00975 | BK64: 0.006 | BL64: 0 | BM64: 37 | BO64: 351 | BP64: 77.132419 | BQ64: 78 | BR64: 0.98887717 | BS64: -54.492626 | BT64: 0.0015 | BV64: 4 | BW64: 75 | BY64: 0.99981185 | BZ64: 1 | CA64: 0.99992474 | CB64: 0.9 | CC64: 0.0025 | CD64: =D64*AM64 -> 3747.8871
A65: BAS_RHIN | B65: STRASBOURG | C65: STRASBOURG FRANCS BOURGEOIS | D65: 4.6711098 | F65: 0.03075 | G65: 0.0295 | I65: 5 | J65: 4 | L65: 0.53 | M65: 0.618 | N65: 0.7 | Q65: 207 | R65: 44.314951 | S65: 36 | T65: 1.2309709 | U65: 14.894071 | V65: 0.01 | W65: 0.01 | X65: 0 | Y65: 0 | AA65: 605 | AB65: 129.51954 | AC65: 200 | AD65: 0.64759771 | AE65: -462.25516 | AH65: 330 | AI65: 517 | AK65: 4591.0585 | AL65: 982.86246 | AM65: 828 | AN65: 1.187032 | AO65: 172.62209 | AP65: 0.01 | AQ65: 0.0095 | AR65: 0 | AS65: 51 | AU65: 2563.4055 | AV65: 548.7787 | AW65: 573 | AX65: 0.95772897 | AY65: -494.28049 | AZ65: 0.00075 | BB65: 114 | BC65: 649 | BE65: 157.9 | BF65: 33.80353 | BG65: 65 | BH65: 0.52005431 | BI65: -188.95793 | BL65: 146 | BM65: 207 | BO65: 688 | BP65: 147.28834 | BQ65: 78 | BR65: 1.888312 | BS65: 271.77049 | BT65: 0.0075 | BU65: 0.0075 | BV65: 0 | BW65: 0 | BY65: 0.99810534 | BZ65: 1 | CA65: 0.99924214 | CB65: 0.9 | CC65: 0.0025 | CD65: =D65*AM65 -> 3867.6789
A66: BAS_RHIN | B66: STRASBOURG | C66: STRASBOURG HALLES | D66: 7.9364296 | F66: 0.024 | G66: 0.022 | I66: 5 | J66: 4 | L66: 0.67 | M66: 0.72 | N66: 0.7 | O66: 0.002 | Q66: 699 | R66: 88.07487 | S66: 36 | T66: 2.4465242 | U66: 372.60322 | V66: 0.01 | W66: 0.01 | X66: 0 | Y66: 0 | AA66: 710 | AB66: 89.460883 | AC66: 200 | AD66: 0.44730442 | AE66: -1103.3154 | AH66: 878 | AI66: 1195 | AK66: 5865.6139 | AL66: 739.07465 | AM66: 748.6 | AN66: 0.98727578 | AO66: -921.62575 | AP66: 0.002 | AR66: 76 | AS66: 1264 | AU66: 3462.0548 | AV66: 436.22322 | AW66: 573 | AX66: 0.76129706 | AY66: -1733.0939 | BB66: 1086 | BC66: 1996 | BE66: 467.7 | BF66: 58.930782 | BG66: 65 | BH66: 0.90662742 | BI66: -121.62751 | BL66: 49 | BM66: 152 | BO66: 1050 | BP66: 132.30131 | BQ66: 78 | BR66: 1.6961706 | BS66: 342.80698 | BT66: 0.0075 | BU66: 0.0075 | BV66: 0 | BW66: 0 | BY66: 0.99754787 | BZ66: 1 | CA66: 0.99901915 | CB66: 0.9 | CC66: 0.0025 | CD66: =D66*AM66 -> 5941.2112
A67: BAS_RHIN | B67: STRASBOURG | C67: STRASBOURG KOENIGSHOFFEN | D67: 2.1174603 | F67: 0.06 | G67: 0.06 | I67: 6 | J67: 6 | L67: 0.42 | M67: 0.505 | N67: 0.7 | Q67: 179 | R67: 84.535232 | S67: 36 | T67: 2.3482009 | U67: 91.91648 | V67: 0.01 | W67: 0.01 | X67: 0 | Y67: 0 | AA67: 309 | AB67: 145.92954 | AC67: 200 | AD67: 0.72964768 | AE67: -174.79733 | AH67: 115 | AI67: 200 | AK67: 1934.2452 | AL67: 913.47414 | AM67: 709.4 | AN67: 1.2876715 | AO67: 218.21611 | AP67: 0.01 | AQ67: 0.01 | AR67: 0 | AS67: 0 | AU67: 1559.0324 | AV67: 736.27467 | AW67: 573 | AX67: 1.2849471 | AY67: 172.95303 | AZ67: 0.015 | BA67: 0.015 | BB67: 0 | BC67: 0 | BE67: 193.1 | BF67: 91.194153 | BG67: 65 | BH67: 1.402987 | BI67: 35.865867 | BJ67: 0.015 | BK67: 0.015 | BL67: 0 | BM67: 0 | BO67: 202 | BP67: 95.397301 | BQ67: 78 | BR67: 1.2230423 | BS67: 13.31904 | BT67: 0.0075 | BU67: 0.0075 | BV67: 0 | BW67: 0 | BY67: 0.99698146 | BZ67: 1 | CA67: 0.99879258 | CB67: 0.9 | CC67: 0.0025 | CD67: =D67*AM67 -> 1502.1263
A68: BAS_RHIN | B68: STRASBOURG | C68: STRASBOURG MEINAU | D68: 3.3942761 | F68: 0.053 | G68: 0.04225 | I68: 6 | J68: 6 | L68: 0.29 | M68: 0.603 | N68: 0.7 | Q68: 212 | R68: 62.458089 | S68: 36 | T68: 1.7349469 | U68: 72.405644 | V68: 0.01 | W68: 0.01 | X68: 0 | Y68: 0 | AA68: 474 | AB68: 139.64686 | AC68: 200 | AD68: 0.6982343 | AE68: -301.5242 | AH68: 205 | AI68: 341 | AK68: 2870.4098 | AL68: 845.66185 | AM68: 750.3 | AN68: 1.1270983 | AO68: -38.969244 | AP68: 0.009 | AQ68: 0.0065 | AR68: 0 | AS68: 186 | AU68: 2159.7595 | AV68: 636.29458 | AW68: 573 | AX68: 1.1104617 | AY68: -62.117349 | AZ68: 0.01275 | BA68: 0.00825 | BB68: 0 | BC68: 175 | BE68: 241.9 | BF68: 71.267037 | BG68: 65 | BH68: 1.096416 | BI68: -10.145366 | BJ68: 0.01125 | BK68: 0.0075 | BL68: 0 | BM68: 23 | BO68: 357 | BP68: 105.17707 | BQ68: 78 | BR68: 1.3484239 | BS68: 54.545561 | BT68: 0.0075 | BU68: 0.0075 | BV68: 0 | BW68: 0 | BY68: 0.99937539 | BZ68: 1 | CA68: 0.99975016 | CB68: 0.9 | CC68: 0.0025 | CD68: =D68*AM68 -> 2546.7254
A69: BAS_RHIN | B69: STRASBOURG | C69: STRASBOURG MONTAGNE VERTE | D69: 2.353727 | F69: 0.04625 | G69: 0.04175 | I69: 5 | J69: 5 | L69: 0.65 | M69: 0.456 | N69: 0.7 | Q69: 158 | R69: 67.127582 | S69: 36 | T69: 1.864655 | U69: 61.199683 | V69: 0.01 | W69: 0.01 | X69: 0 | Y69: 0 | AA69: 228 | AB69: 96.86765 | AC69: 200 | AD69: 0.48433825 | AE69: -309.77954 | AH69: 243 | AI69: 337 | AK69: 1633.4845 | AL69: 693.99916 | AM69: 734.5 | AN69: 0.9448593 | AO69: -341.51082 | AR69: 96 | AS69: 442 | AU69: 1471.916 | AV69: 625.35544 | AW69: 573 | AX69: 1.0913708 | AY69: -68.822412 | AZ69: 0.01125 | BA69: 0.00675 | BB69: 0 | BC69: 147 | BE69: 187.6 | BF69: 79.703382 | BG69: 65 | BH69: 1.2262059 | BI69: 12.82165 | BJ69: 0.015 | BK69: 0.015 | BL69: 0 | BM69: 0 | BO69: 241 | BP69: 102.3908 | BQ69: 78 | BR69: 1.3127026 | BS69: 31.265979 | BT69: 0.0075 | BU69: 0.0075 | BV69: 0 | BW69: 0 | BY69: 0.99937383 | BZ69: 1 | CA69: 0.99974953 | CB69: 0.9 | CC69: 0.0025 | CD69: =D69*AM69 -> 1728.8125
A70: BAS_RHIN | B70: STRASBOURG | C70: STRASBOURG NEUDORF | D70: 8.5089538 | F70: 0.021 | G70: 0.021 | I70: 4 | J70: 4 | L70: 0.84244598 | M70: 0.713 | N70: 0.7 | O70: 0.001 | Q70: 372 | R70: 43.718653 | S70: 36 | T70: 1.214407 | U70: 22.057363 | V70: 0.01 | W70: 0.01 | X70: 0 | Y70: 0 | AA70: 621 | AB70: 72.981945 | AC70: 200 | AD70: 0.36490973 | AE70: -1323.1258 | AH70: 1081 | AI70: 1422 | AK70: 4934.757 | AL70: 579.94874 | AM70: 728.4 | AN70: 0.79619542 | AO70: -2145.749 | AR70: 1264 | AS70: 2503 | AU70: 3152.6433 | AV70: 370.50892 | AW70: 573 | AX70: 0.64661243 | AY70: -2417.277 | BB70: 1723 | BC70: 2699 | BE70: 422.7 | BF70: 49.677083 | BG70: 65 | BH70: 0.76426281 | BI70: -209.14087 | BL70: 131 | BM70: 241 | BO70: 804 | BP70: 94.488702 | BQ70: 78 | BR70: 1.2113936 | BS70: 45.790952 | BT70: 0.0075 | BU70: 0.0075 | BV70: 0 | BW70: 0 | BY70: 0.99813009 | BZ70: 1 | CA70: 0.99925204 | CB70: 0.9 | CC70: 0.0025 | CD70: =D70*AM70 -> 6197.9219
A71: BAS_RHIN | B71: STRASBOURG | C71: STRASBOURG ROBERTSAU | D71: 6.50576 | F71: 0.027 | G71: 0.01875 | I71: 5 | J71: 4 | L71: 0.59264008 | M71: 0.623 | N71: 0.7 | Q71: 234 | R71: 35.968127 | S71: 36 | T71: 0.99911463 | U71: -33.558489 | V71: 0.0025 | W71: 0 | X71: 1 | Y71: 48 | AA71: 811 | AB71: 124.65876 | AC71: 200 | AD71: 0.62329382 | AE71: -675.43605 | AH71: 491 | AI71: 751 | AK71: 6273.4723 | AL71: 964.29506 | AM71: 828 | AN71: 1.1646076 | AO71: 119.627 | AP71: 0.01 | AQ71: 0.008 | AR71: 0 | AS71: 191 | AU71: 3773.4405 | AV71: 580.01532 | AW71: 573 | AX71: 1.0122431 | AY71: -485.19882 | AZ71: 0.0045 | BA71: 0.00075 | BB71: 0 | BC71: 700 | BE71: 307.1 | BF71: 47.204323 | BG71: 65 | BH71: 0.72622036 | BI71: -175.99172 | BL71: 116 | BM71: 201 | BO71: 887 | BP71: 136.34072 | BQ71: 78 | BR71: 1.7479579 | BS71: 307.28994 | BT71: 0.0075 | BU71: 0.0075 | BV71: 0 | BW71: 0 | BY71: 0.99637587 | BZ71: 1 | CA71: 0.99855035 | CB71: 0.9 | CC71: 0.0025 | CD71: =D71*AM71 -> 5386.7693
A72: BAS_RHIN | B72: STRASBOURG | C72: STRASBOURG VOSGES | D72: 3.2863748 | F72: 0.033 | G72: 0.02625 | I72: 5 | J72: 5 | L72: 0.26 | M72: 0.452 | N72: 0.7 | Q72: 149 | R72: 45.338712 | S72: 36 | T72: 1.2594087 | U72: 13.843236 | V72: 0.01 | W72: 0.01 | X72: 0 | Y72: 0 | AA72: 284 | AB72: 86.417411 | AC72: 200 | AD72: 0.43208705 | AE72: -466.87091 | AH72: 374 | AI72: 505 | AK72: 2946.7045 | AL72: 896.64286 | AM72: 828 | AN72: 1.082902 | AO72: -161.90109 | AP72: 0.007 | AQ72: 0.004 | AR72: 0 | AS72: 319 | AU72: 1937.5464 | AV72: 589.56952 | AW72: 573 | AX72: 1.0289171 | AY72: -213.69877 | AZ72: 0.006 | BA72: 0.00225 | BB72: 0 | BC72: 323 | BE72: 130.2 | BF72: 39.618123 | BG72: 65 | BH72: 0.60950958 | BI72: -113.83305 | BL72: 84 | BM72: 127 | BO72: 399 | BP72: 121.41038 | BQ72: 78 | BR72: 1.5565433 | BS72: 106.16034 | BT72: 0.0075 | BU72: 0.0075 | BV72: 0 | BW72: 0 | BY72: 0.99867257 | BZ72: 1 | CA72: 0.99946903 | CB72: 0.9 | CC72: 0.0025 | CD72: =D72*AM72 -> 2721.1183
A73: HAUT_RHIN | B73: COLMAR | C73: COLMAR MARAICHERS | D73: 4.6677861 | F73: 0.0225 | G73: 0.017625 | I73: 4 | J73: 3 | L73: 0.63 | M73: 0.468 | N73: 0.7 | Q73: 200 | R73: 42.846865 | S73: 36 | T73: 1.1901907 | U73: 8.0307608 | V73: 0.01 | W73: 0.0095 | X73: 0 | Y73: 2 | AA73: 552 | AB73: 118.25735 | AC73: 200 | AD73: 0.59128673 | AE73: -514.49577 | AH73: 382 | AI73: 569 | AK73: 3847.3301 | AL73: 824.23017 | AM73: 828 | AN73: 0.99544707 | AO73: -567.96235 | AP73: 0.0025 | AQ73: 0 | AR73: 18 | AS73: 791 | AU73: 1923.8354 | AV73: 412.15157 | AW73: 573 | AX73: 0.7192872 | AY73: -1131.675 | BB73: 751 | BC73: 1286 | BE73: 225.2 | BF73: 48.24557 | BG73: 65 | BH73: 0.74223953 | BI73: -121.41113 | BL73: 79 | BM73: 139 | BO73: 419 | BP73: 89.764181 | BQ73: 78 | BR73: 1.1508228 | BS73: 3.0666485 | BT73: 0.0075 | BU73: 0.005625 | BV73: 0 | BW73: 18 | BY73: 0.98757683 | BZ73: 1 | CA73: 0.99503073 | CB73: 0.9 | CC73: 0.0025 | CD73: =D73*AM73 -> 3864.9269
A74: HAUT_RHIN | B74: COLMAR | C74: COLMAR REPUBLIQUE | D74: 7.9590446 | F74: 0.0305 | G74: 0.026 | I74: 4 | J74: 4 | L74: 0.67 | M74: 0.339 | N74: 0.7 | Q74: 261 | R74: 32.792881 | S74: 36 | T74: 0.91091335 | U74: -66.326853 | X74: 26 | Y74: 83 | AA74: 941 | AB74: 118.23027 | AC74: 200 | AD74: 0.59115135 | AE74: -877.48252 | AH74: 651 | AI74: 970 | AK74: 8243.266 | AL74: 1035.7105 | AM74: 828 | AN74: 1.2508581 | AO74: 714.74839 | AP74: 0.01 | AQ74: 0.01 | AR74: 0 | AS74: 0 | AU74: 4945.3035 | AV74: 621.34386 | AW74: 573 | AX74: 1.0843697 | AY74: -264.64893 | AZ74: 0.0105 | BA74: 0.006 | BB74: 0 | BC74: 528 | BE74: 424.4 | BF74: 53.322983 | BG74: 65 | BH74: 0.82035358 | BI74: -166.60682 | BL74: 93 | BM74: 197 | BO74: 904 | BP74: 113.58147 | BQ74: 78 | BR74: 1.4561727 | BS74: 194.79182 | BT74: 0.0075 | BU74: 0.0075 | BV74: 0 | BW74: 0 | BY74: 0.99461137 | BZ74: 1 | CA74: 0.99784455 | CB74: 0.9 | CC74: 0.0025 | CD74: =D74*AM74 -> 6590.089
A75: HAUT_RHIN | B75: COLMAR | C75: COLMAR SAINTE MARIE | D75: 7.0505428 | F75: 0.016 | G75: 0.013125 | I75: 3 | J75: 3 | L75: 0.33 | M75: 0.532 | N75: 0.7 | Q75: 271 | R75: 38.436757 | S75: 36 | T75: 1.0676877 | U75: -18.963441 | V75: 0.006 | W75: 0.0035 | X75: 0 | Y75: 34 | AA75: 507 | AB75: 71.909358 | AC75: 200 | AD75: 0.35954679 | AE75: -1103.908 | AH75: 904 | AI75: 1186 | AK75: 3368.0079 | AL75: 477.69485 | AM75: 809.9 | AN75: 0.58981954 | AO75: -3155.364 | AR75: 2343 | AS75: 3485 | AU75: 3344.6923 | AV75: 474.38792 | AW75: 573 | AX75: 0.82790212 | AY75: -1270.5592 | BB75: 696 | BC75: 1504 | BE75: 421.4 | BF75: 59.768448 | BG75: 65 | BH75: 0.91951459 | BI75: -102.1451 | BL75: 37 | BM75: 129 | BO75: 652 | BP75: 92.47515 | BQ75: 78 | BR75: 1.1855788 | BS75: 23.745877 | BT75: 0.0075 | BU75: 0.007125 | BV75: 0 | BW75: 8 | BY75: 0.98438279 | BZ75: 1 | CA75: 0.99375312 | CB75: 0.9 | CC75: 0.0025 | CD75: =D75*AM75 -> 5710.2346
A76: HAUT_RHIN | B76: COLMAR | C76: ENSISHEIM | D76: 2.9588746 | F76: 0.02 | G76: 0.02 | I76: 3 | J76: 3 | L76: 0.19486917 | M76: 0.109 | N76: 0.7 | Q76: 131 | R76: 44.27359 | S76: 36 | T76: 1.2298219 | U76: 9.3121394 | V76: 0.01 | W76: 0.01 | X76: 0 | Y76: 0 | AA76: 283 | AB76: 95.644472 | AC76: 200 | AD76: 0.47822236 | AE76: -393.04367 | AH76: 309 | AI76: 428 | AK76: 1565.9167 | AL76: 529.22711 | AM76: 773.2 | AN76: 0.68446342 | AO76: -1047.6682 | AR76: 722 | AS76: 1180 | AU76: 1437.6388 | AV76: 485.87353 | AW76: 573 | AX76: 0.84794682 | AY76: -499.22627 | BB76: 258 | BC76: 597 | BE76: 149.5 | BF76: 50.525967 | BG76: 65 | BH76: 0.77732257 | BI76: -70.214193 | BL76: 43 | BM76: 82 | BO76: 422 | BP76: 142.62179 | BQ76: 78 | BR76: 1.8284845 | BS76: 158.34297 | BT76: 0.0075 | BU76: 0.0075 | BV76: 0 | BW76: 0 | BY76: 0.99411561 | BZ76: 1 | CA76: 0.99764624 | CB76: 0.9 | CC76: 0.0025 | CD76: =D76*AM76 -> 2287.8018
A77: HAUT_RHIN | B77: COLMAR | C77: GUEBWILLER | D77: 5.5406125 | F77: 0.02 | G77: 0.02 | I77: 3 | J77: 3 | L77: 0.73627543 | M77: 0.609 | N77: 0.7 | Q77: 257 | R77: 46.384764 | S77: 36 | T77: 1.2884657 | U77: 29.134555 | V77: 0.01 | W77: 0.01 | X77: 0 | Y77: 0 | AA77: 581 | AB77: 104.86205 | AC77: 200 | AD77: 0.52431027 | AE77: -684.91914 | AH77: 528 | AI77: 749 | AK77: 3498.2386 | AL77: 631.38121 | AM77: 810.1 | AN77: 0.77938676 | AO77: -1629.3668 | AR77: 991 | AS77: 1888 | AU77: 2858.2941 | AV77: 515.88053 | AW77: 573 | AX77: 0.90031506 | AY77: -768.56423 | BB77: 317 | BC77: 952 | BE77: 228.9 | BF77: 41.313122 | BG77: 65 | BH77: 0.63558649 | BI77: -182.52372 | BL77: 132 | BM77: 204 | BO77: 523 | BP77: 94.393896 | BQ77: 78 | BR77: 1.2101782 | BS77: 29.291536 | BT77: 0.0075 | BU77: 0.0075 | BV77: 0 | BW77: 0 | BY77: 0.98904974 | BZ77: 1 | CA77: 0.9956199 | CB77: 0.9 | CC77: 0.0025 | CD77: =D77*AM77 -> 4488.4502
A78: HAUT_RHIN | B78: COLMAR | C78: HORBOURG WIHR | D78: 5.8590003 | F78: 0.0165 | G78: 0.0135 | I78: 3 | J78: 3 | L78: 0.67546536 | M78: 0.615 | N78: 0.7 | Q78: 226 | R78: 38.573133 | S78: 36 | T78: 1.0714759 | U78: -14.959592 | V78: 0.0065 | W78: 0.0035 | X78: 0 | Y78: 28 | AA78: 635 | AB78: 108.38026 | AC78: 200 | AD78: 0.54190132 | AE78: -703.6644 | AH78: 537 | AI78: 772 | AK78: 3825.4266 | AL78: 652.91456 | AM78: 748.1 | AN78: 0.87276375 | AO78: -1181.8476 | AR78: 558 | AS78: 1435 | AU78: 3120.4529 | AV78: 532.59134 | AW78: 573 | AX78: 0.92947878 | AY78: -714.82064 | BB78: 237 | BC78: 909 | BE78: 303.2 | BF78: 51.749442 | BG78: 65 | BH78: 0.79614527 | BI78: -131.86593 | BL78: 78 | BM78: 154 | BO78: 581 | BP78: 99.163674 | BQ78: 78 | BR78: 1.2713292 | BS78: 58.920885 | BT78: 0.0075 | BU78: 0.0075 | BV78: 0 | BW78: 0 | BY78: 0.99381554 | BZ78: 1 | CA78: 0.99752622 | CB78: 0.9 | CC78: 0.0025 | CD78: =D78*AM78 -> 4383.1182
A79: HAUT_RHIN | B79: COLMAR | C79: INGERSHEIM | D79: 5.5539345 | F79: 0.01 | G79: 0.0085 | I79: 2 | J79: 2 | L79: 0.69977844 | M79: 0.6 | N79: 0.7 | Q79: 183 | R79: 32.949615 | S79: 36 | T79: 0.91526707 | U79: -45.413331 | X79: 17 | Y79: 57 | AA79: 642 | AB79: 115.59373 | AC79: 200 | AD79: 0.57796865 | AE79: -626.96295 | AH79: 469 | AI79: 691 | AK79: 4371.8195 | AL79: 787.1572 | AM79: 828 | AN79: 0.95067295 | AO79: -881.6871 | AP79: 0 | AR79: 227 | AS79: 1147 | AU79: 2088.1154 | AV79: 375.97049 | AW79: 573 | AX79: 0.65614396 | AY79: -1547.4634 | BB79: 1095 | BC79: 1731 | BE79: 262.5 | BF79: 47.263791 | BG79: 65 | BH79: 0.72713525 | BI79: -149.91296 | BL79: 99 | BM79: 171 | BO79: 504 | BP79: 90.746479 | BQ79: 78 | BR79: 1.1634164 | BS79: 9.1044499 | BT79: 0.0075 | BU79: 0.006 | BV79: 0 | BW79: 16 | BY79: 0.99109963 | BZ79: 1 | CA79: 0.99643985 | CB79: 0.9 | CC79: 0.0025 | CD79: =D79*AM79 -> 4598.6577
A80: HAUT_RHIN | B80: COLMAR | C80: MUNSTER | D80: 4.8785153 | F80: 0.0405 | G80: 0.03375 | I80: 6 | J80: 6 | L80: 0.65 | M80: 0.711 | N80: 0.7 | O80: 0.001 | Q80: 210 | R80: 43.045883 | S80: 36 | T80: 1.195719 | U80: 9.3642279 | V80: 0.01 | W80: 0.01 | X80: 0 | Y80: 1 | AA80: 637 | AB80: 130.57251 | AC80: 200 | AD80: 0.65286256 | AE80: -477.64318 | AH80: 339 | AI80: 534 | AK80: 4534.4822 | AL80: 929.47996 | AM80: 826.9 | AN80: 1.1240536 | AO80: -74.010011 | AP80: 0.009 | AQ80: 0.006 | AR80: 0 | AS80: 307 | AU80: 3046.7617 | AV80: 624.52642 | AW80: 573 | AX80: 1.0899239 | AY80: -146.691 | AZ80: 0.0105 | BA80: 0.00675 | BB80: 0 | BC80: 308 | BE80: 247.3 | BF80: 50.691652 | BG80: 65 | BH80: 0.77987157 | BI80: -114.95903 | BL80: 70 | BM80: 134 | BO80: 667 | BP80: 136.72192 | BQ80: 78 | BR80: 1.7528452 | BS80: 232.28916 | BT80: 0.0075 | BU80: 0.0075 | BV80: 0 | BW80: 0 | BY80: 0.98927875 | BZ80: 1 | CA80: 0.9957115 | CB80: 0.9 | CC80: 0.0025 | CD80: =D80*AM80 -> 4034.0443
A81: HAUT_RHIN | B81: COLMAR | C81: NEUF BRISACH | D81: 3.588095 | F81: 0.03225 | G81: 0.019625 | I81: 5 | J81: 5 | L81: 0.5 | M81: 0.495 | N81: 0.7 | Q81: 143 | R81: 39.854017 | S81: 36 | T81: 1.107056 | U81: -4.5654299 | V81: 0.008 | W81: 0.0055 | X81: 0 | Y81: 13 | AA81: 291 | AB81: 81.101532 | AC81: 200 | AD81: 0.40550766 | AE81: -528.80794 | AH81: 427 | AI81: 571 | AK81: 1864.6528 | AL81: 519.67765 | AM81: 750.3 | AN81: 0.69262648 | AO81: -1210.8567 | AR81: 828 | AS81: 1366 | AU81: 2207.0069 | AV81: 615.09154 | AW81: 573 | AX81: 1.0734582 | AY81: -141.74289 | AZ81: 0.00975 | BA81: 0.00525 | BB81: 0 | BC81: 261 | BE81: 237.7 | BF81: 66.246853 | BG81: 65 | BH81: 1.0191823 | BI81: -28.737582 | BJ81: 0.00525 | BK81: 0.0015 | BL81: 0 | BM81: 43 | BO81: 315 | BP81: 87.790318 | BQ81: 78 | BR81: 1.1255169 | BS81: -4.7250982 | BT81: 0.00675 | BU81: 0.004875 | BV81: 0 | BW81: 21 | BY81: 0.9911695 | BZ81: 1 | CA81: 0.9964678 | CB81: 0.9 | CC81: 0.0025 | CD81: =D81*AM81 -> 2692.1477
A82: HAUT_RHIN | B82: COLMAR | C82: ORBEY | D82: 5.0163981 | F82: 0.011625 | G82: 0.00675 | I82: 3 | J82: 3 | L82: 0.36584261 | M82: 0.384 | N82: 0.7 | Q82: 147 | R82: 29.303894 | S82: 36 | T82: 0.81399707 | U82: -59.306394 | X82: 34 | Y82: 70 | AA82: 594 | AB82: 118.41166 | AC82: 200 | AD82: 0.59205828 | AE82: -552.14663 | AH82: 410 | AI82: 610 | AK82: 4455.1743 | AL82: 888.12217 | AM82: 828 | AN82: 1.0726113 | AO82: -289.87272 | AP82: 0.0065 | AQ82: 0.0035 | AR82: 0 | AS82: 530 | AU82: 1878.5054 | AV82: 374.47294 | AW82: 573 | AX82: 0.65353044 | AY82: -1405.2047 | BB82: 996 | BC82: 1571 | BE82: 176.3 | BF82: 35.144739 | BG82: 65 | BH82: 0.54068829 | BI82: -196.19766 | BL82: 150 | BM82: 215 | BO82: 398 | BP82: 79.339796 | BQ82: 78 | BR82: 1.0171769 | BS82: -48.997187 | BT82: 0.002625 | BU82: 0.00075 | BV82: 0 | BW82: 72 | BY82: 0.99157682 | BZ82: 1 | CA82: 0.99663073 | CB82: 0.9 | CC82: 0.0025 | CD82: =D82*AM82 -> 4153.5776
A83: HAUT_RHIN | B83: COLMAR | C83: RIBEAUVILLE | D83: 4.9251897 | F83: 0.018 | G83: 0.0155 | I83: 3 | J83: 3 | L83: 0.80967026 | M83: 0.638 | N83: 0.7 | Q83: 196 | R83: 39.795422 | S83: 36 | T83: 1.1054284 | U83: -6.5553211 | V83: 0.008 | W83: 0.0055 | X83: 0 | Y83: 17 | AA83: 805 | AB83: 163.44548 | AC83: 200 | AD83: 0.81722741 | AE83: -320.30734 | AH83: 181 | AI83: 378 | AK83: 3538.4042 | AL83: 718.43004 | AM83: 828 | AN83: 0.86766913 | AO83: -1120.3681 | AR83: 540 | AS83: 1356 | AU83: 2306.9183 | AV83: 468.39178 | AW83: 573 | AX83: 0.81743765 | AY83: -917.08719 | BB83: 516 | BC83: 1080 | BE83: 279.3 | BF83: 56.708476 | BG83: 65 | BH83: 0.87243809 | BI83: -86.424885 | BL83: 41 | BM83: 105 | BO83: 516 | BP83: 104.76754 | BQ83: 78 | BR83: 1.3431736 | BS83: 77.130138 | BT83: 0.0075 | BU83: 0.0075 | BV83: 0 | BW83: 0 | BY83: 0.98985377 | BZ83: 1 | CA83: 0.99594151 | CB83: 0.9 | CC83: 0.0025 | CD83: =D83*AM83 -> 4078.0571
A84: HAUT_RHIN | B84: COLMAR | C84: ROUFFACH | D84: 3.6932242 | F84: 0.041 | G84: 0.03175 | I84: 5 | J84: 5 | L84: 0.7801855 | M84: 0.691 | N84: 0.7 | Q84: 137 | R84: 37.094959 | S84: 36 | T84: 1.0304155 | U84: -14.889015 | V84: 0.004 | W84: 0.0015 | X84: 0 | Y84: 23 | AA84: 291 | AB84: 78.792942 | AC84: 200 | AD84: 0.39396471 | AE84: -552.82786 | AH84: 448 | AI84: 596 | AK84: 1905.8896 | AL84: 516.05033 | AM84: 795.7 | AN84: 0.64854886 | AO84: -1451.2796 | AR84: 1033 | AS84: 1621 | AU84: 2476.9207 | AV84: 670.66622 | AW84: 573 | AX84: 1.1704472 | AY84: 59.353872 | AZ84: 0.015 | BA84: 0.01275 | BB84: 0 | BC84: 63 | BE84: 265.2 | BF84: 71.807176 | BG84: 65 | BH84: 1.1047258 | BI84: -9.0440544 | BJ84: 0.012 | BK84: 0.0075 | BL84: 0 | BM84: 23 | BO84: 497 | BP84: 134.57076 | BQ84: 78 | BR84: 1.7252662 | BS84: 167.90713 | BT84: 0.0075 | BU84: 0.0075 | BV84: 0 | BW84: 0 | BY84: 0.98311972 | BZ84: 1 | CA84: 0.99324789 | CB84: 0.9 | CC84: 0.0025 | CD84: =D84*AM84 -> 2938.6985
A85: HAUT_RHIN | B85: MULHOUSE | C85: ALTKIRCH | D85: 7.7764141 | F85: 0.018625 | G85: 0.013 | I85: 3 | J85: 3 | L85: 0.28385684 | M85: 0.354 | N85: 0.7 | Q85: 192 | R85: 24.690043 | S85: 36 | T85: 0.68583453 | U85: -127.81592 | X85: 88 | Y85: 144 | AA85: 600 | AB85: 77.156385 | AC85: 200 | AD85: 0.38578192 | AE85: -1176.7551 | AH85: 956 | AI85: 1267 | AK85: 4725.4019 | AL85: 607.65821 | AM85: 821.3 | AN85: 0.73987363 | AO85: -2570.8429 | AR85: 1662 | AS85: 2939 | AU85: 4746.3917 | AV85: 610.35737 | AW85: 573 | AX85: 1.0651961 | AY85: -344.01169 | AZ85: 0.009 | BA85: 0.00525 | BB85: 0 | BC85: 601 | BE85: 271.5 | BF85: 34.913264 | BG85: 65 | BH85: 0.53712714 | BI85: -305.94541 | BL85: 234 | BM85: 336 | BO85: 689 | BP85: 88.601249 | BQ85: 78 | BR85: 1.1359134 | BS85: -3.9344874 | BT85: 0.007125 | BU85: 0.00525 | BV85: 0 | BW85: 39 | BY85: 0.98556865 | BZ85: 1 | CA85: 0.99422746 | CB85: 0.9 | CC85: 0.0025 | CD85: =D85*AM85 -> 6386.7689
A86: HAUT_RHIN | B86: MULHOUSE | C86: MULHOUSE DORNACH | D86: 5.1483945 | F86: 0.02 | G86: 0.02 | I86: 3 | J86: 3 | L86: 0.33887567 | M86: 0.218 | N86: 0.7 | Q86: 239 | R86: 46.422239 | S86: 36 | T86: 1.2895066 | U86: 27.265068 | V86: 0.01 | W86: 0.01 | X86: 0 | Y86: 0 | AA86: 367 | AB86: 71.284358 | AC86: 200 | AD86: 0.35642179 | AE86: -809.30518 | AH86: 663 | AI86: 869 | AK86: 2277.5623 | AL86: 442.38302 | AM86: 795.4 | AN86: 0.55617679 | AO86: -2400.6034 | AR86: 1818 | AS86: 2637 | AU86: 2417.7128 | AV86: 469.60519 | AW86: 573 | AX86: 0.81955531 | AY86: -952.40153 | BB86: 533 | BC86: 1123 | BE86: 192.6 | BF86: 37.409721 | BG86: 65 | BH86: 0.57553416 | BI86: -189.69918 | BL86: 143 | BM86: 209 | BO86: 515 | BP86: 100.03118 | BQ86: 78 | BR86: 1.2824511 | BS86: 56.24098 | BT86: 0.0075 | BU86: 0.0075 | BV86: 0 | BW86: 0 | BY86: 0.97843162 | BZ86: 1 | CA86: 0.99137265 | CB86: 0.9 | CC86: 0.0025 | CD86: =D86*AM86 -> 4095.033
A87: HAUT_RHIN | B87: MULHOUSE | C87: MULHOUSE REUNION | D87: 10.993735 | F87: 0.018125 | G87: 0.015875 | I87: 3 | J87: 3 | L87: 0.35 | M87: 0.44 | N87: 0.7 | Q87: 571 | R87: 51.938673 | S87: 36 | T87: 1.4427409 | U87: 118.86726 | V87: 0.01 | W87: 0.01 | X87: 0 | Y87: 0 | AA87: 1257 | AB87: 114.33785 | AC87: 200 | AD87: 0.57168925 | AE87: -1254.8485 | AH87: 942 | AI87: 1382 | AK87: 7911.8946 | AL87: 719.67304 | AM87: 828 | AN87: 0.86917034 | AO87: -2487.1584 | AR87: 1191 | AS87: 3012 | AU87: 5589.4672 | AV87: 508.42296 | AW87: 573 | AX87: 0.88730011 | AY87: -1606.9788 | BB87: 710 | BC87: 1970 | BE87: 640.2 | BF87: 58.233167 | BG87: 65 | BH87: 0.89589488 | BI87: -176.15078 | BL87: 75 | BM87: 218 | BO87: 938 | BP87: 85.321323 | BQ87: 78 | BR87: 1.0938631 | BS87: -41.62093 | BT87: 0.005625 | BU87: 0.003375 | BV87: 0 | BW87: 92 | BY87: 0.99478171 | BZ87: 1 | CA87: 0.99791269 | CB87: 0.9 | CC87: 0.0025 | CD87: =D87*AM87 -> 9102.8125
A88: HAUT_RHIN | B88: MULHOUSE | C88: PFASTATT | D88: 3.3199164 | F88: 0.017 | G88: 0.015125 | I88: 3 | J88: 3 | L88: 0.47 | M88: 0.257 | N88: 0.7 | Q88: 150 | R88: 45.181861 | S88: 36 | T88: 1.2550517 | U88: 13.46379 | V88: 0.01 | W88: 0.01 | X88: 0 | Y88: 0 | AA88: 262 | AB88: 78.91765 | AC88: 200 | AD88: 0.39458825 | AE88: -496.5345 | AH88: 402 | AI88: 535 | AK88: 871.08316 | AL88: 262.38105 | AM88: 731.6 | AN88: 0.35864004 | AO88: -1903.636 | AR88: 1558 | AS88: 2044 | AU88: 1484.8449 | AV88: 447.25369 | AW88: 573 | AX88: 0.78054745 | AY88: -688.35648 | BB88: 418 | BC88: 798 | BE88: 172.7 | BF88: 52.019382 | BG88: 65 | BH88: 0.80029819 | BI88: -73.823713 | BL88: 44 | BM88: 87 | BO88: 277 | BP88: 83.435836 | BQ88: 78 | BR88: 1.0696902 | BS88: -18.828455 | BT88: 0.0045 | BU88: 0.002625 | BV88: 0 | BW88: 34 | BY88: 0.98619126 | BZ88: 1 | CA88: 0.9944765 | CB88: 0.9 | CC88: 0.0025 | CD88: =D88*AM88 -> 2428.8508
A89: HAUT_RHIN | B89: MULHOUSE | C89: RIEDISHEIM | D89: 3.5086655 | F89: 0.0175 | G89: 0.015 | I89: 3 | J89: 3 | L89: 0.47 | M89: 0.581 | N89: 0.7 | Q89: 110 | R89: 31.350951 | S89: 36 | T89: 0.87085975 | U89: -34.29878 | X89: 17 | Y89: 42 | AA89: 476 | AB89: 135.66412 | AC89: 200 | AD89: 0.67832058 | AE89: -325.65989 | AH89: 226 | AI89: 367 | AK89: 3193.2733 | AL89: 910.1105 | AM89: 828 | AN89: 1.0991673 | AO89: -125.59866 | AP89: 0.0075 | AQ89: 0.005 | AR89: 0 | AS89: 293 | AU89: 1407.5254 | AV89: 401.15691 | AW89: 573 | AX89: 0.70009932 | AY89: -889.23017 | BB89: 603 | BC89: 1006 | BE89: 161.7 | BF89: 46.085898 | BG89: 65 | BH89: 0.70901382 | BI89: -98.839464 | BL89: 67 | BM89: 112 | BO89: 339 | BP89: 96.617931 | BQ89: 78 | BR89: 1.2386914 | BS89: 26.352643 | BT89: 0.0075 | BU89: 0.0075 | BV89: 0 | BW89: 0 | BY89: 0.98381743 | BZ89: 1 | CA89: 0.99352697 | CB89: 0.9 | CC89: 0.0025 | CD89: =D89*AM89 -> 2905.175
A90: HAUT_RHIN | B90: MULHOUSE | C90: RIXHEIM | D90: 2.8106058 | F90: 0.01575 | G90: 0.012 | I90: 2 | J90: 2 | L90: 0.84 | M90: 0.083 | N90: 0.7 | Q90: 78 | R90: 27.752024 | S90: 36 | T90: 0.77088955 | U90: -37.5901 | X90: 24 | Y90: 44 | AA90: 273 | AB90: 97.132083 | AC90: 200 | AD90: 0.48566042 | AE90: -369.16722 | AH90: 290 | AI90: 402 | AK90: 1112.3824 | AL90: 395.78027 | AM90: 828 | AN90: 0.4779955 | AO90: -1546.19 | AR90: 1215 | AS90: 1681 | AU90: 1708.2395 | AV90: 607.78337 | AW90: 573 | AX90: 1.060704 | AY90: -131.56959 | AZ90: 0.00825 | BA90: 0.0045 | BB90: 0 | BC90: 225 | BE90: 91.8 | BF90: 32.661997 | BG90: 65 | BH90: 0.50249226 | BI90: -116.90435 | BL90: 91 | BM90: 128 | BO90: 312 | BP90: 111.00809 | BQ90: 78 | BR90: 1.4231807 | BS90: 61.554783 | BT90: 0.0075 | BU90: 0.0075 | BV90: 0 | BW90: 0 | BY90: 0.98054679 | BZ90: 0.8125 | CA90: 0.87971872 | CB90: 0.9 | CD90: =D90*AM90 -> 2327.1816
A91: HAUT_RHIN | B91: MULHOUSE | C91: SAINT LOUIS | D91: 7.4237973 | F91: 0.0205 | G91: 0.017 | I91: 4 | J91: 3 | L91: 0.65497608 | M91: 0.284 | N91: 0.7 | Q91: 260 | R91: 35.022508 | S91: 36 | T91: 0.97284744 | U91: -45.314059 | V91: 0.001 | X91: 8 | Y91: 61 | AA91: 885 | AB91: 119.21123 | AC91: 200 | AD91: 0.59605614 | AE91: -811.18922 | AH91: 600 | AI91: 897 | AK91: 6977.9488 | AL91: 939.94333 | AM91: 828 | AN91: 1.1351973 | AO91: -44.274542 | AP91: 0.0095 | AQ91: 0.007 | AR91: 0 | AS91: 399 | AU91: 3315.5031 | AV91: 446.60474 | AW91: 573 | AX91: 0.7794149 | AY91: -1544.079 | BB91: 939 | BC91: 1790 | BE91: 308.9 | BF91: 41.609433 | BG91: 65 | BH91: 0.64014513 | BI91: -242.3615 | BL91: 174 | BM91: 271 | BO91: 737 | BP91: 99.275339 | BQ91: 78 | BR91: 1.2727608 | BS91: 75.486206 | BT91: 0.0075 | BU91: 0.0075 | BV91: 0 | BW91: 0 | BY91: 0.98692934 | BZ91: 1 | CA91: 0.99477174 | CB91: 0.9 | CC91: 0.0025 | CD91: =D91*AM91 -> 6146.9042
A92: HAUT_RHIN | B92: MULHOUSE | C92: THANN | D92: 11.573048 | F92: 0.02275 | G92: 0.01325 | I92: 5 | J92: 5 | L92: 0.7328728 | M92: 0.677 | N92: 0.7 | Q92: 421 | R92: 36.377625 | S92: 36 | T92: 1.0104896 | U92: -54.9578 | V92: 0.003 | W92: 0.0005 | X92: 0 | Y92: 79 | AA92: 1199 | AB92: 103.60278 | AC92: 200 | AD92: 0.51801392 | AE92: -1445.21 | AH92: 1116 | AI92: 1579 | AK92: 8736.8744 | AL92: 754.93288 | AM92: 750.7 | AN92: 1.0056386 | AO92: -1188.1678 | AP92: 0.003 | AQ92: 0.0005 | AR92: 0 | AS92: 1689 | AU92: 6861.28 | AV92: 592.86716 | AW92: 573 | AX92: 1.0346722 | AY92: -714.38162 | AZ92: 0.00675 | BA92: 0.00225 | BB92: 0 | BC92: 1097 | BE92: 409.8 | BF92: 35.409859 | BG92: 65 | BH92: 0.54476707 | BI92: -449.56825 | BL92: 343 | BM92: 493 | BO92: 1313 | BP92: 113.45326 | BQ92: 78 | BR92: 1.454529 | BS92: 281.7581 | BT92: 0.0075 | BU92: 0.0075 | BV92: 0 | BW92: 0 | BY92: 0.97629445 | BZ92: 1 | CA92: 0.99051778 | CB92: 0.9 | CC92: 0.0025 | CD92: =D92*AM92 -> 8687.8871
A93: HAUT_RHIN | B93: MULHOUSE | C93: WITTELSHEIM | D93: 3.391704 | F93: 0.03575 | G93: 0.02975 | I93: 5 | J93: 5 | L93: 0.63 | M93: 0.577 | N93: 0.7 | Q93: 132 | R93: 38.918491 | S93: 36 | T93: 1.0810692 | U93: -7.4885738 | V93: 0.007 | W93: 0.004 | X93: 0 | Y93: 15 | AA93: 225 | AB93: 66.338337 | AC93: 200 | AD93: 0.33169168 | AE93: -549.93652 | AH93: 454 | AI93: 590 | AK93: 891.44711 | AL93: 262.83164 | AM93: 681.5 | AN93: 0.38566638 | AO93: -1749.1491 | AR93: 1420 | AS93: 1883 | AU93: 2976.2229 | AV93: 877.50078 | AW93: 573 | AX93: 1.531415 | AY93: 756.02975 | AZ93: 0.015 | BA93: 0.015 | BB93: 0 | BC93: 0 | BE93: 221 | BF93: 65.158989 | BG93: 65 | BH93: 1.002446 | BI93: -30.854369 | BJ93: 0.00375 | BK93: 0.00075 | BL93: 0 | BM93: 44 | BO93: 372 | BP93: 109.67938 | BQ93: 78 | BR93: 1.4061459 | BS93: 69.774757 | BT93: 0.0075 | BU93: 0.0075 | BV93: 0 | BW93: 0 | BY93: 0.98173606 | BZ93: 1 | CA93: 0.99269442 | CB93: 0.9 | CC93: 0.0025 | CD93: =D93*AM93 -> 2311.4463
A94: HAUT_RHIN | B94: MULHOUSE | C94: WITTENHEIM | D94: 5.4532972 | F94: 0.0085 | G94: 0.006625 | I94: 2 | J94: 2 | L94: 0.18165714 | M94: 0.157 | N94: 0.7 | Q94: 107 | R94: 19.621157 | S94: 36 | T94: 0.54503213 | U94: -117.27448 | X94: 90 | Y94: 129 | AA94: 355 | AB94: 65.098231 | AC94: 200 | AD94: 0.32549115 | AE94: -890.96935 | AH94: 736 | AI94: 954 | AK94: 1630.0992 | AL94: 298.91992 | AM94: 786.9 | AN94: 0.37987028 | AO94: -3272.1672 | AR94: 2662 | AS94: 3520 | AU94: 2225.3356 | AV94: 408.07159 | AW94: 573 | AX94: 0.71216682 | AY94: -1344.3665 | BB94: 900 | BC94: 1525 | BE94: 162.3 | BF94: 29.761811 | BG94: 65 | BH94: 0.45787401 | BI94: -242.64004 | BL94: 193 | BM94: 264 | BO94: 471 | BP94: 86.369765 | BQ94: 78 | BR94: 1.1073047 | BS94: -14.928045 | BT94: 0.006 | BU94: 0.004125 | BV94: 0 | BW94: 40 | BY94: 0.98986486 | BZ94: 1 | CA94: 0.99594595 | CB94: 0.9 | CC94: 0.0025 | CD94: =D94*AM94 -> 4291.1996
A95: MARNE_ARDENNES | B95: CHALONS_EN_CHAMPAGNE | C95: CHALONS ROOSEVELT | D95: 5.0076981 | F95: 0.0505 | G95: 0.04625 | I95: 7 | J95: 6 | L95: 0.79 | M95: 0.812 | N95: 0.7 | O95: 0.016 | Q95: 214 | R95: 42.734206 | S95: 36 | T95: 1.1870613 | U95: 8.0514047 | V95: 0.01 | W95: 0.0095 | X95: 0 | Y95: 3 | AA95: 907 | AB95: 181.12114 | AC95: 200 | AD95: 0.90560571 | AE95: -237.15886 | AH95: 95 | AI95: 295 | AK95: 5294.4294 | AL95: 1057.2581 | AM95: 675.8 | AN95: 1.5644541 | AO95: 1428.3166 | AP95: 0.01 | AQ95: 0.01 | AR95: 0 | AS95: 0 | AU95: 2746.4688 | AV95: 548.44936 | AW95: 573 | AX95: 0.95715421 | AY95: -531.5463 | AZ95: 0.00075 | BB95: 123 | BC95: 697 | BE95: 326.9 | BF95: 65.279494 | BG95: 65 | BH95: 1.0042999 | BI95: -44.95163 | BJ95: 0.00375 | BK95: 0.00075 | BL95: 0 | BM95: 64 | BO95: 474 | BP95: 94.654268 | BQ95: 78 | BR95: 1.2135163 | BS95: 27.778044 | BT95: 0.0075 | BU95: 0.0075 | BV95: 0 | BW95: 0 | BY95: 0.99768161 | BZ95: 1 | CA95: 0.99907264 | CB95: 0.9 | CC95: 0.0025 | CD95: =D95*AM95 -> 3384.2024
A96: MARNE_ARDENNES | B96: CHALONS_EN_CHAMPAGNE | C96: CHALONS VIVIERS | D96: 9.8045208 | F96: 0.054 | G96: 0.054 | I96: 6 | J96: 6 | L96: 0.85 | M96: 0.763 | N96: 0.7 | O96: 0.009 | Q96: 517 | R96: 52.730777 | S96: 36 | T96: 1.4647438 | U96: 113.77536 | V96: 0.01 | W96: 0.01 | X96: 0 | Y96: 0 | AA96: 1400 | AB96: 142.79127 | AC96: 200 | AD96: 0.71395636 | AE96: -840.13691 | AH96: 561 | AI96: 954 | AK96: 11410.951 | AL96: 1163.8459 | AM96: 705.5 | AN96: 1.6496753 | AO96: 3508.8685 | AP96: 0.01 | AQ96: 0.01 | AR96: 0 | AS96: 0 | AU96: 6990.3059 | AV96: 712.96763 | AW96: 573 | AX96: 1.2442716 | AY96: 572.31371 | AZ96: 0.015 | BA96: 0.015 | BB96: 0 | BC96: 0 | BE96: 559.1 | BF96: 57.024715 | BG96: 65 | BH96: 0.8773033 | BI96: -168.9445 | BL96: 79 | BM96: 206 | BO96: 1524 | BP96: 155.4385 | BQ96: 78 | BR96: 1.9928013 | BS96: 650.34661 | BT96: 0.0075 | BU96: 0.0075 | BV96: 0 | BW96: 0 | BY96: 0.99806558 | BZ96: 1 | CA96: 0.99922623 | CB96: 0.9 | CC96: 0.0025 | CD96: =D96*AM96 -> 6917.0894
A97: MARNE_ARDENNES | B97: CHALONS_EN_CHAMPAGNE | C97: FAGNIERES LECLERC | D97: 3.1437778 | F97: 0.04025 | G97: 0.0365 | I97: 5 | J97: 5 | L97: 0.79 | M97: 0.721 | N97: 0.7 | O97: 0.003 | Q97: 140 | R97: 44.53241 | S97: 36 | T97: 1.2370114 | U97: 10.707738 | V97: 0.01 | W97: 0.01 | X97: 0 | Y97: 0 | AA97: 363 | AB97: 115.46618 | AC97: 200 | AD97: 0.57733088 | AE97: -355.29034 | AH97: 266 | AI97: 392 | AK97: 1712.3856 | AL97: 544.69041 | AM97: 612 | AN97: 0.89001701 | AO97: -485.58285 | AR97: 212 | AS97: 597 | AU97: 2218.1159 | AV97: 705.55747 | AW97: 573 | AX97: 1.2313394 | AY97: 160.21405 | AZ97: 0.015 | BA97: 0.015 | BB97: 0 | BC97: 0 | BE97: 219.8 | BF97: 69.915883 | BG97: 65 | BH97: 1.075629 | BI97: -13.644362 | BJ97: 0.00975 | BK97: 0.006 | BL97: 0 | BM97: 26 | BO97: 203 | BP97: 64.571994 | BQ97: 78 | BR97: 0.82784608 | BS97: -77.133234 | BV97: 43 | BW97: 92 | BY97: 0.99733527 | BZ97: 1 | CA97: 0.99893411 | CB97: 0.9 | CC97: 0.0025 | CD97: =D97*AM97 -> 1923.992
A98: MARNE_ARDENNES | B98: CHALONS_EN_CHAMPAGNE | C98: MONTMIRAIL | D98: 2.9191919 | F98: 0.062 | G98: 0.05625 | I98: 7 | J98: 7 | L98: 0.72 | M98: 0.737 | N98: 0.7 | O98: 0.005 | Q98: 123 | R98: 42.134948 | S98: 36 | T98: 1.1704152 | U98: 2.9441455 | V98: 0.01 | W98: 0.0085 | X98: 0 | Y98: 4 | AA98: 385 | AB98: 131.88581 | AC98: 200 | AD98: 0.65942907 | AE98: -281.97697 | AH98: 199 | AI98: 316 | AK98: 2147.4652 | AL98: 735.63688 | AM98: 619 | AN98: 1.1884279 | AO98: 83.171509 | AP98: 0.01 | AQ98: 0.0095 | AR98: 0 | AS98: 21 | AU98: 2252.4867 | AV98: 771.6131 | AW98: 573 | AX98: 1.3466197 | AY98: 341.5977 | AZ98: 0.015 | BA98: 0.015 | BB98: 0 | BC98: 0 | BE98: 209.8 | BF98: 71.869204 | BG98: 65 | BH98: 1.1056801 | BI98: -6.9675151 | BJ98: 0.012 | BK98: 0.00825 | BL98: 0 | BM98: 18 | BO98: 283 | BP98: 96.944637 | BQ98: 78 | BR98: 1.24288 | BS98: 22.878982 | BT98: 0.0075 | BU98: 0.0075 | BV98: 0 | BW98: 0 | BY98: 0.99449878 | BZ98: 1 | CA98: 0.99779951 | CB98: 0.9 | CC98: 0.0025 | CD98: =D98*AM98 -> 1806.9798
A99: MARNE_ARDENNES | B99: CHALONS_EN_CHAMPAGNE | C99: MOURMELON LE GRAND | D99: 2.9007135 | F99: 0.086 | G99: 0.078 | I99: 8 | J99: 8 | L99: 0.75 | M99: 0.842 | N99: 0.7 | O99: 0.02 | Q99: 159 | R99: 54.8141 | S99: 36 | T99: 1.5226139 | U99: 39.704097 | V99: 0.01 | W99: 0.01 | X99: 0 | Y99: 0 | AA99: 670 | AB99: 230.97766 | AC99: 200 | AD99: 1.1548883 | AE99: 7.2449832 | AF99: 0.01 | AG99: 0.0075 | AH99: 0 | AI99: 27 | AK99: 2035.9824 | AL99: 701.8902 | AM99: 656.6 | AN99: 1.0689768 | AO99: -139.84236 | AP99: 0.006 | AQ99: 0.0035 | AR99: 0 | AS99: 250 | AU99: 2399.9907 | AV99: 827.37943 | AW99: 573 | AX99: 1.4439432 | AY99: 501.19755 | AZ99: 0.015 | BA99: 0.015 | BB99: 0 | BC99: 0 | BE99: 217.9 | BF99: 75.119449 | BG99: 65 | BH99: 1.1556838 | BI99: 2.5046195 | BJ99: 0.015 | BK99: 0.012 | BL99: 0 | BM99: 9 | BO99: 324 | BP99: 111.69666 | BQ99: 78 | BR99: 1.4320084 | BS99: 65.525543 | BT99: 0.0075 | BU99: 0.0075 | BV99: 0 | BW99: 0 | BY99: 0.99412752 | BZ99: 1 | CA99: 0.99765101 | CB99: 0.9 | CC99: 0.0025 | CD99: =D99*AM99 -> 1904.6085
A100: MARNE_ARDENNES | B100: CHALONS_EN_CHAMPAGNE | C100: SAINTE MENEHOULD | D100: 3.1829016 | F100: 0.04725 | G100: 0.03675 | I100: 7 | J100: 7 | L100: 0.69 | M100: 0.724 | N100: 0.7 | O100: 0.003 | Q100: 131 | R100: 41.157414 | S100: 36 | T100: 1.1432615 | U100: 0.098715647 | V100: 0.01 | W100: 0.007 | X100: 0 | Y100: 7 | AA100: 509 | AB100: 159.91698 | AC100: 200 | AD100: 0.79958488 | AE100: -218.22936 | AH100: 128 | AI100: 255 | AK100: 2548.2941 | AL100: 800.61982 | AM100: 642.5 | AN100: 1.2461009 | AO100: 212.06981 | AP100: 0.01 | AQ100: 0.01 | AR100: 0 | AS100: 0 | AU100: 1935.471 | AV100: 608.08383 | AW100: 573 | AX100: 1.0612283 | AY100: -148.0411 | AZ100: 0.00825 | BA100: 0.0045 | BB100: 0 | BC100: 254 | BE100: 213.6 | BF100: 67.108578 | BG100: 65 | BH100: 1.0324397 | BI100: -22.749541 | BJ100: 0.006 | BK100: 0.00225 | BL100: 0 | BM100: 35 | BO100: 334 | BP100: 104.9357 | BQ100: 78 | BR100: 1.3453295 | BS100: 50.380551 | BT100: 0.0075 | BU100: 0.0075 | BV100: 0 | BW100: 0 | BY100: 0.99570201 | BZ100: 1 | CA100: 0.9982808 | CB100: 0.9 | CC100: 0.0025 | CD100: =D100*AM100 -> 2045.0143
A101: MARNE_ARDENNES | B101: CHALONS_EN_CHAMPAGNE | C101: SARRY | D101: 2.5011 | F101: 0.054 | G101: 0.04725 | I101: 6 | J101: 6 | L101: 0.94 | M101: 0.838 | N101: 0.7 | O101: 0.019 | Q101: 101 | R101: 40.382232 | S101: 36 | T101: 1.1217287 | U101: -1.861239 | V101: 0.009 | W101: 0.006 | X101: 0 | Y101: 8 | AA101: 394 | AB101: 157.53069 | AC101: 200 | AD101: 0.78765343 | AE101: -177.45133 | AH101: 107 | AI101: 207 | AK101: 2446.1103 | AL101: 978.01381 | AM101: 654 | AN101: 1.495434 | AO101: 577.46449 | AP101: 0.01 | AQ101: 0.01 | AR101: 0 | AS101: 0 | AU101: 1471.165 | AV101: 588.2072 | AW101: 573 | AX101: 1.0265396 | AY101: -166.04301 | AZ101: 0.006 | BA101: 0.00225 | BB101: 0 | BC101: 249 | BE101: 133.9 | BF101: 53.536444 | BG101: 65 | BH101: 0.8236376 | BI101: -51.821682 | BL101: 29 | BM101: 62 | BO101: 266 | BP101: 106.3532 | BQ101: 78 | BR101: 1.3635026 | BS101: 43.133982 | BT101: 0.0075 | BU101: 0.0075 | BV101: 0 | BW101: 0 | BY101: 1 | BZ101: 1 | CA101: 1 | CB101: 0.9 | CC101: 0.0025 | CD101: =D101*AM101 -> 1635.7194
...

Sheet S45
A2: REGIONS | B2: TERRITOIRES | C2: AGENCES | D2: ETP Perf moyen annuel | F2: Taux PV sais. (max 9%) | G2: Taux PV annuel (max 9%) | I2: Nb items > 100% de l'objectif sais. | J2: Nb items > 100% de l'objectif annuel | L2: Satisfaction - TS- I Facilité à Joindre | Q2: Ventes brutes Forfaits hors Transformations depuis le 01/01 | AA2: VB Epargne | AK2: CA Assurance Vie (en K€) | AU2: Engagements nets Crédit Conso depuis le 01/01 (en K€) | BE2: IARD & Prévoyance | BO2: Evolution nette Top CC | BY2: RPM
L3: Données arrêtées au 30/09/21 - Tx PV max : 2% | Q3: Au 15/11/21 - Saisonnalité attendue : 95,2% - Tx PV max : 1% | AA3: Au 15/11/21 - Saisonnalité attendue : 95,2% - Tx PV max : 1% | AK3: Au 13/11/21 - Saisonnalité attendue : 95,2% - Tx PV max : 1% | AU3: Au 13/11/21 - Saisonnalité attendue : 95,2% - Tx PV max : 1,5% | BE3: Au 14/11/21 - Saisonnalité attendue : 95,2% - Tx PV max : 1,5% | BO3: Au 14/11/21 - Saisonnalité attendue : 95,2% - Tx PV max : 0,75% | BY3: Données arrêtées à fin 09/2021 - Tx PV max : 0,25%
L4: Tendance 20 dern. rép. au 15/11 | M4: TS-I moyenne mens. | N4: Obj. | O4: Taux PV | Q4: VB Forf | R4: Réal. / ETP | S4: Obj / ETP | T4: % Réal. | U4: Ecart / 120% de l'attendu | V4: Taux PV sais. | W4: Taux PV | X4: RàF pour 100% | Y4: RàF pour 120% | AA4: VB Epargne Pondérées | AB4: Réal. / ETP | AC4: Obj / ETP | AD4: % Réal. | AE4: Ecart / 120% de l'attendu | AF4: Taux PV sais. | AG4: Taux PV | AH4: RàF pour 100% | AI4: RàF pour 120% | AK4: Chiffre d'Affaires | AL4: Réal. / ETP | AM4: Obj / ETP | AN4: % Réal. | AO4: Ecart / 120% de l'attendu | AP4: Taux PV sais. | AQ4: Taux PV | AR4: RàF pour 100% | AS4: RàF pour 120% | AU4: Engag. nets Conso | AV4: Réal. / ETP | AW4: Obj / ETP | AX4: % Réal. | AY4: Ecart / 120% de l'attendu | AZ4: Taux PV sais. | BA4: Taux PV | BB4: RàF pour 100% | BC4: RàF pour 120% | BE4: VB Iard Prev Pondérées | BF4: Réal. / ETP | BG4: Obj / ETP | BH4: % Réal. | BI4: Ecart / 120% de l'attendu | BJ4: Taux PV sais. | BK4: Taux PV | BL4: RàF pour 100% | BM4: RàF pour 120% | BO4: Evol. CC Verts | BP4: Réal. / ETP | BQ4: Obj / ETP | BR4: % Réal. | BS4: Ecart / 120% de l'attendu | BT4: Taux PV sais. | BU4: Taux PV | BV4: RàF pour 100% | BW4: RàF pour 120% | BY4: Taux trait. RPM | BZ4: Taux trait. Risques Maj. | CA4: Taux pondéré | CB4: Obj | CC4: Taux PV
D5: Au 09/21 | F5: info | G5: info | I5: info | J5: info
A6: AUBE_HAUTE_MARNE | B6: CHAUMONT | C6: CHAUMONT HOTEL DE VILLE | D6: 7.8178203 | F6: 0.05025 | G6: 0.04575 | I6: 6 | J6: 6 | L6: 0.71 | M6: 0.561 | N6: 0.7 | Q6: 394 | R6: 50.397679 | S6: 36 | T6: 1.3999355 | U6: 72.481196 | V6: 0.01 | W6: 0.01 | X6: 0 | Y6: 0 | AA6: 960 | AB6: 122.79638 | AC6: 200 | AD6: 0.61398188 | AE6: -826.21558 | AH6: 604 | AI6: 917 | AK6: 7669.2314 | AL6: 980.99357 | AM6: 686.1 | AN6: 1.4298114 | AO6: 1541.6189 | AP6: 0.01 | AQ6: 0.01 | AR6: 0 | AS6: 0 | AU6: 5803.4584 | AV6: 742.33714 | AW6: 573 | AX6: 1.2955273 | AY6: 685.95072 | AZ6: 0.015 | BA6: 0.015 | BB6: 0 | BC6: 0 | BE6: 519.5 | BF6: 66.450747 | BG6: 65 | BH6: 1.0223192 | BI6: -61.020064 | BJ6: 0.00525 | BK6: 0.0015 | BL6: 0 | BM6: 91 | BO6: 719 | BP6: 91.969369 | BQ6: 78 | BR6: 1.1790945 | BS6: 22.375924 | BT6: 0.0075 | BU6: 0.00675 | BV6: 0 | BW6: 13 | BY6: 0.99844143 | BZ6: 1 | CA6: 0.99937657 | CB6: 0.9 | CC6: 0.0025
A7: AUBE_HAUTE_MARNE | B7: CHAUMONT | C7: CHAUMONT REPUBLIQUE | D7: 4.8367767 | F7: 0.062 | G7: 0.05825 | I7: 7 | J7: 7 | L7: 0.7984309 | M7: 0.717 | N7: 0.7 | O7: 0.002 | Q7: 214 | R7: 44.244341 | S7: 36 | T7: 1.2290095 | U7: 15.080785 | V7: 0.01 | W7: 0.01 | X7: 0 | Y7: 0 | AA7: 541 | AB7: 111.85135 | AC7: 200 | AD7: 0.55925674 | AE7: -564.10675 | AH7: 427 | AI7: 620 | AK7: 3801.1659 | AL7: 785.88823 | AM7: 612 | AN7: 1.2841311 | AO7: 419.53927 | AP7: 0.01 | AQ7: 0.01 | AR7: 0 | AS7: 0 | AU7: 3323.438 | AV7: 687.11834 | AW7: 573 | AX7: 1.1991594 | AY7: 157.30717 | AZ7: 0.015 | BA7: 0.015 | BB7: 0 | BC7: 3 | BE7: 360.5 | BF7: 74.533107 | BG7: 65 | BH7: 1.1466632 | BI7: 1.3403061 | BJ7: 0.015 | BK7: 0.01125 | BL7: 0 | BM7: 17 | BO7: 490 | BP7: 101.30714 | BQ7: 78 | BR7: 1.2988094 | BS7: 59.008367 | BT7: 0.0075 | BU7: 0.0075 | BV7: 0 | BW7: 0 | BY7: 0.99881762 | BZ7: 1 | CA7: 0.99952705 | CB7: 0.9 | CC7: 0.0025
A8: AUBE_HAUTE_MARNE | B8: CHAUMONT | C8: JOINVILLE | D8: 1.8669392 | F8: 0.05825 | G8: 0.05125 | I8: 6 | J8: 6 | L8: 0.83 | M8: 0.8 | N8: 0.7 | O8: 0.014 | Q8: 92 | R8: 49.278519 | S8: 36 | T8: 1.3688477 | U8: 15.21951 | V8: 0.01 | W8: 0.01 | X8: 0 | Y8: 0 | AA8: 203 | AB8: 108.73412 | AC8: 200 | AD8: 0.54367061 | AE8: -223.55828 | AH8: 171 | AI8: 246 | AK8: 1174.0556 | AL8: 628.86652 | AM8: 612 | AN8: 1.0275597 | AO8: -131.21275 | AP8: 0.004 | AQ8: 0.0015 | AR8: 0 | AS8: 198 | AU8: 1287.5331 | AV8: 689.6492 | AW8: 573 | AX8: 1.2035763 | AY8: 65.443679 | AZ8: 0.015 | BA8: 0.015 | BB8: 0 | BC8: 0 | BE8: 134.9 | BF8: 72.257306 | BG8: 65 | BH8: 1.1116509 | BI8: -3.7314397 | BJ8: 0.01275 | BK8: 0.00825 | BL8: 0 | BM8: 11 | BO8: 130 | BP8: 69.63269 | BQ8: 78 | BR8: 0.89272679 | BS8: -36.357728 | BV8: 16 | BW8: 45 | BY8: 0.99955889 | BZ8: 1 | CA8: 0.99982356 | CB8: 0.9 | CC8: 0.0025
A9: AUBE_HAUTE_MARNE | B9: CHAUMONT | C9: LANGRES | D9: 8.9870805 | F9: 0.052375 | G9: 0.03925 | I9: 6 | J9: 6 | L9: 0.72198042 | M9: 0.669 | N9: 0.7 | Q9: 366 | R9: 40.725127 | S9: 36 | T9: 1.1312535 | U9: -3.6062684 | V9: 0.0095 | W9: 0.0065 | X9: 0 | Y9: 23 | AA9: 1525 | AB9: 169.68803 | AC9: 200 | AD9: 0.84844016 | AE9: -528.36816 | AH9: 273 | AI9: 632 | AK9: 7706.0212 | AL9: 857.45546 | AM9: 694.2 | AN9: 1.2351706 | AO9: 578.78035 | AP9: 0.01 | AQ9: 0.01 | AR9: 0 | AS9: 0 | AU9: 5711.668 | AV9: 635.5421 | AW9: 573 | AX9: 1.1091485 | AY9: -171.23176 | AZ9: 0.01275 | BA9: 0.00825 | BB9: 0 | BC9: 468 | BE9: 645.7 | BF9: 71.847581 | BG9: 65 | BH9: 1.1053474 | BI9: -21.644651 | BJ9: 0.012 | BK9: 0.00825 | BL9: 0 | BM9: 56 | BO9: 768 | BP9: 85.456005 | BQ9: 78 | BR9: 1.0955898 | BS9: -32.813581 | BT9: 0.005625 | BU9: 0.00375 | BV9: 0 | BW9: 74 | BY9: 0.99674995 | BZ9: 1 | CA9: 0.99869998 | CB9: 0.9 | CC9: 0.0025
A10: AUBE_HAUTE_MARNE | B10: CHAUMONT | C10: SAINT DIZIER CENTRE | D10: 9.0833675 | F10: 0.0465 | G10: 0.04425 | I10: 6 | J10: 5 | L10: 0.69900705 | M10: 0.559 | N10: 0.7 | Q10: 430 | R10: 47.339271 | S10: 36 | T10: 1.3149798 | U10: 56.433793 | V10: 0.01 | W10: 0.01 | X10: 0 | Y10: 0 | AA10: 1349 | AB10: 148.5132 | AC10: 200 | AD10: 0.74256601 | AE10: -726.36782 | AH10: 468 | AI10: 832 | AK10: 8813.1143 | AL10: 970.24746 | AM10: 633.5 | AN10: 1.5315666 | AO10: 2239.3868 | AP10: 0.01 | AQ10: 0.01 | AR10: 0 | AS10: 0 | AU10: 6180.5896 | AV10: 680.42932 | AW10: 573 | AX10: 1.1874857 | AY10: 234.66081 | AZ10: 0.015 | BA10: 0.01425 | BB10: 0 | BC10: 66 | BE10: 575.8 | BF10: 63.390587 | BG10: 65 | BH10: 0.9752398 | BI10: -98.69454 | BJ10: 0.0015 | BL10: 15 | BM10: 133 | BO10: 870 | BP10: 95.779456 | BQ10: 78 | BR10: 1.2279417 | BS10: 60.606552 | BT10: 0.0075 | BU10: 0.0075 | BV10: 0 | BW10: 0 | BY10: 0.99708832 | BZ10: 1 | CA10: 0.99883533 | CB10: 0.9 | CC10: 0.0025
A11: AUBE_HAUTE_MARNE | B11: CHAUMONT | C11: WASSY | D11: 1.9591787 | F11: 0.061 | G11: 0.06 | I11: 7 | J11: 6 | L11: 0.32 | M11: 0.636 | N11: 0.7 | Q11: 109 | R11: 55.635557 | S11: 36 | T11: 1.5454321 | U11: 28.426031 | V11: 0.01 | W11: 0.01 | X11: 0 | Y11: 0 | AA11: 380 | AB11: 193.95882 | AC11: 200 | AD11: 0.96979411 | AE11: -67.633159 | AF11: 0.001 | AH11: 12 | AI11: 91 | AK11: 1589.512 | AL11: 811.31544 | AM11: 618 | AN11: 1.3128082 | AO11: 206.32551 | AP11: 0.01 | AQ11: 0.01 | AR11: 0 | AS11: 0 | AU11: 1515.2022 | AV11: 773.3864 | AW11: 573 | AX11: 1.3497145 | AY11: 232.7332 | AZ11: 0.015 | BA11: 0.015 | BB11: 0 | BC11: 0 | BE11: 157.6 | BF11: 80.441869 | BG11: 65 | BH11: 1.2375672 | BI11: 12.119223 | BJ11: 0.015 | BK11: 0.015 | BL11: 0 | BM11: 0 | BO11: 240 | BP11: 122.50031 | BQ11: 78 | BR11: 1.5705168 | BS11: 65.423068 | BT11: 0.0075 | BU11: 0.0075 | BV11: 0 | BW11: 0 | BY11: 0.99612403 | BZ11: 1 | CA11: 0.99844961 | CB11: 0.9 | CC11: 0.0025
A12: AUBE_HAUTE_MARNE | B12: TROYES | C12: ARCIS SUR AUBE | D12: 3.8366683 | F12: 0.016 | G12: 0.01075 | I12: 4 | J12: 3 | L12: 0.75 | M12: 0.488 | N12: 0.7 | Q12: 136 | R12: 35.447422 | S12: 36 | T12: 0.98465062 | U12: -21.788354 | V12: 0.0015 | X12: 3 | Y12: 30 | AA12: 460 | AB12: 119.89569 | AC12: 200 | AD12: 0.59947846 | AE12: -416.60197 | AH12: 308 | AI12: 461 | AK12: 2294.8844 | AL12: 598.14512 | AM12: 692.7 | AN12: 0.86349808 | AO12: -741.22652 | AR12: 363 | AS12: 895 | AU12: 2223.7804 | AV12: 579.61238 | AW12: 573 | AX12: 1.0115399 | AY12: -287.6842 | AZ12: 0.0045 | BA12: 0.00075 | BB12: 0 | BC12: 415 | BE12: 234.8 | BF12: 61.198932 | BG12: 65 | BH12: 0.94152203 | BI12: -50.095639 | BL12: 15 | BM12: 65 | BO12: 385 | BP12: 100.34748 | BQ12: 78 | BR12: 1.2865062 | BS12: 43.125233 | BT12: 0.0075 | BU12: 0.0075 | BV12: 0 | BW12: 0 | BY12: 0.99567879 | BZ12: 1 | CA12: 0.99827152 | CB12: 0.9 | CC12: 0.0025
A13: AUBE_HAUTE_MARNE | B13: TROYES | C13: BAR SUR AUBE | D13: 5.9289893 | F13: 0.037125 | G13: 0.025125 | I13: 6 | J13: 5 | L13: 0.59869048 | M13: 0.748 | N13: 0.7 | O13: 0.006 | Q13: 229 | R13: 38.623783 | S13: 36 | T13: 1.0728829 | U13: -14.837987 | V13: 0.0065 | W13: 0.0035 | X13: 0 | Y13: 28 | AA13: 492 | AB13: 82.982102 | AC13: 200 | AD13: 0.41491051 | AE13: -862.65548 | AH13: 694 | AI13: 931 | AK13: 3079.1805 | AL13: 519.34323 | AM13: 648.5 | AN13: 0.80083767 | AO13: -1313.2899 | AR13: 766 | AS13: 1535 | AU13: 3785.7356 | AV13: 638.51281 | AW13: 573 | AX13: 1.114333 | AY13: -95.352326 | AZ13: 0.01275 | BA13: 0.00825 | BB13: 0 | BC13: 292 | BE13: 376.7 | BF13: 63.53528 | BG13: 65 | BH13: 0.97746585 | BI13: -63.563032 | BJ13: 0.00225 | BL13: 9 | BM13: 86 | BO13: 523 | BP13: 88.21065 | BQ13: 78 | BR13: 1.1309058 | BS13: -5.315638 | BT13: 0.007125 | BU13: 0.004875 | BV13: 0 | BW13: 32 | BY13: 0.99766537 | BZ13: 1 | CA13: 0.99906615 | CB13: 0.9 | CC13: 0.0025
A14: AUBE_HAUTE_MARNE | B14: TROYES | C14: BAR SUR SEINE | D14: 3.5450121 | F14: 0.025 | G14: 0.0225 | I14: 3 | J14: 3 | L14: 0.75 | M14: 0.539 | N14: 0.7 | Q14: 140 | R14: 39.492108 | S14: 36 | T14: 1.097003 | U14: -5.793586 | V14: 0.0075 | W14: 0.005 | X14: 0 | Y14: 14 | AA14: 272 | AB14: 76.727524 | AC14: 200 | AD14: 0.38363762 | AE14: -537.96437 | AH14: 438 | AI14: 579 | AK14: 1942.3967 | AL14: 547.92385 | AM14: 700.2 | AN14: 0.78252478 | AO14: -893.28856 | AR14: 540 | AS14: 1037 | AU14: 2639.1906 | AV14: 744.48001 | AW14: 573 | AX14: 1.299267 | AY14: 318.64273 | AZ14: 0.015 | BA14: 0.015 | BB14: 0 | BC14: 0 | BE14: 213.4 | BF14: 60.197256 | BG14: 65 | BH14: 0.92611162 | BI14: -49.838419 | BL14: 18 | BM14: 64 | BO14: 244 | BP14: 68.829102 | BQ14: 78 | BR14: 0.88242438 | BS14: -71.886103 | BV14: 33 | BW14: 88 | BY14: 0.99802956 | BZ14: 1 | CA14: 0.99921182 | CB14: 0.9 | CC14: 0.0025
A15: AUBE_HAUTE_MARNE | B15: TROYES | C15: LA CHAPELLE ST LUC | D15: 5.7009775 | F15: 0.035 | G15: 0.035 | I15: 4 | J15: 4 | L15: 0.55460513 | M15: 0.371 | N15: 0.7 | Q15: 280 | R15: 49.114385 | S15: 36 | T15: 1.3642885 | U15: 45.539321 | V15: 0.01 | W15: 0.01 | X15: 0 | Y15: 0 | AA15: 573 | AB15: 100.50908 | AC15: 200 | AD15: 0.5025454 | AE15: -729.55933 | AH15: 568 | AI15: 796 | AK15: 2242.8929 | AL15: 393.42251 | AM15: 617.2 | AN15: 0.63743116 | AO15: -1776.8052 | AR15: 1276 | AS15: 1980 | AU15: 3021.1948 | AV15: 529.9433 | AW15: 573 | AX15: 0.92485741 | AY15: -710.63769 | BB15: 246 | BC15: 899 | BE15: 452.4 | BF15: 79.354813 | BG15: 65 | BH15: 1.2208433 | BI15: 29.068218 | BJ15: 0.015 | BK15: 0.015 | BL15: 0 | BM15: 0 | BO15: 608 | BP15: 106.64838 | BQ15: 78 | BR15: 1.3672869 | BS15: 100.00186 | BT15: 0.0075 | BU15: 0.0075 | BV15: 0 | BW15: 0 | BY15: 0.99852527 | BZ15: 1 | CA15: 0.99941011 | CB15: 0.9 | CC15: 0.0025
A16: AUBE_HAUTE_MARNE | B16: TROYES | C16: NOGENT SUR SEINE | D16: 4.680001 | F16: 0.0245 | G16: 0.0215 | I16: 4 | J16: 4 | L16: 0.72 | M16: 0.775 | N16: 0.7 | O16: 0.01 | Q16: 150 | R16: 32.051275 | S16: 36 | T16: 0.89031321 | U16: -42.471592 | X16: 19 | Y16: 53 | AA16: 451 | AB16: 96.367502 | AC16: 200 | AD16: 0.48183751 | AE16: -618.28662 | AH16: 486 | AI16: 673 | AK16: 3325.3035 | AL16: 710.53479 | AM16: 687.6 | AN16: 1.0333548 | AO16: -350.90392 | AP16: 0.0045 | AQ16: 0.0015 | AR16: 0 | AS16: 537 | AU16: 2528.6136 | AV16: 540.30194 | AW16: 573 | AX16: 0.94293533 | AY16: -534.89256 | BB16: 154 | BC16: 690 | BE16: 173.5 | BF16: 37.072642 | BG16: 65 | BH16: 0.57034834 | BI16: -174.01815 | BL16: 131 | BM16: 192 | BO16: 527 | BP16: 112.60681 | BQ16: 78 | BR16: 1.4436771 | BS16: 109.97822 | BT16: 0.0075 | BU16: 0.0075 | BV16: 0 | BW16: 0 | BY16: 0.99697794 | BZ16: 1 | CA16: 0.99879118 | CB16: 0.9 | CC16: 0.0025
A17: AUBE_HAUTE_MARNE | B17: TROYES | C17: ROMILLY SUR SEINE | D17: 7.393217 | F17: 0.014 | G17: 0.0105 | I17: 4 | J17: 3 | L17: 0.83 | M17: 0.637 | N17: 0.7 | Q17: 268 | R17: 36.249443 | S17: 36 | T17: 1.006929 | U17: -36.0564 | V17: 0.003 | W17: 0.0005 | X17: 0 | Y17: 52 | AA17: 734 | AB17: 99.280191 | AC17: 200 | AD17: 0.49640096 | AE17: -955.20222 | AH17: 745 | AI17: 1041 | AK17: 4568.7662 | AL17: 617.96728 | AM17: 639.5 | AN17: 0.96632883 | AO17: -832.45787 | AP17: 0.001 | AR17: 160 | AS17: 1105 | AU17: 4012.9464 | AV17: 542.78759 | AW17: 573 | AX17: 0.94727328 | AY17: -826.61794 | AZ17: 0 | BB17: 224 | BC17: 1071 | BE17: 288.2 | BF17: 38.981677 | BG17: 65 | BH17: 0.59971811 | BI17: -260.79072 | BL17: 193 | BM17: 289 | BO17: 799 | BP17: 108.07203 | BQ17: 78 | BR17: 1.3855389 | BS17: 140.21113 | BT17: 0.0075 | BU17: 0.0075 | BV17: 0 | BW17: 0 | BY17: 0.99483274 | BZ17: 1 | CA17: 0.9979331 | CB17: 0.9 | CC17: 0.0025
A18: AUBE_HAUTE_MARNE | B18: TROYES | C18: SAINT ANDRE LES VERGERS | D18: 3.8611307 | F18: 0.045 | G18: 0.045 | I18: 5 | J18: 5 | L18: 0.45 | M18: 0.384 | N18: 0.7 | Q18: 194 | R18: 50.24435 | S18: 36 | T18: 1.3956764 | U18: 35.205595 | V18: 0.01 | W18: 0.01 | X18: 0 | Y18: 0 | AA18: 399 | AB18: 103.33761 | AC18: 200 | AD18: 0.51668803 | AE18: -483.19114 | AH18: 374 | AI18: 528 | AK18: 5629.6011 | AL18: 1458.0188 | AM18: 724.7 | AN18: 2.0118929 | AO18: 2432.9815 | AP18: 0.01 | AQ18: 0.01 | AR18: 0 | AS18: 0 | AU18: 2833.7426 | AV18: 733.91522 | AW18: 573 | AX18: 1.2808294 | AY18: 306.26496 | AZ18: 0.015 | BA18: 0.015 | BB18: 0 | BC18: 0 | BE18: 157.3 | BF18: 40.739362 | BG18: 65 | BH18: 0.62675941 | BI18: -129.41212 | BL18: 94 | BM18: 144 | BO18: 392 | BP18: 101.52467 | BQ18: 78 | BR18: 1.3015983 | BS18: 47.945456 | BT18: 0.0075 | BU18: 0.0075 | BV18: 0 | BW18: 0 | BY18: 0.99789695 | BZ18: 1 | CA18: 0.99915878 | CB18: 0.9 | CC18: 0.0025
A19: AUBE_HAUTE_MARNE | B19: TROYES | C19: SAINTE SAVINE | D19: 5.451315 | F19: 0.008875 | G19: 0.006625 | I19: 2 | J19: 2 | L19: 0.4 | M19: 0.595 | N19: 0.7 | Q19: 146 | R19: 26.782529 | S19: 36 | T19: 0.74395913 | U19: -78.192961 | X19: 51 | Y19: 90 | AA19: 390 | AB19: 71.542371 | AC19: 200 | AD19: 0.35771186 | AE19: -855.51645 | AH19: 701 | AI19: 919 | AK19: 2120.4757 | AL19: 388.98425 | AM19: 808.4 | AN19: 0.48117794 | AO19: -2913.9018 | AR19: 2287 | AS19: 3168 | AU19: 2198.181 | AV19: 403.23866 | AW19: 573 | AX19: 0.70373239 | AY19: -1370.2237 | BB19: 926 | BC19: 1551 | BE19: 152.3 | BF19: 27.938213 | BG19: 65 | BH19: 0.42981866 | BI19: -252.49285 | BL19: 203 | BM19: 273 | BO19: 474 | BP19: 86.951497 | BQ19: 78 | BR19: 1.1147628 | BS19: -11.751415 | BT19: 0.006375 | BU19: 0.004125 | BV19: 0 | BW19: 37 | BY19: 0.99693922 | BZ19: 1 | CA19: 0.99877569 | CB19: 0.9 | CC19: 0.0025
A20: AUBE_HAUTE_MARNE | B20: TROYES | C20: SAINT JULIEN LES VILLAS | D20: 4.6733464 | F20: 0.0255 | G20: 0.0225 | I20: 4 | J20: 3 | L20: 0.25 | M20: 0.323 | N20: 0.7 | Q20: 223 | R20: 47.717413 | S20: 36 | T20: 1.3254837 | U20: 30.802088 | V20: 0.01 | W20: 0.01 | X20: 0 | Y20: 0 | AA20: 599 | AB20: 128.17368 | AC20: 200 | AD20: 0.6408684 | AE20: -468.76618 | AH20: 336 | AI20: 523 | AK20: 4226.5881 | AL20: 904.40291 | AM20: 738.6 | AN20: 1.2244827 | AO20: 283.32755 | AP20: 0.01 | AQ20: 0.01 | AR20: 0 | AS20: 0 | AU20: 2644.1783 | AV20: 565.79977 | AW20: 573 | AX20: 0.98743415 | AY20: -414.9718 | AZ20: 0.003 | BB20: 34 | BC20: 570 | BE20: 206 | BF20: 44.079763 | BG20: 65 | BH20: 0.6781502 | BI20: -141.02401 | BL20: 98 | BM20: 159 | BO20: 321 | BP20: 68.687398 | BQ20: 78 | BR20: 0.88060766 | BS20: -95.428809 | BV20: 44 | BW20: 117 | BY20: 0.99480198 | BZ20: 1 | CA20: 0.99792079 | CB20: 0.9 | CC20: 0.0025
A21: AUBE_HAUTE_MARNE | B21: TROYES | C21: TROYES 1ER MAI | D21: 3.306603 | F21: 0.03525 | G21: 0.03075 | I21: 5 | J21: 5 | L21: 0.39 | M21: 0.187 | N21: 0.7 | Q21: 196 | R21: 59.275335 | S21: 36 | T21: 1.6465371 | U21: 60.011323 | V21: 0.01 | W21: 0.01 | X21: 0 | Y21: 0 | AA21: 423 | AB21: 127.92585 | AC21: 200 | AD21: 0.63962926 | AE21: -332.49265 | AH21: 239 | AI21: 371 | AK21: 2923.6453 | AL21: 884.18396 | AM21: 612 | AN21: 1.444745 | AO21: 611.8378 | AP21: 0.01 | AQ21: 0.01 | AR21: 0 | AS21: 0 | AU21: 1922.79 | AV21: 581.50011 | AW21: 573 | AX21: 1.0148344 | AY21: -241.69643 | AZ21: 0.00525 | BA21: 0.00075 | BB21: 0 | BC21: 351 | BE21: 204.3 | BF21: 61.785464 | BG21: 65 | BH21: 0.9505456 | BI21: -41.23511 | BJ21: 0 | BL21: 11 | BM21: 54 | BO21: 411 | BP21: 124.29675 | BQ21: 78 | BR21: 1.5935481 | BS21: 116.35787 | BT21: 0.0075 | BU21: 0.0075 | BV21: 0 | BW21: 0 | BY21: 0.99780044 | BZ21: 1 | CA21: 0.99912018 | CB21: 0.9 | CC21: 0.0025
A22: AUBE_HAUTE_MARNE | B22: TROYES | C22: TROYES BROSSOLETTE | D22: 1.7748491 | F22: 0.026625 | G22: 0.017625 | I22: 5 | J22: 4 | L22: 0.16 | M22: 0.615 | N22: 0.7 | Q22: 71 | R22: 40.003401 | S22: 36 | T22: 1.1112056 | U22: -1.9931543 | V22: 0.0085 | W22: 0.0055 | X22: 0 | Y22: 6 | AA22: 300 | AB22: 169.02845 | AC22: 200 | AD22: 0.84514227 | AE22: -105.51752 | AH22: 55 | AI22: 126 | AK22: 1448.583 | AL22: 816.17246 | AM22: 694.9 | AN22: 1.1745179 | AO22: 39.612324 | AP22: 0.01 | AQ22: 0.0085 | AR22: 0 | AS22: 32 | AU22: 994.66509 | AV22: 560.42234 | AW22: 573 | AX22: 0.97804946 | AY22: -167.14262 | AZ22: 0.00225 | BB22: 23 | BC22: 226 | BE22: 107.7 | BF22: 60.681215 | BG22: 65 | BH22: 0.93355715 | BI22: -24.093195 | BL22: 8 | BM22: 31 | BO22: 143 | BP22: 80.57023 | BQ22: 78 | BR22: 1.0329517 | BS22: -15.151834 | BT22: 0.003375 | BU22: 0.001125 | BV22: 0 | BW22: 24 | BY22: 0.99862637 | BZ22: 1 | CA22: 0.99945055 | CB22: 0.9 | CC22: 0.0025
A23: AUBE_HAUTE_MARNE | B23: TROYES | C23: TROYES CHARTREUX | D23: 2.8112109 | F23: 0.01475 | G23: 0.012875 | I23: 3 | J23: 3 | L23: 0.21 | M23: 0.657 | N23: 0.7 | Q23: 124 | R23: 44.109107 | S23: 36 | T23: 1.225253 | U23: 8.3850171 | V23: 0.01 | W23: 0.01 | X23: 0 | Y23: 0 | AA23: 184 | AB23: 65.452223 | AC23: 200 | AD23: 0.32726111 | AE23: -458.30546 | AH23: 379 | AI23: 491 | AK23: 699.81813 | AL23: 248.93833 | AM23: 634.3 | AN23: 0.39246149 | AO23: -1337.2536 | AR23: 1084 | AS23: 1440 | AU23: 1471.2865 | AV23: 523.36398 | AW23: 573 | AX23: 0.91337519 | AY23: -368.91863 | BB23: 140 | BC23: 462 | BE23: 106 | BF23: 37.706172 | BG23: 65 | BH23: 0.58009495 | BI23: -102.74927 | BL23: 77 | BM23: 114 | BO23: 222 | BP23: 78.969529 | BQ23: 78 | BR23: 1.0124299 | BS23: -28.49913 | BT23: 0.00225 | BU23: 0.000375 | BV23: 0 | BW23: 42 | BY23: 0.99983433 | BZ23: 1 | CA23: 0.99993373 | CB23: 0.9 | CC23: 0.0025
A24: AUBE_HAUTE_MARNE | B24: TROYES | C24: TROYES GAMBETTA | D24: 9.713444 | F24: 0.02 | G24: 0.02 | I24: 3 | J24: 3 | L24: 0.75 | M24: 0.576 | N24: 0.7 | Q24: 435 | R24: 44.783292 | S24: 36 | T24: 1.2439803 | U24: 35.521018 | V24: 0.01 | W24: 0.01 | X24: 0 | Y24: 0 | AA24: 937 | AB24: 96.464241 | AC24: 200 | AD24: 0.48232121 | AE24: -1282.3277 | AH24: 1006 | AI24: 1395 | AK24: 7171.5031 | AL24: 738.30694 | AM24: 789.8 | AN24: 0.93480241 | AO24: -1592.6219 | AR24: 501 | AS24: 2035 | AU24: 4631.4401 | AV24: 476.8072 | AW24: 573 | AX24: 0.83212427 | AY24: -1726.9337 | BB24: 935 | BC24: 2048 | BE24: 403.8 | BF24: 41.571249 | BG24: 65 | BH24: 0.63955768 | BI24: -317.48149 | BL24: 228 | BM24: 354 | BO24: 1152 | BP24: 118.59851 | BQ24: 78 | BR24: 1.5204937 | BS24: 286.46221 | BT24: 0.0075 | BU24: 0.0075 | BV24: 0 | BW24: 0 | BY24: 0.99730458 | BZ24: 1 | CA24: 0.99892183 | CB24: 0.9 | CC24: 0.0025
A25: AUBE_HAUTE_MARNE | B25: TROYES | C25: TROYES ZOLA | D25: 4.7812116 | F25: 0.02 | G25: 0.018 | I25: 3 | J25: 3 | L25: 0.05 | M25: 0.334 | N25: 0.7 | Q25: 204 | R25: 42.667009 | S25: 36 | T25: 1.1851947 | U25: 7.3659787 | V25: 0.01 | W25: 0.0095 | X25: 0 | Y25: 3 | AA25: 339 | AB25: 70.90253 | AC25: 200 | AD25: 0.35451265 | AE25: -753.41123 | AH25: 618 | AI25: 809 | AK25: 2671.411 | AL25: 558.73096 | AM25: 713.7 | AN25: 0.78286529 | AO25: -1226.8585 | AR25: 741 | AS25: 1424 | AU25: 2511.4736 | AV25: 525.27974 | AW25: 573 | AX25: 0.91671857 | AY25: -618.28458 | BB25: 229 | BC25: 777 | BE25: 236.2 | BF25: 49.401704 | BG25: 65 | BH25: 0.76002621 | BI25: -118.83365 | BL25: 75 | BM25: 137 | BO25: 433 | BP25: 90.562819 | BQ25: 78 | BR25: 1.1610618 | BS25: 6.9596204 | BT25: 0.0075 | BU25: 0.006 | BV25: 0 | BW25: 15 | BY25: 0.9988046 | BZ25: 1 | CA25: 0.99952184 | CB25: 0.9 | CC25: 0.0025
A26: BAS_RHIN | B26: HAGUENAU | C26: BISCHWILLER | D26: 6.8892148 | F26: 0.023 | G26: 0.0205 | I26: 4 | J26: 4 | L26: 0.56519277 | M26: 0.463 | N26: 0.7 | Q26: 308 | R26: 44.707563 | S26: 36 | T26: 1.2418767 | U26: 24.671398 | V26: 0.01 | W26: 0.01 | X26: 0 | Y26: 0 | AA26: 698 | AB26: 101.31779 | AC26: 200 | AD26: 0.50658894 | AE26: -876.04779 | AH26: 680 | AI26: 956 | AK26: 4977.0012 | AL26: 722.43375 | AM26: 716.4 | AN26: 1.0084223 | AO26: -661.23793 | AP26: 0.003 | AQ26: 0.0005 | AR26: 0 | AS26: 946 | AU26: 3514.8123 | AV26: 510.19056 | AW26: 573 | AX26: 0.89038492 | AY26: -994.83457 | BB26: 433 | BC26: 1223 | BE26: 386.5 | BF26: 56.102185 | BG26: 65 | BH26: 0.86311054 | BI26: -125.06553 | BL26: 62 | BM26: 151 | BO26: 790 | BP26: 114.672 | BQ26: 78 | BR26: 1.4701538 | BS26: 176.12136 | BT26: 0.0075 | BU26: 0.0075 | BV26: 0 | BW26: 0 | BY26: 0.99904245 | BZ26: 1 | CA26: 0.99961698 | CB26: 0.9 | CC26: 0.0025
A27: BAS_RHIN | B27: HAGUENAU | C27: BOUXWILLER | D27: 2.6565336 | F27: 0.0395 | G27: 0.037 | I27: 5 | J27: 5 | L27: 0.75 | M27: 0.672 | N27: 0.7 | Q27: 117 | R27: 44.042357 | S27: 36 | T27: 1.2233988 | U27: 7.746337 | V27: 0.01 | W27: 0.01 | X27: 0 | Y27: 0 | AA27: 294 | AB27: 110.67054 | AC27: 200 | AD27: 0.55335269 | AE27: -312.96479 | AH27: 238 | AI27: 344 | AK27: 2049.2269 | AL27: 771.3913 | AM27: 744 | AN27: 1.0368163 | AO27: -208.68215 | AP27: 0.0045 | AQ27: 0.002 | AR27: 0 | AS27: 323 | AU27: 1860.1908 | AV27: 700.23236 | AW27: 573 | AX27: 1.222046 | AY27: 121.23664 | AZ27: 0.015 | BA27: 0.015 | BB27: 0 | BC27: 0 | BE27: 159.3 | BF27: 59.965363 | BG27: 65 | BH27: 0.92254404 | BI27: -37.963558 | BL27: 14 | BM27: 48 | BO27: 358 | BP27: 134.76208 | BQ27: 78 | BR27: 1.727719 | BS27: 121.28373 | BT27: 0.0075 | BU27: 0.0075 | BV27: 0 | BW27: 0 | BY27: 0.99866962 | BZ27: 1 | CA27: 0.99946785 | CB27: 0.9 | CC27: 0.0025
A28: BAS_RHIN | B28: HAGUENAU | C28: BRUMATH | D28: 5.3927397 | F28: 0.04125 | G28: 0.0365 | I28: 5 | J28: 5 | L28: 0.6 | M28: 0.626 | N28: 0.7 | Q28: 249 | R28: 46.173191 | S28: 36 | T28: 1.2825886 | U28: 27.21603 | V28: 0.01 | W28: 0.01 | X28: 0 | Y28: 0 | AA28: 751 | AB28: 139.26131 | AC28: 200 | AD28: 0.69630655 | AE28: -481.13317 | AH28: 328 | AI28: 544 | AK28: 5254.5743 | AL28: 974.37937 | AM28: 828 | AN28: 1.1767867 | AO28: 153.54302 | AP28: 0.01 | AQ28: 0.009 | AR28: 0 | AS28: 104 | AU28: 3383.9457 | AV28: 627.50027 | AW28: 573 | AX28: 1.0951139 | AY28: -146.11588 | AZ28: 0.01125 | BA28: 0.0075 | BB28: 0 | BC28: 325 | BE28: 237.6 | BF28: 44.059238 | BG28: 65 | BH28: 0.67783442 | BI28: -162.84328 | BL28: 113 | BM28: 184 | BO28: 908 | BP28: 168.37453 | BQ28: 78 | BR28: 2.1586478 | BS28: 427.46806 | BT28: 0.0075 | BU28: 0.0075 | BV28: 0 | BW28: 0 | BY28: 0.99898632 | BZ28: 1 | CA28: 0.99959453 | CB28: 0.9 | CC28: 0.0025
A29: BAS_RHIN | B29: HAGUENAU | C29: HAGUENAU HOUBLON | D29: 10.38383 | F29: 0.0225 | G29: 0.017 | I29: 4 | J29: 4 | L29: 0.3813792 | M29: 0.426 | N29: 0.7 | Q29: 422 | R29: 40.640109 | S29: 36 | T29: 1.1288919 | U29: -5.0495627 | V29: 0.0095 | W29: 0.0065 | X29: 0 | Y29: 27 | AA29: 1105 | AB29: 106.41545 | AC29: 200 | AD29: 0.53207726 | AE29: -1267.4976 | AH29: 972 | AI29: 1388 | AK29: 8610.1279 | AL29: 829.1861 | AM29: 823.9 | AN29: 1.006416 | AO29: -1163.3759 | AP29: 0.003 | AQ29: 0.0005 | AR29: 0 | AS29: 1657 | AU29: 5385.5979 | AV29: 518.65234 | AW29: 573 | AX29: 0.90515243 | AY29: -1411.6076 | BB29: 565 | BC29: 1755 | BE29: 469.6 | BF29: 45.224159 | BG29: 65 | BH29: 0.6957563 | BI29: -301.46171 | BL29: 206 | BM29: 341 | BO29: 1290 | BP29: 124.23161 | BQ29: 78 | BR29: 1.592713 | BS29: 364.72595 | BT29: 0.0075 | BU29: 0.0075 | BV29: 0 | BW29: 0 | BY29: 0.99751827 | BZ29: 1 | CA29: 0.99900731 | CB29: 0.9 | CC29: 0.0025
A30: BAS_RHIN | B30: HAGUENAU | C30: HOCHFELDEN | D30: 2.3642739 | F30: 0.0455 | G30: 0.04175 | I30: 5 | J30: 5 | L30: 0.76 | M30: 0.64 | N30: 0.7 | Q30: 132 | R30: 55.831095 | S30: 36 | T30: 1.5508637 | U30: 34.765926 | V30: 0.01 | W30: 0.01 | X30: 0 | Y30: 0 | AA30: 274 | AB30: 115.89182 | AC30: 200 | AD30: 0.57945909 | AE30: -266.1893 | AH30: 199 | AI30: 294 | AK30: 1010.9714 | AL30: 427.60332 | AM30: 703 | AN30: 0.60825507 | AO30: -887.79403 | AR30: 652 | AS30: 984 | AU30: 1893.1135 | AV30: 800.71668 | AW30: 573 | AX30: 1.3974113 | AY30: 345.4712 | AZ30: 0.015 | BA30: 0.015 | BB30: 0 | BC30: 0 | BE30: 167.2 | BF30: 70.719387 | BG30: 65 | BH30: 1.0879906 | BI30: -8.3615225 | BJ30: 0.0105 | BK30: 0.00675 | BL30: 0 | BM30: 18 | BO30: 390 | BP30: 164.95551 | BQ30: 78 | BR30: 2.1148142 | BS30: 179.32617 | BT30: 0.0075 | BU30: 0.0075 | BV30: 0 | BW30: 0 | BY30: 0.99793956 | BZ30: 1 | CA30: 0.99917582 | CB30: 0.9 | CC30: 0.0025
A31: BAS_RHIN | B31: HAGUENAU | C31: HOERDT | D31: 1.8746319 | F31: 0.0285 | G31: 0.026 | I31: 4 | J31: 4 | L31: 0.69 | M31: 0.803 | N31: 0.7 | O31: 0.014 | Q31: 59 | R31: 31.472846 | S31: 36 | T31: 0.87424573 | U31: -18.09686 | X31: 9 | Y31: 22 | AA31: 244 | AB31: 130.15889 | AC31: 200 | AD31: 0.65079445 | AE31: -184.31589 | AH31: 131 | AI31: 206 | AK31: 1615.8301 | AL31: 861.94527 | AM31: 828 | AN31: 1.0409967 | AO31: -157.3977 | AP31: 0.0045 | AQ31: 0.002 | AR31: 0 | AS31: 247 | AU31: 755.86399 | AV31: 403.20663 | AW31: 573 | AX31: 0.70367649 | AY31: -471.26103 | BB31: 319 | BC31: 534 | BE31: 105.1 | BF31: 56.064341 | BG31: 65 | BH31: 0.86252833 | BI31: -34.102663 | BL31: 17 | BM31: 42 | BO31: 186 | BP31: 99.219481 | BQ31: 78 | BR31: 1.2720446 | BS31: 18.956804 | BT31: 0.0075 | BU31: 0.0075 | BV31: 0 | BW31: 0 | BY31: 0.99159664 | BZ31: 1 | CA31: 0.99663866 | CB31: 0.9 | CC31: 0.0025
A32: BAS_RHIN | B32: HAGUENAU | C32: INGWILLER | D32: 3.1465914 | F32: 0.06 | G32: 0.057 | I32: 6 | J32: 6 | L32: 0.59 | M32: 0.543 | N32: 0.7 | Q32: 159 | R32: 50.53087 | S32: 36 | T32: 1.4036353 | U32: 29.592025 | V32: 0.01 | W32: 0.01 | X32: 0 | Y32: 0 | AA32: 411 | AB32: 130.61753 | AC32: 200 | AD32: 0.65308767 | AE32: -307.93319 | AH32: 219 | AI32: 345 | AK32: 3008.5514 | AL32: 956.13033 | AM32: 774.6 | AN32: 1.2343536 | AO32: 224.12317 | AP32: 0.01 | AQ32: 0.01 | AR32: 0 | AS32: 0 | AU32: 2840.4575 | AV32: 902.70937 | AW32: 573 | AX32: 1.575409 | AY32: 780.71389 | AZ32: 0.015 | BA32: 0.015 | BB32: 0 | BC32: 0 | BE32: 236.7 | BF32: 75.224258 | BG32: 65 | BH32: 1.1572963 | BI32: 3.0467125 | BJ32: 0.015 | BK32: 0.012 | BL32: 0 | BM32: 9 | BO32: 583 | BP32: 185.27986 | BQ32: 78 | BR32: 2.3753828 | BS32: 302.61606 | BT32: 0.0075 | BU32: 0.0075 | BV32: 0 | BW32: 0 | BY32: 0.99868594 | BZ32: 1 | CA32: 0.99947438 | CB32: 0.9 | CC32: 0.0025
A33: BAS_RHIN | B33: HAGUENAU | C33: NIEDERBRONN LES BAINS | D33: 7.7849246 | F33: 0.013 | G33: 0.01 | I33: 3 | J33: 2 | L33: 0.81659743 | M33: 0.7 | N33: 0.7 | O33: 0 | Q33: 208 | R33: 26.718306 | S33: 36 | T33: 0.74217517 | U33: -112.16592 | X33: 73 | Y33: 129 | AA33: 565 | AB33: 72.576168 | AC33: 200 | AD33: 0.36288084 | AE33: -1213.6996 | AH33: 992 | AI33: 1304 | AK33: 4996.801 | AL33: 641.85605 | AM33: 708.1 | AN33: 0.90644831 | AO33: -1300.6849 | AR33: 516 | AS33: 1619 | AU33: 4432.992 | AV33: 569.43288 | AW33: 573 | AX33: 0.99377465 | AY33: -662.98228 | AZ33: 0.003 | BB33: 28 | BC33: 920 | BE33: 311.6 | BF33: 40.026078 | BG33: 65 | BH33: 0.61578582 | BI33: -266.47736 | BL33: 195 | BM33: 296 | BO33: 966 | BP33: 124.08598 | BQ33: 78 | BR33: 1.5908459 | BS33: 272.30717 | BT33: 0.0075 | BU33: 0.0075 | BV33: 0 | BW33: 0 | BY33: 0.99951136 | BZ33: 1 | CA33: 0.99980454 | CB33: 0.9 | CC33: 0.0025
A34: BAS_RHIN | B34: HAGUENAU | C34: PFAFFENHOFFEN | D34: 2.524937 | F34: 0.01375 | G34: 0.01 | I34: 3 | J34: 2 | L34: 0.56 | M34: 0.656 | N34: 0.7 | Q34: 83 | R34: 32.872107 | S34: 36 | T34: 0.91311408 | U34: -20.84157 | X34: 8 | Y34: 27 | AA34: 194 | AB34: 76.833599 | AC34: 200 | AD34: 0.384168 | AE34: -382.89761 | AH34: 311 | AI34: 412 | AK34: 944.72959 | AL34: 374.15966 | AM34: 735.8 | AN34: 0.50850729 | AO34: -1177.6767 | AR34: 914 | AS34: 1285 | AU34: 1442.1324 | AV34: 571.1558 | AW34: 573 | AX34: 0.99678151 | AY34: -210.67922 | AZ34: 0.00375 | BA34: 0 | BB34: 5 | BC34: 295 | BE34: 126.8 | BF34: 50.219074 | BG34: 65 | BH34: 0.77260114 | BI34: -60.691724 | BL34: 38 | BM34: 71 | BO34: 477 | BP34: 188.9156 | BQ34: 78 | BR34: 2.4219949 | BS34: 252.00993 | BT34: 0.0075 | BU34: 0.0075 | BV34: 0 | BW34: 0 | BY34: 0.99483649 | BZ34: 1 | CA34: 0.9979346 | CB34: 0.9 | CC34: 0.0025
A35: BAS_RHIN | B35: HAGUENAU | C35: SARRE UNION | D35: 4.8022214 | F35: 0.022625 | G35: 0.016625 | I35: 4 | J35: 4 | L35: 0.53 | M35: 0.622 | N35: 0.7 | Q35: 149 | R35: 31.027308 | S35: 36 | T35: 0.86186966 | U35: -48.498076 | X35: 24 | Y35: 59 | AA35: 639 | AB35: 133.06342 | AC35: 200 | AD35: 0.6653171 | AE35: -458.21154 | AH35: 322 | AI35: 514 | AK35: 5737.767 | AL35: 1194.8152 | AM35: 735.5 | AN35: 1.6244938 | AO35: 1702.7716 | AP35: 0.01 | AQ35: 0.01 | AR35: 0 | AS35: 0 | AU35: 2865.7551 | AV35: 596.75614 | AW35: 573 | AX35: 1.0414592 | AY35: -277.75598 | AZ35: 0.00675 | BA35: 0.003 | BB35: 0 | BC35: 437 | BE35: 200.4 | BF35: 41.730688 | BG35: 65 | BH35: 0.64201058 | BI35: -156.19375 | BL35: 112 | BM35: 175 | BO35: 387 | BP35: 80.587705 | BQ35: 78 | BR35: 1.0331757 | BS35: -40.912499 | BT35: 0.003375 | BU35: 0.001125 | BV35: 0 | BW35: 63 | BY35: 0.9985545 | BZ35: 1 | CA35: 0.9994218 | CB35: 0.9 | CC35: 0.0025
A36: BAS_RHIN | B36: HAGUENAU | C36: SAVERNE | D36: 7.962668 | F36: 0.042 | G36: 0.03825 | I36: 5 | J36: 5 | L36: 0.5 | M36: 0.356 | N36: 0.7 | Q36: 367 | R36: 46.090079 | S36: 36 | T36: 1.28028 | U36: 39.524129 | V36: 0.01 | W36: 0.01 | X36: 0 | Y36: 0 | AA36: 919 | AB36: 115.41358 | AC36: 200 | AD36: 0.57706788 | AE36: -900.3104 | AH36: 674 | AI36: 993 | AK36: 8109.19 | AL36: 1018.4011 | AM36: 828 | AN36: 1.229953 | AO36: 577.24499 | AP36: 0.01 | AQ36: 0.01 | AR36: 0 | AS36: 0 | AU36: 5043.3159 | AV36: 633.37011 | AW36: 573 | AX36: 1.105358 | AY36: -169.00834 | AZ36: 0.012 | BA36: 0.00825 | BB36: 0 | BC36: 432 | BE36: 352.5 | BF36: 44.269081 | BG36: 65 | BH36: 0.68106279 | BI36: -238.77588 | BL36: 166 | BM36: 269 | BO36: 828 | BP36: 103.98525 | BQ36: 78 | BR36: 1.3331442 | BS36: 118.46895 | BT36: 0.0075 | BU36: 0.0075 | BV36: 0 | BW36: 0 | BY36: 0.99769504 | BZ36: 1 | CA36: 0.99907801 | CB36: 0.9 | CC36: 0.0025
