Workbook
Name AUBE_HAUTE_MARNE: 'Structures EDS'!$C$3:$C$4
Name BAS_RHIN: 'Structures EDS'!$D$3:$D$5
Name CHALONS_EN_CHAMPAGNE: 'Structures EDS'!$T$3:$T$12
Name CHARLEVILLE_MEZIERES: 'Structures EDS'!$U$3:$U$15
Name CHAUMONT: 'Structures EDS'!$M$3:$M$8
Name COLMAR: 'Structures EDS'!$R$3:$R$14
Name EPINAL: 'Structures EDS'!$AC$3:$AC$17
Name HAGUENAU: 'Structures EDS'!$O$3:$O$16
Name HAUT_RHIN: 'Structures EDS'!$E$3:$E$4
Name MARNE_ARDENNES: 'Structures EDS'!$F$3:$F$5
Name METZ: 'Structures EDS'!$Z$3:$Z$24
Name MEURTHE_ET_MOSELLE_MEUSE: 'Structures EDS'!$G$3:$G$5
Name MOSELLE: 'Structures EDS'!$H$3:$H$5
Name MOSELLE_EST: 'Structures EDS'!$AA$3:$AA$17
Name MOSELLE_NORD: 'Structures EDS'!$AB$3:$AB$17
Name MULHOUSE: 'Structures EDS'!$S$3:$S$12
Name NANCY: 'Structures EDS'!$W$3:$W$17
Name PONT_A_MOUSSON: 'Structures EDS'!$X$3:$X$20
Name REIMS: 'Structures EDS'!$V$3:$V$19
Name SAINT_DIE: 'Structures EDS'!$AD$3:$AD$12
Name SELESTAT: 'Structures EDS'!$P$3:$P$17
Name STRASBOURG: 'Structures EDS'!$Q$3:$Q$20
Name TROYES: 'Structures EDS'!$N$3:$N$15
Name VERDUN: 'Structures EDS'!$Y$3:$Y$16
Name VOSGES: 'Structures EDS'!$I$3:$I$4

Sheet Lexique
B1: LEXIQUE FICHE AGENCE "VERS LA PV 2021"
C5: Le rôle de la fiche Agence "Vers la Part Variable 2021" est de vous aider à piloter les principaux items de la Part Variable 2021 sur les 2 derniers mois de l'année. Les indicateurs vous permettent d'avoir une vision hebdomadaire et par ETP des performances à réaliser pour atteindre vos objectifs.
C7: Elle sera mise à jour chaque lundi et mardi matin pour vous offrir la vision la plus complète de la production de la semaine précédente et du reste à faire.
C9: Ce suivi n'a pas vocation à figer vos résultats et les taux de Part Variable, ces derniers le seront lors de la réalisation des arrêtés définitifs début 2022.
C11: Pour piloter vos objectifs Part Variable en quotidien : | H11: Suivi Quotidien Part Variable sur Objectifs
C16: ● Taux d'atteinte de l'objectif : réalisation cumulée à fin de semaine précédente / objectif annuel 2021
C18: ● Meilleure performance hebdo : meilleure production hebdomadaire en 2021 (avant S44) rapportée à l'ETP moyen annuel
F19: à fin septembre
C21: ● Reste à faire pour atteindre l'objectif de 100% ou 120% : il s'agit d'une estimation du reste à faire pour atteindre l'objectif
C22: annuel. Ce dernier s'adapte en fonction de :
C23: - la réalisation sur la semaine précédente
C24: - la mise à jour mensuelle de l'objectif en fonction de l'ETP annuel moyen (ETP d'octobre disponible autour du 20/11)
C26: ● ETP utilisé dans le calcul du reste à faire et de la production des semaines 45 à 50 : il s'agit de l'ETP PERFORMANCE MOYEN
C28: ● 1er décile AGENCE CEGEE : il s'agit du premier décile toutes agence de la CEGEE confondues.
C29: Il faut lire : 10% des agences de la CEGEE ont un taux supérieur à X%.
C34: L'ETP utilisé pour calculer mon reste à faire et ma production sur les semaines 45 à 50 est trop éloigné de la réalité, comment le modifier ?
C35: Il vous suffit d'envoyer un email à la boîte CEGEE-B-CRM-DATA en précisant l'ETP le plus proche de votre situation sur cette période.
C37: Mon reste à faire ne correspond pas au reste à faire de la semaine précédente moins ma production de la semaine, comment est-ce possible ?
C38: Le reste à faire s'adapte au fil de l'eau à 2 informations : l'objectif annuel, qui dépend de l'ETP moyen annuel, et la réalisation sur la semaine précédente.
C39: Lorsque les ETP d'octobre seront intégrés à l'ETP moyen annuel, autour du 20/11, l'objectif annuel va s'ajuster. Le reste à faire sera donc recalculé selon l'objectif annuel.

Sheet Fiche Agence
C1: REGION | H1: TERRITOIRE | N1: AGENCE
C2: AUBE_HAUTE_MARNE | X2: Semaine en cours : | Y2: 46 | Z2: A modifier manuellement | AE2: IARD PREVOYANCE
X3: Nb semaines restantes : | Y3: =50-Y2+1 -> 5 | AE3: S0 | AF3: S45 | AG3: S46 | AH3: S47 | AI3: S48 | AJ3: S49 | AK3: S50
B4: ="VERS LA PART VARIABLE 2021 - SEMAINE " &Y2 -> VERS LA PART VARIABLE 2021 - SEMAINE 46 | X4: Code EDS | Y4: =VLOOKUP(N2,ETP_Challenge!D:F,3,0) -> #N/A | AD4: PROD | AE4: =(IF(ISBLANK($H$2),SUMIF('CUMUL résultats semaine'!$A:$A,'Fiche Agence'!$C$2,'CUMUL résultats semaine'!$D:$D),IF(ISBLANK($N$2),SUMIF('CUMUL résultats semaine'!$B:$B,'Fiche Agence'!$H$2,'CUMUL résultats semaine'!$D:$D),SUMIF('CUMUL résultats semaine'!$C:$C,'Fiche Agence'!$N$2,'CUMUL résultats semaine'!$D:$D)))) -> 5538.5 | AF4: =(IF(ISBLANK($H$2),SUMIF('CUMUL résultats semaine'!$A:$A,'Fiche Agence'!$C$2,'CUMUL résultats semaine'!$P:$P),IF(ISBLANK($N$2),SUMIF('CUMUL résultats semaine'!$B:$B,'Fiche Agence'!$H$2,'CUMUL résultats semaine'!$P:$P),SUMIF('CUMUL résultats semaine'!$C:$C,'Fiche Agence'!$N$2,'CUMUL résultats semaine'!$P:$P)))) -> 5598.9 | AG4: =(IF(ISBLANK($H$2),SUMIF('CUMUL résultats semaine'!$A:$A,'Fiche Agence'!$C$2,'CUMUL résultats semaine'!$AB:$AB),IF(ISBLANK($N$2),SUMIF('CUMUL résultats semaine'!$B:$B,'Fiche Agence'!$H$2,'CUMUL résultats semaine'!$AB:$AB),SUMIF('CUMUL résultats semaine'!$C:$C,'Fiche Agence'!$N$2,'CUMUL résultats semaine'!$AB:$AB)))) -> #N/A | AH4: =(IF(ISBLANK($H$2),SUMIF('CUMUL résultats semaine'!$A:$A,'Fiche Agence'!$C$2,'CUMUL résultats semaine'!$AN:$AN),IF(ISBLANK($N$2),SUMIF('CUMUL résultats semaine'!$B:$B,'Fiche Agence'!$H$2,'CUMUL résultats semaine'!$AN:$AN),SUMIF('CUMUL résultats semaine'!$C:$C,'Fiche Agence'!$N$2,'CUMUL résultats semaine'!$AN:$AN)))) -> #N/A | AI4: =(IF(ISBLANK($H$2),SUMIF('CUMUL résultats semaine'!$A:$A,'Fiche Agence'!$C$2,'CUMUL résultats semaine'!$AZ:$AZ),IF(ISBLANK($N$2),SUMIF('CUMUL résultats semaine'!$B:$B,'Fiche Agence'!$H$2,'CUMUL résultats semaine'!$AZ:$AZ),SUMIF('CUMUL résultats semaine'!$C:$C,'Fiche Agence'!$N$2,'CUMUL résultats semaine'!$AZ:$AZ)))) -> #N/A | AJ4: =(IF(ISBLANK($H$2),SUMIF('CUMUL résultats semaine'!$A:$A,'Fiche Agence'!$C$2,'CUMUL résultats semaine'!$BL:$BL),IF(ISBLANK($N$2),SUMIF('CUMUL résultats semaine'!$B:$B,'Fiche Agence'!$H$2,'CUMUL résultats semaine'!$BL:$BL),SUMIF('CUMUL résultats semaine'!$C:$C,'Fiche Agence'!$N$2,'CUMUL résultats semaine'!$BL:$BL)))) -> #N/A | AK4: =(IF(ISBLANK($H$2),SUMIF('CUMUL résultats semaine'!$A:$A,'Fiche Agence'!$C$2,'CUMUL résultats semaine'!$BX:$BX),IF(ISBLANK($N$2),SUMIF('CUMUL résultats semaine'!$B:$B,'Fiche Agence'!$H$2,'CUMUL résultats semaine'!$BX:$BX),SUMIF('CUMUL résultats semaine'!$C:$C,'Fiche Agence'!$N$2,'CUMUL résultats semaine'!$BX:$BX)))) -> #N/A
X5: ETP | Y5: =IF(ISBLANK($H$2),SUMIF(ETP_Challenge!$A:$A,'Fiche Agence'!$C$2,ETP_Challenge!$E:$E),IF(ISBLANK($N$2),SUMIF(ETP_Challenge!$B:$B,'Fiche Agence'!$H$2,ETP_Challenge!$E:$E),SUMIF(ETP_Challenge!$D:$D,'Fiche Agence'!$N$2,ETP_Challenge!$E:$E))) -> 102.00914 | Z5: ="ETP entité : "&Y5 -> ETP entité : 102,00913876 | AD5: RAF 100% | AE5: =(IF(ISBLANK($H$2),SUMIF('CUMUL résultats semaine'!$A:$A,'Fiche Agence'!$C$2,'CUMUL résultats semaine'!$E:$E),IF(ISBLANK($N$2),SUMIF('CUMUL résultats semaine'!$B:$B,'Fiche Agence'!$H$2,'CUMUL résultats semaine'!$E:$E),SUMIF('CUMUL résultats semaine'!$C:$C,'Fiche Agence'!$N$2,'CUMUL résultats semaine'!$E:$E)))) -> 1205 | AF5: =(IF(ISBLANK($H$2),SUMIF('CUMUL résultats semaine'!$A:$A,'Fiche Agence'!$C$2,'CUMUL résultats semaine'!$Q:$Q),IF(ISBLANK($N$2),SUMIF('CUMUL résultats semaine'!$B:$B,'Fiche Agence'!$H$2,'CUMUL résultats semaine'!$Q:$Q),SUMIF('CUMUL résultats semaine'!$C:$C,'Fiche Agence'!$N$2,'CUMUL résultats semaine'!$Q:$Q)))) -> 1167 | AG5: =(IF(ISBLANK($H$2),SUMIF('CUMUL résultats semaine'!$A:$A,'Fiche Agence'!$C$2,'CUMUL résultats semaine'!$AC:$AC),IF(ISBLANK($N$2),SUMIF('CUMUL résultats semaine'!$B:$B,'Fiche Agence'!$H$2,'CUMUL résultats semaine'!$AC:$AC),SUMIF('CUMUL résultats semaine'!$C:$C,'Fiche Agence'!$N$2,'CUMUL résultats semaine'!$AC:$AC)))) -> #N/A | AH5: =(IF(ISBLANK($H$2),SUMIF('CUMUL résultats semaine'!$A:$A,'Fiche Agence'!$C$2,'CUMUL résultats semaine'!$AO:$AO),IF(ISBLANK($N$2),SUMIF('CUMUL résultats semaine'!$B:$B,'Fiche Agence'!$H$2,'CUMUL résultats semaine'!$AO:$AO),SUMIF('CUMUL résultats semaine'!$C:$C,'Fiche Agence'!$N$2,'CUMUL résultats semaine'!$AO:$AO)))) -> #N/A | AI5: =(IF(ISBLANK($H$2),SUMIF('CUMUL résultats semaine'!$A:$A,'Fiche Agence'!$C$2,'CUMUL résultats semaine'!$BA:$BA),IF(ISBLANK($N$2),SUMIF('CUMUL résultats semaine'!$B:$B,'Fiche Agence'!$H$2,'CUMUL résultats semaine'!$BA:$BA),SUMIF('CUMUL résultats semaine'!$C:$C,'Fiche Agence'!$N$2,'CUMUL résultats semaine'!$BA:$BA)))) -> #N/A | AJ5: =(IF(ISBLANK($H$2),SUMIF('CUMUL résultats semaine'!$A:$A,'Fiche Agence'!$C$2,'CUMUL résultats semaine'!$BM:$BM),IF(ISBLANK($N$2),SUMIF('CUMUL résultats semaine'!$B:$B,'Fiche Agence'!$H$2,'CUMUL résultats semaine'!$BM:$BM),SUMIF('CUMUL résultats semaine'!$C:$C,'Fiche Agence'!$N$2,'CUMUL résultats semaine'!$BM:$BM)))) -> #N/A | AK5: =(IF(ISBLANK($H$2),SUMIF('CUMUL résultats semaine'!$A:$A,'Fiche Agence'!$C$2,'CUMUL résultats semaine'!$BY:$BY),IF(ISBLANK($N$2),SUMIF('CUMUL résultats semaine'!$B:$B,'Fiche Agence'!$H$2,'CUMUL résultats semaine'!$BY:$BY),SUMIF('CUMUL résultats semaine'!$C:$C,'Fiche Agence'!$N$2,'CUMUL résultats semaine'!$BY:$BY)))) -> #N/A
X6: OBJ GEDEL | Y6: =IF(ISBLANK($H$2),SUMIF(GEDEL!$A:$A,'Fiche Agence'!$C$2,GEDEL!$F:$F),IF(ISBLANK($N$2),SUMIF(GEDEL!$B:$B,'Fiche Agence'!$H$2,GEDEL!$F:$F),SUMIF(GEDEL!$C:$C,'Fiche Agence'!$N$2,GEDEL!$F:$F))) -> 1278066 | AD6: RAF 120% | AE6: =(IF(ISBLANK($H$2),SUMIF('CUMUL résultats semaine'!$A:$A,'Fiche Agence'!$C$2,'CUMUL résultats semaine'!$F:$F),IF(ISBLANK($N$2),SUMIF('CUMUL résultats semaine'!$B:$B,'Fiche Agence'!$H$2,'CUMUL résultats semaine'!$F:$F),SUMIF('CUMUL résultats semaine'!$C:$C,'Fiche Agence'!$N$2,'CUMUL résultats semaine'!$F:$F)))) -> 2295 | AF6: =(IF(ISBLANK($H$2),SUMIF('CUMUL résultats semaine'!$A:$A,'Fiche Agence'!$C$2,'CUMUL résultats semaine'!$R:$R),IF(ISBLANK($N$2),SUMIF('CUMUL résultats semaine'!$B:$B,'Fiche Agence'!$H$2,'CUMUL résultats semaine'!$R:$R),SUMIF('CUMUL résultats semaine'!$C:$C,'Fiche Agence'!$N$2,'CUMUL résultats semaine'!$R:$R)))) -> 2239 | AG6: =(IF(ISBLANK($H$2),SUMIF('CUMUL résultats semaine'!$A:$A,'Fiche Agence'!$C$2,'CUMUL résultats semaine'!$AD:$AD),IF(ISBLANK($N$2),SUMIF('CUMUL résultats semaine'!$B:$B,'Fiche Agence'!$H$2,'CUMUL résultats semaine'!$AD:$AD),SUMIF('CUMUL résultats semaine'!$C:$C,'Fiche Agence'!$N$2,'CUMUL résultats semaine'!$AD:$AD)))) -> #N/A | AH6: =(IF(ISBLANK($H$2),SUMIF('CUMUL résultats semaine'!$A:$A,'Fiche Agence'!$C$2,'CUMUL résultats semaine'!$AP:$AP),IF(ISBLANK($N$2),SUMIF('CUMUL résultats semaine'!$B:$B,'Fiche Agence'!$H$2,'CUMUL résultats semaine'!$AP:$AP),SUMIF('CUMUL résultats semaine'!$C:$C,'Fiche Agence'!$N$2,'CUMUL résultats semaine'!$AP:$AP)))) -> #N/A | AI6: =(IF(ISBLANK($H$2),SUMIF('CUMUL résultats semaine'!$A:$A,'Fiche Agence'!$C$2,'CUMUL résultats semaine'!$BB:$BB),IF(ISBLANK($N$2),SUMIF('CUMUL résultats semaine'!$B:$B,'Fiche Agence'!$H$2,'CUMUL résultats semaine'!$BB:$BB),SUMIF('CUMUL résultats semaine'!$C:$C,'Fiche Agence'!$N$2,'CUMUL résultats semaine'!$BB:$BB)))) -> #N/A | AJ6: =(IF(ISBLANK($H$2),SUMIF('CUMUL résultats semaine'!$A:$A,'Fiche Agence'!$C$2,'CUMUL résultats semaine'!$BN:$BN),IF(ISBLANK($N$2),SUMIF('CUMUL résultats semaine'!$B:$B,'Fiche Agence'!$H$2,'CUMUL résultats semaine'!$BN:$BN),SUMIF('CUMUL résultats semaine'!$C:$C,'Fiche Agence'!$N$2,'CUMUL résultats semaine'!$BN:$BN)))) -> #N/A | AK6: =(IF(ISBLANK($H$2),SUMIF('CUMUL résultats semaine'!$A:$A,'Fiche Agence'!$C$2,'CUMUL résultats semaine'!$BZ:$BZ),IF(ISBLANK($N$2),SUMIF('CUMUL résultats semaine'!$B:$B,'Fiche Agence'!$H$2,'CUMUL résultats semaine'!$BZ:$BZ),SUMIF('CUMUL résultats semaine'!$C:$C,'Fiche Agence'!$N$2,'CUMUL résultats semaine'!$BZ:$BZ)))) -> #N/A
K8: ATTENDU : 0,5 VB / ETP / SEMAINE DU 12 OCTOBRE AU 18 DECEMBRE | AE8: BANCA
G9: MEILLEURE PERFORMANCE HEBDO EN 2021 : | AE9: S0 | AF9: S45 | AG9: S46 | AH9: S47 | AI9: S48 | AJ9: S49 | AK9: S50
X10: Jauge | AD10: PROD | AE10: =(IF(ISBLANK($H$2),SUMIF('CUMUL résultats semaine'!$A:$A,'Fiche Agence'!$C$2,'CUMUL résultats semaine'!$J:$J),IF(ISBLANK($N$2),SUMIF('CUMUL résultats semaine'!$B:$B,'Fiche Agence'!$H$2,'CUMUL résultats semaine'!$J:$J),SUMIF('CUMUL résultats semaine'!$C:$C,'Fiche Agence'!$N$2,'CUMUL résultats semaine'!$J:$J)))) -> 4257 | AF10: =(IF(ISBLANK($H$2),SUMIF('CUMUL résultats semaine'!$A:$A,'Fiche Agence'!$C$2,'CUMUL résultats semaine'!$V:$V),IF(ISBLANK($N$2),SUMIF('CUMUL résultats semaine'!$B:$B,'Fiche Agence'!$H$2,'CUMUL résultats semaine'!$V:$V),SUMIF('CUMUL résultats semaine'!$C:$C,'Fiche Agence'!$N$2,'CUMUL résultats semaine'!$V:$V)))) -> 4330 | AG10: =(IF(ISBLANK($H$2),SUMIF('CUMUL résultats semaine'!$A:$A,'Fiche Agence'!$C$2,'CUMUL résultats semaine'!$AH:$AH),IF(ISBLANK($N$2),SUMIF('CUMUL résultats semaine'!$B:$B,'Fiche Agence'!$H$2,'CUMUL résultats semaine'!$AH:$AH),SUMIF('CUMUL résultats semaine'!$C:$C,'Fiche Agence'!$N$2,'CUMUL résultats semaine'!$AH:$AH)))) -> #N/A | AH10: =(IF(ISBLANK($H$2),SUMIF('CUMUL résultats semaine'!$A:$A,'Fiche Agence'!$C$2,'CUMUL résultats semaine'!$AT:$AT),IF(ISBLANK($N$2),SUMIF('CUMUL résultats semaine'!$B:$B,'Fiche Agence'!$H$2,'CUMUL résultats semaine'!$AT:$AT),SUMIF('CUMUL résultats semaine'!$C:$C,'Fiche Agence'!$N$2,'CUMUL résultats semaine'!$AT:$AT)))) -> #N/A | AI10: =(IF(ISBLANK($H$2),SUMIF('CUMUL résultats semaine'!$A:$A,'Fiche Agence'!$C$2,'CUMUL résultats semaine'!$BF:$BF),IF(ISBLANK($N$2),SUMIF('CUMUL résultats semaine'!$B:$B,'Fiche Agence'!$H$2,'CUMUL résultats semaine'!$BF:$BF),SUMIF('CUMUL résultats semaine'!$C:$C,'Fiche Agence'!$N$2,'CUMUL résultats semaine'!$BF:$BF)))) -> #N/A | AJ10: =(IF(ISBLANK($H$2),SUMIF('CUMUL résultats semaine'!$A:$A,'Fiche Agence'!$C$2,'CUMUL résultats semaine'!$BR:$BR),IF(ISBLANK($N$2),SUMIF('CUMUL résultats semaine'!$B:$B,'Fiche Agence'!$H$2,'CUMUL résultats semaine'!$BR:$BR),SUMIF('CUMUL résultats semaine'!$C:$C,'Fiche Agence'!$N$2,'CUMUL résultats semaine'!$BR:$BR)))) -> #N/A | AK10: =(IF(ISBLANK($H$2),SUMIF('CUMUL résultats semaine'!$A:$A,'Fiche Agence'!$C$2,'CUMUL résultats semaine'!$CD:$CD),IF(ISBLANK($N$2),SUMIF('CUMUL résultats semaine'!$B:$B,'Fiche Agence'!$H$2,'CUMUL résultats semaine'!$CD:$CD),SUMIF('CUMUL résultats semaine'!$C:$C,'Fiche Agence'!$N$2,'CUMUL résultats semaine'!$CD:$CD)))) -> #N/A
K11: REAL DEPUIS LE 12/10 | N11: % SAIS. | O11: RESTE A FAIRE HEBDO | X11: 0 - 79% | Z11: 80 | AD11: RAF 100% | AE11: =(IF(ISBLANK($H$2),SUMIF('CUMUL résultats semaine'!$A:$A,'Fiche Agence'!$C$2,'CUMUL résultats semaine'!$K:$K),IF(ISBLANK($N$2),SUMIF('CUMUL résultats semaine'!$B:$B,'Fiche Agence'!$H$2,'CUMUL résultats semaine'!$K:$K),SUMIF('CUMUL résultats semaine'!$C:$C,'Fiche Agence'!$N$2,'CUMUL résultats semaine'!$K:$K)))) -> 86 | AF11: =(IF(ISBLANK($H$2),SUMIF('CUMUL résultats semaine'!$A:$A,'Fiche Agence'!$C$2,'CUMUL résultats semaine'!$W:$W),IF(ISBLANK($N$2),SUMIF('CUMUL résultats semaine'!$B:$B,'Fiche Agence'!$H$2,'CUMUL résultats semaine'!$W:$W),SUMIF('CUMUL résultats semaine'!$C:$C,'Fiche Agence'!$N$2,'CUMUL résultats semaine'!$W:$W)))) -> 73 | AG11: =(IF(ISBLANK($H$2),SUMIF('CUMUL résultats semaine'!$A:$A,'Fiche Agence'!$C$2,'CUMUL résultats semaine'!$AJ:$AJ),IF(ISBLANK($N$2),SUMIF('CUMUL résultats semaine'!$B:$B,'Fiche Agence'!$H$2,'CUMUL résultats semaine'!$AJ:$AJ),SUMIF('CUMUL résultats semaine'!$C:$C,'Fiche Agence'!$N$2,'CUMUL résultats semaine'!$AJ:$AJ)))) -> #N/A | AH11: =(IF(ISBLANK($H$2),SUMIF('CUMUL résultats semaine'!$A:$A,'Fiche Agence'!$C$2,'CUMUL résultats semaine'!$AU:$AU),IF(ISBLANK($N$2),SUMIF('CUMUL résultats semaine'!$B:$B,'Fiche Agence'!$H$2,'CUMUL résultats semaine'!$AU:$AU),SUMIF('CUMUL résultats semaine'!$C:$C,'Fiche Agence'!$N$2,'CUMUL résultats semaine'!$AU:$AU)))) -> #N/A | AI11: =(IF(ISBLANK($H$2),SUMIF('CUMUL résultats semaine'!$A:$A,'Fiche Agence'!$C$2,'CUMUL résultats semaine'!$BG:$BG),IF(ISBLANK($N$2),SUMIF('CUMUL résultats semaine'!$B:$B,'Fiche Agence'!$H$2,'CUMUL résultats semaine'!$BG:$BG),SUMIF('CUMUL résultats semaine'!$C:$C,'Fiche Agence'!$N$2,'CUMUL résultats semaine'!$BG:$BG)))) -> #N/A | AJ11: =(IF(ISBLANK($H$2),SUMIF('CUMUL résultats semaine'!$A:$A,'Fiche Agence'!$C$2,'CUMUL résultats semaine'!$BS:$BS),IF(ISBLANK($N$2),SUMIF('CUMUL résultats semaine'!$B:$B,'Fiche Agence'!$H$2,'CUMUL résultats semaine'!$BS:$BS),SUMIF('CUMUL résultats semaine'!$C:$C,'Fiche Agence'!$N$2,'CUMUL résultats semaine'!$BS:$BS)))) -> #N/A | AK11: =(IF(ISBLANK($H$2),SUMIF('CUMUL résultats semaine'!$A:$A,'Fiche Agence'!$C$2,'CUMUL résultats semaine'!$CE:$CE),IF(ISBLANK($N$2),SUMIF('CUMUL résultats semaine'!$B:$B,'Fiche Agence'!$H$2,'CUMUL résultats semaine'!$CE:$CE),SUMIF('CUMUL résultats semaine'!$C:$C,'Fiche Agence'!$N$2,'CUMUL résultats semaine'!$CE:$CE)))) -> #N/A
K12: ENTITE | M12: PAR ETP | N12: =K13/(0.5*Y5*(10-Y3)) -> 0.67837059 | O12: ENTITE | Q12: PAR ETP | X12: 80% - 100% | Z12: 20 | AD12: RAF 120% | AE12: =(IF(ISBLANK($H$2),SUMIF('CUMUL résultats semaine'!$A:$A,'Fiche Agence'!$C$2,'CUMUL résultats semaine'!$L:$L),IF(ISBLANK($N$2),SUMIF('CUMUL résultats semaine'!$B:$B,'Fiche Agence'!$H$2,'CUMUL résultats semaine'!$L:$L),SUMIF('CUMUL résultats semaine'!$C:$C,'Fiche Agence'!$N$2,'CUMUL résultats semaine'!$L:$L)))) -> 318 | AF12: =(IF(ISBLANK($H$2),SUMIF('CUMUL résultats semaine'!$A:$A,'Fiche Agence'!$C$2,'CUMUL résultats semaine'!$X:$X),IF(ISBLANK($N$2),SUMIF('CUMUL résultats semaine'!$B:$B,'Fiche Agence'!$H$2,'CUMUL résultats semaine'!$X:$X),SUMIF('CUMUL résultats semaine'!$C:$C,'Fiche Agence'!$N$2,'CUMUL résultats semaine'!$X:$X)))) -> 293 | AG12: =(IF(ISBLANK($H$2),SUMIF('CUMUL résultats semaine'!$A:$A,'Fiche Agence'!$C$2,'CUMUL résultats semaine'!$AK:$AK),IF(ISBLANK($N$2),SUMIF('CUMUL résultats semaine'!$B:$B,'Fiche Agence'!$H$2,'CUMUL résultats semaine'!$AK:$AK),SUMIF('CUMUL résultats semaine'!$C:$C,'Fiche Agence'!$N$2,'CUMUL résultats semaine'!$AK:$AK)))) -> #N/A | AH12: =(IF(ISBLANK($H$2),SUMIF('CUMUL résultats semaine'!$A:$A,'Fiche Agence'!$C$2,'CUMUL résultats semaine'!$AV:$AV),IF(ISBLANK($N$2),SUMIF('CUMUL résultats semaine'!$B:$B,'Fiche Agence'!$H$2,'CUMUL résultats semaine'!$AV:$AV),SUMIF('CUMUL résultats semaine'!$C:$C,'Fiche Agence'!$N$2,'CUMUL résultats semaine'!$AV:$AV)))) -> #N/A | AI12: =(IF(ISBLANK($H$2),SUMIF('CUMUL résultats semaine'!$A:$A,'Fiche Agence'!$C$2,'CUMUL résultats semaine'!$BH:$BH),IF(ISBLANK($N$2),SUMIF('CUMUL résultats semaine'!$B:$B,'Fiche Agence'!$H$2,'CUMUL résultats semaine'!$BH:$BH),SUMIF('CUMUL résultats semaine'!$C:$C,'Fiche Agence'!$N$2,'CUMUL résultats semaine'!$BH:$BH)))) -> #N/A | AJ12: =(IF(ISBLANK($H$2),SUMIF('CUMUL résultats semaine'!$A:$A,'Fiche Agence'!$C$2,'CUMUL résultats semaine'!$BT:$BT),IF(ISBLANK($N$2),SUMIF('CUMUL résultats semaine'!$B:$B,'Fiche Agence'!$H$2,'CUMUL résultats semaine'!$BT:$BT),SUMIF('CUMUL résultats semaine'!$C:$C,'Fiche Agence'!$N$2,'CUMUL résultats semaine'!$BT:$BT)))) -> #N/A | AK12: =(IF(ISBLANK($H$2),SUMIF('CUMUL résultats semaine'!$A:$A,'Fiche Agence'!$C$2,'CUMUL résultats semaine'!$CF:$CF),IF(ISBLANK($N$2),SUMIF('CUMUL résultats semaine'!$B:$B,'Fiche Agence'!$H$2,'CUMUL résultats semaine'!$CF:$CF),SUMIF('CUMUL résultats semaine'!$C:$C,'Fiche Agence'!$N$2,'CUMUL résultats semaine'!$CF:$CF)))) -> #N/A
K13: =IF(ISBLANK($H$2),SUMIF(PROD_AUTO5_PREV_PERI_PART_SOC!$A:$A,'Fiche Agence'!$C$2,PROD_AUTO5_PREV_PERI_PART_SOC!$E:$E),IF(ISBLANK($N$2),SUMIF(PROD_AUTO5_PREV_PERI_PART_SOC!$B:$B,'Fiche Agence'!$H$2,PROD_AUTO5_PREV_PERI_PART_SOC!$E:$E),SUMIF(PROD_AUTO5_PREV_PERI_PART_SOC!$D:$D,'Fiche Agence'!$N$2,PROD_AUTO5_PREV_PERI_PART_SOC!$E:$E))) -> 173 | M13: =K13/(IF(ISBLANK($H$2),SUMIF(ETP_Challenge!$A:$A,'Fiche Agence'!$C$2,ETP_Challenge!$E:$E),IF(ISBLANK($N$2),SUMIF(ETP_Challenge!$B:$B,'Fiche Agence'!$H$2,ETP_Challenge!$E:$E),SUMIF(ETP_Challenge!$D:$D,'Fiche Agence'!$N$2,ETP_Challenge!$E:$E)))) -> 1.6959265 | O13: =IF(((ROUND(0.5*Y5,1)*10 - K13)/Y3)<=0,0,((ROUND(0.5*Y5,1)*10 - K13)/Y3)) -> 67.4 | Q13: =O13/Y5 -> 0.66072512 | X13: 101% - 120% | Z13: 20
C14: =Y16&"%" -> 86,1% | Z14: =SUM(Z11:Z13) -> 120 | AE14: CONSO
AE15: S0 | AF15: S45 | AG15: S46 | AH15: S47 | AI15: S48 | AJ15: S49 | AK15: S50
D16: Reste à faire hebdo par ETP pour atteindre l'objectif | K16: ATTENDU : 0,5 VB / ETP / SEMAINE DU 1ER SEPTEMBRE AU 18 DECEMBRE | X16: aiguille IARD | Y16: =ROUND((AA17/AB17)*100,1) -> 86.1 | Z16: =IF(Y16>=120,120,Y16) -> 86.1 | AA16: VB IARD | AB16: OBJ TOTAL | AD16: PROD | AE16: =(IF(ISBLANK($H$2),SUMIF('CUMUL résultats semaine'!$A:$A,'Fiche Agence'!$C$2,'CUMUL résultats semaine'!$G:$G),IF(ISBLANK($N$2),SUMIF('CUMUL résultats semaine'!$B:$B,'Fiche Agence'!$H$2,'CUMUL résultats semaine'!$G:$G),SUMIF('CUMUL résultats semaine'!$C:$C,'Fiche Agence'!$N$2,'CUMUL résultats semaine'!$G:$G)))) -> 59166.096 | AF16: =(IF(ISBLANK($H$2),SUMIF('CUMUL résultats semaine'!$A:$A,'Fiche Agence'!$C$2,'CUMUL résultats semaine'!$S:$S),IF(ISBLANK($N$2),SUMIF('CUMUL résultats semaine'!$B:$B,'Fiche Agence'!$H$2,'CUMUL résultats semaine'!$S:$S),SUMIF('CUMUL résultats semaine'!$C:$C,'Fiche Agence'!$N$2,'CUMUL résultats semaine'!$S:$S)))) -> 60246.443 | AG16: =(IF(ISBLANK($H$2),SUMIF('CUMUL résultats semaine'!$A:$A,'Fiche Agence'!$C$2,'CUMUL résultats semaine'!$AE:$AE),IF(ISBLANK($N$2),SUMIF('CUMUL résultats semaine'!$B:$B,'Fiche Agence'!$H$2,'CUMUL résultats semaine'!$AE:$AE),SUMIF('CUMUL résultats semaine'!$C:$C,'Fiche Agence'!$N$2,'CUMUL résultats semaine'!$AE:$AE)))) -> #N/A | AH16: =(IF(ISBLANK($H$2),SUMIF('CUMUL résultats semaine'!$A:$A,'Fiche Agence'!$C$2,'CUMUL résultats semaine'!$AQ:$AQ),IF(ISBLANK($N$2),SUMIF('CUMUL résultats semaine'!$B:$B,'Fiche Agence'!$H$2,'CUMUL résultats semaine'!$AQ:$AQ),SUMIF('CUMUL résultats semaine'!$C:$C,'Fiche Agence'!$N$2,'CUMUL résultats semaine'!$AQ:$AQ)))) -> #N/A | AI16: =(IF(ISBLANK($H$2),SUMIF('CUMUL résultats semaine'!$A:$A,'Fiche Agence'!$C$2,'CUMUL résultats semaine'!$BC:$BC),IF(ISBLANK($N$2),SUMIF('CUMUL résultats semaine'!$B:$B,'Fiche Agence'!$H$2,'CUMUL résultats semaine'!$BC:$BC),SUMIF('CUMUL résultats semaine'!$C:$C,'Fiche Agence'!$N$2,'CUMUL résultats semaine'!$BC:$BC)))) -> #N/A | AJ16: =(IF(ISBLANK($H$2),SUMIF('CUMUL résultats semaine'!$A:$A,'Fiche Agence'!$C$2,'CUMUL résultats semaine'!$BO:$BO),IF(ISBLANK($N$2),SUMIF('CUMUL résultats semaine'!$B:$B,'Fiche Agence'!$H$2,'CUMUL résultats semaine'!$BO:$BO),SUMIF('CUMUL résultats semaine'!$C:$C,'Fiche Agence'!$N$2,'CUMUL résultats semaine'!$BO:$BO)))) -> #N/A | AK16: =(IF(ISBLANK($H$2),SUMIF('CUMUL résultats semaine'!$A:$A,'Fiche Agence'!$C$2,'CUMUL résultats semaine'!$CA:$CA),IF(ISBLANK($N$2),SUMIF('CUMUL résultats semaine'!$B:$B,'Fiche Agence'!$H$2,'CUMUL résultats semaine'!$CA:$CA),SUMIF('CUMUL résultats semaine'!$C:$C,'Fiche Agence'!$N$2,'CUMUL résultats semaine'!$CA:$CA)))) -> #N/A
D17: S45 | E17: S46 | F17: S47 | G17: S48 | H17: S49 | I17: S50 | X17: largeur | Z17: 1 | AA17: =IF(ISBLANK($H$2),SUMIF('Coller ici dernier suivi PV'!$A:$A,'Fiche Agence'!$C$2,'Coller ici dernier suivi PV'!$BE:$BE),IF(ISBLANK($N$2),SUMIF('Coller ici dernier suivi PV'!$B:$B,'Fiche Agence'!$H$2,'Coller ici dernier suivi PV'!$BE:$BE),SUMIF('Coller ici dernier suivi PV'!$C:$C,'Fiche Agence'!$N$2,'Coller ici dernier suivi PV'!$BE:$BE))) -> 5706.6 | AB17: =Y5*65 -> 6630.594 | AD17: RAF 100% | AE17: =(IF(ISBLANK($H$2),SUMIF('CUMUL résultats semaine'!$A:$A,'Fiche Agence'!$C$2,'CUMUL résultats semaine'!$H:$H),IF(ISBLANK($N$2),SUMIF('CUMUL résultats semaine'!$B:$B,'Fiche Agence'!$H$2,'CUMUL résultats semaine'!$H:$H),SUMIF('CUMUL résultats semaine'!$C:$C,'Fiche Agence'!$N$2,'CUMUL résultats semaine'!$H:$H)))) -> 3374 | AF17: =(IF(ISBLANK($H$2),SUMIF('CUMUL résultats semaine'!$A:$A,'Fiche Agence'!$C$2,'CUMUL résultats semaine'!$T:$T),IF(ISBLANK($N$2),SUMIF('CUMUL résultats semaine'!$B:$B,'Fiche Agence'!$H$2,'CUMUL résultats semaine'!$T:$T),SUMIF('CUMUL résultats semaine'!$C:$C,'Fiche Agence'!$N$2,'CUMUL résultats semaine'!$T:$T)))) -> 2888 | AG17: =(IF(ISBLANK($H$2),SUMIF('CUMUL résultats semaine'!$A:$A,'Fiche Agence'!$C$2,'CUMUL résultats semaine'!$AF:$AF),IF(ISBLANK($N$2),SUMIF('CUMUL résultats semaine'!$B:$B,'Fiche Agence'!$H$2,'CUMUL résultats semaine'!$AF:$AF),SUMIF('CUMUL résultats semaine'!$C:$C,'Fiche Agence'!$N$2,'CUMUL résultats semaine'!$AF:$AF)))) -> #N/A | AH17: =(IF(ISBLANK($H$2),SUMIF('CUMUL résultats semaine'!$A:$A,'Fiche Agence'!$C$2,'CUMUL résultats semaine'!$AR:$AR),IF(ISBLANK($N$2),SUMIF('CUMUL résultats semaine'!$B:$B,'Fiche Agence'!$H$2,'CUMUL résultats semaine'!$AR:$AR),SUMIF('CUMUL résultats semaine'!$C:$C,'Fiche Agence'!$N$2,'CUMUL résultats semaine'!$AR:$AR)))) -> #N/A | AI17: =(IF(ISBLANK($H$2),SUMIF('CUMUL résultats semaine'!$A:$A,'Fiche Agence'!$C$2,'CUMUL résultats semaine'!$BD:$BD),IF(ISBLANK($N$2),SUMIF('CUMUL résultats semaine'!$B:$B,'Fiche Agence'!$H$2,'CUMUL résultats semaine'!$BD:$BD),SUMIF('CUMUL résultats semaine'!$C:$C,'Fiche Agence'!$N$2,'CUMUL résultats semaine'!$BD:$BD)))) -> #N/A | AJ17: =(IF(ISBLANK($H$2),SUMIF('CUMUL résultats semaine'!$A:$A,'Fiche Agence'!$C$2,'CUMUL résultats semaine'!$BP:$BP),IF(ISBLANK($N$2),SUMIF('CUMUL résultats semaine'!$B:$B,'Fiche Agence'!$H$2,'CUMUL résultats semaine'!$BP:$BP),SUMIF('CUMUL résultats semaine'!$C:$C,'Fiche Agence'!$N$2,'CUMUL résultats semaine'!$BP:$BP)))) -> #N/A | AK17: =(IF(ISBLANK($H$2),SUMIF('CUMUL résultats semaine'!$A:$A,'Fiche Agence'!$C$2,'CUMUL résultats semaine'!$CC:$CC),IF(ISBLANK($N$2),SUMIF('CUMUL résultats semaine'!$B:$B,'Fiche Agence'!$H$2,'CUMUL résultats semaine'!$CC:$CC),SUMIF('CUMUL résultats semaine'!$C:$C,'Fiche Agence'!$N$2,'CUMUL résultats semaine'!$CC:$CC)))) -> #N/A
C18: Obj 100% | D18: =(AE5/$Y$5)/6 -> 1.9687779 | E18: =IF(ISNUMBER(D$20),((AF5/$Y$5)/5),D18) -> 2.2880303 | F18: =IF(ISNUMBER(E$20),((AG5/$Y$5)/4),E18) -> 2.2880303 | G18: =IF(ISNUMBER(F$20),((AH5/$Y$5)/3),F18) -> 2.2880303 | H18: =IF(ISNUMBER(G$20),((AI5/$Y$5)/2),G18) -> 2.2880303 | I18: =IF(ISNUMBER(H$20),((AJ5/$Y$5)/1),H18) -> 2.2880303 | K18: REAL DEPUIS LE 01/09 | N18: % SAIS. | O18: RESTE A FAIRE HEBDO | X18: part invisible | Z18: =SUM($Z$11:$Z$14)-(Z17+Z16) -> 152.9 | AD18: RAF 120% | AE18: =(IF(ISBLANK($H$2),SUMIF('CUMUL résultats semaine'!$A:$A,'Fiche Agence'!$C$2,'CUMUL résultats semaine'!$I:$I),IF(ISBLANK($N$2),SUMIF('CUMUL résultats semaine'!$B:$B,'Fiche Agence'!$H$2,'CUMUL résultats semaine'!$I:$I),SUMIF('CUMUL résultats semaine'!$C:$C,'Fiche Agence'!$N$2,'CUMUL résultats semaine'!$I:$I)))) -> 10581 | AF18: =(IF(ISBLANK($H$2),SUMIF('CUMUL résultats semaine'!$A:$A,'Fiche Agence'!$C$2,'CUMUL résultats semaine'!$U:$U),IF(ISBLANK($N$2),SUMIF('CUMUL résultats semaine'!$B:$B,'Fiche Agence'!$H$2,'CUMUL résultats semaine'!$U:$U),SUMIF('CUMUL résultats semaine'!$C:$C,'Fiche Agence'!$N$2,'CUMUL résultats semaine'!$U:$U)))) -> 9663 | AG18: =(IF(ISBLANK($H$2),SUMIF('CUMUL résultats semaine'!$A:$A,'Fiche Agence'!$C$2,'CUMUL résultats semaine'!$AG:$AG),IF(ISBLANK($N$2),SUMIF('CUMUL résultats semaine'!$B:$B,'Fiche Agence'!$H$2,'CUMUL résultats semaine'!$AG:$AG),SUMIF('CUMUL résultats semaine'!$C:$C,'Fiche Agence'!$N$2,'CUMUL résultats semaine'!$AG:$AG)))) -> #N/A | AH18: =(IF(ISBLANK($H$2),SUMIF('CUMUL résultats semaine'!$A:$A,'Fiche Agence'!$C$2,'CUMUL résultats semaine'!$AS:$AS),IF(ISBLANK($N$2),SUMIF('CUMUL résultats semaine'!$B:$B,'Fiche Agence'!$H$2,'CUMUL résultats semaine'!$AS:$AS),SUMIF('CUMUL résultats semaine'!$C:$C,'Fiche Agence'!$N$2,'CUMUL résultats semaine'!$AS:$AS)))) -> #N/A | AI18: =(IF(ISBLANK($H$2),SUMIF('CUMUL résultats semaine'!$A:$A,'Fiche Agence'!$C$2,'CUMUL résultats semaine'!$BE:$BE),IF(ISBLANK($N$2),SUMIF('CUMUL résultats semaine'!$B:$B,'Fiche Agence'!$H$2,'CUMUL résultats semaine'!$BE:$BE),SUMIF('CUMUL résultats semaine'!$C:$C,'Fiche Agence'!$N$2,'CUMUL résultats semaine'!$BE:$BE)))) -> #N/A | AJ18: =(IF(ISBLANK($H$2),SUMIF('CUMUL résultats semaine'!$A:$A,'Fiche Agence'!$C$2,'CUMUL résultats semaine'!$BQ:$BQ),IF(ISBLANK($N$2),SUMIF('CUMUL résultats semaine'!$B:$B,'Fiche Agence'!$H$2,'CUMUL résultats semaine'!$BQ:$BQ),SUMIF('CUMUL résultats semaine'!$C:$C,'Fiche Agence'!$N$2,'CUMUL résultats semaine'!$BQ:$BQ)))) -> #N/A | AK18: =(IF(ISBLANK($H$2),SUMIF('CUMUL résultats semaine'!$A:$A,'Fiche Agence'!$C$2,'CUMUL résultats semaine'!$CD:$CD),IF(ISBLANK($N$2),SUMIF('CUMUL résultats semaine'!$B:$B,'Fiche Agence'!$H$2,'CUMUL résultats semaine'!$CD:$CD),SUMIF('CUMUL résultats semaine'!$C:$C,'Fiche Agence'!$N$2,'CUMUL résultats semaine'!$CD:$CD)))) -> #N/A
C19: Obj 120% | D19: =(AE6/$Y$5)/6 -> 3.749664 | E19: =IF(ISNUMBER(D$20),((AF5/$Y$5)/5),D19) -> 2.2880303 | F19: =IF(ISNUMBER(E$20),((AG5/$Y$5)/4),E19) -> 2.2880303 | G19: =IF(ISNUMBER(F$20),((AH5/$Y$5)/3),F19) -> 2.2880303 | H19: =IF(ISNUMBER(G$20),((AI5/$Y$5)/2),G19) -> 2.2880303 | I19: =IF(ISNUMBER(H$20),((AJ5/$Y$5)/1),H19) -> 2.2880303 | K19: ENTITE | M19: PAR ETP | N19: =K20/(0.5*Y5*(16-Y3)) -> 0.9571335 | O19: ENTITE | Q19: PAR ETP | X19: aiguille CONSO | Y19: =ROUND((AA20/AB20)*100,1) -> 104.8 | Z19: =IF(Y19>=120,120,Y19) -> 104.8 | AA19: Engag. nets Conso | AB19: OBJ TOTAL
C20: Réal. / ETP | D20: =IF(ISNUMBER(AF4),((AF4-AE4)/$Y$5),"-") -> 0.59210381 | E20: =IF(ISNUMBER(AG4),((AG4-AF4)/$Y$5),"-") -> - | F20: =IF(ISNUMBER(AH4),((AH4-AG4)/$Y$5),"-") -> - | G20: =IF(ISNUMBER(AI4),((AI4-AH4)/$Y$5),"-") -> - | H20: =IF(ISNUMBER(AJ4),((AJ4-AI4)/$Y$5),"-") -> - | I20: =IF(ISNUMBER(AK4),((AK4-AJ4)/$Y$5),"-") -> - | K20: =IF(ISBLANK($H$2),SUMIF(PROD_AUTO5_PREV_PERI_PART_SOC!$A:$A,'Fiche Agence'!$C$2,PROD_AUTO5_PREV_PERI_PART_SOC!$F:$F),IF(ISBLANK($N$2),SUMIF(PROD_AUTO5_PREV_PERI_PART_SOC!$B:$B,'Fiche Agence'!$H$2,PROD_AUTO5_PREV_PERI_PART_SOC!$F:$F),SUMIF(PROD_AUTO5_PREV_PERI_PART_SOC!$D:$D,'Fiche Agence'!$N$2,PROD_AUTO5_PREV_PERI_PART_SOC!$F:$F))) -> 537 | M20: =K20/(IF(ISBLANK($H$2),SUMIF(ETP_Challenge!$A:$A,'Fiche Agence'!$C$2,ETP_Challenge!$E:$E),IF(ISBLANK($N$2),SUMIF(ETP_Challenge!$B:$B,'Fiche Agence'!$H$2,ETP_Challenge!$E:$E),SUMIF(ETP_Challenge!$D:$D,'Fiche Agence'!$N$2,ETP_Challenge!$E:$E)))) -> 5.2642342 | O20: =IF(((ROUND(0.5*Y5,1)*16 - K20)/Y3)<=0,0,((ROUND(0.5*Y5,1)*16 - K20)/Y3)) -> 55.8 | Q20: =O20/Y5 -> 0.54700981 | X20: largeur | Z20: 1 | AA20: =IF(ISBLANK($H$2),SUMIF('Coller ici dernier suivi PV'!$A:$A,'Fiche Agence'!$C$2,'Coller ici dernier suivi PV'!$AU:$AU),IF(ISBLANK($N$2),SUMIF('Coller ici dernier suivi PV'!$B:$B,'Fiche Agence'!$H$2,'Coller ici dernier suivi PV'!$AU:$AU),SUMIF('Coller ici dernier suivi PV'!$C:$C,'Fiche Agence'!$N$2,'Coller ici dernier suivi PV'!$AU:$AU))) -> 61241.108 | AB20: =Y5*573 -> 58451.237 | AE20: ASS VIE
X21: part invisible | Z21: =SUM($Z$11:$Z$14)-(Z20+Z19) -> 134.2 | AE21: S0 | AF21: S45 | AG21: S46 | AH21: S47 | AI21: S48 | AJ21: S49 | AK21: S50
X22: aiguille BANCA | Y22: =ROUND((AA23/AB23)*100,1) -> 119.8 | Z22: =IF(Y22>=120,120,Y22) -> 119.8 | AA22: VB BANCA | AB22: OBJ TOTAL | AD22: PROD | AE22: =(IF(ISBLANK($H$2),SUMIF('CUMUL résultats semaine'!$A:$A,'Fiche Agence'!$C$2,'CUMUL résultats semaine'!$M:$M),IF(ISBLANK($N$2),SUMIF('CUMUL résultats semaine'!$B:$B,'Fiche Agence'!$H$2,'CUMUL résultats semaine'!$M:$M),SUMIF('CUMUL résultats semaine'!$C:$C,'Fiche Agence'!$N$2,'CUMUL résultats semaine'!$M:$M)))) -> 72345.059 | AF22: =(IF(ISBLANK($H$2),SUMIF('CUMUL résultats semaine'!$A:$A,'Fiche Agence'!$C$2,'CUMUL résultats semaine'!$Y:$Y),IF(ISBLANK($N$2),SUMIF('CUMUL résultats semaine'!$B:$B,'Fiche Agence'!$H$2,'CUMUL résultats semaine'!$Y:$Y),SUMIF('CUMUL résultats semaine'!$C:$C,'Fiche Agence'!$N$2,'CUMUL résultats semaine'!$Y:$Y)))) -> 73649.567 | AG22: =(IF(ISBLANK($H$2),SUMIF('CUMUL résultats semaine'!$A:$A,'Fiche Agence'!$C$2,'CUMUL résultats semaine'!$AK:$AK),IF(ISBLANK($N$2),SUMIF('CUMUL résultats semaine'!$B:$B,'Fiche Agence'!$H$2,'CUMUL résultats semaine'!$AK:$AK),SUMIF('CUMUL résultats semaine'!$C:$C,'Fiche Agence'!$N$2,'CUMUL résultats semaine'!$AK:$AK)))) -> #N/A | AH22: =(IF(ISBLANK($H$2),SUMIF('CUMUL résultats semaine'!$A:$A,'Fiche Agence'!$C$2,'CUMUL résultats semaine'!$AW:$AW),IF(ISBLANK($N$2),SUMIF('CUMUL résultats semaine'!$B:$B,'Fiche Agence'!$H$2,'CUMUL résultats semaine'!$AW:$AW),SUMIF('CUMUL résultats semaine'!$C:$C,'Fiche Agence'!$N$2,'CUMUL résultats semaine'!$AW:$AW)))) -> #N/A | AI22: =(IF(ISBLANK($H$2),SUMIF('CUMUL résultats semaine'!$A:$A,'Fiche Agence'!$C$2,'CUMUL résultats semaine'!$BI:$BI),IF(ISBLANK($N$2),SUMIF('CUMUL résultats semaine'!$B:$B,'Fiche Agence'!$H$2,'CUMUL résultats semaine'!$BI:$BI),SUMIF('CUMUL résultats semaine'!$C:$C,'Fiche Agence'!$N$2,'CUMUL résultats semaine'!$BI:$BI)))) -> #N/A | AJ22: =(IF(ISBLANK($H$2),SUMIF('CUMUL résultats semaine'!$A:$A,'Fiche Agence'!$C$2,'CUMUL résultats semaine'!$BU:$BU),IF(ISBLANK($N$2),SUMIF('CUMUL résultats semaine'!$B:$B,'Fiche Agence'!$H$2,'CUMUL résultats semaine'!$BU:$BU),SUMIF('CUMUL résultats semaine'!$C:$C,'Fiche Agence'!$N$2,'CUMUL résultats semaine'!$BU:$BU)))) -> #N/A | AK22: =(IF(ISBLANK($H$2),SUMIF('CUMUL résultats semaine'!$A:$A,'Fiche Agence'!$C$2,'CUMUL résultats semaine'!$CG:$CG),IF(ISBLANK($N$2),SUMIF('CUMUL résultats semaine'!$B:$B,'Fiche Agence'!$H$2,'CUMUL résultats semaine'!$CG:$CG),SUMIF('CUMUL résultats semaine'!$C:$C,'Fiche Agence'!$N$2,'CUMUL résultats semaine'!$CG:$CG)))) -> #N/A
X23: largeur | Z23: 1 | AA23: =IF(ISBLANK($H$2),SUMIF('Coller ici dernier suivi PV'!$A:$A,'Fiche Agence'!$C$2,'Coller ici dernier suivi PV'!$Q:$Q),IF(ISBLANK($N$2),SUMIF('Coller ici dernier suivi PV'!$B:$B,'Fiche Agence'!$H$2,'Coller ici dernier suivi PV'!$Q:$Q),SUMIF('Coller ici dernier suivi PV'!$C:$C,'Fiche Agence'!$N$2,'Coller ici dernier suivi PV'!$Q:$Q))) -> 4401 | AB23: =Y5*36 -> 3672.329 | AD23: RAF 100% | AE23: =(IF(ISBLANK($H$2),SUMIF('CUMUL résultats semaine'!$A:$A,'Fiche Agence'!$C$2,'CUMUL résultats semaine'!$N:$N),IF(ISBLANK($N$2),SUMIF('CUMUL résultats semaine'!$B:$B,'Fiche Agence'!$H$2,'CUMUL résultats semaine'!$N:$N),SUMIF('CUMUL résultats semaine'!$C:$C,'Fiche Agence'!$N$2,'CUMUL résultats semaine'!$N:$N)))) -> 8361 | AF23: =(IF(ISBLANK($H$2),SUMIF('CUMUL résultats semaine'!$A:$A,'Fiche Agence'!$C$2,'CUMUL résultats semaine'!$Z:$Z),IF(ISBLANK($N$2),SUMIF('CUMUL résultats semaine'!$B:$B,'Fiche Agence'!$H$2,'CUMUL résultats semaine'!$Z:$Z),SUMIF('CUMUL résultats semaine'!$C:$C,'Fiche Agence'!$N$2,'CUMUL résultats semaine'!$Z:$Z)))) -> 7718 | AG23: =(IF(ISBLANK($H$2),SUMIF('CUMUL résultats semaine'!$A:$A,'Fiche Agence'!$C$2,'CUMUL résultats semaine'!$AL:$AL),IF(ISBLANK($N$2),SUMIF('CUMUL résultats semaine'!$B:$B,'Fiche Agence'!$H$2,'CUMUL résultats semaine'!$AL:$AL),SUMIF('CUMUL résultats semaine'!$C:$C,'Fiche Agence'!$N$2,'CUMUL résultats semaine'!$AL:$AL)))) -> #N/A | AH23: =(IF(ISBLANK($H$2),SUMIF('CUMUL résultats semaine'!$A:$A,'Fiche Agence'!$C$2,'CUMUL résultats semaine'!$AX:$AX),IF(ISBLANK($N$2),SUMIF('CUMUL résultats semaine'!$B:$B,'Fiche Agence'!$H$2,'CUMUL résultats semaine'!$AX:$AX),SUMIF('CUMUL résultats semaine'!$C:$C,'Fiche Agence'!$N$2,'CUMUL résultats semaine'!$AX:$AX)))) -> #N/A | AI23: =(IF(ISBLANK($H$2),SUMIF('CUMUL résultats semaine'!$A:$A,'Fiche Agence'!$C$2,'CUMUL résultats semaine'!$BK:$BK),IF(ISBLANK($N$2),SUMIF('CUMUL résultats semaine'!$B:$B,'Fiche Agence'!$H$2,'CUMUL résultats semaine'!$BK:$BK),SUMIF('CUMUL résultats semaine'!$C:$C,'Fiche Agence'!$N$2,'CUMUL résultats semaine'!$BK:$BK)))) -> #N/A | AJ23: =(IF(ISBLANK($H$2),SUMIF('CUMUL résultats semaine'!$A:$A,'Fiche Agence'!$C$2,'CUMUL résultats semaine'!$BV:$BV),IF(ISBLANK($N$2),SUMIF('CUMUL résultats semaine'!$B:$B,'Fiche Agence'!$H$2,'CUMUL résultats semaine'!$BV:$BV),SUMIF('CUMUL résultats semaine'!$C:$C,'Fiche Agence'!$N$2,'CUMUL résultats semaine'!$BV:$BV)))) -> #N/A | AK23: =(IF(ISBLANK($H$2),SUMIF('CUMUL résultats semaine'!$A:$A,'Fiche Agence'!$C$2,'CUMUL résultats semaine'!$CH:$CH),IF(ISBLANK($N$2),SUMIF('CUMUL résultats semaine'!$B:$B,'Fiche Agence'!$H$2,'CUMUL résultats semaine'!$CH:$CH),SUMIF('CUMUL résultats semaine'!$C:$C,'Fiche Agence'!$N$2,'CUMUL résultats semaine'!$CH:$CH)))) -> #N/A
X24: part invisible | Z24: =SUM($Z$11:$Z$14)-(Z23+Z22) -> 119.2 | AD24: RAF 120% | AE24: =(IF(ISBLANK($H$2),SUMIF('CUMUL résultats semaine'!$A:$A,'Fiche Agence'!$C$2,'CUMUL résultats semaine'!$O:$O),IF(ISBLANK($N$2),SUMIF('CUMUL résultats semaine'!$B:$B,'Fiche Agence'!$H$2,'CUMUL résultats semaine'!$O:$O),SUMIF('CUMUL résultats semaine'!$C:$C,'Fiche Agence'!$N$2,'CUMUL résultats semaine'!$O:$O)))) -> 16218 | AF24: =(IF(ISBLANK($H$2),SUMIF('CUMUL résultats semaine'!$A:$A,'Fiche Agence'!$C$2,'CUMUL résultats semaine'!$AA:$AA),IF(ISBLANK($N$2),SUMIF('CUMUL résultats semaine'!$B:$B,'Fiche Agence'!$H$2,'CUMUL résultats semaine'!$AA:$AA),SUMIF('CUMUL résultats semaine'!$C:$C,'Fiche Agence'!$N$2,'CUMUL résultats semaine'!$AA:$AA)))) -> 15354 | AG24: =(IF(ISBLANK($H$2),SUMIF('CUMUL résultats semaine'!$A:$A,'Fiche Agence'!$C$2,'CUMUL résultats semaine'!$AM:$AM),IF(ISBLANK($N$2),SUMIF('CUMUL résultats semaine'!$B:$B,'Fiche Agence'!$H$2,'CUMUL résultats semaine'!$AM:$AM),SUMIF('CUMUL résultats semaine'!$C:$C,'Fiche Agence'!$N$2,'CUMUL résultats semaine'!$AM:$AM)))) -> #N/A | AH24: =(IF(ISBLANK($H$2),SUMIF('CUMUL résultats semaine'!$A:$A,'Fiche Agence'!$C$2,'CUMUL résultats semaine'!$AY:$AY),IF(ISBLANK($N$2),SUMIF('CUMUL résultats semaine'!$B:$B,'Fiche Agence'!$H$2,'CUMUL résultats semaine'!$AY:$AY),SUMIF('CUMUL résultats semaine'!$C:$C,'Fiche Agence'!$N$2,'CUMUL résultats semaine'!$AY:$AY)))) -> #N/A | AI24: =(IF(ISBLANK($H$2),SUMIF('CUMUL résultats semaine'!$A:$A,'Fiche Agence'!$C$2,'CUMUL résultats semaine'!$BL:$BL),IF(ISBLANK($N$2),SUMIF('CUMUL résultats semaine'!$B:$B,'Fiche Agence'!$H$2,'CUMUL résultats semaine'!$BL:$BL),SUMIF('CUMUL résultats semaine'!$C:$C,'Fiche Agence'!$N$2,'CUMUL résultats semaine'!$BL:$BL)))) -> #N/A | AJ24: =(IF(ISBLANK($H$2),SUMIF('CUMUL résultats semaine'!$A:$A,'Fiche Agence'!$C$2,'CUMUL résultats semaine'!$BW:$BW),IF(ISBLANK($N$2),SUMIF('CUMUL résultats semaine'!$B:$B,'Fiche Agence'!$H$2,'CUMUL résultats semaine'!$BW:$BW),SUMIF('CUMUL résultats semaine'!$C:$C,'Fiche Agence'!$N$2,'CUMUL résultats semaine'!$BW:$BW)))) -> #N/A | AK24: =(IF(ISBLANK($H$2),SUMIF('CUMUL résultats semaine'!$A:$A,'Fiche Agence'!$C$2,'CUMUL résultats semaine'!$CI:$CI),IF(ISBLANK($N$2),SUMIF('CUMUL résultats semaine'!$B:$B,'Fiche Agence'!$H$2,'CUMUL résultats semaine'!$CI:$CI),SUMIF('CUMUL résultats semaine'!$C:$C,'Fiche Agence'!$N$2,'CUMUL résultats semaine'!$CI:$CI)))) -> #N/A
X25: aiguille ASS VIE | Y25: =ROUND((AA26/AB26)*100,1) -> 107.4 | Z25: =IF(Y25>=120,120,Y25) -> 107.4 | AA25: CA ASS VIE | AB25: OBJ TOTAL
G26: MEILLEURE PERFORMANCE HEBDO EN 2021 : | O26: MEILLEURE PERFORMANCE HEBDO EN 2021 : | X26: largeur | Z26: 1 | AA26: =IF(ISBLANK($H$2),SUMIF('Coller ici dernier suivi PV'!$A:$A,'Fiche Agence'!$C$2,'Coller ici dernier suivi PV'!$AK:$AK),IF(ISBLANK($N$2),SUMIF('Coller ici dernier suivi PV'!$B:$B,'Fiche Agence'!$H$2,'Coller ici dernier suivi PV'!$AK:$AK),SUMIF('Coller ici dernier suivi PV'!$C:$C,'Fiche Agence'!$N$2,'Coller ici dernier suivi PV'!$AK:$AK))) -> 75098.15 | AB26: =IF(ISBLANK($H$2),SUMIF('Coller ici dernier suivi PV'!$A:$A,'Fiche Agence'!$C$2,'Coller ici dernier suivi PV'!$CD:$CD),IF(ISBLANK($N$2),SUMIF('Coller ici dernier suivi PV'!$B:$B,'Fiche Agence'!$H$2,'Coller ici dernier suivi PV'!$CD:$CD),SUMIF('Coller ici dernier suivi PV'!$C:$C,'Fiche Agence'!$N$2,'Coller ici dernier suivi PV'!$CD:$CD))) -> 69900.701
X27: part invisible | Z27: =SUM($Z$11:$Z$14)-(Z26+Z25) -> 131.6
O30: =ROUND((AF45/1000),1)&" K€" -> 7,4 K€
C31: =Y22&"%" -> 119,8% | K31: =Y19&"%" -> 104,8% | X31: NB_CARTES | Y31: =IF(ISBLANK($H$2),SUMIF(TAUX_DD_HDG!$A:$A,'Fiche Agence'!$C$2,TAUX_DD_HDG!$E:$E),IF(ISBLANK($N$2),SUMIF(TAUX_DD_HDG!$B:$B,'Fiche Agence'!$H$2,TAUX_DD_HDG!$E:$E),SUMIF(TAUX_DD_HDG!$C:$C,'Fiche Agence'!$N$2,TAUX_DD_HDG!$E:$E))) -> 892
X32: NB_HDG | Y32: =IF(ISBLANK($H$2),SUMIF(TAUX_DD_HDG!$A:$A,'Fiche Agence'!$C$2,TAUX_DD_HDG!$F:$F),IF(ISBLANK($N$2),SUMIF(TAUX_DD_HDG!$B:$B,'Fiche Agence'!$H$2,TAUX_DD_HDG!$F:$F),SUMIF(TAUX_DD_HDG!$C:$C,'Fiche Agence'!$N$2,TAUX_DD_HDG!$F:$F))) -> 253
D33: Reste à faire hebdo par ETP pour atteindre l'objectif | L33: Reste à faire hebdo par ETP pour atteindre l'obj (K€) | X33: NB_DD | Y33: =IF(ISBLANK($H$2),SUMIF(TAUX_DD_HDG!$A:$A,'Fiche Agence'!$C$2,TAUX_DD_HDG!$G:$G),IF(ISBLANK($N$2),SUMIF(TAUX_DD_HDG!$B:$B,'Fiche Agence'!$H$2,TAUX_DD_HDG!$G:$G),SUMIF(TAUX_DD_HDG!$C:$C,'Fiche Agence'!$N$2,TAUX_DD_HDG!$G:$G))) -> 217
D34: S45 | E34: S46 | F34: S47 | G34: S48 | H34: S49 | I34: S50 | L34: S45 | M34: S46 | N34: S47 | O34: S48 | P34: S49 | Q34: S50 | X34: TAUX HDG | Y34: =Y32/Y31 -> 0.28363229
C35: Obj 100% | D35: =(AE11/$Y$5)/6 -> 0.14051029 | E35: =IF(ISNUMBER(D$37),((AF11/$Y$5)/5),D35) -> 0.14312443 | F35: =IF(ISNUMBER(E$37),((AG11/$Y$5)/4),E35) -> 0.14312443 | G35: =IF(ISNUMBER(F$37),((AH11/$Y$5)/3),F35) -> 0.14312443 | H35: =IF(ISNUMBER(G$37),((AI11/$Y$5)/2),G35) -> 0.14312443 | I35: =IF(ISNUMBER(H$37),((AJ11/$Y$5)/1),H35) -> 0.14312443 | K35: Obj 100% | L35: =(AE17/$Y$5)/6 -> 5.512578 | M35: =IF(ISNUMBER(L$37),((AF17/$Y$5)/5),L35) -> 5.6622378 | N35: =IF(ISNUMBER(M$37),((AG17/$Y$5)/4),M35) -> 5.6622378 | O35: =IF(ISNUMBER(N$37),((AH17/$Y$5)/3),N35) -> 5.6622378 | P35: =IF(ISNUMBER(O$37),((AI17/$Y$5)/2),O35) -> 5.6622378 | Q35: =IF(ISNUMBER(P$37),((AJ17/$Y$5)/1),P35) -> 5.6622378 | X35: TAUX DD | Y35: =Y33/Y31 -> 0.24327354
C36: Obj 120% | D36: =(AE12/$Y$5)/6 -> 0.51956129 | E36: =IF(ISNUMBER(D$37),((AF11/$Y$5)/5),D36) -> 0.14312443 | F36: =IF(ISNUMBER(E$37),((AG11/$Y$5)/4),E36) -> 0.14312443 | G36: =IF(ISNUMBER(F$37),((AH11/$Y$5)/3),F36) -> 0.14312443 | H36: =IF(ISNUMBER(G$37),((AI11/$Y$5)/2),G36) -> 0.14312443 | I36: =IF(ISNUMBER(H$37),((AJ11/$Y$5)/1),H36) -> 0.14312443 | K36: Obj 120% | L36: =(AE18/$Y$5)/6 -> 17.287667 | M36: =IF(ISNUMBER(L$37),((AF17/$Y$5)/5),L36) -> 5.6622378 | N36: =IF(ISNUMBER(M$37),((AG17/$Y$5)/4),M36) -> 5.6622378 | O36: =IF(ISNUMBER(N$37),((AH17/$Y$5)/3),N36) -> 5.6622378 | P36: =IF(ISNUMBER(O$37),((AI17/$Y$5)/2),O36) -> 5.6622378 | Q36: =IF(ISNUMBER(P$37),((AJ17/$Y$5)/1),P36) -> 5.6622378 | X36: DECILE HDG | Y36: =PERCENTILE(TAUX_DD_HDG!H:H,0.9) -> 0.55664845
C37: Réal. / ETP | D37: =IF(ISNUMBER(AF10),((AF10-AE10)/$Y$5),"-") -> 0.71562216 | E37: =IF(ISNUMBER(AG10),((AG10-AF10)/$Y$5),"-") -> - | F37: =IF(ISNUMBER(AH10),((AH10-AG10)/$Y$5),"-") -> - | G37: =IF(ISNUMBER(AI10),((AI10-AH10)/$Y$5),"-") -> - | H37: =IF(ISNUMBER(AJ10),((AJ10-AI10)/$Y$5),"-") -> - | I37: =IF(ISNUMBER(AK10),((AK10-AJ10)/$Y$5),"-") -> - | K37: Réal. / ETP | L37: =IF(ISNUMBER(AF16),((AF16-AE16)/$Y$5),"-") -> 10.59069 | M37: =IF(ISNUMBER(AG16),((AG16-AF16)/$Y$5),"-") -> - | N37: =IF(ISNUMBER(AH16),((AH16-AG16)/$Y$5),"-") -> - | O37: =IF(ISNUMBER(AI16),((AI16-AH16)/$Y$5),"-") -> - | P37: =IF(ISNUMBER(AJ16),((AJ16-AI16)/$Y$5),"-") -> - | Q37: =IF(ISNUMBER(AK16),((AK16-AJ16)/$Y$5),"-") -> - | X37: DECILE DD | Y37: =PERCENTILE(TAUX_DD_HDG!I:I,0.9) -> 0.50719262
X41: MEILLEURES PERF 2021 AGENCES | AA41: MEILLEURES PERF 2021 TERRI REGI
X43: FORFAITS | Y43: =IF(ISBLANK($H$2),SUMIF(Meilleures_perf_2021_AGENCE!$A:$A,'Fiche Agence'!$C$2,Meilleures_perf_2021_AGENCE!$G:$G),IF(ISBLANK($N$2),SUMIF(Meilleures_perf_2021_AGENCE!$B:$B,'Fiche Agence'!$H$2,Meilleures_perf_2021_AGENCE!$G:$G),SUMIF(Meilleures_perf_2021_AGENCE!$C:$C,'Fiche Agence'!$N$2,Meilleures_perf_2021_AGENCE!$G:$G))) -> 55.998475 | AA43: FORFAITS | AB43: =IF(ISBLANK($H$2),SUMIF(Meilleures_perf_2021_TERRI_REGI!$A:$A,'Fiche Agence'!$C$2,Meilleures_perf_2021_TERRI_REGI!$G:$G),IF(ISBLANK($N$2),SUMIF(Meilleures_perf_2021_TERRI_REGI!$B:$B,'Fiche Agence'!$H$2,Meilleures_perf_2021_TERRI_REGI!$G:$G),SUMIF(Meilleures_perf_2021_TERRI_REGI!$C:$C,'Fiche Agence'!$N$2,Meilleures_perf_2021_TERRI_REGI!$G:$G))) -> 55.998475 | AC43: =AB43/$Y$5 -> 0.54895548 | AE43: FORFAITS | AF43: =IF(ISBLANK($H$2),AC43,IF(ISBLANK($N$2),AC43,SUMIF(Meilleures_perf_2021_AGENCE!$C:$C,'Fiche Agence'!$N$2,Meilleures_perf_2021_AGENCE!$G:$G))) -> 0.54895548
K44: ATTENDU : 1,5 VB / ETP DU 1ER SEPTEMBRE AU 18 DECEMBRE | X44: IARD_PREV | Y44: =IF(ISBLANK($H$2),SUMIF(Meilleures_perf_2021_AGENCE!$A:$A,'Fiche Agence'!$C$2,Meilleures_perf_2021_AGENCE!$E:$E),IF(ISBLANK($N$2),SUMIF(Meilleures_perf_2021_AGENCE!$B:$B,'Fiche Agence'!$H$2,Meilleures_perf_2021_AGENCE!$E:$E),SUMIF(Meilleures_perf_2021_AGENCE!$C:$C,'Fiche Agence'!$N$2,Meilleures_perf_2021_AGENCE!$E:$E))) -> 83.351244 | AA44: IARD_PREV | AB44: =IF(ISBLANK($H$2),SUMIF(Meilleures_perf_2021_TERRI_REGI!$A:$A,'Fiche Agence'!$C$2,Meilleures_perf_2021_TERRI_REGI!$E:$E),IF(ISBLANK($N$2),SUMIF(Meilleures_perf_2021_TERRI_REGI!$B:$B,'Fiche Agence'!$H$2,Meilleures_perf_2021_TERRI_REGI!$E:$E),SUMIF(Meilleures_perf_2021_TERRI_REGI!$C:$C,'Fiche Agence'!$N$2,Meilleures_perf_2021_TERRI_REGI!$E:$E))) -> 83.351244 | AC44: =AB44/$Y$5 -> 0.81709585 | AE44: IARD_PREV | AF44: =IF(ISBLANK($H$2),AC44,IF(ISBLANK($N$2),AC44,SUMIF(Meilleures_perf_2021_AGENCE!$C:$C,'Fiche Agence'!$N$2,Meilleures_perf_2021_AGENCE!$E:$E))) -> 0.81709585
G45: MEILLEURE PERFORMANCE HEBDO EN 2021: | X45: CONSO | Y45: =IF(ISBLANK($H$2),SUMIF(Meilleures_perf_2021_AGENCE!$A:$A,'Fiche Agence'!$C$2,Meilleures_perf_2021_AGENCE!$F:$F),IF(ISBLANK($N$2),SUMIF(Meilleures_perf_2021_AGENCE!$B:$B,'Fiche Agence'!$H$2,Meilleures_perf_2021_AGENCE!$F:$F),SUMIF(Meilleures_perf_2021_AGENCE!$C:$C,'Fiche Agence'!$N$2,Meilleures_perf_2021_AGENCE!$F:$F))) -> 758300.89 | AA45: CONSO | AB45: =IF(ISBLANK($H$2),SUMIF(Meilleures_perf_2021_TERRI_REGI!$A:$A,'Fiche Agence'!$C$2,Meilleures_perf_2021_TERRI_REGI!$F:$F),IF(ISBLANK($N$2),SUMIF(Meilleures_perf_2021_TERRI_REGI!$B:$B,'Fiche Agence'!$H$2,Meilleures_perf_2021_TERRI_REGI!$F:$F),SUMIF(Meilleures_perf_2021_TERRI_REGI!$C:$C,'Fiche Agence'!$N$2,Meilleures_perf_2021_TERRI_REGI!$F:$F))) -> 758300.89 | AC45: =AB45/$Y$5 -> 7433.6564 | AE45: CONSO | AF45: =IF(ISBLANK($H$2),AC45,IF(ISBLANK($N$2),AC45,SUMIF(Meilleures_perf_2021_AGENCE!$C:$C,'Fiche Agence'!$N$2,Meilleures_perf_2021_AGENCE!$F:$F))) -> 7433.6564
X46: ASS VIE | Y46: =IF(ISBLANK($H$2),SUMIF(Meilleures_perf_2021_AGENCE!$A:$A,'Fiche Agence'!$C$2,Meilleures_perf_2021_AGENCE!$H:$H),IF(ISBLANK($N$2),SUMIF(Meilleures_perf_2021_AGENCE!$B:$B,'Fiche Agence'!$H$2,Meilleures_perf_2021_AGENCE!$H:$H),SUMIF(Meilleures_perf_2021_AGENCE!$C:$C,'Fiche Agence'!$N$2,Meilleures_perf_2021_AGENCE!$H:$H))) -> 1640999.8 | AA46: ASS VIE | AB46: =IF(ISBLANK($H$2),SUMIF(Meilleures_perf_2021_TERRI_REGI!$A:$A,'Fiche Agence'!$C$2,Meilleures_perf_2021_TERRI_REGI!$H:$H),IF(ISBLANK($N$2),SUMIF(Meilleures_perf_2021_TERRI_REGI!$B:$B,'Fiche Agence'!$H$2,Meilleures_perf_2021_TERRI_REGI!$H:$H),SUMIF(Meilleures_perf_2021_TERRI_REGI!$C:$C,'Fiche Agence'!$N$2,Meilleures_perf_2021_TERRI_REGI!$H:$H))) -> 1640999.8 | AC46: =AB46/$Y$5 -> 16086.792 | AE46: ASS VIE | AF46: =IF(ISBLANK($H$2),AC46,IF(ISBLANK($N$2),AC46,SUMIF(Meilleures_perf_2021_AGENCE!$C:$C,'Fiche Agence'!$N$2,Meilleures_perf_2021_AGENCE!$H:$H))) -> 16086.792
K47: REAL DEPUIS LE 01/09 | N47: % | O47: RESTE A FAIRE
...

Sheet Meilleures_perf_2021_AGENCE
A1: REGIONS | B1: TERRITOIRES | C1: AGENCE | D1: EDS | E1: Meilleure perf IARD | F1: Meilleure perf Conso | G1: Meilleure perf Banca | H1: Meilleure perf Ass vie
A2: AUBE_HAUTE_MARNE | B2: CHAUMONT | C2: CHAUMONT HOTEL DE VILLE | D2: 410566 | E2: 5.3513514 | F2: 32881.081 | G2: 3.625 | H2: 106592.38
A3: AUBE_HAUTE_MARNE | B3: CHAUMONT | C3: CHAUMONT REPUBLIQUE | D3: 510590 | E3: 5.5569139 | F3: 47056.082 | G3: 3.0350419 | H3: 72188.617
A4: AUBE_HAUTE_MARNE | B4: CHAUMONT | C4: JOINVILLE | D4: 451154 | E4: 5.5 | F4: 49600 | G4: 3.85 | H4: 71615.51
A5: AUBE_HAUTE_MARNE | B5: CHAUMONT | C5: LANGRES | D5: 410541 | E5: 4.8270314 | F5: 32696.723 | G5: 2.9927957 | H5: 52996.179
A6: AUBE_HAUTE_MARNE | B6: CHAUMONT | C6: SAINT DIZIER CENTRE | D6: 451156 | E6: 3.8794304 | F6: 29546.788 | G6: 2.7883406 | H6: 90731.873
A7: AUBE_HAUTE_MARNE | B7: CHAUMONT | C7: WASSY | D7: 451151 | E7: 9.5 | F7: 59081.081 | G7: 4.5 | H7: 81870.78
A8: AUBE_HAUTE_MARNE | B8: TROYES | C8: ARCIS SUR AUBE | D8: 510530 | E8: 4.4874477 | F8: 44529.289 | G8: 2.5301205 | H8: 72130.761
A9: AUBE_HAUTE_MARNE | B9: TROYES | C9: BAR SUR AUBE | D9: 410550 | E9: 4.5 | F9: 49537.88 | G9: 3.1666667 | H9: 86700.138
A10: AUBE_HAUTE_MARNE | B10: TROYES | C10: BAR SUR SEINE | D10: 510556 | E10: 4.4314315 | F10: 46189.792 | G10: 2.0383359 | H10: 111074.2
A11: AUBE_HAUTE_MARNE | B11: TROYES | C11: LA CHAPELLE ST LUC | D11: 510523 | E11: 5.220802 | F11: 27883.721 | G11: 2.8916495 | H11: 52628.33
A12: AUBE_HAUTE_MARNE | B12: TROYES | C12: NOGENT SUR SEINE | D12: 510570 | E12: 3.1367629 | F12: 34333.733 | G12: 2.533492 | H12: 94210.425
A13: AUBE_HAUTE_MARNE | B13: TROYES | C13: ROMILLY SUR SEINE | D13: 410571 | E13: 2.608 | F13: 26132.653 | G13: 2.4698588 | H13: 60405.612
... A253: VOSGES | B253: SAINT_DIE | C253: VAGNEY | D253: 588666 | E253: 5.4352941 | F253: 44074.699 | G253: 1.5714286 | H253: 73142.417

Sheet Meilleures_perf_2021_TERRI_REGI
A1: REGIONS | B1: TERRITOIRES | C1: AGENCE | D1: EDS | E1: Meilleure perf IARD | F1: Meilleure perf Conso | G1: Meilleure perf Banca | H1: Meilleure perf Ass vie
A2: AUBE_HAUTE_MARNE | B2: CHAUMONT | C2: CHAUMONT HOTEL DE VILLE | D2: 410566 | E2: 5.3513514 | F2: 32881.081 | G2: 3.625 | H2: 106592.38
A3: AUBE_HAUTE_MARNE | B3: CHAUMONT | C3: CHAUMONT REPUBLIQUE | D3: 510590 | E3: 5.5569139 | F3: 47056.082 | G3: 3.0350419 | H3: 72188.617
A4: AUBE_HAUTE_MARNE | B4: CHAUMONT | C4: JOINVILLE | D4: 451154 | E4: 5.5 | F4: 49600 | G4: 3.85 | H4: 71615.51
A5: AUBE_HAUTE_MARNE | B5: CHAUMONT | C5: LANGRES | D5: 410541 | E5: 4.8270314 | F5: 32696.723 | G5: 2.9927957 | H5: 52996.179
A6: AUBE_HAUTE_MARNE | B6: CHAUMONT | C6: SAINT DIZIER CENTRE | D6: 451156 | E6: 3.8794304 | F6: 29546.788 | G6: 2.7883406 | H6: 90731.873
A7: AUBE_HAUTE_MARNE | B7: CHAUMONT | C7: WASSY | D7: 451151 | E7: 9.5 | F7: 59081.081 | G7: 4.5 | H7: 81870.78
A8: AUBE_HAUTE_MARNE | B8: TROYES | C8: ARCIS SUR AUBE | D8: 510530 | E8: 4.4874477 | F8: 44529.289 | G8: 2.5301205 | H8: 72130.761
A9: AUBE_HAUTE_MARNE | B9: TROYES | C9: BAR SUR AUBE | D9: 410550 | E9: 4.5 | F9: 49537.88 | G9: 3.1666667 | H9: 86700.138
A10: AUBE_HAUTE_MARNE | B10: TROYES | C10: BAR SUR SEINE | D10: 510556 | E10: 4.4314315 | F10: 46189.792 | G10: 2.0383359 | H10: 111074.2
A11: AUBE_HAUTE_MARNE | B11: TROYES | C11: LA CHAPELLE ST LUC | D11: 510523 | E11: 5.220802 | F11: 27883.721 | G11: 2.8916495 | H11: 52628.33
A12: AUBE_HAUTE_MARNE | B12: TROYES | C12: NOGENT SUR SEINE | D12: 510570 | E12: 3.1367629 | F12: 34333.733 | G12: 2.533492 | H12: 94210.425
A13: AUBE_HAUTE_MARNE | B13: TROYES | C13: ROMILLY SUR SEINE | D13: 410571 | E13: 2.608 | F13: 26132.653 | G13: 2.4698588 | H13: 60405.612
... A253: VOSGES | B253: SAINT_DIE | C253: VAGNEY | D253: 588666 | E253: 5.4352941 | F253: 44074.699 | G253: 1.5714286 | H253: 73142.417

Sheet GEDEL
A1: Direction Régionale | B1: Direction Territoriale | C1: Agence | D1: PDV | E1: EDS PDV | F1: OBJECTIF GEDEL | G1: REALISATION EN MONTANT | H1: RECH V REALISATION EN MONTANT | J1: RECHERCHEV(E2;'[11 08 _ Suivi des contingents GEDEL et Ambition Durable 4.xlsx]SUIVI AMBIT_DURBL GEDEL PDV'!$F:$J;5;FAUX)
A2: AUBE_HAUTE_MARNE | B2: CHAUMONT | C2: LANGRES | D2: BOURBONNE LES BAINS | E2: 10560 | F2: 24465 | G2: =H2 -> 8000 | H2: 8000
A3: HAUT_RHIN | B3: MULHOUSE | C3: THANN | D3: CERNAY | E3: 195 | F3: 30581 | G3: =H3 -> 0 | H3: 0
A4: HAUT_RHIN | B4: COLMAR | C4: COLMAR REPUBLIQUE | D4: COLMAR REPUBLIQUE | E4: 130 | F4: 106859 | G4: =H4 -> 15000 | H4: 15000
A5: MOSELLE | B5: MOSELLE_EST | C5: FAULQUEMONT | D5: MORHANGE | E5: 57458 | F5: 37322 | G5: =H5 -> 0 | H5: 0
A6: VOSGES | B6: SAINT_DIE | C6: SAINT DIE | D6: SAINT DIE CATHEDRALE | E6: 88587 | F6: 48930 | G6: =H6 -> 0 | H6: 0
A7: HAUT_RHIN | B7: COLMAR | C7: RIBEAUVILLE | D7: SAINTE MARIE AUX MINES | E7: 164 | F7: 24465 | G7: =H7 -> 0 | H7: 0
A8: MARNE_ARDENNES | B8: CHALONS_EN_CHAMPAGNE | C8: SAINTE MENEHOULD | D8: SAINTE MENEHOULD | E8: 51128 | F8: 48930 | G8: =H8 -> 1500 | H8: 1500
A9: AUBE_HAUTE_MARNE | B9: TROYES | C9: SAINTE SAVINE | D9: SAINTE SAVINE | E9: 10521 | F9: 61162 | G9: =H9 -> 8000 | H9: 8000
A10: BAS_RHIN | B10: HAGUENAU | C10: SARRE UNION | D10: SARRE UNION | E10: 95 | F10: 61914 | G10: =H10 -> 0 | H10: 0
A11: MOSELLE | B11: MOSELLE_EST | C11: SARREBOURG | D11: SARREBOURG | E11: 57614 | F11: 115699 | G11: =H11 -> 4500 | H11: 4500
A12: MOSELLE | B12: MOSELLE_EST | C12: SARREGUEMINES | D12: SARREGUEMINES | E12: 57618 | F12: 105747 | G12: =H12 -> 0 | H12: 0
A13: MARNE_ARDENNES | B13: CHALONS_EN_CHAMPAGNE | C13: SARRY | D13: SARRY | E13: 51120 | F13: 30595 | G13: =H13 -> 0 | H13: 0
... A183: MOSELLE | B183: MOSELLE_EST | C183: NEUNKIRCH | D183: NEUNKIRCH | E183: 57503 | F183: 49763 | G183: =H183 -> 0 | H183: 0
A184: BAS_RHIN | B184: HAGUENAU | C184: NIEDERBRONN LES BAINS | D184: NIEDERBRONN LES BAINS | E184: 66 | F184: =35370+21811+20521 -> 77702 | G184: =H184 -> 20000 | H184: 20000
A185: MOSELLE | B185: MOSELLE_NORD | C185: NILVANGE | D185: NILVANGE | E185: 57508 | F185: 34610 | G185: =H185 -> 0 | H185: 0
A186: AUBE_HAUTE_MARNE | B186: CHAUMONT | C186: CHAUMONT REPUBLIQUE | D186: NOGENT | E186: 10582 | F186: 12232 | G186: =H186 -> 0 | H186: 0
A187: AUBE_HAUTE_MARNE | B187: TROYES | C187: NOGENT SUR SEINE | D187: NOGENT SUR SEINE | E187: 10570 | F187: 58496 | G187: =H187 -> 0 | H187: 0
A188: VOSGES | B188: EPINAL | C188: THAON LES VOSGES | D188: NOMEXY | E188: 88511 | F188: 24465 | G188: =H188 -> 0 | H188: 0
A189: BAS_RHIN | B189: STRASBOURG | C189: OBERHAUSBERGEN | D189: OBERHAUSBERGEN | E189: 38 | F189: 36697 | G189: =H189 -> 0 | H189: 0
A190: BAS_RHIN | B190: SELESTAT | C190: OBERNAI | D190: OBERNAI | E190: 119 | F190: 58345 | G190: =H190 -> 0 | H190: 0
A191: HAUT_RHIN | B191: COLMAR | C191: ORBEY | D191: ORBEY | E191: 148 | F191: 36697 | G191: =H191 -> 0 | H191: 0
A192: MEURTHE_ET_MOSELLE_MEUSE | B192: PONT_A_MOUSSON | C192: PAGNY SUR MOSELLE | D192: PAGNY SUR MOSELLE | E192: 54516 | F192: 36697 | G192: =H192 -> 0 | H192: 0
A193: BAS_RHIN | B193: HAGUENAU | C193: PFAFFENHOFFEN | D193: PFAFFENHOFFEN | E193: 67 | F193: 36697 | G193: =H193 -> 8000 | H193: 8000
A194: HAUT_RHIN | B194: MULHOUSE | C194: PFASTATT | D194: PFASTATT | E194: 188 | F194: 46194 | G194: =H194 -> 10000 | H194: 10000
A195: MOSELLE | B195: MOSELLE_EST | C195: PHALSBOURG | D195: PHALSBOURG | E195: 57523 | F195: 28390 | G195: =H195 -> 0 | H195: 0
A196: MARNE_ARDENNES | B196: REIMS | C196: PIERRY LECLERC | D196: PIERRY LECLERC | E196: 51361 | F196: 24465 | G196: =H196 -> 0 | H196: 0
... A206: MARNE_ARDENNES | B206: REIMS | C206: REIMS EUROPE | D206: REIMS EUROPE | E206: 51309 | F206: 36697 | G206: =H206 -> 0 | H206: 0
A207: MARNE_ARDENNES | B207: REIMS | C207: REIMS HIPPODROME | D207: REIMS HIPPODROME | E207: 51305 | F207: =59638+42156 -> 101794 | G207: =H207 -> 0 | H207: 0
A208: MARNE_ARDENNES | B208: REIMS | C208: REIMS HOTEL DE VILLE | D208: REIMS HOTEL DE VILLE | E208: 51301 | F208: 99124 | G208: =H208 -> 0 | H208: 0
A209: MARNE_ARDENNES | B209: REIMS | C209: REIMS JEAN JAURES | D209: REIMS JEAN JAURES | E209: 51341 | F209: 61162 | G209: =H209 -> 15000 | H209: 15000
A210: MARNE_ARDENNES | B210: REIMS | C210: REIMS SAINT MARCEAUX | D210: REIMS SAINT MARCEAUX | E210: 51306 | F210: 48930 | G210: =H210 -> 0 | H210: 0
A211: MARNE_ARDENNES | B211: REIMS | C211: REIMS SAINT REMI | D211: REIMS SAINT REMI | E211: 51349 | F211: 36697 | G211: =H211 -> 0 | H211: 0
A212: MARNE_ARDENNES | B212: REIMS | C212: REIMS SAINT THOMAS | D212: REIMS SAINT THOMAS | E212: 51308 | F212: 110092 | G212: =H212 -> 0 | H212: 0
A213: MOSELLE | B213: METZ | C213: REMILLY | D213: REMILLY | E213: 57559 | F213: 49763 | G213: =H213 -> 0 | H213: 0
A214: VOSGES | B214: EPINAL | C214: REMIREMONT | D214: REMIREMONT | E214: 88561 | F214: 95193 | G214: =H214 -> 2000 | H214: 2000
A215: MARNE_ARDENNES | B215: CHARLEVILLE_MEZIERES | C215: RETHEL | D215: RETHEL | E215: 8840 | F215: 73395 | G215: =H215 -> 0 | H215: 0
A216: MEURTHE_ET_MOSELLE_MEUSE | B216: VERDUN | C216: REVIGNY SUR ORNAIN | D216: REVIGNY SUR ORNAIN | E216: 55566 | F216: 48930 | G216: =H216 -> 23000 | H216: 23000
A217: MARNE_ARDENNES | B217: CHARLEVILLE_MEZIERES | C217: REVIN | D217: REVIN | E217: 8862 | F217: 48930 | G217: =H217 -> 0 | H217: 0
A218: HAUT_RHIN | B218: COLMAR | C218: RIBEAUVILLE | D218: RIBEAUVILLE | E218: 144 | F218: 36697 | G218: =H218 -> 130000 | H218: 130000
...

Sheet TAUX_DD_HDG
A1: REGION | B1: TERRITOIRE | C1: AGENCE | D1: NUMR_AGENCE | E1: NB_CARTES | F1: NB_HDG | G1: NB_DD | H1: CALCUL_HDG | I1: CALCUL_DD
A2: BAS_RHIN | B2: STRASBOURG | C2: STRASBOURG FRANCS BOURGEOIS | D2: 4045 | E2: 37 | F2: 13 | G2: 15 | H2: =F2/E2 -> 0.35135135 | I2: =G2/E2 -> 0.40540541
A3: MEURTHE_ET_MOSELLE_MEUSE | B3: PONT_A_MOUSSON | C3: PAGNY SUR MOSELLE | D3: 554516 | E3: 23 | F3: 6 | G3: 2 | H3: =F3/E3 -> 0.26086957 | I3: =G3/E3 -> 0.086956522
A4: BAS_RHIN | B4: STRASBOURG | C4: SCHILTIGHEIM CENTRE | D4: 4027 | E4: 64 | F4: 31 | G4: 31 | H4: =F4/E4 -> 0.484375 | I4: =G4/E4 -> 0.484375
A5: MEURTHE_ET_MOSELLE_MEUSE | B5: PONT_A_MOUSSON | C5: NANCY PLATEAU DE HAYE | D5: 454466 | E5: 21 | F5: 7 | G5: 5 | H5: =F5/E5 -> 0.33333333 | I5: =G5/E5 -> 0.23809524
A6: MARNE_ARDENNES | B6: REIMS | C6: REIMS SAINT MARCEAUX | D6: 551306 | E6: 26 | F6: 8 | G6: 5 | H6: =F6/E6 -> 0.30769231 | I6: =G6/E6 -> 0.19230769
A7: MOSELLE | B7: MOSELLE_EST | C7: CREUTZWALD | D7: 557250 | E7: 22 | F7: 9 | G7: 3 | H7: =F7/E7 -> 0.40909091 | I7: =G7/E7 -> 0.13636364
A8: BAS_RHIN | B8: STRASBOURG | C8: STRASBOURG ROBERTSAU | D8: 4020 | E8: 66 | F8: 31 | G8: 31 | H8: =F8/E8 -> 0.46969697 | I8: =G8/E8 -> 0.46969697
A9: AUBE_HAUTE_MARNE | B9: CHAUMONT | C9: SAINT DIZIER CENTRE | D9: 451156 | E9: 98 | F9: 29 | G9: 23 | H9: =F9/E9 -> 0.29591837 | I9: =G9/E9 -> 0.23469388
A10: MEURTHE_ET_MOSELLE_MEUSE | B10: NANCY | C10: LUNEVILLE CARNOT | D10: 454426 | E10: 84 | F10: 34 | G10: 18 | H10: =F10/E10 -> 0.4047619 | I10: =G10/E10 -> 0.21428571
A11: VOSGES | B11: SAINT_DIE | C11: RAON L ETAPE | D11: 488556 | E11: 21 | F11: 6 | G11: 5 | H11: =F11/E11 -> 0.28571429 | I11: =G11/E11 -> 0.23809524
A12: VOSGES | B12: SAINT_DIE | C12: FRAIZE | D12: 588316 | E12: 29 | F12: 7 | G12: 5 | H12: =F12/E12 -> 0.24137931 | I12: =G12/E12 -> 0.17241379
A13: MARNE_ARDENNES | B13: REIMS | C13: REIMS SAINT REMI | D13: 551349 | E13: 30 | F13: 16 | G13: 10 | H13: =F13/E13 -> 0.53333333 | I13: =G13/E13 -> 0.33333333
... A256: MARNE_ARDENNES | B256: REIMS | C256: DORMANS | D256: 551365 | E256: 15 | F256: 8 | G256: 1 | H256: =F256/E256 -> 0.53333333 | I256: =G256/E256 -> 0.066666667

Sheet PROD_AUTO5_PREV_PERI_PART_SOC
A1: REGION | B1: TERRITOIRE | C1: NUMR_AGENCE | D1: AGENCE | E1: AUTO 5 | F1: PREVOYANCE | G1: PERI | H1: MONTANTS PARTS SOCIALES
A2: 0 | B2: 0 | C2: 0 | D2: 0 | E2: / | F2: 2 | G2: 1 | H2: /
A3: 0 | B3: 0 | C3: 405360 | D3: BANQUE DU DIRIGEANT | E3: 0 | F3: / | G3: / | H3: /
A4: AUBE_HAUTE_MARNE | B4: CHAUMONT | C4: 410541 | D4: LANGRES | E4: 29 | F4: 72 | G4: 3 | H4: 17440
A5: AUBE_HAUTE_MARNE | B5: CHAUMONT | C5: 410566 | D5: CHAUMONT HOTEL DE VILLE | E5: 23 | F5: 59 | G5: 3 | H5: 780
A6: AUBE_HAUTE_MARNE | B6: CHAUMONT | C6: 451151 | D6: WASSY | E6: 7 | F6: 9 | G6: 0 | H6: 400
A7: AUBE_HAUTE_MARNE | B7: CHAUMONT | C7: 451154 | D7: JOINVILLE | E7: 6 | F7: 6 | G7: / | H7: 340
A8: AUBE_HAUTE_MARNE | B8: CHAUMONT | C8: 451156 | D8: SAINT DIZIER CENTRE | E8: 21 | F8: 34 | G8: 6 | H8: 5440
A9: AUBE_HAUTE_MARNE | B9: CHAUMONT | C9: 510590 | D9: CHAUMONT REPUBLIQUE | E9: 11 | F9: 44 | G9: 4 | H9: 3760
A10: AUBE_HAUTE_MARNE | B10: TROYES | C10: 410510 | D10: TROYES GAMBETTA | E10: 9 | F10: 24 | G10: 3 | H10: 2540
A11: AUBE_HAUTE_MARNE | B11: TROYES | C11: 410512 | D11: TROYES ZOLA | E11: 2 | F11: 15 | G11: 0 | H11: 880
A12: AUBE_HAUTE_MARNE | B12: TROYES | C12: 410521 | D12: SAINTE SAVINE | E12: 6 | F12: 13 | G12: 1 | H12: 5960
A13: AUBE_HAUTE_MARNE | B13: TROYES | C13: 410524 | D13: SAINT JULIEN LES VILLAS | E13: 4 | F13: 18 | G13: 2 | H13: 8040
A14: AUBE_HAUTE_MARNE | B14: TROYES | C14: 410550 | D14: BAR SUR AUBE | E14: 8 | F14: 33 | G14: 1 | H14: 1040
A15: AUBE_HAUTE_MARNE | B15: TROYES | C15: 410571 | D15: ROMILLY SUR SEINE | E15: 12 | F15: 24 | G15: / | H15: 2720
A16: AUBE_HAUTE_MARNE | B16: TROYES | C16: 510513 | D16: TROYES 1ER MAI | E16: 6 | F16: 40 | G16: / | H16: 1740
