Workbook
Name AUBE_HAUTE_MARNE: 'Structures EDS'!$C$3:$C$4
Name BAS_RHIN: 'Structures EDS'!$D$3:$D$5
Name CHALONS_EN_CHAMPAGNE: 'Structures EDS'!$T$3:$T$12
Name CHARLEVILLE_MEZIERES: 'Structures EDS'!$U$3:$U$15
Name CHAUMONT: 'Structures EDS'!$M$3:$M$8
Name COLMAR: 'Structures EDS'!$R$3:$R$14
Name EPINAL: 'Structures EDS'!$AC$3:$AC$17
Name HAGUENAU: 'Structures EDS'!$O$3:$O$16
Name HAUT_RHIN: 'Structures EDS'!$E$3:$E$4
Name MARNE_ARDENNES: 'Structures EDS'!$F$3:$F$5
Name METZ: 'Structures EDS'!$Z$3:$Z$24
Name MEURTHE_ET_MOSELLE_MEUSE: 'Structures EDS'!$G$3:$G$5
Name MOSELLE: 'Structures EDS'!$H$3:$H$5
Name MOSELLE_EST: 'Structures EDS'!$AA$3:$AA$17
Name MOSELLE_NORD: 'Structures EDS'!$AB$3:$AB$17
Name MULHOUSE: 'Structures EDS'!$S$3:$S$12
Name NANCY: 'Structures EDS'!$W$3:$W$17
Name PONT_A_MOUSSON: 'Structures EDS'!$X$3:$X$20
Name REIMS: 'Structures EDS'!$V$3:$V$19
Name SAINT_DIE: 'Structures EDS'!$AD$3:$AD$12
Name SELESTAT: 'Structures EDS'!$P$3:$P$17
Name STRASBOURG: 'Structures EDS'!$Q$3:$Q$20
Name TROYES: 'Structures EDS'!$N$3:$N$15
Name VERDUN: 'Structures EDS'!$Y$3:$Y$16
Name VOSGES: 'Structures EDS'!$I$3:$I$4

Sheet Lexique
B1: LEXIQUE FICHE AGENCE "VERS LA PV 2021"
C5: Le rôle de la fiche Agence "Vers la Part Variable 2021" est de vous aider à piloter les principaux items de la Part Variable 2021 sur les 2 derniers mois de l'année. Les indicateurs vous permettent d'avoir une vision hebdomadaire et par ETP des performances à réaliser pour atteindre vos objectifs.
C7: Elle sera mise à jour chaque mardi matin pour vous offrir la vision la plus complète de la production de la semaine précédente et du reste à faire.
C9: Ce suivi n'a pas vocation à figer vos résultats et les taux de Part Variable, ces derniers le seront lors de la réalisation des arrêtés définitifs début 2022.
C11: Pour piloter vos objectifs Part Variable en quotidien : | H11: Suivi Quotidien Part Variable sur Objectifs
C16: ● Taux d'atteinte de l'objectif : réalisation cumulée à fin de semaine précédente / objectif annuel 2021
C18: ● Meilleure performance hebdo : meilleure production hebdomadaire en 2021 (avant S44) rapportée à l'ETP moyen annuel
F19: à fin septembre
C21: ● Reste à faire pour atteindre l'objectif de 100% ou 120% : il s'agit d'une estimation du reste à faire pour atteindre l'objectif
C22: annuel. Ce dernier s'adapte en fonction de :
C23: - la réalisation sur la semaine précédente
C24: - la mise à jour mensuelle de l'objectif en fonction de l'ETP annuel moyen (ETP d'octobre disponible autour du 20/11)
C26: ● ETP utilisé dans le calcul du reste à faire et de la production des semaines 45 à 50 : il s'agit de l'ETP PERFORMANCE MOYEN
C28: ● 1er décile AGENCE CEGEE : il s'agit du premier décile toutes agence de la CEGEE confondues.
C29: Il faut lire : 10% des agences de la CEGEE ont un taux supérieur à X%.
C34: L'ETP utilisé pour calculer mon reste à faire et ma production sur les semaines 45 à 50 est trop éloigné de la réalité, comment le modifier ?
C35: Il vous suffit d'envoyer un email à la boîte CEGEE-B-CRM-DATA en précisant l'ETP le plus proche de votre situation sur cette période.
C37: Mon reste à faire ne correspond pas au reste à faire de la semaine précédente moins ma production de la semaine, comment est-ce possible ?
C38: Le reste à faire s'adapte au fil de l'eau à 2 informations : l'objectif annuel, qui dépend de l'ETP moyen annuel, et la réalisation sur la semaine précédente.
C39: Lorsque les ETP d'octobre seront intégrés à l'ETP moyen annuel, autour du 20/11, l'objectif annuel va s'ajuster. Le reste à faire sera donc recalculé selon l'objectif annuel.

Sheet Fiche Agence
C1: REGION | H1: TERRITOIRE | N1: AGENCE | X1: S-1 | Y1: =Y2-1 -> 48
C2: AUBE_HAUTE_MARNE | X2: Semaine en cours : | Y2: 49 | Z2: A modifier manuellement | AE2: IARD PREVOYANCE
X3: Nb semaines restantes : | Y3: =50-Y2+1 -> 2 | AE3: 0 | AF3: 45 | AG3: 46 | AH3: 47 | AI3: 48 | AJ3: 49 | AK3: 50
B4: ="VERS LA PART VARIABLE 2021 - SEMAINE " &Y2 -> VERS LA PART VARIABLE 2021 - SEMAINE 49 | X4: Code EDS | Y4: =VLOOKUP(N2,ETP_Challenge!D:F,3,0) -> #N/A | AD4: PROD | AE4: =(IF(ISBLANK($H$2),SUMIF('CUMUL résultats semaine'!$A:$A,'Fiche Agence'!$C$2,'CUMUL résultats semaine'!$D:$D),IF(ISBLANK($N$2),SUMIF('CUMUL résultats semaine'!$B:$B,'Fiche Agence'!$H$2,'CUMUL résultats semaine'!$D:$D),SUMIF('CUMUL résultats semaine'!$C:$C,'Fiche Agence'!$N$2,'CUMUL résultats semaine'!$D:$D)))) -> 5538.5 | AF4: =(IF(ISBLANK($H$2),SUMIF('CUMUL résultats semaine'!$A:$A,'Fiche Agence'!$C$2,'CUMUL résultats semaine'!$P:$P),IF(ISBLANK($N$2),SUMIF('CUMUL résultats semaine'!$B:$B,'Fiche Agence'!$H$2,'CUMUL résultats semaine'!$P:$P),SUMIF('CUMUL résultats semaine'!$C:$C,'Fiche Agence'!$N$2,'CUMUL résultats semaine'!$P:$P)))) -> 5598.9 | AG4: =(IF(ISBLANK($H$2),SUMIF('CUMUL résultats semaine'!$A:$A,'Fiche Agence'!$C$2,'CUMUL résultats semaine'!$AB:$AB),IF(ISBLANK($N$2),SUMIF('CUMUL résultats semaine'!$B:$B,'Fiche Agence'!$H$2,'CUMUL résultats semaine'!$AB:$AB),SUMIF('CUMUL résultats semaine'!$C:$C,'Fiche Agence'!$N$2,'CUMUL résultats semaine'!$AB:$AB)))) -> 5769.1 | AH4: =(IF(ISBLANK($H$2),SUMIF('CUMUL résultats semaine'!$A:$A,'Fiche Agence'!$C$2,'CUMUL résultats semaine'!$AN:$AN),IF(ISBLANK($N$2),SUMIF('CUMUL résultats semaine'!$B:$B,'Fiche Agence'!$H$2,'CUMUL résultats semaine'!$AN:$AN),SUMIF('CUMUL résultats semaine'!$C:$C,'Fiche Agence'!$N$2,'CUMUL résultats semaine'!$AN:$AN)))) -> 5819.3 | AI4: =(IF(ISBLANK($H$2),SUMIF('CUMUL résultats semaine'!$A:$A,'Fiche Agence'!$C$2,'CUMUL résultats semaine'!$AZ:$AZ),IF(ISBLANK($N$2),SUMIF('CUMUL résultats semaine'!$B:$B,'Fiche Agence'!$H$2,'CUMUL résultats semaine'!$AZ:$AZ),SUMIF('CUMUL résultats semaine'!$C:$C,'Fiche Agence'!$N$2,'CUMUL résultats semaine'!$AZ:$AZ)))) -> 5919.7 | AJ4: =(IF(ISBLANK($H$2),SUMIF('CUMUL résultats semaine'!$A:$A,'Fiche Agence'!$C$2,'CUMUL résultats semaine'!$BL:$BL),IF(ISBLANK($N$2),SUMIF('CUMUL résultats semaine'!$B:$B,'Fiche Agence'!$H$2,'CUMUL résultats semaine'!$BL:$BL),SUMIF('CUMUL résultats semaine'!$C:$C,'Fiche Agence'!$N$2,'CUMUL résultats semaine'!$BL:$BL)))) -> #N/A | AK4: =(IF(ISBLANK($H$2),SUMIF('CUMUL résultats semaine'!$A:$A,'Fiche Agence'!$C$2,'CUMUL résultats semaine'!$BX:$BX),IF(ISBLANK($N$2),SUMIF('CUMUL résultats semaine'!$B:$B,'Fiche Agence'!$H$2,'CUMUL résultats semaine'!$BX:$BX),SUMIF('CUMUL résultats semaine'!$C:$C,'Fiche Agence'!$N$2,'CUMUL résultats semaine'!$BX:$BX)))) -> #N/A
X5: ETP | Y5: =IF(ISBLANK($H$2),SUMIF(ETP_Challenge!$A:$A,'Fiche Agence'!$C$2,ETP_Challenge!$E:$E),IF(ISBLANK($N$2),SUMIF(ETP_Challenge!$B:$B,'Fiche Agence'!$H$2,ETP_Challenge!$E:$E),SUMIF(ETP_Challenge!$D:$D,'Fiche Agence'!$N$2,ETP_Challenge!$E:$E))) -> 102.00914 | Z5: ="ETP entité : "&Y5 -> ETP entité : 102,00913876 | AD5: RAF 100% | AE5: =(IF(ISBLANK($H$2),SUMIF('CUMUL résultats semaine'!$A:$A,'Fiche Agence'!$C$2,'CUMUL résultats semaine'!$E:$E),IF(ISBLANK($N$2),SUMIF('CUMUL résultats semaine'!$B:$B,'Fiche Agence'!$H$2,'CUMUL résultats semaine'!$E:$E),SUMIF('CUMUL résultats semaine'!$C:$C,'Fiche Agence'!$N$2,'CUMUL résultats semaine'!$E:$E)))) -> 1205 | AF5: =(IF(ISBLANK($H$2),SUMIF('CUMUL résultats semaine'!$A:$A,'Fiche Agence'!$C$2,'CUMUL résultats semaine'!$Q:$Q),IF(ISBLANK($N$2),SUMIF('CUMUL résultats semaine'!$B:$B,'Fiche Agence'!$H$2,'CUMUL résultats semaine'!$Q:$Q),SUMIF('CUMUL résultats semaine'!$C:$C,'Fiche Agence'!$N$2,'CUMUL résultats semaine'!$Q:$Q)))) -> 1167 | AG5: =(IF(ISBLANK($H$2),SUMIF('CUMUL résultats semaine'!$A:$A,'Fiche Agence'!$C$2,'CUMUL résultats semaine'!$AC:$AC),IF(ISBLANK($N$2),SUMIF('CUMUL résultats semaine'!$B:$B,'Fiche Agence'!$H$2,'CUMUL résultats semaine'!$AC:$AC),SUMIF('CUMUL résultats semaine'!$C:$C,'Fiche Agence'!$N$2,'CUMUL résultats semaine'!$AC:$AC)))) -> 1049 | AH5: =(IF(ISBLANK($H$2),SUMIF('CUMUL résultats semaine'!$A:$A,'Fiche Agence'!$C$2,'CUMUL résultats semaine'!$AO:$AO),IF(ISBLANK($N$2),SUMIF('CUMUL résultats semaine'!$B:$B,'Fiche Agence'!$H$2,'CUMUL résultats semaine'!$AO:$AO),SUMIF('CUMUL résultats semaine'!$C:$C,'Fiche Agence'!$N$2,'CUMUL résultats semaine'!$AO:$AO)))) -> 1036 | AI5: =(IF(ISBLANK($H$2),SUMIF('CUMUL résultats semaine'!$A:$A,'Fiche Agence'!$C$2,'CUMUL résultats semaine'!$BA:$BA),IF(ISBLANK($N$2),SUMIF('CUMUL résultats semaine'!$B:$B,'Fiche Agence'!$H$2,'CUMUL résultats semaine'!$BA:$BA),SUMIF('CUMUL résultats semaine'!$C:$C,'Fiche Agence'!$N$2,'CUMUL résultats semaine'!$BA:$BA)))) -> 708 | AJ5: =(IF(ISBLANK($H$2),SUMIF('CUMUL résultats semaine'!$A:$A,'Fiche Agence'!$C$2,'CUMUL résultats semaine'!$BM:$BM),IF(ISBLANK($N$2),SUMIF('CUMUL résultats semaine'!$B:$B,'Fiche Agence'!$H$2,'CUMUL résultats semaine'!$BM:$BM),SUMIF('CUMUL résultats semaine'!$C:$C,'Fiche Agence'!$N$2,'CUMUL résultats semaine'!$BM:$BM)))) -> #N/A | AK5: =(IF(ISBLANK($H$2),SUMIF('CUMUL résultats semaine'!$A:$A,'Fiche Agence'!$C$2,'CUMUL résultats semaine'!$BY:$BY),IF(ISBLANK($N$2),SUMIF('CUMUL résultats semaine'!$B:$B,'Fiche Agence'!$H$2,'CUMUL résultats semaine'!$BY:$BY),SUMIF('CUMUL résultats semaine'!$C:$C,'Fiche Agence'!$N$2,'CUMUL résultats semaine'!$BY:$BY)))) -> #N/A
X6: OBJ GEDEL | Y6: =IF(ISBLANK($H$2),SUMIF(GEDEL!$A:$A,'Fiche Agence'!$C$2,GEDEL!$F:$F),IF(ISBLANK($N$2),SUMIF(GEDEL!$B:$B,'Fiche Agence'!$H$2,GEDEL!$F:$F),SUMIF(GEDEL!$C:$C,'Fiche Agence'!$N$2,GEDEL!$F:$F))) -> 1278066 | AD6: RAF 120% | AE6: =(IF(ISBLANK($H$2),SUMIF('CUMUL résultats semaine'!$A:$A,'Fiche Agence'!$C$2,'CUMUL résultats semaine'!$F:$F),IF(ISBLANK($N$2),SUMIF('CUMUL résultats semaine'!$B:$B,'Fiche Agence'!$H$2,'CUMUL résultats semaine'!$F:$F),SUMIF('CUMUL résultats semaine'!$C:$C,'Fiche Agence'!$N$2,'CUMUL résultats semaine'!$F:$F)))) -> 2295 | AF6: =(IF(ISBLANK($H$2),SUMIF('CUMUL résultats semaine'!$A:$A,'Fiche Agence'!$C$2,'CUMUL résultats semaine'!$R:$R),IF(ISBLANK($N$2),SUMIF('CUMUL résultats semaine'!$B:$B,'Fiche Agence'!$H$2,'CUMUL résultats semaine'!$R:$R),SUMIF('CUMUL résultats semaine'!$C:$C,'Fiche Agence'!$N$2,'CUMUL résultats semaine'!$R:$R)))) -> 2239 | AG6: =(IF(ISBLANK($H$2),SUMIF('CUMUL résultats semaine'!$A:$A,'Fiche Agence'!$C$2,'CUMUL résultats semaine'!$AD:$AD),IF(ISBLANK($N$2),SUMIF('CUMUL résultats semaine'!$B:$B,'Fiche Agence'!$H$2,'CUMUL résultats semaine'!$AD:$AD),SUMIF('CUMUL résultats semaine'!$C:$C,'Fiche Agence'!$N$2,'CUMUL résultats semaine'!$AD:$AD)))) -> 2045 | AH6: =(IF(ISBLANK($H$2),SUMIF('CUMUL résultats semaine'!$A:$A,'Fiche Agence'!$C$2,'CUMUL résultats semaine'!$AP:$AP),IF(ISBLANK($N$2),SUMIF('CUMUL résultats semaine'!$B:$B,'Fiche Agence'!$H$2,'CUMUL résultats semaine'!$AP:$AP),SUMIF('CUMUL résultats semaine'!$C:$C,'Fiche Agence'!$N$2,'CUMUL résultats semaine'!$AP:$AP)))) -> 2040 | AI6: =(IF(ISBLANK($H$2),SUMIF('CUMUL résultats semaine'!$A:$A,'Fiche Agence'!$C$2,'CUMUL résultats semaine'!$BB:$BB),IF(ISBLANK($N$2),SUMIF('CUMUL résultats semaine'!$B:$B,'Fiche Agence'!$H$2,'CUMUL résultats semaine'!$BB:$BB),SUMIF('CUMUL résultats semaine'!$C:$C,'Fiche Agence'!$N$2,'CUMUL résultats semaine'!$BB:$BB)))) -> 3816 | AJ6: =(IF(ISBLANK($H$2),SUMIF('CUMUL résultats semaine'!$A:$A,'Fiche Agence'!$C$2,'CUMUL résultats semaine'!$BN:$BN),IF(ISBLANK($N$2),SUMIF('CUMUL résultats semaine'!$B:$B,'Fiche Agence'!$H$2,'CUMUL résultats semaine'!$BN:$BN),SUMIF('CUMUL résultats semaine'!$C:$C,'Fiche Agence'!$N$2,'CUMUL résultats semaine'!$BN:$BN)))) -> #N/A | AK6: =(IF(ISBLANK($H$2),SUMIF('CUMUL résultats semaine'!$A:$A,'Fiche Agence'!$C$2,'CUMUL résultats semaine'!$BZ:$BZ),IF(ISBLANK($N$2),SUMIF('CUMUL résultats semaine'!$B:$B,'Fiche Agence'!$H$2,'CUMUL résultats semaine'!$BZ:$BZ),SUMIF('CUMUL résultats semaine'!$C:$C,'Fiche Agence'!$N$2,'CUMUL résultats semaine'!$BZ:$BZ)))) -> #N/A
AD7: RAF 100% | AE7: =HLOOKUP(Y1,3:6,3,FALSE) -> 708
G8: MEILLEURE PERFORMANCE HEBDO EN 2021 : | K8: ATTENDU : 0,5 VB / ETP / SEMAINE DU 12 OCTOBRE AU 18 DECEMBRE | AD8: RAF 120% | AE8: =HLOOKUP(Y1,3:6,4,FALSE) -> 3816
X10: Jauge | AE10: BANCA
K11: REAL DEPUIS LE 12/10 | N11: % SAIS. | X11: 0 - 79% | Z11: 80 | AE11: 0 | AF11: 45 | AG11: 46 | AH11: 47 | AI11: 48 | AJ11: 49 | AK11: 50
G12: R à F Entité : | K12: ENTITE | M12: PAR ETP | N12: =K13/(0.5*Y5*(10-Y3)) -> 0.72297444 | T12: RàF total | U12: RàF hebdo | X12: 80% - 100% | Z12: 20 | AD12: PROD | AE12: =(IF(ISBLANK($H$2),SUMIF('CUMUL résultats semaine'!$A:$A,'Fiche Agence'!$C$2,'CUMUL résultats semaine'!$J:$J),IF(ISBLANK($N$2),SUMIF('CUMUL résultats semaine'!$B:$B,'Fiche Agence'!$H$2,'CUMUL résultats semaine'!$J:$J),SUMIF('CUMUL résultats semaine'!$C:$C,'Fiche Agence'!$N$2,'CUMUL résultats semaine'!$J:$J)))) -> 4257 | AF12: =(IF(ISBLANK($H$2),SUMIF('CUMUL résultats semaine'!$A:$A,'Fiche Agence'!$C$2,'CUMUL résultats semaine'!$V:$V),IF(ISBLANK($N$2),SUMIF('CUMUL résultats semaine'!$B:$B,'Fiche Agence'!$H$2,'CUMUL résultats semaine'!$V:$V),SUMIF('CUMUL résultats semaine'!$C:$C,'Fiche Agence'!$N$2,'CUMUL résultats semaine'!$V:$V)))) -> 4330 | AG12: =(IF(ISBLANK($H$2),SUMIF('CUMUL résultats semaine'!$A:$A,'Fiche Agence'!$C$2,'CUMUL résultats semaine'!$AH:$AH),IF(ISBLANK($N$2),SUMIF('CUMUL résultats semaine'!$B:$B,'Fiche Agence'!$H$2,'CUMUL résultats semaine'!$AH:$AH),SUMIF('CUMUL résultats semaine'!$C:$C,'Fiche Agence'!$N$2,'CUMUL résultats semaine'!$AH:$AH)))) -> 4410 | AH12: =(IF(ISBLANK($H$2),SUMIF('CUMUL résultats semaine'!$A:$A,'Fiche Agence'!$C$2,'CUMUL résultats semaine'!$AT:$AT),IF(ISBLANK($N$2),SUMIF('CUMUL résultats semaine'!$B:$B,'Fiche Agence'!$H$2,'CUMUL résultats semaine'!$AT:$AT),SUMIF('CUMUL résultats semaine'!$C:$C,'Fiche Agence'!$N$2,'CUMUL résultats semaine'!$AT:$AT)))) -> 4465 | AI12: =(IF(ISBLANK($H$2),SUMIF('CUMUL résultats semaine'!$A:$A,'Fiche Agence'!$C$2,'CUMUL résultats semaine'!$BF:$BF),IF(ISBLANK($N$2),SUMIF('CUMUL résultats semaine'!$B:$B,'Fiche Agence'!$H$2,'CUMUL résultats semaine'!$BF:$BF),SUMIF('CUMUL résultats semaine'!$C:$C,'Fiche Agence'!$N$2,'CUMUL résultats semaine'!$BF:$BF)))) -> 4544 | AJ12: =(IF(ISBLANK($H$2),SUMIF('CUMUL résultats semaine'!$A:$A,'Fiche Agence'!$C$2,'CUMUL résultats semaine'!$BR:$BR),IF(ISBLANK($N$2),SUMIF('CUMUL résultats semaine'!$B:$B,'Fiche Agence'!$H$2,'CUMUL résultats semaine'!$BR:$BR),SUMIF('CUMUL résultats semaine'!$C:$C,'Fiche Agence'!$N$2,'CUMUL résultats semaine'!$BR:$BR)))) -> #N/A | AK12: =(IF(ISBLANK($H$2),SUMIF('CUMUL résultats semaine'!$A:$A,'Fiche Agence'!$C$2,'CUMUL résultats semaine'!$CD:$CD),IF(ISBLANK($N$2),SUMIF('CUMUL résultats semaine'!$B:$B,'Fiche Agence'!$H$2,'CUMUL résultats semaine'!$CD:$CD),SUMIF('CUMUL résultats semaine'!$C:$C,'Fiche Agence'!$N$2,'CUMUL résultats semaine'!$CD:$CD)))) -> #N/A
H13: 1 | K13: =IF(ISBLANK($H$2),SUMIF(PROD_AUTO5_PREV_PERI_PART_SOC!$A:$A,'Fiche Agence'!$C$2,PROD_AUTO5_PREV_PERI_PART_SOC!$E:$E),IF(ISBLANK($N$2),SUMIF(PROD_AUTO5_PREV_PERI_PART_SOC!$B:$B,'Fiche Agence'!$H$2,PROD_AUTO5_PREV_PERI_PART_SOC!$E:$E),SUMIF(PROD_AUTO5_PREV_PERI_PART_SOC!$D:$D,'Fiche Agence'!$N$2,PROD_AUTO5_PREV_PERI_PART_SOC!$E:$E))) -> 295 | M13: =K13/(IF(ISBLANK($H$2),SUMIF(ETP_Challenge!$A:$A,'Fiche Agence'!$C$2,ETP_Challenge!$E:$E),IF(ISBLANK($N$2),SUMIF(ETP_Challenge!$B:$B,'Fiche Agence'!$H$2,ETP_Challenge!$E:$E),SUMIF(ETP_Challenge!$D:$D,'Fiche Agence'!$N$2,ETP_Challenge!$E:$E)))) -> 2.8918978 | T13: =IF(((ROUND(0.5*Y5,1)*10 - K13))<=0,0,((ROUND(0.5*Y5,1)*10 - K13))) -> 215 | U13: =IF(((ROUND(0.5*Y5,1)*10 - K13)/Y3)<=0,0,((ROUND(0.5*Y5,1)*10 - K13)/Y3)) -> 107.5 | X13: 101% - 120% | Z13: 20 | AD13: RAF 100% | AE13: =(IF(ISBLANK($H$2),SUMIF('CUMUL résultats semaine'!$A:$A,'Fiche Agence'!$C$2,'CUMUL résultats semaine'!$K:$K),IF(ISBLANK($N$2),SUMIF('CUMUL résultats semaine'!$B:$B,'Fiche Agence'!$H$2,'CUMUL résultats semaine'!$K:$K),SUMIF('CUMUL résultats semaine'!$C:$C,'Fiche Agence'!$N$2,'CUMUL résultats semaine'!$K:$K)))) -> 86 | AF13: =(IF(ISBLANK($H$2),SUMIF('CUMUL résultats semaine'!$A:$A,'Fiche Agence'!$C$2,'CUMUL résultats semaine'!$W:$W),IF(ISBLANK($N$2),SUMIF('CUMUL résultats semaine'!$B:$B,'Fiche Agence'!$H$2,'CUMUL résultats semaine'!$W:$W),SUMIF('CUMUL résultats semaine'!$C:$C,'Fiche Agence'!$N$2,'CUMUL résultats semaine'!$W:$W)))) -> 73 | AG13: =(IF(ISBLANK($H$2),SUMIF('CUMUL résultats semaine'!$A:$A,'Fiche Agence'!$C$2,'CUMUL résultats semaine'!$AI:$AI),IF(ISBLANK($N$2),SUMIF('CUMUL résultats semaine'!$B:$B,'Fiche Agence'!$H$2,'CUMUL résultats semaine'!$AI:$AI),SUMIF('CUMUL résultats semaine'!$C:$C,'Fiche Agence'!$N$2,'CUMUL résultats semaine'!$AI:$AI)))) -> 51 | AH13: =(IF(ISBLANK($H$2),SUMIF('CUMUL résultats semaine'!$A:$A,'Fiche Agence'!$C$2,'CUMUL résultats semaine'!$AU:$AU),IF(ISBLANK($N$2),SUMIF('CUMUL résultats semaine'!$B:$B,'Fiche Agence'!$H$2,'CUMUL résultats semaine'!$AU:$AU),SUMIF('CUMUL résultats semaine'!$C:$C,'Fiche Agence'!$N$2,'CUMUL résultats semaine'!$AU:$AU)))) -> 48 | AI13: =(IF(ISBLANK($H$2),SUMIF('CUMUL résultats semaine'!$A:$A,'Fiche Agence'!$C$2,'CUMUL résultats semaine'!$BG:$BG),IF(ISBLANK($N$2),SUMIF('CUMUL résultats semaine'!$B:$B,'Fiche Agence'!$H$2,'CUMUL résultats semaine'!$BG:$BG),SUMIF('CUMUL résultats semaine'!$C:$C,'Fiche Agence'!$N$2,'CUMUL résultats semaine'!$BG:$BG)))) -> 41 | AJ13: =(IF(ISBLANK($H$2),SUMIF('CUMUL résultats semaine'!$A:$A,'Fiche Agence'!$C$2,'CUMUL résultats semaine'!$BS:$BS),IF(ISBLANK($N$2),SUMIF('CUMUL résultats semaine'!$B:$B,'Fiche Agence'!$H$2,'CUMUL résultats semaine'!$BS:$BS),SUMIF('CUMUL résultats semaine'!$C:$C,'Fiche Agence'!$N$2,'CUMUL résultats semaine'!$BS:$BS)))) -> #N/A | AK13: =(IF(ISBLANK($H$2),SUMIF('CUMUL résultats semaine'!$A:$A,'Fiche Agence'!$C$2,'CUMUL résultats semaine'!$CE:$CE),IF(ISBLANK($N$2),SUMIF('CUMUL résultats semaine'!$B:$B,'Fiche Agence'!$H$2,'CUMUL résultats semaine'!$CE:$CE),SUMIF('CUMUL résultats semaine'!$C:$C,'Fiche Agence'!$N$2,'CUMUL résultats semaine'!$CE:$CE)))) -> #N/A
C14: =Y16&"%" -> 90,9% | H14: 1.5 | T14: =T13/Y5 -> 2.1076543 | U14: =U13/Y5 -> 1.0538272 | Z14: =SUM(Z11:Z13) -> 120 | AD14: RAF 120% | AE14: =(IF(ISBLANK($H$2),SUMIF('CUMUL résultats semaine'!$A:$A,'Fiche Agence'!$C$2,'CUMUL résultats semaine'!$L:$L),IF(ISBLANK($N$2),SUMIF('CUMUL résultats semaine'!$B:$B,'Fiche Agence'!$H$2,'CUMUL résultats semaine'!$L:$L),SUMIF('CUMUL résultats semaine'!$C:$C,'Fiche Agence'!$N$2,'CUMUL résultats semaine'!$L:$L)))) -> 318 | AF14: =(IF(ISBLANK($H$2),SUMIF('CUMUL résultats semaine'!$A:$A,'Fiche Agence'!$C$2,'CUMUL résultats semaine'!$X:$X),IF(ISBLANK($N$2),SUMIF('CUMUL résultats semaine'!$B:$B,'Fiche Agence'!$H$2,'CUMUL résultats semaine'!$X:$X),SUMIF('CUMUL résultats semaine'!$C:$C,'Fiche Agence'!$N$2,'CUMUL résultats semaine'!$X:$X)))) -> 293 | AG14: =(IF(ISBLANK($H$2),SUMIF('CUMUL résultats semaine'!$A:$A,'Fiche Agence'!$C$2,'CUMUL résultats semaine'!$AJ:$AJ),IF(ISBLANK($N$2),SUMIF('CUMUL résultats semaine'!$B:$B,'Fiche Agence'!$H$2,'CUMUL résultats semaine'!$AJ:$AJ),SUMIF('CUMUL résultats semaine'!$C:$C,'Fiche Agence'!$N$2,'CUMUL résultats semaine'!$AJ:$AJ)))) -> 243 | AH14: =(IF(ISBLANK($H$2),SUMIF('CUMUL résultats semaine'!$A:$A,'Fiche Agence'!$C$2,'CUMUL résultats semaine'!$AV:$AV),IF(ISBLANK($N$2),SUMIF('CUMUL résultats semaine'!$B:$B,'Fiche Agence'!$H$2,'CUMUL résultats semaine'!$AV:$AV),SUMIF('CUMUL résultats semaine'!$C:$C,'Fiche Agence'!$N$2,'CUMUL résultats semaine'!$AV:$AV)))) -> 225 | AI14: =(IF(ISBLANK($H$2),SUMIF('CUMUL résultats semaine'!$A:$A,'Fiche Agence'!$C$2,'CUMUL résultats semaine'!$BH:$BH),IF(ISBLANK($N$2),SUMIF('CUMUL résultats semaine'!$B:$B,'Fiche Agence'!$H$2,'CUMUL résultats semaine'!$BH:$BH),SUMIF('CUMUL résultats semaine'!$C:$C,'Fiche Agence'!$N$2,'CUMUL résultats semaine'!$BH:$BH)))) -> 195 | AJ14: =(IF(ISBLANK($H$2),SUMIF('CUMUL résultats semaine'!$A:$A,'Fiche Agence'!$C$2,'CUMUL résultats semaine'!$BT:$BT),IF(ISBLANK($N$2),SUMIF('CUMUL résultats semaine'!$B:$B,'Fiche Agence'!$H$2,'CUMUL résultats semaine'!$BT:$BT),SUMIF('CUMUL résultats semaine'!$C:$C,'Fiche Agence'!$N$2,'CUMUL résultats semaine'!$BT:$BT)))) -> #N/A | AK14: =(IF(ISBLANK($H$2),SUMIF('CUMUL résultats semaine'!$A:$A,'Fiche Agence'!$C$2,'CUMUL résultats semaine'!$CF:$CF),IF(ISBLANK($N$2),SUMIF('CUMUL résultats semaine'!$B:$B,'Fiche Agence'!$H$2,'CUMUL résultats semaine'!$CF:$CF),SUMIF('CUMUL résultats semaine'!$C:$C,'Fiche Agence'!$N$2,'CUMUL résultats semaine'!$CF:$CF)))) -> #N/A
AD15: RAF 100% | AE15: =HLOOKUP(Y1,11:14,3,FALSE) -> 41
D16: Reste à faire hebdo par ETP pour atteindre l'objectif | K16: ATTENDU : 0,5 VB / ETP / SEMAINE DU 1ER SEPTEMBRE AU 18 DECEMBRE | X16: aiguille IARD | Y16: =ROUND((AA17/AB17)*100,1) -> 90.9 | Z16: =IF(Y16>=120,120,Y16) -> 90.9 | AA16: VB IARD | AB16: OBJ TOTAL | AD16: RAF 120% | AE16: =HLOOKUP(Y1,11:14,4,FALSE) -> 195
D17: S45 | E17: S46 | F17: S47 | G17: S48 | H17: S49 | I17: S50 | X17: largeur | Z17: 1 | AA17: =IF(ISBLANK($H$2),SUMIF('Coller ici dernier suivi PV'!$A:$A,'Fiche Agence'!$C$2,'Coller ici dernier suivi PV'!$BE:$BE),IF(ISBLANK($N$2),SUMIF('Coller ici dernier suivi PV'!$B:$B,'Fiche Agence'!$H$2,'Coller ici dernier suivi PV'!$BE:$BE),SUMIF('Coller ici dernier suivi PV'!$C:$C,'Fiche Agence'!$N$2,'Coller ici dernier suivi PV'!$BE:$BE))) -> 6027.4 | AB17: =Y5*65 -> 6630.594
C18: Obj 100% | D18: =(AE5/$Y$5)/6 -> 1.9687779 | E18: =IF(ISNUMBER(D$20),((AF5/$Y$5)/5),D18) -> 2.2880303 | F18: =IF(ISNUMBER(E$20),((AG5/$Y$5)/4),E18) -> 2.5708481 | G18: =IF(ISNUMBER(F$20),((AH5/$Y$5)/3),F18) -> 3.3853176 | H18: =IF(ISNUMBER(G$20),((AI5/$Y$5)/2),G18) -> 3.4702773 | I18: =IF(ISNUMBER(H$20),((AJ5/$Y$5)/1),H18) -> 3.4702773 | K18: REAL DEPUIS LE 01/09 | N18: % SAIS. | T18: RàF total | U18: RàF hebdo | X18: part invisible | Z18: =SUM($Z$11:$Z$14)-(Z17+Z16) -> 148.1 | AE18: CONSO
C19: Obj 150% | D19: =(AE6/$Y$5)/6 -> 3.749664 | E19: =IF(ISNUMBER(D$20),((AF6/$Y$5)/5),D19) -> 4.3898028 | F19: =IF(ISNUMBER(E$20),((AG6/$Y$5)/4),E19) -> 5.0118059 | G19: =IF(ISNUMBER(F$20),((AH6/$Y$5)/3),F19) -> 6.6660694 | H19: =IF(ISNUMBER(G$20),((AI6/$Y$5)/2),G19) -> 18.704207 | I19: =IF(ISNUMBER(H$20),((AJ6/$Y$5)/1),H19) -> 18.704207 | K19: ENTITE | M19: PAR ETP | N19: =K20/(0.5*Y5*(16-Y3)) -> 0.86826955 | T19: =IF(((ROUND(0.5*Y5,1)*16 - K20))<=0,0,((ROUND(0.5*Y5,1)*16 - K20))) -> 196 | U19: =IF(((ROUND(0.5*Y5,1)*16 - K20)/Y3)<=0,0,((ROUND(0.5*Y5,1)*16 - K20)/Y3)) -> 98 | X19: aiguille CONSO | Y19: =ROUND((AA20/AB20)*100,1) -> 109.6 | Z19: =IF(Y19>=120,120,Y19) -> 109.6 | AA19: Engag. nets Conso | AB19: OBJ TOTAL | AE19: 0 | AF19: 45 | AG19: 46 | AH19: 47 | AI19: 48 | AJ19: 49 | AK19: 50
C20: Réal. / ETP | D20: =IF(ISNUMBER(AF4),((AF4-AE4)/$Y$5),"-") -> 0.59210381 | E20: =IF(ISNUMBER(AG4),((AG4-AF4)/$Y$5),"-") -> 1.668478 | F20: =IF(ISNUMBER(AH4),((AH4-AG4)/$Y$5),"-") -> 0.49211277 | G20: =IF(ISNUMBER(AI4),((AI4-AH4)/$Y$5),"-") -> 0.98422554 | H20: =IF(ISNUMBER(AJ4),((AJ4-AI4)/$Y$5),"-") -> - | I20: =IF(ISNUMBER(AK4),((AK4-AJ4)/$Y$5),"-") -> - | K20: =IF(ISBLANK($H$2),SUMIF(PROD_AUTO5_PREV_PERI_PART_SOC!$A:$A,'Fiche Agence'!$C$2,PROD_AUTO5_PREV_PERI_PART_SOC!$F:$F),IF(ISBLANK($N$2),SUMIF(PROD_AUTO5_PREV_PERI_PART_SOC!$B:$B,'Fiche Agence'!$H$2,PROD_AUTO5_PREV_PERI_PART_SOC!$F:$F),SUMIF(PROD_AUTO5_PREV_PERI_PART_SOC!$D:$D,'Fiche Agence'!$N$2,PROD_AUTO5_PREV_PERI_PART_SOC!$F:$F))) -> 620 | M20: =K20/(IF(ISBLANK($H$2),SUMIF(ETP_Challenge!$A:$A,'Fiche Agence'!$C$2,ETP_Challenge!$E:$E),IF(ISBLANK($N$2),SUMIF(ETP_Challenge!$B:$B,'Fiche Agence'!$H$2,ETP_Challenge!$E:$E),SUMIF(ETP_Challenge!$D:$D,'Fiche Agence'!$N$2,ETP_Challenge!$E:$E)))) -> 6.0778868 | T20: =T19/Y5 -> 1.9213965 | U20: =U19/Y5 -> 0.96069824 | X20: largeur | Z20: 1 | AA20: =IF(ISBLANK($H$2),SUMIF('Coller ici dernier suivi PV'!$A:$A,'Fiche Agence'!$C$2,'Coller ici dernier suivi PV'!$AU:$AU),IF(ISBLANK($N$2),SUMIF('Coller ici dernier suivi PV'!$B:$B,'Fiche Agence'!$H$2,'Coller ici dernier suivi PV'!$AU:$AU),SUMIF('Coller ici dernier suivi PV'!$C:$C,'Fiche Agence'!$N$2,'Coller ici dernier suivi PV'!$AU:$AU))) -> 64049.075 | AB20: =Y5*573 -> 58451.237 | AD20: PROD | AE20: =(IF(ISBLANK($H$2),SUMIF('CUMUL résultats semaine'!$A:$A,'Fiche Agence'!$C$2,'CUMUL résultats semaine'!$G:$G),IF(ISBLANK($N$2),SUMIF('CUMUL résultats semaine'!$B:$B,'Fiche Agence'!$H$2,'CUMUL résultats semaine'!$G:$G),SUMIF('CUMUL résultats semaine'!$C:$C,'Fiche Agence'!$N$2,'CUMUL résultats semaine'!$G:$G)))) -> 59166.096 | AF20: =(IF(ISBLANK($H$2),SUMIF('CUMUL résultats semaine'!$A:$A,'Fiche Agence'!$C$2,'CUMUL résultats semaine'!$S:$S),IF(ISBLANK($N$2),SUMIF('CUMUL résultats semaine'!$B:$B,'Fiche Agence'!$H$2,'CUMUL résultats semaine'!$S:$S),SUMIF('CUMUL résultats semaine'!$C:$C,'Fiche Agence'!$N$2,'CUMUL résultats semaine'!$S:$S)))) -> 60246.443 | AG20: =(IF(ISBLANK($H$2),SUMIF('CUMUL résultats semaine'!$A:$A,'Fiche Agence'!$C$2,'CUMUL résultats semaine'!$AE:$AE),IF(ISBLANK($N$2),SUMIF('CUMUL résultats semaine'!$B:$B,'Fiche Agence'!$H$2,'CUMUL résultats semaine'!$AE:$AE),SUMIF('CUMUL résultats semaine'!$C:$C,'Fiche Agence'!$N$2,'CUMUL résultats semaine'!$AE:$AE)))) -> 60986.985 | AH20: =(IF(ISBLANK($H$2),SUMIF('CUMUL résultats semaine'!$A:$A,'Fiche Agence'!$C$2,'CUMUL résultats semaine'!$AQ:$AQ),IF(ISBLANK($N$2),SUMIF('CUMUL résultats semaine'!$B:$B,'Fiche Agence'!$H$2,'CUMUL résultats semaine'!$AQ:$AQ),SUMIF('CUMUL résultats semaine'!$C:$C,'Fiche Agence'!$N$2,'CUMUL résultats semaine'!$AQ:$AQ)))) -> 62194.317 | AI20: =(IF(ISBLANK($H$2),SUMIF('CUMUL résultats semaine'!$A:$A,'Fiche Agence'!$C$2,'CUMUL résultats semaine'!$BC:$BC),IF(ISBLANK($N$2),SUMIF('CUMUL résultats semaine'!$B:$B,'Fiche Agence'!$H$2,'CUMUL résultats semaine'!$BC:$BC),SUMIF('CUMUL résultats semaine'!$C:$C,'Fiche Agence'!$N$2,'CUMUL résultats semaine'!$BC:$BC)))) -> 63054.41 | AJ20: =(IF(ISBLANK($H$2),SUMIF('CUMUL résultats semaine'!$A:$A,'Fiche Agence'!$C$2,'CUMUL résultats semaine'!$BO:$BO),IF(ISBLANK($N$2),SUMIF('CUMUL résultats semaine'!$B:$B,'Fiche Agence'!$H$2,'CUMUL résultats semaine'!$BO:$BO),SUMIF('CUMUL résultats semaine'!$C:$C,'Fiche Agence'!$N$2,'CUMUL résultats semaine'!$BO:$BO)))) -> #N/A | AK20: =(IF(ISBLANK($H$2),SUMIF('CUMUL résultats semaine'!$A:$A,'Fiche Agence'!$C$2,'CUMUL résultats semaine'!$CA:$CA),IF(ISBLANK($N$2),SUMIF('CUMUL résultats semaine'!$B:$B,'Fiche Agence'!$H$2,'CUMUL résultats semaine'!$CA:$CA),SUMIF('CUMUL résultats semaine'!$C:$C,'Fiche Agence'!$N$2,'CUMUL résultats semaine'!$CA:$CA)))) -> #N/A
X21: part invisible | Z21: =SUM($Z$11:$Z$14)-(Z20+Z19) -> 129.4 | AD21: RAF 100% | AE21: =(IF(ISBLANK($H$2),SUMIF('CUMUL résultats semaine'!$A:$A,'Fiche Agence'!$C$2,'CUMUL résultats semaine'!$H:$H),IF(ISBLANK($N$2),SUMIF('CUMUL résultats semaine'!$B:$B,'Fiche Agence'!$H$2,'CUMUL résultats semaine'!$H:$H),SUMIF('CUMUL résultats semaine'!$C:$C,'Fiche Agence'!$N$2,'CUMUL résultats semaine'!$H:$H)))) -> 3374 | AF21: =(IF(ISBLANK($H$2),SUMIF('CUMUL résultats semaine'!$A:$A,'Fiche Agence'!$C$2,'CUMUL résultats semaine'!$T:$T),IF(ISBLANK($N$2),SUMIF('CUMUL résultats semaine'!$B:$B,'Fiche Agence'!$H$2,'CUMUL résultats semaine'!$T:$T),SUMIF('CUMUL résultats semaine'!$C:$C,'Fiche Agence'!$N$2,'CUMUL résultats semaine'!$T:$T)))) -> 2888 | AG21: =(IF(ISBLANK($H$2),SUMIF('CUMUL résultats semaine'!$A:$A,'Fiche Agence'!$C$2,'CUMUL résultats semaine'!$AF:$AF),IF(ISBLANK($N$2),SUMIF('CUMUL résultats semaine'!$B:$B,'Fiche Agence'!$H$2,'CUMUL résultats semaine'!$AF:$AF),SUMIF('CUMUL résultats semaine'!$C:$C,'Fiche Agence'!$N$2,'CUMUL résultats semaine'!$AF:$AF)))) -> 2259 | AH21: =(IF(ISBLANK($H$2),SUMIF('CUMUL résultats semaine'!$A:$A,'Fiche Agence'!$C$2,'CUMUL résultats semaine'!$AR:$AR),IF(ISBLANK($N$2),SUMIF('CUMUL résultats semaine'!$B:$B,'Fiche Agence'!$H$2,'CUMUL résultats semaine'!$AR:$AR),SUMIF('CUMUL résultats semaine'!$C:$C,'Fiche Agence'!$N$2,'CUMUL résultats semaine'!$AR:$AR)))) -> 1671 | AI21: =(IF(ISBLANK($H$2),SUMIF('CUMUL résultats semaine'!$A:$A,'Fiche Agence'!$C$2,'CUMUL résultats semaine'!$BD:$BD),IF(ISBLANK($N$2),SUMIF('CUMUL résultats semaine'!$B:$B,'Fiche Agence'!$H$2,'CUMUL résultats semaine'!$BD:$BD),SUMIF('CUMUL résultats semaine'!$C:$C,'Fiche Agence'!$N$2,'CUMUL résultats semaine'!$BD:$BD)))) -> 1498 | AJ21: =(IF(ISBLANK($H$2),SUMIF('CUMUL résultats semaine'!$A:$A,'Fiche Agence'!$C$2,'CUMUL résultats semaine'!$BP:$BP),IF(ISBLANK($N$2),SUMIF('CUMUL résultats semaine'!$B:$B,'Fiche Agence'!$H$2,'CUMUL résultats semaine'!$BP:$BP),SUMIF('CUMUL résultats semaine'!$C:$C,'Fiche Agence'!$N$2,'CUMUL résultats semaine'!$BP:$BP)))) -> #N/A | AK21: =(IF(ISBLANK($H$2),SUMIF('CUMUL résultats semaine'!$A:$A,'Fiche Agence'!$C$2,'CUMUL résultats semaine'!$CC:$CC),IF(ISBLANK($N$2),SUMIF('CUMUL résultats semaine'!$B:$B,'Fiche Agence'!$H$2,'CUMUL résultats semaine'!$CC:$CC),SUMIF('CUMUL résultats semaine'!$C:$C,'Fiche Agence'!$N$2,'CUMUL résultats semaine'!$CC:$CC)))) -> #N/A
X22: aiguille BANCA | Y22: =ROUND((AA23/AB23)*100,1) -> 125.7 | Z22: =IF(Y22>=120,120,Y22) -> 120 | AA22: VB BANCA | AB22: OBJ TOTAL | AD22: RAF 120% | AE22: =(IF(ISBLANK($H$2),SUMIF('CUMUL résultats semaine'!$A:$A,'Fiche Agence'!$C$2,'CUMUL résultats semaine'!$I:$I),IF(ISBLANK($N$2),SUMIF('CUMUL résultats semaine'!$B:$B,'Fiche Agence'!$H$2,'CUMUL résultats semaine'!$I:$I),SUMIF('CUMUL résultats semaine'!$C:$C,'Fiche Agence'!$N$2,'CUMUL résultats semaine'!$I:$I)))) -> 10581 | AF22: =(IF(ISBLANK($H$2),SUMIF('CUMUL résultats semaine'!$A:$A,'Fiche Agence'!$C$2,'CUMUL résultats semaine'!$U:$U),IF(ISBLANK($N$2),SUMIF('CUMUL résultats semaine'!$B:$B,'Fiche Agence'!$H$2,'CUMUL résultats semaine'!$U:$U),SUMIF('CUMUL résultats semaine'!$C:$C,'Fiche Agence'!$N$2,'CUMUL résultats semaine'!$U:$U)))) -> 9663 | AG22: =(IF(ISBLANK($H$2),SUMIF('CUMUL résultats semaine'!$A:$A,'Fiche Agence'!$C$2,'CUMUL résultats semaine'!$AG:$AG),IF(ISBLANK($N$2),SUMIF('CUMUL résultats semaine'!$B:$B,'Fiche Agence'!$H$2,'CUMUL résultats semaine'!$AG:$AG),SUMIF('CUMUL résultats semaine'!$C:$C,'Fiche Agence'!$N$2,'CUMUL résultats semaine'!$AG:$AG)))) -> 8734 | AH22: =(IF(ISBLANK($H$2),SUMIF('CUMUL résultats semaine'!$A:$A,'Fiche Agence'!$C$2,'CUMUL résultats semaine'!$AS:$AS),IF(ISBLANK($N$2),SUMIF('CUMUL résultats semaine'!$B:$B,'Fiche Agence'!$H$2,'CUMUL résultats semaine'!$AS:$AS),SUMIF('CUMUL résultats semaine'!$C:$C,'Fiche Agence'!$N$2,'CUMUL résultats semaine'!$AS:$AS)))) -> 7911 | AI22: =(IF(ISBLANK($H$2),SUMIF('CUMUL résultats semaine'!$A:$A,'Fiche Agence'!$C$2,'CUMUL résultats semaine'!$BE:$BE),IF(ISBLANK($N$2),SUMIF('CUMUL résultats semaine'!$B:$B,'Fiche Agence'!$H$2,'CUMUL résultats semaine'!$BE:$BE),SUMIF('CUMUL résultats semaine'!$C:$C,'Fiche Agence'!$N$2,'CUMUL résultats semaine'!$BE:$BE)))) -> 7188 | AJ22: =(IF(ISBLANK($H$2),SUMIF('CUMUL résultats semaine'!$A:$A,'Fiche Agence'!$C$2,'CUMUL résultats semaine'!$BQ:$BQ),IF(ISBLANK($N$2),SUMIF('CUMUL résultats semaine'!$B:$B,'Fiche Agence'!$H$2,'CUMUL résultats semaine'!$BQ:$BQ),SUMIF('CUMUL résultats semaine'!$C:$C,'Fiche Agence'!$N$2,'CUMUL résultats semaine'!$BQ:$BQ)))) -> #N/A | AK22: =(IF(ISBLANK($H$2),SUMIF('CUMUL résultats semaine'!$A:$A,'Fiche Agence'!$C$2,'CUMUL résultats semaine'!$CD:$CD),IF(ISBLANK($N$2),SUMIF('CUMUL résultats semaine'!$B:$B,'Fiche Agence'!$H$2,'CUMUL résultats semaine'!$CD:$CD),SUMIF('CUMUL résultats semaine'!$C:$C,'Fiche Agence'!$N$2,'CUMUL résultats semaine'!$CD:$CD)))) -> #N/A
X23: largeur | Z23: 1 | AA23: =IF(ISBLANK($H$2),SUMIF('Coller ici dernier suivi PV'!$A:$A,'Fiche Agence'!$C$2,'Coller ici dernier suivi PV'!$Q:$Q),IF(ISBLANK($N$2),SUMIF('Coller ici dernier suivi PV'!$B:$B,'Fiche Agence'!$H$2,'Coller ici dernier suivi PV'!$Q:$Q),SUMIF('Coller ici dernier suivi PV'!$C:$C,'Fiche Agence'!$N$2,'Coller ici dernier suivi PV'!$Q:$Q))) -> 4615 | AB23: =Y5*36 -> 3672.329 | AD23: RAF 100% | AE23: =HLOOKUP(Y1,19:22,3,FALSE) -> 1498
X24: part invisible | Z24: =SUM($Z$11:$Z$14)-(Z23+Z22) -> 119 | AD24: RAF 120% | AE24: =HLOOKUP(Y1,19:22,4,FALSE) -> 7188
G25: MEILLEURE PERFORMANCE HEBDO EN 2021 : | O25: MEILLEURE PERFORMANCE HEBDO EN 2021 : | X25: aiguille ASS VIE | Y25: =ROUND((AA26/AB26)*100,1) -> 115.3 | Z25: =IF(Y25>=120,120,Y25) -> 115.3 | AA25: CA ASS VIE | AB25: OBJ TOTAL
X26: largeur | Z26: 1 | AA26: =IF(ISBLANK($H$2),SUMIF('Coller ici dernier suivi PV'!$A:$A,'Fiche Agence'!$C$2,'Coller ici dernier suivi PV'!$AK:$AK),IF(ISBLANK($N$2),SUMIF('Coller ici dernier suivi PV'!$B:$B,'Fiche Agence'!$H$2,'Coller ici dernier suivi PV'!$AK:$AK),SUMIF('Coller ici dernier suivi PV'!$C:$C,'Fiche Agence'!$N$2,'Coller ici dernier suivi PV'!$AK:$AK))) -> 80327.427 | AB26: =IF(ISBLANK($H$2),SUMIF('Coller ici dernier suivi PV'!$A:$A,'Fiche Agence'!$C$2,'Coller ici dernier suivi PV'!$CD:$CD),IF(ISBLANK($N$2),SUMIF('Coller ici dernier suivi PV'!$B:$B,'Fiche Agence'!$H$2,'Coller ici dernier suivi PV'!$CD:$CD),SUMIF('Coller ici dernier suivi PV'!$C:$C,'Fiche Agence'!$N$2,'Coller ici dernier suivi PV'!$CD:$CD))) -> 69639.248 | AE26: ASS VIE
O27: =ROUND((AF45/1000),1)&" K€" -> 7,4 K€ | X27: part invisible | Z27: =SUM($Z$11:$Z$14)-(Z26+Z25) -> 123.7 | AE27: 0 | AF27: 45 | AG27: 46 | AH27: 47 | AI27: 48 | AJ27: 49 | AK27: 50
AD28: PROD | AE28: =(IF(ISBLANK($H$2),SUMIF('CUMUL résultats semaine'!$A:$A,'Fiche Agence'!$C$2,'CUMUL résultats semaine'!$M:$M),IF(ISBLANK($N$2),SUMIF('CUMUL résultats semaine'!$B:$B,'Fiche Agence'!$H$2,'CUMUL résultats semaine'!$M:$M),SUMIF('CUMUL résultats semaine'!$C:$C,'Fiche Agence'!$N$2,'CUMUL résultats semaine'!$M:$M)))) -> 72345.059 | AF28: =(IF(ISBLANK($H$2),SUMIF('CUMUL résultats semaine'!$A:$A,'Fiche Agence'!$C$2,'CUMUL résultats semaine'!$Y:$Y),IF(ISBLANK($N$2),SUMIF('CUMUL résultats semaine'!$B:$B,'Fiche Agence'!$H$2,'CUMUL résultats semaine'!$Y:$Y),SUMIF('CUMUL résultats semaine'!$C:$C,'Fiche Agence'!$N$2,'CUMUL résultats semaine'!$Y:$Y)))) -> 73649.567 | AG28: =(IF(ISBLANK($H$2),SUMIF('CUMUL résultats semaine'!$A:$A,'Fiche Agence'!$C$2,'CUMUL résultats semaine'!$AK:$AK),IF(ISBLANK($N$2),SUMIF('CUMUL résultats semaine'!$B:$B,'Fiche Agence'!$H$2,'CUMUL résultats semaine'!$AK:$AK),SUMIF('CUMUL résultats semaine'!$C:$C,'Fiche Agence'!$N$2,'CUMUL résultats semaine'!$AK:$AK)))) -> 75117.445 | AH28: =(IF(ISBLANK($H$2),SUMIF('CUMUL résultats semaine'!$A:$A,'Fiche Agence'!$C$2,'CUMUL résultats semaine'!$AW:$AW),IF(ISBLANK($N$2),SUMIF('CUMUL résultats semaine'!$B:$B,'Fiche Agence'!$H$2,'CUMUL résultats semaine'!$AW:$AW),SUMIF('CUMUL résultats semaine'!$C:$C,'Fiche Agence'!$N$2,'CUMUL résultats semaine'!$AW:$AW)))) -> 76121.212 | AI28: =(IF(ISBLANK($H$2),SUMIF('CUMUL résultats semaine'!$A:$A,'Fiche Agence'!$C$2,'CUMUL résultats semaine'!$BI:$BI),IF(ISBLANK($N$2),SUMIF('CUMUL résultats semaine'!$B:$B,'Fiche Agence'!$H$2,'CUMUL résultats semaine'!$BI:$BI),SUMIF('CUMUL résultats semaine'!$C:$C,'Fiche Agence'!$N$2,'CUMUL résultats semaine'!$BI:$BI)))) -> 78878.694 | AJ28: =(IF(ISBLANK($H$2),SUMIF('CUMUL résultats semaine'!$A:$A,'Fiche Agence'!$C$2,'CUMUL résultats semaine'!$BU:$BU),IF(ISBLANK($N$2),SUMIF('CUMUL résultats semaine'!$B:$B,'Fiche Agence'!$H$2,'CUMUL résultats semaine'!$BU:$BU),SUMIF('CUMUL résultats semaine'!$C:$C,'Fiche Agence'!$N$2,'CUMUL résultats semaine'!$BU:$BU)))) -> #N/A | AK28: =(IF(ISBLANK($H$2),SUMIF('CUMUL résultats semaine'!$A:$A,'Fiche Agence'!$C$2,'CUMUL résultats semaine'!$CG:$CG),IF(ISBLANK($N$2),SUMIF('CUMUL résultats semaine'!$B:$B,'Fiche Agence'!$H$2,'CUMUL résultats semaine'!$CG:$CG),SUMIF('CUMUL résultats semaine'!$C:$C,'Fiche Agence'!$N$2,'CUMUL résultats semaine'!$CG:$CG)))) -> #N/A
G29: R à F Entité : | O29: R à F Entité : | AD29: RAF 100% | AE29: =(IF(ISBLANK($H$2),SUMIF('CUMUL résultats semaine'!$A:$A,'Fiche Agence'!$C$2,'CUMUL résultats semaine'!$N:$N),IF(ISBLANK($N$2),SUMIF('CUMUL résultats semaine'!$B:$B,'Fiche Agence'!$H$2,'CUMUL résultats semaine'!$N:$N),SUMIF('CUMUL résultats semaine'!$C:$C,'Fiche Agence'!$N$2,'CUMUL résultats semaine'!$N:$N)))) -> 8361 | AF29: =(IF(ISBLANK($H$2),SUMIF('CUMUL résultats semaine'!$A:$A,'Fiche Agence'!$C$2,'CUMUL résultats semaine'!$Z:$Z),IF(ISBLANK($N$2),SUMIF('CUMUL résultats semaine'!$B:$B,'Fiche Agence'!$H$2,'CUMUL résultats semaine'!$Z:$Z),SUMIF('CUMUL résultats semaine'!$C:$C,'Fiche Agence'!$N$2,'CUMUL résultats semaine'!$Z:$Z)))) -> 7718 | AG29: =(IF(ISBLANK($H$2),SUMIF('CUMUL résultats semaine'!$A:$A,'Fiche Agence'!$C$2,'CUMUL résultats semaine'!$AL:$AL),IF(ISBLANK($N$2),SUMIF('CUMUL résultats semaine'!$B:$B,'Fiche Agence'!$H$2,'CUMUL résultats semaine'!$AL:$AL),SUMIF('CUMUL résultats semaine'!$C:$C,'Fiche Agence'!$N$2,'CUMUL résultats semaine'!$AL:$AL)))) -> 6527 | AH29: =(IF(ISBLANK($H$2),SUMIF('CUMUL résultats semaine'!$A:$A,'Fiche Agence'!$C$2,'CUMUL résultats semaine'!$AX:$AX),IF(ISBLANK($N$2),SUMIF('CUMUL résultats semaine'!$B:$B,'Fiche Agence'!$H$2,'CUMUL résultats semaine'!$AX:$AX),SUMIF('CUMUL résultats semaine'!$C:$C,'Fiche Agence'!$N$2,'CUMUL résultats semaine'!$AX:$AX)))) -> 6067 | AI29: =(IF(ISBLANK($H$2),SUMIF('CUMUL résultats semaine'!$A:$A,'Fiche Agence'!$C$2,'CUMUL résultats semaine'!$BJ:$BJ),IF(ISBLANK($N$2),SUMIF('CUMUL résultats semaine'!$B:$B,'Fiche Agence'!$H$2,'CUMUL résultats semaine'!$BJ:$BJ),SUMIF('CUMUL résultats semaine'!$C:$C,'Fiche Agence'!$N$2,'CUMUL résultats semaine'!$BJ:$BJ)))) -> 5414 | AJ29: =(IF(ISBLANK($H$2),SUMIF('CUMUL résultats semaine'!$A:$A,'Fiche Agence'!$C$2,'CUMUL résultats semaine'!$BV:$BV),IF(ISBLANK($N$2),SUMIF('CUMUL résultats semaine'!$B:$B,'Fiche Agence'!$H$2,'CUMUL résultats semaine'!$BV:$BV),SUMIF('CUMUL résultats semaine'!$C:$C,'Fiche Agence'!$N$2,'CUMUL résultats semaine'!$BV:$BV)))) -> #N/A | AK29: =(IF(ISBLANK($H$2),SUMIF('CUMUL résultats semaine'!$A:$A,'Fiche Agence'!$C$2,'CUMUL résultats semaine'!$CH:$CH),IF(ISBLANK($N$2),SUMIF('CUMUL résultats semaine'!$B:$B,'Fiche Agence'!$H$2,'CUMUL résultats semaine'!$CH:$CH),SUMIF('CUMUL résultats semaine'!$C:$C,'Fiche Agence'!$N$2,'CUMUL résultats semaine'!$CH:$CH)))) -> #N/A
H30: 1 | P30: 1 | AD30: RAF 120% | AE30: =(IF(ISBLANK($H$2),SUMIF('CUMUL résultats semaine'!$A:$A,'Fiche Agence'!$C$2,'CUMUL résultats semaine'!$O:$O),IF(ISBLANK($N$2),SUMIF('CUMUL résultats semaine'!$B:$B,'Fiche Agence'!$H$2,'CUMUL résultats semaine'!$O:$O),SUMIF('CUMUL résultats semaine'!$C:$C,'Fiche Agence'!$N$2,'CUMUL résultats semaine'!$O:$O)))) -> 16218 | AF30: =(IF(ISBLANK($H$2),SUMIF('CUMUL résultats semaine'!$A:$A,'Fiche Agence'!$C$2,'CUMUL résultats semaine'!$AA:$AA),IF(ISBLANK($N$2),SUMIF('CUMUL résultats semaine'!$B:$B,'Fiche Agence'!$H$2,'CUMUL résultats semaine'!$AA:$AA),SUMIF('CUMUL résultats semaine'!$C:$C,'Fiche Agence'!$N$2,'CUMUL résultats semaine'!$AA:$AA)))) -> 15354 | AG30: =(IF(ISBLANK($H$2),SUMIF('CUMUL résultats semaine'!$A:$A,'Fiche Agence'!$C$2,'CUMUL résultats semaine'!$AM:$AM),IF(ISBLANK($N$2),SUMIF('CUMUL résultats semaine'!$B:$B,'Fiche Agence'!$H$2,'CUMUL résultats semaine'!$AM:$AM),SUMIF('CUMUL résultats semaine'!$C:$C,'Fiche Agence'!$N$2,'CUMUL résultats semaine'!$AM:$AM)))) -> 13698 | AH30: =(IF(ISBLANK($H$2),SUMIF('CUMUL résultats semaine'!$A:$A,'Fiche Agence'!$C$2,'CUMUL résultats semaine'!$AY:$AY),IF(ISBLANK($N$2),SUMIF('CUMUL résultats semaine'!$B:$B,'Fiche Agence'!$H$2,'CUMUL résultats semaine'!$AY:$AY),SUMIF('CUMUL résultats semaine'!$C:$C,'Fiche Agence'!$N$2,'CUMUL résultats semaine'!$AY:$AY)))) -> 13086 | AI30: =(IF(ISBLANK($H$2),SUMIF('CUMUL résultats semaine'!$A:$A,'Fiche Agence'!$C$2,'CUMUL résultats semaine'!$BK:$BK),IF(ISBLANK($N$2),SUMIF('CUMUL résultats semaine'!$B:$B,'Fiche Agence'!$H$2,'CUMUL résultats semaine'!$BK:$BK),SUMIF('CUMUL résultats semaine'!$C:$C,'Fiche Agence'!$N$2,'CUMUL résultats semaine'!$BK:$BK)))) -> 12165 | AJ30: =(IF(ISBLANK($H$2),SUMIF('CUMUL résultats semaine'!$A:$A,'Fiche Agence'!$C$2,'CUMUL résultats semaine'!$BW:$BW),IF(ISBLANK($N$2),SUMIF('CUMUL résultats semaine'!$B:$B,'Fiche Agence'!$H$2,'CUMUL résultats semaine'!$BW:$BW),SUMIF('CUMUL résultats semaine'!$C:$C,'Fiche Agence'!$N$2,'CUMUL résultats semaine'!$BW:$BW)))) -> #N/A | AK30: =(IF(ISBLANK($H$2),SUMIF('CUMUL résultats semaine'!$A:$A,'Fiche Agence'!$C$2,'CUMUL résultats semaine'!$CI:$CI),IF(ISBLANK($N$2),SUMIF('CUMUL résultats semaine'!$B:$B,'Fiche Agence'!$H$2,'CUMUL résultats semaine'!$CI:$CI),SUMIF('CUMUL résultats semaine'!$C:$C,'Fiche Agence'!$N$2,'CUMUL résultats semaine'!$CI:$CI)))) -> #N/A
C31: =Y22&"%" -> 125,7% | H31: 1.2 | K31: =Y19&"%" -> 109,6% | P31: 1.2 | X31: NB_CARTES | Y31: =IF(ISBLANK($H$2),SUMIF(TAUX_DD_HDG!$A:$A,'Fiche Agence'!$C$2,TAUX_DD_HDG!$E:$E),IF(ISBLANK($N$2),SUMIF(TAUX_DD_HDG!$B:$B,'Fiche Agence'!$H$2,TAUX_DD_HDG!$E:$E),SUMIF(TAUX_DD_HDG!$C:$C,'Fiche Agence'!$N$2,TAUX_DD_HDG!$E:$E))) -> 12364 | AD31: RAF 100% | AE31: =HLOOKUP(Y1,27:30,3,FALSE) -> 5414
X32: NB_HDG | Y32: =IF(ISBLANK($H$2),SUMIF(TAUX_DD_HDG!$A:$A,'Fiche Agence'!$C$2,TAUX_DD_HDG!$F:$F),IF(ISBLANK($N$2),SUMIF(TAUX_DD_HDG!$B:$B,'Fiche Agence'!$H$2,TAUX_DD_HDG!$F:$F),SUMIF(TAUX_DD_HDG!$C:$C,'Fiche Agence'!$N$2,TAUX_DD_HDG!$F:$F))) -> 5120 | AD32: RAF 120% | AE32: =HLOOKUP(Y1,27:30,4,FALSE) -> 12165
D33: Reste à faire hebdo par ETP pour atteindre l'objectif | L33: Reste à faire hebdo par ETP pour atteindre l'obj (K€) | X33: NB_DD | Y33: =IF(ISBLANK($H$2),SUMIF(TAUX_DD_HDG!$A:$A,'Fiche Agence'!$C$2,TAUX_DD_HDG!$G:$G),IF(ISBLANK($N$2),SUMIF(TAUX_DD_HDG!$B:$B,'Fiche Agence'!$H$2,TAUX_DD_HDG!$G:$G),SUMIF(TAUX_DD_HDG!$C:$C,'Fiche Agence'!$N$2,TAUX_DD_HDG!$G:$G))) -> 3462
D34: S45 | E34: S46 | F34: S47 | G34: S48 | H34: S49 | I34: S50 | L34: S45 | M34: S46 | N34: S47 | O34: S48 | P34: S49 | Q34: S50 | X34: TAUX HDG | Y34: =Y32/Y31 -> 0.41410547 | AD34: R à F entité | AE34: iard | AF34: banca | AG34: conso | AH34: ass vie
C35: Obj 100% | D35: =(AE13/$Y$5)/6 -> 0.14051029 | E35: =IF(ISNUMBER(D$37),((AF13/$Y$5)/5),D35) -> 0.14312443 | F35: =IF(ISNUMBER(E$37),((AG13/$Y$5)/4),E35) -> 0.1249888 | G35: =IF(ISNUMBER(F$37),((AH13/$Y$5)/3),F35) -> 0.15684869 | H35: =IF(ISNUMBER(G$37),((AI13/$Y$5)/2),G35) -> 0.20096239 | I35: =IF(ISNUMBER(H$37),((AJ13/$Y$5)/1),H35) -> 0.20096239 | K35: Obj 100% | L35: =(AE21/$Y$5)/6 -> 5.512578 | M35: =IF(ISNUMBER(L$37),((AF21/$Y$5)/5),L35) -> 5.6622378 | N35: =IF(ISNUMBER(M$37),((AG21/$Y$5)/4),M35) -> 5.5362687 | O35: =IF(ISNUMBER(N$37),((AH21/$Y$5)/3),N35) -> 5.4602951 | P35: =IF(ISNUMBER(O$37),((AI21/$Y$5)/2),O35) -> 7.3424794 | Q35: =IF(ISNUMBER(P$37),((AJ21/$Y$5)/1),P35) -> 7.3424794 | X35: TAUX DD | Y35: =Y33/Y31 -> 0.28000647 | AD35: 1 | AE35: =AE7 -> 708 | AF35: =AE15 -> 41 | AG35: =AE23 -> 1498 | AH35: =AE31 -> 5414
C36: Obj 120% | D36: =(AE14/$Y$5)/6 -> 0.51956129 | E36: =IF(ISNUMBER(D$37),((AF14/$Y$5)/5),D36) -> 0.57445833 | F36: =IF(ISNUMBER(E$37),((AG14/$Y$5)/4),E36) -> 0.59553488 | G36: =IF(ISNUMBER(F$37),((AH14/$Y$5)/3),F36) -> 0.73522824 | H36: =IF(ISNUMBER(G$37),((AI14/$Y$5)/2),G36) -> 0.95579672 | I36: =IF(ISNUMBER(H$37),((AJ14/$Y$5)/1),H36) -> 0.95579672 | K36: Obj 120% | L36: =(AE22/$Y$5)/6 -> 17.287667 | M36: =IF(ISNUMBER(L$37),((AF22/$Y$5)/5),L36) -> 18.945361 | N36: =IF(ISNUMBER(M$37),((AG22/$Y$5)/4),M36) -> 21.404945 | O36: =IF(ISNUMBER(N$37),((AH22/$Y$5)/3),N36) -> 25.850625 | P36: =IF(ISNUMBER(O$37),((AI22/$Y$5)/2),O36) -> 35.232137 | Q36: =IF(ISNUMBER(P$37),((AJ22/$Y$5)/1),P36) -> 35.232137 | X36: DECILE HDG | Y36: =PERCENTILE(TAUX_DD_HDG!H:H,0.9) -> 0.55101545 | AD36: 1.2 | AE36: =AE8 -> 3816 | AF36: =AE16 -> 195 | AG36: =AE24 -> 7188 | AH36: =AE32 -> 12165
C37: Réal. / ETP | D37: =IF(ISNUMBER(AF12),((AF12-AE12)/$Y$5),"-") -> 0.71562216 | E37: =IF(ISNUMBER(AG12),((AG12-AF12)/$Y$5),"-") -> 0.78424346 | F37: =IF(ISNUMBER(AH12),((AH12-AG12)/$Y$5),"-") -> 0.53916738 | G37: =IF(ISNUMBER(AI12),((AI12-AH12)/$Y$5),"-") -> 0.77444042 | H37: =IF(ISNUMBER(AJ12),((AJ12-AI12)/$Y$5),"-") -> - | I37: =IF(ISNUMBER(AK12),((AK12-AJ12)/$Y$5),"-") -> - | K37: Réal. / ETP | L37: =IF(ISNUMBER(AF20),((AF20-AE20)/$Y$5),"-") -> 10.59069 | M37: =IF(ISNUMBER(AG20),((AG20-AF20)/$Y$5),"-") -> 7.2595688 | N37: =IF(ISNUMBER(AH20),((AH20-AG20)/$Y$5),"-") -> 11.835526 | O37: =IF(ISNUMBER(AI20),((AI20-AH20)/$Y$5),"-") -> 8.4315282 | P37: =IF(ISNUMBER(AJ20),((AJ20-AI20)/$Y$5),"-") -> - | Q37: =IF(ISNUMBER(AK20),((AK20-AJ20)/$Y$5),"-") -> - | X37: DECILE DD | Y37: =PERCENTILE(TAUX_DD_HDG!I:I,0.9) -> 0.43234892 | AG37: =AE23&" K€" -> 1498 K€ | AH37: =AE31&" K€" -> 5414 K€
AG38: =AE24&" K€"&" K€" -> 7188 K€ K€ | AH38: =AE32&" K€" -> 12165 K€
X41: MEILLEURES PERF 2021 AGENCES | AA41: MEILLEURES PERF 2021 TERRI REGI
X43: FORFAITS | Y43: =IF(ISBLANK($H$2),SUMIF(Meilleures_perf_2021_AGENCE!$A:$A,'Fiche Agence'!$C$2,Meilleures_perf_2021_AGENCE!$G:$G),IF(ISBLANK($N$2),SUMIF(Meilleures_perf_2021_AGENCE!$B:$B,'Fiche Agence'!$H$2,Meilleures_perf_2021_AGENCE!$G:$G),SUMIF(Meilleures_perf_2021_AGENCE!$C:$C,'Fiche Agence'!$N$2,Meilleures_perf_2021_AGENCE!$G:$G))) -> 55.998475 | AA43: FORFAITS | AB43: =IF(ISBLANK($H$2),SUMIF(Meilleures_perf_2021_TERRI_REGI!$A:$A,'Fiche Agence'!$C$2,Meilleures_perf_2021_TERRI_REGI!$G:$G),IF(ISBLANK($N$2),SUMIF(Meilleures_perf_2021_TERRI_REGI!$B:$B,'Fiche Agence'!$H$2,Meilleures_perf_2021_TERRI_REGI!$G:$G),SUMIF(Meilleures_perf_2021_TERRI_REGI!$C:$C,'Fiche Agence'!$N$2,Meilleures_perf_2021_TERRI_REGI!$G:$G))) -> 55.998475 | AC43: =AB43/$Y$5 -> 0.54895548 | AE43: FORFAITS | AF43: =IF(ISBLANK($H$2),AC43,IF(ISBLANK($N$2),AC43,SUMIF(Meilleures_perf_2021_AGENCE!$C:$C,'Fiche Agence'!$N$2,Meilleures_perf_2021_AGENCE!$G:$G))) -> 0.54895548
K44: ATTENDU : 1,5 VB / ETP DU 1ER SEPTEMBRE AU 18 DECEMBRE | X44: IARD_PREV | Y44: =IF(ISBLANK($H$2),SUMIF(Meilleures_perf_2021_AGENCE!$A:$A,'Fiche Agence'!$C$2,Meilleures_perf_2021_AGENCE!$E:$E),IF(ISBLANK($N$2),SUMIF(Meilleures_perf_2021_AGENCE!$B:$B,'Fiche Agence'!$H$2,Meilleures_perf_2021_AGENCE!$E:$E),SUMIF(Meilleures_perf_2021_AGENCE!$C:$C,'Fiche Agence'!$N$2,Meilleures_perf_2021_AGENCE!$E:$E))) -> 83.351244 | AA44: IARD_PREV | AB44: =IF(ISBLANK($H$2),SUMIF(Meilleures_perf_2021_TERRI_REGI!$A:$A,'Fiche Agence'!$C$2,Meilleures_perf_2021_TERRI_REGI!$E:$E),IF(ISBLANK($N$2),SUMIF(Meilleures_perf_2021_TERRI_REGI!$B:$B,'Fiche Agence'!$H$2,Meilleures_perf_2021_TERRI_REGI!$E:$E),SUMIF(Meilleures_perf_2021_TERRI_REGI!$C:$C,'Fiche Agence'!$N$2,Meilleures_perf_2021_TERRI_REGI!$E:$E))) -> 83.351244 | AC44: =AB44/$Y$5 -> 0.81709585 | AE44: IARD_PREV | AF44: =IF(ISBLANK($H$2),AC44,IF(ISBLANK($N$2),AC44,SUMIF(Meilleures_perf_2021_AGENCE!$C:$C,'Fiche Agence'!$N$2,Meilleures_perf_2021_AGENCE!$E:$E))) -> 0.81709585
G45: MEILLEURE PERFORMANCE HEBDO EN 2021: | X45: CONSO | Y45: =IF(ISBLANK($H$2),SUMIF(Meilleures_perf_2021_AGENCE!$A:$A,'Fiche Agence'!$C$2,Meilleures_perf_2021_AGENCE!$F:$F),IF(ISBLANK($N$2),SUMIF(Meilleures_perf_2021_AGENCE!$B:$B,'Fiche Agence'!$H$2,Meilleures_perf_2021_AGENCE!$F:$F),SUMIF(Meilleures_perf_2021_AGENCE!$C:$C,'Fiche Agence'!$N$2,Meilleures_perf_2021_AGENCE!$F:$F))) -> 758300.89 | AA45: CONSO | AB45: =IF(ISBLANK($H$2),SUMIF(Meilleures_perf_2021_TERRI_REGI!$A:$A,'Fiche Agence'!$C$2,Meilleures_perf_2021_TERRI_REGI!$F:$F),IF(ISBLANK($N$2),SUMIF(Meilleures_perf_2021_TERRI_REGI!$B:$B,'Fiche Agence'!$H$2,Meilleures_perf_2021_TERRI_REGI!$F:$F),SUMIF(Meilleures_perf_2021_TERRI_REGI!$C:$C,'Fiche Agence'!$N$2,Meilleures_perf_2021_TERRI_REGI!$F:$F))) -> 758300.89 | AC45: =AB45/$Y$5 -> 7433.6564 | AE45: CONSO | AF45: =IF(ISBLANK($H$2),AC45,IF(ISBLANK($N$2),AC45,SUMIF(Meilleures_perf_2021_AGENCE!$C:$C,'Fiche Agence'!$N$2,Meilleures_perf_2021_AGENCE!$F:$F))) -> 7433.6564
X46: ASS VIE | Y46: =IF(ISBLANK($H$2),SUMIF(Meilleures_perf_2021_AGENCE!$A:$A,'Fiche Agence'!$C$2,Meilleures_perf_2021_AGENCE!$H:$H),IF(ISBLANK($N$2),SUMIF(Meilleures_perf_2021_AGENCE!$B:$B,'Fiche Agence'!$H$2,Meilleures_perf_2021_AGENCE!$H:$H),SUMIF(Meilleures_perf_2021_AGENCE!$C:$C,'Fiche Agence'!$N$2,Meilleures_perf_2021_AGENCE!$H:$H))) -> 1640999.8 | AA46: ASS VIE | AB46: =IF(ISBLANK($H$2),SUMIF(Meilleures_perf_2021_TERRI_REGI!$A:$A,'Fiche Agence'!$C$2,Meilleures_perf_2021_TERRI_REGI!$H:$H),IF(ISBLANK($N$2),SUMIF(Meilleures_perf_2021_TERRI_REGI!$B:$B,'Fiche Agence'!$H$2,Meilleures_perf_2021_TERRI_REGI!$H:$H),SUMIF(Meilleures_perf_2021_TERRI_REGI!$C:$C,'Fiche Agence'!$N$2,Meilleures_perf_2021_TERRI_REGI!$H:$H))) -> 1640999.8 | AC46: =AB46/$Y$5 -> 16086.792 | AE46: ASS VIE | AF46: =IF(ISBLANK($H$2),AC46,IF(ISBLANK($N$2),AC46,SUMIF(Meilleures_perf_2021_AGENCE!$C:$C,'Fiche Agence'!$N$2,Meilleures_perf_2021_AGENCE!$H:$H))) -> 16086.792
K47: REAL DEPUIS LE 01/09 | N47: % | O47: RESTE A FAIRE
G48: =ROUND((AF46/1000),1)&" K€" -> 16,1 K€ | K48: ENTITE | M48: PAR ETP | N48: =K49/(1.5*Y5*(16-Y3)) -> 0.017272029 | O48: ENTITE | Q48: PAR ETP
K49: =IF(ISBLANK($H$2),SUMIF(PROD_AUTO5_PREV_PERI_PART_SOC!$A:$A,'Fiche Agence'!$C$2,PROD_AUTO5_PREV_PERI_PART_SOC!$G:$G),IF(ISBLANK($N$2),SUMIF(PROD_AUTO5_PREV_PERI_PART_SOC!$B:$B,'Fiche Agence'!$H$2,PROD_AUTO5_PREV_PERI_PART_SOC!$G:$G),SUMIF(PROD_AUTO5_PREV_PERI_PART_SOC!$D:$D,'Fiche Agence'!$N$2,PROD_AUTO5_PREV_PERI_PART_SOC!$G:$G))) -> 37 | M49: =K49/(IF(ISBLANK($H$2),SUMIF(ETP_Challenge!$A:$A,'Fiche Agence'!$C$2,ETP_Challenge!$E:$E),IF(ISBLANK($N$2),SUMIF(ETP_Challenge!$B:$B,'Fiche Agence'!$H$2,ETP_Challenge!$E:$E),SUMIF(ETP_Challenge!$D:$D,'Fiche Agence'!$N$2,ETP_Challenge!$E:$E)))) -> 0.3627126 | O49: =IF(((ROUND(1.5*Y5,1) - K49))<=0,0,((ROUND(1.5*Y5,1) - K49))) -> 116 | Q49: =O49/Y5 -> 1.137153
G50: R à F Entité :
C51: =Y25&"%" -> 115,3% | H51: 1
H52: 1.2
D54: Reste à faire hebdo par ETP pour atteindre l'obj (K€) | K54: ATTENDU | N54: =IF(ISBLANK($H$2),SUMIF(GEDEL!$A:$A,'Fiche Agence'!$C$2,GEDEL!$F:$F),IF(ISBLANK($N$2),SUMIF(GEDEL!$B:$B,'Fiche Agence'!$H$2,GEDEL!$F:$F),SUMIF(GEDEL!$C:$C,'Fiche Agence'!$N$2,GEDEL!$F:$F))) -> 1278066
D55: S45 | E55: S46 | F55: S47 | G55: S48 | H55: S49 | I55: S50 | K55: DU 1ER SEPTEMBRE AU 18 DECEMBRE
C56: Obj 100% | D56: =(AE29/$Y$5)/6 -> 13.660541 | E56: =IF(ISNUMBER(D$58),((AF29/$Y$5)/5),D56) -> 15.131978 | F56: =IF(ISNUMBER(E$58),((AG29/$Y$5)/4),E56) -> 15.996116 | G56: =IF(ISNUMBER(F$58),((AH29/$Y$5)/3),F56) -> 19.825021 | H56: =IF(ISNUMBER(G$58),((AI29/$Y$5)/2),G56) -> 26.536838 | I56: =IF(ISNUMBER(H$58),((AJ29/$Y$5)/1),H56) -> 26.536838 | K56: REAL DEPUIS LE 01/09 | N56: % SAIS. | T56: RàF total | U56: RàF hebdo
C57: Obj 120% | D57: =(AE30/$Y$5)/6 -> 26.497626 | E57: =IF(ISNUMBER(D$58),((AF30/$Y$5)/5),D57) -> 30.103185 | F57: =IF(ISNUMBER(E$58),((AG30/$Y$5)/4),E57) -> 33.570522 | G57: =IF(ISNUMBER(F$58),((AH30/$Y$5)/3),F57) -> 42.760875 | H57: =IF(ISNUMBER(G$58),((AI30/$Y$5)/2),G57) -> 59.627011 | I57: =IF(ISNUMBER(H$58),((AJ30/$Y$5)/1),H57) -> 59.627011 | K57: ENTITE | M57: PAR ETP | N57: =K58/(N54*(16-Y3)) -> 0.015573754 | T57: =(N54-K58) -> 999406 | U57: =(N54-K58)/Y3 -> 499703
C58: Réal. / ETP | D58: =IF(ISNUMBER(AF28),((AF28-AE28)/$Y$5),"-") -> 12.788146 | E58: =IF(ISNUMBER(AG28),((AG28-AF28)/$Y$5),"-") -> 14.389674 | F58: =IF(ISNUMBER(AH28),((AH28-AG28)/$Y$5),"-") -> 9.8399664 | G58: =IF(ISNUMBER(AI28),((AI28-AH28)/$Y$5),"-") -> 27.031717 | H58: =IF(ISNUMBER(AJ28),((AJ28-AI28)/$Y$5),"-") -> - | I58: =IF(ISNUMBER(AK28),((AK28-AJ28)/$Y$5),"-") -> - | K58: =IF(ISBLANK($H$2),SUMIF(GEDEL!$A:$A,'Fiche Agence'!$C$2,GEDEL!$G:$G),IF(ISBLANK($N$2),SUMIF(GEDEL!$B:$B,'Fiche Agence'!$H$2,GEDEL!$G:$G),SUMIF(GEDEL!$C:$C,'Fiche Agence'!$N$2,GEDEL!$G:$G))) -> 278660 | M58: =K58/(IF(ISBLANK($H$2),SUMIF(ETP_Challenge!$A:$A,'Fiche Agence'!$C$2,ETP_Challenge!$E:$E),IF(ISBLANK($N$2),SUMIF(ETP_Challenge!$B:$B,'Fiche Agence'!$H$2,ETP_Challenge!$E:$E),SUMIF(ETP_Challenge!$D:$D,'Fiche Agence'!$N$2,ETP_Challenge!$E:$E)))) -> 2731.716 | T58: =T57/Y5 -> 9797.2203 | U58: =U57/Y5 -> 4898.6101
C63: ATTENDU | G63: =IF(ISBLANK($H$2),SUMIF(OBJ_PARTS_SOC!$A:$A,'Fiche Agence'!$C$2,OBJ_PARTS_SOC!$I:$I),IF(ISBLANK($N$2),SUMIF(OBJ_PARTS_SOC!$B:$B,'Fiche Agence'!$H$2,OBJ_PARTS_SOC!$I:$I),SUMIF(OBJ_PARTS_SOC!$D:$D,'Fiche Agence'!$N$2,OBJ_PARTS_SOC!$I:$I))) -> 1000000 | J63: REAL DEPUIS LE 01/11 | M63: % SAIS.
J64: ENTITE | L64: PAR ETP | M64: =J65/(G63*(7-Y3)) -> 0.14622 | T64: RàF total | U64: RàF hebdo
C65: DU 1ER NOVEMBRE AU 31 DECEMBRE | J65: =IF(ISBLANK($H$2),SUMIF(PROD_AUTO5_PREV_PERI_PART_SOC!$A:$A,'Fiche Agence'!$C$2,PROD_AUTO5_PREV_PERI_PART_SOC!$H:$H),IF(ISBLANK($N$2),SUMIF(PROD_AUTO5_PREV_PERI_PART_SOC!$B:$B,'Fiche Agence'!$H$2,PROD_AUTO5_PREV_PERI_PART_SOC!$H:$H),SUMIF(PROD_AUTO5_PREV_PERI_PART_SOC!$D:$D,'Fiche Agence'!$N$2,PROD_AUTO5_PREV_PERI_PART_SOC!$H:$H))) -> 731100 | L65: =J65/(IF(ISBLANK($H$2),SUMIF(ETP_Challenge!$A:$A,'Fiche Agence'!$C$2,ETP_Challenge!$E:$E),IF(ISBLANK($N$2),SUMIF(ETP_Challenge!$B:$B,'Fiche Agence'!$H$2,ETP_Challenge!$E:$E),SUMIF(ETP_Challenge!$D:$D,'Fiche Agence'!$N$2,ETP_Challenge!$E:$E)))) -> 7167.0049 | T65: =(G63-J65) -> 268900 | U65: =(G63-J65)/Y3 -> 134450
T66: =T65/Y5 -> 2636.0383 | U66: =U65/Y5 -> 1318.0192
X75: Jauge
X76: 0 - 79% | Z76: 80
X77: 80% - 90% | Z77: 10
X78: 91% - 150% | Z78: 60
Z79: 150
X81: aiguille IARD | Y81: =ROUND((AA82/AB82)*100,1) -> 90.9 | Z81: =IF(Y81>=120,120,Y81) -> 90.9 | AA81: VB IARD | AB81: OBJ TOTAL
X82: largeur | Z82: 1 | AA82: =IF(ISBLANK($H$2),SUMIF('Coller ici dernier suivi PV'!$A:$A,'Fiche Agence'!$C$2,'Coller ici dernier suivi PV'!$BE:$BE),IF(ISBLANK($N$2),SUMIF('Coller ici dernier suivi PV'!$B:$B,'Fiche Agence'!$H$2,'Coller ici dernier suivi PV'!$BE:$BE),SUMIF('Coller ici dernier suivi PV'!$C:$C,'Fiche Agence'!$N$2,'Coller ici dernier suivi PV'!$BE:$BE))) -> 6027.4 | AB82: =Y5*65 -> 6630.594
X83: part invisible | Z83: =SUM($Z$76:$Z$79)-(Z82+Z81) -> 208.1

Sheet Coller ici dernier suivi PV
A2: REGIONS | B2: TERRITOIRES | C2: AGENCES | D2: ETP Perf moyen annuel | F2: Taux PV sais. (max 9%) | G2: Taux PV annuel (max 9%) | I2: Nb items > 100% de l'objectif sais. | J2: Nb items > 100% de l'objectif annuel | L2: Satisfaction - TS- I Facilité à Joindre | Q2: Ventes brutes Forfaits hors Transformations depuis le 01/01 | AA2: VB Epargne | AK2: CA Assurance Vie (en K€) | AU2: Engagements nets Crédit Conso depuis le 01/01 (en K€) | BE2: IARD & Prévoyance | BO2: Evolution nette Top CC | BY2: RPM
L3: Données arrêtées au 31/10/21 - Tx PV max : 2% | Q3: Au 06/12/21 - Saisonnalité attendue : 100% - Tx PV max : 1% | AA3: Au 06/12/21 - Saisonnalité attendue : 100% - Tx PV max : 1% | AK3: Au 05/12/21 - Saisonnalité attendue : 100% - Tx PV max : 1% | AU3: Au 04/12/21 - Saisonnalité attendue : 100% - Tx PV max : 1,5% | BE3: Au 05/12/21 - Saisonnalité attendue : 100% - Tx PV max : 3% | BO3: Au 05/12/21 - Saisonnalité attendue : 100% - Tx PV max : 0,75% | BY3: Données arrêtées à fin 10/2021 - Tx PV max : 0,25%
L4: Tendance 20 dern. rép. au 06/12 | M4: TS-I moyenne mens. | N4: Obj. | O4: Taux PV | Q4: VB Forf | R4: Réal. / ETP | S4: Obj / ETP | T4: % Réal. | U4: Ecart / 120% de l'attendu | V4: Taux PV sais. | W4: Taux PV | X4: RàF pour 100% | Y4: RàF pour 120% | AA4: VB Epargne Pondérées | AB4: Réal. / ETP | AC4: Obj / ETP | AD4: % Réal. | AE4: Ecart / 120% de l'attendu | AF4: Taux PV sais. | AG4: Taux PV | AH4: RàF pour 100% | AI4: RàF pour 120% | AK4: Chiffre d'Affaires | AL4: Réal. / ETP | AM4: Obj / ETP | AN4: % Réal. | AO4: Ecart / 120% de l'attendu | AP4: Taux PV sais. | AQ4: Taux PV | AR4: RàF pour 100% | AS4: RàF pour 120% | AU4: Engag. nets Conso | AV4: Réal. / ETP | AW4: Obj / ETP | AX4: % Réal. | AY4: Ecart / 120% de l'attendu | AZ4: Taux PV sais. | BA4: Taux PV | BB4: RàF pour 100% | BC4: RàF pour 120% | BE4: VB Iard Prev Pondérées | BF4: Réal. / ETP | BG4: Obj / ETP | BH4: % Réal. | BI4: Ecart / 150% de l'attendu | BJ4: Taux PV sais. | BK4: Taux PV | BL4: RàF pour 90% | BM4: RàF pour 150% | BO4: Evol. CC Verts | BP4: Réal. / ETP | BQ4: Obj / ETP | BR4: % Réal. | BS4: Ecart / 120% de l'attendu | BT4: Taux PV sais. | BU4: Taux PV | BV4: RàF pour 100% | BW4: RàF pour 120% | BY4: Taux trait. RPM | BZ4: Taux trait. Risques Maj. | CA4: Taux pondéré | CB4: Obj | CC4: Taux PV
D5: Au 09/21 | F5: info | G5: info | I5: info | J5: info | CD5: OBJ ASS VIE
A6: AUBE_HAUTE_MARNE | B6: CHAUMONT | C6: CHAUMONT HOTEL DE VILLE | D6: 9.3793056 | F6: 0.05475 | G6: 0.05475 | I6: 6 | J6: 6 | L6: 0.5948 | M6: 0.55 | N6: 0.7 | Q6: 460 | R6: 49.044143 | S6: 36 | T6: 1.3623373 | U6: 54.814 | V6: 0.01 | W6: 0.01 | X6: 0 | Y6: 0 | AA6: 1124 | AB6: 119.8383 | AC6: 200 | AD6: 0.59919148 | AE6: -1127.0333 | AH6: 752 | AI6: 1128 | AK6: 8979.4578 | AL6: 957.36915 | AM6: 686.1 | AN6: 1.3953784 | AO6: 1257.2879 | AP6: 0.01 | AQ6: 0.01 | AR6: 0 | AS6: 0 | AU6: 6931.5825 | AV6: 739.02939 | AW6: 573 | AX6: 1.2897546 | AY6: 482.37196 | AZ6: 0.015 | BA6: 0.015 | BB6: 0 | BC6: 0 | BE6: 627.5 | BF6: 66.902608 | BG6: 65 | BH6: 1.0292709 | BI6: -286.98229 | BJ6: 0.00975 | BK6: 0.00975 | BL6: 0 | BM6: 287 | BO6: 924 | BP6: 98.514756 | BQ6: 78 | BR6: 1.2630097 | BS6: 46.097 | BT6: 0.0075 | BU6: 0.0075 | BV6: 0 | BW6: 0 | BY6: 0.99829121 | BZ6: 1 | CA6: 0.99931649 | CB6: 0.9 | CC6: 0.0025 | CD6: =D6*AM6 -> 6435.1415
A7: AUBE_HAUTE_MARNE | B7: CHAUMONT | C7: CHAUMONT REPUBLIQUE | D7: 3.2752915 | F7: 0.07575 | G7: 0.07575 | I7: 7 | J7: 7 | L7: 0.94 | M7: 0.721 | N7: 0.7 | O7: 0.003 | Q7: 170 | R7: 51.903777 | S7: 36 | T7: 1.4417716 | U7: 28.507408 | V7: 0.01 | W7: 0.01 | X7: 0 | Y7: 0 | AA7: 441 | AB7: 134.6445 | AC7: 200 | AD7: 0.67322252 | AE7: -345.06996 | AH7: 215 | AI7: 346 | AK7: 3124.7238 | AL7: 954.02924 | AM7: 612 | AN7: 1.5588713 | AO7: 719.34977 | AP7: 0.01 | AQ7: 0.01 | AR7: 0 | AS7: 0 | AU7: 2487.2423 | AV7: 759.39571 | AW7: 573 | AX7: 1.3252979 | AY7: 235.15189 | AZ7: 0.015 | BA7: 0.015 | BB7: 0 | BC7: 0 | BE7: 307.4 | BF7: 93.854242 | BG7: 65 | BH7: 1.4439114 | BI7: -11.94092 | BJ7: 0.02775 | BK7: 0.02775 | BL7: 0 | BM7: 12 | BO7: 361 | BP7: 110.2192 | BQ7: 78 | BR7: 1.4130666 | BS7: 54.432717 | BT7: 0.0075 | BU7: 0.0075 | BV7: 0 | BW7: 0 | BY7: 0.99830278 | BZ7: 1 | CA7: 0.99932111 | CB7: 0.9 | CC7: 0.0025 | CD7: =D7*AM7 -> 2004.4784
A8: AUBE_HAUTE_MARNE | B8: CHAUMONT | C8: JOINVILLE | D8: 1.8669392 | F8: 0.073255 | G8: 0.073255 | I8: 7 | J8: 7 | L8: 0.78 | M8: 0.798 | N8: 0.7 | O8: 0.014 | Q8: 94 | R8: 50.349791 | S8: 36 | T8: 1.3986053 | U8: 13.348225 | V8: 0.01 | W8: 0.01 | X8: 0 | Y8: 0 | AA8: 214 | AB8: 114.62612 | AC8: 200 | AD8: 0.5731306 | AE8: -234.06542 | AH8: 160 | AI8: 235 | AK8: 1404.8445 | AL8: 752.48539 | AM8: 612 | AN8: 1.2295513 | AO8: 33.764317 | AP8: 0.01 | AQ8: 0.01 | AR8: 0 | AS8: 0 | AU8: 1307.3104 | AV8: 700.24259 | AW8: 573 | AX8: 1.2220639 | AY8: 23.602953 | AZ8: 0.015 | BA8: 0.015 | BB8: 0 | BC8: 0 | BE8: 139.8 | BF8: 74.881923 | BG8: 65 | BH8: 1.1520296 | BI8: -42.226575 | BJ8: 0.01688 | BK8: 0.01688 | BL8: 0 | BM8: 43 | BO8: 164 | BP8: 87.844316 | BQ8: 78 | BR8: 1.1262092 | BS8: -10.745512 | BT8: 0.004875 | BU8: 0.004875 | BV8: 0 | BW8: 11 | BY8: 0.99962406 | BZ8: 1 | CA8: 0.99984962 | CB8: 0.9 | CC8: 0.0025 | CD8: =D8*AM8 -> 1142.5668
A9: AUBE_HAUTE_MARNE | B9: CHAUMONT | C9: LANGRES | D9: 8.9870805 | F9: 0.059875 | G9: 0.059875 | I9: 6 | J9: 6 | L9: 0.50880075 | M9: 0.666 | N9: 0.7 | Q9: 384 | R9: 42.728003 | S9: 36 | T9: 1.186889 | U9: -4.2418785 | V9: 0.0095 | W9: 0.0095 | X9: 0 | Y9: 5 | AA9: 1583 | AB9: 176.14174 | AC9: 200 | AD9: 0.8807087 | AE9: -573.89933 | AH9: 215 | AI9: 574 | AK9: 8087.1306 | AL9: 899.86182 | AM9: 694.2 | AN9: 1.2962573 | AO9: 600.53304 | AP9: 0.01 | AQ9: 0.01 | AR9: 0 | AS9: 0 | AU9: 6112.5984 | AV9: 680.15396 | AW9: 573 | AX9: 1.1870052 | AY9: -66.918197 | AZ9: 0.01425 | BA9: 0.01425 | BB9: 0 | BC9: 67 | BE9: 686.5 | BF9: 76.387432 | BG9: 65 | BH9: 1.1751913 | BI9: -189.74035 | BJ9: 0.018 | BK9: 0.018 | BL9: 0 | BM9: 190 | BO9: 806 | BP9: 89.684297 | BQ9: 78 | BR9: 1.1497987 | BS9: -35.190737 | BT9: 0.005625 | BU9: 0.005625 | BV9: 0 | BW9: 36 | BY9: 0.99605218 | BZ9: 1 | CA9: 0.99842087 | CB9: 0.9 | CC9: 0.0025 | CD9: =D9*AM9 -> 6238.8313
A10: AUBE_HAUTE_MARNE | B10: CHAUMONT | C10: SAINT DIZIER CENTRE | D10: 9.0833675 | F10: 0.057 | G10: 0.057 | I10: 6 | J10: 6 | L10: 0.47 | M10: 0.55 | N10: 0.7 | Q10: 444 | R10: 48.88055 | S10: 36 | T10: 1.3577931 | U10: 51.598522 | V10: 0.01 | W10: 0.01 | X10: 0 | Y10: 0 | AA10: 1400 | AB10: 154.12786 | AC10: 200 | AD10: 0.7706393 | AE10: -780.00821 | AH10: 417 | AI10: 781 | AK10: 9615.3043 | AL10: 1058.5616 | AM10: 633.5 | AN10: 1.6709734 | AO10: 2710.1283 | AP10: 0.01 | AQ10: 0.01 | AR10: 0 | AS10: 0 | AU10: 6400.8931 | AV10: 704.68282 | AW10: 573 | AX10: 1.229813 | AY10: 155.16956 | AZ10: 0.015 | BA10: 0.015 | BB10: 0 | BC10: 0 | BE10: 623.1 | BF10: 68.597907 | BG10: 65 | BH10: 1.0553524 | BI10: -262.52834 | BJ10: 0.012 | BK10: 0.012 | BL10: 0 | BM10: 263 | BO10: 890 | BP10: 97.981282 | BQ10: 78 | BR10: 1.2561703 | BS10: 39.796798 | BT10: 0.0075 | BU10: 0.0075 | BV10: 0 | BW10: 0 | BY10: 0.99658167 | BZ10: 1 | CA10: 0.99863267 | CB10: 0.9 | CC10: 0.0025 | CD10: =D10*AM10 -> 5754.3133
A11: AUBE_HAUTE_MARNE | B11: CHAUMONT | C11: WASSY | D11: 1.9591787 | F11: 0.06575 | G11: 0.06575 | I11: 7 | J11: 7 | L11: 0.47 | M11: 0.62 | N11: 0.7 | Q11: 111 | R11: 56.656393 | S11: 36 | T11: 1.5737887 | U11: 26.363478 | V11: 0.01 | W11: 0.01 | X11: 0 | Y11: 0 | AA11: 393 | AB11: 200.59425 | AC11: 200 | AD11: 1.0029713 | AE11: -77.202899 | AF11: 0.0005 | AG11: 0.0005 | AH11: 0 | AI11: 78 | AK11: 1604.6446 | AL11: 819.03942 | AM11: 618 | AN11: 1.3253065 | AO11: 151.71767 | AP11: 0.01 | AQ11: 0.01 | AR11: 0 | AS11: 0 | AU11: 1570.495 | AV11: 801.60882 | AW11: 573 | AX11: 1.3989683 | AY11: 223.36367 | AZ11: 0.015 | BA11: 0.015 | BB11: 0 | BC11: 0 | BE11: 157.8 | BF11: 80.543953 | BG11: 65 | BH11: 1.2391377 | BI11: -33.219928 | BJ11: 0.02025 | BK11: 0.02025 | BL11: 0 | BM11: 34 | BO11: 240 | BP11: 122.50031 | BQ11: 78 | BR11: 1.5705168 | BS11: 56.62087 | BT11: 0.0075 | BU11: 0.0075 | BV11: 0 | BW11: 0 | BY11: 0.99695308 | BZ11: 1 | CA11: 0.99878123 | CB11: 0.9 | CC11: 0.0025 | CD11: =D11*AM11 -> 1210.7725
A12: AUBE_HAUTE_MARNE | B12: TROYES | C12: ARCIS SUR AUBE | D12: 3.8366683 | F12: 0.0215 | G12: 0.0215 | I12: 5 | J12: 5 | L12: 0.53 | M12: 0.492 | N12: 0.7 | Q12: 141 | R12: 36.750636 | S12: 36 | T12: 1.020851 | U12: -24.744069 | V12: 0.001 | W12: 0.001 | X12: 0 | Y12: 25 | AA12: 492 | AB12: 128.23626 | AC12: 200 | AD12: 0.64118131 | AE12: -428.80038 | AH12: 276 | AI12: 429 | AK12: 2397.2654 | AL12: 624.82999 | AM12: 692.7 | AN12: 0.90202106 | AO12: -791.92674 | AR12: 261 | AS12: 792 | AU12: 2324.9056 | AV12: 605.96992 | AW12: 573 | AX12: 1.0575391 | AY12: -313.18752 | AZ12: 0.0045 | BA12: 0.0045 | BB12: 0 | BC12: 314 | BE12: 243.9 | BF12: 63.570781 | BG12: 65 | BH12: 0.97801202 | BI12: -130.17516 | BJ12: 0.006 | BK12: 0.006 | BL12: 0 | BM12: 131 | BO12: 409 | BP12: 106.60291 | BQ12: 78 | BR12: 1.366704 | BS12: 49.88785 | BT12: 0.0075 | BU12: 0.0075 | BV12: 0 | BW12: 0 | BY12: 0.99634258 | BZ12: 1 | CA12: 0.99853703 | CB12: 0.9 | CC12: 0.0025 | CD12: =D12*AM12 -> 2657.6601
A13: AUBE_HAUTE_MARNE | B13: TROYES | C13: BAR SUR AUBE | D13: 5.9289893 | F13: 0.046 | G13: 0.046 | I13: 6 | J13: 6 | L13: 0.56805877 | M13: 0.749 | N13: 0.7 | O13: 0.007 | Q13: 242 | R13: 40.8164 | S13: 36 | T13: 1.1337889 | U13: -14.132339 | V13: 0.0065 | W13: 0.0065 | X13: 0 | Y13: 15 | AA13: 529 | AB13: 89.222626 | AC13: 200 | AD13: 0.44611313 | AE13: -893.95744 | AH13: 657 | AI13: 894 | AK13: 3249.1926 | AL13: 548.01795 | AM13: 648.5 | AN13: 0.84505466 | AO13: -1364.7469 | AR13: 596 | AS13: 1365 | AU13: 3912.8067 | AV13: 659.94498 | AW13: 573 | AX13: 1.1517364 | AY13: -163.96634 | AZ13: 0.01125 | BA13: 0.01125 | BB13: 0 | BC13: 164 | BE13: 403.1 | BF13: 67.987979 | BG13: 65 | BH13: 1.0459689 | BI13: -174.97646 | BJ13: 0.01125 | BK13: 0.01125 | BL13: 0 | BM13: 175 | BO13: 573 | BP13: 96.64379 | BQ13: 78 | BR13: 1.2390229 | BS13: 18.046599 | BT13: 0.0075 | BU13: 0.0075 | BV13: 0 | BW13: 0 | BY13: 0.99721389 | BZ13: 1 | CA13: 0.99888556 | CB13: 0.9 | CC13: 0.0025 | CD13: =D13*AM13 -> 3844.9496
A14: AUBE_HAUTE_MARNE | B14: TROYES | C14: BAR SUR SEINE | D14: 3.5450121 | F14: 0.034625 | G14: 0.034625 | I14: 5 | J14: 5 | L14: 0.59 | M14: 0.538 | N14: 0.7 | Q14: 145 | R14: 40.90254 | S14: 36 | T14: 1.1361817 | U14: -8.1445231 | V14: 0.007 | W14: 0.007 | X14: 0 | Y14: 9 | AA14: 292 | AB14: 82.369253 | AC14: 200 | AD14: 0.41184627 | AE14: -558.80291 | AH14: 418 | AI14: 559 | AK14: 2084.3399 | AL14: 587.96411 | AM14: 700.2 | AN14: 0.83970881 | AO14: -894.32108 | AR14: 398 | AS14: 895 | AU14: 2715.3652 | AV14: 765.96782 | AW14: 573 | AX14: 1.3367676 | AY14: 277.81485 | AZ14: 0.015 | BA14: 0.015 | BB14: 0 | BC14: 0 | BE14: 232.1 | BF14: 65.472273 | BG14: 65 | BH14: 1.0072657 | BI14: -113.53868 | BJ14: 0.00825 | BK14: 0.00825 | BL14: 0 | BM14: 114 | BO14: 290 | BP14: 81.80508 | BQ14: 78 | BR14: 1.0487831 | BS14: -41.813133 | BT14: 0.001875 | BU14: 0.001875 | BV14: 0 | BW14: 42 | BY14: 0.99701046 | BZ14: 1 | CA14: 0.99880419 | CB14: 0.9 | CC14: 0.0025 | CD14: =D14*AM14 -> 2482.2175
A15: AUBE_HAUTE_MARNE | B15: TROYES | C15: LA CHAPELLE ST LUC | D15: 5.7009775 | F15: 0.04175 | G15: 0.04175 | I15: 4 | J15: 4 | L15: 0.50310345 | M15: 0.377 | N15: 0.7 | Q15: 294 | R15: 51.570104 | S15: 36 | T15: 1.4325029 | U15: 47.717774 | V15: 0.01 | W15: 0.01 | X15: 0 | Y15: 0 | AA15: 627 | AB15: 109.98114 | AC15: 200 | AD15: 0.5499057 | AE15: -741.23459 | AH15: 514 | AI15: 742 | AK15: 2568.9545 | AL15: 450.6165 | AM15: 617.2 | AN15: 0.73009803 | AO15: -1653.4174 | AR15: 950 | AS15: 1654 | AU15: 3143.1181 | AV15: 551.32968 | AW15: 573 | AX15: 0.96218094 | AY15: -776.87402 | BB15: 124 | BC15: 777 | BE15: 474.9 | BF15: 83.301505 | BG15: 65 | BH15: 1.2815616 | BI15: -80.945302 | BJ15: 0.02175 | BK15: 0.02175 | BL15: 0 | BM15: 81 | BO15: 631 | BP15: 110.68277 | BQ15: 78 | BR15: 1.4190099 | BS15: 97.388511 | BT15: 0.0075 | BU15: 0.0075 | BV15: 0 | BW15: 0 | BY15: 0.99872803 | BZ15: 1 | CA15: 0.99949121 | CB15: 0.9 | CC15: 0.0025 | CD15: =D15*AM15 -> 3518.6433
A16: AUBE_HAUTE_MARNE | B16: TROYES | C16: NOGENT SUR SEINE | D16: 4.680001 | F16: 0.02425 | G16: 0.02425 | I16: 5 | J16: 5 | L16: 0.8 | M16: 0.768 | N16: 0.7 | O16: 0.009 | Q16: 160 | R16: 34.188027 | S16: 36 | T16: 0.94966742 | U16: -42.176042 | X16: 9 | Y16: 43 | AA16: 469 | AB16: 100.21365 | AC16: 200 | AD16: 0.50106827 | AE16: -654.20023 | AH16: 468 | AI16: 655 | AK16: 3506.7335 | AL16: 749.30188 | AM16: 687.6 | AN16: 1.0897351 | AO16: -354.82885 | AP16: 0.0045 | AQ16: 0.0045 | AR16: 0 | AS16: 355 | AU16: 2693.2336 | AV16: 575.47715 | AW16: 573 | AX16: 1.0043231 | AY16: -524.73503 | AZ16: 0.00075 | BA16: 0.00075 | BB16: 0 | BC16: 525 | BE16: 171.7 | BF16: 36.688027 | BG16: 65 | BH16: 0.56443118 | BI16: -284.60009 | BL16: 103 | BM16: 285 | BO16: 555 | BP16: 118.58972 | BQ16: 78 | BR16: 1.520381 | BS16: 116.95191 | BT16: 0.0075 | BU16: 0.0075 | BV16: 0 | BW16: 0 | BY16: 0.99745418 | BZ16: 1 | CA16: 0.99898167 | CB16: 0.9 | CC16: 0.0025 | CD16: =D16*AM16 -> 3217.9687
A17: AUBE_HAUTE_MARNE | B17: TROYES | C17: ROMILLY SUR SEINE | D17: 7.393217 | F17: 0.0165 | G17: 0.0165 | I17: 5 | J17: 5 | L17: 0.41 | M17: 0.643 | N17: 0.7 | Q17: 290 | R17: 39.225144 | S17: 36 | T17: 1.0895873 | U17: -29.386975 | V17: 0.0045 | W17: 0.0045 | X17: 0 | Y17: 30 | AA17: 783 | AB17: 105.90789 | AC17: 200 | AD17: 0.52953944 | AE17: -991.37208 | AH17: 696 | AI17: 992 | AK17: 4766.6594 | AL17: 644.73413 | AM17: 639.5 | AN17: 1.0081847 | AO17: -906.89537 | AP17: 0.0005 | AQ17: 0.0005 | AR17: 0 | AS17: 907 | AU17: 4332.9179 | AV17: 586.06665 | AW17: 573 | AX17: 1.0228039 | AY17: -750.65808 | AZ17: 0.0015 | BA17: 0.0015 | BB17: 0 | BC17: 751 | BE17: 305.6 | BF17: 41.335186 | BG17: 65 | BH17: 0.63592594 | BI17: -415.23866 | BL17: 127 | BM17: 416 | BO17: 811 | BP17: 109.69514 | BQ17: 78 | BR17: 1.406348 | BS17: 118.99489 | BT17: 0.0075 | BU17: 0.0075 | BV17: 0 | BW17: 0 | BY17: 0.99541985 | BZ17: 1 | CA17: 0.99816794 | CB17: 0.9 | CC17: 0.0025 | CD17: =D17*AM17 -> 4727.9623
A18: AUBE_HAUTE_MARNE | B18: TROYES | C18: SAINT ANDRE LES VERGERS | D18: 3.8611307 | F18: 0.045 | G18: 0.045 | I18: 5 | J18: 5 | L18: 0.5 | M18: 0.375 | N18: 0.7 | Q18: 205 | R18: 53.093256 | S18: 36 | T18: 1.4748127 | U18: 38.199155 | V18: 0.01 | W18: 0.01 | X18: 0 | Y18: 0 | AA18: 435 | AB18: 112.6613 | AC18: 200 | AD18: 0.5633065 | AE18: -491.67136 | AH18: 338 | AI18: 492 | AK18: 5761.2518 | AL18: 1492.1152 | AM18: 724.7 | AN18: 2.0589419 | AO18: 2403.4581 | AP18: 0.01 | AQ18: 0.01 | AR18: 0 | AS18: 0 | AU18: 2894.5454 | AV18: 749.66264 | AW18: 573 | AX18: 1.3083118 | AY18: 239.63197 | AZ18: 0.015 | BA18: 0.015 | BB18: 0 | BC18: 0 | BE18: 172.9 | BF18: 44.779629 | BG18: 65 | BH18: 0.68891737 | BI18: -203.56024 | BL18: 53 | BM18: 204 | BO18: 384 | BP18: 99.452733 | BQ18: 78 | BR18: 1.275035 | BS18: 22.598168 | BT18: 0.0075 | BU18: 0.0075 | BV18: 0 | BW18: 0 | BY18: 0.99820909 | BZ18: 1 | CA18: 0.99928364 | CB18: 0.9 | CC18: 0.0025 | CD18: =D18*AM18 -> 2798.1614
A19: AUBE_HAUTE_MARNE | B19: TROYES | C19: SAINTE SAVINE | D19: 4.9847654 | F19: 0.01 | G19: 0.01 | I19: 2 | J19: 2 | L19: 0.71 | M19: 0.573 | N19: 0.7 | Q19: 148 | R19: 29.690464 | S19: 36 | T19: 0.82473512 | U19: -67.341867 | X19: 32 | Y19: 68 | AA19: 420 | AB19: 84.256723 | AC19: 200 | AD19: 0.42128361 | AE19: -776.34371 | AH19: 577 | AI19: 777 | AK19: 2423.6728 | AL19: 486.21602 | AM19: 808.4 | AN19: 0.60145474 | AO19: -2411.9485 | AR19: 1607 | AS19: 2412 | AU19: 2397.3466 | AV19: 480.93468 | AW19: 573 | AX19: 0.83932755 | AY19: -1030.1781 | BB19: 459 | BC19: 1031 | BE19: 170.4 | BF19: 34.184156 | BG19: 65 | BH19: 0.52591009 | BI19: -315.61463 | BL19: 122 | BM19: 316 | BO19: 491 | BP19: 98.500121 | BQ19: 78 | BR19: 1.2628221 | BS19: 24.425955 | BT19: 0.0075 | BU19: 0.0075 | BV19: 0 | BW19: 0 | BY19: 0.99723859 | BZ19: 1 | CA19: 0.99889543 | CB19: 0.9 | CC19: 0.0025 | CD19: =D19*AM19 -> 4029.6844
A20: AUBE_HAUTE_MARNE | B20: TROYES | C20: SAINT JULIEN LES VILLAS | D20: 4.6733464 | F20: 0.02475 | G20: 0.02475 | I20: 4 | J20: 4 | L20: 0.4 | M20: 0.312 | N20: 0.7 | Q20: 242 | R20: 51.783022 | S20: 36 | T20: 1.4384173 | U20: 40.111437 | V20: 0.01 | W20: 0.01 | X20: 0 | Y20: 0 | AA20: 660 | AB20: 141.22642 | AC20: 200 | AD20: 0.70613212 | AE20: -461.60313 | AH20: 275 | AI20: 462 | AK20: 4557.7145 | AL20: 975.25716 | AM20: 738.6 | AN20: 1.3204132 | AO20: 415.63416 | AP20: 0.01 | AQ20: 0.01 | AR20: 0 | AS20: 0 | AU20: 2749.0959 | AV20: 588.24997 | AW20: 573 | AX20: 1.0266143 | AY20: -464.29708 | AZ20: 0.00225 | BA20: 0.00225 | BB20: 0 | BC20: 465 | BE20: 203.8 | BF20: 43.609008 | BG20: 65 | BH20: 0.67090782 | BI20: -251.85127 | BL20: 70 | BM20: 252 | BO20: 330 | BP20: 70.613212 | BQ20: 78 | BR20: 0.9052976 | BS20: -107.42522 | BV20: 35 | BW20: 108 | BY20: 0.99345854 | BZ20: 1 | CA20: 0.99738341 | CB20: 0.9 | CC20: 0.0025 | CD20: =D20*AM20 -> 3451.7336
A21: AUBE_HAUTE_MARNE | B21: TROYES | C21: TROYES 1ER MAI | D21: 3.306603 | F21: 0.04425 | G21: 0.04425 | I21: 6 | J21: 6 | L21: 0.33 | M21: 0.186 | N21: 0.7 | Q21: 209 | R21: 63.206863 | S21: 36 | T21: 1.7557462 | U21: 66.154752 | V21: 0.01 | W21: 0.01 | X21: 0 | Y21: 0 | AA21: 461 | AB21: 139.41801 | AC21: 200 | AD21: 0.69709004 | AE21: -332.58471 | AH21: 201 | AI21: 333 | AK21: 3089.8268 | AL21: 934.44141 | AM21: 612 | AN21: 1.5268651 | AO21: 661.45754 | AP21: 0.01 | AQ21: 0.01 | AR21: 0 | AS21: 0 | AU21: 2047.0425 | AV21: 619.07721 | AW21: 573 | AX21: 1.080414 | AY21: -226.57767 | AZ21: 0.006 | BA21: 0.006 | BB21: 0 | BC21: 227 | BE21: 218 | BF21: 65.928689 | BG21: 65 | BH21: 1.0142875 | BI21: -104.39379 | BJ21: 0.00825 | BK21: 0.00825 | BL21: 0 | BM21: 105 | BO21: 415 | BP21: 125.50645 | BQ21: 78 | BR21: 1.609057 | BS21: 105.50196 | BT21: 0.0075 | BU21: 0.0075 | BV21: 0 | BW21: 0 | BY21: 0.99810997 | BZ21: 1 | CA21: 0.99924399 | CB21: 0.9 | CC21: 0.0025 | CD21: =D21*AM21 -> 2023.641
A22: AUBE_HAUTE_MARNE | B22: TROYES | C22: TROYES BROSSOLETTE | D22: 1.7748491 | F22: 0.019875 | G22: 0.019875 | I22: 5 | J22: 5 | L22: 0.16 | M22: 0.61 | N22: 0.7 | Q22: 71 | R22: 40.003401 | S22: 36 | T22: 1.1112056 | U22: -5.6734814 | V22: 0.0055 | W22: 0.0055 | X22: 0 | Y22: 6 | AA22: 302 | AB22: 170.15531 | AC22: 200 | AD22: 0.85077655 | AE22: -123.96379 | AH22: 53 | AI22: 124 | AK22: 1448.733 | AL22: 816.25697 | AM22: 694.9 | AN22: 1.1746395 | AO22: -31.278212 | AP22: 0.0085 | AQ22: 0.0085 | AR22: 0 | AS22: 32 | AU22: 994.66509 | AV22: 560.42234 | AW22: 573 | AX22: 0.97804946 | AY22: -225.72115 | BB22: 23 | BC22: 226 | BE22: 107.7 | BF22: 60.681215 | BG22: 65 | BH22: 0.93355715 | BI22: -65.347788 | BJ22: 0.00225 | BK22: 0.00225 | BL22: 0 | BM22: 66 | BO22: 143 | BP22: 80.57023 | BQ22: 78 | BR22: 1.0329517 | BS22: -23.125876 | BT22: 0.001125 | BU22: 0.001125 | BV22: 0 | BW22: 24 | BY22: 0.99862637 | BZ22: 1 | CA22: 0.99945055 | CB22: 0.9 | CC22: 0.0025 | CD22: =D22*AM22 -> 1233.3426
A23: AUBE_HAUTE_MARNE | B23: TROYES | C23: TROYES CHARTREUX | D23: 2.8112109 | F23: 0.018125 | G23: 0.018125 | I23: 3 | J23: 3 | L23: 0.42 | M23: 0.632 | N23: 0.7 | Q23: 124 | R23: 44.109107 | S23: 36 | T23: 1.225253 | U23: 2.5556902 | V23: 0.01 | W23: 0.01 | X23: 0 | Y23: 0 | AA23: 185 | AB23: 65.807941 | AC23: 200 | AD23: 0.32903971 | AE23: -489.69061 | AH23: 378 | AI23: 490 | AK23: 791.61813 | AL23: 281.59329 | AM23: 634.3 | AN23: 0.44394339 | AO23: -1348.1631 | AR23: 992 | AS23: 1349 | AU23: 1463.3801 | AV23: 520.55153 | AW23: 573 | AX23: 0.90846689 | AY23: -469.60849 | BB23: 148 | BC23: 470 | BE23: 106 | BF23: 37.706172 | BG23: 65 | BH23: 0.58009495 | BI23: -168.09306 | BL23: 59 | BM23: 169 | BO23: 252 | BP23: 89.641087 | BQ23: 78 | BR23: 1.1492447 | BS23: -11.129338 | BT23: 0.005625 | BU23: 0.005625 | BV23: 0 | BW23: 12 | BY23: 0.99985824 | BZ23: 1 | CA23: 0.99994329 | CB23: 0.9 | CC23: 0.0025 | CD23: =D23*AM23 -> 1783.1511
A24: AUBE_HAUTE_MARNE | B24: TROYES | C24: TROYES GAMBETTA | D24: 9.713444 | F24: 0.0225 | G24: 0.0225 | I24: 4 | J24: 4 | L24: 0.44 | M24: 0.567 | N24: 0.7 | Q24: 466 | R24: 47.974745 | S24: 36 | T24: 1.3326318 | U24: 46.379221 | V24: 0.01 | W24: 0.01 | X24: 0 | Y24: 0 | AA24: 1016 | AB24: 104.5973 | AC24: 200 | AD24: 0.52298649 | AE24: -1315.2266 | AH24: 927 | AI24: 1316 | AK24: 8062.3819 | AL24: 830.023 | AM24: 789.8 | AN24: 1.0509281 | AO24: -1143.6317 | AP24: 0.0025 | AQ24: 0.0025 | AR24: 0 | AS24: 1144 | AU24: 4799.5477 | AV24: 494.1139 | AW24: 573 | AX24: 0.86232793 | AY24: -1879.4164 | BB24: 767 | BC24: 1880 | BE24: 427.8 | BF24: 44.042052 | BG24: 65 | BH24: 0.67757002 | BI24: -519.26079 | BL24: 141 | BM24: 520 | BO24: 1202 | BP24: 123.74602 | BQ24: 78 | BR24: 1.5864874 | BS24: 292.82165 | BT24: 0.0075 | BU24: 0.0075 | BV24: 0 | BW24: 0 | BY24: 0.99736648 | BZ24: 1 | CA24: 0.99894659 | CB24: 0.9 | CC24: 0.0025 | CD24: =D24*AM24 -> 7671.678
A25: AUBE_HAUTE_MARNE | B25: TROYES | C25: TROYES ZOLA | D25: 4.7812116 | F25: 0.02075 | G25: 0.02075 | I25: 4 | J25: 4 | L25: 0.5 | M25: 0.317 | N25: 0.7 | Q25: 215 | R25: 44.967681 | S25: 36 | T25: 1.2491023 | U25: 8.4516583 | V25: 0.01 | W25: 0.01 | X25: 0 | Y25: 0 | AA25: 370 | AB25: 77.386242 | AC25: 200 | AD25: 0.38693121 | AE25: -777.49079 | AH25: 587 | AI25: 778 | AK25: 2802.977 | AL25: 586.24827 | AM25: 713.7 | AN25: 0.82142114 | AO25: -1291.8438 | AR25: 610 | AS25: 1292 | AU25: 2770.983 | AV25: 579.55665 | AW25: 573 | AX25: 1.0114427 | AY25: -516.5781 | AZ25: 0.00075 | BA25: 0.00075 | BB25: 0 | BC25: 517 | BE25: 247.4 | BF25: 51.744206 | BG25: 65 | BH25: 0.79606471 | BI25: -218.76813 | BL25: 33 | BM25: 219 | BO25: 537 | BP25: 112.31463 | BQ25: 78 | BR25: 1.4399311 | BS25: 89.478593 | BT25: 0.0075 | BU25: 0.0075 | BV25: 0 | BW25: 0 | BY25: 0.99854216 | BZ25: 1 | CA25: 0.99941686 | CB25: 0.9 | CC25: 0.0025 | CD25: =D25*AM25 -> 3412.3507
A26: BAS_RHIN | B26: HAGUENAU | C26: BISCHWILLER | D26: 6.8892148 | F26: 0.0255 | G26: 0.0255 | I26: 4 | J26: 4 | L26: 0.6084316 | M26: 0.475 | N26: 0.7 | Q26: 329 | R26: 47.755806 | S26: 36 | T26: 1.3265502 | U26: 31.385923 | V26: 0.01 | W26: 0.01 | X26: 0 | Y26: 0 | AA26: 764 | AB26: 110.89798 | AC26: 200 | AD26: 0.5544899 | AE26: -889.41154 | AH26: 614 | AI26: 890 | AK26: 5476.9284 | AL26: 795.00039 | AM26: 716.4 | AN26: 1.1097158 | AO26: -445.59174 | AP26: 0.0055 | AQ26: 0.0055 | AR26: 0 | AS26: 446 | AU26: 3805.9333 | AV26: 552.44805 | AW26: 573 | AX26: 0.96413273 | AY26: -931.09078 | BB26: 142 | BC26: 932 | BE26: 394.4 | BF26: 57.248905 | BG26: 65 | BH26: 0.88075238 | BI26: -277.29844 | BL26: 9 | BM26: 278 | BO26: 801 | BP26: 116.26869 | BQ26: 78 | BR26: 1.4906243 | BS26: 156.1695 | BT26: 0.0075 | BU26: 0.0075 | BV26: 0 | BW26: 0 | BY26: 0.999224 | BZ26: 1 | CA26: 0.9996896 | CB26: 0.9 | CC26: 0.0025 | CD26: =D26*AM26 -> 4935.4334
A27: BAS_RHIN | B27: HAGUENAU | C27: BOUXWILLER | D27: 2.6565336 | F27: 0.043 | G27: 0.043 | I27: 6 | J27: 6 | L27: 0.95 | M27: 0.68 | N27: 0.7 | Q27: 126 | R27: 47.43023 | S27: 36 | T27: 1.3175064 | U27: 11.237749 | V27: 0.01 | W27: 0.01 | X27: 0 | Y27: 0 | AA27: 303 | AB27: 114.05841 | AC27: 200 | AD27: 0.57029205 | AE27: -334.56806 | AH27: 229 | AI27: 335 | AK27: 2118.4111 | AL27: 797.43434 | AM27: 744 | AN27: 1.0718204 | AO27: -253.34207 | AP27: 0.0035 | AQ27: 0.0035 | AR27: 0 | AS27: 254 | AU27: 1942.1919 | AV27: 731.10008 | AW27: 573 | AX27: 1.2759164 | AY27: 115.55943 | AZ27: 0.015 | BA27: 0.015 | BB27: 0 | BC27: 0 | BE27: 165.4 | BF27: 62.261588 | BG27: 65 | BH27: 0.95787059 | BI27: -93.612025 | BJ27: 0.0045 | BK27: 0.0045 | BL27: 0 | BM27: 94 | BO27: 362 | BP27: 136.2678 | BQ27: 78 | BR27: 1.7470231 | BS27: 113.34846 | BT27: 0.0075 | BU27: 0.0075 | BV27: 0 | BW27: 0 | BY27: 0.99890869 | BZ27: 1 | CA27: 0.99956348 | CB27: 0.9 | CC27: 0.0025 | CD27: =D27*AM27 -> 1976.461
A28: BAS_RHIN | B28: HAGUENAU | C28: BRUMATH | D28: 5.3927397 | F28: 0.03975 | G28: 0.03975 | I28: 5 | J28: 5 | L28: 0.75 | M28: 0.632 | N28: 0.7 | Q28: 253 | R28: 46.914929 | S28: 36 | T28: 1.3031925 | U28: 20.033644 | V28: 0.01 | W28: 0.01 | X28: 0 | Y28: 0 | AA28: 790 | AB28: 146.49326 | AC28: 200 | AD28: 0.73246628 | AE28: -504.25753 | AH28: 289 | AI28: 505 | AK28: 5436.694 | AL28: 1008.1506 | AM28: 828 | AN28: 1.2175732 | AO28: 78.467793 | AP28: 0.01 | AQ28: 0.01 | AR28: 0 | AS28: 0 | AU28: 3506.1735 | AV28: 650.16554 | AW28: 573 | AX28: 1.1346694 | AY28: -201.87428 | AZ28: 0.00975 | BA28: 0.00975 | BB28: 0 | BC28: 202 | BE28: 242.6 | BF28: 44.98641 | BG28: 65 | BH28: 0.69209862 | BI28: -283.19212 | BL28: 73 | BM28: 284 | BO28: 942 | BP28: 174.6793 | BQ28: 78 | BR28: 2.2394782 | BS28: 437.23956 | BT28: 0.0075 | BU28: 0.0075 | BV28: 0 | BW28: 0 | BY28: 0.99835661 | BZ28: 1 | CA28: 0.99934265 | CB28: 0.9 | CC28: 0.0025 | CD28: =D28*AM28 -> 4465.1885
A29: BAS_RHIN | B29: HAGUENAU | C29: HAGUENAU HOUBLON | D29: 10.33092 | F29: 0.025 | G29: 0.025 | I29: 4 | J29: 4 | L29: 0.43180715 | M29: 0.428 | N29: 0.7 | Q29: 440 | R29: 42.590591 | S29: 36 | T29: 1.183072 | U29: -6.2957591 | V29: 0.009 | W29: 0.009 | X29: 0 | Y29: 7 | AA29: 1207 | AB29: 116.83373 | AC29: 200 | AD29: 0.58416867 | AE29: -1272.4209 | AH29: 860 | AI29: 1273 | AK29: 9496.6384 | AL29: 919.24418 | AM29: 823.9 | AN29: 1.115723 | AO29: -717.33594 | AP29: 0.006 | AQ29: 0.006 | AR29: 0 | AS29: 718 | AU29: 5829.1373 | AV29: 564.24182 | AW29: 573 | AX29: 0.98471521 | AY29: -1274.4036 | BB29: 91 | BC29: 1275 | BE29: 482.2 | BF29: 46.675416 | BG29: 65 | BH29: 0.71808332 | BI29: -525.06473 | BL29: 123 | BM29: 526 | BO29: 1316 | BP29: 127.38458 | BQ29: 78 | BR29: 1.6331357 | BS29: 349.02586 | BT29: 0.0075 | BU29: 0.0075 | BV29: 0 | BW29: 0 | BY29: 0.99778967 | BZ29: 1 | CA29: 0.99911587 | CB29: 0.9 | CC29: 0.0025 | CD29: =D29*AM29 -> 8511.6453
A30: BAS_RHIN | B30: HAGUENAU | C30: HOCHFELDEN | D30: 2.3642739 | F30: 0.05225 | G30: 0.05225 | I30: 5 | J30: 5 | L30: 0.81 | M30: 0.653 | N30: 0.7 | Q30: 148 | R30: 62.5985 | S30: 36 | T30: 1.7388472 | U30: 45.863368 | V30: 0.01 | W30: 0.01 | X30: 0 | Y30: 0 | AA30: 291 | AB30: 123.08219 | AC30: 200 | AD30: 0.61541093 | AE30: -276.42574 | AH30: 182 | AI30: 277 | AK30: 1021.6767 | AL30: 432.13127 | AM30: 703 | AN30: 0.61469598 | AO30: -972.82477 | AR30: 641 | AS30: 973 | AU30: 1928.5578 | AV30: 815.70827 | AW30: 573 | AX30: 1.4235746 | AY30: 302.88304 | AZ30: 0.015 | BA30: 0.015 | BB30: 0 | BC30: 0 | BE30: 178.7 | BF30: 75.583459 | BG30: 65 | BH30: 1.1628225 | BI30: -51.816705 | BJ30: 0.01725 | BK30: 0.01725 | BL30: 0 | BM30: 52 | BO30: 392 | BP30: 165.80143 | BQ30: 78 | BR30: 2.1256594 | BS30: 170.70396 | BT30: 0.0075 | BU30: 0.0075 | BV30: 0 | BW30: 0 | BY30: 0.99832496 | BZ30: 1 | CA30: 0.99932998 | CB30: 0.9 | CC30: 0.0025 | CD30: =D30*AM30 -> 1662.0845
A31: BAS_RHIN | B31: HAGUENAU | C31: HOERDT | D31: 1.8746319 | F31: 0.0275 | G31: 0.0275 | I31: 4 | J31: 4 | L31: 0.69 | M31: 0.797 | N31: 0.7 | O31: 0.013 | Q31: 64 | R31: 34.140036 | S31: 36 | T31: 0.94833435 | U31: -16.984096 | X31: 4 | Y31: 17 | AA31: 262 | AB31: 139.76077 | AC31: 200 | AD31: 0.69880387 | AE31: -187.91165 | AH31: 113 | AI31: 188 | AK31: 1695.6834 | AL31: 904.54209 | AM31: 828 | AN31: 1.0924421 | AO31: -166.95079 | AP31: 0.0045 | AQ31: 0.0045 | AR31: 0 | AS31: 167 | AU31: 803.40911 | AV31: 428.56901 | AW31: 573 | AX31: 0.74793893 | AY31: -485.58775 | BB31: 271 | BC31: 486 | BE31: 109 | BF31: 58.14475 | BG31: 65 | BH31: 0.89453461 | BI31: -73.776606 | BL31: 1 | BM31: 74 | BO31: 188 | BP31: 100.28636 | BQ31: 78 | BR31: 1.2857225 | BS31: 12.534458 | BT31: 0.0075 | BU31: 0.0075 | BV31: 0 | BW31: 0 | BY31: 0.99247413 | BZ31: 1 | CA31: 0.99698965 | CB31: 0.9 | CC31: 0.0025 | CD31: =D31*AM31 -> 1552.1952
A32: BAS_RHIN | B32: HAGUENAU | C32: INGWILLER | D32: 3.1465914 | F32: 0.06488 | G32: 0.06488 | I32: 6 | J32: 6 | L32: 0.65 | M32: 0.548 | N32: 0.7 | Q32: 160 | R32: 50.848675 | S32: 36 | T32: 1.4124632 | U32: 24.067254 | V32: 0.01 | W32: 0.01 | X32: 0 | Y32: 0 | AA32: 451 | AB32: 143.3297 | AC32: 200 | AD32: 0.71664851 | AE32: -304.18192 | AH32: 179 | AI32: 305 | AK32: 3150.8794 | AL32: 1001.3628 | AM32: 774.6 | AN32: 1.2927482 | AO32: 226.05979 | AP32: 0.01 | AQ32: 0.01 | AR32: 0 | AS32: 0 | AU32: 2862.9823 | AV32: 909.86786 | AW32: 573 | AX32: 1.587902 | AY32: 699.38612 | AZ32: 0.015 | BA32: 0.015 | BB32: 0 | BC32: 0 | BE32: 251.9 | BF32: 80.054882 | BG32: 65 | BH32: 1.2316136 | BI32: -54.892657 | BJ32: 0.01988 | BK32: 0.01988 | BL32: 0 | BM32: 55 | BO32: 613 | BP32: 194.81398 | BQ32: 78 | BR32: 2.4976152 | BS32: 318.47905 | BT32: 0.0075 | BU32: 0.0075 | BV32: 0 | BW32: 0 | BY32: 0.99834756 | BZ32: 1 | CA32: 0.99933903 | CB32: 0.9 | CC32: 0.0025 | CD32: =D32*AM32 -> 2437.3497
A33: BAS_RHIN | B33: HAGUENAU | C33: NIEDERBRONN LES BAINS | D33: 7.7849246 | F33: 0.01325 | G33: 0.01325 | I33: 4 | J33: 4 | L33: 0.78899297 | M33: 0.701 | N33: 0.7 | O33: 0.001 | Q33: 221 | R33: 28.3882 | S33: 36 | T33: 0.78856112 | U33: -115.30874 | X33: 60 | Y33: 116 | AA33: 616 | AB33: 79.127292 | AC33: 200 | AD33: 0.39563646 | AE33: -1252.3819 | AH33: 941 | AI33: 1253 | AK33: 5088.1386 | AL33: 653.58867 | AM33: 708.1 | AN33: 0.92301748 | AO33: -1526.8676 | AR33: 425 | AS33: 1527 | AU33: 4599.9929 | AV33: 590.88471 | AW33: 573 | AX33: 1.0312124 | AY33: -752.92123 | AZ33: 0.00225 | BA33: 0.00225 | BB33: 0 | BC33: 753 | BE33: 319.4 | BF33: 41.028014 | BG33: 65 | BH33: 0.63120022 | BI33: -439.63015 | BL33: 137 | BM33: 440 | BO33: 994 | BP33: 127.68268 | BQ33: 78 | BR33: 1.6369574 | BS33: 265.33106 | BT33: 0.0075 | BU33: 0.0075 | BV33: 0 | BW33: 0 | BY33: 0.99857637 | BZ33: 1 | CA33: 0.99943055 | CB33: 0.9 | CC33: 0.0025 | CD33: =D33*AM33 -> 5512.5051
A34: BAS_RHIN | B34: HAGUENAU | C34: PFAFFENHOFFEN | D34: 2.524937 | F34: 0.0175 | G34: 0.0175 | I34: 3 | J34: 3 | L34: 0.8 | M34: 0.654 | N34: 0.7 | Q34: 87 | R34: 34.456305 | S34: 36 | T34: 0.95711958 | U34: -22.07728 | X34: 4 | Y34: 23 | AA34: 218 | AB34: 86.338787 | AC34: 200 | AD34: 0.43169393 | AE34: -387.98489 | AH34: 287 | AI34: 388 | AK34: 989.1766 | AL34: 391.76288 | AM34: 735.8 | AN34: 0.5324312 | AO34: -1240.2418 | AR34: 869 | AS34: 1241 | AU34: 1592.813 | AV34: 630.83276 | AW34: 573 | AX34: 1.1009298 | AY34: -143.3337 | AZ34: 0.0075 | BA34: 0.0075 | BB34: 0 | BC34: 144 | BE34: 130.8 | BF34: 51.803272 | BG34: 65 | BH34: 0.79697342 | BI34: -115.38136 | BL34: 17 | BM34: 116 | BO34: 483 | BP34: 191.2919 | BQ34: 78 | BR34: 2.4524602 | BS34: 246.66589 | BT34: 0.0075 | BU34: 0.0075 | BV34: 0 | BW34: 0 | BY34: 0.99587061 | BZ34: 1 | CA34: 0.99834825 | CB34: 0.9 | CC34: 0.0025 | CD34: =D34*AM34 -> 1857.8487
A35: BAS_RHIN | B35: HAGUENAU | C35: SARRE UNION | D35: 4.8022214 | F35: 0.026375 | G35: 0.026375 | I35: 4 | J35: 4 | L35: 0.44 | M35: 0.639 | N35: 0.7 | Q35: 156 | R35: 32.484967 | S35: 36 | T35: 0.90236018 | U35: -51.455963 | X35: 17 | Y35: 52 | AA35: 674 | AB35: 140.35171 | AC35: 200 | AD35: 0.70175857 | AE35: -478.53313 | AH35: 287 | AI35: 479 | AK35: 5849.2862 | AL35: 1218.0376 | AM35: 735.5 | AN35: 1.6560675 | AO35: 1610.8457 | AP35: 0.01 | AQ35: 0.01 | AR35: 0 | AS35: 0 | AU35: 3035.7381 | AV35: 632.1529 | AW35: 573 | AX35: 1.1032337 | AY35: -266.26926 | AZ35: 0.0075 | BA35: 0.0075 | BB35: 0 | BC35: 267 | BE35: 207.7 | BF35: 43.250818 | BG35: 65 | BH35: 0.66539719 | BI35: -260.51658 | BL35: 74 | BM35: 261 | BO35: 439 | BP35: 91.416028 | BQ35: 78 | BR35: 1.1720004 | BS35: -10.487919 | BT35: 0.006375 | BU35: 0.006375 | BV35: 0 | BW35: 11 | BY35: 0.99829518 | BZ35: 1 | CA35: 0.99931807 | CB35: 0.9 | CC35: 0.0025 | CD35: =D35*AM35 -> 3532.0338
A36: BAS_RHIN | B36: HAGUENAU | C36: SAVERNE | D36: 7.962668 | F36: 0.042 | G36: 0.042 | I36: 5 | J36: 5 | L36: 0.33 | M36: 0.365 | N36: 0.7 | Q36: 372 | R36: 46.718009 | S36: 36 | T36: 1.2977225 | U36: 28.01274 | V36: 0.01 | W36: 0.01 | X36: 0 | Y36: 0 | AA36: 983 | AB36: 123.45108 | AC36: 200 | AD36: 0.61725542 | AE36: -928.04033 | AH36: 610 | AI36: 929 | AK36: 8356.1385 | AL36: 1049.4144 | AM36: 828 | AN36: 1.2674087 | AO36: 444.43156 | AP36: 0.01 | AQ36: 0.01 | AR36: 0 | AS36: 0 | AU36: 5301.0454 | AV36: 665.73733 | AW36: 573 | AX36: 1.1618453 | AY36: -174.08516 | AZ36: 0.012 | BA36: 0.012 | BB36: 0 | BC36: 175 | BE36: 357 | BF36: 44.834219 | BG36: 65 | BH36: 0.68975721 | BI36: -419.36013 | BL36: 109 | BM36: 420 | BO36: 874 | BP36: 109.7622 | BQ36: 78 | BR36: 1.4072078 | BS36: 128.69427 | BT36: 0.0075 | BU36: 0.0075 | BV36: 0 | BW36: 0 | BY36: 0.99793297 | BZ36: 1 | CA36: 0.99917319 | CB36: 0.9 | CC36: 0.0025 | CD36: =D36*AM36 -> 6593.0891
A37: BAS_RHIN | B37: HAGUENAU | C37: SOULTZ SOUS FORETS | D37: 2.1182522 | F37: 0.06075 | G37: 0.06075 | I37: 7 | J37: 7 | L37: 0.95 | M37: 0.722 | N37: 0.7 | O37: 0.003 | Q37: 107 | R37: 50.513342 | S37: 36 | T37: 1.4031484 | U37: 15.491504 | V37: 0.01 | W37: 0.01 | X37: 0 | Y37: 0 | AA37: 334 | AB37: 157.67716 | AC37: 200 | AD37: 0.78838581 | AE37: -174.38054 | AH37: 90 | AI37: 175 | AK37: 1981.0526 | AL37: 935.22981 | AM37: 699.3 | AN37: 1.33738 | AO37: 203.50009 | AP37: 0.01 | AQ37: 0.01 | AR37: 0 | AS37: 0 | AU37: 1459.3517 | AV37: 688.94143 | AW37: 573 | AX37: 1.2023411 | AY37: 2.8414846 | AZ37: 0.015 | BA37: 0.015 | BB37: 0 | BC37: 0 | BE37: 148 | BF37: 69.868922 | BG37: 65 | BH37: 1.0749065 | BI37: -58.529593 | BJ37: 0.01275 | BK37: 0.01275 | BL37: 0 | BM37: 59 | BO37: 200 | BP37: 94.417462 | BQ37: 78 | BR37: 1.2104803 | BS37: 1.731591 | BT37: 0.0075 | BU37: 0.0075 | BV37: 0 | BW37: 0 | BY37: 1 | BZ37: 1 | CA37: 1 | CB37: 0.9 | CC37: 0.0025 | CD37: =D37*AM37 -> 1481.2938
A38: BAS_RHIN | B38: HAGUENAU | C38: TRUCHTERSHEIM | D38: 2.9114318 | F38: 0.027 | G38: 0.027 | I38: 5 | J38: 5 | L38: 0.92 | M38: 0.738 | N38: 0.7 | O38: 0.005 | Q38: 109 | R38: 37.438624 | S38: 36 | T38: 1.0399618 | U38: -16.773853 | V38: 0.002 | W38: 0.002 | X38: 0 | Y38: 17 | AA38: 394 | AB38: 135.3286 | AC38: 200 | AD38: 0.67664302 | AE38: -304.74363 | AH38: 189 | AI38: 305 | AK38: 3094.3207 | AL38: 1062.8175 | AM38: 828 | AN38: 1.283596 | AO38: 201.52209 | AP38: 0.01 | AQ38: 0.01 | AR38: 0 | AS38: 0 | AU38: 1578.7769 | AV38: 542.26822 | AW38: 573 | AX38: 0.94636688 | AY38: -423.12356 | BB38: 90 | BC38: 424 | BE38: 124 | BF38: 42.590728 | BG38: 65 | BH38: 0.65524197 | BI38: -159.8646 | BL38: 47 | BM38: 160 | BO38: 283 | BP38: 97.203033 | BQ38: 78 | BR38: 1.2461927 | BS38: 10.489986 | BT38: 0.0075 | BU38: 0.0075 | BV38: 0 | BW38: 0 | BY38: 0.99680256 | BZ38: 1 | CA38: 0.99872102 | CB38: 0.9 | CC38: 0.0025 | CD38: =D38*AM38 -> 2410.6655
A39: BAS_RHIN | B39: HAGUENAU | C39: WISSEMBOURG | D39: 8.3768087 | F39: 0.03075 | G39: 0.03075 | I39: 6 | J39: 6 | L39: 0.81280746 | M39: 0.739 | N39: 0.7 | O39: 0.005 | Q39: 297 | R39: 35.45503 | S39: 36 | T39: 0.98486193 | U39: -64.878136 | X39: 5 | Y39: 65 | AA39: 957 | AB39: 114.24398 | AC39: 200 | AD39: 0.57121992 | AE39: -1053.4341 | AH39: 719 | AI39: 1054 | AK39: 8000.5793 | AL39: 955.08679 | AM39: 828 | AN39: 1.1534865 | AO39: -322.61781 | AP39: 0.0075 | AQ39: 0.0075 | AR39: 0 | AS39: 323 | AU39: 4841.1427 | AV39: 577.92208 | AW39: 573 | AX39: 1.00859 | AY39: -918.75097 | AZ39: 0.00075 | BA39: 0.00075 | BB39: 0 | BC39: 919 | BE39: 547.2 | BF39: 65.323206 | BG39: 65 | BH39: 1.0049724 | BI39: -269.53885 | BJ39: 0.0075 | BK39: 0.0075 | BL39: 0 | BM39: 270 | BO39: 1083 | BP39: 129.28551 | BQ39: 78 | BR39: 1.6575066 | BS39: 298.9307 | BT39: 0.0075 | BU39: 0.0075 | BV39: 0 | BW39: 0 | BY39: 0.99923983 | BZ39: 1 | CA39: 0.99969593 | CB39: 0.9 | CC39: 0.0025 | CD39: =D39*AM39 -> 6935.9976
A40: BAS_RHIN | B40: SELESTAT | C40: BARR | D40: 2.9650794 | F40: 0.05225 | G40: 0.05225 | I40: 6 | J40: 6 | L40: 0.85 | M40: 0.849 | N40: 0.7 | O40: 0.02 | Q40: 172 | R40: 58.008565 | S40: 36 | T40: 1.611349 | U40: 43.908571 | V40: 0.01 | W40: 0.01 | X40: 0 | Y40: 0 | AA40: 510 | AB40: 172.00214 | AC40: 200 | AD40: 0.86001071 | AE40: -201.61905 | AH40: 84 | AI40: 202 | AK40: 2730.2461 | AL40: 920.80035 | AM40: 828 | AN40: 1.1120777 | AO40: -215.85674 | AP40: 0.0055 | AQ40: 0.0055 | AR40: 0 | AS40: 216 | AU40: 1574.637 | AV40: 531.06067 | AW40: 573 | AX40: 0.92680744 | AY40: -464.15155 | BB40: 125 | BC40: 465 | BE40: 191.4 | BF40: 64.551392 | BG40: 65 | BH40: 0.99309834 | BI40: -97.695238 | BJ40: 0.00675 | BK40: 0.00675 | BL40: 0 | BM40: 98 | BO40: 563 | BP40: 189.87687 | BQ40: 78 | BR40: 2.4343189 | BS40: 285.46857 | BT40: 0.0075 | BU40: 0.0075 | BV40: 0 | BW40: 0 | BY40: 0.99772831 | BZ40: 1 | CA40: 0.99909132 | CB40: 0.9 | CC40: 0.0025 | CD40: =D40*AM40 -> 2455.0857
A41: BAS_RHIN | B41: SELESTAT | C41: BENFELD | D41: 4.1628521 | F41: 0.025 | G41: 0.025 | I41: 4 | J41: 4 | L41: 0.5 | M41: 0.58 | N41: 0.7 | Q41: 164 | R41: 39.396067 | S41: 36 | T41: 1.0943352 | U41: -15.835212 | V41: 0.0045 | W41: 0.0045 | X41: 0 | Y41: 16 | AA41: 462 | AB41: 110.9816 | AC41: 200 | AD41: 0.55490801 | AE41: -537.08451 | AH41: 371 | AI41: 538 | AK41: 2674.3925 | AL41: 642.44236 | AM41: 815 | AN41: 0.78827283 | AO41: -1396.8768 | AR41: 719 | AS41: 1397 | AU41: 1888.2742 | AV41: 453.60108 | AW41: 573 | AX41: 0.79162492 | AY41: -974.1029 | BB41: 498 | BC41: 975 | BE41: 281 | BF41: 67.501797 | BG41: 65 | BH41: 1.0384892 | BI41: -124.87808 | BJ41: 0.0105 | BK41: 0.0105 | BL41: 0 | BM41: 125 | BO41: 636 | BP41: 152.77987 | BQ41: 78 | BR41: 1.9587163 | BS41: 246.35704 | BT41: 0.0075 | BU41: 0.0075 | BV41: 0 | BW41: 0 | BY41: 0.997064 | BZ41: 1 | CA41: 0.9988256 | CB41: 0.9 | CC41: 0.0025 | CD41: =D41*AM41 -> 3392.7245
A42: BAS_RHIN | B42: SELESTAT | C42: ERSTEIN | D42: 4.3036507 | F42: 0.01 | G42: 0.01 | I42: 2 | J42: 2 | L42: 0.56 | M42: 0.54 | N42: 0.7 | Q42: 131 | R42: 30.439274 | S42: 36 | T42: 0.84553538 | U42: -54.917709 | X42: 24 | Y42: 55 | AA42: 557 | AB42: 129.425 | AC42: 200 | AD42: 0.64712501 | AE42: -475.87616 | AH42: 304 | AI42: 476 | AK42: 3118.0051 | AL42: 724.50237 | AM42: 828 | AN42: 0.87500286 | AO42: -1158.1022 | AR42: 446 | AS42: 1159 | AU42: 1798.0961 | AV42: 417.80716 | AW42: 573 | AX42: 0.72915735 | AY42: -1161.0941 | BB42: 668 | BC42: 1162 | BE42: 189.5 | BF42: 44.032384 | BG42: 65 | BH42: 0.6774213 | BI42: -230.10594 | BL42: 63 | BM42: 231 | BO42: 666 | BP42: 154.75234 | BQ42: 78 | BR42: 1.9840043 | BS42: 263.1783 | BT42: 0.0075 | BU42: 0.0075 | BV42: 0 | BW42: 0 | BY42: 0.99746707 | BZ42: 1 | CA42: 0.99898683 | CB42: 0.9 | CC42: 0.0025 | CD42: =D42*AM42 -> 3563.4228
A43: BAS_RHIN | B43: SELESTAT | C43: FEGERSHEIM | D43: 2.6566743 | F43: 0.0105 | G43: 0.0105 | I43: 3 | J43: 3 | L43: 0.47 | M43: 0.341 | N43: 0.7 | Q43: 89 | R43: 33.500531 | S43: 36 | T43: 0.93057032 | U43: -25.768328 | X43: 7 | Y43: 26 | AA43: 242 | AB43: 91.091333 | AC43: 200 | AD43: 0.45545666 | AE43: -395.60182 | AH43: 290 | AI43: 396 | AK43: 2232.2201 | AL43: 840.231 | AM43: 828 | AN43: 1.0147717 | AO43: -407.45148 | AP43: 0.0005 | AQ43: 0.0005 | AR43: 0 | AS43: 408 | AU43: 1357.3746 | AV43: 510.93001 | AW43: 573 | AX43: 0.8916754 | AY43: -469.35463 | BB43: 165 | BC43: 470 | BE43: 115.1 | BF43: 43.324845 | BG43: 65 | BH43: 0.66653607 | BI43: -143.92574 | BL43: 41 | BM43: 144 | BO43: 353 | BP43: 132.87289 | BQ43: 78 | BR43: 1.7034986 | BS43: 104.33529 | BT43: 0.0075 | BU43: 0.0075 | BV43: 0 | BW43: 0 | BY43: 0.99955417 | BZ43: 1 | CA43: 0.99982167 | CB43: 0.9 | CC43: 0.0025 | CD43: =D43*AM43 -> 2199.7263
A44: BAS_RHIN | B44: SELESTAT | C44: ILLKIRCH CENTRE | D44: 7.2559453 | F44: 0.05025 | G44: 0.05025 | I44: 6 | J44: 6 | L44: 0.42 | M44: 0.544 | N44: 0.7 | Q44: 314 | R44: 43.274858 | S44: 36 | T44: 1.2020794 | U44: 0.54316436 | V44: 0.01 | W44: 0.01 | X44: 0 | Y44: 0 | AA44: 1130 | AB44: 155.73436 | AC44: 200 | AD44: 0.77867181 | AE44: -611.42686 | AH44: 322 | AI44: 612 | AK44: 8531.3259 | AL44: 1175.7704 | AM44: 828 | AN44: 1.4200126 | AO44: 1321.8187 | AP44: 0.01 | AQ44: 0.01 | AR44: 0 | AS44: 0 | AU44: 4699.3566 | AV44: 647.65601 | AW44: 573 | AX44: 1.1302897 | AY44: -289.83142 | AZ44: 0.00975 | BA44: 0.00975 | BB44: 0 | BC44: 290 | BE44: 492 | BF44: 67.806465 | BG44: 65 | BH44: 1.0431764 | BI44: -215.45466 | BJ44: 0.0105 | BK44: 0.0105 | BL44: 0 | BM44: 216 | BO44: 883 | BP44: 121.69331 | BQ44: 78 | BR44: 1.5601706 | BS44: 203.84352 | BT44: 0.0075 | BU44: 0.0075 | BV44: 0 | BW44: 0 | BY44: 0.99694549 | BZ44: 1 | CA44: 0.9987782 | CB44: 0.9 | CC44: 0.0025 | CD44: =D44*AM44 -> 6007.9227
A45: BAS_RHIN | B45: SELESTAT | C45: LINGOLSHEIM | D45: 4.2127838 | F45: 0.026 | G45: 0.026 | I45: 4 | J45: 4 | L45: 0.22 | M45: 0.614 | N45: 0.7 | Q45: 119 | R45: 28.247355 | S45: 36 | T45: 0.78464875 | U45: -62.99226 | X45: 33 | Y45: 63 | AA45: 568 | AB45: 134.82771 | AC45: 200 | AD45: 0.67413856 | AE45: -443.06811 | AH45: 275 | AI45: 444 | AK45: 5392.9007 | AL45: 1280.1276 | AM45: 828 | AN45: 1.5460478 | AO45: 1207.0787 | AP45: 0.01 | AQ45: 0.01 | AR45: 0 | AS45: 0 | AU45: 2610.3124 | AV45: 619.61698 | AW45: 573 | AX45: 1.081356 | AY45: -286.39775 | AZ45: 0.006 | BA45: 0.006 | BB45: 0 | BC45: 287 | BE45: 221.6 | BF45: 52.601798 | BG45: 65 | BH45: 0.80925842 | BI45: -189.14642 | BL45: 25 | BM45: 190 | BO45: 517 | BP45: 122.7217 | BQ45: 78 | BR45: 1.5733552 | BS45: 122.68344 | BT45: 0.0075 | BU45: 0.0075 | BV45: 0 | BW45: 0 | BY45: 0.99817993 | BZ45: 1 | CA45: 0.99927197 | CB45: 0.9 | CC45: 0.0025 | CD45: =D45*AM45 -> 3488.185
A46: BAS_RHIN | B46: SELESTAT | C46: MARCKOLSHEIM | D46: 2.6757576 | F46: 0.02875 | G46: 0.02875 | I46: 5 | J46: 5 | L46: 0.63 | M46: 0.747 | N46: 0.7 | O46: 0.006 | Q46: 85 | R46: 31.766704 | S46: 36 | T46: 0.88240846 | U46: -30.592727 | X46: 12 | Y46: 31 | AA46: 273 | AB46: 102.02718 | AC46: 200 | AD46: 0.5101359 | AE46: -369.18182 | AH46: 263 | AI46: 370 | AK46: 1218.468 | AL46: 455.37309 | AM46: 731 | AN46: 0.62294541 | AO46: -1128.7065 | AR46: 738 | AS46: 1129 | AU46: 1771.2891 | AV46: 661.97669 | AW46: 573 | AX46: 1.1552822 | AY46: -68.561769 | AZ46: 0.012 | BA46: 0.012 | BB46: 0 | BC46: 69 | BE46: 158.7 | BF46: 59.310306 | BG46: 65 | BH46: 0.91246624 | BI46: -102.18636 | BJ46: 0.00075 | BK46: 0.00075 | BL46: 0 | BM46: 103 | BO46: 392 | BP46: 146.50057 | BQ46: 78 | BR46: 1.8782124 | BS46: 141.54909 | BT46: 0.0075 | BU46: 0.0075 | BV46: 0 | BW46: 0 | BY46: 0.99658203 | BZ46: 1 | CA46: 0.99863281 | CB46: 0.9 | CC46: 0.0025 | CD46: =D46*AM46 -> 1955.9788
A47: BAS_RHIN | B47: SELESTAT | C47: MOLSHEIM | D47: 5.0620891 | F47: 0.0295 | G47: 0.0295 | I47: 5 | J47: 5 | L47: 0.61 | M47: 0.651 | N47: 0.7 | Q47: 189 | R47: 37.336364 | S47: 36 | T47: 1.0371212 | U47: -29.682249 | V47: 0.002 | W47: 0.002 | X47: 0 | Y47: 30 | AA47: 731 | AB47: 144.40678 | AC47: 200 | AD47: 0.72203391 | AE47: -483.90138 | AH47: 282 | AI47: 484 | AK47: 5350.6164 | AL47: 1056.9977 | AM47: 828 | AN47: 1.2765672 | AO47: 320.92471 | AP47: 0.01 | AQ47: 0.01 | AR47: 0 | AS47: 0 | AU47: 3204.7041 | AV47: 633.07935 | AW47: 573 | AX47: 1.1048505 | AY47: -275.98837 | AZ47: 0.0075 | BA47: 0.0075 | BB47: 0 | BC47: 276 | BE47: 250.9 | BF47: 49.564517 | BG47: 65 | BH47: 0.76253103 | BI47: -242.65369 | BL47: 46 | BM47: 243 | BO47: 788 | BP47: 155.66696 | BQ47: 78 | BR47: 1.9957302 | BS47: 314.18846 | BT47: 0.0075 | BU47: 0.0075 | BV47: 0 | BW47: 0 | BY47: 0.99800133 | BZ47: 1 | CA47: 0.99920053 | CB47: 0.9 | CC47: 0.0025 | CD47: =D47*AM47 -> 4191.4098
A48: BAS_RHIN | B48: SELESTAT | C48: MUTZIG | D48: 2.2659972 | F48: 0.05625 | G48: 0.05625 | I48: 6 | J48: 6 | L48: 0.72 | M48: 0.504 | N48: 0.7 | Q48: 128 | R48: 56.487273 | S48: 36 | T48: 1.5690909 | U48: 30.108922 | V48: 0.01 | W48: 0.01 | X48: 0 | Y48: 0 | AA48: 347 | AB48: 153.13347 | AC48: 200 | AD48: 0.76566733 | AE48: -196.83932 | AH48: 107 | AI48: 197 | AK48: 3856.1438 | AL48: 1701.7425 | AM48: 763.3 | AN48: 2.2294544 | AO48: 1780.581 | AP48: 0.01 | AQ48: 0.01 | AR48: 0 | AS48: 0 | AU48: 2286.6219 | AV48: 1009.1018 | AW48: 573 | AX48: 1.7610852 | AY48: 728.52227 | AZ48: 0.015 | BA48: 0.015 | BB48: 0 | BC48: 0 | BE48: 154.5 | BF48: 68.181903 | BG48: 65 | BH48: 1.0489524 | BI48: -66.434725 | BJ48: 0.01125 | BK48: 0.01125 | BL48: 0 | BM48: 67 | BO48: 343 | BP48: 151.36824 | BQ48: 78 | BR48: 1.9406184 | BS48: 130.90266 | BT48: 0.0075 | BU48: 0.0075 | BV48: 0 | BW48: 0 | BY48: 0.99376947 | BZ48: 1 | CA48: 0.99750779 | CB48: 0.9 | CC48: 0.0025 | CD48: =D48*AM48 -> 1729.6356
A49: BAS_RHIN | B49: SELESTAT | C49: OBERNAI | D49: 3.6495166 | F49: 0.02 | G49: 0.02 | I49: 3 | J49: 3 | L49: 0.39 | M49: 0.382 | N49: 0.7 | Q49: 120 | R49: 32.881067 | S49: 36 | T49: 0.91336298 | U49: -37.659116 | X49: 12 | Y49: 38 | AA49: 528 | AB49: 144.6767 | AC49: 200 | AD49: 0.72338348 | AE49: -347.88398 | AH49: 202 | AI49: 348 | AK49: 4244.563 | AL49: 1163.048 | AM49: 828 | AN49: 1.4046474 | AO49: 618.40338 | AP49: 0.01 | AQ49: 0.01 | AR49: 0 | AS49: 0 | AU49: 1901.2018 | AV49: 520.94622 | AW49: 573 | AX49: 0.9091557 | AY49: -608.20574 | BB49: 190 | BC49: 609 | BE49: 193.9 | BF49: 53.130325 | BG49: 65 | BH49: 0.81738961 | BI49: -161.92787 | BL49: 20 | BM49: 162 | BO49: 755 | BP49: 206.87672 | BQ49: 78 | BR49: 2.6522656 | BS49: 413.40525 | BT49: 0.0075 | BU49: 0.0075 | BV49: 0 | BW49: 0 | BY49: 0.99755927 | BZ49: 1 | CA49: 0.99902371 | CB49: 0.9 | CC49: 0.0025 | CD49: =D49*AM49 -> 3021.7997
A50: BAS_RHIN | B50: SELESTAT | C50: ROSHEIM | D50: 1.9718258 | F50: 0.02125 | G50: 0.02125 | I50: 3 | J50: 3 | L50: 0.53 | M50: 0.492 | N50: 0.7 | Q50: 60 | R50: 30.428652 | S50: 36 | T50: 0.84524032 | U50: -25.182874 | X50: 11 | Y50: 26 | AA50: 167 | AB50: 84.693081 | AC50: 200 | AD50: 0.4234654 | AE50: -306.23819 | AH50: 228 | AI50: 307 | AK50: 463.23031 | AL50: 234.92456 | AM50: 820.2 | AN50: 0.28642351 | AO50: -1477.5195 | AR50: 1155 | AS50: 1478 | AU50: 945.54122 | AV50: 479.52574 | AW50: 573 | AX50: 0.83686866 | AY50: -410.28619 | BB50: 185 | BC50: 411 | BE50: 134 | BF50: 67.957322 | BG50: 65 | BH50: 1.0454973 | BI50: -58.253014 | BJ50: 0.01125 | BK50: 0.01125 | BL50: 0 | BM50: 59 | BO50: 235 | BP50: 119.17889 | BQ50: 78 | BR50: 1.5279344 | BS50: 50.437107 | BT50: 0.0075 | BU50: 0.0075 | BV50: 0 | BW50: 0 | BY50: 0.99738903 | BZ50: 1 | CA50: 0.99895561 | CB50: 0.9 | CC50: 0.0025 | CD50: =D50*AM50 -> 1617.2915
A51: BAS_RHIN | B51: SELESTAT | C51: SCHIRMECK | D51: 3.0909572 | F51: 0.07113 | G51: 0.07113 | I51: 6 | J51: 6 | L51: 1 | M51: 0.845 | N51: 0.7 | O51: 0.02 | Q51: 146 | R51: 47.234559 | S51: 36 | T51: 1.3120711 | U51: 12.470649 | V51: 0.01 | W51: 0.01 | X51: 0 | Y51: 0 | AA51: 374 | AB51: 120.99812 | AC51: 200 | AD51: 0.60499059 | AE51: -367.82973 | AH51: 245 | AI51: 368 | AK51: 931.68998 | AL51: 301.42442 | AM51: 693.7 | AN51: 0.43451697 | AO51: -1641.3464 | AR51: 1213 | AS51: 1642 | AU51: 2128.5555 | AV51: 688.63959 | AW51: 573 | AX51: 1.2018143 | AY51: 3.2133354 | AZ51: 0.015 | BA51: 0.015 | BB51: 0 | BC51: 0 | BE51: 227.8 | BF51: 73.698853 | BG51: 65 | BH51: 1.1338285 | BI51: -73.568326 | BJ51: 0.01613 | BK51: 0.01613 | BL51: 0 | BM51: 74 | BO51: 403 | BP51: 130.38032 | BQ51: 78 | BR51: 1.6715426 | BS51: 113.68641 | BT51: 0.0075 | BU51: 0.0075 | BV51: 0 | BW51: 0 | BY51: 0.99751964 | BZ51: 1 | CA51: 0.99900785 | CB51: 0.9 | CC51: 0.0025 | CD51: =D51*AM51 -> 2144.197
A52: BAS_RHIN | B52: SELESTAT | C52: SELESTAT CENTRE | D52: 8.3391041 | F52: 0.06325 | G52: 0.06325 | I52: 6 | J52: 6 | L52: 0.50381339 | M52: 0.529 | N52: 0.7 | Q52: 382 | R52: 45.808278 | S52: 36 | T52: 1.2724522 | U52: 21.750701 | V52: 0.01 | W52: 0.01 | X52: 0 | Y52: 0 | AA52: 1159 | AB52: 138.98375 | AC52: 200 | AD52: 0.69491877 | AE52: -842.38499 | AH52: 509 | AI52: 843 | AK52: 7746.6992 | AL52: 928.96061 | AM52: 781.5 | AN52: 1.1886892 | AO52: -73.712624 | AP52: 0.0095 | AQ52: 0.0095 | AR52: 0 | AS52: 74 | AU52: 5879.4731 | AV52: 705.04853 | AW52: 573 | AX52: 1.2304512 | AY52: 145.50508 | AZ52: 0.015 | BA52: 0.015 | BB52: 0 | BC52: 0 | BE52: 652.8 | BF52: 78.28179 | BG52: 65 | BH52: 1.2043352 | BI52: -160.26265 | BJ52: 0.01875 | BK52: 0.01875 | BL52: 0 | BM52: 161 | BO52: 1085 | BP52: 130.1099 | BQ52: 78 | BR52: 1.6680756 | BS52: 304.45985 | BT52: 0.0075 | BU52: 0.0075 | BV52: 0 | BW52: 0 | BY52: 0.99918138 | BZ52: 1 | CA52: 0.99967255 | CB52: 0.9 | CC52: 0.0025 | CD52: =D52*AM52 -> 6517.0099
A53: BAS_RHIN | B53: SELESTAT | C53: VILLE | D53: 2.8860805 | F53: 0.03775 | G53: 0.03775 | I53: 6 | J53: 6 | L53: 0.72 | M53: 0.666 | N53: 0.7 | Q53: 134 | R53: 46.429752 | S53: 36 | T53: 1.2897153 | U53: 9.3213238 | V53: 0.01 | W53: 0.01 | X53: 0 | Y53: 0 | AA53: 572 | AB53: 198.19267 | AC53: 200 | AD53: 0.99096336 | AE53: -120.65931 | AH53: 6 | AI53: 121 | AK53: 2332.5513 | AL53: 808.20731 | AM53: 780.5 | AN53: 1.0354994 | AO53: -370.55163 | AP53: 0.002 | AQ53: 0.002 | AR53: 0 | AS53: 371 | AU53: 1900.1499 | AV53: 658.38425 | AW53: 573 | AX53: 1.1490127 | AY53: -84.319009 | AZ53: 0.01125 | BA53: 0.01125 | BB53: 0 | BC53: 85 | BE53: 180.1 | BF53: 62.402972 | BG53: 65 | BH53: 0.96004573 | BI53: -101.29285 | BJ53: 0.0045 | BK53: 0.0045 | BL53: 0 | BM53: 102 | BO53: 409 | BP53: 141.71469 | BQ53: 78 | BR53: 1.816855 | BS53: 138.86287 | BT53: 0.0075 | BU53: 0.0075 | BV53: 0 | BW53: 0 | BY53: 0.98550725 | BZ53: 1 | CA53: 0.9942029 | CB53: 0.9 | CC53: 0.0025 | CD53: =D53*AM53 -> 2252.5858
A54: BAS_RHIN | B54: SELESTAT | C54: WASSELONNE | D54: 4.5130609 | F54: 0.054 | G54: 0.054 | I54: 6 | J54: 6 | L54: 0.55954286 | M54: 0.595 | N54: 0.7 | Q54: 208 | R54: 46.088454 | S54: 36 | T54: 1.2802348 | U54: 13.035771 | V54: 0.01 | W54: 0.01 | X54: 0 | Y54: 0 | AA54: 735 | AB54: 162.86064 | AC54: 200 | AD54: 0.81430322 | AE54: -348.13461 | AH54: 168 | AI54: 349 | AK54: 5254.7977 | AL54: 1164.3534 | AM54: 823.8 | AN54: 1.4133933 | AO54: 793.3662 | AP54: 0.01 | AQ54: 0.01 | AR54: 0 | AS54: 0 | AU54: 3690.0108 | AV54: 817.62931 | AW54: 573 | AX54: 1.4269272 | AY54: 586.83018 | AZ54: 0.015 | BA54: 0.015 | BB54: 0 | BC54: 0 | BE54: 299.7 | BF54: 66.407259 | BG54: 65 | BH54: 1.0216501 | BI54: -140.32343 | BJ54: 0.009 | BK54: 0.009 | BL54: 0 | BM54: 141 | BO54: 784 | BP54: 173.71802 | BQ54: 78 | BR54: 2.2271541 | BS54: 361.5775 | BT54: 0.0075 | BU54: 0.0075 | BV54: 0 | BW54: 0 | BY54: 0.99637944 | BZ54: 1 | CA54: 0.99855177 | CB54: 0.9 | CC54: 0.0025 | CD54: =D54*AM54 -> 3717.8595
A55: BAS_RHIN | B55: STRASBOURG | C55: BISCHHEIM | D55: 3.4333982 | F55: 0.0275 | G55: 0.0275 | I55: 6 | J55: 6 | L55: 0.71 | M55: 0.578 | N55: 0.7 | Q55: 137 | R55: 39.902158 | S55: 36 | T55: 1.1083933 | U55: -11.322804 | V55: 0.0055 | W55: 0.0055 | X55: 0 | Y55: 12 | AA55: 410 | AB55: 119.41522 | AC55: 200 | AD55: 0.59707609 | AE55: -414.01558 | AH55: 277 | AI55: 415 | AK55: 3193.5246 | AL55: 930.13523 | AM55: 828 | AN55: 1.1233517 | AO55: -217.89984 | AP55: 0.006 | AQ55: 0.006 | AR55: 0 | AS55: 218 | AU55: 1976.715 | AV55: 575.73136 | AW55: 573 | AX55: 1.0047668 | AY55: -384.08959 | AZ55: 0.00075 | BA55: 0.00075 | BB55: 0 | BC55: 385 | BE55: 215.8 | BF55: 62.853181 | BG55: 65 | BH55: 0.96697201 | BI55: -118.95633 | BJ55: 0.00525 | BK55: 0.00525 | BL55: 0 | BM55: 119 | BO55: 454 | BP55: 132.23051 | BQ55: 78 | BR55: 1.6952629 | BS55: 132.63392 | BT55: 0.0075 | BU55: 0.0075 | BV55: 0 | BW55: 0 | BY55: 0.99832832 | BZ55: 1 | CA55: 0.99933133 | CB55: 0.9 | CC55: 0.0025 | CD55: =D55*AM55 -> 2842.8537
A56: BAS_RHIN | B56: STRASBOURG | C56: MUNDOLSHEIM | D56: 4.0058121 | F56: 0.0595 | G56: 0.0595 | I56: 7 | J56: 7 | L56: 0.62376751 | M56: 0.713 | N56: 0.7 | O56: 0.001 | Q56: 245 | R56: 61.161132 | S56: 36 | T56: 1.6989203 | U56: 71.948918 | V56: 0.01 | W56: 0.01 | X56: 0 | Y56: 0 | AA56: 599 | AB56: 149.53273 | AC56: 200 | AD56: 0.74766363 | AE56: -362.3949 | AH56: 203 | AI56: 363 | AK56: 4181.3462 | AL56: 1043.8199 | AM56: 828 | AN56: 1.260652 | AO56: 201.17134 | AP56: 0.01 | AQ56: 0.01 | AR56: 0 | AS56: 0 | AU56: 2853.671 | AV56: 712.38264 | AW56: 573 | AX56: 1.2432507 | AY56: 99.274587 | AZ56: 0.015 | BA56: 0.015 | BB56: 0 | BC56: 0 | BE56: 282 | BF56: 70.397711 | BG56: 65 | BH56: 1.0830417 | BI56: -108.56668 | BJ56: 0.0135 | BK56: 0.0135 | BL56: 0 | BM56: 109 | BO56: 507 | BP56: 126.5661 | BQ56: 78 | BR56: 1.6226423 | BS56: 132.05599 | BT56: 0.0075 | BU56: 0.0075 | BV56: 0 | BW56: 0 | BY56: 0.99752883 | BZ56: 1 | CA56: 0.99901153 | CB56: 0.9 | CC56: 0.0025 | CD56: =D56*AM56 -> 3316.8124
A57: BAS_RHIN | B57: STRASBOURG | C57: OBERHAUSBERGEN | D57: 4.8459355 | F57: 0.0455 | G57: 0.0455 | I57: 6 | J57: 6 | L57: 0.83678387 | M57: 0.742 | N57: 0.7 | O57: 0.006 | Q57: 245 | R57: 50.557833 | S57: 36 | T57: 1.4043842 | U57: 35.655584 | V57: 0.01 | W57: 0.01 | X57: 0 | Y57: 0 | AA57: 786 | AB57: 162.19778 | AC57: 200 | AD57: 0.81098891 | AE57: -377.02453 | AH57: 184 | AI57: 378 | AK57: 4741.2075 | AL57: 978.38849 | AM57: 828 | AN57: 1.1816286 | AO57: -73.714019 | AP57: 0.009 | AQ57: 0.009 | AR57: 0 | AS57: 74 | AU57: 2625.743 | AV57: 541.8444 | AW57: 573 | AX57: 0.94562722 | AY57: -706.32225 | BB57: 151 | BC57: 707 | BE57: 327.1 | BF57: 67.499866 | BG57: 65 | BH57: 1.0384595 | BI57: -145.37872 | BJ57: 0.0105 | BK57: 0.0105 | BL57: 0 | BM57: 146 | BO57: 579 | BP57: 119.48157 | BQ57: 78 | BR57: 1.531815 | BS57: 125.42043 | BT57: 0.0075 | BU57: 0.0075 | BV57: 0 | BW57: 0 | BY57: 0.99704539 | BZ57: 1 | CA57: 0.99881816 | CB57: 0.9 | CC57: 0.0025 | CD57: =D57*AM57 -> 4012.4346
A58: BAS_RHIN | B58: STRASBOURG | C58: REICHSTETT | D58: 1.5977126 | F58: 0.04613 | G58: 0.04613 | I58: 5 | J58: 5 | L58: 0.44 | M58: 0.432 | N58: 0.7 | Q58: 78 | R58: 48.819795 | S58: 36 | T58: 1.3561054 | U58: 8.9788176 | V58: 0.01 | W58: 0.01 | X58: 0 | Y58: 0 | AA58: 258 | AB58: 161.48086 | AC58: 200 | AD58: 0.80740431 | AE58: -125.45101 | AH58: 62 | AI58: 126 | AK58: 1657.8938 | AL58: 1037.6671 | AM58: 828 | AN58: 1.2532212 | AO58: 70.406596 | AP58: 0.01 | AQ58: 0.01 | AR58: 0 | AS58: 0 | AU58: 760.48942 | AV58: 475.98638 | AW58: 573 | AX58: 0.83069177 | AY58: -338.09773 | BB58: 155 | BC58: 339 | BE58: 117.3 | BF58: 73.417462 | BG58: 65 | BH58: 1.1294994 | BI58: -38.476974 | BJ58: 0.01613 | BK58: 0.01613 | BL58: 0 | BM58: 39 | BO58: 220 | BP58: 137.69686 | BQ58: 78 | BR58: 1.7653443 | BS58: 70.454105 | BT58: 0.0075 | BU58: 0.0075 | BV58: 0 | BW58: 0 | BY58: 0.99790503 | BZ58: 1 | CA58: 0.99916201 | CB58: 0.9 | CC58: 0.0025 | CD58: =D58*AM58 -> 1322.906
A59: BAS_RHIN | B59: STRASBOURG | C59: SCHILTIGHEIM CENTRE | D59: 3.5664127 | F59: 0.0345 | G59: 0.0345 | I59: 5 | J59: 5 | L59: 0.59 | M59: 0.417 | N59: 0.7 | Q59: 246 | R59: 68.976874 | S59: 36 | T59: 1.9160243 | U59: 91.930972 | V59: 0.01 | W59: 0.01 | X59: 0 | Y59: 0 | AA59: 533 | AB59: 149.44989 | AC59: 200 | AD59: 0.74724947 | AE59: -322.93905 | AH59: 181 | AI59: 323 | AK59: 3165.8208 | AL59: 887.67651 | AM59: 775.4 | AN59: 1.1447982 | AO59: -152.65491 | AP59: 0.007 | AQ59: 0.007 | AR59: 0 | AS59: 153 | AU59: 2244.9486 | AV59: 629.46966 | AW59: 573 | AX59: 1.0985509 | AY59: -207.31678 | AZ59: 0.0075 | BA59: 0.0075 | BB59: 0 | BC59: 208 | BE59: 182.8 | BF59: 51.255986 | BG59: 65 | BH59: 0.78855363 | BI59: -164.92524 | BL59: 26 | BM59: 165 | BO59: 561 | BP59: 157.30092 | BQ59: 78 | BR59: 2.0166785 | BS59: 227.18377 | BT59: 0.0075 | BU59: 0.0075 | BV59: 0 | BW59: 0 | BY59: 0.99890423 | BZ59: 1 | CA59: 0.99956169 | CB59: 0.9 | CC59: 0.0025 | CD59: =D59*AM59 -> 2765.3964
A60: BAS_RHIN | B60: STRASBOURG | C60: SCHILTIGHEIM KLEBER | D60: 2.9719176 | F60: 0.02075 | G60: 0.02075 | I60: 3 | J60: 3 | L60: 0.55 | M60: 0.545 | N60: 0.7 | Q60: 132 | R60: 44.415767 | S60: 36 | T60: 1.2337713 | U60: 3.6131602 | V60: 0.01 | W60: 0.01 | X60: 0 | Y60: 0 | AA60: 293 | AB60: 98.589544 | AC60: 200 | AD60: 0.49294772 | AE60: -420.26022 | AH60: 302 | AI60: 421 | AK60: 1803.2763 | AL60: 606.77197 | AM60: 753.1 | AN60: 0.80569907 | AO60: -882.50508 | AR60: 435 | AS60: 883 | AU60: 1132.2302 | AV60: 380.97631 | AW60: 573 | AX60: 0.66488013 | AY60: -911.26032 | BB60: 571 | BC60: 912 | BE60: 195.6 | BF60: 65.816092 | BG60: 65 | BH60: 1.0125553 | BI60: -94.161965 | BJ60: 0.00825 | BK60: 0.00825 | BL60: 0 | BM60: 95 | BO60: 144 | BP60: 48.453564 | BQ60: 78 | BR60: 0.62119954 | BS60: -134.17149 | BV60: 88 | BW60: 135 | BY60: 0.99910314 | BZ60: 1 | CA60: 0.99964126 | CB60: 0.9 | CC60: 0.0025 | CD60: =D60*AM60 -> 2238.1511
A61: BAS_RHIN | B61: STRASBOURG | C61: STRASBOURG ANVERS | D61: 4.458173 | F61: 0.05025 | G61: 0.05025 | I61: 6 | J61: 6 | L61: 0.21 | M61: 0.568 | N61: 0.7 | Q61: 255 | R61: 57.198318 | S61: 36 | T61: 1.5888422 | U61: 62.406925 | V61: 0.01 | W61: 0.01 | X61: 0 | Y61: 0 | AA61: 498 | AB61: 111.70495 | AC61: 200 | AD61: 0.55852475 | AE61: -571.96153 | AH61: 394 | AI61: 572 | AK61: 5185.7896 | AL61: 1163.2096 | AM61: 828 | AN61: 1.4048425 | AO61: 756.14888 | AP61: 0.01 | AQ61: 0.01 | AR61: 0 | AS61: 0 | AU61: 2906.9903 | AV61: 652.05865 | AW61: 573 | AX61: 1.1379732 | AY61: -158.4495 | AZ61: 0.0105 | BA61: 0.0105 | BB61: 0 | BC61: 159 | BE61: 297.8 | BF61: 66.798663 | BG61: 65 | BH61: 1.0276717 | BI61: -136.87187 | BJ61: 0.00975 | BK61: 0.00975 | BL61: 0 | BM61: 137 | BO61: 748 | BP61: 167.78173 | BQ61: 78 | BR61: 2.1510479 | BS61: 330.715 | BT61: 0.0075 | BU61: 0.0075 | BV61: 0 | BW61: 0 | BY61: 0.99805825 | BZ61: 1 | CA61: 0.9992233 | CB61: 0.9 | CC61: 0.0025 | CD61: =D61*AM61 -> 3691.3673
A62: BAS_RHIN | B62: STRASBOURG | C62: STRASBOURG AUSTERLITZ | D62: 2.3558051 | F62: 0.035 | G62: 0.035 | I62: 4 | J62: 4 | L62: 0.42 | M62: 0.367 | N62: 0.7 | Q62: 140 | R62: 59.427666 | S62: 36 | T62: 1.6507685 | U62: 38.229219 | V62: 0.01 | W62: 0.01 | X62: 0 | Y62: 0 | AA62: 449 | AB62: 190.59302 | AC62: 200 | AD62: 0.95296508 | AE62: -116.39323 | AH62: 23 | AI62: 117 | AK62: 1787.5965 | AL62: 758.80492 | AM62: 828 | AN62: 0.91643106 | AO62: -553.13145 | AR62: 164 | AS62: 554 | AU62: 1144.7849 | AV62: 485.94209 | AW62: 573 | AX62: 0.84806648 | AY62: -475.06673 | BB62: 206 | BC62: 476 | BE62: 180 | BF62: 76.407 | BG62: 65 | BH62: 1.1754923 | BI62: -49.690998 | BJ62: 0.018 | BK62: 0.018 | BL62: 0 | BM62: 50 | BO62: 205 | BP62: 87.019083 | BQ62: 78 | BR62: 1.1156293 | BS62: -15.503358 | BT62: 0.0045 | BU62: 0.0045 | BV62: 0 | BW62: 16 | BY62: 0.99805447 | BZ62: 1 | CA62: 0.99922179 | CB62: 0.9 | CC62: 0.0025 | CD62: =D62*AM62 -> 1950.6066
A63: BAS_RHIN | B63: STRASBOURG | C63: STRASBOURG CRONENBOURG | D63: 4.8642478 | F63: 0.04525 | G63: 0.04525 | I63: 5 | J63: 5 | L63: 0.75 | M63: 0.757 | N63: 0.7 | O63: 0.008 | Q63: 319 | R63: 65.580541 | S63: 36 | T63: 1.8216817 | U63: 108.8645 | V63: 0.01 | W63: 0.01 | X63: 0 | Y63: 0 | AA63: 861 | AB63: 177.00579 | AC63: 200 | AD63: 0.88502893 | AE63: -306.41947 | AH63: 112 | AI63: 307 | AK63: 3238.4261 | AL63: 665.76093 | AM63: 718.8 | AN63: 0.92621165 | AO63: -957.27943 | AR63: 258 | AS63: 958 | AU63: 2356.3083 | AV63: 484.4137 | AW63: 573 | AX63: 0.84539913 | AY63: -988.34851 | BB63: 431 | BC63: 989 | BE63: 367.4 | BF63: 75.530692 | BG63: 65 | BH63: 1.1620106 | BI63: -106.86416 | BJ63: 0.01725 | BK63: 0.01725 | BL63: 0 | BM63: 107 | BO63: 655 | BP63: 134.65597 | BQ63: 78 | BR63: 1.7263586 | BS63: 199.70641 | BT63: 0.0075 | BU63: 0.0075 | BV63: 0 | BW63: 0 | BY63: 0.9996447 | BZ63: 1 | CA63: 0.99985788 | CB63: 0.9 | CC63: 0.0025 | CD63: =D63*AM63 -> 3496.4213
A64: BAS_RHIN | B64: STRASBOURG | C64: STRASBOURG DANUBE | D64: 4.5506157 | F64: 0.037005 | G64: 0.037005 | I64: 5 | J64: 5 | L64: 0.35029947 | M64: 0.273 | N64: 0.7 | Q64: 179 | R64: 39.335336 | S64: 36 | T64: 1.0926482 | U64: -17.5866 | V64: 0.0045 | W64: 0.0045 | X64: 0 | Y64: 18 | AA64: 632 | AB64: 138.8823 | AC64: 200 | AD64: 0.69441152 | AE64: -460.14778 | AH64: 279 | AI64: 461 | AK64: 2762.2841 | AL64: 607.01326 | AM64: 823.6 | AN64: 0.73702436 | AO64: -1735.1804 | AR64: 986 | AS64: 1736 | AU64: 2910.6287 | AV64: 639.61207 | AW64: 573 | AX64: 1.1162514 | AY64: -218.37465 | AZ64: 0.009 | BA64: 0.009 | BB64: 0 | BC64: 219 | BE64: 329.6 | BF64: 72.429759 | BG64: 65 | BH64: 1.114304 | BI64: -114.08503 | BJ64: 0.01538 | BK64: 0.01538 | BL64: 0 | BM64: 115 | BO64: 408 | BP64: 89.658197 | BQ64: 78 | BR64: 1.1494641 | BS64: -17.937633 | BT64: 0.005625 | BU64: 0.005625 | BV64: 0 | BW64: 18 | BY64: 0.99983737 | BZ64: 1 | CA64: 0.99993495 | CB64: 0.9 | CC64: 0.0025 | CD64: =D64*AM64 -> 3747.8871
A65: BAS_RHIN | B65: STRASBOURG | C65: STRASBOURG FRANCS BOURGEOIS | D65: 4.6711098 | F65: 0.03525 | G65: 0.03525 | I65: 5 | J65: 5 | L65: 0.5 | M65: 0.637 | N65: 0.7 | Q65: 218 | R65: 46.669852 | S65: 36 | T65: 1.2963848 | U65: 16.208058 | V65: 0.01 | W65: 0.01 | X65: 0 | Y65: 0 | AA65: 657 | AB65: 140.6518 | AC65: 200 | AD65: 0.703259 | AE65: -464.06634 | AH65: 278 | AI65: 465 | AK65: 5009.698 | AL65: 1072.4856 | AM65: 828 | AN65: 1.2952725 | AO65: 368.48336 | AP65: 0.01 | AQ65: 0.01 | AR65: 0 | AS65: 0 | AU65: 2864.7233 | AV65: 613.28538 | AW65: 573 | AX65: 1.0703061 | AY65: -347.13173 | AZ65: 0.00525 | BA65: 0.00525 | BB65: 0 | BC65: 348 | BE65: 166.5 | BF65: 35.644634 | BG65: 65 | BH65: 0.54837899 | BI65: -288.9332 | BL65: 107 | BM65: 289 | BO65: 698 | BP65: 149.42916 | BQ65: 78 | BR65: 1.9157584 | BS65: 260.78413 | BT65: 0.0075 | BU65: 0.0075 | BV65: 0 | BW65: 0 | BY65: 0.99744327 | BZ65: 1 | CA65: 0.99897731 | CB65: 0.9 | CC65: 0.0025 | CD65: =D65*AM65 -> 3867.6789
A66: BAS_RHIN | B66: STRASBOURG | C66: STRASBOURG HALLES | D66: 7.9364296 | F66: 0.02625 | G66: 0.02625 | I66: 6 | J66: 6 | L66: 0.79 | M66: 0.719 | N66: 0.7 | O66: 0.002 | Q66: 740 | R66: 93.240921 | S66: 36 | T66: 2.5900256 | U66: 397.14624 | V66: 0.01 | W66: 0.01 | X66: 0 | Y66: 0 | AA66: 802 | AB66: 101.053 | AC66: 200 | AD66: 0.50526499 | AE66: -1102.7431 | AH66: 786 | AI66: 1103 | AK66: 5945.7009 | AL66: 749.16571 | AM66: 748.6 | AN66: 1.0007557 | AO66: -1183.7525 | AP66: 0.0005 | AQ66: 0.0005 | AR66: 0 | AS66: 1184 | AU66: 3648.4325 | AV66: 459.70703 | AW66: 573 | AX66: 0.80228103 | AY66: -1808.6565 | BB66: 900 | BC66: 1809 | BE66: 489.4 | BF66: 61.665009 | BG66: 65 | BH66: 0.94869245 | BI66: -284.40188 | BJ66: 0.00375 | BK66: 0.00375 | BL66: 0 | BM66: 285 | BO66: 1063 | BP66: 133.93932 | BQ66: 78 | BR66: 1.7171708 | BS66: 320.15019 | BT66: 0.0075 | BU66: 0.0075 | BV66: 0 | BW66: 0 | BY66: 0.99717286 | BZ66: 1 | CA66: 0.99886914 | CB66: 0.9 | CC66: 0.0025 | CD66: =D66*AM66 -> 5941.2112
A67: BAS_RHIN | B67: STRASBOURG | C67: STRASBOURG KOENIGSHOFFEN | D67: 2.1174603 | F67: 0.075 | G67: 0.075 | I67: 6 | J67: 6 | L67: 0.64 | M67: 0.514 | N67: 0.7 | Q67: 195 | R67: 92.091454 | S67: 36 | T67: 2.558096 | U67: 103.52571 | V67: 0.01 | W67: 0.01 | X67: 0 | Y67: 0 | AA67: 348 | AB67: 164.34783 | AC67: 200 | AD67: 0.82173913 | AE67: -160.19048 | AH67: 76 | AI67: 161 | AK67: 2280.3876 | AL67: 1076.9447 | AM67: 709.4 | AN67: 1.5181064 | AO67: 477.83595 | AP67: 0.01 | AQ67: 0.01 | AR67: 0 | AS67: 0 | AU67: 1708.7745 | AV67: 806.99245 | AW67: 573 | AX67: 1.4083638 | AY67: 252.80878 | AZ67: 0.015 | BA67: 0.015 | BB67: 0 | BC67: 0 | BE67: 221.1 | BF67: 104.41754 | BG67: 65 | BH67: 1.6064237 | BI67: 14.647619 | BJ67: 0.03 | BK67: 0.03 | BL67: 0 | BM67: 0 | BO67: 204 | BP67: 96.341829 | BQ67: 78 | BR67: 1.2351517 | BS67: 5.8057143 | BT67: 0.0075 | BU67: 0.0075 | BV67: 0 | BW67: 0 | BY67: 0.99740933 | BZ67: 1 | CA67: 0.99896373 | CB67: 0.9 | CC67: 0.0025 | CD67: =D67*AM67 -> 1502.1263
A68: BAS_RHIN | B68: STRASBOURG | C68: STRASBOURG MEINAU | D68: 3.3942761 | F68: 0.06025 | G68: 0.06025 | I68: 6 | J68: 6 | L68: 0.65 | M68: 0.581 | N68: 0.7 | Q68: 217 | R68: 63.931158 | S68: 36 | T68: 1.7758655 | U68: 70.367273 | V68: 0.01 | W68: 0.01 | X68: 0 | Y68: 0 | AA68: 497 | AB68: 146.42297 | AC68: 200 | AD68: 0.73211487 | AE68: -317.62626 | AH68: 182 | AI68: 318 | AK68: 3035.6684 | AL68: 894.34928 | AM68: 750.3 | AN68: 1.1919889 | AO68: -20.402044 | AP68: 0.0095 | AQ68: 0.0095 | AR68: 0 | AS68: 21 | AU68: 2280.0109 | AV68: 671.72229 | AW68: 573 | AX68: 1.1722902 | AY68: -53.893322 | AZ68: 0.01275 | BA68: 0.01275 | BB68: 0 | BC68: 54 | BE68: 261.1 | BF68: 76.923619 | BG68: 65 | BH68: 1.1834403 | BI68: -69.841919 | BJ68: 0.018 | BK68: 0.018 | BL68: 0 | BM68: 70 | BO68: 363 | BP68: 106.94475 | BQ68: 78 | BR68: 1.3710865 | BS68: 45.295758 | BT68: 0.0075 | BU68: 0.0075 | BV68: 0 | BW68: 0 | BY68: 0.9994702 | BZ68: 1 | CA68: 0.99978808 | CB68: 0.9 | CC68: 0.0025 | CD68: =D68*AM68 -> 2546.7254
A69: BAS_RHIN | B69: STRASBOURG | C69: STRASBOURG MONTAGNE VERTE | D69: 2.353727 | F69: 0.05075 | G69: 0.05075 | I69: 5 | J69: 5 | L69: 0.29 | M69: 0.466 | N69: 0.7 | Q69: 168 | R69: 71.376163 | S69: 36 | T69: 1.9826712 | U69: 66.318995 | V69: 0.01 | W69: 0.01 | X69: 0 | Y69: 0 | AA69: 258 | AB69: 109.61339 | AC69: 200 | AD69: 0.54806696 | AE69: -306.89447 | AH69: 213 | AI69: 307 | AK69: 1696.3133 | AL69: 720.69249 | AM69: 734.5 | AN69: 0.98120148 | AO69: -378.26161 | AR69: 33 | AS69: 379 | AU69: 1538.768 | AV69: 653.75809 | AW69: 573 | AX69: 1.1409391 | AY69: -79.65462 | AZ69: 0.0105 | BA69: 0.0105 | BB69: 0 | BC69: 80 | BE69: 189.7 | BF69: 80.595584 | BG69: 65 | BH69: 1.2399321 | BI69: -39.78838 | BJ69: 0.02025 | BK69: 0.02025 | BL69: 0 | BM69: 40 | BO69: 247 | BP69: 104.93995 | BQ69: 78 | BR69: 1.345384 | BS69: 26.691155 | BT69: 0.0075 | BU69: 0.0075 | BV69: 0 | BW69: 0 | BY69: 0.99944974 | BZ69: 1 | CA69: 0.9997799 | CB69: 0.9 | CC69: 0.0025 | CD69: =D69*AM69 -> 1728.8125
A70: BAS_RHIN | B70: STRASBOURG | C70: STRASBOURG NEUDORF | D70: 8.5089538 | F70: 0.022 | G70: 0.022 | I70: 4 | J70: 4 | L70: 0.90614286 | M70: 0.715 | N70: 0.7 | O70: 0.002 | Q70: 399 | R70: 46.891781 | S70: 36 | T70: 1.3025495 | U70: 31.413196 | V70: 0.01 | W70: 0.01 | X70: 0 | Y70: 0 | AA70: 678 | AB70: 79.680771 | AC70: 200 | AD70: 0.39840386 | AE70: -1364.1489 | AH70: 1024 | AI70: 1365 | AK70: 4963.5873 | AL70: 583.33697 | AM70: 728.4 | AN70: 0.80084702 | AO70: -2473.919 | AR70: 1235 | AS70: 2474 | AU70: 3214.7864 | AV70: 377.81218 | AW70: 573 | AX70: 0.65935809 | AY70: -2635.9702 | BB70: 1661 | BC70: 2636 | BE70: 444 | BF70: 52.180328 | BG70: 65 | BH70: 0.80277428 | BI70: -385.623 | BL70: 54 | BM70: 386 | BO70: 828 | BP70: 97.30926 | BQ70: 78 | BR70: 1.2475546 | BS70: 31.561925 | BT70: 0.0075 | BU70: 0.0075 | BV70: 0 | BW70: 0 | BY70: 0.99824214 | BZ70: 1 | CA70: 0.99929686 | CB70: 0.9 | CC70: 0.0025 | CD70: =D70*AM70 -> 6197.9219
A71: BAS_RHIN | B71: STRASBOURG | C71: STRASBOURG ROBERTSAU | D71: 6.50576 | F71: 0.03225 | G71: 0.03225 | I71: 5 | J71: 5 | L71: 0.77145603 | M71: 0.639 | N71: 0.7 | Q71: 249 | R71: 38.273776 | S71: 36 | T71: 1.0631604 | U71: -32.048833 | V71: 0.003 | W71: 0.003 | X71: 0 | Y71: 33 | AA71: 863 | AB71: 132.65168 | AC71: 200 | AD71: 0.6632584 | AE71: -698.38241 | AH71: 439 | AI71: 699 | AK71: 6402.9608 | AL71: 984.19874 | AM71: 828 | AN71: 1.1886458 | AO71: -61.162359 | AP71: 0.0095 | AQ71: 0.0095 | AR71: 0 | AS71: 62 | AU71: 4218.0316 | AV71: 648.35339 | AW71: 573 | AX71: 1.1315068 | AY71: -255.32904 | AZ71: 0.00975 | BA71: 0.00975 | BB71: 0 | BC71: 256 | BE71: 323.5 | BF71: 49.725166 | BG71: 65 | BH71: 0.76500256 | BI71: -310.8116 | BL71: 58 | BM71: 311 | BO71: 900 | BP71: 138.33895 | BQ71: 78 | BR71: 1.7735763 | BS71: 291.06086 | BT71: 0.0075 | BU71: 0.0075 | BV71: 0 | BW71: 0 | BY71: 0.99641738 | BZ71: 1 | CA71: 0.99856695 | CB71: 0.9 | CC71: 0.0025 | CD71: =D71*AM71 -> 5386.7693
A72: BAS_RHIN | B72: STRASBOURG | C72: STRASBOURG VOSGES | D72: 3.2863748 | F72: 0.0335 | G72: 0.0335 | I72: 5 | J72: 5 | L72: 0.55 | M72: 0.45 | N72: 0.7 | Q72: 160 | R72: 48.685865 | S72: 36 | T72: 1.3523851 | U72: 18.028609 | V72: 0.01 | W72: 0.01 | X72: 0 | Y72: 0 | AA72: 311 | AB72: 94.63315 | AC72: 200 | AD72: 0.47316575 | AE72: -477.72995 | AH72: 347 | AI72: 478 | AK72: 3117.3378 | AL72: 948.5643 | AM72: 828 | AN72: 1.1456091 | AO72: -148.00418 | AP72: 0.0075 | AQ72: 0.0075 | AR72: 0 | AS72: 149 | AU72: 2041.1804 | AV72: 621.10395 | AW72: 573 | AX72: 1.0839511 | AY72: -218.53093 | AZ72: 0.006 | BA72: 0.006 | BB72: 0 | BC72: 219 | BE72: 132.2 | BF72: 40.226696 | BG72: 65 | BH72: 0.61887225 | BI72: -188.22154 | BL72: 61 | BM72: 189 | BO72: 410 | BP72: 124.75753 | BQ72: 78 | BR72: 1.5994555 | BS72: 102.39532 | BT72: 0.0075 | BU72: 0.0075 | BV72: 0 | BW72: 0 | BY72: 0.99738611 | BZ72: 1 | CA72: 0.99895444 | CB72: 0.9 | CC72: 0.0025 | CD72: =D72*AM72 -> 2721.1183
A73: HAUT_RHIN | B73: COLMAR | C73: COLMAR MARAICHERS | D73: 4.6677861 | F73: 0.024 | G73: 0.024 | I73: 4 | J73: 4 | L73: 0.67 | M73: 0.467 | N73: 0.7 | Q73: 203 | R73: 43.489568 | S73: 36 | T73: 1.2080435 | U73: 1.3516395 | V73: 0.01 | W73: 0.01 | X73: 0 | Y73: 0 | AA73: 626 | AB73: 134.11069 | AC73: 200 | AD73: 0.67055343 | AE73: -494.26867 | AH73: 308 | AI73: 495 | AK73: 4176.37 | AL73: 894.7218 | AM73: 828 | AN73: 1.0805819 | AO73: -461.54227 | AP73: 0.004 | AQ73: 0.004 | AR73: 0 | AS73: 462 | AU73: 2061.4337 | AV73: 441.62985 | AW73: 573 | AX73: 0.77073272 | AY73: -1148.1361 | BB73: 614 | BC73: 1149 | BE73: 225.6 | BF73: 48.331263 | BG73: 65 | BH73: 0.7435579 | BI73: -229.50915 | BL73: 48 | BM73: 230 | BO73: 447 | BP73: 95.762742 | BQ73: 78 | BR73: 1.2277275 | BS73: 10.095219 | BT73: 0.0075 | BU73: 0.0075 | BV73: 0 | BW73: 0 | BY73: 0.98781876 | BZ73: 1 | CA73: 0.9951275 | CB73: 0.9 | CC73: 0.0025 | CD73: =D73*AM73 -> 3864.9269
A74: HAUT_RHIN | B74: COLMAR | C74: COLMAR REPUBLIQUE | D74: 7.9590446 | F74: 0.03125 | G74: 0.03125 | I74: 4 | J74: 4 | L74: 0.35 | M74: 0.337 | N74: 0.7 | Q74: 276 | R74: 34.677529 | S74: 36 | T74: 0.96326469 | U74: -67.830728 | X74: 11 | Y74: 68 | AA74: 1000 | AB74: 125.64322 | AC74: 200 | AD74: 0.6282161 | AE74: -910.17071 | AH74: 592 | AI74: 911 | AK74: 8336.9657 | AL74: 1047.4832 | AM74: 828 | AN74: 1.2650763 | AO74: 428.85892 | AP74: 0.01 | AQ74: 0.01 | AR74: 0 | AS74: 0 | AU74: 5228.4064 | AV74: 656.91382 | AW74: 573 | AX74: 1.1464465 | AY74: -244.2327 | AZ74: 0.01125 | BA74: 0.01125 | BB74: 0 | BC74: 245 | BE74: 458.8 | BF74: 57.64511 | BG74: 65 | BH74: 0.88684784 | BI74: -317.20685 | BL74: 7 | BM74: 318 | BO74: 953 | BP74: 119.73799 | BQ74: 78 | BR74: 1.5351024 | BS74: 208.03342 | BT74: 0.0075 | BU74: 0.0075 | BV74: 0 | BW74: 0 | BY74: 0.99463982 | BZ74: 1 | CA74: 0.99785593 | CB74: 0.9 | CC74: 0.0025 | CD74: =D74*AM74 -> 6590.089
A75: HAUT_RHIN | B75: COLMAR | C75: COLMAR SAINTE MARIE | D75: 7.0505428 | F75: 0.021 | G75: 0.021 | I75: 4 | J75: 4 | L75: 0.65 | M75: 0.531 | N75: 0.7 | Q75: 280 | R75: 39.713255 | S75: 36 | T75: 1.103146 | U75: -24.583447 | V75: 0.005 | W75: 0.005 | X75: 0 | Y75: 25 | AA75: 538 | AB75: 76.306182 | AC75: 200 | AD75: 0.38153091 | AE75: -1154.1303 | AH75: 873 | AI75: 1155 | AK75: 3426.7987 | AL75: 486.03333 | AM75: 809.9 | AN75: 0.60011523 | AO75: -3425.4827 | AR75: 2284 | AS75: 3426 | AU75: 3486.1158 | AV75: 494.44645 | AW75: 573 | AX75: 0.86290829 | AY75: -1361.8374 | BB75: 554 | BC75: 1362 | BE75: 450 | BF75: 63.824874 | BG75: 65 | BH75: 0.98192113 | BI75: -237.42792 | BJ75: 0.006 | BK75: 0.006 | BL75: 0 | BM75: 238 | BO75: 715 | BP75: 101.41063 | BQ75: 78 | BR75: 1.3001363 | BS75: 55.069198 | BT75: 0.0075 | BU75: 0.0075 | BV75: 0 | BW75: 0 | BY75: 0.98205524 | BZ75: 1 | CA75: 0.99282209 | CB75: 0.9 | CC75: 0.0025 | CD75: =D75*AM75 -> 5710.2346
A76: HAUT_RHIN | B76: COLMAR | C76: ENSISHEIM | D76: 2.9588746 | F76: 0.02 | G76: 0.02 | I76: 3 | J76: 3 | L76: 0.05 | M76: 0.113 | N76: 0.7 | Q76: 133 | R76: 44.949522 | S76: 36 | T76: 1.2485978 | U76: 5.176617 | V76: 0.01 | W76: 0.01 | X76: 0 | Y76: 0 | AA76: 301 | AB76: 101.72787 | AC76: 200 | AD76: 0.50863933 | AE76: -409.12991 | AH76: 291 | AI76: 410 | AK76: 1595.3621 | AL76: 539.17868 | AM76: 773.2 | AN76: 0.69733403 | AO76: -1150.0001 | AR76: 693 | AS76: 1151 | AU76: 1439.748 | AV76: 486.58635 | AW76: 573 | AX76: 0.84919083 | AY76: -594.7742 | BB76: 256 | BC76: 595 | BE76: 150.3 | BF76: 50.79634 | BG76: 65 | BH76: 0.78148215 | BI76: -138.19027 | BL76: 23 | BM76: 139 | BO76: 435 | BP76: 147.01535 | BQ76: 78 | BR76: 1.8848122 | BS76: 158.04934 | BT76: 0.0075 | BU76: 0.0075 | BV76: 0 | BW76: 0 | BY76: 0.9942029 | BZ76: 1 | CA76: 0.99768116 | CB76: 0.9 | CC76: 0.0025 | CD76: =D76*AM76 -> 2287.8018
A77: HAUT_RHIN | B77: COLMAR | C77: GUEBWILLER | D77: 5.5406125 | F77: 0.02 | G77: 0.02 | I77: 3 | J77: 3 | L77: 0.77014085 | M77: 0.622 | N77: 0.7 | Q77: 266 | R77: 48.009133 | S77: 36 | T77: 1.333587 | U77: 26.645541 | V77: 0.01 | W77: 0.01 | X77: 0 | Y77: 0 | AA77: 611 | AB77: 110.27662 | AC77: 200 | AD77: 0.55138309 | AE77: -718.74699 | AH77: 498 | AI77: 719 | AK77: 3575.8502 | AL77: 645.38897 | AM77: 810.1 | AN77: 0.79667815 | AO77: -1810.29 | AR77: 913 | AS77: 1811 | AU77: 2961.206 | AV77: 534.45462 | AW77: 573 | AX77: 0.93273058 | AY77: -848.51919 | BB77: 214 | BC77: 849 | BE77: 233.7 | BF77: 42.179452 | BG77: 65 | BH77: 0.64891465 | BI77: -306.50972 | BL77: 91 | BM77: 307 | BO77: 539 | BP77: 97.281664 | BQ77: 78 | BR77: 1.2472008 | BS77: 20.398672 | BT77: 0.0075 | BU77: 0.0075 | BV77: 0 | BW77: 0 | BY77: 0.98975894 | BZ77: 1 | CA77: 0.99590358 | CB77: 0.9 | CC77: 0.0025 | CD77: =D77*AM77 -> 4488.4502
A78: HAUT_RHIN | B78: COLMAR | C78: HORBOURG WIHR | D78: 5.8590003 | F78: 0.015 | G78: 0.015 | I78: 3 | J78: 3 | L78: 0.58966292 | M78: 0.627 | N78: 0.7 | Q78: 233 | R78: 39.767876 | S78: 36 | T78: 1.1046632 | U78: -20.108815 | V78: 0.005 | W78: 0.005 | X78: 0 | Y78: 21 | AA78: 709 | AB78: 121.0104 | AC78: 200 | AD78: 0.60505202 | AE78: -697.16008 | AH78: 463 | AI78: 698 | AK78: 4319.3122 | AL78: 737.20976 | AM78: 748.1 | AN78: 0.9854428 | AO78: -940.42958 | AR78: 64 | AS78: 941 | AU78: 3309.9059 | AV78: 564.92672 | AW78: 573 | AX78: 0.98591051 | AY78: -718.74277 | BB78: 48 | BC78: 719 | BE78: 303.8 | BF78: 51.851849 | BG78: 65 | BH78: 0.79772075 | BI78: -267.45253 | BL78: 39 | BM78: 268 | BO78: 638 | BP78: 108.8923 | BQ78: 78 | BR78: 1.3960551 | BS78: 89.597568 | BT78: 0.0075 | BU78: 0.0075 | BV78: 0 | BW78: 0 | BY78: 0.99388725 | BZ78: 1 | CA78: 0.9975549 | CB78: 0.9 | CC78: 0.0025 | CD78: =D78*AM78 -> 4383.1182
A79: HAUT_RHIN | B79: COLMAR | C79: INGERSHEIM | D79: 5.5539345 | F79: 0.0105 | G79: 0.0105 | I79: 3 | J79: 3 | L79: 0.48000573 | M79: 0.6 | N79: 0.7 | Q79: 186 | R79: 33.489772 | S79: 36 | T79: 0.93027145 | U79: -53.929969 | X79: 14 | Y79: 54 | AA79: 686 | AB79: 123.51604 | AC79: 200 | AD79: 0.61758021 | AE79: -646.94427 | AH79: 425 | AI79: 647 | AK79: 4796.8851 | AL79: 863.69133 | AM79: 828 | AN79: 1.0431055 | AO79: -721.50422 | AP79: 0.002 | AQ79: 0.002 | AR79: 0 | AS79: 722 | AU79: 2229.3194 | AV79: 401.39461 | AW79: 573 | AX79: 0.70051415 | AY79: -1589.566 | BB79: 954 | BC79: 1590 | BE79: 273.5 | BF79: 49.244369 | BG79: 65 | BH79: 0.75760568 | BI79: -268.00861 | BL79: 52 | BM79: 269 | BO79: 501 | BP79: 90.206322 | BQ79: 78 | BR79: 1.1564913 | BS79: -18.848267 | BT79: 0.006 | BU79: 0.006 | BV79: 0 | BW79: 19 | BY79: 0.98998569 | BZ79: 1 | CA79: 0.99599428 | CB79: 0.9 | CC79: 0.0025 | CD79: =D79*AM79 -> 4598.6577
A80: HAUT_RHIN | B80: COLMAR | C80: MUNSTER | D80: 4.8785153 | F80: 0.043 | G80: 0.043 | I80: 6 | J80: 6 | L80: 0.61 | M80: 0.701 | N80: 0.7 | O80: 0.001 | Q80: 223 | R80: 45.710628 | S80: 36 | T80: 1.2697397 | U80: 12.248139 | V80: 0.01 | W80: 0.01 | X80: 0 | Y80: 0 | AA80: 701 | AB80: 143.69126 | AC80: 200 | AD80: 0.71845629 | AE80: -469.84367 | AH80: 275 | AI80: 470 | AK80: 4895.5168 | AL80: 1003.485 | AM80: 826.9 | AN80: 1.2135506 | AO80: 54.663646 | AP80: 0.01 | AQ80: 0.01 | AR80: 0 | AS80: 0 | AU80: 3252.6414 | AV80: 666.72772 | AW80: 573 | AX80: 1.1635737 | AY80: -101.82574 | AZ80: 0.012 | BA80: 0.012 | BB80: 0 | BC80: 102 | BE80: 251.3 | BF80: 51.511573 | BG80: 65 | BH80: 0.79248575 | BI80: -224.35524 | BL80: 35 | BM80: 225 | BO80: 652 | BP80: 133.64722 | BQ80: 78 | BR80: 1.7134259 | BS80: 195.37097 | BT80: 0.0075 | BU80: 0.0075 | BV80: 0 | BW80: 0 | BY80: 0.9876813 | BZ80: 1 | CA80: 0.99507252 | CB80: 0.9 | CC80: 0.0025 | CD80: =D80*AM80 -> 4034.0443
A81: HAUT_RHIN | B81: COLMAR | C81: NEUF BRISACH | D81: 3.588095 | F81: 0.03625 | G81: 0.03625 | I81: 5 | J81: 5 | L81: 0.67 | M81: 0.505 | N81: 0.7 | Q81: 148 | R81: 41.247514 | S81: 36 | T81: 1.1457643 | U81: -7.0057037 | V81: 0.0075 | W81: 0.0075 | X81: 0 | Y81: 8 | AA81: 303 | AB81: 84.445925 | AC81: 200 | AD81: 0.42222962 | AE81: -558.1428 | AH81: 415 | AI81: 559 | AK81: 1882.2057 | AL81: 524.56963 | AM81: 750.3 | AN81: 0.69914652 | AO81: -1348.3715 | AR81: 810 | AS81: 1349 | AU81: 2233.1414 | AV81: 622.37523 | AW81: 573 | AX81: 1.0861697 | AY81: -234.03268 | AZ81: 0.00675 | BA81: 0.00675 | BB81: 0 | BC81: 235 | BE81: 247.9 | BF81: 69.089587 | BG81: 65 | BH81: 1.0629167 | BI81: -101.93926 | BJ81: 0.012 | BK81: 0.012 | BL81: 0 | BM81: 102 | BO81: 347 | BP81: 96.708699 | BQ81: 78 | BR81: 1.2398551 | BS81: 11.154309 | BT81: 0.0075 | BU81: 0.0075 | BV81: 0 | BW81: 0 | BY81: 0.99202693 | BZ81: 1 | CA81: 0.99681077 | CB81: 0.9 | CC81: 0.0025 | CD81: =D81*AM81 -> 2692.1477
A82: HAUT_RHIN | B82: COLMAR | C82: ORBEY | D82: 5.0163981 | F82: 0.014625 | G82: 0.014625 | I82: 3 | J82: 3 | L82: 0.40725627 | M82: 0.369 | N82: 0.7 | Q82: 153 | R82: 30.499972 | S82: 36 | T82: 0.84722144 | U82: -63.708397 | X82: 28 | Y82: 64 | AA82: 630 | AB82: 125.58812 | AC82: 200 | AD82: 0.6279406 | AE82: -573.93554 | AH82: 374 | AI82: 574 | AK82: 4701.072 | AL82: 937.14095 | AM82: 828 | AN82: 1.1318127 | AO82: -283.22108 | AP82: 0.0065 | AQ82: 0.0065 | AR82: 0 | AS82: 284 | AU82: 1942.4704 | AV82: 387.22414 | AW82: 573 | AX82: 0.67578384 | AY82: -1506.8049 | BB82: 932 | BC82: 1507 | BE82: 183.7 | BF82: 36.619901 | BG82: 65 | BH82: 0.56338309 | BI82: -305.39881 | BL82: 110 | BM82: 306 | BO82: 449 | BP82: 89.506453 | BQ82: 78 | BR82: 1.1475186 | BS82: -20.53486 | BT82: 0.005625 | BU82: 0.005625 | BV82: 0 | BW82: 21 | BY82: 0.99180328 | BZ82: 1 | CA82: 0.99672131 | CB82: 0.9 | CC82: 0.0025 | CD82: =D82*AM82 -> 4153.5776
A83: HAUT_RHIN | B83: COLMAR | C83: RIBEAUVILLE | D83: 4.9251897 | F83: 0.0215 | G83: 0.0215 | I83: 4 | J83: 4 | L83: 0.73373063 | M83: 0.651 | N83: 0.7 | Q83: 213 | R83: 43.247065 | S83: 36 | T83: 1.2013074 | U83: 0.23180562 | V83: 0.01 | W83: 0.01 | X83: 0 | Y83: 0 | AA83: 884 | AB83: 179.48547 | AC83: 200 | AD83: 0.89742736 | AE83: -298.04552 | AH83: 102 | AI83: 299 | AK83: 3932.0273 | AL83: 798.35043 | AM83: 828 | AN83: 0.96419134 | AO83: -961.64118 | AR83: 147 | AS83: 962 | AU83: 2318.5467 | AV83: 470.75278 | AW83: 573 | AX83: 0.82155809 | AY83: -1068.0137 | BB83: 504 | BC83: 1069 | BE83: 296.1 | BF83: 60.119512 | BG83: 65 | BH83: 0.92491557 | BI83: -184.10599 | BJ83: 0.0015 | BK83: 0.0015 | BL83: 0 | BM83: 185 | BO83: 535 | BP83: 108.62526 | BQ83: 78 | BR83: 1.3926315 | BS83: 74.002246 | BT83: 0.0075 | BU83: 0.0075 | BV83: 0 | BW83: 0 | BY83: 0.99034447 | BZ83: 1 | CA83: 0.99613779 | CB83: 0.9 | CC83: 0.0025 | CD83: =D83*AM83 -> 4078.0571
A84: HAUT_RHIN | B84: COLMAR | C84: ROUFFACH | D84: 3.6932242 | F84: 0.04588 | G84: 0.04588 | I84: 5 | J84: 5 | L84: 0.71007194 | M84: 0.682 | N84: 0.7 | Q84: 144 | R84: 38.990322 | S84: 36 | T84: 1.0830645 | U84: -15.547284 | V84: 0.004 | W84: 0.004 | X84: 0 | Y84: 16 | AA84: 303 | AB84: 82.042136 | AC84: 200 | AD84: 0.41021068 | AE84: -583.3738 | AH84: 436 | AI84: 584 | AK84: 1947.2805 | AL84: 527.25759 | AM84: 795.7 | AN84: 0.66263364 | AO84: -1579.1577 | AR84: 992 | AS84: 1580 | AU84: 2527.3091 | AV84: 684.30969 | AW84: 573 | AX84: 1.1942577 | AY84: -12.151853 | AZ84: 0.01425 | BA84: 0.01425 | BB84: 0 | BC84: 13 | BE84: 279.8 | BF84: 75.760362 | BG84: 65 | BH84: 1.165544 | BI84: -80.289357 | BJ84: 0.01763 | BK84: 0.01763 | BL84: 0 | BM84: 81 | BO84: 513 | BP84: 138.90302 | BQ84: 78 | BR84: 1.780808 | BS84: 167.31422 | BT84: 0.0075 | BU84: 0.0075 | BV84: 0 | BW84: 0 | BY84: 0.98424754 | BZ84: 1 | CA84: 0.99369902 | CB84: 0.9 | CC84: 0.0025 | CD84: =D84*AM84 -> 2938.6985
A85: HAUT_RHIN | B85: MULHOUSE | C85: ALTKIRCH | D85: 7.7764141 | F85: 0.015625 | G85: 0.015625 | I85: 3 | J85: 3 | L85: 0.31207003 | M85: 0.361 | N85: 0.7 | Q85: 199 | R85: 25.590201 | S85: 36 | T85: 0.71083892 | U85: -136.94109 | X85: 81 | Y85: 137 | AA85: 621 | AB85: 79.856858 | AC85: 200 | AD85: 0.39928429 | AE85: -1245.3394 | AH85: 935 | AI85: 1246 | AK85: 4880.5293 | AL85: 627.60666 | AM85: 821.3 | AN85: 0.7641625 | AO85: -2783.5934 | AR85: 1507 | AS85: 2784 | AU85: 4804.3663 | AV85: 617.81255 | AW85: 573 | AX85: 1.0782069 | AY85: -542.69609 | AZ85: 0.006 | BA85: 0.006 | BB85: 0 | BC85: 543 | BE85: 276.4 | BF85: 35.543375 | BG85: 65 | BH85: 0.54682115 | BI85: -481.80038 | BL85: 179 | BM85: 482 | BO85: 721 | BP85: 92.716256 | BQ85: 78 | BR85: 1.1886699 | BS85: -6.8723607 | BT85: 0.007125 | BU85: 0.007125 | BV85: 0 | BW85: 7 | BY85: 0.98513728 | BZ85: 1 | CA85: 0.99405491 | CB85: 0.9 | CC85: 0.0025 | CD85: =D85*AM85 -> 6386.7689
A86: HAUT_RHIN | B86: MULHOUSE | C86: MULHOUSE DORNACH | D86: 5.1483945 | F86: 0.02 | G86: 0.02 | I86: 3 | J86: 3 | L86: 0.24648032 | M86: 0.226 | N86: 0.7 | Q86: 245 | R86: 47.587651 | S86: 36 | T86: 1.3218792 | U86: 22.589357 | V86: 0.01 | W86: 0.01 | X86: 0 | Y86: 0 | AA86: 402 | AB86: 78.082594 | AC86: 200 | AD86: 0.39041297 | AE86: -833.61468 | AH86: 628 | AI86: 834 | AK86: 2348.2115 | AL86: 456.10559 | AM86: 795.4 | AN86: 0.57342921 | AO86: -2565.8281 | AR86: 1747 | AS86: 2566 | AU86: 2411.7497 | AV86: 468.44695 | AW86: 573 | AX86: 0.81753394 | AY86: -1128.2864 | BB86: 539 | BC86: 1129 | BE86: 193.8 | BF86: 37.642803 | BG86: 65 | BH86: 0.57912004 | BI86: -308.16847 | BL86: 108 | BM86: 309 | BO86: 508 | BP86: 98.671537 | BQ86: 78 | BR86: 1.2650197 | BS86: 26.110273 | BT86: 0.0075 | BU86: 0.0075 | BV86: 0 | BW86: 0 | BY86: 0.97863818 | BZ86: 1 | CA86: 0.99145527 | CB86: 0.9 | CC86: 0.0025 | CD86: =D86*AM86 -> 4095.033
A87: HAUT_RHIN | B87: MULHOUSE | C87: MULHOUSE REUNION | D87: 10.993735 | F87: 0.024125 | G87: 0.024125 | I87: 4 | J87: 4 | L87: 0.6 | M87: 0.439 | N87: 0.7 | Q87: 588 | R87: 53.485008 | S87: 36 | T87: 1.4856947 | U87: 113.07065 | V87: 0.01 | W87: 0.01 | X87: 0 | Y87: 0 | AA87: 1325 | AB87: 120.52319 | AC87: 200 | AD87: 0.60261595 | AE87: -1313.4964 | AH87: 874 | AI87: 1314 | AK87: 8103.055 | AL87: 737.06116 | AM87: 828 | AN87: 0.89017049 | AO87: -2820.3199 | AR87: 1000 | AS87: 2821 | AU87: 5785.6201 | AV87: 526.2652 | AW87: 573 | AX87: 0.9184384 | AY87: -1773.672 | BB87: 514 | BC87: 1774 | BE87: 683.6 | BF87: 62.18087 | BG87: 65 | BH87: 0.95662877 | BI87: -388.28915 | BJ87: 0.0045 | BK87: 0.0045 | BL87: 0 | BM87: 389 | BO87: 1023 | BP87: 93.052999 | BQ87: 78 | BR87: 1.1929872 | BS87: -6.013582 | BT87: 0.007125 | BU87: 0.007125 | BV87: 0 | BW87: 7 | BY87: 0.99515475 | BZ87: 1 | CA87: 0.9980619 | CB87: 0.9 | CC87: 0.0025 | CD87: =D87*AM87 -> 9102.8125
A88: HAUT_RHIN | B88: MULHOUSE | C88: PFASTATT | D88: 3.3199164 | F88: 0.018875 | G88: 0.018875 | I88: 3 | J88: 3 | L88: 0.35 | M88: 0.262 | N88: 0.7 | Q88: 160 | R88: 48.193985 | S88: 36 | T88: 1.3387218 | U88: 16.579611 | V88: 0.01 | W88: 0.01 | X88: 0 | Y88: 0 | AA88: 278 | AB88: 83.737048 | AC88: 200 | AD88: 0.41868524 | AE88: -518.77994 | AH88: 386 | AI88: 519 | AK88: 1003.1788 | AL88: 302.1699 | AM88: 731.6 | AN88: 0.41302611 | AO88: -1911.4422 | AR88: 1426 | AS88: 1912 | AU88: 1535.6914 | AV88: 462.5693 | AW88: 573 | AX88: 0.80727627 | AY88: -747.0831 | BB88: 367 | BC88: 748 | BE88: 178.3 | BF88: 53.706172 | BG88: 65 | BH88: 0.82624879 | BI88: -145.39185 | BL88: 16 | BM88: 146 | BO88: 303 | BP88: 91.267358 | BQ88: 78 | BR88: 1.1700943 | BS88: -7.7441757 | BT88: 0.006375 | BU88: 0.006375 | BV88: 0 | BW88: 8 | BY88: 0.98439643 | BZ88: 1 | CA88: 0.99375857 | CB88: 0.9 | CC88: 0.0025 | CD88: =D88*AM88 -> 2428.8508
A89: HAUT_RHIN | B89: MULHOUSE | C89: RIEDISHEIM | D89: 3.5086655 | F89: 0.02 | G89: 0.02 | I89: 3 | J89: 3 | L89: 0.65 | M89: 0.581 | N89: 0.7 | Q89: 122 | R89: 34.771055 | S89: 36 | T89: 0.96586263 | U89: -29.574349 | X89: 5 | Y89: 30 | AA89: 504 | AB89: 143.64436 | AC89: 200 | AD89: 0.71822179 | AE89: -338.07972 | AH89: 198 | AI89: 339 | AK89: 3475.9511 | AL89: 990.67611 | AM89: 828 | AN89: 1.1964687 | AO89: -10.258954 | AP89: 0.01 | AQ89: 0.01 | AR89: 0 | AS89: 11 | AU89: 1459.7805 | AV89: 416.05006 | AW89: 573 | AX89: 0.72609085 | AY89: -952.77791 | BB89: 551 | BC89: 953 | BE89: 163.4 | BF89: 46.570413 | BG89: 65 | BH89: 0.71646789 | BI89: -178.69488 | BL89: 42 | BM89: 179 | BO89: 359 | BP89: 102.3181 | BQ89: 78 | BR89: 1.3117706 | BS89: 30.588911 | BT89: 0.0075 | BU89: 0.0075 | BV89: 0 | BW89: 0 | BY89: 0.98585073 | BZ89: 1 | CA89: 0.99434029 | CB89: 0.9 | CC89: 0.0025 | CD89: =D89*AM89 -> 2905.175
A90: HAUT_RHIN | B90: MULHOUSE | C90: RIXHEIM | D90: 2.8106058 | F90: 0.02125 | G90: 0.02125 | I90: 3 | J90: 3 | L90: 0.84 | M90: 0.081 | N90: 0.7 | Q90: 84 | R90: 29.886795 | S90: 36 | T90: 0.83018874 | U90: -37.418172 | X90: 18 | Y90: 38 | AA90: 297 | AB90: 105.67117 | AC90: 200 | AD90: 0.52835584 | AE90: -377.5454 | AH90: 266 | AI90: 378 | AK90: 1153.8788 | AL90: 410.5445 | AM90: 828 | AN90: 0.49582669 | AO90: -1638.7392 | AR90: 1174 | AS90: 1639 | AU90: 1856.3912 | AV90: 660.49504 | AW90: 573 | AX90: 1.1526964 | AY90: -76.181366 | AZ90: 0.01125 | BA90: 0.01125 | BB90: 0 | BC90: 77 | BE90: 93.2 | BF90: 33.16011 | BG90: 65 | BH90: 0.51015554 | BI90: -180.83407 | BL90: 72 | BM90: 181 | BO90: 319 | BP90: 113.49866 | BQ90: 78 | BR90: 1.455111 | BS90: 55.927293 | BT90: 0.0075 | BU90: 0.0075 | BV90: 0 | BW90: 0 | BY90: 0.98301024 | BZ90: 1 | CA90: 0.99320409 | CB90: 0.9 | CC90: 0.0025 | CD90: =D90*AM90 -> 2327.1816
A91: HAUT_RHIN | B91: MULHOUSE | C91: SAINT LOUIS | D91: 7.4237973 | F91: 0.025 | G91: 0.025 | I91: 4 | J91: 4 | L91: 0.56993714 | M91: 0.29 | N91: 0.7 | Q91: 295 | R91: 39.737076 | S91: 36 | T91: 1.1038077 | U91: -25.708045 | V91: 0.005 | W91: 0.005 | X91: 0 | Y91: 26 | AA91: 980 | AB91: 132.00791 | AC91: 200 | AD91: 0.66003957 | AE91: -801.71136 | AH91: 505 | AI91: 802 | AK91: 7372.6184 | AL91: 993.1061 | AM91: 828 | AN91: 1.1994035 | AO91: -3.666594 | AP91: 0.01 | AQ91: 0.01 | AR91: 0 | AS91: 4 | AU91: 3484.3758 | AV91: 469.35223 | AW91: 573 | AX91: 0.81911384 | AY91: -1620.2272 | BB91: 770 | BC91: 1621 | BE91: 317.7 | BF91: 42.79481 | BG91: 65 | BH91: 0.6583817 | BI91: -406.12024 | BL91: 117 | BM91: 407 | BO91: 775 | BP91: 104.39401 | BQ91: 78 | BR91: 1.3383848 | BS91: 80.132569 | BT91: 0.0075 | BU91: 0.0075 | BV91: 0 | BW91: 0 | BY91: 0.98729611 | BZ91: 1 | CA91: 0.99491844 | CB91: 0.9 | CC91: 0.0025 | CD91: =D91*AM91 -> 6146.9042
A92: HAUT_RHIN | B92: MULHOUSE | C92: THANN | D92: 11.573048 | F92: 0.02625 | G92: 0.02625 | I92: 5 | J92: 5 | L92: 0.87999773 | M92: 0.68 | N92: 0.7 | Q92: 447 | R92: 38.624224 | S92: 36 | T92: 1.0728951 | U92: -52.955672 | V92: 0.0035 | W92: 0.0035 | X92: 0 | Y92: 53 | AA92: 1323 | AB92: 114.31733 | AC92: 200 | AD92: 0.57158667 | AE92: -1454.5315 | AH92: 992 | AI92: 1455 | AK92: 9464.6769 | AL92: 817.82058 | AM92: 750.7 | AN92: 1.0894107 | AO92: -960.78767 | AP92: 0.0045 | AQ92: 0.0045 | AR92: 0 | AS92: 961 | AU92: 7378.3841 | AV92: 637.54891 | AW92: 573 | AX92: 1.1126508 | AY92: -579.24369 | AZ92: 0.00825 | BA92: 0.00825 | BB92: 0 | BC92: 580 | BE92: 423.3 | BF92: 36.576363 | BG92: 65 | BH92: 0.56271327 | BI92: -705.07218 | BL92: 254 | BM92: 706 | BO92: 1365 | BP92: 117.94646 | BQ92: 78 | BR92: 1.5121341 | BS92: 281.76271 | BT92: 0.0075 | BU92: 0.0075 | BV92: 0 | BW92: 0 | BY92: 0.97773301 | BZ92: 1 | CA92: 0.9910932 | CB92: 0.9 | CC92: 0.0025 | CD92: =D92*AM92 -> 8687.8871
A93: HAUT_RHIN | B93: MULHOUSE | C93: WITTELSHEIM | D93: 3.391704 | F93: 0.04325 | G93: 0.04325 | I93: 5 | J93: 5 | L93: 0.26 | M93: 0.582 | N93: 0.7 | Q93: 139 | R93: 40.98235 | S93: 36 | T93: 1.1383986 | U93: -7.5216112 | V93: 0.007 | W93: 0.007 | X93: 0 | Y93: 8 | AA93: 235 | AB93: 69.286707 | AC93: 200 | AD93: 0.34643354 | AE93: -579.00895 | AH93: 444 | AI93: 580 | AK93: 911.64261 | AL93: 268.78602 | AM93: 681.5 | AN93: 0.39440355 | AO93: -1862.0929 | AR93: 1400 | AS93: 1863 | AU93: 3058.6961 | AV93: 901.81695 | AW93: 573 | AX93: 1.5738516 | AY93: 726.56048 | AZ93: 0.015 | BA93: 0.015 | BB93: 0 | BC93: 0 | BE93: 232 | BF93: 68.402196 | BG93: 65 | BH93: 1.0523415 | BI93: -98.691136 | BJ93: 0.01125 | BK93: 0.01125 | BL93: 0 | BM93: 99 | BO93: 384 | BP93: 113.21743 | BQ93: 78 | BR93: 1.4515055 | BS93: 66.536509 | BT93: 0.0075 | BU93: 0.0075 | BV93: 0 | BW93: 0 | BY93: 0.97960548 | BZ93: 1 | CA93: 0.99184219 | CB93: 0.9 | CC93: 0.0025 | CD93: =D93*AM93 -> 2311.4463
A94: HAUT_RHIN | B94: MULHOUSE | C94: WITTENHEIM | D94: 5.4532972 | F94: 0.008875 | G94: 0.008875 | I94: 2 | J94: 2 | L94: 0.28004684 | M94: 0.174 | N94: 0.7 | Q94: 117 | R94: 21.45491 | S94: 36 | T94: 0.59596972 | U94: -118.58244 | X94: 80 | Y94: 119 | AA94: 376 | AB94: 68.949112 | AC94: 200 | AD94: 0.34474556 | AE94: -932.79133 | AH94: 715 | AI94: 933 | AK94: 1716.976 | AL94: 314.85099 | AM94: 786.9 | AN94: 0.40011562 | AO94: -3432.4635 | AR94: 2575 | AS94: 3433 | AU94: 2367.9863 | AV94: 434.2302 | AW94: 573 | AX94: 0.75781885 | AY94: -1381.7008 | BB94: 757 | BC94: 1382 | BE94: 166.9 | BF94: 30.605337 | BG94: 65 | BH94: 0.47085134 | BI94: -364.79648 | BL94: 153 | BM94: 365 | BO94: 496 | BP94: 90.954148 | BQ94: 78 | BR94: 1.1660788 | BS94: -14.428619 | BT94: 0.006375 | BU94: 0.006375 | BV94: 0 | BW94: 15 | BY94: 0.98938649 | BZ94: 1 | CA94: 0.99575459 | CB94: 0.9 | CC94: 0.0025 | CD94: =D94*AM94 -> 4291.1996
A95: MARNE_ARDENNES | B95: CHALONS_EN_CHAMPAGNE | C95: CHALONS ROOSEVELT | D95: 5.0076981 | F95: 0.0645 | G95: 0.0645 | I95: 7 | J95: 7 | L95: 0.47 | M95: 0.808 | N95: 0.7 | O95: 0.015 | Q95: 224 | R95: 44.731131 | S95: 36 | T95: 1.2425314 | U95: 7.6674419 | V95: 0.01 | W95: 0.01 | X95: 0 | Y95: 0 | AA95: 949 | AB95: 189.50823 | AC95: 200 | AD95: 0.94754115 | AE95: -252.84754 | AH95: 53 | AI95: 253 | AK95: 5417.3872 | AL95: 1081.8119 | AM95: 675.8 | AN95: 1.600787 | AO95: 1356.3444 | AP95: 0.01 | AQ95: 0.01 | AR95: 0 | AS95: 0 | AU95: 3123.1229 | AV95: 623.66437 | AW95: 573 | AX95: 1.0884195 | AY95: -320.17034 | AZ95: 0.00675 | BA95: 0.00675 | BB95: 0 | BC95: 321 | BE95: 348.3 | BF95: 69.552915 | BG95: 65 | BH95: 1.0700448 | BI95: -139.95057 | BJ95: 0.01275 | BK95: 0.01275 | BL95: 0 | BM95: 140 | BO95: 491 | BP95: 98.049042 | BQ95: 78 | BR95: 1.257039 | BS95: 22.279458 | BT95: 0.0075 | BU95: 0.0075 | BV95: 0 | BW95: 0 | BY95: 0.9971707 | BZ95: 1 | CA95: 0.99886828 | CB95: 0.9 | CC95: 0.0025 | CD95: =D95*AM95 -> 3384.2024
A96: MARNE_ARDENNES | B96: CHALONS_EN_CHAMPAGNE | C96: CHALONS VIVIERS | D96: 9.8045208 | F96: 0.0555 | G96: 0.0555 | I96: 7 | J96: 7 | L96: 0.82 | M96: 0.769 | N96: 0.7 | O96: 0.009 | Q96: 549 | R96: 55.994578 | S96: 36 | T96: 1.5554049 | U96: 125.4447 | V96: 0.01 | W96: 0.01 | X96: 0 | Y96: 0 | AA96: 1479 | AB96: 150.84878 | AC96: 200 | AD96: 0.7542439 | AE96: -874.08499 | AH96: 482 | AI96: 875 | AK96: 11716.567 | AL96: 1195.0168 | AM96: 705.5 | AN96: 1.6938579 | AO96: 3416.0596 | AP96: 0.01 | AQ96: 0.01 | AR96: 0 | AS96: 0 | AU96: 7346.765 | AV96: 749.32423 | AW96: 573 | AX96: 1.3077212 | AY96: 605.17647 | AZ96: 0.015 | BA96: 0.015 | BB96: 0 | BC96: 0 | BE96: 588.7 | BF96: 60.04373 | BG96: 65 | BH96: 0.92374969 | BI96: -367.24078 | BJ96: 0.0015 | BK96: 0.0015 | BL96: 0 | BM96: 368 | BO96: 1558 | BP96: 158.90629 | BQ96: 78 | BR96: 2.0372601 | BS96: 640.29685 | BT96: 0.0075 | BU96: 0.0075 | BV96: 0 | BW96: 0 | BY96: 0.99799917 | BZ96: 1 | CA96: 0.99919967 | CB96: 0.9 | CC96: 0.0025 | CD96: =D96*AM96 -> 6917.0894
A97: MARNE_ARDENNES | B97: CHALONS_EN_CHAMPAGNE | C97: FAGNIERES LECLERC | D97: 3.1437778 | F97: 0.047 | G97: 0.047 | I97: 6 | J97: 6 | L97: 0.79 | M97: 0.722 | N97: 0.7 | O97: 0.003 | Q97: 147 | R97: 46.75903 | S97: 36 | T97: 1.298862 | U97: 11.1888 | V97: 0.01 | W97: 0.01 | X97: 0 | Y97: 0 | AA97: 368 | AB97: 117.05662 | AC97: 200 | AD97: 0.5852831 | AE97: -386.50666 | AH97: 261 | AI97: 387 | AK97: 1731.5807 | AL97: 550.79614 | AM97: 612 | AN97: 0.89999369 | AO97: -577.20974 | AR97: 193 | AS97: 578 | AU97: 2227.2055 | AV97: 708.44877 | AW97: 573 | AX97: 1.2363853 | AY97: 65.543907 | AZ97: 0.015 | BA97: 0.015 | BB97: 0 | BC97: 0 | BE97: 224.2 | BF97: 71.315473 | BG97: 65 | BH97: 1.0971611 | BI97: -82.318332 | BJ97: 0.015 | BK97: 0.015 | BL97: 0 | BM97: 83 | BO97: 255 | BP97: 81.112604 | BQ97: 78 | BR97: 1.0399052 | BS97: -39.257599 | BT97: 0.0015 | BU97: 0.0015 | BV97: 0 | BW97: 40 | BY97: 0.99767736 | BZ97: 1 | CA97: 0.99907095 | CB97: 0.9 | CC97: 0.0025 | CD97: =D97*AM97 -> 1923.992
A98: MARNE_ARDENNES | B98: CHALONS_EN_CHAMPAGNE | C98: MONTMIRAIL | D98: 2.9191919 | F98: 0.06725 | G98: 0.06725 | I98: 7 | J98: 7 | L98: 0.86 | M98: 0.741 | N98: 0.7 | O98: 0.005 | Q98: 131 | R98: 44.875433 | S98: 36 | T98: 1.2465398 | U98: 4.8909091 | V98: 0.01 | W98: 0.01 | X98: 0 | Y98: 0 | AA98: 400 | AB98: 137.02422 | AC98: 200 | AD98: 0.68512111 | AE98: -300.60606 | AH98: 184 | AI98: 301 | AK98: 2167.1854 | AL98: 742.39222 | AM98: 619 | AN98: 1.1993412 | AO98: -1.1903875 | AP98: 0.01 | AQ98: 0.01 | AR98: 0 | AS98: 2 | AU98: 2269.5534 | AV98: 777.45946 | AW98: 573 | AX98: 1.3568228 | AY98: 262.31701 | AZ98: 0.015 | BA98: 0.015 | BB98: 0 | BC98: 0 | BE98: 219.2 | BF98: 75.089273 | BG98: 65 | BH98: 1.1552196 | BI98: -65.421212 | BJ98: 0.01725 | BK98: 0.01725 | BL98: 0 | BM98: 66 | BO98: 286 | BP98: 97.972318 | BQ98: 78 | BR98: 1.2560554 | BS98: 12.763636 | BT98: 0.0075 | BU98: 0.0075 | BV98: 0 | BW98: 0 | BY98: 0.99551346 | BZ98: 1 | CA98: 0.99820538 | CB98: 0.9 | CC98: 0.0025 | CD98: =D98*AM98 -> 1806.9798
A99: MARNE_ARDENNES | B99: CHALONS_EN_CHAMPAGNE | C99: MOURMELON LE GRAND | D99: 2.9007135 | F99: 0.09338 | G99: 0.09338 | I99: 8 | J99: 8 | L99: 0.76017391 | M99: 0.842 | N99: 0.7 | O99: 0.02 | Q99: 165 | R99: 56.882557 | S99: 36 | T99: 1.580071 | U99: 39.689177 | V99: 0.01 | W99: 0.01 | X99: 0 | Y99: 0 | AA99: 731 | AB99: 252.00696 | AC99: 200 | AD99: 1.2600348 | AE99: 34.828764 | AF99: 0.01 | AG99: 0.01 | AH99: 0 | AI99: 0 | AK99: 2441.4082 | AL99: 841.65783 | AM99: 656.6 | AN99: 1.2818426 | AO99: 155.87804 | AP99: 0.01 | AQ99: 0.01 | AR99: 0 | AS99: 0 | AU99: 2464.6122 | AV99: 849.65723 | AW99: 573 | AX99: 1.4828224 | AY99: 470.0816 | AZ99: 0.015 | BA99: 0.015 | BB99: 0 | BC99: 0 | BE99: 224.9 | BF99: 77.532649 | BG99: 65 | BH99: 1.19281 | BI99: -57.919565 | BJ99: 0.01838 | BK99: 0.01838 | BL99: 0 | BM99: 58 | BO99: 334 | BP99: 115.14409 | BQ99: 78 | BR99: 1.4762062 | BS99: 62.493218 | BT99: 0.0075 | BU99: 0.0075 | BV99: 0 | BW99: 0 | BY99: 0.995005 | BZ99: 1 | CA99: 0.998002 | CB99: 0.9 | CC99: 0.0025 | CD99: =D99*AM99 -> 1904.6085
A100: MARNE_ARDENNES | B100: CHALONS_EN_CHAMPAGNE | C100: SAINTE MENEHOULD | D100: 3.1829016 | F100: 0.05775 | G100: 0.05775 | I100: 7 | J100: 7 | L100: 0.81 | M100: 0.726 | N100: 0.7 | O100: 0.003 | Q100: 141 | R100: 44.299202 | S100: 36 | T100: 1.2305334 | U100: 3.4986509 | V100: 0.01 | W100: 0.01 | X100: 0 | Y100: 0 | AA100: 545 | AB100: 171.22741 | AC100: 200 | AD100: 0.85613705 | AE100: -218.89638 | AH100: 92 | AI100: 219 | AK100: 2694.7573 | AL100: 846.63543 | AM100: 642.5 | AN100: 1.3177205 | AO100: 240.74013 | AP100: 0.01 | AQ100: 0.01 | AR100: 0 | AS100: 0 | AU100: 2082.8688 | AV100: 654.39309 | AW100: 573 | AX100: 1.1420473 | AY100: -105.69433 | AZ100: 0.0105 | BA100: 0.0105 | BB100: 0 | BC100: 106 | BE100: 225.4 | BF100: 70.815887 | BG100: 65 | BH100: 1.0894752 | BI100: -84.932906 | BJ100: 0.01425 | BK100: 0.01425 | BL100: 0 | BM100: 85 | BO100: 360 | BP100: 113.10434 | BQ100: 78 | BR100: 1.4500557 | BS100: 62.08041 | BT100: 0.0075 | BU100: 0.0075 | BV100: 0 | BW100: 0 | BY100: 0.99646435 | BZ100: 1 | CA100: 0.99858574 | CB100: 0.9 | CC100: 0.0025 | CD100: =D100*AM100 -> 2045.0143
A101: MARNE_ARDENNES | B101: CHALONS_EN_CHAMPAGNE | C101: SARRY | D101: 2.5011 | F101: 0.05875 | G101: 0.05875 | I101: 6 | J101: 6 | L101: 1 | M101: 0.845 | N101: 0.7 | O101: 0.02 | Q101: 106 | R101: 42.381352 | S101: 36 | T101: 1.1772598 | U101: -2.04752 | V101: 0.009 | W101: 0.009 | X101: 0 | Y101: 3 | AA101: 410 | AB101: 163.92787 | AC101: 200 | AD101: 0.81963936 | AE101: -190.264 | AH101: 91 | AI101: 191 | AK101: 2478.0855 | AL101: 990.79826 | AM101: 654 | AN101: 1.5149821 | AO101: 515.22225 | AP101: 0.01 | AQ101: 0.01 | AR101: 0 | AS101: 0 | AU101: 1616.5571 | AV101: 646.33844 | AW101: 573 | AX101: 1.1279903 | AY101: -103.19929 | AZ101: 0.00975 | BA101: 0.00975 | BB101: 0 | BC101: 104 | BE101: 142.9 | BF101: 57.134861 | BG101: 65 | BH101: 0.87899786 | BI101: -100.95725 | BL101: 4 | BM101: 101 | BO101: 272 | BP101: 108.75215 | BQ101: 78 | BR101: 1.3942583 | BS101: 37.89704 | BT101: 0.0075 | BU101: 0.0075 | BV101: 0 | BW101: 0 | BY101: 0.99888517 | BZ101: 1 | CA101: 0.99955407 | CB101: 0.9 | CC101: 0.0025 | CD101: =D101*AM101 -> 1635.7194
...

Sheet CUMUL résultats semaine
A1: 1 | B1: 2 | C1: 3 | D1: 4 | E1: 5 | F1: 6 | G1: 7 | H1: 8 | I1: 9 | J1: 10 | K1: 11 | L1: 12 | M1: 13 | N1: 14 | O1: 15 | P1: 16 | Q1: 17 | R1: 18 | S1: 19 | T1: 20 | U1: 21 | V1: 22 | W1: 23 | X1: 24 | Y1: 25 | Z1: 26 | AA1: 27 | AB1: 28 | AC1: 29 | AD1: 30 | AE1: 31 | AF1: 32 | AG1: 33 | AH1: 34 | AI1: 35 | AJ1: 36 | AK1: 37 | AL1: 38 | AM1: 39 | AN1: 40 | AO1: 41 | AP1: 42 | AQ1: 43 | AR1: 44 | AS1: 45 | AT1: 46 | AU1: 47 | AV1: 48 | AW1: 49 | AX1: 50 | AY1: 51 | AZ1: 52 | BA1: 53 | BB1: 54 | BC1: 55 | BD1: 56 | BE1: 57 | BF1: 58 | BG1: 59 | BH1: 60 | BI1: 61 | BJ1: 62 | BK1: 63 | BL1: 64 | BM1: 65 | BN1: 66 | BO1: 67 | BP1: 68 | BQ1: 69 | BR1: 70 | BS1: 71 | BT1: 72 | BU1: 73 | BV1: 74 | BW1: 75 | BX1: 76 | BY1: 77 | BZ1: 78 | CA1: 79 | CB1: 80 | CC1: 81 | CD1: 82 | CE1: 83 | CF1: 84 | CG1: 85 | CH1: 86 | CI1: 87
A2: REGIONS | B2: TERRITOIRES | C2: AGENCES | D2: S0 PROD IARD | E2: S0 RAF IARD 100% | F2: S0 RAF IARD 120% | G2: S0 PROD CONSO | H2: S0 RAF CONSO 100% | I2: S0 RAF CONSO 120% | J2: S0 PROD BANCA | K2: S0 RAF BANCA 100% | L2: S0 RAF BANCA 120% | M2: S0 PROD ASS VIE | N2: S0 RAF ASS VIE 100% | O2: S0 RAF ASS VIE 120% | P2: S45 PROD IARD | Q2: S45 RAF IARD 100% | R2: S45 RAF IARD 120% | S2: S45 PROD CONSO | T2: S45 RAF CONSO 100% | U2: S45 RAF CONSO 120% | V2: S45 PROD BANCA | W2: S45 RAF BANCA 100% | X2: S45 RAF BANCA 120% | Y2: S45 PROD ASS VIE | Z2: S45 RAF ASS VIE 100% | AA2: S45 RAF ASS VIE 120% | AB2: S46 PROD IARD | AC2: S46 RAF IARD 100% | AD2: S46 RAF IARD 120% | AE2: S46 PROD CONSO | AF2: S46 RAF CONSO 100% | AG2: S46 RAF CONSO 120% | AH2: S46 PROD BANCA | AI2: S46 RAF BANCA 100% | AJ2: S46 RAF BANCA 120% | AK2: S46 PROD ASS VIE | AL2: S46 RAF ASS VIE 100% | AM2: S46 RAF ASS VIE 120% | AN2: S47 PROD IARD | AO2: S47 RAF IARD 100% | AP2: S47 RAF IARD 120% | AQ2: S47 PROD CONSO | AR2: S47 RAF CONSO 100% | AS2: S47 RAF CONSO 120% | AT2: S47 PROD BANCA | AU2: S47 RAF BANCA 100% | AV2: S47 RAF BANCA 120% | AW2: S47 PROD ASS VIE | AX2: S47 RAF ASS VIE 100% | AY2: S47 RAF ASS VIE 120% | AZ2: S48 PROD IARD | BA2: S48 RAF IARD 100% | BB2: S48 RAF IARD 120% | BC2: S48 PROD CONSO | BD2: S48 RAF CONSO 100% | BE2: S48 RAF CONSO 120% | BF2: S48 PROD BANCA | BG2: S48 RAF BANCA 100% | BH2: S48 RAF BANCA 120% | BI2: S48 PROD ASS VIE | BJ2: S48 RAF ASS VIE 100% | BK2: S48 RAF ASS VIE 120% | BL2: S49 PROD IARD | BM2: S49 RAF IARD 100% | BN2: S49 RAF IARD 120% | BO2: S49 PROD CONSO | BP2: S49 RAF CONSO 100% | BQ2: S49 RAF CONSO 120% | BR2: S49 PROD BANCA | BS2: S49 RAF BANCA 100% | BT2: S49 RAF BANA 120% | BU2: S49 PROD ASS VIE | BV2: S49 RAF ASS VIE 100% | BW2: S49 RAF ASS VIE 120% | BX2: S50 PROD IARD | BY2: S50 RAF IARD 100% | BZ2: S50 RAF IARD 120% | CA2: S50 PROD CONSO | CB2: S50 RAF CONSO 100% | CC2: S50 RAF CONSO 120% | CD2: S50 PROD BANCA | CE2: S50 RAF BANCA 100% | CF2: S50 RAF BANCA 120% | CG2: S50 PROD ASS VIE | CH2: S50 RAF ASS VIE 100% | CI2: S50 RAF ASS VIE 120%
A3: #N/A | B3: #N/A | C3: BOURBONNE LES BAINS | D3: =VLOOKUP($C3,'S0 remplacer avec S44'!$C:$BQ,55,0) -> #N/A | E3: =VLOOKUP($C3,'S0 remplacer avec S44'!$C:$BQ,62,0) -> #N/A | F3: =VLOOKUP($C3,'S0 remplacer avec S44'!$C:$BQ,63,0) -> #N/A | G3: =VLOOKUP($C3,'S0 remplacer avec S44'!$C:$BQ,45,0) -> #N/A | H3: =VLOOKUP($C3,'S0 remplacer avec S44'!$C:$BQ,52,0) -> #N/A | I3: =VLOOKUP($C3,'S0 remplacer avec S44'!$C:$BQ,53,0) -> #N/A | J3: =VLOOKUP($C3,'S0 remplacer avec S44'!$C:$BQ,15,0) -> #N/A | K3: =VLOOKUP($C3,'S0 remplacer avec S44'!$C:$BQ,22,0) -> #N/A | L3: =VLOOKUP($C3,'S0 remplacer avec S44'!$C:$BQ,23,0) -> #N/A | M3: =VLOOKUP($C3,'S0 remplacer avec S44'!$C:$BQ,35,0) -> #N/A | N3: =VLOOKUP($C3,'S0 remplacer avec S44'!$C:$BQ,42,0) -> #N/A | O3: =VLOOKUP($C3,'S0 remplacer avec S44'!$C:$BQ,43,0) -> #N/A | P3: =VLOOKUP($C3,'S45'!$C:$BQ,55,0) -> #N/A | Q3: =VLOOKUP($C3,'S45'!$C:$BQ,62,0) -> #N/A | R3: =VLOOKUP($C3,'S45'!$C:$BQ,63,0) -> #N/A | S3: =VLOOKUP($C3,'S45'!$C:$BQ,45,0) -> #N/A | T3: =VLOOKUP($C3,'S45'!$C:$BQ,52,0) -> #N/A | U3: =VLOOKUP($C3,'S45'!$C:$BQ,53,0) -> #N/A | V3: =VLOOKUP($C3,'S45'!$C:$BQ,15,0) -> #N/A | W3: =VLOOKUP($C3,'S45'!$C:$BQ,22,0) -> #N/A | X3: =VLOOKUP($C3,'S45'!$C:$BQ,23,0) -> #N/A | Y3: =VLOOKUP($C3,'S45'!$C:$BQ,35,0) -> #N/A | Z3: =VLOOKUP($C3,'S45'!$C:$BQ,42,0) -> #N/A | AA3: =VLOOKUP($C3,'S45'!$C:$BQ,43,0) -> #N/A | AB3: =VLOOKUP($C3,'S46'!$C:$BQ,55,0) -> #N/A | AC3: =VLOOKUP($C3,'S46'!$C:$BQ,62,0) -> #N/A | AD3: =VLOOKUP($C3,'S46'!$C:$BQ,63,0) -> #N/A | AE3: =VLOOKUP($C3,'S46'!$C:$BQ,45,0) -> #N/A | AF3: =VLOOKUP($C3,'S46'!$C:$BQ,52,0) -> #N/A | AG3: =VLOOKUP($C3,'S46'!$C:$BQ,53,0) -> #N/A | AH3: =VLOOKUP($C3,'S46'!$C:$BQ,15,0) -> #N/A | AI3: =VLOOKUP($C3,'S46'!$C:$BQ,22,0) -> #N/A | AJ3: =VLOOKUP($C3,'S46'!$C:$BQ,23,0) -> #N/A | AK3: =VLOOKUP($C3,'S46'!$C:$BQ,35,0) -> #N/A | AL3: =VLOOKUP($C3,'S46'!$C:$BQ,42,0) -> #N/A | AM3: =VLOOKUP($C3,'S46'!$C:$BQ,43,0) -> #N/A | AN3: =VLOOKUP($C3,'S47'!$C:$BQ,55,0) -> #N/A | AO3: =VLOOKUP($C3,'S47'!$C:$BQ,62,0) -> #N/A | AP3: =VLOOKUP($C3,'S47'!$C:$BQ,63,0) -> #N/A | AQ3: =VLOOKUP($C3,'S47'!$C:$BQ,45,0) -> #N/A | AR3: =VLOOKUP($C3,'S47'!$C:$BQ,52,0) -> #N/A | AS3: =VLOOKUP($C3,'S47'!$C:$BQ,53,0) -> #N/A | AT3: =VLOOKUP($C3,'S47'!$C:$BQ,15,0) -> #N/A | AU3: =VLOOKUP($C3,'S47'!$C:$BQ,22,0) -> #N/A | AV3: =VLOOKUP($C3,'S47'!$C:$BQ,23,0) -> #N/A | AW3: =VLOOKUP($C3,'S47'!$C:$BQ,35,0) -> #N/A | AX3: =VLOOKUP($C3,'S47'!$C:$BQ,42,0) -> #N/A | AY3: =VLOOKUP($C3,'S47'!$C:$BQ,43,0) -> #N/A | AZ3: =VLOOKUP($C3,'S48'!$C:$BQ,55,0) -> #N/A | BA3: =VLOOKUP($C3,'S48'!$C:$BQ,62,0) -> #N/A | BB3: =VLOOKUP($C3,'S48'!$C:$BQ,63,0) -> #N/A | BC3: =VLOOKUP($C3,'S48'!$C:$BQ,45,0) -> #N/A | BD3: =VLOOKUP($C3,'S48'!$C:$BQ,52,0) -> #N/A | BE3: =VLOOKUP($C3,'S48'!$C:$BQ,53,0) -> #N/A | BF3: =VLOOKUP($C3,'S48'!$C:$BQ,15,0) -> #N/A | BG3: =VLOOKUP($C3,'S48'!$C:$BQ,22,0) -> #N/A | BH3: =VLOOKUP($C3,'S48'!$C:$BQ,23,0) -> #N/A | BI3: =VLOOKUP($C3,'S48'!$C:$BQ,35,0) -> #N/A | BJ3: =VLOOKUP($C3,'S48'!$C:$BQ,42,0) -> #N/A | BK3: =VLOOKUP($C3,'S48'!$C:$BQ,43,0) -> #N/A | BL3: =VLOOKUP($C3,'S49'!$C:$BQ,55,0) -> #N/A | BM3: =VLOOKUP($C3,'S49'!$C:$BQ,62,0) -> #N/A | BN3: =VLOOKUP($C3,'S49'!$C:$BQ,63,0) -> #N/A | BO3: =VLOOKUP($C3,'S49'!$C:$BQ,45,0) -> #N/A | BP3: =VLOOKUP($C3,'S49'!$C:$BQ,52,0) -> #N/A | BQ3: =VLOOKUP($C3,'S49'!$C:$BQ,53,0) -> #N/A | BR3: =VLOOKUP($C3,'S49'!$C:$BQ,15,0) -> #N/A | BS3: =VLOOKUP($C3,'S49'!$C:$BQ,22,0) -> #N/A | BT3: =VLOOKUP($C3,'S49'!$C:$BQ,23,0) -> #N/A | BU3: =VLOOKUP($C3,'S49'!$C:$BQ,35,0) -> #N/A | BV3: =VLOOKUP($C3,'S49'!$C:$BQ,42,0) -> #N/A | BW3: =VLOOKUP($C3,'S49'!$C:$BQ,43,0) -> #N/A | BX3: =VLOOKUP($C3,'S50'!$C:$BQ,55,0) -> #N/A | BY3: =VLOOKUP($C3,'S50'!$C:$BQ,62,0) -> #N/A | BZ3: =VLOOKUP($C3,'S50'!$C:$BQ,63,0) -> #N/A | CA3: =VLOOKUP($C3,'S50'!$C:$BQ,45,0) -> #N/A | CB3: =VLOOKUP($C3,'S50'!$C:$BQ,52,0) -> #N/A | CC3: =VLOOKUP($C3,'S50'!$C:$BQ,53,0) -> #N/A | CD3: =VLOOKUP($C3,'S50'!$C:$BQ,15,0) -> #N/A | CE3: =VLOOKUP($C3,'S50'!$C:$BQ,22,0) -> #N/A | CF3: =VLOOKUP($C3,'S50'!$C:$BQ,23,0) -> #N/A | CG3: =VLOOKUP($C3,'S50'!$C:$BQ,35,0) -> #N/A | CH3: =VLOOKUP($C3,'S50'!$C:$BQ,42,0) -> #N/A | CI3: =VLOOKUP($C3,'S50'!$C:$BQ,43,0) -> #N/A
A4: AUBE_HAUTE_MARNE | B4: CHAUMONT | C4: CHAUMONT HOTEL DE VILLE | D4: =VLOOKUP($C4,'S0 remplacer avec S44'!$C:$BQ,55,0) -> 507.2 | E4: =VLOOKUP($C4,'S0 remplacer avec S44'!$C:$BQ,62,0) -> 1 | F4: =VLOOKUP($C4,'S0 remplacer avec S44'!$C:$BQ,63,0) -> 103 | G4: =VLOOKUP($C4,'S0 remplacer avec S44'!$C:$BQ,45,0) -> 5716.0244 | H4: =VLOOKUP($C4,'S0 remplacer avec S44'!$C:$BQ,52,0) -> 0 | I4: =VLOOKUP($C4,'S0 remplacer avec S44'!$C:$BQ,53,0) -> 0 | J4: =VLOOKUP($C4,'S0 remplacer avec S44'!$C:$BQ,15,0) -> 385 | K4: =VLOOKUP($C4,'S0 remplacer avec S44'!$C:$BQ,22,0) -> 0 | L4: =VLOOKUP($C4,'S0 remplacer avec S44'!$C:$BQ,23,0) -> 0 | M4: =VLOOKUP($C4,'S0 remplacer avec S44'!$C:$BQ,35,0) -> 7608.8552 | N4: =VLOOKUP($C4,'S0 remplacer avec S44'!$C:$BQ,42,0) -> 0 | O4: =VLOOKUP($C4,'S0 remplacer avec S44'!$C:$BQ,43,0) -> 0 | P4: =VLOOKUP($C4,'S45'!$C:$BQ,55,0) -> 519.5 | Q4: =VLOOKUP($C4,'S45'!$C:$BQ,62,0) -> 0 | R4: =VLOOKUP($C4,'S45'!$C:$BQ,63,0) -> 91 | S4: =VLOOKUP($C4,'S45'!$C:$BQ,45,0) -> 5803.4584 | T4: =VLOOKUP($C4,'S45'!$C:$BQ,52,0) -> 0 | U4: =VLOOKUP($C4,'S45'!$C:$BQ,53,0) -> 0 | V4: =VLOOKUP($C4,'S45'!$C:$BQ,15,0) -> 394 | W4: =VLOOKUP($C4,'S45'!$C:$BQ,22,0) -> 0 | X4: =VLOOKUP($C4,'S45'!$C:$BQ,23,0) -> 0 | Y4: =VLOOKUP($C4,'S45'!$C:$BQ,35,0) -> 7669.2314 | Z4: =VLOOKUP($C4,'S45'!$C:$BQ,42,0) -> 0 | AA4: =VLOOKUP($C4,'S45'!$C:$BQ,43,0) -> 0 | AB4: =VLOOKUP($C4,'S46'!$C:$BQ,55,0) -> 541.8 | AC4: =VLOOKUP($C4,'S46'!$C:$BQ,62,0) -> 0 | AD4: =VLOOKUP($C4,'S46'!$C:$BQ,63,0) -> 68 | AE4: =VLOOKUP($C4,'S46'!$C:$BQ,45,0) -> 5857.5541 | AF4: =VLOOKUP($C4,'S46'!$C:$BQ,52,0) -> 0 | AG4: =VLOOKUP($C4,'S46'!$C:$BQ,53,0) -> 0 | AH4: =VLOOKUP($C4,'S46'!$C:$BQ,15,0) -> 400 | AI4: =VLOOKUP($C4,'S46'!$C:$BQ,22,0) -> 0 | AJ4: =VLOOKUP($C4,'S46'!$C:$BQ,23,0) -> 0 | AK4: =VLOOKUP($C4,'S46'!$C:$BQ,35,0) -> 7669.1414 | AL4: =VLOOKUP($C4,'S46'!$C:$BQ,42,0) -> 0 | AM4: =VLOOKUP($C4,'S46'!$C:$BQ,43,0) -> 0 | AN4: =VLOOKUP($C4,'S47'!$C:$BQ,55,0) -> 619.3 | AO4: =VLOOKUP($C4,'S47'!$C:$BQ,62,0) -> 0 | AP4: =VLOOKUP($C4,'S47'!$C:$BQ,63,0) -> 113 | AQ4: =VLOOKUP($C4,'S47'!$C:$BQ,45,0) -> 6827.2114 | AR4: =VLOOKUP($C4,'S47'!$C:$BQ,52,0) -> 0 | AS4: =VLOOKUP($C4,'S47'!$C:$BQ,53,0) -> 0 | AT4: =VLOOKUP($C4,'S47'!$C:$BQ,15,0) -> 456 | AU4: =VLOOKUP($C4,'S47'!$C:$BQ,22,0) -> 0 | AV4: =VLOOKUP($C4,'S47'!$C:$BQ,23,0) -> 0 | AW4: =VLOOKUP($C4,'S47'!$C:$BQ,35,0) -> 8490.5895 | AX4: =VLOOKUP($C4,'S47'!$C:$BQ,42,0) -> 0 | AY4: =VLOOKUP($C4,'S47'!$C:$BQ,43,0) -> 0 | AZ4: =VLOOKUP($C4,'S48'!$C:$BQ,55,0) -> 627.5 | BA4: =VLOOKUP($C4,'S48'!$C:$BQ,62,0) -> 0 | BB4: =VLOOKUP($C4,'S48'!$C:$BQ,63,0) -> 287 | BC4: =VLOOKUP($C4,'S48'!$C:$BQ,45,0) -> 6931.5825 | BD4: =VLOOKUP($C4,'S48'!$C:$BQ,52,0) -> 0 | BE4: =VLOOKUP($C4,'S48'!$C:$BQ,53,0) -> 0 | BF4: =VLOOKUP($C4,'S48'!$C:$BQ,15,0) -> 460 | BG4: =VLOOKUP($C4,'S48'!$C:$BQ,22,0) -> 0 | BH4: =VLOOKUP($C4,'S48'!$C:$BQ,23,0) -> 0 | BI4: =VLOOKUP($C4,'S48'!$C:$BQ,35,0) -> 8979.4578 | BJ4: =VLOOKUP($C4,'S48'!$C:$BQ,42,0) -> 0 | BK4: =VLOOKUP($C4,'S48'!$C:$BQ,43,0) -> 0 | BL4: =VLOOKUP($C4,'S49'!$C:$BQ,55,0) -> #N/A | BM4: =VLOOKUP($C4,'S49'!$C:$BQ,62,0) -> #N/A | BN4: =VLOOKUP($C4,'S49'!$C:$BQ,63,0) -> #N/A | BO4: =VLOOKUP($C4,'S49'!$C:$BQ,45,0) -> #N/A | BP4: =VLOOKUP($C4,'S49'!$C:$BQ,52,0) -> #N/A | BQ4: =VLOOKUP($C4,'S49'!$C:$BQ,53,0) -> #N/A | BR4: =VLOOKUP($C4,'S49'!$C:$BQ,15,0) -> #N/A | BS4: =VLOOKUP($C4,'S49'!$C:$BQ,22,0) -> #N/A | BT4: =VLOOKUP($C4,'S49'!$C:$BQ,23,0) -> #N/A | BU4: =VLOOKUP($C4,'S49'!$C:$BQ,35,0) -> #N/A | BV4: =VLOOKUP($C4,'S49'!$C:$BQ,42,0) -> #N/A | BW4: =VLOOKUP($C4,'S49'!$C:$BQ,43,0) -> #N/A | BX4: =VLOOKUP($C4,'S50'!$C:$BQ,55,0) -> #N/A | BY4: =VLOOKUP($C4,'S50'!$C:$BQ,62,0) -> #N/A | BZ4: =VLOOKUP($C4,'S50'!$C:$BQ,63,0) -> #N/A | CA4: =VLOOKUP($C4,'S50'!$C:$BQ,45,0) -> #N/A | CB4: =VLOOKUP($C4,'S50'!$C:$BQ,52,0) -> #N/A | CC4: =VLOOKUP($C4,'S50'!$C:$BQ,53,0) -> #N/A | CD4: =VLOOKUP($C4,'S50'!$C:$BQ,15,0) -> #N/A | CE4: =VLOOKUP($C4,'S50'!$C:$BQ,22,0) -> #N/A | CF4: =VLOOKUP($C4,'S50'!$C:$BQ,23,0) -> #N/A | CG4: =VLOOKUP($C4,'S50'!$C:$BQ,35,0) -> #N/A | CH4: =VLOOKUP($C4,'S50'!$C:$BQ,42,0) -> #N/A | CI4: =VLOOKUP($C4,'S50'!$C:$BQ,43,0) -> #N/A
A5: AUBE_HAUTE_MARNE | B5: CHAUMONT | C5: CHAUMONT REPUBLIQUE | D5: =VLOOKUP($C5,'S0 remplacer avec S44'!$C:$BQ,55,0) -> 359.5 | E5: =VLOOKUP($C5,'S0 remplacer avec S44'!$C:$BQ,62,0) -> 0 | F5: =VLOOKUP($C5,'S0 remplacer avec S44'!$C:$BQ,63,0) -> 18 | G5: =VLOOKUP($C5,'S0 remplacer avec S44'!$C:$BQ,45,0) -> 3321.1073 | H5: =VLOOKUP($C5,'S0 remplacer avec S44'!$C:$BQ,52,0) -> 0 | I5: =VLOOKUP($C5,'S0 remplacer avec S44'!$C:$BQ,53,0) -> 5 | J5: =VLOOKUP($C5,'S0 remplacer avec S44'!$C:$BQ,15,0) -> 212 | K5: =VLOOKUP($C5,'S0 remplacer avec S44'!$C:$BQ,22,0) -> 0 | L5: =VLOOKUP($C5,'S0 remplacer avec S44'!$C:$BQ,23,0) -> 0 | M5: =VLOOKUP($C5,'S0 remplacer avec S44'!$C:$BQ,35,0) -> 3756.8421 | N5: =VLOOKUP($C5,'S0 remplacer avec S44'!$C:$BQ,42,0) -> 0 | O5: =VLOOKUP($C5,'S0 remplacer avec S44'!$C:$BQ,43,0) -> 0 | P5: =VLOOKUP($C5,'S45'!$C:$BQ,55,0) -> 360.5 | Q5: =VLOOKUP($C5,'S45'!$C:$BQ,62,0) -> 0 | R5: =VLOOKUP($C5,'S45'!$C:$BQ,63,0) -> 17 | S5: =VLOOKUP($C5,'S45'!$C:$BQ,45,0) -> 3323.438 | T5: =VLOOKUP($C5,'S45'!$C:$BQ,52,0) -> 0 | U5: =VLOOKUP($C5,'S45'!$C:$BQ,53,0) -> 3 | V5: =VLOOKUP($C5,'S45'!$C:$BQ,15,0) -> 214 | W5: =VLOOKUP($C5,'S45'!$C:$BQ,22,0) -> 0 | X5: =VLOOKUP($C5,'S45'!$C:$BQ,23,0) -> 0 | Y5: =VLOOKUP($C5,'S45'!$C:$BQ,35,0) -> 3801.1659 | Z5: =VLOOKUP($C5,'S45'!$C:$BQ,42,0) -> 0 | AA5: =VLOOKUP($C5,'S45'!$C:$BQ,43,0) -> 0 | AB5: =VLOOKUP($C5,'S46'!$C:$BQ,55,0) -> 367.3 | AC5: =VLOOKUP($C5,'S46'!$C:$BQ,62,0) -> 0 | AD5: =VLOOKUP($C5,'S46'!$C:$BQ,63,0) -> 10 | AE5: =VLOOKUP($C5,'S46'!$C:$BQ,45,0) -> 3361.7213 | AF5: =VLOOKUP($C5,'S46'!$C:$BQ,52,0) -> 0 | AG5: =VLOOKUP($C5,'S46'!$C:$BQ,53,0) -> 0 | AH5: =VLOOKUP($C5,'S46'!$C:$BQ,15,0) -> 218 | AI5: =VLOOKUP($C5,'S46'!$C:$BQ,22,0) -> 0 | AJ5: =VLOOKUP($C5,'S46'!$C:$BQ,23,0) -> 0 | AK5: =VLOOKUP($C5,'S46'!$C:$BQ,35,0) -> 3811.3541 | AL5: =VLOOKUP($C5,'S46'!$C:$BQ,42,0) -> 0 | AM5: =VLOOKUP($C5,'S46'!$C:$BQ,43,0) -> 0 | AN5: =VLOOKUP($C5,'S47'!$C:$BQ,55,0) -> 299.4 | AO5: =VLOOKUP($C5,'S47'!$C:$BQ,62,0) -> 0 | AP5: =VLOOKUP($C5,'S47'!$C:$BQ,63,0) -> 0 | AQ5: =VLOOKUP($C5,'S47'!$C:$BQ,45,0) -> 2514.8133 | AR5: =VLOOKUP($C5,'S47'!$C:$BQ,52,0) -> 0 | AS5: =VLOOKUP($C5,'S47'!$C:$BQ,53,0) -> 0 | AT5: =VLOOKUP($C5,'S47'!$C:$BQ,15,0) -> 170 | AU5: =VLOOKUP($C5,'S47'!$C:$BQ,22,0) -> 0 | AV5: =VLOOKUP($C5,'S47'!$C:$BQ,23,0) -> 0 | AW5: =VLOOKUP($C5,'S47'!$C:$BQ,35,0) -> 3049.3913 | AX5: =VLOOKUP($C5,'S47'!$C:$BQ,42,0) -> 0 | AY5: =VLOOKUP($C5,'S47'!$C:$BQ,43,0) -> 0 | AZ5: =VLOOKUP($C5,'S48'!$C:$BQ,55,0) -> 307.4 | BA5: =VLOOKUP($C5,'S48'!$C:$BQ,62,0) -> 0 | BB5: =VLOOKUP($C5,'S48'!$C:$BQ,63,0) -> 12 | BC5: =VLOOKUP($C5,'S48'!$C:$BQ,45,0) -> 2487.2423 | BD5: =VLOOKUP($C5,'S48'!$C:$BQ,52,0) -> 0 | BE5: =VLOOKUP($C5,'S48'!$C:$BQ,53,0) -> 0 | BF5: =VLOOKUP($C5,'S48'!$C:$BQ,15,0) -> 170 | BG5: =VLOOKUP($C5,'S48'!$C:$BQ,22,0) -> 0 | BH5: =VLOOKUP($C5,'S48'!$C:$BQ,23,0) -> 0 | BI5: =VLOOKUP($C5,'S48'!$C:$BQ,35,0) -> 3124.7238 | BJ5: =VLOOKUP($C5,'S48'!$C:$BQ,42,0) -> 0 | BK5: =VLOOKUP($C5,'S48'!$C:$BQ,43,0) -> 0 | BL5: =VLOOKUP($C5,'S49'!$C:$BQ,55,0) -> #N/A | BM5: =VLOOKUP($C5,'S49'!$C:$BQ,62,0) -> #N/A | BN5: =VLOOKUP($C5,'S49'!$C:$BQ,63,0) -> #N/A | BO5: =VLOOKUP($C5,'S49'!$C:$BQ,45,0) -> #N/A | BP5: =VLOOKUP($C5,'S49'!$C:$BQ,52,0) -> #N/A | BQ5: =VLOOKUP($C5,'S49'!$C:$BQ,53,0) -> #N/A | BR5: =VLOOKUP($C5,'S49'!$C:$BQ,15,0) -> #N/A | BS5: =VLOOKUP($C5,'S49'!$C:$BQ,22,0) -> #N/A | BT5: =VLOOKUP($C5,'S49'!$C:$BQ,23,0) -> #N/A | BU5: =VLOOKUP($C5,'S49'!$C:$BQ,35,0) -> #N/A | BV5: =VLOOKUP($C5,'S49'!$C:$BQ,42,0) -> #N/A | BW5: =VLOOKUP($C5,'S49'!$C:$BQ,43,0) -> #N/A | BX5: =VLOOKUP($C5,'S50'!$C:$BQ,55,0) -> #N/A | BY5: =VLOOKUP($C5,'S50'!$C:$BQ,62,0) -> #N/A | BZ5: =VLOOKUP($C5,'S50'!$C:$BQ,63,0) -> #N/A | CA5: =VLOOKUP($C5,'S50'!$C:$BQ,45,0) -> #N/A | CB5: =VLOOKUP($C5,'S50'!$C:$BQ,52,0) -> #N/A | CC5: =VLOOKUP($C5,'S50'!$C:$BQ,53,0) -> #N/A | CD5: =VLOOKUP($C5,'S50'!$C:$BQ,15,0) -> #N/A | CE5: =VLOOKUP($C5,'S50'!$C:$BQ,22,0) -> #N/A | CF5: =VLOOKUP($C5,'S50'!$C:$BQ,23,0) -> #N/A | CG5: =VLOOKUP($C5,'S50'!$C:$BQ,35,0) -> #N/A | CH5: =VLOOKUP($C5,'S50'!$C:$BQ,42,0) -> #N/A | CI5: =VLOOKUP($C5,'S50'!$C:$BQ,43,0) -> #N/A
A6: AUBE_HAUTE_MARNE | B6: CHAUMONT | C6: JOINVILLE | D6: =VLOOKUP($C6,'S0 remplacer avec S44'!$C:$BQ,55,0) -> 135.9 | E6: =VLOOKUP($C6,'S0 remplacer avec S44'!$C:$BQ,62,0) -> 0 | F6: =VLOOKUP($C6,'S0 remplacer avec S44'!$C:$BQ,63,0) -> 10 | G6: =VLOOKUP($C6,'S0 remplacer avec S44'!$C:$BQ,45,0) -> 1253.167 | H6: =VLOOKUP($C6,'S0 remplacer avec S44'!$C:$BQ,52,0) -> 0 | I6: =VLOOKUP($C6,'S0 remplacer avec S44'!$C:$BQ,53,0) -> 31 | J6: =VLOOKUP($C6,'S0 remplacer avec S44'!$C:$BQ,15,0) -> 91 | K6: =VLOOKUP($C6,'S0 remplacer avec S44'!$C:$BQ,22,0) -> 0 | L6: =VLOOKUP($C6,'S0 remplacer avec S44'!$C:$BQ,23,0) -> 0 | M6: =VLOOKUP($C6,'S0 remplacer avec S44'!$C:$BQ,35,0) -> 1157.8649 | N6: =VLOOKUP($C6,'S0 remplacer avec S44'!$C:$BQ,42,0) -> 0 | O6: =VLOOKUP($C6,'S0 remplacer avec S44'!$C:$BQ,43,0) -> 214 | P6: =VLOOKUP($C6,'S45'!$C:$BQ,55,0) -> 134.9 | Q6: =VLOOKUP($C6,'S45'!$C:$BQ,62,0) -> 0 | R6: =VLOOKUP($C6,'S45'!$C:$BQ,63,0) -> 11 | S6: =VLOOKUP($C6,'S45'!$C:$BQ,45,0) -> 1287.5331 | T6: =VLOOKUP($C6,'S45'!$C:$BQ,52,0) -> 0 | U6: =VLOOKUP($C6,'S45'!$C:$BQ,53,0) -> 0 | V6: =VLOOKUP($C6,'S45'!$C:$BQ,15,0) -> 92 | W6: =VLOOKUP($C6,'S45'!$C:$BQ,22,0) -> 0 | X6: =VLOOKUP($C6,'S45'!$C:$BQ,23,0) -> 0 | Y6: =VLOOKUP($C6,'S45'!$C:$BQ,35,0) -> 1174.0556 | Z6: =VLOOKUP($C6,'S45'!$C:$BQ,42,0) -> 0 | AA6: =VLOOKUP($C6,'S45'!$C:$BQ,43,0) -> 198 | AB6: =VLOOKUP($C6,'S46'!$C:$BQ,55,0) -> 136.9 | AC6: =VLOOKUP($C6,'S46'!$C:$BQ,62,0) -> 0 | AD6: =VLOOKUP($C6,'S46'!$C:$BQ,63,0) -> 9 | AE6: =VLOOKUP($C6,'S46'!$C:$BQ,45,0) -> 1300.6981 | AF6: =VLOOKUP($C6,'S46'!$C:$BQ,52,0) -> 0 | AG6: =VLOOKUP($C6,'S46'!$C:$BQ,53,0) -> 0 | AH6: =VLOOKUP($C6,'S46'!$C:$BQ,15,0) -> 94 | AI6: =VLOOKUP($C6,'S46'!$C:$BQ,22,0) -> 0 | AJ6: =VLOOKUP($C6,'S46'!$C:$BQ,23,0) -> 0 | AK6: =VLOOKUP($C6,'S46'!$C:$BQ,35,0) -> 1388.9404 | AL6: =VLOOKUP($C6,'S46'!$C:$BQ,42,0) -> 0 | AM6: =VLOOKUP($C6,'S46'!$C:$BQ,43,0) -> 0 | AN6: =VLOOKUP($C6,'S47'!$C:$BQ,55,0) -> 138.8 | AO6: =VLOOKUP($C6,'S47'!$C:$BQ,62,0) -> 0 | AP6: =VLOOKUP($C6,'S47'!$C:$BQ,63,0) -> 7 | AQ6: =VLOOKUP($C6,'S47'!$C:$BQ,45,0) -> 1306.3093 | AR6: =VLOOKUP($C6,'S47'!$C:$BQ,52,0) -> 0 | AS6: =VLOOKUP($C6,'S47'!$C:$BQ,53,0) -> 0 | AT6: =VLOOKUP($C6,'S47'!$C:$BQ,15,0) -> 94 | AU6: =VLOOKUP($C6,'S47'!$C:$BQ,22,0) -> 0 | AV6: =VLOOKUP($C6,'S47'!$C:$BQ,23,0) -> 0 | AW6: =VLOOKUP($C6,'S47'!$C:$BQ,35,0) -> 1393.1286 | AX6: =VLOOKUP($C6,'S47'!$C:$BQ,42,0) -> 0 | AY6: =VLOOKUP($C6,'S47'!$C:$BQ,43,0) -> 0 | AZ6: =VLOOKUP($C6,'S48'!$C:$BQ,55,0) -> 139.8 | BA6: =VLOOKUP($C6,'S48'!$C:$BQ,62,0) -> 0 | BB6: =VLOOKUP($C6,'S48'!$C:$BQ,63,0) -> 43 | BC6: =VLOOKUP($C6,'S48'!$C:$BQ,45,0) -> 1307.3104 | BD6: =VLOOKUP($C6,'S48'!$C:$BQ,52,0) -> 0 | BE6: =VLOOKUP($C6,'S48'!$C:$BQ,53,0) -> 0 | BF6: =VLOOKUP($C6,'S48'!$C:$BQ,15,0) -> 94 | BG6: =VLOOKUP($C6,'S48'!$C:$BQ,22,0) -> 0 | BH6: =VLOOKUP($C6,'S48'!$C:$BQ,23,0) -> 0 | BI6: =VLOOKUP($C6,'S48'!$C:$BQ,35,0) -> 1404.8445 | BJ6: =VLOOKUP($C6,'S48'!$C:$BQ,42,0) -> 0 | BK6: =VLOOKUP($C6,'S48'!$C:$BQ,43,0) -> 0 | BL6: =VLOOKUP($C6,'S49'!$C:$BQ,55,0) -> #N/A | BM6: =VLOOKUP($C6,'S49'!$C:$BQ,62,0) -> #N/A | BN6: =VLOOKUP($C6,'S49'!$C:$BQ,63,0) -> #N/A | BO6: =VLOOKUP($C6,'S49'!$C:$BQ,45,0) -> #N/A | BP6: =VLOOKUP($C6,'S49'!$C:$BQ,52,0) -> #N/A | BQ6: =VLOOKUP($C6,'S49'!$C:$BQ,53,0) -> #N/A | BR6: =VLOOKUP($C6,'S49'!$C:$BQ,15,0) -> #N/A | BS6: =VLOOKUP($C6,'S49'!$C:$BQ,22,0) -> #N/A | BT6: =VLOOKUP($C6,'S49'!$C:$BQ,23,0) -> #N/A | BU6: =VLOOKUP($C6,'S49'!$C:$BQ,35,0) -> #N/A | BV6: =VLOOKUP($C6,'S49'!$C:$BQ,42,0) -> #N/A | BW6: =VLOOKUP($C6,'S49'!$C:$BQ,43,0) -> #N/A | BX6: =VLOOKUP($C6,'S50'!$C:$BQ,55,0) -> #N/A | BY6: =VLOOKUP($C6,'S50'!$C:$BQ,62,0) -> #N/A | BZ6: =VLOOKUP($C6,'S50'!$C:$BQ,63,0) -> #N/A | CA6: =VLOOKUP($C6,'S50'!$C:$BQ,45,0) -> #N/A | CB6: =VLOOKUP($C6,'S50'!$C:$BQ,52,0) -> #N/A | CC6: =VLOOKUP($C6,'S50'!$C:$BQ,53,0) -> #N/A | CD6: =VLOOKUP($C6,'S50'!$C:$BQ,15,0) -> #N/A | CE6: =VLOOKUP($C6,'S50'!$C:$BQ,22,0) -> #N/A | CF6: =VLOOKUP($C6,'S50'!$C:$BQ,23,0) -> #N/A | CG6: =VLOOKUP($C6,'S50'!$C:$BQ,35,0) -> #N/A | CH6: =VLOOKUP($C6,'S50'!$C:$BQ,42,0) -> #N/A | CI6: =VLOOKUP($C6,'S50'!$C:$BQ,43,0) -> #N/A
A7: AUBE_HAUTE_MARNE | B7: CHAUMONT | C7: LANGRES | D7: =VLOOKUP($C7,'S0 remplacer avec S44'!$C:$BQ,55,0) -> 639.9 | E7: =VLOOKUP($C7,'S0 remplacer avec S44'!$C:$BQ,62,0) -> 0 | F7: =VLOOKUP($C7,'S0 remplacer avec S44'!$C:$BQ,63,0) -> 62 | G7: =VLOOKUP($C7,'S0 remplacer avec S44'!$C:$BQ,45,0) -> 5597.2743 | H7: =VLOOKUP($C7,'S0 remplacer avec S44'!$C:$BQ,52,0) -> 0 | I7: =VLOOKUP($C7,'S0 remplacer avec S44'!$C:$BQ,53,0) -> 583 | J7: =VLOOKUP($C7,'S0 remplacer avec S44'!$C:$BQ,15,0) -> 358 | K7: =VLOOKUP($C7,'S0 remplacer avec S44'!$C:$BQ,22,0) -> 0 | L7: =VLOOKUP($C7,'S0 remplacer avec S44'!$C:$BQ,23,0) -> 31 | M7: =VLOOKUP($C7,'S0 remplacer avec S44'!$C:$BQ,35,0) -> 7468.3907 | N7: =VLOOKUP($C7,'S0 remplacer avec S44'!$C:$BQ,42,0) -> 0 | O7: =VLOOKUP($C7,'S0 remplacer avec S44'!$C:$BQ,43,0) -> 19 | P7: =VLOOKUP($C7,'S45'!$C:$BQ,55,0) -> 645.7 | Q7: =VLOOKUP($C7,'S45'!$C:$BQ,62,0) -> 0 | R7: =VLOOKUP($C7,'S45'!$C:$BQ,63,0) -> 56 | S7: =VLOOKUP($C7,'S45'!$C:$BQ,45,0) -> 5711.668 | T7: =VLOOKUP($C7,'S45'!$C:$BQ,52,0) -> 0 | U7: =VLOOKUP($C7,'S45'!$C:$BQ,53,0) -> 468 | V7: =VLOOKUP($C7,'S45'!$C:$BQ,15,0) -> 366 | W7: =VLOOKUP($C7,'S45'!$C:$BQ,22,0) -> 0 | X7: =VLOOKUP($C7,'S45'!$C:$BQ,23,0) -> 23 | Y7: =VLOOKUP($C7,'S45'!$C:$BQ,35,0) -> 7706.0212 | Z7: =VLOOKUP($C7,'S45'!$C:$BQ,42,0) -> 0 | AA7: =VLOOKUP($C7,'S45'!$C:$BQ,43,0) -> 0 | AB7: =VLOOKUP($C7,'S46'!$C:$BQ,55,0) -> 674 | AC7: =VLOOKUP($C7,'S46'!$C:$BQ,62,0) -> 0 | AD7: =VLOOKUP($C7,'S46'!$C:$BQ,63,0) -> 27 | AE7: =VLOOKUP($C7,'S46'!$C:$BQ,45,0) -> 5817.0493 | AF7: =VLOOKUP($C7,'S46'!$C:$BQ,52,0) -> 0 | AG7: =VLOOKUP($C7,'S46'!$C:$BQ,53,0) -> 363 | AH7: =VLOOKUP($C7,'S46'!$C:$BQ,15,0) -> 375 | AI7: =VLOOKUP($C7,'S46'!$C:$BQ,22,0) -> 0 | AJ7: =VLOOKUP($C7,'S46'!$C:$BQ,23,0) -> 14 | AK7: =VLOOKUP($C7,'S46'!$C:$BQ,35,0) -> 7774.4477 | AL7: =VLOOKUP($C7,'S46'!$C:$BQ,42,0) -> 0 | AM7: =VLOOKUP($C7,'S46'!$C:$BQ,43,0) -> 0 | AN7: =VLOOKUP($C7,'S47'!$C:$BQ,55,0) -> 678.7 | AO7: =VLOOKUP($C7,'S47'!$C:$BQ,62,0) -> 0 | AP7: =VLOOKUP($C7,'S47'!$C:$BQ,63,0) -> 23 | AQ7: =VLOOKUP($C7,'S47'!$C:$BQ,45,0) -> 5908.6523 | AR7: =VLOOKUP($C7,'S47'!$C:$BQ,52,0) -> 0 | AS7: =VLOOKUP($C7,'S47'!$C:$BQ,53,0) -> 271 | AT7: =VLOOKUP($C7,'S47'!$C:$BQ,15,0) -> 376 | AU7: =VLOOKUP($C7,'S47'!$C:$BQ,22,0) -> 0 | AV7: =VLOOKUP($C7,'S47'!$C:$BQ,23,0) -> 13 | AW7: =VLOOKUP($C7,'S47'!$C:$BQ,35,0) -> 7860.077 | AX7: =VLOOKUP($C7,'S47'!$C:$BQ,42,0) -> 0 | AY7: =VLOOKUP($C7,'S47'!$C:$BQ,43,0) -> 0 | AZ7: =VLOOKUP($C7,'S48'!$C:$BQ,55,0) -> 686.5 | BA7: =VLOOKUP($C7,'S48'!$C:$BQ,62,0) -> 0 | BB7: =VLOOKUP($C7,'S48'!$C:$BQ,63,0) -> 190 | BC7: =VLOOKUP($C7,'S48'!$C:$BQ,45,0) -> 6112.5984 | BD7: =VLOOKUP($C7,'S48'!$C:$BQ,52,0) -> 0 | BE7: =VLOOKUP($C7,'S48'!$C:$BQ,53,0) -> 67 | BF7: =VLOOKUP($C7,'S48'!$C:$BQ,15,0) -> 384 | BG7: =VLOOKUP($C7,'S48'!$C:$BQ,22,0) -> 0 | BH7: =VLOOKUP($C7,'S48'!$C:$BQ,23,0) -> 5 | BI7: =VLOOKUP($C7,'S48'!$C:$BQ,35,0) -> 8087.1306 | BJ7: =VLOOKUP($C7,'S48'!$C:$BQ,42,0) -> 0 | BK7: =VLOOKUP($C7,'S48'!$C:$BQ,43,0) -> 0 | BL7: =VLOOKUP($C7,'S49'!$C:$BQ,55,0) -> #N/A | BM7: =VLOOKUP($C7,'S49'!$C:$BQ,62,0) -> #N/A | BN7: =VLOOKUP($C7,'S49'!$C:$BQ,63,0) -> #N/A | BO7: =VLOOKUP($C7,'S49'!$C:$BQ,45,0) -> #N/A | BP7: =VLOOKUP($C7,'S49'!$C:$BQ,52,0) -> #N/A | BQ7: =VLOOKUP($C7,'S49'!$C:$BQ,53,0) -> #N/A | BR7: =VLOOKUP($C7,'S49'!$C:$BQ,15,0) -> #N/A | BS7: =VLOOKUP($C7,'S49'!$C:$BQ,22,0) -> #N/A | BT7: =VLOOKUP($C7,'S49'!$C:$BQ,23,0) -> #N/A | BU7: =VLOOKUP($C7,'S49'!$C:$BQ,35,0) -> #N/A | BV7: =VLOOKUP($C7,'S49'!$C:$BQ,42,0) -> #N/A | BW7: =VLOOKUP($C7,'S49'!$C:$BQ,43,0) -> #N/A | BX7: =VLOOKUP($C7,'S50'!$C:$BQ,55,0) -> #N/A | BY7: =VLOOKUP($C7,'S50'!$C:$BQ,62,0) -> #N/A | BZ7: =VLOOKUP($C7,'S50'!$C:$BQ,63,0) -> #N/A | CA7: =VLOOKUP($C7,'S50'!$C:$BQ,45,0) -> #N/A | CB7: =VLOOKUP($C7,'S50'!$C:$BQ,52,0) -> #N/A | CC7: =VLOOKUP($C7,'S50'!$C:$BQ,53,0) -> #N/A | CD7: =VLOOKUP($C7,'S50'!$C:$BQ,15,0) -> #N/A | CE7: =VLOOKUP($C7,'S50'!$C:$BQ,22,0) -> #N/A | CF7: =VLOOKUP($C7,'S50'!$C:$BQ,23,0) -> #N/A | CG7: =VLOOKUP($C7,'S50'!$C:$BQ,35,0) -> #N/A | CH7: =VLOOKUP($C7,'S50'!$C:$BQ,42,0) -> #N/A | CI7: =VLOOKUP($C7,'S50'!$C:$BQ,43,0) -> #N/A
A8: #N/A | B8: #N/A | C8: NOGENT | D8: =VLOOKUP($C8,'S0 remplacer avec S44'!$C:$BQ,55,0) -> #N/A | E8: =VLOOKUP($C8,'S0 remplacer avec S44'!$C:$BQ,62,0) -> #N/A | F8: =VLOOKUP($C8,'S0 remplacer avec S44'!$C:$BQ,63,0) -> #N/A | G8: =VLOOKUP($C8,'S0 remplacer avec S44'!$C:$BQ,45,0) -> #N/A | H8: =VLOOKUP($C8,'S0 remplacer avec S44'!$C:$BQ,52,0) -> #N/A | I8: =VLOOKUP($C8,'S0 remplacer avec S44'!$C:$BQ,53,0) -> #N/A | J8: =VLOOKUP($C8,'S0 remplacer avec S44'!$C:$BQ,15,0) -> #N/A | K8: =VLOOKUP($C8,'S0 remplacer avec S44'!$C:$BQ,22,0) -> #N/A | L8: =VLOOKUP($C8,'S0 remplacer avec S44'!$C:$BQ,23,0) -> #N/A | M8: =VLOOKUP($C8,'S0 remplacer avec S44'!$C:$BQ,35,0) -> #N/A | N8: =VLOOKUP($C8,'S0 remplacer avec S44'!$C:$BQ,42,0) -> #N/A | O8: =VLOOKUP($C8,'S0 remplacer avec S44'!$C:$BQ,43,0) -> #N/A | P8: =VLOOKUP($C8,'S45'!$C:$BQ,55,0) -> #N/A | Q8: =VLOOKUP($C8,'S45'!$C:$BQ,62,0) -> #N/A | R8: =VLOOKUP($C8,'S45'!$C:$BQ,63,0) -> #N/A | S8: =VLOOKUP($C8,'S45'!$C:$BQ,45,0) -> #N/A | T8: =VLOOKUP($C8,'S45'!$C:$BQ,52,0) -> #N/A | U8: =VLOOKUP($C8,'S45'!$C:$BQ,53,0) -> #N/A | V8: =VLOOKUP($C8,'S45'!$C:$BQ,15,0) -> #N/A | W8: =VLOOKUP($C8,'S45'!$C:$BQ,22,0) -> #N/A | X8: =VLOOKUP($C8,'S45'!$C:$BQ,23,0) -> #N/A | Y8: =VLOOKUP($C8,'S45'!$C:$BQ,35,0) -> #N/A | Z8: =VLOOKUP($C8,'S45'!$C:$BQ,42,0) -> #N/A | AA8: =VLOOKUP($C8,'S45'!$C:$BQ,43,0) -> #N/A | AB8: =VLOOKUP($C8,'S46'!$C:$BQ,55,0) -> #N/A | AC8: =VLOOKUP($C8,'S46'!$C:$BQ,62,0) -> #N/A | AD8: =VLOOKUP($C8,'S46'!$C:$BQ,63,0) -> #N/A | AE8: =VLOOKUP($C8,'S46'!$C:$BQ,45,0) -> #N/A | AF8: =VLOOKUP($C8,'S46'!$C:$BQ,52,0) -> #N/A | AG8: =VLOOKUP($C8,'S46'!$C:$BQ,53,0) -> #N/A | AH8: =VLOOKUP($C8,'S46'!$C:$BQ,15,0) -> #N/A | AI8: =VLOOKUP($C8,'S46'!$C:$BQ,22,0) -> #N/A | AJ8: =VLOOKUP($C8,'S46'!$C:$BQ,23,0) -> #N/A | AK8: =VLOOKUP($C8,'S46'!$C:$BQ,35,0) -> #N/A | AL8: =VLOOKUP($C8,'S46'!$C:$BQ,42,0) -> #N/A | AM8: =VLOOKUP($C8,'S46'!$C:$BQ,43,0) -> #N/A | AN8: =VLOOKUP($C8,'S47'!$C:$BQ,55,0) -> #N/A | AO8: =VLOOKUP($C8,'S47'!$C:$BQ,62,0) -> #N/A | AP8: =VLOOKUP($C8,'S47'!$C:$BQ,63,0) -> #N/A | AQ8: =VLOOKUP($C8,'S47'!$C:$BQ,45,0) -> #N/A | AR8: =VLOOKUP($C8,'S47'!$C:$BQ,52,0) -> #N/A | AS8: =VLOOKUP($C8,'S47'!$C:$BQ,53,0) -> #N/A | AT8: =VLOOKUP($C8,'S47'!$C:$BQ,15,0) -> #N/A | AU8: =VLOOKUP($C8,'S47'!$C:$BQ,22,0) -> #N/A | AV8: =VLOOKUP($C8,'S47'!$C:$BQ,23,0) -> #N/A | AW8: =VLOOKUP($C8,'S47'!$C:$BQ,35,0) -> #N/A | AX8: =VLOOKUP($C8,'S47'!$C:$BQ,42,0) -> #N/A | AY8: =VLOOKUP($C8,'S47'!$C:$BQ,43,0) -> #N/A | AZ8: =VLOOKUP($C8,'S48'!$C:$BQ,55,0) -> #N/A | BA8: =VLOOKUP($C8,'S48'!$C:$BQ,62,0) -> #N/A | BB8: =VLOOKUP($C8,'S48'!$C:$BQ,63,0) -> #N/A | BC8: =VLOOKUP($C8,'S48'!$C:$BQ,45,0) -> #N/A | BD8: =VLOOKUP($C8,'S48'!$C:$BQ,52,0) -> #N/A | BE8: =VLOOKUP($C8,'S48'!$C:$BQ,53,0) -> #N/A | BF8: =VLOOKUP($C8,'S48'!$C:$BQ,15,0) -> #N/A | BG8: =VLOOKUP($C8,'S48'!$C:$BQ,22,0) -> #N/A | BH8: =VLOOKUP($C8,'S48'!$C:$BQ,23,0) -> #N/A | BI8: =VLOOKUP($C8,'S48'!$C:$BQ,35,0) -> #N/A | BJ8: =VLOOKUP($C8,'S48'!$C:$BQ,42,0) -> #N/A | BK8: =VLOOKUP($C8,'S48'!$C:$BQ,43,0) -> #N/A | BL8: =VLOOKUP($C8,'S49'!$C:$BQ,55,0) -> #N/A | BM8: =VLOOKUP($C8,'S49'!$C:$BQ,62,0) -> #N/A | BN8: =VLOOKUP($C8,'S49'!$C:$BQ,63,0) -> #N/A | BO8: =VLOOKUP($C8,'S49'!$C:$BQ,45,0) -> #N/A | BP8: =VLOOKUP($C8,'S49'!$C:$BQ,52,0) -> #N/A | BQ8: =VLOOKUP($C8,'S49'!$C:$BQ,53,0) -> #N/A | BR8: =VLOOKUP($C8,'S49'!$C:$BQ,15,0) -> #N/A | BS8: =VLOOKUP($C8,'S49'!$C:$BQ,22,0) -> #N/A | BT8: =VLOOKUP($C8,'S49'!$C:$BQ,23,0) -> #N/A | BU8: =VLOOKUP($C8,'S49'!$C:$BQ,35,0) -> #N/A | BV8: =VLOOKUP($C8,'S49'!$C:$BQ,42,0) -> #N/A | BW8: =VLOOKUP($C8,'S49'!$C:$BQ,43,0) -> #N/A | BX8: =VLOOKUP($C8,'S50'!$C:$BQ,55,0) -> #N/A | BY8: =VLOOKUP($C8,'S50'!$C:$BQ,62,0) -> #N/A | BZ8: =VLOOKUP($C8,'S50'!$C:$BQ,63,0) -> #N/A | CA8: =VLOOKUP($C8,'S50'!$C:$BQ,45,0) -> #N/A | CB8: =VLOOKUP($C8,'S50'!$C:$BQ,52,0) -> #N/A | CC8: =VLOOKUP($C8,'S50'!$C:$BQ,53,0) -> #N/A | CD8: =VLOOKUP($C8,'S50'!$C:$BQ,15,0) -> #N/A | CE8: =VLOOKUP($C8,'S50'!$C:$BQ,22,0) -> #N/A | CF8: =VLOOKUP($C8,'S50'!$C:$BQ,23,0) -> #N/A | CG8: =VLOOKUP($C8,'S50'!$C:$BQ,35,0) -> #N/A | CH8: =VLOOKUP($C8,'S50'!$C:$BQ,42,0) -> #N/A | CI8: =VLOOKUP($C8,'S50'!$C:$BQ,43,0) -> #N/A
A9: AUBE_HAUTE_MARNE | B9: CHAUMONT | C9: SAINT DIZIER CENTRE | D9: =VLOOKUP($C9,'S0 remplacer avec S44'!$C:$BQ,55,0) -> 573.1 | E9: =VLOOKUP($C9,'S0 remplacer avec S44'!$C:$BQ,62,0) -> 18 | F9: =VLOOKUP($C9,'S0 remplacer avec S44'!$C:$BQ,63,0) -> 136 | G9: =VLOOKUP($C9,'S0 remplacer avec S44'!$C:$BQ,45,0) -> 6051.4738 | H9: =VLOOKUP($C9,'S0 remplacer avec S44'!$C:$BQ,52,0) -> 0 | I9: =VLOOKUP($C9,'S0 remplacer avec S44'!$C:$BQ,53,0) -> 195 | J9: =VLOOKUP($C9,'S0 remplacer avec S44'!$C:$BQ,15,0) -> 424 | K9: =VLOOKUP($C9,'S0 remplacer avec S44'!$C:$BQ,22,0) -> 0 | L9: =VLOOKUP($C9,'S0 remplacer avec S44'!$C:$BQ,23,0) -> 0 | M9: =VLOOKUP($C9,'S0 remplacer avec S44'!$C:$BQ,35,0) -> 8787.718 | N9: =VLOOKUP($C9,'S0 remplacer avec S44'!$C:$BQ,42,0) -> 0 | O9: =VLOOKUP($C9,'S0 remplacer avec S44'!$C:$BQ,43,0) -> 0 | P9: =VLOOKUP($C9,'S45'!$C:$BQ,55,0) -> 575.8 | Q9: =VLOOKUP($C9,'S45'!$C:$BQ,62,0) -> 15 | R9: =VLOOKUP($C9,'S45'!$C:$BQ,63,0) -> 133 | S9: =VLOOKUP($C9,'S45'!$C:$BQ,45,0) -> 6180.5896 | T9: =VLOOKUP($C9,'S45'!$C:$BQ,52,0) -> 0 | U9: =VLOOKUP($C9,'S45'!$C:$BQ,53,0) -> 66 | V9: =VLOOKUP($C9,'S45'!$C:$BQ,15,0) -> 430 | W9: =VLOOKUP($C9,'S45'!$C:$BQ,22,0) -> 0 | X9: =VLOOKUP($C9,'S45'!$C:$BQ,23,0) -> 0 | Y9: =VLOOKUP($C9,'S45'!$C:$BQ,35,0) -> 8813.1143 | Z9: =VLOOKUP($C9,'S45'!$C:$BQ,42,0) -> 0 | AA9: =VLOOKUP($C9,'S45'!$C:$BQ,43,0) -> 0 | AB9: =VLOOKUP($C9,'S46'!$C:$BQ,55,0) -> 596.3 | AC9: =VLOOKUP($C9,'S46'!$C:$BQ,62,0) -> 0 | AD9: =VLOOKUP($C9,'S46'!$C:$BQ,63,0) -> 113 | AE9: =VLOOKUP($C9,'S46'!$C:$BQ,45,0) -> 6247.9088 | AF9: =VLOOKUP($C9,'S46'!$C:$BQ,52,0) -> 0 | AG9: =VLOOKUP($C9,'S46'!$C:$BQ,53,0) -> 0 | AH9: =VLOOKUP($C9,'S46'!$C:$BQ,15,0) -> 433 | AI9: =VLOOKUP($C9,'S46'!$C:$BQ,22,0) -> 0 | AJ9: =VLOOKUP($C9,'S46'!$C:$BQ,23,0) -> 0 | AK9: =VLOOKUP($C9,'S46'!$C:$BQ,35,0) -> 8813.3843 | AL9: =VLOOKUP($C9,'S46'!$C:$BQ,42,0) -> 0 | AM9: =VLOOKUP($C9,'S46'!$C:$BQ,43,0) -> 0 | AN9: =VLOOKUP($C9,'S47'!$C:$BQ,55,0) -> 611.3 | AO9: =VLOOKUP($C9,'S47'!$C:$BQ,62,0) -> 0 | AP9: =VLOOKUP($C9,'S47'!$C:$BQ,63,0) -> 98 | AQ9: =VLOOKUP($C9,'S47'!$C:$BQ,45,0) -> 6367.3949 | AR9: =VLOOKUP($C9,'S47'!$C:$BQ,52,0) -> 0 | AS9: =VLOOKUP($C9,'S47'!$C:$BQ,53,0) -> 0 | AT9: =VLOOKUP($C9,'S47'!$C:$BQ,15,0) -> 438 | AU9: =VLOOKUP($C9,'S47'!$C:$BQ,22,0) -> 0 | AV9: =VLOOKUP($C9,'S47'!$C:$BQ,23,0) -> 0 | AW9: =VLOOKUP($C9,'S47'!$C:$BQ,35,0) -> 8903.6647 | AX9: =VLOOKUP($C9,'S47'!$C:$BQ,42,0) -> 0 | AY9: =VLOOKUP($C9,'S47'!$C:$BQ,43,0) -> 0 | AZ9: =VLOOKUP($C9,'S48'!$C:$BQ,55,0) -> 623.1 | BA9: =VLOOKUP($C9,'S48'!$C:$BQ,62,0) -> 0 | BB9: =VLOOKUP($C9,'S48'!$C:$BQ,63,0) -> 263 | BC9: =VLOOKUP($C9,'S48'!$C:$BQ,45,0) -> 6400.8931 | BD9: =VLOOKUP($C9,'S48'!$C:$BQ,52,0) -> 0 | BE9: =VLOOKUP($C9,'S48'!$C:$BQ,53,0) -> 0 | BF9: =VLOOKUP($C9,'S48'!$C:$BQ,15,0) -> 444 | BG9: =VLOOKUP($C9,'S48'!$C:$BQ,22,0) -> 0 | BH9: =VLOOKUP($C9,'S48'!$C:$BQ,23,0) -> 0 | BI9: =VLOOKUP($C9,'S48'!$C:$BQ,35,0) -> 9615.3043 | BJ9: =VLOOKUP($C9,'S48'!$C:$BQ,42,0) -> 0 | BK9: =VLOOKUP($C9,'S48'!$C:$BQ,43,0) -> 0 | BL9: =VLOOKUP($C9,'S49'!$C:$BQ,55,0) -> #N/A | BM9: =VLOOKUP($C9,'S49'!$C:$BQ,62,0) -> #N/A | BN9: =VLOOKUP($C9,'S49'!$C:$BQ,63,0) -> #N/A | BO9: =VLOOKUP($C9,'S49'!$C:$BQ,45,0) -> #N/A | BP9: =VLOOKUP($C9,'S49'!$C:$BQ,52,0) -> #N/A | BQ9: =VLOOKUP($C9,'S49'!$C:$BQ,53,0) -> #N/A | BR9: =VLOOKUP($C9,'S49'!$C:$BQ,15,0) -> #N/A | BS9: =VLOOKUP($C9,'S49'!$C:$BQ,22,0) -> #N/A | BT9: =VLOOKUP($C9,'S49'!$C:$BQ,23,0) -> #N/A | BU9: =VLOOKUP($C9,'S49'!$C:$BQ,35,0) -> #N/A | BV9: =VLOOKUP($C9,'S49'!$C:$BQ,42,0) -> #N/A | BW9: =VLOOKUP($C9,'S49'!$C:$BQ,43,0) -> #N/A | BX9: =VLOOKUP($C9,'S50'!$C:$BQ,55,0) -> #N/A | BY9: =VLOOKUP($C9,'S50'!$C:$BQ,62,0) -> #N/A | BZ9: =VLOOKUP($C9,'S50'!$C:$BQ,63,0) -> #N/A | CA9: =VLOOKUP($C9,'S50'!$C:$BQ,45,0) -> #N/A | CB9: =VLOOKUP($C9,'S50'!$C:$BQ,52,0) -> #N/A | CC9: =VLOOKUP($C9,'S50'!$C:$BQ,53,0) -> #N/A | CD9: =VLOOKUP($C9,'S50'!$C:$BQ,15,0) -> #N/A | CE9: =VLOOKUP($C9,'S50'!$C:$BQ,22,0) -> #N/A | CF9: =VLOOKUP($C9,'S50'!$C:$BQ,23,0) -> #N/A | CG9: =VLOOKUP($C9,'S50'!$C:$BQ,35,0) -> #N/A | CH9: =VLOOKUP($C9,'S50'!$C:$BQ,42,0) -> #N/A | CI9: =VLOOKUP($C9,'S50'!$C:$BQ,43,0) -> #N/A
A10: #N/A | B10: #N/A | C10: SAINT DIZIER EUROPE | D10: =VLOOKUP($C10,'S0 remplacer avec S44'!$C:$BQ,55,0) -> #N/A | E10: =VLOOKUP($C10,'S0 remplacer avec S44'!$C:$BQ,62,0) -> #N/A | F10: =VLOOKUP($C10,'S0 remplacer avec S44'!$C:$BQ,63,0) -> #N/A | G10: =VLOOKUP($C10,'S0 remplacer avec S44'!$C:$BQ,45,0) -> #N/A | H10: =VLOOKUP($C10,'S0 remplacer avec S44'!$C:$BQ,52,0) -> #N/A | I10: =VLOOKUP($C10,'S0 remplacer avec S44'!$C:$BQ,53,0) -> #N/A | J10: =VLOOKUP($C10,'S0 remplacer avec S44'!$C:$BQ,15,0) -> #N/A | K10: =VLOOKUP($C10,'S0 remplacer avec S44'!$C:$BQ,22,0) -> #N/A | L10: =VLOOKUP($C10,'S0 remplacer avec S44'!$C:$BQ,23,0) -> #N/A | M10: =VLOOKUP($C10,'S0 remplacer avec S44'!$C:$BQ,35,0) -> #N/A | N10: =VLOOKUP($C10,'S0 remplacer avec S44'!$C:$BQ,42,0) -> #N/A | O10: =VLOOKUP($C10,'S0 remplacer avec S44'!$C:$BQ,43,0) -> #N/A | P10: =VLOOKUP($C10,'S45'!$C:$BQ,55,0) -> #N/A | Q10: =VLOOKUP($C10,'S45'!$C:$BQ,62,0) -> #N/A | R10: =VLOOKUP($C10,'S45'!$C:$BQ,63,0) -> #N/A | S10: =VLOOKUP($C10,'S45'!$C:$BQ,45,0) -> #N/A | T10: =VLOOKUP($C10,'S45'!$C:$BQ,52,0) -> #N/A | U10: =VLOOKUP($C10,'S45'!$C:$BQ,53,0) -> #N/A | V10: =VLOOKUP($C10,'S45'!$C:$BQ,15,0) -> #N/A | W10: =VLOOKUP($C10,'S45'!$C:$BQ,22,0) -> #N/A | X10: =VLOOKUP($C10,'S45'!$C:$BQ,23,0) -> #N/A | Y10: =VLOOKUP($C10,'S45'!$C:$BQ,35,0) -> #N/A | Z10: =VLOOKUP($C10,'S45'!$C:$BQ,42,0) -> #N/A | AA10: =VLOOKUP($C10,'S45'!$C:$BQ,43,0) -> #N/A | AB10: =VLOOKUP($C10,'S46'!$C:$BQ,55,0) -> #N/A | AC10: =VLOOKUP($C10,'S46'!$C:$BQ,62,0) -> #N/A | AD10: =VLOOKUP($C10,'S46'!$C:$BQ,63,0) -> #N/A | AE10: =VLOOKUP($C10,'S46'!$C:$BQ,45,0) -> #N/A | AF10: =VLOOKUP($C10,'S46'!$C:$BQ,52,0) -> #N/A | AG10: =VLOOKUP($C10,'S46'!$C:$BQ,53,0) -> #N/A | AH10: =VLOOKUP($C10,'S46'!$C:$BQ,15,0) -> #N/A | AI10: =VLOOKUP($C10,'S46'!$C:$BQ,22,0) -> #N/A | AJ10: =VLOOKUP($C10,'S46'!$C:$BQ,23,0) -> #N/A | AK10: =VLOOKUP($C10,'S46'!$C:$BQ,35,0) -> #N/A | AL10: =VLOOKUP($C10,'S46'!$C:$BQ,42,0) -> #N/A | AM10: =VLOOKUP($C10,'S46'!$C:$BQ,43,0) -> #N/A | AN10: =VLOOKUP($C10,'S47'!$C:$BQ,55,0) -> #N/A | AO10: =VLOOKUP($C10,'S47'!$C:$BQ,62,0) -> #N/A | AP10: =VLOOKUP($C10,'S47'!$C:$BQ,63,0) -> #N/A | AQ10: =VLOOKUP($C10,'S47'!$C:$BQ,45,0) -> #N/A | AR10: =VLOOKUP($C10,'S47'!$C:$BQ,52,0) -> #N/A | AS10: =VLOOKUP($C10,'S47'!$C:$BQ,53,0) -> #N/A | AT10: =VLOOKUP($C10,'S47'!$C:$BQ,15,0) -> #N/A | AU10: =VLOOKUP($C10,'S47'!$C:$BQ,22,0) -> #N/A | AV10: =VLOOKUP($C10,'S47'!$C:$BQ,23,0) -> #N/A | AW10: =VLOOKUP($C10,'S47'!$C:$BQ,35,0) -> #N/A | AX10: =VLOOKUP($C10,'S47'!$C:$BQ,42,0) -> #N/A | AY10: =VLOOKUP($C10,'S47'!$C:$BQ,43,0) -> #N/A | AZ10: =VLOOKUP($C10,'S48'!$C:$BQ,55,0) -> #N/A | BA10: =VLOOKUP($C10,'S48'!$C:$BQ,62,0) -> #N/A | BB10: =VLOOKUP($C10,'S48'!$C:$BQ,63,0) -> #N/A | BC10: =VLOOKUP($C10,'S48'!$C:$BQ,45,0) -> #N/A | BD10: =VLOOKUP($C10,'S48'!$C:$BQ,52,0) -> #N/A | BE10: =VLOOKUP($C10,'S48'!$C:$BQ,53,0) -> #N/A | BF10: =VLOOKUP($C10,'S48'!$C:$BQ,15,0) -> #N/A | BG10: =VLOOKUP($C10,'S48'!$C:$BQ,22,0) -> #N/A | BH10: =VLOOKUP($C10,'S48'!$C:$BQ,23,0) -> #N/A | BI10: =VLOOKUP($C10,'S48'!$C:$BQ,35,0) -> #N/A | BJ10: =VLOOKUP($C10,'S48'!$C:$BQ,42,0) -> #N/A | BK10: =VLOOKUP($C10,'S48'!$C:$BQ,43,0) -> #N/A | BL10: =VLOOKUP($C10,'S49'!$C:$BQ,55,0) -> #N/A | BM10: =VLOOKUP($C10,'S49'!$C:$BQ,62,0) -> #N/A | BN10: =VLOOKUP($C10,'S49'!$C:$BQ,63,0) -> #N/A | BO10: =VLOOKUP($C10,'S49'!$C:$BQ,45,0) -> #N/A | BP10: =VLOOKUP($C10,'S49'!$C:$BQ,52,0) -> #N/A | BQ10: =VLOOKUP($C10,'S49'!$C:$BQ,53,0) -> #N/A | BR10: =VLOOKUP($C10,'S49'!$C:$BQ,15,0) -> #N/A | BS10: =VLOOKUP($C10,'S49'!$C:$BQ,22,0) -> #N/A | BT10: =VLOOKUP($C10,'S49'!$C:$BQ,23,0) -> #N/A | BU10: =VLOOKUP($C10,'S49'!$C:$BQ,35,0) -> #N/A | BV10: =VLOOKUP($C10,'S49'!$C:$BQ,42,0) -> #N/A | BW10: =VLOOKUP($C10,'S49'!$C:$BQ,43,0) -> #N/A | BX10: =VLOOKUP($C10,'S50'!$C:$BQ,55,0) -> #N/A | BY10: =VLOOKUP($C10,'S50'!$C:$BQ,62,0) -> #N/A | BZ10: =VLOOKUP($C10,'S50'!$C:$BQ,63,0) -> #N/A | CA10: =VLOOKUP($C10,'S50'!$C:$BQ,45,0) -> #N/A | CB10: =VLOOKUP($C10,'S50'!$C:$BQ,52,0) -> #N/A | CC10: =VLOOKUP($C10,'S50'!$C:$BQ,53,0) -> #N/A | CD10: =VLOOKUP($C10,'S50'!$C:$BQ,15,0) -> #N/A | CE10: =VLOOKUP($C10,'S50'!$C:$BQ,22,0) -> #N/A | CF10: =VLOOKUP($C10,'S50'!$C:$BQ,23,0) -> #N/A | CG10: =VLOOKUP($C10,'S50'!$C:$BQ,35,0) -> #N/A | CH10: =VLOOKUP($C10,'S50'!$C:$BQ,42,0) -> #N/A | CI10: =VLOOKUP($C10,'S50'!$C:$BQ,43,0) -> #N/A
A11: AUBE_HAUTE_MARNE | B11: CHAUMONT | C11: WASSY | D11: =VLOOKUP($C11,'S0 remplacer avec S44'!$C:$BQ,55,0) -> 157.6 | E11: =VLOOKUP($C11,'S0 remplacer avec S44'!$C:$BQ,62,0) -> 0 | F11: =VLOOKUP($C11,'S0 remplacer avec S44'!$C:$BQ,63,0) -> 0 | G11: =VLOOKUP($C11,'S0 remplacer avec S44'!$C:$BQ,45,0) -> 1502.738 | H11: =VLOOKUP($C11,'S0 remplacer avec S44'!$C:$BQ,52,0) -> 0 | I11: =VLOOKUP($C11,'S0 remplacer avec S44'!$C:$BQ,53,0) -> 0 | J11: =VLOOKUP($C11,'S0 remplacer avec S44'!$C:$BQ,15,0) -> 109 | K11: =VLOOKUP($C11,'S0 remplacer avec S44'!$C:$BQ,22,0) -> 0 | L11: =VLOOKUP($C11,'S0 remplacer avec S44'!$C:$BQ,23,0) -> 0 | M11: =VLOOKUP($C11,'S0 remplacer avec S44'!$C:$BQ,35,0) -> 1585.3664 | N11: =VLOOKUP($C11,'S0 remplacer avec S44'!$C:$BQ,42,0) -> 0 | O11: =VLOOKUP($C11,'S0 remplacer avec S44'!$C:$BQ,43,0) -> 0 | P11: =VLOOKUP($C11,'S45'!$C:$BQ,55,0) -> 157.6 | Q11: =VLOOKUP($C11,'S45'!$C:$BQ,62,0) -> 0 | R11: =VLOOKUP($C11,'S45'!$C:$BQ,63,0) -> 0 | S11: =VLOOKUP($C11,'S45'!$C:$BQ,45,0) -> 1515.2022 | T11: =VLOOKUP($C11,'S45'!$C:$BQ,52,0) -> 0 | U11: =VLOOKUP($C11,'S45'!$C:$BQ,53,0) -> 0 | V11: =VLOOKUP($C11,'S45'!$C:$BQ,15,0) -> 109 | W11: =VLOOKUP($C11,'S45'!$C:$BQ,22,0) -> 0 | X11: =VLOOKUP($C11,'S45'!$C:$BQ,23,0) -> 0 | Y11: =VLOOKUP($C11,'S45'!$C:$BQ,35,0) -> 1589.512 | Z11: =VLOOKUP($C11,'S45'!$C:$BQ,42,0) -> 0 | AA11: =VLOOKUP($C11,'S45'!$C:$BQ,43,0) -> 0 | AB11: =VLOOKUP($C11,'S46'!$C:$BQ,55,0) -> 159.8 | AC11: =VLOOKUP($C11,'S46'!$C:$BQ,62,0) -> 0 | AD11: =VLOOKUP($C11,'S46'!$C:$BQ,63,0) -> 0 | AE11: =VLOOKUP($C11,'S46'!$C:$BQ,45,0) -> 1517.5711 | AF11: =VLOOKUP($C11,'S46'!$C:$BQ,52,0) -> 0 | AG11: =VLOOKUP($C11,'S46'!$C:$BQ,53,0) -> 0 | AH11: =VLOOKUP($C11,'S46'!$C:$BQ,15,0) -> 111 | AI11: =VLOOKUP($C11,'S46'!$C:$BQ,22,0) -> 0 | AJ11: =VLOOKUP($C11,'S46'!$C:$BQ,23,0) -> 0 | AK11: =VLOOKUP($C11,'S46'!$C:$BQ,35,0) -> 1596.0148 | AL11: =VLOOKUP($C11,'S46'!$C:$BQ,42,0) -> 0 | AM11: =VLOOKUP($C11,'S46'!$C:$BQ,43,0) -> 0 | AN11: =VLOOKUP($C11,'S47'!$C:$BQ,55,0) -> 157.8 | AO11: =VLOOKUP($C11,'S47'!$C:$BQ,62,0) -> 0 | AP11: =VLOOKUP($C11,'S47'!$C:$BQ,63,0) -> 0 | AQ11: =VLOOKUP($C11,'S47'!$C:$BQ,45,0) -> 1526.0412 | AR11: =VLOOKUP($C11,'S47'!$C:$BQ,52,0) -> 0 | AS11: =VLOOKUP($C11,'S47'!$C:$BQ,53,0) -> 0 | AT11: =VLOOKUP($C11,'S47'!$C:$BQ,15,0) -> 111 | AU11: =VLOOKUP($C11,'S47'!$C:$BQ,22,0) -> 0 | AV11: =VLOOKUP($C11,'S47'!$C:$BQ,23,0) -> 0 | AW11: =VLOOKUP($C11,'S47'!$C:$BQ,35,0) -> 1600.5798 | AX11: =VLOOKUP($C11,'S47'!$C:$BQ,42,0) -> 0 | AY11: =VLOOKUP($C11,'S47'!$C:$BQ,43,0) -> 0 | AZ11: =VLOOKUP($C11,'S48'!$C:$BQ,55,0) -> 157.8 | BA11: =VLOOKUP($C11,'S48'!$C:$BQ,62,0) -> 0 | BB11: =VLOOKUP($C11,'S48'!$C:$BQ,63,0) -> 34 | BC11: =VLOOKUP($C11,'S48'!$C:$BQ,45,0) -> 1570.495 | BD11: =VLOOKUP($C11,'S48'!$C:$BQ,52,0) -> 0 | BE11: =VLOOKUP($C11,'S48'!$C:$BQ,53,0) -> 0 | BF11: =VLOOKUP($C11,'S48'!$C:$BQ,15,0) -> 111 | BG11: =VLOOKUP($C11,'S48'!$C:$BQ,22,0) -> 0 | BH11: =VLOOKUP($C11,'S48'!$C:$BQ,23,0) -> 0 | BI11: =VLOOKUP($C11,'S48'!$C:$BQ,35,0) -> 1604.6446 | BJ11: =VLOOKUP($C11,'S48'!$C:$BQ,42,0) -> 0 | BK11: =VLOOKUP($C11,'S48'!$C:$BQ,43,0) -> 0 | BL11: =VLOOKUP($C11,'S49'!$C:$BQ,55,0) -> #N/A | BM11: =VLOOKUP($C11,'S49'!$C:$BQ,62,0) -> #N/A | BN11: =VLOOKUP($C11,'S49'!$C:$BQ,63,0) -> #N/A | BO11: =VLOOKUP($C11,'S49'!$C:$BQ,45,0) -> #N/A | BP11: =VLOOKUP($C11,'S49'!$C:$BQ,52,0) -> #N/A | BQ11: =VLOOKUP($C11,'S49'!$C:$BQ,53,0) -> #N/A | BR11: =VLOOKUP($C11,'S49'!$C:$BQ,15,0) -> #N/A | BS11: =VLOOKUP($C11,'S49'!$C:$BQ,22,0) -> #N/A | BT11: =VLOOKUP($C11,'S49'!$C:$BQ,23,0) -> #N/A | BU11: =VLOOKUP($C11,'S49'!$C:$BQ,35,0) -> #N/A | BV11: =VLOOKUP($C11,'S49'!$C:$BQ,42,0) -> #N/A | BW11: =VLOOKUP($C11,'S49'!$C:$BQ,43,0) -> #N/A | BX11: =VLOOKUP($C11,'S50'!$C:$BQ,55,0) -> #N/A | BY11: =VLOOKUP($C11,'S50'!$C:$BQ,62,0) -> #N/A | BZ11: =VLOOKUP($C11,'S50'!$C:$BQ,63,0) -> #N/A | CA11: =VLOOKUP($C11,'S50'!$C:$BQ,45,0) -> #N/A | CB11: =VLOOKUP($C11,'S50'!$C:$BQ,52,0) -> #N/A | CC11: =VLOOKUP($C11,'S50'!$C:$BQ,53,0) -> #N/A | CD11: =VLOOKUP($C11,'S50'!$C:$BQ,15,0) -> #N/A | CE11: =VLOOKUP($C11,'S50'!$C:$BQ,22,0) -> #N/A | CF11: =VLOOKUP($C11,'S50'!$C:$BQ,23,0) -> #N/A | CG11: =VLOOKUP($C11,'S50'!$C:$BQ,35,0) -> #N/A | CH11: =VLOOKUP($C11,'S50'!$C:$BQ,42,0) -> #N/A | CI11: =VLOOKUP($C11,'S50'!$C:$BQ,43,0) -> #N/A
A12: AUBE_HAUTE_MARNE | B12: TROYES | C12: ARCIS SUR AUBE | D12: =VLOOKUP($C12,'S0 remplacer avec S44'!$C:$BQ,55,0) -> 232.7 | E12: =VLOOKUP($C12,'S0 remplacer avec S44'!$C:$BQ,62,0) -> 17 | F12: =VLOOKUP($C12,'S0 remplacer avec S44'!$C:$BQ,63,0) -> 67 | G12: =VLOOKUP($C12,'S0 remplacer avec S44'!$C:$BQ,45,0) -> 2131.6708 | H12: =VLOOKUP($C12,'S0 remplacer avec S44'!$C:$BQ,52,0) -> 67 | I12: =VLOOKUP($C12,'S0 remplacer avec S44'!$C:$BQ,53,0) -> 507 | J12: =VLOOKUP($C12,'S0 remplacer avec S44'!$C:$BQ,15,0) -> 133 | K12: =VLOOKUP($C12,'S0 remplacer avec S44'!$C:$BQ,22,0) -> 6 | L12: =VLOOKUP($C12,'S0 remplacer avec S44'!$C:$BQ,23,0) -> 33 | M12: =VLOOKUP($C12,'S0 remplacer avec S44'!$C:$BQ,35,0) -> 2280.1693 | N12: =VLOOKUP($C12,'S0 remplacer avec S44'!$C:$BQ,42,0) -> 378 | O12: =VLOOKUP($C12,'S0 remplacer avec S44'!$C:$BQ,43,0) -> 910 | P12: =VLOOKUP($C12,'S45'!$C:$BQ,55,0) -> 234.8 | Q12: =VLOOKUP($C12,'S45'!$C:$BQ,62,0) -> 15 | R12: =VLOOKUP($C12,'S45'!$C:$BQ,63,0) -> 65 | S12: =VLOOKUP($C12,'S45'!$C:$BQ,45,0) -> 2223.7804 | T12: =VLOOKUP($C12,'S45'!$C:$BQ,52,0) -> 0 | U12: =VLOOKUP($C12,'S45'!$C:$BQ,53,0) -> 415 | V12: =VLOOKUP($C12,'S45'!$C:$BQ,15,0) -> 136 | W12: =VLOOKUP($C12,'S45'!$C:$BQ,22,0) -> 3 | X12: =VLOOKUP($C12,'S45'!$C:$BQ,23,0) -> 30 | Y12: =VLOOKUP($C12,'S45'!$C:$BQ,35,0) -> 2294.8844 | Z12: =VLOOKUP($C12,'S45'!$C:$BQ,42,0) -> 363 | AA12: =VLOOKUP($C12,'S45'!$C:$BQ,43,0) -> 895 | AB12: =VLOOKUP($C12,'S46'!$C:$BQ,55,0) -> 245.5 | AC12: =VLOOKUP($C12,'S46'!$C:$BQ,62,0) -> 4 | AD12: =VLOOKUP($C12,'S46'!$C:$BQ,63,0) -> 54 | AE12: =VLOOKUP($C12,'S46'!$C:$BQ,45,0) -> 2240.4052 | AF12: =VLOOKUP($C12,'S46'!$C:$BQ,52,0) -> 0 | AG12: =VLOOKUP($C12,'S46'!$C:$BQ,53,0) -> 398 | AH12: =VLOOKUP($C12,'S46'!$C:$BQ,15,0) -> 138 | AI12: =VLOOKUP($C12,'S46'!$C:$BQ,22,0) -> 1 | AJ12: =VLOOKUP($C12,'S46'!$C:$BQ,23,0) -> 28 | AK12: =VLOOKUP($C12,'S46'!$C:$BQ,35,0) -> 2345.0025 | AL12: =VLOOKUP($C12,'S46'!$C:$BQ,42,0) -> 313 | AM12: =VLOOKUP($C12,'S46'!$C:$BQ,43,0) -> 845 | AN12: =VLOOKUP($C12,'S47'!$C:$BQ,55,0) -> 240.9 | AO12: =VLOOKUP($C12,'S47'!$C:$BQ,62,0) -> 9 | AP12: =VLOOKUP($C12,'S47'!$C:$BQ,63,0) -> 59 | AQ12: =VLOOKUP($C12,'S47'!$C:$BQ,45,0) -> 2277.9859 | AR12: =VLOOKUP($C12,'S47'!$C:$BQ,52,0) -> 0 | AS12: =VLOOKUP($C12,'S47'!$C:$BQ,53,0) -> 361 | AT12: =VLOOKUP($C12,'S47'!$C:$BQ,15,0) -> 139 | AU12: =VLOOKUP($C12,'S47'!$C:$BQ,22,0) -> 0 | AV12: =VLOOKUP($C12,'S47'!$C:$BQ,23,0) -> 27 | AW12: =VLOOKUP($C12,'S47'!$C:$BQ,35,0) -> 2383.3457 | AX12: =VLOOKUP($C12,'S47'!$C:$BQ,42,0) -> 275 | AY12: =VLOOKUP($C12,'S47'!$C:$BQ,43,0) -> 806 | AZ12: =VLOOKUP($C12,'S48'!$C:$BQ,55,0) -> 243.9 | BA12: =VLOOKUP($C12,'S48'!$C:$BQ,62,0) -> 0 | BB12: =VLOOKUP($C12,'S48'!$C:$BQ,63,0) -> 131 | BC12: =VLOOKUP($C12,'S48'!$C:$BQ,45,0) -> 2324.9056 | BD12: =VLOOKUP($C12,'S48'!$C:$BQ,52,0) -> 0 | BE12: =VLOOKUP($C12,'S48'!$C:$BQ,53,0) -> 314 | BF12: =VLOOKUP($C12,'S48'!$C:$BQ,15,0) -> 141 | BG12: =VLOOKUP($C12,'S48'!$C:$BQ,22,0) -> 0 | BH12: =VLOOKUP($C12,'S48'!$C:$BQ,23,0) -> 25 | BI12: =VLOOKUP($C12,'S48'!$C:$BQ,35,0) -> 2397.2654 | BJ12: =VLOOKUP($C12,'S48'!$C:$BQ,42,0) -> 261 | BK12: =VLOOKUP($C12,'S48'!$C:$BQ,43,0) -> 792 | BL12: =VLOOKUP($C12,'S49'!$C:$BQ,55,0) -> #N/A | BM12: =VLOOKUP($C12,'S49'!$C:$BQ,62,0) -> #N/A | BN12: =VLOOKUP($C12,'S49'!$C:$BQ,63,0) -> #N/A | BO12: =VLOOKUP($C12,'S49'!$C:$BQ,45,0) -> #N/A | BP12: =VLOOKUP($C12,'S49'!$C:$BQ,52,0) -> #N/A | BQ12: =VLOOKUP($C12,'S49'!$C:$BQ,53,0) -> #N/A | BR12: =VLOOKUP($C12,'S49'!$C:$BQ,15,0) -> #N/A | BS12: =VLOOKUP($C12,'S49'!$C:$BQ,22,0) -> #N/A | BT12: =VLOOKUP($C12,'S49'!$C:$BQ,23,0) -> #N/A | BU12: =VLOOKUP($C12,'S49'!$C:$BQ,35,0) -> #N/A | BV12: =VLOOKUP($C12,'S49'!$C:$BQ,42,0) -> #N/A | BW12: =VLOOKUP($C12,'S49'!$C:$BQ,43,0) -> #N/A | BX12: =VLOOKUP($C12,'S50'!$C:$BQ,55,0) -> #N/A | BY12: =VLOOKUP($C12,'S50'!$C:$BQ,62,0) -> #N/A | BZ12: =VLOOKUP($C12,'S50'!$C:$BQ,63,0) -> #N/A | CA12: =VLOOKUP($C12,'S50'!$C:$BQ,45,0) -> #N/A | CB12: =VLOOKUP($C12,'S50'!$C:$BQ,52,0) -> #N/A | CC12: =VLOOKUP($C12,'S50'!$C:$BQ,53,0) -> #N/A | CD12: =VLOOKUP($C12,'S50'!$C:$BQ,15,0) -> #N/A | CE12: =VLOOKUP($C12,'S50'!$C:$BQ,22,0) -> #N/A | CF12: =VLOOKUP($C12,'S50'!$C:$BQ,23,0) -> #N/A | CG12: =VLOOKUP($C12,'S50'!$C:$BQ,35,0) -> #N/A | CH12: =VLOOKUP($C12,'S50'!$C:$BQ,42,0) -> #N/A | CI12: =VLOOKUP($C12,'S50'!$C:$BQ,43,0) -> #N/A
A13: AUBE_HAUTE_MARNE | B13: TROYES | C13: BAR SUR AUBE | D13: =VLOOKUP($C13,'S0 remplacer avec S44'!$C:$BQ,55,0) -> 374.1 | E13: =VLOOKUP($C13,'S0 remplacer avec S44'!$C:$BQ,62,0) -> 12 | F13: =VLOOKUP($C13,'S0 remplacer avec S44'!$C:$BQ,63,0) -> 89 | G13: =VLOOKUP($C13,'S0 remplacer avec S44'!$C:$BQ,45,0) -> 3677.7774 | H13: =VLOOKUP($C13,'S0 remplacer avec S44'!$C:$BQ,52,0) -> 0 | I13: =VLOOKUP($C13,'S0 remplacer avec S44'!$C:$BQ,53,0) -> 399 | J13: =VLOOKUP($C13,'S0 remplacer avec S44'!$C:$BQ,15,0) -> 226 | K13: =VLOOKUP($C13,'S0 remplacer avec S44'!$C:$BQ,22,0) -> 0 | L13: =VLOOKUP($C13,'S0 remplacer avec S44'!$C:$BQ,23,0) -> 31 | M13: =VLOOKUP($C13,'S0 remplacer avec S44'!$C:$BQ,35,0) -> 3073.4082 | N13: =VLOOKUP($C13,'S0 remplacer avec S44'!$C:$BQ,42,0) -> 772 | O13: =VLOOKUP($C13,'S0 remplacer avec S44'!$C:$BQ,43,0) -> 1541 | P13: =VLOOKUP($C13,'S45'!$C:$BQ,55,0) -> 376.7 | Q13: =VLOOKUP($C13,'S45'!$C:$BQ,62,0) -> 9 | R13: =VLOOKUP($C13,'S45'!$C:$BQ,63,0) -> 86 | S13: =VLOOKUP($C13,'S45'!$C:$BQ,45,0) -> 3785.7356 | T13: =VLOOKUP($C13,'S45'!$C:$BQ,52,0) -> 0 | U13: =VLOOKUP($C13,'S45'!$C:$BQ,53,0) -> 292 | V13: =VLOOKUP($C13,'S45'!$C:$BQ,15,0) -> 229 | W13: =VLOOKUP($C13,'S45'!$C:$BQ,22,0) -> 0 | X13: =VLOOKUP($C13,'S45'!$C:$BQ,23,0) -> 28 | Y13: =VLOOKUP($C13,'S45'!$C:$BQ,35,0) -> 3079.1805 | Z13: =VLOOKUP($C13,'S45'!$C:$BQ,42,0) -> 766 | AA13: =VLOOKUP($C13,'S45'!$C:$BQ,43,0) -> 1535 | AB13: =VLOOKUP($C13,'S46'!$C:$BQ,55,0) -> 391.8 | AC13: =VLOOKUP($C13,'S46'!$C:$BQ,62,0) -> 0 | AD13: =VLOOKUP($C13,'S46'!$C:$BQ,63,0) -> 71 | AE13: =VLOOKUP($C13,'S46'!$C:$BQ,45,0) -> 3828.3728 | AF13: =VLOOKUP($C13,'S46'!$C:$BQ,52,0) -> 0 | AG13: =VLOOKUP($C13,'S46'!$C:$BQ,53,0) -> 249 | AH13: =VLOOKUP($C13,'S46'!$C:$BQ,15,0) -> 233 | AI13: =VLOOKUP($C13,'S46'!$C:$BQ,22,0) -> 0 | AJ13: =VLOOKUP($C13,'S46'!$C:$BQ,23,0) -> 24 | AK13: =VLOOKUP($C13,'S46'!$C:$BQ,35,0) -> 3179.7405 | AL13: =VLOOKUP($C13,'S46'!$C:$BQ,42,0) -> 666 | AM13: =VLOOKUP($C13,'S46'!$C:$BQ,43,0) -> 1435 | AN13: =VLOOKUP($C13,'S47'!$C:$BQ,55,0) -> 397.2 | AO13: =VLOOKUP($C13,'S47'!$C:$BQ,62,0) -> 0 | AP13: =VLOOKUP($C13,'S47'!$C:$BQ,63,0) -> 66 | AQ13: =VLOOKUP($C13,'S47'!$C:$BQ,45,0) -> 3858.1593 | AR13: =VLOOKUP($C13,'S47'!$C:$BQ,52,0) -> 0 | AS13: =VLOOKUP($C13,'S47'!$C:$BQ,53,0) -> 219 | AT13: =VLOOKUP($C13,'S47'!$C:$BQ,15,0) -> 237 | AU13: =VLOOKUP($C13,'S47'!$C:$BQ,22,0) -> 0 | AV13: =VLOOKUP($C13,'S47'!$C:$BQ,23,0) -> 20 | AW13: =VLOOKUP($C13,'S47'!$C:$BQ,35,0) -> 3202.8796 | AX13: =VLOOKUP($C13,'S47'!$C:$BQ,42,0) -> 643 | AY13: =VLOOKUP($C13,'S47'!$C:$BQ,43,0) -> 1412 | AZ13: =VLOOKUP($C13,'S48'!$C:$BQ,55,0) -> 403.1 | BA13: =VLOOKUP($C13,'S48'!$C:$BQ,62,0) -> 0 | BB13: =VLOOKUP($C13,'S48'!$C:$BQ,63,0) -> 175 | BC13: =VLOOKUP($C13,'S48'!$C:$BQ,45,0) -> 3912.8067 | BD13: =VLOOKUP($C13,'S48'!$C:$BQ,52,0) -> 0 | BE13: =VLOOKUP($C13,'S48'!$C:$BQ,53,0) -> 164 | BF13: =VLOOKUP($C13,'S48'!$C:$BQ,15,0) -> 242 | BG13: =VLOOKUP($C13,'S48'!$C:$BQ,22,0) -> 0 | BH13: =VLOOKUP($C13,'S48'!$C:$BQ,23,0) -> 15 | BI13: =VLOOKUP($C13,'S48'!$C:$BQ,35,0) -> 3249.1926 | BJ13: =VLOOKUP($C13,'S48'!$C:$BQ,42,0) -> 596 | BK13: =VLOOKUP($C13,'S48'!$C:$BQ,43,0) -> 1365 | BL13: =VLOOKUP($C13,'S49'!$C:$BQ,55,0) -> #N/A | BM13: =VLOOKUP($C13,'S49'!$C:$BQ,62,0) -> #N/A | BN13: =VLOOKUP($C13,'S49'!$C:$BQ,63,0) -> #N/A | BO13: =VLOOKUP($C13,'S49'!$C:$BQ,45,0) -> #N/A | BP13: =VLOOKUP($C13,'S49'!$C:$BQ,52,0) -> #N/A | BQ13: =VLOOKUP($C13,'S49'!$C:$BQ,53,0) -> #N/A | BR13: =VLOOKUP($C13,'S49'!$C:$BQ,15,0) -> #N/A | BS13: =VLOOKUP($C13,'S49'!$C:$BQ,22,0) -> #N/A | BT13: =VLOOKUP($C13,'S49'!$C:$BQ,23,0) -> #N/A | BU13: =VLOOKUP($C13,'S49'!$C:$BQ,35,0) -> #N/A | BV13: =VLOOKUP($C13,'S49'!$C:$BQ,42,0) -> #N/A | BW13: =VLOOKUP($C13,'S49'!$C:$BQ,43,0) -> #N/A | BX13: =VLOOKUP($C13,'S50'!$C:$BQ,55,0) -> #N/A | BY13: =VLOOKUP($C13,'S50'!$C:$BQ,62,0) -> #N/A | BZ13: =VLOOKUP($C13,'S50'!$C:$BQ,63,0) -> #N/A | CA13: =VLOOKUP($C13,'S50'!$C:$BQ,45,0) -> #N/A | CB13: =VLOOKUP($C13,'S50'!$C:$BQ,52,0) -> #N/A | CC13: =VLOOKUP($C13,'S50'!$C:$BQ,53,0) -> #N/A | CD13: =VLOOKUP($C13,'S50'!$C:$BQ,15,0) -> #N/A | CE13: =VLOOKUP($C13,'S50'!$C:$BQ,22,0) -> #N/A | CF13: =VLOOKUP($C13,'S50'!$C:$BQ,23,0) -> #N/A | CG13: =VLOOKUP($C13,'S50'!$C:$BQ,35,0) -> #N/A | CH13: =VLOOKUP($C13,'S50'!$C:$BQ,42,0) -> #N/A | CI13: =VLOOKUP($C13,'S50'!$C:$BQ,43,0) -> #N/A
