Workbook
Name AUBE_HAUTE_MARNE: 'Structures EDS'!$C$3:$C$4
Name BAS_RHIN: 'Structures EDS'!$D$3:$D$5
Name CHALONS_EN_CHAMPAGNE: 'Structures EDS'!$T$3:$T$12
Name CHARLEVILLE_MEZIERES: 'Structures EDS'!$U$3:$U$15
Name CHAUMONT: 'Structures EDS'!$M$3:$M$8
Name COLMAR: 'Structures EDS'!$R$3:$R$14
Name EPINAL: 'Structures EDS'!$AC$3:$AC$17
Name HAGUENAU: 'Structures EDS'!$O$3:$O$16
Name HAUT_RHIN: 'Structures EDS'!$E$3:$E$4
Name MARNE_ARDENNES: 'Structures EDS'!$F$3:$F$5
Name METZ: 'Structures EDS'!$Z$3:$Z$24
Name MEURTHE_ET_MOSELLE_MEUSE: 'Structures EDS'!$G$3:$G$5
Name MOSELLE: 'Structures EDS'!$H$3:$H$5
Name MOSELLE_EST: 'Structures EDS'!$AA$3:$AA$17
Name MOSELLE_NORD: 'Structures EDS'!$AB$3:$AB$17
Name MULHOUSE: 'Structures EDS'!$S$3:$S$12
Name NANCY: 'Structures EDS'!$W$3:$W$17
Name PONT_A_MOUSSON: 'Structures EDS'!$X$3:$X$20
Name REIMS: 'Structures EDS'!$V$3:$V$19
Name SAINT_DIE: 'Structures EDS'!$AD$3:$AD$12
Name SELESTAT: 'Structures EDS'!$P$3:$P$17
Name STRASBOURG: 'Structures EDS'!$Q$3:$Q$20
Name TROYES: 'Structures EDS'!$N$3:$N$15
Name VERDUN: 'Structures EDS'!$Y$3:$Y$16
Name VOSGES: 'Structures EDS'!$I$3:$I$4

Sheet Lexique
B1: LEXIQUE FICHE AGENCE "VERS LA PV 2021"
C5: Le rôle de la fiche Agence "Vers la Part Variable 2021" est de vous aider à piloter les principaux items de la Part Variable 2021 sur les 2 derniers mois de l'année. Les indicateurs vous permettent d'avoir une vision hebdomadaire et par ETP des performances à réaliser pour atteindre vos objectifs.
C7: Elle sera mise à jour chaque mardi matin pour vous offrir la vision la plus complète de la production de la semaine précédente et du reste à faire.
C9: Ce suivi n'a pas vocation à figer vos résultats et les taux de Part Variable, ces derniers le seront lors de la réalisation des arrêtés définitifs début 2022.
C11: Pour piloter vos objectifs Part Variable en quotidien : | H11: Suivi Quotidien Part Variable sur Objectifs
C16: ● Taux d'atteinte de l'objectif : réalisation cumulée à fin de semaine précédente / objectif annuel 2021
C18: ● Meilleure performance hebdo : meilleure production hebdomadaire en 2021 (avant S44) rapportée à l'ETP moyen annuel
F19: à fin septembre
C21: ● Reste à faire pour atteindre l'objectif de 100% ou 120% : il s'agit d'une estimation du reste à faire pour atteindre l'objectif
C22: annuel. Ce dernier s'adapte en fonction de :
C23: - la réalisation sur la semaine précédente
C24: - la mise à jour mensuelle de l'objectif en fonction de l'ETP annuel moyen (ETP d'octobre disponible autour du 20/11)
C26: ● ETP utilisé dans le calcul du reste à faire et de la production des semaines 45 à 50 : il s'agit de l'ETP PERFORMANCE MOYEN
C28: ● 1er décile AGENCE CEGEE : il s'agit du premier décile toutes agence de la CEGEE confondues.
C29: Il faut lire : 10% des agences de la CEGEE ont un taux supérieur à X%.
C34: L'ETP utilisé pour calculer mon reste à faire et ma production sur les semaines 45 à 50 est trop éloigné de la réalité, comment le modifier ?
C35: Il vous suffit d'envoyer un email à la boîte CEGEE-B-CRM-DATA en précisant l'ETP le plus proche de votre situation sur cette période.
C37: Mon reste à faire ne correspond pas au reste à faire de la semaine précédente moins ma production de la semaine, comment est-ce possible ?
C38: Le reste à faire s'adapte au fil de l'eau à 2 informations : l'objectif annuel, qui dépend de l'ETP moyen annuel, et la réalisation sur la semaine précédente.
C39: Lorsque les ETP d'octobre seront intégrés à l'ETP moyen annuel, autour du 20/11, l'objectif annuel va s'ajuster. Le reste à faire sera donc recalculé selon l'objectif annuel.

Sheet Fiche Agence
C1: REGION | H1: TERRITOIRE | N1: AGENCE | X1: S-1 | Y1: =Y2-1 -> 48
C2: AUBE_HAUTE_MARNE | X2: Semaine en cours : | Y2: 49 | Z2: A modifier manuellement | AE2: IARD PREVOYANCE
X3: Nb semaines restantes : | Y3: =50-Y2+1 -> 2 | AE3: 0 | AF3: 45 | AG3: 46 | AH3: 47 | AI3: 48 | AJ3: 49 | AK3: 50
B4: ="VERS LA PART VARIABLE 2021 - SEMAINE " &Y2 -> VERS LA PART VARIABLE 2021 - SEMAINE 49 | X4: Code EDS | Y4: =VLOOKUP(N2,ETP_Challenge!D:F,3,0) -> #N/A | AD4: PROD | AE4: =(IF(ISBLANK($H$2),SUMIF('CUMUL résultats semaine'!$A:$A,'Fiche Agence'!$C$2,'CUMUL résultats semaine'!$D:$D),IF(ISBLANK($N$2),SUMIF('CUMUL résultats semaine'!$B:$B,'Fiche Agence'!$H$2,'CUMUL résultats semaine'!$D:$D),SUMIF('CUMUL résultats semaine'!$C:$C,'Fiche Agence'!$N$2,'CUMUL résultats semaine'!$D:$D)))) -> 5538.5 | AF4: =(IF(ISBLANK($H$2),SUMIF('CUMUL résultats semaine'!$A:$A,'Fiche Agence'!$C$2,'CUMUL résultats semaine'!$P:$P),IF(ISBLANK($N$2),SUMIF('CUMUL résultats semaine'!$B:$B,'Fiche Agence'!$H$2,'CUMUL résultats semaine'!$P:$P),SUMIF('CUMUL résultats semaine'!$C:$C,'Fiche Agence'!$N$2,'CUMUL résultats semaine'!$P:$P)))) -> 5598.9 | AG4: =(IF(ISBLANK($H$2),SUMIF('CUMUL résultats semaine'!$A:$A,'Fiche Agence'!$C$2,'CUMUL résultats semaine'!$AB:$AB),IF(ISBLANK($N$2),SUMIF('CUMUL résultats semaine'!$B:$B,'Fiche Agence'!$H$2,'CUMUL résultats semaine'!$AB:$AB),SUMIF('CUMUL résultats semaine'!$C:$C,'Fiche Agence'!$N$2,'CUMUL résultats semaine'!$AB:$AB)))) -> 5769.1 | AH4: =(IF(ISBLANK($H$2),SUMIF('CUMUL résultats semaine'!$A:$A,'Fiche Agence'!$C$2,'CUMUL résultats semaine'!$AN:$AN),IF(ISBLANK($N$2),SUMIF('CUMUL résultats semaine'!$B:$B,'Fiche Agence'!$H$2,'CUMUL résultats semaine'!$AN:$AN),SUMIF('CUMUL résultats semaine'!$C:$C,'Fiche Agence'!$N$2,'CUMUL résultats semaine'!$AN:$AN)))) -> 5819.3 | AI4: =(IF(ISBLANK($H$2),SUMIF('CUMUL résultats semaine'!$A:$A,'Fiche Agence'!$C$2,'CUMUL résultats semaine'!$AZ:$AZ),IF(ISBLANK($N$2),SUMIF('CUMUL résultats semaine'!$B:$B,'Fiche Agence'!$H$2,'CUMUL résultats semaine'!$AZ:$AZ),SUMIF('CUMUL résultats semaine'!$C:$C,'Fiche Agence'!$N$2,'CUMUL résultats semaine'!$AZ:$AZ)))) -> 5919.7 | AJ4: =(IF(ISBLANK($H$2),SUMIF('CUMUL résultats semaine'!$A:$A,'Fiche Agence'!$C$2,'CUMUL résultats semaine'!$BL:$BL),IF(ISBLANK($N$2),SUMIF('CUMUL résultats semaine'!$B:$B,'Fiche Agence'!$H$2,'CUMUL résultats semaine'!$BL:$BL),SUMIF('CUMUL résultats semaine'!$C:$C,'Fiche Agence'!$N$2,'CUMUL résultats semaine'!$BL:$BL)))) -> #N/A | AK4: =(IF(ISBLANK($H$2),SUMIF('CUMUL résultats semaine'!$A:$A,'Fiche Agence'!$C$2,'CUMUL résultats semaine'!$BX:$BX),IF(ISBLANK($N$2),SUMIF('CUMUL résultats semaine'!$B:$B,'Fiche Agence'!$H$2,'CUMUL résultats semaine'!$BX:$BX),SUMIF('CUMUL résultats semaine'!$C:$C,'Fiche Agence'!$N$2,'CUMUL résultats semaine'!$BX:$BX)))) -> #N/A
X5: ETP | Y5: =IF(ISBLANK($H$2),SUMIF(ETP_Challenge!$A:$A,'Fiche Agence'!$C$2,ETP_Challenge!$E:$E),IF(ISBLANK($N$2),SUMIF(ETP_Challenge!$B:$B,'Fiche Agence'!$H$2,ETP_Challenge!$E:$E),SUMIF(ETP_Challenge!$D:$D,'Fiche Agence'!$N$2,ETP_Challenge!$E:$E))) -> 102.00914 | Z5: ="ETP entité : "&Y5 -> ETP entité : 102,00913876 | AD5: RAF 100% | AE5: =(IF(ISBLANK($H$2),SUMIF('CUMUL résultats semaine'!$A:$A,'Fiche Agence'!$C$2,'CUMUL résultats semaine'!$E:$E),IF(ISBLANK($N$2),SUMIF('CUMUL résultats semaine'!$B:$B,'Fiche Agence'!$H$2,'CUMUL résultats semaine'!$E:$E),SUMIF('CUMUL résultats semaine'!$C:$C,'Fiche Agence'!$N$2,'CUMUL résultats semaine'!$E:$E)))) -> 1205 | AF5: =(IF(ISBLANK($H$2),SUMIF('CUMUL résultats semaine'!$A:$A,'Fiche Agence'!$C$2,'CUMUL résultats semaine'!$Q:$Q),IF(ISBLANK($N$2),SUMIF('CUMUL résultats semaine'!$B:$B,'Fiche Agence'!$H$2,'CUMUL résultats semaine'!$Q:$Q),SUMIF('CUMUL résultats semaine'!$C:$C,'Fiche Agence'!$N$2,'CUMUL résultats semaine'!$Q:$Q)))) -> 1167 | AG5: =(IF(ISBLANK($H$2),SUMIF('CUMUL résultats semaine'!$A:$A,'Fiche Agence'!$C$2,'CUMUL résultats semaine'!$AC:$AC),IF(ISBLANK($N$2),SUMIF('CUMUL résultats semaine'!$B:$B,'Fiche Agence'!$H$2,'CUMUL résultats semaine'!$AC:$AC),SUMIF('CUMUL résultats semaine'!$C:$C,'Fiche Agence'!$N$2,'CUMUL résultats semaine'!$AC:$AC)))) -> 1049 | AH5: =(IF(ISBLANK($H$2),SUMIF('CUMUL résultats semaine'!$A:$A,'Fiche Agence'!$C$2,'CUMUL résultats semaine'!$AO:$AO),IF(ISBLANK($N$2),SUMIF('CUMUL résultats semaine'!$B:$B,'Fiche Agence'!$H$2,'CUMUL résultats semaine'!$AO:$AO),SUMIF('CUMUL résultats semaine'!$C:$C,'Fiche Agence'!$N$2,'CUMUL résultats semaine'!$AO:$AO)))) -> 1036 | AI5: =(IF(ISBLANK($H$2),SUMIF('CUMUL résultats semaine'!$A:$A,'Fiche Agence'!$C$2,'CUMUL résultats semaine'!$BA:$BA),IF(ISBLANK($N$2),SUMIF('CUMUL résultats semaine'!$B:$B,'Fiche Agence'!$H$2,'CUMUL résultats semaine'!$BA:$BA),SUMIF('CUMUL résultats semaine'!$C:$C,'Fiche Agence'!$N$2,'CUMUL résultats semaine'!$BA:$BA)))) -> 708 | AJ5: =(IF(ISBLANK($H$2),SUMIF('CUMUL résultats semaine'!$A:$A,'Fiche Agence'!$C$2,'CUMUL résultats semaine'!$BM:$BM),IF(ISBLANK($N$2),SUMIF('CUMUL résultats semaine'!$B:$B,'Fiche Agence'!$H$2,'CUMUL résultats semaine'!$BM:$BM),SUMIF('CUMUL résultats semaine'!$C:$C,'Fiche Agence'!$N$2,'CUMUL résultats semaine'!$BM:$BM)))) -> #N/A | AK5: =(IF(ISBLANK($H$2),SUMIF('CUMUL résultats semaine'!$A:$A,'Fiche Agence'!$C$2,'CUMUL résultats semaine'!$BY:$BY),IF(ISBLANK($N$2),SUMIF('CUMUL résultats semaine'!$B:$B,'Fiche Agence'!$H$2,'CUMUL résultats semaine'!$BY:$BY),SUMIF('CUMUL résultats semaine'!$C:$C,'Fiche Agence'!$N$2,'CUMUL résultats semaine'!$BY:$BY)))) -> #N/A
X6: OBJ GEDEL | Y6: =IF(ISBLANK($H$2),SUMIF(GEDEL!$A:$A,'Fiche Agence'!$C$2,GEDEL!$F:$F),IF(ISBLANK($N$2),SUMIF(GEDEL!$B:$B,'Fiche Agence'!$H$2,GEDEL!$F:$F),SUMIF(GEDEL!$C:$C,'Fiche Agence'!$N$2,GEDEL!$F:$F))) -> 1278066 | AD6: RAF 120% | AE6: =(IF(ISBLANK($H$2),SUMIF('CUMUL résultats semaine'!$A:$A,'Fiche Agence'!$C$2,'CUMUL résultats semaine'!$F:$F),IF(ISBLANK($N$2),SUMIF('CUMUL résultats semaine'!$B:$B,'Fiche Agence'!$H$2,'CUMUL résultats semaine'!$F:$F),SUMIF('CUMUL résultats semaine'!$C:$C,'Fiche Agence'!$N$2,'CUMUL résultats semaine'!$F:$F)))) -> 2295 | AF6: =(IF(ISBLANK($H$2),SUMIF('CUMUL résultats semaine'!$A:$A,'Fiche Agence'!$C$2,'CUMUL résultats semaine'!$R:$R),IF(ISBLANK($N$2),SUMIF('CUMUL résultats semaine'!$B:$B,'Fiche Agence'!$H$2,'CUMUL résultats semaine'!$R:$R),SUMIF('CUMUL résultats semaine'!$C:$C,'Fiche Agence'!$N$2,'CUMUL résultats semaine'!$R:$R)))) -> 2239 | AG6: =(IF(ISBLANK($H$2),SUMIF('CUMUL résultats semaine'!$A:$A,'Fiche Agence'!$C$2,'CUMUL résultats semaine'!$AD:$AD),IF(ISBLANK($N$2),SUMIF('CUMUL résultats semaine'!$B:$B,'Fiche Agence'!$H$2,'CUMUL résultats semaine'!$AD:$AD),SUMIF('CUMUL résultats semaine'!$C:$C,'Fiche Agence'!$N$2,'CUMUL résultats semaine'!$AD:$AD)))) -> 2045 | AH6: =(IF(ISBLANK($H$2),SUMIF('CUMUL résultats semaine'!$A:$A,'Fiche Agence'!$C$2,'CUMUL résultats semaine'!$AP:$AP),IF(ISBLANK($N$2),SUMIF('CUMUL résultats semaine'!$B:$B,'Fiche Agence'!$H$2,'CUMUL résultats semaine'!$AP:$AP),SUMIF('CUMUL résultats semaine'!$C:$C,'Fiche Agence'!$N$2,'CUMUL résultats semaine'!$AP:$AP)))) -> 2040 | AI6: =(IF(ISBLANK($H$2),SUMIF('CUMUL résultats semaine'!$A:$A,'Fiche Agence'!$C$2,'CUMUL résultats semaine'!$BB:$BB),IF(ISBLANK($N$2),SUMIF('CUMUL résultats semaine'!$B:$B,'Fiche Agence'!$H$2,'CUMUL résultats semaine'!$BB:$BB),SUMIF('CUMUL résultats semaine'!$C:$C,'Fiche Agence'!$N$2,'CUMUL résultats semaine'!$BB:$BB)))) -> 3816 | AJ6: =(IF(ISBLANK($H$2),SUMIF('CUMUL résultats semaine'!$A:$A,'Fiche Agence'!$C$2,'CUMUL résultats semaine'!$BN:$BN),IF(ISBLANK($N$2),SUMIF('CUMUL résultats semaine'!$B:$B,'Fiche Agence'!$H$2,'CUMUL résultats semaine'!$BN:$BN),SUMIF('CUMUL résultats semaine'!$C:$C,'Fiche Agence'!$N$2,'CUMUL résultats semaine'!$BN:$BN)))) -> #N/A | AK6: =(IF(ISBLANK($H$2),SUMIF('CUMUL résultats semaine'!$A:$A,'Fiche Agence'!$C$2,'CUMUL résultats semaine'!$BZ:$BZ),IF(ISBLANK($N$2),SUMIF('CUMUL résultats semaine'!$B:$B,'Fiche Agence'!$H$2,'CUMUL résultats semaine'!$BZ:$BZ),SUMIF('CUMUL résultats semaine'!$C:$C,'Fiche Agence'!$N$2,'CUMUL résultats semaine'!$BZ:$BZ)))) -> #N/A
AD7: RAF 100% | AE7: =HLOOKUP(Y1,3:6,3,FALSE) -> 708
G8: MEILLEURE PERFORMANCE HEBDO EN 2021 : | K8: ATTENDU : 0,5 VB / ETP / SEMAINE DU 12 OCTOBRE AU 18 DECEMBRE | AD8: RAF 120% | AE8: =HLOOKUP(Y1,3:6,4,FALSE) -> 3816
X10: Jauge | AE10: BANCA
K11: REAL DEPUIS LE 12/10 | N11: % SAIS. | X11: 0 - 79% | Z11: 80 | AE11: 0 | AF11: 45 | AG11: 46 | AH11: 47 | AI11: 48 | AJ11: 49 | AK11: 50
G12: R à F Entité : | K12: ENTITE | M12: PAR ETP | N12: =K13/(0.5*Y5*(10-Y3)) -> 0.72297444 | T12: RàF total | U12: RàF hebdo | X12: 80% - 100% | Z12: 20 | AD12: PROD | AE12: =(IF(ISBLANK($H$2),SUMIF('CUMUL résultats semaine'!$A:$A,'Fiche Agence'!$C$2,'CUMUL résultats semaine'!$J:$J),IF(ISBLANK($N$2),SUMIF('CUMUL résultats semaine'!$B:$B,'Fiche Agence'!$H$2,'CUMUL résultats semaine'!$J:$J),SUMIF('CUMUL résultats semaine'!$C:$C,'Fiche Agence'!$N$2,'CUMUL résultats semaine'!$J:$J)))) -> 4257 | AF12: =(IF(ISBLANK($H$2),SUMIF('CUMUL résultats semaine'!$A:$A,'Fiche Agence'!$C$2,'CUMUL résultats semaine'!$V:$V),IF(ISBLANK($N$2),SUMIF('CUMUL résultats semaine'!$B:$B,'Fiche Agence'!$H$2,'CUMUL résultats semaine'!$V:$V),SUMIF('CUMUL résultats semaine'!$C:$C,'Fiche Agence'!$N$2,'CUMUL résultats semaine'!$V:$V)))) -> 4330 | AG12: =(IF(ISBLANK($H$2),SUMIF('CUMUL résultats semaine'!$A:$A,'Fiche Agence'!$C$2,'CUMUL résultats semaine'!$AH:$AH),IF(ISBLANK($N$2),SUMIF('CUMUL résultats semaine'!$B:$B,'Fiche Agence'!$H$2,'CUMUL résultats semaine'!$AH:$AH),SUMIF('CUMUL résultats semaine'!$C:$C,'Fiche Agence'!$N$2,'CUMUL résultats semaine'!$AH:$AH)))) -> 4410 | AH12: =(IF(ISBLANK($H$2),SUMIF('CUMUL résultats semaine'!$A:$A,'Fiche Agence'!$C$2,'CUMUL résultats semaine'!$AT:$AT),IF(ISBLANK($N$2),SUMIF('CUMUL résultats semaine'!$B:$B,'Fiche Agence'!$H$2,'CUMUL résultats semaine'!$AT:$AT),SUMIF('CUMUL résultats semaine'!$C:$C,'Fiche Agence'!$N$2,'CUMUL résultats semaine'!$AT:$AT)))) -> 4465 | AI12: =(IF(ISBLANK($H$2),SUMIF('CUMUL résultats semaine'!$A:$A,'Fiche Agence'!$C$2,'CUMUL résultats semaine'!$BF:$BF),IF(ISBLANK($N$2),SUMIF('CUMUL résultats semaine'!$B:$B,'Fiche Agence'!$H$2,'CUMUL résultats semaine'!$BF:$BF),SUMIF('CUMUL résultats semaine'!$C:$C,'Fiche Agence'!$N$2,'CUMUL résultats semaine'!$BF:$BF)))) -> 4544 | AJ12: =(IF(ISBLANK($H$2),SUMIF('CUMUL résultats semaine'!$A:$A,'Fiche Agence'!$C$2,'CUMUL résultats semaine'!$BR:$BR),IF(ISBLANK($N$2),SUMIF('CUMUL résultats semaine'!$B:$B,'Fiche Agence'!$H$2,'CUMUL résultats semaine'!$BR:$BR),SUMIF('CUMUL résultats semaine'!$C:$C,'Fiche Agence'!$N$2,'CUMUL résultats semaine'!$BR:$BR)))) -> #N/A | AK12: =(IF(ISBLANK($H$2),SUMIF('CUMUL résultats semaine'!$A:$A,'Fiche Agence'!$C$2,'CUMUL résultats semaine'!$CD:$CD),IF(ISBLANK($N$2),SUMIF('CUMUL résultats semaine'!$B:$B,'Fiche Agence'!$H$2,'CUMUL résultats semaine'!$CD:$CD),SUMIF('CUMUL résultats semaine'!$C:$C,'Fiche Agence'!$N$2,'CUMUL résultats semaine'!$CD:$CD)))) -> #N/A
H13: 1 | K13: =IF(ISBLANK($H$2),SUMIF(PROD_AUTO5_PREV_PERI_PART_SOC!$A:$A,'Fiche Agence'!$C$2,PROD_AUTO5_PREV_PERI_PART_SOC!$E:$E),IF(ISBLANK($N$2),SUMIF(PROD_AUTO5_PREV_PERI_PART_SOC!$B:$B,'Fiche Agence'!$H$2,PROD_AUTO5_PREV_PERI_PART_SOC!$E:$E),SUMIF(PROD_AUTO5_PREV_PERI_PART_SOC!$D:$D,'Fiche Agence'!$N$2,PROD_AUTO5_PREV_PERI_PART_SOC!$E:$E))) -> 295 | M13: =K13/(IF(ISBLANK($H$2),SUMIF(ETP_Challenge!$A:$A,'Fiche Agence'!$C$2,ETP_Challenge!$E:$E),IF(ISBLANK($N$2),SUMIF(ETP_Challenge!$B:$B,'Fiche Agence'!$H$2,ETP_Challenge!$E:$E),SUMIF(ETP_Challenge!$D:$D,'Fiche Agence'!$N$2,ETP_Challenge!$E:$E)))) -> 2.8918978 | T13: =IF(((ROUND(0.5*Y5,1)*10 - K13))<=0,0,((ROUND(0.5*Y5,1)*10 - K13))) -> 215 | U13: =IF(((ROUND(0.5*Y5,1)*10 - K13)/Y3)<=0,0,((ROUND(0.5*Y5,1)*10 - K13)/Y3)) -> 107.5 | X13: 101% - 120% | Z13: 20 | AD13: RAF 100% | AE13: =(IF(ISBLANK($H$2),SUMIF('CUMUL résultats semaine'!$A:$A,'Fiche Agence'!$C$2,'CUMUL résultats semaine'!$K:$K),IF(ISBLANK($N$2),SUMIF('CUMUL résultats semaine'!$B:$B,'Fiche Agence'!$H$2,'CUMUL résultats semaine'!$K:$K),SUMIF('CUMUL résultats semaine'!$C:$C,'Fiche Agence'!$N$2,'CUMUL résultats semaine'!$K:$K)))) -> 86 | AF13: =(IF(ISBLANK($H$2),SUMIF('CUMUL résultats semaine'!$A:$A,'Fiche Agence'!$C$2,'CUMUL résultats semaine'!$W:$W),IF(ISBLANK($N$2),SUMIF('CUMUL résultats semaine'!$B:$B,'Fiche Agence'!$H$2,'CUMUL résultats semaine'!$W:$W),SUMIF('CUMUL résultats semaine'!$C:$C,'Fiche Agence'!$N$2,'CUMUL résultats semaine'!$W:$W)))) -> 73 | AG13: =(IF(ISBLANK($H$2),SUMIF('CUMUL résultats semaine'!$A:$A,'Fiche Agence'!$C$2,'CUMUL résultats semaine'!$AI:$AI),IF(ISBLANK($N$2),SUMIF('CUMUL résultats semaine'!$B:$B,'Fiche Agence'!$H$2,'CUMUL résultats semaine'!$AI:$AI),SUMIF('CUMUL résultats semaine'!$C:$C,'Fiche Agence'!$N$2,'CUMUL résultats semaine'!$AI:$AI)))) -> 51 | AH13: =(IF(ISBLANK($H$2),SUMIF('CUMUL résultats semaine'!$A:$A,'Fiche Agence'!$C$2,'CUMUL résultats semaine'!$AU:$AU),IF(ISBLANK($N$2),SUMIF('CUMUL résultats semaine'!$B:$B,'Fiche Agence'!$H$2,'CUMUL résultats semaine'!$AU:$AU),SUMIF('CUMUL résultats semaine'!$C:$C,'Fiche Agence'!$N$2,'CUMUL résultats semaine'!$AU:$AU)))) -> 48 | AI13: =(IF(ISBLANK($H$2),SUMIF('CUMUL résultats semaine'!$A:$A,'Fiche Agence'!$C$2,'CUMUL résultats semaine'!$BG:$BG),IF(ISBLANK($N$2),SUMIF('CUMUL résultats semaine'!$B:$B,'Fiche Agence'!$H$2,'CUMUL résultats semaine'!$BG:$BG),SUMIF('CUMUL résultats semaine'!$C:$C,'Fiche Agence'!$N$2,'CUMUL résultats semaine'!$BG:$BG)))) -> 41 | AJ13: =(IF(ISBLANK($H$2),SUMIF('CUMUL résultats semaine'!$A:$A,'Fiche Agence'!$C$2,'CUMUL résultats semaine'!$BS:$BS),IF(ISBLANK($N$2),SUMIF('CUMUL résultats semaine'!$B:$B,'Fiche Agence'!$H$2,'CUMUL résultats semaine'!$BS:$BS),SUMIF('CUMUL résultats semaine'!$C:$C,'Fiche Agence'!$N$2,'CUMUL résultats semaine'!$BS:$BS)))) -> #N/A | AK13: =(IF(ISBLANK($H$2),SUMIF('CUMUL résultats semaine'!$A:$A,'Fiche Agence'!$C$2,'CUMUL résultats semaine'!$CE:$CE),IF(ISBLANK($N$2),SUMIF('CUMUL résultats semaine'!$B:$B,'Fiche Agence'!$H$2,'CUMUL résultats semaine'!$CE:$CE),SUMIF('CUMUL résultats semaine'!$C:$C,'Fiche Agence'!$N$2,'CUMUL résultats semaine'!$CE:$CE)))) -> #N/A
C14: =Y16&"%" -> 90,9% | H14: 1.5 | T14: =T13/Y5 -> 2.1076543 | U14: =U13/Y5 -> 1.0538272 | Z14: =SUM(Z11:Z13) -> 120 | AD14: RAF 120% | AE14: =(IF(ISBLANK($H$2),SUMIF('CUMUL résultats semaine'!$A:$A,'Fiche Agence'!$C$2,'CUMUL résultats semaine'!$L:$L),IF(ISBLANK($N$2),SUMIF('CUMUL résultats semaine'!$B:$B,'Fiche Agence'!$H$2,'CUMUL résultats semaine'!$L:$L),SUMIF('CUMUL résultats semaine'!$C:$C,'Fiche Agence'!$N$2,'CUMUL résultats semaine'!$L:$L)))) -> 318 | AF14: =(IF(ISBLANK($H$2),SUMIF('CUMUL résultats semaine'!$A:$A,'Fiche Agence'!$C$2,'CUMUL résultats semaine'!$X:$X),IF(ISBLANK($N$2),SUMIF('CUMUL résultats semaine'!$B:$B,'Fiche Agence'!$H$2,'CUMUL résultats semaine'!$X:$X),SUMIF('CUMUL résultats semaine'!$C:$C,'Fiche Agence'!$N$2,'CUMUL résultats semaine'!$X:$X)))) -> 293 | AG14: =(IF(ISBLANK($H$2),SUMIF('CUMUL résultats semaine'!$A:$A,'Fiche Agence'!$C$2,'CUMUL résultats semaine'!$AJ:$AJ),IF(ISBLANK($N$2),SUMIF('CUMUL résultats semaine'!$B:$B,'Fiche Agence'!$H$2,'CUMUL résultats semaine'!$AJ:$AJ),SUMIF('CUMUL résultats semaine'!$C:$C,'Fiche Agence'!$N$2,'CUMUL résultats semaine'!$AJ:$AJ)))) -> 243 | AH14: =(IF(ISBLANK($H$2),SUMIF('CUMUL résultats semaine'!$A:$A,'Fiche Agence'!$C$2,'CUMUL résultats semaine'!$AV:$AV),IF(ISBLANK($N$2),SUMIF('CUMUL résultats semaine'!$B:$B,'Fiche Agence'!$H$2,'CUMUL résultats semaine'!$AV:$AV),SUMIF('CUMUL résultats semaine'!$C:$C,'Fiche Agence'!$N$2,'CUMUL résultats semaine'!$AV:$AV)))) -> 225 | AI14: =(IF(ISBLANK($H$2),SUMIF('CUMUL résultats semaine'!$A:$A,'Fiche Agence'!$C$2,'CUMUL résultats semaine'!$BH:$BH),IF(ISBLANK($N$2),SUMIF('CUMUL résultats semaine'!$B:$B,'Fiche Agence'!$H$2,'CUMUL résultats semaine'!$BH:$BH),SUMIF('CUMUL résultats semaine'!$C:$C,'Fiche Agence'!$N$2,'CUMUL résultats semaine'!$BH:$BH)))) -> 195 | AJ14: =(IF(ISBLANK($H$2),SUMIF('CUMUL résultats semaine'!$A:$A,'Fiche Agence'!$C$2,'CUMUL résultats semaine'!$BT:$BT),IF(ISBLANK($N$2),SUMIF('CUMUL résultats semaine'!$B:$B,'Fiche Agence'!$H$2,'CUMUL résultats semaine'!$BT:$BT),SUMIF('CUMUL résultats semaine'!$C:$C,'Fiche Agence'!$N$2,'CUMUL résultats semaine'!$BT:$BT)))) -> #N/A | AK14: =(IF(ISBLANK($H$2),SUMIF('CUMUL résultats semaine'!$A:$A,'Fiche Agence'!$C$2,'CUMUL résultats semaine'!$CF:$CF),IF(ISBLANK($N$2),SUMIF('CUMUL résultats semaine'!$B:$B,'Fiche Agence'!$H$2,'CUMUL résultats semaine'!$CF:$CF),SUMIF('CUMUL résultats semaine'!$C:$C,'Fiche Agence'!$N$2,'CUMUL résultats semaine'!$CF:$CF)))) -> #N/A
AD15: RAF 100% | AE15: =HLOOKUP(Y1,11:14,3,FALSE) -> 41
D16: Reste à faire hebdo par ETP pour atteindre l'objectif | K16: ATTENDU : 0,5 VB / ETP / SEMAINE DU 1ER SEPTEMBRE AU 18 DECEMBRE | X16: aiguille IARD | Y16: =ROUND((AA17/AB17)*100,1) -> 90.9 | Z16: =IF(Y16>=120,120,Y16) -> 90.9 | AA16: VB IARD | AB16: OBJ TOTAL | AD16: RAF 120% | AE16: =HLOOKUP(Y1,11:14,4,FALSE) -> 195
D17: S45 | E17: S46 | F17: S47 | G17: S48 | H17: S49 | I17: S50 | X17: largeur | Z17: 1 | AA17: =IF(ISBLANK($H$2),SUMIF('Coller ici dernier suivi PV'!$A:$A,'Fiche Agence'!$C$2,'Coller ici dernier suivi PV'!$BE:$BE),IF(ISBLANK($N$2),SUMIF('Coller ici dernier suivi PV'!$B:$B,'Fiche Agence'!$H$2,'Coller ici dernier suivi PV'!$BE:$BE),SUMIF('Coller ici dernier suivi PV'!$C:$C,'Fiche Agence'!$N$2,'Coller ici dernier suivi PV'!$BE:$BE))) -> 6027.4 | AB17: =Y5*65 -> 6630.594
C18: Obj 100% | D18: =(AE5/$Y$5)/6 -> 1.9687779 | E18: =IF(ISNUMBER(D$20),((AF5/$Y$5)/5),D18) -> 2.2880303 | F18: =IF(ISNUMBER(E$20),((AG5/$Y$5)/4),E18) -> 2.5708481 | G18: =IF(ISNUMBER(F$20),((AH5/$Y$5)/3),F18) -> 3.3853176 | H18: =IF(ISNUMBER(G$20),((AI5/$Y$5)/2),G18) -> 3.4702773 | I18: =IF(ISNUMBER(H$20),((AJ5/$Y$5)/1),H18) -> 3.4702773 | K18: REAL DEPUIS LE 01/09 | N18: % SAIS. | T18: RàF total | U18: RàF hebdo | X18: part invisible | Z18: =SUM($Z$11:$Z$14)-(Z17+Z16) -> 148.1 | AE18: CONSO
C19: Obj 150% | D19: =(AE6/$Y$5)/6 -> 3.749664 | E19: =IF(ISNUMBER(D$20),((AF6/$Y$5)/5),D19) -> 4.3898028 | F19: =IF(ISNUMBER(E$20),((AG6/$Y$5)/4),E19) -> 5.0118059 | G19: =IF(ISNUMBER(F$20),((AH6/$Y$5)/3),F19) -> 6.6660694 | H19: =IF(ISNUMBER(G$20),((AI6/$Y$5)/2),G19) -> 18.704207 | I19: =IF(ISNUMBER(H$20),((AJ6/$Y$5)/1),H19) -> 18.704207 | K19: ENTITE | M19: PAR ETP | N19: =K20/(0.5*Y5*(16-Y3)) -> 0.86826955 | T19: =IF(((ROUND(0.5*Y5,1)*16 - K20))<=0,0,((ROUND(0.5*Y5,1)*16 - K20))) -> 196 | U19: =IF(((ROUND(0.5*Y5,1)*16 - K20)/Y3)<=0,0,((ROUND(0.5*Y5,1)*16 - K20)/Y3)) -> 98 | X19: aiguille CONSO | Y19: =ROUND((AA20/AB20)*100,1) -> 109.6 | Z19: =IF(Y19>=120,120,Y19) -> 109.6 | AA19: Engag. nets Conso | AB19: OBJ TOTAL | AE19: 0 | AF19: 45 | AG19: 46 | AH19: 47 | AI19: 48 | AJ19: 49 | AK19: 50
C20: Réal. / ETP | D20: =IF(ISNUMBER(AF4),((AF4-AE4)/$Y$5),"-") -> 0.59210381 | E20: =IF(ISNUMBER(AG4),((AG4-AF4)/$Y$5),"-") -> 1.668478 | F20: =IF(ISNUMBER(AH4),((AH4-AG4)/$Y$5),"-") -> 0.49211277 | G20: =IF(ISNUMBER(AI4),((AI4-AH4)/$Y$5),"-") -> 0.98422554 | H20: =IF(ISNUMBER(AJ4),((AJ4-AI4)/$Y$5),"-") -> - | I20: =IF(ISNUMBER(AK4),((AK4-AJ4)/$Y$5),"-") -> - | K20: =IF(ISBLANK($H$2),SUMIF(PROD_AUTO5_PREV_PERI_PART_SOC!$A:$A,'Fiche Agence'!$C$2,PROD_AUTO5_PREV_PERI_PART_SOC!$F:$F),IF(ISBLANK($N$2),SUMIF(PROD_AUTO5_PREV_PERI_PART_SOC!$B:$B,'Fiche Agence'!$H$2,PROD_AUTO5_PREV_PERI_PART_SOC!$F:$F),SUMIF(PROD_AUTO5_PREV_PERI_PART_SOC!$D:$D,'Fiche Agence'!$N$2,PROD_AUTO5_PREV_PERI_PART_SOC!$F:$F))) -> 620 | M20: =K20/(IF(ISBLANK($H$2),SUMIF(ETP_Challenge!$A:$A,'Fiche Agence'!$C$2,ETP_Challenge!$E:$E),IF(ISBLANK($N$2),SUMIF(ETP_Challenge!$B:$B,'Fiche Agence'!$H$2,ETP_Challenge!$E:$E),SUMIF(ETP_Challenge!$D:$D,'Fiche Agence'!$N$2,ETP_Challenge!$E:$E)))) -> 6.0778868 | T20: =T19/Y5 -> 1.9213965 | U20: =U19/Y5 -> 0.96069824 | X20: largeur | Z20: 1 | AA20: =IF(ISBLANK($H$2),SUMIF('Coller ici dernier suivi PV'!$A:$A,'Fiche Agence'!$C$2,'Coller ici dernier suivi PV'!$AU:$AU),IF(ISBLANK($N$2),SUMIF('Coller ici dernier suivi PV'!$B:$B,'Fiche Agence'!$H$2,'Coller ici dernier suivi PV'!$AU:$AU),SUMIF('Coller ici dernier suivi PV'!$C:$C,'Fiche Agence'!$N$2,'Coller ici dernier suivi PV'!$AU:$AU))) -> 64049.075 | AB20: =Y5*573 -> 58451.237 | AD20: PROD | AE20: =(IF(ISBLANK($H$2),SUMIF('CUMUL résultats semaine'!$A:$A,'Fiche Agence'!$C$2,'CUMUL résultats semaine'!$G:$G),IF(ISBLANK($N$2),SUMIF('CUMUL résultats semaine'!$B:$B,'Fiche Agence'!$H$2,'CUMUL résultats semaine'!$G:$G),SUMIF('CUMUL résultats semaine'!$C:$C,'Fiche Agence'!$N$2,'CUMUL résultats semaine'!$G:$G)))) -> 59166.096 | AF20: =(IF(ISBLANK($H$2),SUMIF('CUMUL résultats semaine'!$A:$A,'Fiche Agence'!$C$2,'CUMUL résultats semaine'!$S:$S),IF(ISBLANK($N$2),SUMIF('CUMUL résultats semaine'!$B:$B,'Fiche Agence'!$H$2,'CUMUL résultats semaine'!$S:$S),SUMIF('CUMUL résultats semaine'!$C:$C,'Fiche Agence'!$N$2,'CUMUL résultats semaine'!$S:$S)))) -> 60246.443 | AG20: =(IF(ISBLANK($H$2),SUMIF('CUMUL résultats semaine'!$A:$A,'Fiche Agence'!$C$2,'CUMUL résultats semaine'!$AE:$AE),IF(ISBLANK($N$2),SUMIF('CUMUL résultats semaine'!$B:$B,'Fiche Agence'!$H$2,'CUMUL résultats semaine'!$AE:$AE),SUMIF('CUMUL résultats semaine'!$C:$C,'Fiche Agence'!$N$2,'CUMUL résultats semaine'!$AE:$AE)))) -> 60986.985 | AH20: =(IF(ISBLANK($H$2),SUMIF('CUMUL résultats semaine'!$A:$A,'Fiche Agence'!$C$2,'CUMUL résultats semaine'!$AQ:$AQ),IF(ISBLANK($N$2),SUMIF('CUMUL résultats semaine'!$B:$B,'Fiche Agence'!$H$2,'CUMUL résultats semaine'!$AQ:$AQ),SUMIF('CUMUL résultats semaine'!$C:$C,'Fiche Agence'!$N$2,'CUMUL résultats semaine'!$AQ:$AQ)))) -> 62194.317 | AI20: =(IF(ISBLANK($H$2),SUMIF('CUMUL résultats semaine'!$A:$A,'Fiche Agence'!$C$2,'CUMUL résultats semaine'!$BC:$BC),IF(ISBLANK($N$2),SUMIF('CUMUL résultats semaine'!$B:$B,'Fiche Agence'!$H$2,'CUMUL résultats semaine'!$BC:$BC),SUMIF('CUMUL résultats semaine'!$C:$C,'Fiche Agence'!$N$2,'CUMUL résultats semaine'!$BC:$BC)))) -> 63054.41 | AJ20: =(IF(ISBLANK($H$2),SUMIF('CUMUL résultats semaine'!$A:$A,'Fiche Agence'!$C$2,'CUMUL résultats semaine'!$BO:$BO),IF(ISBLANK($N$2),SUMIF('CUMUL résultats semaine'!$B:$B,'Fiche Agence'!$H$2,'CUMUL résultats semaine'!$BO:$BO),SUMIF('CUMUL résultats semaine'!$C:$C,'Fiche Agence'!$N$2,'CUMUL résultats semaine'!$BO:$BO)))) -> #N/A | AK20: =(IF(ISBLANK($H$2),SUMIF('CUMUL résultats semaine'!$A:$A,'Fiche Agence'!$C$2,'CUMUL résultats semaine'!$CA:$CA),IF(ISBLANK($N$2),SUMIF('CUMUL résultats semaine'!$B:$B,'Fiche Agence'!$H$2,'CUMUL résultats semaine'!$CA:$CA),SUMIF('CUMUL résultats semaine'!$C:$C,'Fiche Agence'!$N$2,'CUMUL résultats semaine'!$CA:$CA)))) -> #N/A
X21: part invisible | Z21: =SUM($Z$11:$Z$14)-(Z20+Z19) -> 129.4 | AD21: RAF 100% | AE21: =(IF(ISBLANK($H$2),SUMIF('CUMUL résultats semaine'!$A:$A,'Fiche Agence'!$C$2,'CUMUL résultats semaine'!$H:$H),IF(ISBLANK($N$2),SUMIF('CUMUL résultats semaine'!$B:$B,'Fiche Agence'!$H$2,'CUMUL résultats semaine'!$H:$H),SUMIF('CUMUL résultats semaine'!$C:$C,'Fiche Agence'!$N$2,'CUMUL résultats semaine'!$H:$H)))) -> 3374 | AF21: =(IF(ISBLANK($H$2),SUMIF('CUMUL résultats semaine'!$A:$A,'Fiche Agence'!$C$2,'CUMUL résultats semaine'!$T:$T),IF(ISBLANK($N$2),SUMIF('CUMUL résultats semaine'!$B:$B,'Fiche Agence'!$H$2,'CUMUL résultats semaine'!$T:$T),SUMIF('CUMUL résultats semaine'!$C:$C,'Fiche Agence'!$N$2,'CUMUL résultats semaine'!$T:$T)))) -> 2888 | AG21: =(IF(ISBLANK($H$2),SUMIF('CUMUL résultats semaine'!$A:$A,'Fiche Agence'!$C$2,'CUMUL résultats semaine'!$AF:$AF),IF(ISBLANK($N$2),SUMIF('CUMUL résultats semaine'!$B:$B,'Fiche Agence'!$H$2,'CUMUL résultats semaine'!$AF:$AF),SUMIF('CUMUL résultats semaine'!$C:$C,'Fiche Agence'!$N$2,'CUMUL résultats semaine'!$AF:$AF)))) -> 2259 | AH21: =(IF(ISBLANK($H$2),SUMIF('CUMUL résultats semaine'!$A:$A,'Fiche Agence'!$C$2,'CUMUL résultats semaine'!$AR:$AR),IF(ISBLANK($N$2),SUMIF('CUMUL résultats semaine'!$B:$B,'Fiche Agence'!$H$2,'CUMUL résultats semaine'!$AR:$AR),SUMIF('CUMUL résultats semaine'!$C:$C,'Fiche Agence'!$N$2,'CUMUL résultats semaine'!$AR:$AR)))) -> 1671 | AI21: =(IF(ISBLANK($H$2),SUMIF('CUMUL résultats semaine'!$A:$A,'Fiche Agence'!$C$2,'CUMUL résultats semaine'!$BD:$BD),IF(ISBLANK($N$2),SUMIF('CUMUL résultats semaine'!$B:$B,'Fiche Agence'!$H$2,'CUMUL résultats semaine'!$BD:$BD),SUMIF('CUMUL résultats semaine'!$C:$C,'Fiche Agence'!$N$2,'CUMUL résultats semaine'!$BD:$BD)))) -> 1498 | AJ21: =(IF(ISBLANK($H$2),SUMIF('CUMUL résultats semaine'!$A:$A,'Fiche Agence'!$C$2,'CUMUL résultats semaine'!$BP:$BP),IF(ISBLANK($N$2),SUMIF('CUMUL résultats semaine'!$B:$B,'Fiche Agence'!$H$2,'CUMUL résultats semaine'!$BP:$BP),SUMIF('CUMUL résultats semaine'!$C:$C,'Fiche Agence'!$N$2,'CUMUL résultats semaine'!$BP:$BP)))) -> #N/A | AK21: =(IF(ISBLANK($H$2),SUMIF('CUMUL résultats semaine'!$A:$A,'Fiche Agence'!$C$2,'CUMUL résultats semaine'!$CC:$CC),IF(ISBLANK($N$2),SUMIF('CUMUL résultats semaine'!$B:$B,'Fiche Agence'!$H$2,'CUMUL résultats semaine'!$CC:$CC),SUMIF('CUMUL résultats semaine'!$C:$C,'Fiche Agence'!$N$2,'CUMUL résultats semaine'!$CC:$CC)))) -> #N/A
X22: aiguille BANCA | Y22: =ROUND((AA23/AB23)*100,1) -> 125.7 | Z22: =IF(Y22>=120,120,Y22) -> 120 | AA22: VB BANCA | AB22: OBJ TOTAL | AD22: RAF 120% | AE22: =(IF(ISBLANK($H$2),SUMIF('CUMUL résultats semaine'!$A:$A,'Fiche Agence'!$C$2,'CUMUL résultats semaine'!$I:$I),IF(ISBLANK($N$2),SUMIF('CUMUL résultats semaine'!$B:$B,'Fiche Agence'!$H$2,'CUMUL résultats semaine'!$I:$I),SUMIF('CUMUL résultats semaine'!$C:$C,'Fiche Agence'!$N$2,'CUMUL résultats semaine'!$I:$I)))) -> 10581 | AF22: =(IF(ISBLANK($H$2),SUMIF('CUMUL résultats semaine'!$A:$A,'Fiche Agence'!$C$2,'CUMUL résultats semaine'!$U:$U),IF(ISBLANK($N$2),SUMIF('CUMUL résultats semaine'!$B:$B,'Fiche Agence'!$H$2,'CUMUL résultats semaine'!$U:$U),SUMIF('CUMUL résultats semaine'!$C:$C,'Fiche Agence'!$N$2,'CUMUL résultats semaine'!$U:$U)))) -> 9663 | AG22: =(IF(ISBLANK($H$2),SUMIF('CUMUL résultats semaine'!$A:$A,'Fiche Agence'!$C$2,'CUMUL résultats semaine'!$AG:$AG),IF(ISBLANK($N$2),SUMIF('CUMUL résultats semaine'!$B:$B,'Fiche Agence'!$H$2,'CUMUL résultats semaine'!$AG:$AG),SUMIF('CUMUL résultats semaine'!$C:$C,'Fiche Agence'!$N$2,'CUMUL résultats semaine'!$AG:$AG)))) -> 8734 | AH22: =(IF(ISBLANK($H$2),SUMIF('CUMUL résultats semaine'!$A:$A,'Fiche Agence'!$C$2,'CUMUL résultats semaine'!$AS:$AS),IF(ISBLANK($N$2),SUMIF('CUMUL résultats semaine'!$B:$B,'Fiche Agence'!$H$2,'CUMUL résultats semaine'!$AS:$AS),SUMIF('CUMUL résultats semaine'!$C:$C,'Fiche Agence'!$N$2,'CUMUL résultats semaine'!$AS:$AS)))) -> 7911 | AI22: =(IF(ISBLANK($H$2),SUMIF('CUMUL résultats semaine'!$A:$A,'Fiche Agence'!$C$2,'CUMUL résultats semaine'!$BE:$BE),IF(ISBLANK($N$2),SUMIF('CUMUL résultats semaine'!$B:$B,'Fiche Agence'!$H$2,'CUMUL résultats semaine'!$BE:$BE),SUMIF('CUMUL résultats semaine'!$C:$C,'Fiche Agence'!$N$2,'CUMUL résultats semaine'!$BE:$BE)))) -> 7188 | AJ22: =(IF(ISBLANK($H$2),SUMIF('CUMUL résultats semaine'!$A:$A,'Fiche Agence'!$C$2,'CUMUL résultats semaine'!$BQ:$BQ),IF(ISBLANK($N$2),SUMIF('CUMUL résultats semaine'!$B:$B,'Fiche Agence'!$H$2,'CUMUL résultats semaine'!$BQ:$BQ),SUMIF('CUMUL résultats semaine'!$C:$C,'Fiche Agence'!$N$2,'CUMUL résultats semaine'!$BQ:$BQ)))) -> #N/A | AK22: =(IF(ISBLANK($H$2),SUMIF('CUMUL résultats semaine'!$A:$A,'Fiche Agence'!$C$2,'CUMUL résultats semaine'!$CD:$CD),IF(ISBLANK($N$2),SUMIF('CUMUL résultats semaine'!$B:$B,'Fiche Agence'!$H$2,'CUMUL résultats semaine'!$CD:$CD),SUMIF('CUMUL résultats semaine'!$C:$C,'Fiche Agence'!$N$2,'CUMUL résultats semaine'!$CD:$CD)))) -> #N/A
X23: largeur | Z23: 1 | AA23: =IF(ISBLANK($H$2),SUMIF('Coller ici dernier suivi PV'!$A:$A,'Fiche Agence'!$C$2,'Coller ici dernier suivi PV'!$Q:$Q),IF(ISBLANK($N$2),SUMIF('Coller ici dernier suivi PV'!$B:$B,'Fiche Agence'!$H$2,'Coller ici dernier suivi PV'!$Q:$Q),SUMIF('Coller ici dernier suivi PV'!$C:$C,'Fiche Agence'!$N$2,'Coller ici dernier suivi PV'!$Q:$Q))) -> 4615 | AB23: =Y5*36 -> 3672.329 | AD23: RAF 100% | AE23: =HLOOKUP(Y1,19:22,3,FALSE) -> 1498
X24: part invisible | Z24: =SUM($Z$11:$Z$14)-(Z23+Z22) -> 119 | AD24: RAF 120% | AE24: =HLOOKUP(Y1,19:22,4,FALSE) -> 7188
G25: MEILLEURE PERFORMANCE HEBDO EN 2021 : | O25: MEILLEURE PERFORMANCE HEBDO EN 2021 : | X25: aiguille ASS VIE | Y25: =ROUND((AA26/AB26)*100,1) -> 115.3 | Z25: =IF(Y25>=120,120,Y25) -> 115.3 | AA25: CA ASS VIE | AB25: OBJ TOTAL
X26: largeur | Z26: 1 | AA26: =IF(ISBLANK($H$2),SUMIF('Coller ici dernier suivi PV'!$A:$A,'Fiche Agence'!$C$2,'Coller ici dernier suivi PV'!$AK:$AK),IF(ISBLANK($N$2),SUMIF('Coller ici dernier suivi PV'!$B:$B,'Fiche Agence'!$H$2,'Coller ici dernier suivi PV'!$AK:$AK),SUMIF('Coller ici dernier suivi PV'!$C:$C,'Fiche Agence'!$N$2,'Coller ici dernier suivi PV'!$AK:$AK))) -> 80327.427 | AB26: =IF(ISBLANK($H$2),SUMIF('Coller ici dernier suivi PV'!$A:$A,'Fiche Agence'!$C$2,'Coller ici dernier suivi PV'!$CD:$CD),IF(ISBLANK($N$2),SUMIF('Coller ici dernier suivi PV'!$B:$B,'Fiche Agence'!$H$2,'Coller ici dernier suivi PV'!$CD:$CD),SUMIF('Coller ici dernier suivi PV'!$C:$C,'Fiche Agence'!$N$2,'Coller ici dernier suivi PV'!$CD:$CD))) -> 69639.248 | AE26: ASS VIE
O27: =ROUND((AF45/1000),1)&" K€" -> 7,4 K€ | X27: part invisible | Z27: =SUM($Z$11:$Z$14)-(Z26+Z25) -> 123.7 | AE27: 0 | AF27: 45 | AG27: 46 | AH27: 47 | AI27: 48 | AJ27: 49 | AK27: 50
AD28: PROD | AE28: =(IF(ISBLANK($H$2),SUMIF('CUMUL résultats semaine'!$A:$A,'Fiche Agence'!$C$2,'CUMUL résultats semaine'!$M:$M),IF(ISBLANK($N$2),SUMIF('CUMUL résultats semaine'!$B:$B,'Fiche Agence'!$H$2,'CUMUL résultats semaine'!$M:$M),SUMIF('CUMUL résultats semaine'!$C:$C,'Fiche Agence'!$N$2,'CUMUL résultats semaine'!$M:$M)))) -> 72345.059 | AF28: =(IF(ISBLANK($H$2),SUMIF('CUMUL résultats semaine'!$A:$A,'Fiche Agence'!$C$2,'CUMUL résultats semaine'!$Y:$Y),IF(ISBLANK($N$2),SUMIF('CUMUL résultats semaine'!$B:$B,'Fiche Agence'!$H$2,'CUMUL résultats semaine'!$Y:$Y),SUMIF('CUMUL résultats semaine'!$C:$C,'Fiche Agence'!$N$2,'CUMUL résultats semaine'!$Y:$Y)))) -> 73649.567 | AG28: =(IF(ISBLANK($H$2),SUMIF('CUMUL résultats semaine'!$A:$A,'Fiche Agence'!$C$2,'CUMUL résultats semaine'!$AK:$AK),IF(ISBLANK($N$2),SUMIF('CUMUL résultats semaine'!$B:$B,'Fiche Agence'!$H$2,'CUMUL résultats semaine'!$AK:$AK),SUMIF('CUMUL résultats semaine'!$C:$C,'Fiche Agence'!$N$2,'CUMUL résultats semaine'!$AK:$AK)))) -> 75117.445 | AH28: =(IF(ISBLANK($H$2),SUMIF('CUMUL résultats semaine'!$A:$A,'Fiche Agence'!$C$2,'CUMUL résultats semaine'!$AW:$AW),IF(ISBLANK($N$2),SUMIF('CUMUL résultats semaine'!$B:$B,'Fiche Agence'!$H$2,'CUMUL résultats semaine'!$AW:$AW),SUMIF('CUMUL résultats semaine'!$C:$C,'Fiche Agence'!$N$2,'CUMUL résultats semaine'!$AW:$AW)))) -> 76121.212 | AI28: =(IF(ISBLANK($H$2),SUMIF('CUMUL résultats semaine'!$A:$A,'Fiche Agence'!$C$2,'CUMUL résultats semaine'!$BI:$BI),IF(ISBLANK($N$2),SUMIF('CUMUL résultats semaine'!$B:$B,'Fiche Agence'!$H$2,'CUMUL résultats semaine'!$BI:$BI),SUMIF('CUMUL résultats semaine'!$C:$C,'Fiche Agence'!$N$2,'CUMUL résultats semaine'!$BI:$BI)))) -> 78878.694 | AJ28: =(IF(ISBLANK($H$2),SUMIF('CUMUL résultats semaine'!$A:$A,'Fiche Agence'!$C$2,'CUMUL résultats semaine'!$BU:$BU),IF(ISBLANK($N$2),SUMIF('CUMUL résultats semaine'!$B:$B,'Fiche Agence'!$H$2,'CUMUL résultats semaine'!$BU:$BU),SUMIF('CUMUL résultats semaine'!$C:$C,'Fiche Agence'!$N$2,'CUMUL résultats semaine'!$BU:$BU)))) -> #N/A | AK28: =(IF(ISBLANK($H$2),SUMIF('CUMUL résultats semaine'!$A:$A,'Fiche Agence'!$C$2,'CUMUL résultats semaine'!$CG:$CG),IF(ISBLANK($N$2),SUMIF('CUMUL résultats semaine'!$B:$B,'Fiche Agence'!$H$2,'CUMUL résultats semaine'!$CG:$CG),SUMIF('CUMUL résultats semaine'!$C:$C,'Fiche Agence'!$N$2,'CUMUL résultats semaine'!$CG:$CG)))) -> #N/A
G29: R à F Entité : | O29: R à F Entité : | AD29: RAF 100% | AE29: =(IF(ISBLANK($H$2),SUMIF('CUMUL résultats semaine'!$A:$A,'Fiche Agence'!$C$2,'CUMUL résultats semaine'!$N:$N),IF(ISBLANK($N$2),SUMIF('CUMUL résultats semaine'!$B:$B,'Fiche Agence'!$H$2,'CUMUL résultats semaine'!$N:$N),SUMIF('CUMUL résultats semaine'!$C:$C,'Fiche Agence'!$N$2,'CUMUL résultats semaine'!$N:$N)))) -> 8361 | AF29: =(IF(ISBLANK($H$2),SUMIF('CUMUL résultats semaine'!$A:$A,'Fiche Agence'!$C$2,'CUMUL résultats semaine'!$Z:$Z),IF(ISBLANK($N$2),SUMIF('CUMUL résultats semaine'!$B:$B,'Fiche Agence'!$H$2,'CUMUL résultats semaine'!$Z:$Z),SUMIF('CUMUL résultats semaine'!$C:$C,'Fiche Agence'!$N$2,'CUMUL résultats semaine'!$Z:$Z)))) -> 7718 | AG29: =(IF(ISBLANK($H$2),SUMIF('CUMUL résultats semaine'!$A:$A,'Fiche Agence'!$C$2,'CUMUL résultats semaine'!$AL:$AL),IF(ISBLANK($N$2),SUMIF('CUMUL résultats semaine'!$B:$B,'Fiche Agence'!$H$2,'CUMUL résultats semaine'!$AL:$AL),SUMIF('CUMUL résultats semaine'!$C:$C,'Fiche Agence'!$N$2,'CUMUL résultats semaine'!$AL:$AL)))) -> 6527 | AH29: =(IF(ISBLANK($H$2),SUMIF('CUMUL résultats semaine'!$A:$A,'Fiche Agence'!$C$2,'CUMUL résultats semaine'!$AX:$AX),IF(ISBLANK($N$2),SUMIF('CUMUL résultats semaine'!$B:$B,'Fiche Agence'!$H$2,'CUMUL résultats semaine'!$AX:$AX),SUMIF('CUMUL résultats semaine'!$C:$C,'Fiche Agence'!$N$2,'CUMUL résultats semaine'!$AX:$AX)))) -> 6067 | AI29: =(IF(ISBLANK($H$2),SUMIF('CUMUL résultats semaine'!$A:$A,'Fiche Agence'!$C$2,'CUMUL résultats semaine'!$BJ:$BJ),IF(ISBLANK($N$2),SUMIF('CUMUL résultats semaine'!$B:$B,'Fiche Agence'!$H$2,'CUMUL résultats semaine'!$BJ:$BJ),SUMIF('CUMUL résultats semaine'!$C:$C,'Fiche Agence'!$N$2,'CUMUL résultats semaine'!$BJ:$BJ)))) -> 5414 | AJ29: =(IF(ISBLANK($H$2),SUMIF('CUMUL résultats semaine'!$A:$A,'Fiche Agence'!$C$2,'CUMUL résultats semaine'!$BV:$BV),IF(ISBLANK($N$2),SUMIF('CUMUL résultats semaine'!$B:$B,'Fiche Agence'!$H$2,'CUMUL résultats semaine'!$BV:$BV),SUMIF('CUMUL résultats semaine'!$C:$C,'Fiche Agence'!$N$2,'CUMUL résultats semaine'!$BV:$BV)))) -> #N/A | AK29: =(IF(ISBLANK($H$2),SUMIF('CUMUL résultats semaine'!$A:$A,'Fiche Agence'!$C$2,'CUMUL résultats semaine'!$CH:$CH),IF(ISBLANK($N$2),SUMIF('CUMUL résultats semaine'!$B:$B,'Fiche Agence'!$H$2,'CUMUL résultats semaine'!$CH:$CH),SUMIF('CUMUL résultats semaine'!$C:$C,'Fiche Agence'!$N$2,'CUMUL résultats semaine'!$CH:$CH)))) -> #N/A
H30: 1 | P30: 1 | AD30: RAF 120% | AE30: =(IF(ISBLANK($H$2),SUMIF('CUMUL résultats semaine'!$A:$A,'Fiche Agence'!$C$2,'CUMUL résultats semaine'!$O:$O),IF(ISBLANK($N$2),SUMIF('CUMUL résultats semaine'!$B:$B,'Fiche Agence'!$H$2,'CUMUL résultats semaine'!$O:$O),SUMIF('CUMUL résultats semaine'!$C:$C,'Fiche Agence'!$N$2,'CUMUL résultats semaine'!$O:$O)))) -> 16218 | AF30: =(IF(ISBLANK($H$2),SUMIF('CUMUL résultats semaine'!$A:$A,'Fiche Agence'!$C$2,'CUMUL résultats semaine'!$AA:$AA),IF(ISBLANK($N$2),SUMIF('CUMUL résultats semaine'!$B:$B,'Fiche Agence'!$H$2,'CUMUL résultats semaine'!$AA:$AA),SUMIF('CUMUL résultats semaine'!$C:$C,'Fiche Agence'!$N$2,'CUMUL résultats semaine'!$AA:$AA)))) -> 15354 | AG30: =(IF(ISBLANK($H$2),SUMIF('CUMUL résultats semaine'!$A:$A,'Fiche Agence'!$C$2,'CUMUL résultats semaine'!$AM:$AM),IF(ISBLANK($N$2),SUMIF('CUMUL résultats semaine'!$B:$B,'Fiche Agence'!$H$2,'CUMUL résultats semaine'!$AM:$AM),SUMIF('CUMUL résultats semaine'!$C:$C,'Fiche Agence'!$N$2,'CUMUL résultats semaine'!$AM:$AM)))) -> 13698 | AH30: =(IF(ISBLANK($H$2),SUMIF('CUMUL résultats semaine'!$A:$A,'Fiche Agence'!$C$2,'CUMUL résultats semaine'!$AY:$AY),IF(ISBLANK($N$2),SUMIF('CUMUL résultats semaine'!$B:$B,'Fiche Agence'!$H$2,'CUMUL résultats semaine'!$AY:$AY),SUMIF('CUMUL résultats semaine'!$C:$C,'Fiche Agence'!$N$2,'CUMUL résultats semaine'!$AY:$AY)))) -> 13086 | AI30: =(IF(ISBLANK($H$2),SUMIF('CUMUL résultats semaine'!$A:$A,'Fiche Agence'!$C$2,'CUMUL résultats semaine'!$BK:$BK),IF(ISBLANK($N$2),SUMIF('CUMUL résultats semaine'!$B:$B,'Fiche Agence'!$H$2,'CUMUL résultats semaine'!$BK:$BK),SUMIF('CUMUL résultats semaine'!$C:$C,'Fiche Agence'!$N$2,'CUMUL résultats semaine'!$BK:$BK)))) -> 12165 | AJ30: =(IF(ISBLANK($H$2),SUMIF('CUMUL résultats semaine'!$A:$A,'Fiche Agence'!$C$2,'CUMUL résultats semaine'!$BW:$BW),IF(ISBLANK($N$2),SUMIF('CUMUL résultats semaine'!$B:$B,'Fiche Agence'!$H$2,'CUMUL résultats semaine'!$BW:$BW),SUMIF('CUMUL résultats semaine'!$C:$C,'Fiche Agence'!$N$2,'CUMUL résultats semaine'!$BW:$BW)))) -> #N/A | AK30: =(IF(ISBLANK($H$2),SUMIF('CUMUL résultats semaine'!$A:$A,'Fiche Agence'!$C$2,'CUMUL résultats semaine'!$CI:$CI),IF(ISBLANK($N$2),SUMIF('CUMUL résultats semaine'!$B:$B,'Fiche Agence'!$H$2,'CUMUL résultats semaine'!$CI:$CI),SUMIF('CUMUL résultats semaine'!$C:$C,'Fiche Agence'!$N$2,'CUMUL résultats semaine'!$CI:$CI)))) -> #N/A
C31: =Y22&"%" -> 125,7% | H31: 1.2 | K31: =Y19&"%" -> 109,6% | P31: 1.2 | X31: NB_CARTES | Y31: =IF(ISBLANK($H$2),SUMIF(TAUX_DD_HDG!$A:$A,'Fiche Agence'!$C$2,TAUX_DD_HDG!$E:$E),IF(ISBLANK($N$2),SUMIF(TAUX_DD_HDG!$B:$B,'Fiche Agence'!$H$2,TAUX_DD_HDG!$E:$E),SUMIF(TAUX_DD_HDG!$C:$C,'Fiche Agence'!$N$2,TAUX_DD_HDG!$E:$E))) -> 12364 | AD31: RAF 100% | AE31: =HLOOKUP(Y1,27:30,3,FALSE) -> 5414
X32: NB_HDG | Y32: =IF(ISBLANK($H$2),SUMIF(TAUX_DD_HDG!$A:$A,'Fiche Agence'!$C$2,TAUX_DD_HDG!$F:$F),IF(ISBLANK($N$2),SUMIF(TAUX_DD_HDG!$B:$B,'Fiche Agence'!$H$2,TAUX_DD_HDG!$F:$F),SUMIF(TAUX_DD_HDG!$C:$C,'Fiche Agence'!$N$2,TAUX_DD_HDG!$F:$F))) -> 5120 | AD32: RAF 120% | AE32: =HLOOKUP(Y1,27:30,4,FALSE) -> 12165
D33: Reste à faire hebdo par ETP pour atteindre l'objectif | L33: Reste à faire hebdo par ETP pour atteindre l'obj (K€) | X33: NB_DD | Y33: =IF(ISBLANK($H$2),SUMIF(TAUX_DD_HDG!$A:$A,'Fiche Agence'!$C$2,TAUX_DD_HDG!$G:$G),IF(ISBLANK($N$2),SUMIF(TAUX_DD_HDG!$B:$B,'Fiche Agence'!$H$2,TAUX_DD_HDG!$G:$G),SUMIF(TAUX_DD_HDG!$C:$C,'Fiche Agence'!$N$2,TAUX_DD_HDG!$G:$G))) -> 3462
D34: S45 | E34: S46 | F34: S47 | G34: S48 | H34: S49 | I34: S50 | L34: S45 | M34: S46 | N34: S47 | O34: S48 | P34: S49 | Q34: S50 | X34: TAUX HDG | Y34: =Y32/Y31 -> 0.41410547 | AD34: R à F entité | AE34: iard | AF34: banca | AG34: conso | AH34: ass vie
C35: Obj 100% | D35: =(AE13/$Y$5)/6 -> 0.14051029 | E35: =IF(ISNUMBER(D$37),((AF13/$Y$5)/5),D35) -> 0.14312443 | F35: =IF(ISNUMBER(E$37),((AG13/$Y$5)/4),E35) -> 0.1249888 | G35: =IF(ISNUMBER(F$37),((AH13/$Y$5)/3),F35) -> 0.15684869 | H35: =IF(ISNUMBER(G$37),((AI13/$Y$5)/2),G35) -> 0.20096239 | I35: =IF(ISNUMBER(H$37),((AJ13/$Y$5)/1),H35) -> 0.20096239 | K35: Obj 100% | L35: =(AE21/$Y$5)/6 -> 5.512578 | M35: =IF(ISNUMBER(L$37),((AF21/$Y$5)/5),L35) -> 5.6622378 | N35: =IF(ISNUMBER(M$37),((AG21/$Y$5)/4),M35) -> 5.5362687 | O35: =IF(ISNUMBER(N$37),((AH21/$Y$5)/3),N35) -> 5.4602951 | P35: =IF(ISNUMBER(O$37),((AI21/$Y$5)/2),O35) -> 7.3424794 | Q35: =IF(ISNUMBER(P$37),((AJ21/$Y$5)/1),P35) -> 7.3424794 | X35: TAUX DD | Y35: =Y33/Y31 -> 0.28000647 | AD35: 1 | AE35: =AE7 -> 708 | AF35: =AE15 -> 41 | AG35: =AE23 -> 1498 | AH35: =AE31 -> 5414
C36: Obj 120% | D36: =(AE14/$Y$5)/6 -> 0.51956129 | E36: =IF(ISNUMBER(D$37),((AF14/$Y$5)/5),D36) -> 0.57445833 | F36: =IF(ISNUMBER(E$37),((AG14/$Y$5)/4),E36) -> 0.59553488 | G36: =IF(ISNUMBER(F$37),((AH14/$Y$5)/3),F36) -> 0.73522824 | H36: =IF(ISNUMBER(G$37),((AI14/$Y$5)/2),G36) -> 0.95579672 | I36: =IF(ISNUMBER(H$37),((AJ14/$Y$5)/1),H36) -> 0.95579672 | K36: Obj 120% | L36: =(AE22/$Y$5)/6 -> 17.287667 | M36: =IF(ISNUMBER(L$37),((AF22/$Y$5)/5),L36) -> 18.945361 | N36: =IF(ISNUMBER(M$37),((AG22/$Y$5)/4),M36) -> 21.404945 | O36: =IF(ISNUMBER(N$37),((AH22/$Y$5)/3),N36) -> 25.850625 | P36: =IF(ISNUMBER(O$37),((AI22/$Y$5)/2),O36) -> 35.232137 | Q36: =IF(ISNUMBER(P$37),((AJ22/$Y$5)/1),P36) -> 35.232137 | X36: DECILE HDG | Y36: =PERCENTILE(TAUX_DD_HDG!H:H,0.9) -> 0.55101545 | AD36: 1.2 | AE36: =AE8 -> 3816 | AF36: =AE16 -> 195 | AG36: =AE24 -> 7188 | AH36: =AE32 -> 12165
C37: Réal. / ETP | D37: =IF(ISNUMBER(AF12),((AF12-AE12)/$Y$5),"-") -> 0.71562216 | E37: =IF(ISNUMBER(AG12),((AG12-AF12)/$Y$5),"-") -> 0.78424346 | F37: =IF(ISNUMBER(AH12),((AH12-AG12)/$Y$5),"-") -> 0.53916738 | G37: =IF(ISNUMBER(AI12),((AI12-AH12)/$Y$5),"-") -> 0.77444042 | H37: =IF(ISNUMBER(AJ12),((AJ12-AI12)/$Y$5),"-") -> - | I37: =IF(ISNUMBER(AK12),((AK12-AJ12)/$Y$5),"-") -> - | K37: Réal. / ETP | L37: =IF(ISNUMBER(AF20),((AF20-AE20)/$Y$5),"-") -> 10.59069 | M37: =IF(ISNUMBER(AG20),((AG20-AF20)/$Y$5),"-") -> 7.2595688 | N37: =IF(ISNUMBER(AH20),((AH20-AG20)/$Y$5),"-") -> 11.835526 | O37: =IF(ISNUMBER(AI20),((AI20-AH20)/$Y$5),"-") -> 8.4315282 | P37: =IF(ISNUMBER(AJ20),((AJ20-AI20)/$Y$5),"-") -> - | Q37: =IF(ISNUMBER(AK20),((AK20-AJ20)/$Y$5),"-") -> - | X37: DECILE DD | Y37: =PERCENTILE(TAUX_DD_HDG!I:I,0.9) -> 0.43234892 | AG37: =AE23&" K€" -> 1498 K€ | AH37: =AE31&" K€" -> 5414 K€
AG38: =AE24&" K€"&" K€" -> 7188 K€ K€ | AH38: =AE32&" K€" -> 12165 K€
X41: MEILLEURES PERF 2021 AGENCES | AA41: MEILLEURES PERF 2021 TERRI REGI
X43: FORFAITS | Y43: =IF(ISBLANK($H$2),SUMIF(Meilleures_perf_2021_AGENCE!$A:$A,'Fiche Agence'!$C$2,Meilleures_perf_2021_AGENCE!$G:$G),IF(ISBLANK($N$2),SUMIF(Meilleures_perf_2021_AGENCE!$B:$B,'Fiche Agence'!$H$2,Meilleures_perf_2021_AGENCE!$G:$G),SUMIF(Meilleures_perf_2021_AGENCE!$C:$C,'Fiche Agence'!$N$2,Meilleures_perf_2021_AGENCE!$G:$G))) -> 55.998475 | AA43: FORFAITS | AB43: =IF(ISBLANK($H$2),SUMIF(Meilleures_perf_2021_TERRI_REGI!$A:$A,'Fiche Agence'!$C$2,Meilleures_perf_2021_TERRI_REGI!$G:$G),IF(ISBLANK($N$2),SUMIF(Meilleures_perf_2021_TERRI_REGI!$B:$B,'Fiche Agence'!$H$2,Meilleures_perf_2021_TERRI_REGI!$G:$G),SUMIF(Meilleures_perf_2021_TERRI_REGI!$C:$C,'Fiche Agence'!$N$2,Meilleures_perf_2021_TERRI_REGI!$G:$G))) -> 55.998475 | AC43: =AB43/$Y$5 -> 0.54895548 | AE43: FORFAITS | AF43: =IF(ISBLANK($H$2),AC43,IF(ISBLANK($N$2),AC43,SUMIF(Meilleures_perf_2021_AGENCE!$C:$C,'Fiche Agence'!$N$2,Meilleures_perf_2021_AGENCE!$G:$G))) -> 0.54895548
K44: ATTENDU : 1,5 VB / ETP DU 1ER SEPTEMBRE AU 18 DECEMBRE | X44: IARD_PREV | Y44: =IF(ISBLANK($H$2),SUMIF(Meilleures_perf_2021_AGENCE!$A:$A,'Fiche Agence'!$C$2,Meilleures_perf_2021_AGENCE!$E:$E),IF(ISBLANK($N$2),SUMIF(Meilleures_perf_2021_AGENCE!$B:$B,'Fiche Agence'!$H$2,Meilleures_perf_2021_AGENCE!$E:$E),SUMIF(Meilleures_perf_2021_AGENCE!$C:$C,'Fiche Agence'!$N$2,Meilleures_perf_2021_AGENCE!$E:$E))) -> 83.351244 | AA44: IARD_PREV | AB44: =IF(ISBLANK($H$2),SUMIF(Meilleures_perf_2021_TERRI_REGI!$A:$A,'Fiche Agence'!$C$2,Meilleures_perf_2021_TERRI_REGI!$E:$E),IF(ISBLANK($N$2),SUMIF(Meilleures_perf_2021_TERRI_REGI!$B:$B,'Fiche Agence'!$H$2,Meilleures_perf_2021_TERRI_REGI!$E:$E),SUMIF(Meilleures_perf_2021_TERRI_REGI!$C:$C,'Fiche Agence'!$N$2,Meilleures_perf_2021_TERRI_REGI!$E:$E))) -> 83.351244 | AC44: =AB44/$Y$5 -> 0.81709585 | AE44: IARD_PREV | AF44: =IF(ISBLANK($H$2),AC44,IF(ISBLANK($N$2),AC44,SUMIF(Meilleures_perf_2021_AGENCE!$C:$C,'Fiche Agence'!$N$2,Meilleures_perf_2021_AGENCE!$E:$E))) -> 0.81709585
...

Sheet Coller ici dernier suivi PV
A2: REGIONS | B2: TERRITOIRES | C2: AGENCES | D2: ETP Perf moyen annuel | F2: Taux PV sais. (max 9%) | G2: Taux PV annuel (max 9%) | I2: Nb items > 100% de l'objectif sais. | J2: Nb items > 100% de l'objectif annuel | L2: Satisfaction - TS- I Facilité à Joindre | Q2: Ventes brutes Forfaits hors Transformations depuis le 01/01 | AA2: VB Epargne | AK2: CA Assurance Vie (en K€) | AU2: Engagements nets Crédit Conso depuis le 01/01 (en K€) | BE2: IARD & Prévoyance | BO2: Evolution nette Top CC | BY2: RPM
L3: Données arrêtées au 31/10/21 - Tx PV max : 2% | Q3: Au 06/12/21 - Saisonnalité attendue : 100% - Tx PV max : 1% | AA3: Au 06/12/21 - Saisonnalité attendue : 100% - Tx PV max : 1% | AK3: Au 05/12/21 - Saisonnalité attendue : 100% - Tx PV max : 1% | AU3: Au 04/12/21 - Saisonnalité attendue : 100% - Tx PV max : 1,5% | BE3: Au 05/12/21 - Saisonnalité attendue : 100% - Tx PV max : 3% | BO3: Au 05/12/21 - Saisonnalité attendue : 100% - Tx PV max : 0,75% | BY3: Données arrêtées à fin 10/2021 - Tx PV max : 0,25%
L4: Tendance 20 dern. rép. au 06/12 | M4: TS-I moyenne mens. | N4: Obj. | O4: Taux PV | Q4: VB Forf | R4: Réal. / ETP | S4: Obj / ETP | T4: % Réal. | U4: Ecart / 120% de l'attendu | V4: Taux PV sais. | W4: Taux PV | X4: RàF pour 100% | Y4: RàF pour 120% | AA4: VB Epargne Pondérées | AB4: Réal. / ETP | AC4: Obj / ETP | AD4: % Réal. | AE4: Ecart / 120% de l'attendu | AF4: Taux PV sais. | AG4: Taux PV | AH4: RàF pour 100% | AI4: RàF pour 120% | AK4: Chiffre d'Affaires | AL4: Réal. / ETP | AM4: Obj / ETP | AN4: % Réal. | AO4: Ecart / 120% de l'attendu | AP4: Taux PV sais. | AQ4: Taux PV | AR4: RàF pour 100% | AS4: RàF pour 120% | AU4: Engag. nets Conso | AV4: Réal. / ETP | AW4: Obj / ETP | AX4: % Réal. | AY4: Ecart / 120% de l'attendu | AZ4: Taux PV sais. | BA4: Taux PV | BB4: RàF pour 100% | BC4: RàF pour 120% | BE4: VB Iard Prev Pondérées | BF4: Réal. / ETP | BG4: Obj / ETP | BH4: % Réal. | BI4: Ecart / 150% de l'attendu | BJ4: Taux PV sais. | BK4: Taux PV | BL4: RàF pour 90% | BM4: RàF pour 150% | BO4: Evol. CC Verts | BP4: Réal. / ETP | BQ4: Obj / ETP | BR4: % Réal. | BS4: Ecart / 120% de l'attendu | BT4: Taux PV sais. | BU4: Taux PV | BV4: RàF pour 100% | BW4: RàF pour 120% | BY4: Taux trait. RPM | BZ4: Taux trait. Risques Maj. | CA4: Taux pondéré | CB4: Obj | CC4: Taux PV
D5: Au 09/21 | F5: info | G5: info | I5: info | J5: info | CD5: OBJ ASS VIE
A6: AUBE_HAUTE_MARNE | B6: CHAUMONT | C6: CHAUMONT HOTEL DE VILLE | D6: 9.3793056 | F6: 0.05475 | G6: 0.05475 | I6: 6 | J6: 6 | L6: 0.5948 | M6: 0.55 | N6: 0.7 | Q6: 460 | R6: 49.044143 | S6: 36 | T6: 1.3623373 | U6: 54.814 | V6: 0.01 | W6: 0.01 | X6: 0 | Y6: 0 | AA6: 1124 | AB6: 119.8383 | AC6: 200 | AD6: 0.59919148 | AE6: -1127.0333 | AH6: 752 | AI6: 1128 | AK6: 8979.4578 | AL6: 957.36915 | AM6: 686.1 | AN6: 1.3953784 | AO6: 1257.2879 | AP6: 0.01 | AQ6: 0.01 | AR6: 0 | AS6: 0 | AU6: 6931.5825 | AV6: 739.02939 | AW6: 573 | AX6: 1.2897546 | AY6: 482.37196 | AZ6: 0.015 | BA6: 0.015 | BB6: 0 | BC6: 0 | BE6: 627.5 | BF6: 66.902608 | BG6: 65 | BH6: 1.0292709 | BI6: -286.98229 | BJ6: 0.00975 | BK6: 0.00975 | BL6: 0 | BM6: 287 | BO6: 924 | BP6: 98.514756 | BQ6: 78 | BR6: 1.2630097 | BS6: 46.097 | BT6: 0.0075 | BU6: 0.0075 | BV6: 0 | BW6: 0 | BY6: 0.99829121 | BZ6: 1 | CA6: 0.99931649 | CB6: 0.9 | CC6: 0.0025 | CD6: =D6*AM6 -> 6435.1415
A7: AUBE_HAUTE_MARNE | B7: CHAUMONT | C7: CHAUMONT REPUBLIQUE | D7: 3.2752915 | F7: 0.07575 | G7: 0.07575 | I7: 7 | J7: 7 | L7: 0.94 | M7: 0.721 | N7: 0.7 | O7: 0.003 | Q7: 170 | R7: 51.903777 | S7: 36 | T7: 1.4417716 | U7: 28.507408 | V7: 0.01 | W7: 0.01 | X7: 0 | Y7: 0 | AA7: 441 | AB7: 134.6445 | AC7: 200 | AD7: 0.67322252 | AE7: -345.06996 | AH7: 215 | AI7: 346 | AK7: 3124.7238 | AL7: 954.02924 | AM7: 612 | AN7: 1.5588713 | AO7: 719.34977 | AP7: 0.01 | AQ7: 0.01 | AR7: 0 | AS7: 0 | AU7: 2487.2423 | AV7: 759.39571 | AW7: 573 | AX7: 1.3252979 | AY7: 235.15189 | AZ7: 0.015 | BA7: 0.015 | BB7: 0 | BC7: 0 | BE7: 307.4 | BF7: 93.854242 | BG7: 65 | BH7: 1.4439114 | BI7: -11.94092 | BJ7: 0.02775 | BK7: 0.02775 | BL7: 0 | BM7: 12 | BO7: 361 | BP7: 110.2192 | BQ7: 78 | BR7: 1.4130666 | BS7: 54.432717 | BT7: 0.0075 | BU7: 0.0075 | BV7: 0 | BW7: 0 | BY7: 0.99830278 | BZ7: 1 | CA7: 0.99932111 | CB7: 0.9 | CC7: 0.0025 | CD7: =D7*AM7 -> 2004.4784
A8: AUBE_HAUTE_MARNE | B8: CHAUMONT | C8: JOINVILLE | D8: 1.8669392 | F8: 0.073255 | G8: 0.073255 | I8: 7 | J8: 7 | L8: 0.78 | M8: 0.798 | N8: 0.7 | O8: 0.014 | Q8: 94 | R8: 50.349791 | S8: 36 | T8: 1.3986053 | U8: 13.348225 | V8: 0.01 | W8: 0.01 | X8: 0 | Y8: 0 | AA8: 214 | AB8: 114.62612 | AC8: 200 | AD8: 0.5731306 | AE8: -234.06542 | AH8: 160 | AI8: 235 | AK8: 1404.8445 | AL8: 752.48539 | AM8: 612 | AN8: 1.2295513 | AO8: 33.764317 | AP8: 0.01 | AQ8: 0.01 | AR8: 0 | AS8: 0 | AU8: 1307.3104 | AV8: 700.24259 | AW8: 573 | AX8: 1.2220639 | AY8: 23.602953 | AZ8: 0.015 | BA8: 0.015 | BB8: 0 | BC8: 0 | BE8: 139.8 | BF8: 74.881923 | BG8: 65 | BH8: 1.1520296 | BI8: -42.226575 | BJ8: 0.01688 | BK8: 0.01688 | BL8: 0 | BM8: 43 | BO8: 164 | BP8: 87.844316 | BQ8: 78 | BR8: 1.1262092 | BS8: -10.745512 | BT8: 0.004875 | BU8: 0.004875 | BV8: 0 | BW8: 11 | BY8: 0.99962406 | BZ8: 1 | CA8: 0.99984962 | CB8: 0.9 | CC8: 0.0025 | CD8: =D8*AM8 -> 1142.5668
A9: AUBE_HAUTE_MARNE | B9: CHAUMONT | C9: LANGRES | D9: 8.9870805 | F9: 0.059875 | G9: 0.059875 | I9: 6 | J9: 6 | L9: 0.50880075 | M9: 0.666 | N9: 0.7 | Q9: 384 | R9: 42.728003 | S9: 36 | T9: 1.186889 | U9: -4.2418785 | V9: 0.0095 | W9: 0.0095 | X9: 0 | Y9: 5 | AA9: 1583 | AB9: 176.14174 | AC9: 200 | AD9: 0.8807087 | AE9: -573.89933 | AH9: 215 | AI9: 574 | AK9: 8087.1306 | AL9: 899.86182 | AM9: 694.2 | AN9: 1.2962573 | AO9: 600.53304 | AP9: 0.01 | AQ9: 0.01 | AR9: 0 | AS9: 0 | AU9: 6112.5984 | AV9: 680.15396 | AW9: 573 | AX9: 1.1870052 | AY9: -66.918197 | AZ9: 0.01425 | BA9: 0.01425 | BB9: 0 | BC9: 67 | BE9: 686.5 | BF9: 76.387432 | BG9: 65 | BH9: 1.1751913 | BI9: -189.74035 | BJ9: 0.018 | BK9: 0.018 | BL9: 0 | BM9: 190 | BO9: 806 | BP9: 89.684297 | BQ9: 78 | BR9: 1.1497987 | BS9: -35.190737 | BT9: 0.005625 | BU9: 0.005625 | BV9: 0 | BW9: 36 | BY9: 0.99605218 | BZ9: 1 | CA9: 0.99842087 | CB9: 0.9 | CC9: 0.0025 | CD9: =D9*AM9 -> 6238.8313
A10: AUBE_HAUTE_MARNE | B10: CHAUMONT | C10: SAINT DIZIER CENTRE | D10: 9.0833675 | F10: 0.057 | G10: 0.057 | I10: 6 | J10: 6 | L10: 0.47 | M10: 0.55 | N10: 0.7 | Q10: 444 | R10: 48.88055 | S10: 36 | T10: 1.3577931 | U10: 51.598522 | V10: 0.01 | W10: 0.01 | X10: 0 | Y10: 0 | AA10: 1400 | AB10: 154.12786 | AC10: 200 | AD10: 0.7706393 | AE10: -780.00821 | AH10: 417 | AI10: 781 | AK10: 9615.3043 | AL10: 1058.5616 | AM10: 633.5 | AN10: 1.6709734 | AO10: 2710.1283 | AP10: 0.01 | AQ10: 0.01 | AR10: 0 | AS10: 0 | AU10: 6400.8931 | AV10: 704.68282 | AW10: 573 | AX10: 1.229813 | AY10: 155.16956 | AZ10: 0.015 | BA10: 0.015 | BB10: 0 | BC10: 0 | BE10: 623.1 | BF10: 68.597907 | BG10: 65 | BH10: 1.0553524 | BI10: -262.52834 | BJ10: 0.012 | BK10: 0.012 | BL10: 0 | BM10: 263 | BO10: 890 | BP10: 97.981282 | BQ10: 78 | BR10: 1.2561703 | BS10: 39.796798 | BT10: 0.0075 | BU10: 0.0075 | BV10: 0 | BW10: 0 | BY10: 0.99658167 | BZ10: 1 | CA10: 0.99863267 | CB10: 0.9 | CC10: 0.0025 | CD10: =D10*AM10 -> 5754.3133
A11: AUBE_HAUTE_MARNE | B11: CHAUMONT | C11: WASSY | D11: 1.9591787 | F11: 0.06575 | G11: 0.06575 | I11: 7 | J11: 7 | L11: 0.47 | M11: 0.62 | N11: 0.7 | Q11: 111 | R11: 56.656393 | S11: 36 | T11: 1.5737887 | U11: 26.363478 | V11: 0.01 | W11: 0.01 | X11: 0 | Y11: 0 | AA11: 393 | AB11: 200.59425 | AC11: 200 | AD11: 1.0029713 | AE11: -77.202899 | AF11: 0.0005 | AG11: 0.0005 | AH11: 0 | AI11: 78 | AK11: 1604.6446 | AL11: 819.03942 | AM11: 618 | AN11: 1.3253065 | AO11: 151.71767 | AP11: 0.01 | AQ11: 0.01 | AR11: 0 | AS11: 0 | AU11: 1570.495 | AV11: 801.60882 | AW11: 573 | AX11: 1.3989683 | AY11: 223.36367 | AZ11: 0.015 | BA11: 0.015 | BB11: 0 | BC11: 0 | BE11: 157.8 | BF11: 80.543953 | BG11: 65 | BH11: 1.2391377 | BI11: -33.219928 | BJ11: 0.02025 | BK11: 0.02025 | BL11: 0 | BM11: 34 | BO11: 240 | BP11: 122.50031 | BQ11: 78 | BR11: 1.5705168 | BS11: 56.62087 | BT11: 0.0075 | BU11: 0.0075 | BV11: 0 | BW11: 0 | BY11: 0.99695308 | BZ11: 1 | CA11: 0.99878123 | CB11: 0.9 | CC11: 0.0025 | CD11: =D11*AM11 -> 1210.7725
A12: AUBE_HAUTE_MARNE | B12: TROYES | C12: ARCIS SUR AUBE | D12: 3.8366683 | F12: 0.0215 | G12: 0.0215 | I12: 5 | J12: 5 | L12: 0.53 | M12: 0.492 | N12: 0.7 | Q12: 141 | R12: 36.750636 | S12: 36 | T12: 1.020851 | U12: -24.744069 | V12: 0.001 | W12: 0.001 | X12: 0 | Y12: 25 | AA12: 492 | AB12: 128.23626 | AC12: 200 | AD12: 0.64118131 | AE12: -428.80038 | AH12: 276 | AI12: 429 | AK12: 2397.2654 | AL12: 624.82999 | AM12: 692.7 | AN12: 0.90202106 | AO12: -791.92674 | AR12: 261 | AS12: 792 | AU12: 2324.9056 | AV12: 605.96992 | AW12: 573 | AX12: 1.0575391 | AY12: -313.18752 | AZ12: 0.0045 | BA12: 0.0045 | BB12: 0 | BC12: 314 | BE12: 243.9 | BF12: 63.570781 | BG12: 65 | BH12: 0.97801202 | BI12: -130.17516 | BJ12: 0.006 | BK12: 0.006 | BL12: 0 | BM12: 131 | BO12: 409 | BP12: 106.60291 | BQ12: 78 | BR12: 1.366704 | BS12: 49.88785 | BT12: 0.0075 | BU12: 0.0075 | BV12: 0 | BW12: 0 | BY12: 0.99634258 | BZ12: 1 | CA12: 0.99853703 | CB12: 0.9 | CC12: 0.0025 | CD12: =D12*AM12 -> 2657.6601
A13: AUBE_HAUTE_MARNE | B13: TROYES | C13: BAR SUR AUBE | D13: 5.9289893 | F13: 0.046 | G13: 0.046 | I13: 6 | J13: 6 | L13: 0.56805877 | M13: 0.749 | N13: 0.7 | O13: 0.007 | Q13: 242 | R13: 40.8164 | S13: 36 | T13: 1.1337889 | U13: -14.132339 | V13: 0.0065 | W13: 0.0065 | X13: 0 | Y13: 15 | AA13: 529 | AB13: 89.222626 | AC13: 200 | AD13: 0.44611313 | AE13: -893.95744 | AH13: 657 | AI13: 894 | AK13: 3249.1926 | AL13: 548.01795 | AM13: 648.5 | AN13: 0.84505466 | AO13: -1364.7469 | AR13: 596 | AS13: 1365 | AU13: 3912.8067 | AV13: 659.94498 | AW13: 573 | AX13: 1.1517364 | AY13: -163.96634 | AZ13: 0.01125 | BA13: 0.01125 | BB13: 0 | BC13: 164 | BE13: 403.1 | BF13: 67.987979 | BG13: 65 | BH13: 1.0459689 | BI13: -174.97646 | BJ13: 0.01125 | BK13: 0.01125 | BL13: 0 | BM13: 175 | BO13: 573 | BP13: 96.64379 | BQ13: 78 | BR13: 1.2390229 | BS13: 18.046599 | BT13: 0.0075 | BU13: 0.0075 | BV13: 0 | BW13: 0 | BY13: 0.99721389 | BZ13: 1 | CA13: 0.99888556 | CB13: 0.9 | CC13: 0.0025 | CD13: =D13*AM13 -> 3844.9496
A14: AUBE_HAUTE_MARNE | B14: TROYES | C14: BAR SUR SEINE | D14: 3.5450121 | F14: 0.034625 | G14: 0.034625 | I14: 5 | J14: 5 | L14: 0.59 | M14: 0.538 | N14: 0.7 | Q14: 145 | R14: 40.90254 | S14: 36 | T14: 1.1361817 | U14: -8.1445231 | V14: 0.007 | W14: 0.007 | X14: 0 | Y14: 9 | AA14: 292 | AB14: 82.369253 | AC14: 200 | AD14: 0.41184627 | AE14: -558.80291 | AH14: 418 | AI14: 559 | AK14: 2084.3399 | AL14: 587.96411 | AM14: 700.2 | AN14: 0.83970881 | AO14: -894.32108 | AR14: 398 | AS14: 895 | AU14: 2715.3652 | AV14: 765.96782 | AW14: 573 | AX14: 1.3367676 | AY14: 277.81485 | AZ14: 0.015 | BA14: 0.015 | BB14: 0 | BC14: 0 | BE14: 232.1 | BF14: 65.472273 | BG14: 65 | BH14: 1.0072657 | BI14: -113.53868 | BJ14: 0.00825 | BK14: 0.00825 | BL14: 0 | BM14: 114 | BO14: 290 | BP14: 81.80508 | BQ14: 78 | BR14: 1.0487831 | BS14: -41.813133 | BT14: 0.001875 | BU14: 0.001875 | BV14: 0 | BW14: 42 | BY14: 0.99701046 | BZ14: 1 | CA14: 0.99880419 | CB14: 0.9 | CC14: 0.0025 | CD14: =D14*AM14 -> 2482.2175
A15: AUBE_HAUTE_MARNE | B15: TROYES | C15: LA CHAPELLE ST LUC | D15: 5.7009775 | F15: 0.04175 | G15: 0.04175 | I15: 4 | J15: 4 | L15: 0.50310345 | M15: 0.377 | N15: 0.7 | Q15: 294 | R15: 51.570104 | S15: 36 | T15: 1.4325029 | U15: 47.717774 | V15: 0.01 | W15: 0.01 | X15: 0 | Y15: 0 | AA15: 627 | AB15: 109.98114 | AC15: 200 | AD15: 0.5499057 | AE15: -741.23459 | AH15: 514 | AI15: 742 | AK15: 2568.9545 | AL15: 450.6165 | AM15: 617.2 | AN15: 0.73009803 | AO15: -1653.4174 | AR15: 950 | AS15: 1654 | AU15: 3143.1181 | AV15: 551.32968 | AW15: 573 | AX15: 0.96218094 | AY15: -776.87402 | BB15: 124 | BC15: 777 | BE15: 474.9 | BF15: 83.301505 | BG15: 65 | BH15: 1.2815616 | BI15: -80.945302 | BJ15: 0.02175 | BK15: 0.02175 | BL15: 0 | BM15: 81 | BO15: 631 | BP15: 110.68277 | BQ15: 78 | BR15: 1.4190099 | BS15: 97.388511 | BT15: 0.0075 | BU15: 0.0075 | BV15: 0 | BW15: 0 | BY15: 0.99872803 | BZ15: 1 | CA15: 0.99949121 | CB15: 0.9 | CC15: 0.0025 | CD15: =D15*AM15 -> 3518.6433
A16: AUBE_HAUTE_MARNE | B16: TROYES | C16: NOGENT SUR SEINE | D16: 4.680001 | F16: 0.02425 | G16: 0.02425 | I16: 5 | J16: 5 | L16: 0.8 | M16: 0.768 | N16: 0.7 | O16: 0.009 | Q16: 160 | R16: 34.188027 | S16: 36 | T16: 0.94966742 | U16: -42.176042 | X16: 9 | Y16: 43 | AA16: 469 | AB16: 100.21365 | AC16: 200 | AD16: 0.50106827 | AE16: -654.20023 | AH16: 468 | AI16: 655 | AK16: 3506.7335 | AL16: 749.30188 | AM16: 687.6 | AN16: 1.0897351 | AO16: -354.82885 | AP16: 0.0045 | AQ16: 0.0045 | AR16: 0 | AS16: 355 | AU16: 2693.2336 | AV16: 575.47715 | AW16: 573 | AX16: 1.0043231 | AY16: -524.73503 | AZ16: 0.00075 | BA16: 0.00075 | BB16: 0 | BC16: 525 | BE16: 171.7 | BF16: 36.688027 | BG16: 65 | BH16: 0.56443118 | BI16: -284.60009 | BL16: 103 | BM16: 285 | BO16: 555 | BP16: 118.58972 | BQ16: 78 | BR16: 1.520381 | BS16: 116.95191 | BT16: 0.0075 | BU16: 0.0075 | BV16: 0 | BW16: 0 | BY16: 0.99745418 | BZ16: 1 | CA16: 0.99898167 | CB16: 0.9 | CC16: 0.0025 | CD16: =D16*AM16 -> 3217.9687
