Workbook

Sheet Fiche Producteur
C2: CONDITIONS DE COMMERCIALISATION D'UN INSTRUMENT FINANCIER | AF2: version 1.9 - 19/09/2019
B3: La présente fiche est obligatoire préalablement à toute procédure de validation de nouveau produit financier "Groupe". Elle doit être remplie par le producteur / émetteur du produit (partie 'CARACTERISTIQUES PRODUIT'), Une fois validée, la fiche est diffusée en format PDF à l'ensemble des établissements dans le cadre de la mise en marché du produit.
B7: CARACTERISTIQUES PRODUIT
C10: Nom du Produit | G10: DNCA Invest Beyond Semperosa | L10: Code Isin | P10: Part R | R10: LU1907595398 | Z10: Minimum de souscription :
C12: Producteur / Emetteur | G12: DNCA Finance | L12: Autre identifiant | Z12: Montant minimum de souscription | AF12: Nombre de parts de souscription minimum
C14: Statut juridique de l'instrument | S14: Produit de défiscalisation | T14: NON | AF14: Un dix-millième de part
S15: Produit structuré | T15: NON | AC15: Pas de montant minimum
C20: Eligibilité : | F20: Compte Titres Ordinaire | M20: Plan Epargne Actions (PEA) | U20: Assurance vie | AD20: Plan Epargne Entreprise
F21: Détention en direct | M21: PEA PME | U21: Contrat de Capitalisation
C23: Garantie en capital
C24: Pas de garantie en capital | F24: =IF(C24="Capital partiellement protégé","Niveau de protection (%) :",IF(C24="Fonds à capital garanti à 100%","Sélectionner la garantie / protection :","")) | Z24: Le produit bénéficie d'un engagement de remboursement à l'échéance (Titres de créance subordonnés ou non)
C29: Produit Complexe | Z29: Frais : | AB29: Conditions tarifaires du produit - données en % de l'encours
D31: Produit complexe au sens de la Directive MIF II | AB31: Frais de gestion : | AC31: 0.02 | AG31: dont rétro. distributeur : | AH31: 0,90%
D32: Produit complexe au sens de la recommandation AMF/ACPR 2010-05
Z33: Frais de transaction :
D34: N/A : produit non complexe au sens de la directive MIF II / Recommandation AMF / ACPR
C36: =IF(Ref!G17,"Mesures Complémentaire ","") | AB36: Droits d'entrée : | AC36: 0.02 | AG36: dont rétro. distributeur : | AH36: 0.02
D38: =IF(Ref!G17,"Obligation de faire un questionnaire de compréhension client + formation réseau spécifique au produit (si le produit est complexe au sens de la recommandation AMF/ACPR 2010-05)","") | AB38: Frais de sortie : | AC38: Néant | AG38: dont rétro. distributeur : | AH38: Néant
D40: =IF(Ref!G17,"Formation du réseau ","") | AB40: Frais accessoires : | AC40: 20% * | AE40: (commission de performance)
D42: =IF(Ref!G17,"Quizz Réseau ","") | Z42: Commentaire : | AB42: * frais accessoires : 20 % de la performance positive au-delà de l’indice (nette de frais) sous réserve du High Water Mark
D43: =IF(Ref!G17,"Information client","") | M43: =IF(H42,"Questionnaire de compréhension client + formation réseau spécifique au produit (si le produit est complexe au sens de la recommandation AMF/ACPR 2010-05)","")
C46: Type de risque | D46: SRI | E46: Sélectionner le niveau entre 1 et 7 | G46: 6 | H46: → | I46: 1 | J46: 2 | K46: 3 | L46: 4 | M46: 5 | N46: 6 | O46: 7 | Z46: Horizon de placement recommandé par le producteur / Echéance | AG46: 5 ans

Sheet Fiche CE
C2: CONDITIONS DE COMMERCIALISATION D'UN INSTRUMENT FINANCIER | AF2: ='Fiche Producteur'!AF2:AH2 -> version 1.9 - 19/09/2019
B3: La présente fiche est obligatoire préalablement à toute procédure de validation de nouveau produit financier "Groupe". Elle doit être remplie par le producteur / émetteur du produit (partie 'CARACTERISTIQUES PRODUIT'), complétée par le responsable de marché en charge de la commercialisation du produit (partie 'DISTRIBUTION/MARCHES') et portée en validation par la Direction de l'Offre. Une fois validée, la fiche est diffusée en format PDF à l'ensemble des établissements dans le cadre de la mise en marché du produit.
B7: CARACTERISTIQUES PRODUIT
C10: Nom du Produit | G10: ='Fiche Producteur'!G10:K10 -> DNCA Invest Beyond Semperosa | L10: Code Isin | P10: ='Fiche Producteur'!P10:Q10 -> Part R | R10: ='Fiche Producteur'!R10:U10 -> LU1907595398 | Z10: Minimum de souscription :
C12: Producteur / Emetteur | G12: ='Fiche Producteur'!G12:K12 -> DNCA Finance | L12: Autre identifiant | P12: ='Fiche Producteur'!P12:U12 -> 0 | Z12: Montant minimum de souscription | AF12: Nombre de parts de souscription minimum
C14: Statut juridique de l'instrument | G14: ='Fiche Producteur'!G14:K15 -> 0 | S14: Produit de défiscalisation | T14: ='Fiche Producteur'!T14:U14 -> NON | Z14: ='Fiche Producteur'!Z14:AC14 -> 0 | AF14: ='Fiche Producteur'!AF14:AH14 -> Un dix-millième de part
S15: Produit structuré | T15: ='Fiche Producteur'!T15:U15 -> NON | AC15: Pas de montant minimum
C20: Eligibilité : | F20: Compte Titres Ordinaire | M20: Plan Epargne Actions (PEA) | U20: Assurance vie | AD20: Plan Epargne Entreprise
F21: Détention en direct | M21: PEA PME | U21: Contrat de Capitalisation
C23: Garantie en capital
C24: ='Fiche Producteur'!C24:E26 -> Pas de garantie en capital | F24: =IF(C24="Capital partiellement protégé","Niveau de protection (%) :",IF(C24="Fonds à capital garanti à 100%","Sélectionner la garantie / protection :","")) | M24: ='Fiche Producteur'!M24:N26 -> 0 | O24: ='Fiche Producteur'!O24:U26 -> 0 | Z24: Le produit bénéficie d'un engagement de remboursement à l'échéance (Titres de créance subordonnés ou non)
C29: Produit Complexe | Z29: Frais : | AB29: Conditions tarifaires du produit - données en % de l'encours
D31: Produit complexe au sens de la Directive MIF II | AB31: Frais de gestion : | AC31: ='Fiche Producteur'!AC31:AD31 -> 0.02 | AG31: dont rétro. distributeur : | AH31: ='Fiche Producteur'!AH31 -> 0,90%
D32: Produit complexe au sens de la recommandation AMF/ACPR 2010-05
Z33: Frais de transaction : | AC33: ='Fiche Producteur'!AC33:AD34 -> 0
D34: N/A : produit non complexe au sens de la directive MIF II / Recommandation AMF / ACPR
C36: =IF(Ref!G17,"Mesures Complémentaire ","") | AB36: Droits d'entrée : | AC36: ='Fiche Producteur'!AC36:AD36 -> 0.02 | AG36: dont rétro. distributeur : | AH36: ='Fiche Producteur'!AH36 -> 0.02
D38: =IF(Ref!G17,"Obligation de faire un questionnaire de compréhension client + formation réseau spécifique au produit (si le produit est complexe au sens de la recommandation AMF/ACPR 2010-05)","") | AB38: Frais de sortie : | AC38: ='Fiche Producteur'!AC38:AD38 -> Néant | AG38: dont rétro. distributeur : | AH38: ='Fiche Producteur'!AH38 -> Néant
D40: =IF(Ref!G17,"Formation du réseau ","") | AB40: Frais accessoires : | AC40: ='Fiche Producteur'!AC40:AD40 -> 20% * | AE40: (commission de performance)
D42: =IF(Ref!G17,"Quizz Réseau ","") | Z42: ='Fiche Producteur'!Z42:AH43 -> Commentaire : | AB42: ='Fiche Producteur'!AB42:AH43 -> * frais accessoires : 20 % de la performance positive au-delà de l’indice (nette de frais) sous réserve du High Water Mark
D43: =IF(Ref!G17,"Information client","") | M43: =IF(H42,"Questionnaire de compréhension client + formation réseau spécifique au produit (si le produit est complexe au sens de la recommandation AMF/ACPR 2010-05)","")
C46: Type de risque | D46: ='Fiche Producteur'!D46 -> SRI | E46: Sélectionner le niveau entre 1 et 7 | G46: ='Fiche Producteur'!G46 -> 6 | H46: → | I46: 1 | J46: 2 | K46: 3 | L46: 4 | M46: 5 | N46: 6 | O46: 7 | Z46: Horizon de placement recommandé par le producteur / Echéance | AG46: ='Fiche Producteur'!AG46:AH47 -> 5 ans
B49: DISTRIBUTION
D53: Commercialisation au fil de l'eau | G53: - Ou bien, du : | K53: Au : | S53: Commercialisation avec conseil ou sans conseil | AG53: AVEC CONSEIL
C58: Clientèle cible Distributeur :
D59: Profils de risque des clients éligibles au produit | R59: Connaissance & Expérience du client requise en matière d'investissement financier QCF
D60: Déterminé en fonction de la sélection du niveau de risque SRRI/SRI | I60: PRUDENT | K60: EQUILIBRE | M60: DYNAMIQUE | O60: OFFENSIF | R60: C1 | Z60: DEBUTANT | AB60: INITIE | AC60: CONFIRME | AE60: EXPERT
I61: R1 | K61: R2 | M61: R3 | O61: R4 | R61: Sélectionner le profil C1 à C4 | Z61: C1 | AB61: C2 | AC61: C3 | AE61: C4
C65: • Objectifs d'investissement Personnes Physiques (Référentiel BPCE) | S65: • Objectifs d'investissement Personnes Morales (Référentiel BPCE)
D67: Constituer une épargne de précaution | U67: Optimiser ma trésorerie courante ou temporaire
D68: Constituer une épargne (voyage, véhicule…) | U68: Gérer ma trésorerie affectée à un projet
D69: Préparer ma retraite | U69: Placer mes réserves stables
D70: Epargner pour mes proches (enfants, parents…) | U70: Couvrir mes risques (produits dérivés, change, taux…)
D71: Transmettre mon patrimoine
D72: Préparer un projet immobilier
D73: Valoriser mon capital
D74: Percevoir des revenus complémentaires
D75: Optimiser mon imposition
B78: MARCHÉS
C81: Clientèle cible | J81: Canal de distribution | T81: Métiers de distribution
...

Sheet Ref
A1: Sélectionnez un type de produit | D1: Sélectionnez un régime de placement | G1: Type de garantie | I1: Produit de défiscalisation | K1: Capacité à Subir des pertes
A2: OPCVM à vocation générale | D2: Placement simple | I2: OUI | K2: R0 / Capital garanti (s'entend à échéance du produit)
A3: Fonds à formule | D3: Placement garanti | G3: Garantie / protection sur toute la durée du placement | I3: NON | K3: R1 - R2 / Capital partiellement protégé
A4: Titre de créance (obligation, EMTN, TCN …) | D4: Prise ferme | G4: Garantie / protection à l'échéance du produit | I4: Produit structuré | K4: R3 / Pas de garantie en capital
A5: FCPR, FIP, FCPI | I5: OUI | K5: R4 / Risque de perte en capital supérieur au montant investi
A6: SOFICA | I6: NON
A7: SCPI
A8: OPCI
A9: Girardin (Logement social, Industriel)
A10: Emprunt Réseau | G10: Pas de garantie en capital
A11: Groupement Forestier | G11: Capital partiellement protégé
A12: Autre | G12: Produit à capital garanti à 100%
G14: SRRI | H14: 1 | I14: 2 | J14: 3 | K14: 4 | L14: 5 | M14: 6 | N14: 7
G15: SRI
G17: FALSE | H17: R1 | I17: R2 | J17: R3 | K17: R4
G18: FALSE
G20: Connaissance & Expérience du client requise en matière d'investissement financier QCF
G21: C1 | H21: C2 | I21: C3 | J21: C4
G23: Commercialisation avec conseil ou sans conseil
G24: AVEC CONSEIL
G25: SANS CONSEIL
A29: FALSE
A30: TRUE
A31: FALSE
A32: TRUE
A33: FALSE
A34: TRUE
A35: TRUE
A36: FALSE
A37: FALSE
A38: FALSE
A39: TRUE
A40: FALSE
... A65: FALSE
