Workbook
Name _AX81066: [1]GESTION!#REF!
Name _qj73: [2]BASE!#REF!
Name aaaa4724: [3]GESTION!#REF!
Name ad: [4]ASSURANCE!#REF!
Name au: #REF!
Name AU2073542: #REF!
Name BDD: [3]GESTION!$B$5:$D$6017+[3]GESTION!$A$5:$A$6017
Name CJ: #REF!
Name co: [1]GESTION!#REF!
Name Codes_anomalie: #REF!
Name CQ: #REF!
Name D: [1]GESTION!#REF!
Name da: [1]GESTION!#REF!
Name dg: #REF!
Name DH: #REF!
Name Durée_du_prêt: #REF!
Name dv: #REF!
Name DW: #REF!
Name Libellés_anomalie: #REF!
Name Montant_emprunt: #REF!
Name nombre_paiements: #REF!
Name p1_Durée_du_prêt: [5]palier1!$D$5
Name p1_echeance: [5]palier1!$C$13
Name p1_montant_emprunt: [5]palier1!$D$4
Name p1_nombre_paiements: [5]palier1!$D$11
Name p1_périodicité: [5]palier1!$D$6
Name p1_taux_périodique: [5]palier1!$D$10
Name p1_taux_proportionnel_annuel: [5]palier1!$D$7
Name p1_terme: [5]palier1!$C$8
Name p1_Valeur_fin: [5]palier1!$C$9
Name p2_durée_du_prêt: [5]palier2!$D$5
Name p2_echeance: [5]palier2!$C$13
Name p2_montant_emprunt: [5]palier2!$D$4
Name p2_nombre_paiements: [5]palier2!$D$11
Name p2_périodicité: [5]palier2!$D$6
Name p2_taux_périodique: [5]palier2!$D$10
Name p2_taux_proportionnel_annuel: [5]palier2!$D$7
Name p2_terme: [5]palier2!$C$8
Name p2_valeur_fin: [5]palier2!$C$9
Name p3_durée_du_prêt: [5]palier3!$D$5
Name p3_echeance: [5]palier3!$C$13
Name p3_montant_emprunt: [5]palier3!$D$4
Name p3_nombre_paiements: [5]palier3!$D$11
Name p3_périodicité: [5]palier3!$D$6
Name p3_taux_périodique: [5]palier3!$D$10
Name p3_taux_proportionnel_annuel: [5]palier3!$D$7
Name p3_terme: [5]palier3!$C$8
Name p3_valeur_fin: [5]palier3!$C$9
Name p4_durée_du_prêt: [5]palier4!$D$5
Name p4_echeance: [5]palier4!$C$13
Name p4_montant_emprunt: [5]palier4!$D$4
Name p4_nombre_paiements: [5]palier4!$D$11
Name p4_périodicité: [5]palier4!$D$6
Name p4_taux_périodique: [5]palier4!$D$10
Name p4_taux_proportionnel_annuel: [5]palier4!$D$7
Name p4_terme: [5]palier4!$C$8
Name p4_valeur_fin: [5]palier4!$C$9
Name p5_durée_du_prêt: [5]palier5!$D$5
Name p5_echeance: [5]palier5!$C$13
Name p5_montant_emprunt: [5]palier5!$D$4

Sheet PCM
B2: RENÉGOCIATION CREDIT EXPRESS - CALCUL DU TAUX D'ÉQUILIBRE
C4: CRÉDIT INITIAL | F4: OFFRE CONCURRENCE | I4: RENÉGOCIATION | L4: =TODAY() -> 42801
C5: Conditions de départ du crédit : Durée en mois, raisonnement hors assurance, durée écoulée en mois = nombre d'échéances déjà payées | F5: Conditions concurrence : Montant = CRD + IRA + frais de garantie + autres frais, durée en mois, raisonnement hors assurance | I5: Conditions de renégociation : Montant = CRD + Prime de renégociation, durée en mois, raisonnement hors assurance
U7: MODE D'EMPLOI
AY8: PCM taux fixe
C9: Date d'effet | AY9: Crédit Express
D10: =IF(D9="","",IF(D9-L4<60," TROP TÔT !","")) | F10: CRD | Q10: =-(J13-J16) -> 0
C11: Type de prêt à taux fixe | F11: IRA spécifique au contrat | G11: non | Q11: =RATE(J14,G22,Q10) -> #NUM!
C12: Montant intial | F12: =IF(G11=AY12,"montant des IRA négociés","") | AY12: oui
C13: Taux | F13: Indemnités Rachat Anticipé | G13: =IF(G11=AY12,G12,IF(D11=AY8,G10*5%, G10*3%)) -> 0 | I13: Montant | J13: =G10+J15+J16 -> 500 | AY13: non
C14: Durée initiale | F14: Autres frais | I14: Durée | J14: =G19 -> 0 | L14: Taux d'équilibre
C15: Durée écoulée | F15: Frais de garantie | I15: Prime de renégociation | J15: =IF(G13=0,0,G13) -> 0 | L15: =Q11*12 -> #NUM! | AY15: Montant des IRA négociés
C16: Échéance initiale | F16: Frais de dossier | I16: Frais d'avenant | J16: =500 -> 500
C17: Durée restante | D17: =D14-D15 -> 0 | F17: Capital emprunté | G17: =G10+G13+G14+G15+G16 -> 0 | U17: FORMULAIRE ÉCUREUIL CRÉDIT
F18: Taux
C19: Paiements effectués | D19: =D16*D15 -> 0 | F19: Durée | G19: =D17 -> 0
I20: =IF(J20>0,"GAIN","PERTE") -> PERTE | J20: =D24-J24 -> 0
C22: Échéance actuelle | D22: =D16 -> 0 | F22: Nouvelle échéance | G22: =IFERROR(PMT((G18/12),G19,-$G$17),0) -> 0 | I22: Nouvelle échéance | J22: =G22 -> 0
C24: Reste à payer | D24: =D22*D17 -> 0 | F24: Total à payer | G24: =IFERROR((G19*G22),0) -> 0 | I24: Total à payer | J24: =J22*J14 -> 0
C26: Toute renégociation nécessite un accord du Directeur de Groupe (notamment sur le taux). La modification d'une condition (IRA, taux, prime de renégo) nécessite un accord de Sébastien MARMONIER.
B28: Document non contractuel - Usage strictement interne
B30: Contreparties commerciales négociées

Sheet Feuil1
B3: SIMULATION RÉAMÉNAGEMENT PRIMOLIS
L4: =TODAY() -> 42801
C7: Identification du dossier de crédit immobilier PRIMOLIS
C9: NOM du client | I9: N° du crédit
C11: Instructeur commercial | I11: Agence
C13: 1ère PARTIE - Saisie des données financières avant renégociation
C15: Type de PRIMOLIS | E15: Primolis 3 phases
C16: Nombre de phases restantes | E16: 3
C17: Montant assurance CNP / échéance | E17: 92.1 | J17: Informations à reprendre du tableau d'amortissement à éditer depuis le poste de travail.
C18: Nombre d'échéances restantes | E18: 211
C20: Paliers du PRIMOLIS | E20: Durée restante | G20: Échéance hors ass
E22: 49 | G22: 806.52
E23: 180 | G23: 1026.68
E24: 18 | G24: 805
J28: =IF(SUM(E22:E26)=0,"",IF(SUM(E22:E26)=E18,"saisie conforme","NB DE MOIS RESTANTS :")) -> NB DE MOIS RESTANTS : | L28: =IF(J28="","",E18-(SUM(E22:E28))) -> -36
C30: 2ème PARTIE - Renégociation du PRIMOLIS
C32: taux du crédit actuel | E32: 5.02 | J32: Nouveau Taux | L32: 0.042
C34: Date de prise d'effet | E34: 40544 | G34: Montant du CRD réaménagé | J34: 156862.63
C37: =CONCATENATE("frais de renégo max ",ROUND(E161,2),"€") -> frais de renégo max 3937,25€ | E37: 3937.25 | G37: frais avenant | H37: 160 | J37: Règlement | K37: intégration au CRD
C39: 3ème partie : Nouvelles échéances Hors assurance
C41: Nouvelle échéance hors ass pour la 1er période | J41: Gain/mois | L41: CRD
G42: =#REF! -> #REF! | J42: =IF(G42="","",G42-G22) -> #REF! | L42: =VLOOKUP(E22,Feuil2!L:P,5,FALSE) -> #N/A
C44: Nouvelle échéance hors ass pour autre(s) période(s)
G45: =#REF! -> #REF! | J45: =IF(G45="","",G45-G23) -> #REF! | L45: =VLOOKUP(E22+E23,Feuil2!L:P,5,FALSE) -> #N/A
G47: =#REF! -> #REF! | J47: =IF(G47="","",G47-G24) -> #REF! | L47: =VLOOKUP(E22+E23+E24,Feuil2!L:P,5,FALSE) -> #N/A
G49: =#REF! -> #REF! | J49: =IF(G49="","",G49-G25) -> #REF! | L49: =VLOOKUP(E22+E23+E24+E25,Feuil2!L:P,5,FALSE) -> #N/A
G51: =#REF! -> #REF! | J51: =IF(G51="","",G51-G26) -> #REF! | L51: =VLOOKUP(E22+E23+E24+E25+E26,Feuil2!L:P,5,FALSE) -> #N/A
G53: =#REF! -> #REF! | J53: =IF(G53="","",G53-G27) -> #REF! | L53: =VLOOKUP(E22+E23+E24+E25+E26+E27,Feuil2!L:P,5,FALSE) -> #N/A
G55: =#REF! -> #REF! | J55: =IF(G55="","",G55-G28) -> #REF! | L55: =VLOOKUP(E22+E23+E24+E25+E26+E27+E28,Feuil2!L:P,5,FALSE) -> #N/A
C57: 4 ème partie : le résultat de la renégociation
C59: =IF(G138>0,"",CONCATENATE("- Baisse du taux d'intérêt à ",L32*100," % sur toutes les phases du PRIMOLIS"))
C61: =IF(G138>0,"SIMULATION NON FINALISEE",CONCATENATE("- moyennant un effort client de ",E37+H37," € par ",K37)) -> SIMULATION NON FINALISEE
C63: =IF(G138>0,"",IF(E153>0,CONCATENATE("- pour une réduction du cout du crédit de ",ROUND(E153,0)," € - (échéances susceptibles d'arrondis au cts)"),"")) | J63: document non contractuel
C75: version 2010 v1-0 / concepteur : DSB - Dept Crédit NANCY -
G104: 372
G105: 27
G106: =G104-G105 -> 345
C129: catalogue | E129: nb de phase | G129: reduc 1er ech
C130: Primolis 2 phases | E130: =IF($E$15<C130,"",2) -> 2 | G130: =G22-(G22*5%) -> 766.194
C131: Primolis 3 phases | E131: =IF($E$15<C131,"",3) -> 3 | G131: table de regt
...

Sheet Feuil3

Sheet Feuil2
D1: CRD départ = | E1: =#REF! -> #REF! | L1: TA Résultant
D2: Taux d'intérêts = | E2: =#REF! -> #REF! | L2: N° | M2: Ech. | N2: Int. | O2: AM | P2: CRD | Q2: =OR(Q3:Q1002) -> #REF! | R2: =OR(R3:R1002) -> #REF! | S2: =OR(S3:S1002) -> #REF!
D3: Nb. phases d'AM = | E3: =#REF! -> #REF! | L3: 1 | M3: =G7 -> #REF! | N3: =E1*E2/12 -> #REF! | O3: =M3-N3 -> #REF! | P3: =E1-O3 -> #REF! | Q3: =(M3<0) -> #REF! | R3: =(N3<0) -> #REF! | S3: =(O3<0) -> #REF!
D4: Durée totale = | E4: =#REF! -> #REF! | L4: =IF(L3<SUM($C$7:$C$15),L3+1,"") -> #REF! | M4: =IF(L4="","",IF(L4=$I$5,PMT($E$2/12,SUM($C$7:$C$15)-$I$5+1,-P3),IF(ISNA(VLOOKUP(L4,$I$6:$I$14,1,FALSE)),M3,VLOOKUP(L4,$I$6:$J$14,2,FALSE)))) -> #REF! | N4: =IF(L4="","",IF(L5="",M4-O4,P3*$E$2/12)) -> #REF! | O4: =IF(L4="","",IF(L5="",P3,M4-N4)) -> #REF! | P4: =IF(L4="","",P3-O4) -> #REF! | Q4: =(M4<0) -> #REF! | R4: =(N4<0) -> #REF! | S4: =(O4<0) -> #REF!
I5: =MAX(I6:I14) -> #REF! | L5: =IF(L4<SUM($C$7:$C$15),L4+1,"") -> #REF! | M5: =IF(L5="","",IF(L5=$I$5,PMT($E$2/12,SUM($C$7:$C$15)-$I$5+1,-P4),IF(ISNA(VLOOKUP(L5,$I$6:$I$14,1,FALSE)),M4,VLOOKUP(L5,$I$6:$J$14,2,FALSE)))) -> #REF! | N5: =IF(L5="","",IF(L6="",M5-O5,P4*$E$2/12)) -> #REF! | O5: =IF(L5="","",IF(L6="",P4,M5-N5)) -> #REF! | P5: =IF(L5="","",P4-O5) -> #REF! | Q5: =(M5<0) -> #REF! | R5: =(N5<0) -> #REF! | S5: =(O5<0) -> #REF!
H6: =E1-SUM(H7:H14) -> #REF! | I6: 1 | J6: =G7 -> #REF! | L6: =IF(L5<SUM($C$7:$C$15),L5+1,"") -> #REF! | M6: =IF(L6="","",IF(L6=$I$5,PMT($E$2/12,SUM($C$7:$C$15)-$I$5+1,-P5),IF(ISNA(VLOOKUP(L6,$I$6:$I$14,1,FALSE)),M5,VLOOKUP(L6,$I$6:$J$14,2,FALSE)))) -> #REF! | N6: =IF(L6="","",IF(L7="",M6-O6,P5*$E$2/12)) -> #REF! | O6: =IF(L6="","",IF(L7="",P5,M6-N6)) -> #REF! | P6: =IF(L6="","",P5-O6) -> #REF! | Q6: =(M6<0) -> #REF! | R6: =(N6<0) -> #REF! | S6: =(O6<0) -> #REF!
A7: AM 1 - | B7: Durée = | C7: =#REF! -> #REF! | F7: Ech. = | G7: =PMT(E2/12,SUM(C7:C15),-H6) -> #REF! | H7: =E8*((1+$E$2/12)^SUM(C8:$C$15)-1)/(($E$2/12)*(1+$E$2/12)^SUM(C8:$C$15)*(1+$E$2/12)^SUM($C$7:C7)) -> #REF! | I7: =IF(B8="","",I6+C7) -> #REF! | J7: =G8 -> #REF! | L7: =IF(L6<SUM($C$7:$C$15),L6+1,"") -> #REF! | M7: =IF(L7="","",IF(L7=$I$5,PMT($E$2/12,SUM($C$7:$C$15)-$I$5+1,-P6),IF(ISNA(VLOOKUP(L7,$I$6:$I$14,1,FALSE)),M6,VLOOKUP(L7,$I$6:$J$14,2,FALSE)))) -> #REF! | N7: =IF(L7="","",IF(L8="",M7-O7,P6*$E$2/12)) -> #REF! | O7: =IF(L7="","",IF(L8="",P6,M7-N7)) -> #REF! | P7: =IF(L7="","",P6-O7) -> #REF! | Q7: =(M7<0) -> #REF! | R7: =(N7<0) -> #REF! | S7: =(O7<0) -> #REF!
A8: AM 2 - | B8: =IF($E$3>=2,"Durée =","") -> #REF! | C8: =#REF! -> #REF! | D8: =IF($E$3>=2,"Delta =","") -> #REF! | E8: =IF(E3<=1,0,#REF!-#REF!) -> #REF! | F8: =IF($E$3>=2,"Ech. =","") -> #REF! | G8: =IF(B8="","",G7+E8) -> #REF! | H8: =E9*((1+$E$2/12)^SUM(C9:$C$15)-1)/(($E$2/12)*(1+$E$2/12)^SUM(C9:$C$15)*(1+$E$2/12)^SUM($C$7:C8)) -> #REF! | I8: =IF(B9="","",I7+C8) -> #REF! | J8: =G9 -> #REF! | L8: =IF(L7<SUM($C$7:$C$15),L7+1,"") -> #REF! | M8: =IF(L8="","",IF(L8=$I$5,PMT($E$2/12,SUM($C$7:$C$15)-$I$5+1,-P7),IF(ISNA(VLOOKUP(L8,$I$6:$I$14,1,FALSE)),M7,VLOOKUP(L8,$I$6:$J$14,2,FALSE)))) -> #REF! | N8: =IF(L8="","",IF(L9="",M8-O8,P7*$E$2/12)) -> #REF! | O8: =IF(L8="","",IF(L9="",P7,M8-N8)) -> #REF! | P8: =IF(L8="","",P7-O8) -> #REF! | Q8: =(M8<0) -> #REF! | R8: =(N8<0) -> #REF! | S8: =(O8<0) -> #REF!
A9: AM 3 - | B9: =IF($E$3>=3,"Durée =","") -> #REF! | C9: =#REF! -> #REF! | D9: =IF($E$3>=3,"Delta =","") -> #REF! | E9: =IF(E3<=2,0,#REF!-#REF!) -> #REF! | F9: =IF($E$3>=3,"Ech. =","") -> #REF! | G9: =IF(B9="","",G8+E9) -> #REF! | H9: =E10*((1+$E$2/12)^SUM(C10:$C$15)-1)/(($E$2/12)*(1+$E$2/12)^SUM(C10:$C$15)*(1+$E$2/12)^SUM($C$7:C9)) -> #REF! | I9: =IF(B10="","",I8+C9) -> #REF! | J9: =G10 -> #REF! | L9: =IF(L8<SUM($C$7:$C$15),L8+1,"") -> #REF! | M9: =IF(L9="","",IF(L9=$I$5,PMT($E$2/12,SUM($C$7:$C$15)-$I$5+1,-P8),IF(ISNA(VLOOKUP(L9,$I$6:$I$14,1,FALSE)),M8,VLOOKUP(L9,$I$6:$J$14,2,FALSE)))) -> #REF! | N9: =IF(L9="","",IF(L10="",M9-O9,P8*$E$2/12)) -> #REF! | O9: =IF(L9="","",IF(L10="",P8,M9-N9)) -> #REF! | P9: =IF(L9="","",P8-O9) -> #REF! | Q9: =(M9<0) -> #REF! | R9: =(N9<0) -> #REF! | S9: =(O9<0) -> #REF!
A10: AM 4 - | B10: =IF($E$3>=4,"Durée =","") -> #REF! | C10: =#REF! -> #REF! | D10: =IF($E$3>=4,"Delta =","") -> #REF! | E10: =IF(E3<=3,0,#REF!-#REF!) -> #REF! | F10: =IF($E$3>=4,"Ech. =","") -> #REF! | G10: =IF(B10="","",G9+E10) -> #REF! | H10: =E11*((1+$E$2/12)^SUM(C11:$C$15)-1)/(($E$2/12)*(1+$E$2/12)^SUM(C11:$C$15)*(1+$E$2/12)^SUM($C$7:C10)) -> #REF! | I10: =IF(B11="","",I9+C10) -> #REF! | J10: =G11 -> #REF! | L10: =IF(L9<SUM($C$7:$C$15),L9+1,"") -> #REF! | M10: =IF(L10="","",IF(L10=$I$5,PMT($E$2/12,SUM($C$7:$C$15)-$I$5+1,-P9),IF(ISNA(VLOOKUP(L10,$I$6:$I$14,1,FALSE)),M9,VLOOKUP(L10,$I$6:$J$14,2,FALSE)))) -> #REF! | N10: =IF(L10="","",IF(L11="",M10-O10,P9*$E$2/12)) -> #REF! | O10: =IF(L10="","",IF(L11="",P9,M10-N10)) -> #REF! | P10: =IF(L10="","",P9-O10) -> #REF! | Q10: =(M10<0) -> #REF! | R10: =(N10<0) -> #REF! | S10: =(O10<0) -> #REF!
A11: AM 5 - | B11: =IF($E$3>=5,"Durée =","") -> #REF! | C11: =#REF! -> #REF! | D11: =IF($E$3>=5,"Delta =","") -> #REF! | E11: =IF(E3<=4,0,#REF!-#REF!) -> #REF! | F11: =IF($E$3>=5,"Ech. =","") -> #REF! | G11: =IF(B11="","",G10+E11) -> #REF! | H11: =E12*((1+$E$2/12)^SUM(C12:$C$15)-1)/(($E$2/12)*(1+$E$2/12)^SUM(C12:$C$15)*(1+$E$2/12)^SUM($C$7:C11)) -> #REF! | I11: =IF(B12="","",I10+C11) -> #REF! | J11: =G12 -> #REF! | L11: =IF(L10<SUM($C$7:$C$15),L10+1,"") -> #REF! | M11: =IF(L11="","",IF(L11=$I$5,PMT($E$2/12,SUM($C$7:$C$15)-$I$5+1,-P10),IF(ISNA(VLOOKUP(L11,$I$6:$I$14,1,FALSE)),M10,VLOOKUP(L11,$I$6:$J$14,2,FALSE)))) -> #REF! | N11: =IF(L11="","",IF(L12="",M11-O11,P10*$E$2/12)) -> #REF! | O11: =IF(L11="","",IF(L12="",P10,M11-N11)) -> #REF! | P11: =IF(L11="","",P10-O11) -> #REF! | Q11: =(M11<0) -> #REF! | R11: =(N11<0) -> #REF! | S11: =(O11<0) -> #REF!
A12: AM 6 - | B12: =IF($E$3>=6,"Durée =","") -> #REF! | C12: =#REF! -> #REF! | D12: =IF($E$3>=6,"Delta =","") -> #REF! | E12: =IF(E3<=5,0,#REF!-#REF!) -> #REF! | F12: =IF($E$3>=6,"Ech. =","") -> #REF! | G12: =IF(B12="","",G11+E12) -> #REF! | H12: =E13*((1+$E$2/12)^SUM(C13:$C$15)-1)/(($E$2/12)*(1+$E$2/12)^SUM(C13:$C$15)*(1+$E$2/12)^SUM($C$7:C12)) -> #REF! | I12: =IF(B13="","",I11+C12) -> #REF! | J12: =G13 -> #REF! | L12: =IF(L11<SUM($C$7:$C$15),L11+1,"") -> #REF! | M12: =IF(L12="","",IF(L12=$I$5,PMT($E$2/12,SUM($C$7:$C$15)-$I$5+1,-P11),IF(ISNA(VLOOKUP(L12,$I$6:$I$14,1,FALSE)),M11,VLOOKUP(L12,$I$6:$J$14,2,FALSE)))) -> #REF! | N12: =IF(L12="","",IF(L13="",M12-O12,P11*$E$2/12)) -> #REF! | O12: =IF(L12="","",IF(L13="",P11,M12-N12)) -> #REF! | P12: =IF(L12="","",P11-O12) -> #REF! | Q12: =(M12<0) -> #REF! | R12: =(N12<0) -> #REF! | S12: =(O12<0) -> #REF!
A13: AM 7 - | B13: =IF($E$3>=7,"Durée =","") -> #REF! | C13: =#REF! -> #REF! | D13: =IF($E$3>=7,"Delta =","") -> #REF! | E13: =IF(E3<=6,0,#REF!-#REF!) -> #REF! | F13: =IF($E$3>=7,"Ech. =","") -> #REF! | G13: =IF(B13="","",G12+E13) -> #REF! | H13: =E14*((1+$E$2/12)^SUM(C14:$C$15)-1)/(($E$2/12)*(1+$E$2/12)^SUM(C14:$C$15)*(1+$E$2/12)^SUM($C$7:C13)) -> #REF! | I13: =IF(B14="","",I12+C13) -> #REF! | J13: =G14 -> #REF! | L13: =IF(L12<SUM($C$7:$C$15),L12+1,"") -> #REF! | M13: =IF(L13="","",IF(L13=$I$5,PMT($E$2/12,SUM($C$7:$C$15)-$I$5+1,-P12),IF(ISNA(VLOOKUP(L13,$I$6:$I$14,1,FALSE)),M12,VLOOKUP(L13,$I$6:$J$14,2,FALSE)))) -> #REF! | N13: =IF(L13="","",IF(L14="",M13-O13,P12*$E$2/12)) -> #REF! | O13: =IF(L13="","",IF(L14="",P12,M13-N13)) -> #REF! | P13: =IF(L13="","",P12-O13) -> #REF! | Q13: =(M13<0) -> #REF! | R13: =(N13<0) -> #REF! | S13: =(O13<0) -> #REF!
A14: AM 8 - | B14: =IF($E$3>=8,"Durée =","") -> #REF! | D14: =IF($E$3>=8,"Delta =","") -> #REF! | F14: =IF($E$3>=8,"Ech. =","") -> #REF! | G14: =IF(B14="","",G13+E14) -> #REF! | H14: =E15*((1+$E$2/12)^SUM(C15:$C$15)-1)/(($E$2/12)*(1+$E$2/12)^SUM(C15:$C$15)*(1+$E$2/12)^SUM($C$7:C14)) -> #REF! | I14: =IF(B15="","",I13+C14) -> #REF! | J14: =G15 -> #REF! | L14: =IF(L13<SUM($C$7:$C$15),L13+1,"") -> #REF! | M14: =IF(L14="","",IF(L14=$I$5,PMT($E$2/12,SUM($C$7:$C$15)-$I$5+1,-P13),IF(ISNA(VLOOKUP(L14,$I$6:$I$14,1,FALSE)),M13,VLOOKUP(L14,$I$6:$J$14,2,FALSE)))) -> #REF! | N14: =IF(L14="","",IF(L15="",M14-O14,P13*$E$2/12)) -> #REF! | O14: =IF(L14="","",IF(L15="",P13,M14-N14)) -> #REF! | P14: =IF(L14="","",P13-O14) -> #REF! | Q14: =(M14<0) -> #REF! | R14: =(N14<0) -> #REF! | S14: =(O14<0) -> #REF!
A15: AM 9 - | B15: =IF($E$3>=9,"Durée =","") -> #REF! | D15: =IF($E$3>=9,"Delta =","") -> #REF! | F15: =IF($E$3>=9,"Ech. =","") -> #REF! | G15: =IF(B15="","",G14+E15) -> #REF! | L15: =IF(L14<SUM($C$7:$C$15),L14+1,"") -> #REF! | M15: =IF(L15="","",IF(L15=$I$5,PMT($E$2/12,SUM($C$7:$C$15)-$I$5+1,-P14),IF(ISNA(VLOOKUP(L15,$I$6:$I$14,1,FALSE)),M14,VLOOKUP(L15,$I$6:$J$14,2,FALSE)))) -> #REF! | N15: =IF(L15="","",IF(L16="",M15-O15,P14*$E$2/12)) -> #REF! | O15: =IF(L15="","",IF(L16="",P14,M15-N15)) -> #REF! | P15: =IF(L15="","",P14-O15) -> #REF! | Q15: =(M15<0) -> #REF! | R15: =(N15<0) -> #REF! | S15: =(O15<0) -> #REF!
L16: =IF(L15<SUM($C$7:$C$15),L15+1,"") -> #REF! | M16: =IF(L16="","",IF(L16=$I$5,PMT($E$2/12,SUM($C$7:$C$15)-$I$5+1,-P15),IF(ISNA(VLOOKUP(L16,$I$6:$I$14,1,FALSE)),M15,VLOOKUP(L16,$I$6:$J$14,2,FALSE)))) -> #REF! | N16: =IF(L16="","",IF(L17="",M16-O16,P15*$E$2/12)) -> #REF! | O16: =IF(L16="","",IF(L17="",P15,M16-N16)) -> #REF! | P16: =IF(L16="","",P15-O16) -> #REF! | Q16: =(M16<0) -> #REF! | R16: =(N16<0) -> #REF! | S16: =(O16<0) -> #REF!
L17: =IF(L16<SUM($C$7:$C$15),L16+1,"") -> #REF! | M17: =IF(L17="","",IF(L17=$I$5,PMT($E$2/12,SUM($C$7:$C$15)-$I$5+1,-P16),IF(ISNA(VLOOKUP(L17,$I$6:$I$14,1,FALSE)),M16,VLOOKUP(L17,$I$6:$J$14,2,FALSE)))) -> #REF! | N17: =IF(L17="","",IF(L18="",M17-O17,P16*$E$2/12)) -> #REF! | O17: =IF(L17="","",IF(L18="",P16,M17-N17)) -> #REF! | P17: =IF(L17="","",P16-O17) -> #REF! | Q17: =(M17<0) -> #REF! | R17: =(N17<0) -> #REF! | S17: =(O17<0) -> #REF!
E18: Présence d'échéance négative : | F18: =IF(Q2,"OUI","NON") -> #REF! | L18: =IF(L17<SUM($C$7:$C$15),L17+1,"") -> #REF! | M18: =IF(L18="","",IF(L18=$I$5,PMT($E$2/12,SUM($C$7:$C$15)-$I$5+1,-P17),IF(ISNA(VLOOKUP(L18,$I$6:$I$14,1,FALSE)),M17,VLOOKUP(L18,$I$6:$J$14,2,FALSE)))) -> #REF! | N18: =IF(L18="","",IF(L19="",M18-O18,P17*$E$2/12)) -> #REF! | O18: =IF(L18="","",IF(L19="",P17,M18-N18)) -> #REF! | P18: =IF(L18="","",P17-O18) -> #REF! | Q18: =(M18<0) -> #REF! | R18: =(N18<0) -> #REF! | S18: =(O18<0) -> #REF!
E19: Présence d'intérêts négatifs : | F19: =IF(R2,"OUI","NON") -> #REF! | L19: =IF(L18<SUM($C$7:$C$15),L18+1,"") -> #REF! | M19: =IF(L19="","",IF(L19=$I$5,PMT($E$2/12,SUM($C$7:$C$15)-$I$5+1,-P18),IF(ISNA(VLOOKUP(L19,$I$6:$I$14,1,FALSE)),M18,VLOOKUP(L19,$I$6:$J$14,2,FALSE)))) -> #REF! | N19: =IF(L19="","",IF(L20="",M19-O19,P18*$E$2/12)) -> #REF! | O19: =IF(L19="","",IF(L20="",P18,M19-N19)) -> #REF! | P19: =IF(L19="","",P18-O19) -> #REF! | Q19: =(M19<0) -> #REF! | R19: =(N19<0) -> #REF! | S19: =(O19<0) -> #REF!
E20: Présence d'amortissement négatif : | F20: =IF(S2,"OUI","NON") -> #REF! | L20: =IF(L19<SUM($C$7:$C$15),L19+1,"") -> #REF! | M20: =IF(L20="","",IF(L20=$I$5,PMT($E$2/12,SUM($C$7:$C$15)-$I$5+1,-P19),IF(ISNA(VLOOKUP(L20,$I$6:$I$14,1,FALSE)),M19,VLOOKUP(L20,$I$6:$J$14,2,FALSE)))) -> #REF! | N20: =IF(L20="","",IF(L21="",M20-O20,P19*$E$2/12)) -> #REF! | O20: =IF(L20="","",IF(L21="",P19,M20-N20)) -> #REF! | P20: =IF(L20="","",P19-O20) -> #REF! | Q20: =(M20<0) -> #REF! | R20: =(N20<0) -> #REF! | S20: =(O20<0) -> #REF!
L21: =IF(L20<SUM($C$7:$C$15),L20+1,"") -> #REF! | M21: =IF(L21="","",IF(L21=$I$5,PMT($E$2/12,SUM($C$7:$C$15)-$I$5+1,-P20),IF(ISNA(VLOOKUP(L21,$I$6:$I$14,1,FALSE)),M20,VLOOKUP(L21,$I$6:$J$14,2,FALSE)))) -> #REF! | N21: =IF(L21="","",IF(L22="",M21-O21,P20*$E$2/12)) -> #REF! | O21: =IF(L21="","",IF(L22="",P20,M21-N21)) -> #REF! | P21: =IF(L21="","",P20-O21) -> #REF! | Q21: =(M21<0) -> #REF! | R21: =(N21<0) -> #REF! | S21: =(O21<0) -> #REF!
L22: =IF(L21<SUM($C$7:$C$15),L21+1,"") -> #REF! | M22: =IF(L22="","",IF(L22=$I$5,PMT($E$2/12,SUM($C$7:$C$15)-$I$5+1,-P21),IF(ISNA(VLOOKUP(L22,$I$6:$I$14,1,FALSE)),M21,VLOOKUP(L22,$I$6:$J$14,2,FALSE)))) -> #REF! | N22: =IF(L22="","",IF(L23="",M22-O22,P21*$E$2/12)) -> #REF! | O22: =IF(L22="","",IF(L23="",P21,M22-N22)) -> #REF! | P22: =IF(L22="","",P21-O22) -> #REF! | Q22: =(M22<0) -> #REF! | R22: =(N22<0) -> #REF! | S22: =(O22<0) -> #REF!
L23: =IF(L22<SUM($C$7:$C$15),L22+1,"") -> #REF! | M23: =IF(L23="","",IF(L23=$I$5,PMT($E$2/12,SUM($C$7:$C$15)-$I$5+1,-P22),IF(ISNA(VLOOKUP(L23,$I$6:$I$14,1,FALSE)),M22,VLOOKUP(L23,$I$6:$J$14,2,FALSE)))) -> #REF! | N23: =IF(L23="","",IF(L24="",M23-O23,P22*$E$2/12)) -> #REF! | O23: =IF(L23="","",IF(L24="",P22,M23-N23)) -> #REF! | P23: =IF(L23="","",P22-O23) -> #REF! | Q23: =(M23<0) -> #REF! | R23: =(N23<0) -> #REF! | S23: =(O23<0) -> #REF!
L24: =IF(L23<SUM($C$7:$C$15),L23+1,"") -> #REF! | M24: =IF(L24="","",IF(L24=$I$5,PMT($E$2/12,SUM($C$7:$C$15)-$I$5+1,-P23),IF(ISNA(VLOOKUP(L24,$I$6:$I$14,1,FALSE)),M23,VLOOKUP(L24,$I$6:$J$14,2,FALSE)))) -> #REF! | N24: =IF(L24="","",IF(L25="",M24-O24,P23*$E$2/12)) -> #REF! | O24: =IF(L24="","",IF(L25="",P23,M24-N24)) -> #REF! | P24: =IF(L24="","",P23-O24) -> #REF! | Q24: =(M24<0) -> #REF! | R24: =(N24<0) -> #REF! | S24: =(O24<0) -> #REF!
L25: =IF(L24<SUM($C$7:$C$15),L24+1,"") -> #REF! | M25: =IF(L25="","",IF(L25=$I$5,PMT($E$2/12,SUM($C$7:$C$15)-$I$5+1,-P24),IF(ISNA(VLOOKUP(L25,$I$6:$I$14,1,FALSE)),M24,VLOOKUP(L25,$I$6:$J$14,2,FALSE)))) -> #REF! | N25: =IF(L25="","",IF(L26="",M25-O25,P24*$E$2/12)) -> #REF! | O25: =IF(L25="","",IF(L26="",P24,M25-N25)) -> #REF! | P25: =IF(L25="","",P24-O25) -> #REF! | Q25: =(M25<0) -> #REF! | R25: =(N25<0) -> #REF! | S25: =(O25<0) -> #REF!
L26: =IF(L25<SUM($C$7:$C$15),L25+1,"") -> #REF! | M26: =IF(L26="","",IF(L26=$I$5,PMT($E$2/12,SUM($C$7:$C$15)-$I$5+1,-P25),IF(ISNA(VLOOKUP(L26,$I$6:$I$14,1,FALSE)),M25,VLOOKUP(L26,$I$6:$J$14,2,FALSE)))) -> #REF! | N26: =IF(L26="","",IF(L27="",M26-O26,P25*$E$2/12)) -> #REF! | O26: =IF(L26="","",IF(L27="",P25,M26-N26)) -> #REF! | P26: =IF(L26="","",P25-O26) -> #REF! | Q26: =(M26<0) -> #REF! | R26: =(N26<0) -> #REF! | S26: =(O26<0) -> #REF!
L27: =IF(L26<SUM($C$7:$C$15),L26+1,"") -> #REF! | M27: =IF(L27="","",IF(L27=$I$5,PMT($E$2/12,SUM($C$7:$C$15)-$I$5+1,-P26),IF(ISNA(VLOOKUP(L27,$I$6:$I$14,1,FALSE)),M26,VLOOKUP(L27,$I$6:$J$14,2,FALSE)))) -> #REF! | N27: =IF(L27="","",IF(L28="",M27-O27,P26*$E$2/12)) -> #REF! | O27: =IF(L27="","",IF(L28="",P26,M27-N27)) -> #REF! | P27: =IF(L27="","",P26-O27) -> #REF! | Q27: =(M27<0) -> #REF! | R27: =(N27<0) -> #REF! | S27: =(O27<0) -> #REF!
L28: =IF(L27<SUM($C$7:$C$15),L27+1,"") -> #REF! | M28: =IF(L28="","",IF(L28=$I$5,PMT($E$2/12,SUM($C$7:$C$15)-$I$5+1,-P27),IF(ISNA(VLOOKUP(L28,$I$6:$I$14,1,FALSE)),M27,VLOOKUP(L28,$I$6:$J$14,2,FALSE)))) -> #REF! | N28: =IF(L28="","",IF(L29="",M28-O28,P27*$E$2/12)) -> #REF! | O28: =IF(L28="","",IF(L29="",P27,M28-N28)) -> #REF! | P28: =IF(L28="","",P27-O28) -> #REF! | Q28: =(M28<0) -> #REF! | R28: =(N28<0) -> #REF! | S28: =(O28<0) -> #REF!
L29: =IF(L28<SUM($C$7:$C$15),L28+1,"") -> #REF! | M29: =IF(L29="","",IF(L29=$I$5,PMT($E$2/12,SUM($C$7:$C$15)-$I$5+1,-P28),IF(ISNA(VLOOKUP(L29,$I$6:$I$14,1,FALSE)),M28,VLOOKUP(L29,$I$6:$J$14,2,FALSE)))) -> #REF! | N29: =IF(L29="","",IF(L30="",M29-O29,P28*$E$2/12)) -> #REF! | O29: =IF(L29="","",IF(L30="",P28,M29-N29)) -> #REF! | P29: =IF(L29="","",P28-O29) -> #REF! | Q29: =(M29<0) -> #REF! | R29: =(N29<0) -> #REF! | S29: =(O29<0) -> #REF!
L30: =IF(L29<SUM($C$7:$C$15),L29+1,"") -> #REF! | M30: =IF(L30="","",IF(L30=$I$5,PMT($E$2/12,SUM($C$7:$C$15)-$I$5+1,-P29),IF(ISNA(VLOOKUP(L30,$I$6:$I$14,1,FALSE)),M29,VLOOKUP(L30,$I$6:$J$14,2,FALSE)))) -> #REF! | N30: =IF(L30="","",IF(L31="",M30-O30,P29*$E$2/12)) -> #REF! | O30: =IF(L30="","",IF(L31="",P29,M30-N30)) -> #REF! | P30: =IF(L30="","",P29-O30) -> #REF! | Q30: =(M30<0) -> #REF! | R30: =(N30<0) -> #REF! | S30: =(O30<0) -> #REF!
L31: =IF(L30<SUM($C$7:$C$15),L30+1,"") -> #REF! | M31: =IF(L31="","",IF(L31=$I$5,PMT($E$2/12,SUM($C$7:$C$15)-$I$5+1,-P30),IF(ISNA(VLOOKUP(L31,$I$6:$I$14,1,FALSE)),M30,VLOOKUP(L31,$I$6:$J$14,2,FALSE)))) -> #REF! | N31: =IF(L31="","",IF(L32="",M31-O31,P30*$E$2/12)) -> #REF! | O31: =IF(L31="","",IF(L32="",P30,M31-N31)) -> #REF! | P31: =IF(L31="","",P30-O31) -> #REF! | Q31: =(M31<0) -> #REF! | R31: =(N31<0) -> #REF! | S31: =(O31<0) -> #REF!
L32: =IF(L31<SUM($C$7:$C$15),L31+1,"") -> #REF! | M32: =IF(L32="","",IF(L32=$I$5,PMT($E$2/12,SUM($C$7:$C$15)-$I$5+1,-P31),IF(ISNA(VLOOKUP(L32,$I$6:$I$14,1,FALSE)),M31,VLOOKUP(L32,$I$6:$J$14,2,FALSE)))) -> #REF! | N32: =IF(L32="","",IF(L33="",M32-O32,P31*$E$2/12)) -> #REF! | O32: =IF(L32="","",IF(L33="",P31,M32-N32)) -> #REF! | P32: =IF(L32="","",P31-O32) -> #REF! | Q32: =(M32<0) -> #REF! | R32: =(N32<0) -> #REF! | S32: =(O32<0) -> #REF!
... L1002: =IF(L1001<SUM($C$7:$C$15),L1001+1,"") -> #REF! | M1002: =IF(L1002="","",IF(L1002=$I$5,PMT($E$2/12,SUM($C$7:$C$15)-$I$5+1,-P1001),IF(ISNA(VLOOKUP(L1002,$I$6:$I$14,1,FALSE)),M1001,VLOOKUP(L1002,$I$6:$J$14,2,FALSE)))) -> #REF! | N1002: =IF(L1002="","",IF(L1003="",M1002-O1002,P1001*$E$2/12)) -> #REF! | O1002: =IF(L1002="","",IF(L1003="",P1001,M1002-N1002)) -> #REF! | P1002: =IF(L1002="","",P1001-O1002) -> #REF! | Q1002: =(M1002<0) -> #REF! | R1002: =(N1002<0) -> #REF! | S1002: =(O1002<0) -> #REF!
